Workbook

Sheet 【様式1】紙提出用
A2: 令和９年３月 新規学卒者就職希望・内定状況報告（手書き提出用） | O2: 高等学校 | Q2: 様式１
A3: ★１～３の各項目の未内定者が０になった場合は、翌月以降の提出は不要です。 ただし、あらたに就職希望者が増えた場合には提出を再開してください。
A4: 令和 | D4: 年 | F4: 月 | G4: 就職希望者 総数（内定含） | H4: 前月までの 内定者数 | I4: 今月の 内定者数 | J4: 内定者合計 | K4: 未内定者数 | N4: 就職未内定者希望職種
A5: 1 | B5: 公務員希望 | F5: 男 | O5: 男 | P5: 女 | Q5: 計
F6: 女 | N6: 専門的・技術的 職業
F7: 計 | N7: 事務的職業
A8: 2 | B8: 自営・縁故 自己就職 希望 | F8: 男 | N8: 販売の職業
F9: 女 | N9: サービスの職業
F10: 計 | N10: 生産工程の職業
A11: 3 | B11: 学校紹介による 就職希望 | F11: 男 | N11: 運搬・清掃・包装等の 職業
F12: 女 | N12: その他の職業
F13: 計 | N13: 希望職種未定
N14: 合計
A15: 【補足連絡事項】
N16: 【その他の内訳】※具体的に職種をご記入ください。
J17: =IFERROR(IF(COUNTA($O$6:$P$13)=0,"",IF(SUM(#REF!)=#REF!,"","希望職種欄の人数と、就職未決定者数に差異があります。内定者数または希望職種の入力欄に誤りや入力もれがないか、ご確認ください。")),"")

Sheet 【様式1】9月
A2: 令和９年３月 新規学卒者就職希望・内定状況報告（電子版） | N2: はろわ | O2: 高等学校 | Q2: 様式１
G3: ★電子版で報告の場合は黄色のセルを入力してください。 ※それ以外のセルは選択できません。
A4: 令和 | C4: 8 | D4: 年 | E4: 9 | F4: 月 | G4: 就職希望者 総数（内定含） | H4: 前月までの 内定者数 | I4: 今月の 内定者数 | J4: 内定者合計 | K4: 未内定者数 | N4: 就職未内定者希望職種
A5: 1 | B5: 公務員希望 | F5: 男 | G5: 0 | H5: 0 | I5: 0 | J5: =SUM($H5:$I5) -> 0 | K5: =G5-J5 -> 0 | O5: 男 | P5: 女 | Q5: 計
F6: 女 | G6: 0 | H6: 0 | I6: 0 | J6: =SUM($H6:$I6) -> 0 | K6: =G6-J6 -> 0 | N6: 専門的・技術的 職業 | O6: 0 | P6: 0 | Q6: =SUM(O6:P6) -> 0
F7: 計 | G7: =SUM(G5+G6) -> 0 | H7: =SUM(H5:H6) -> 0 | I7: =SUM(I5:I6) -> 0 | J7: =SUM(J5:J6) -> 0 | K7: =G7-J7 -> 0 | N7: 事務的職業 | O7: 0 | P7: 0 | Q7: =SUM(O7:P7) -> 0
A8: 2 | B8: 自営・縁故 自己就職 希望 | F8: 男 | G8: 0 | H8: 0 | I8: 0 | J8: =SUM($H8:$I8) -> 0 | K8: =G8-J8 -> 0 | N8: 販売の職業 | O8: 0 | P8: 0 | Q8: =SUM(O8:P8) -> 0
F9: 女 | G9: 0 | H9: 0 | I9: =SUM(H9) -> 0 | J9: =SUM($H9:$I9) -> 0 | K9: =G9-J9 -> 0 | N9: サービスの職業 | O9: 0 | P9: 0 | Q9: =SUM(O9:P9) -> 0
F10: 計 | G10: =SUM(G8:G9) -> 0 | H10: =SUM(H8:H9) -> 0 | I10: =SUM(I8:I9) -> 0 | J10: =SUM(J8:J9) -> 0 | K10: =G10-J10 -> 0 | N10: 生産工程の職業 | O10: 0 | P10: 0 | Q10: =SUM(O10:P10) -> 0
A11: 3 | B11: 学校紹介による 就職希望 | F11: 男 | G11: 0 | H11: 0 | I11: 0 | J11: =SUM($H11:$I11) -> 0 | K11: =G11-J11 -> 0 | N11: 運搬・清掃・包装等の 職業 | O11: 0 | P11: 0 | Q11: =SUM(O11:P11) -> 0
F12: 女 | G12: 0 | H12: 0 | I12: 0 | J12: =SUM($H12:$I12) -> 0 | K12: =G12-J12 -> 0 | N12: その他の職業 | O12: 0 | P12: 0 | Q12: =SUM(O12:P12) -> 0
F13: 計 | G13: =SUM(G11+G12) -> 0 | H13: =SUM(H11:H12) -> 0 | I13: =SUM(I11:I12) -> 0 | J13: =SUM(J11:J12) -> 0 | K13: =G13-J13 -> 0 | N13: 希望職種未定 | O13: 0 | P13: 0 | Q13: =SUM(O13:P13) -> 0
A14: ★１～３の各項目の未内定者数が０になった場合は、翌月以降の提出は不要です。 ただし、あらたに就職希望者が増えた場合には提出を再開してください。 | N14: 合計 | O14: =SUM(O6:O13) -> 0 | P14: =SUM(P6:P13) -> 0 | Q14: =SUM(O14:P14) -> 0
A15: 【連絡事項】
N16: 【その他の内訳】※具体的に職種をご記入ください。
J17: =IFERROR(IF(COUNTA($O$6:$P$10)=0,"",IF(SUM(#REF!)=#REF!,"","希望職種欄の人数と、就職未決定者数に差異があります。内定者数または希望職種の入力欄に誤りや入力もれがないか、ご確認ください。")),"")

Sheet 【様式1】10月
A2: 令和９年３月 新規学卒者就職希望・内定状況報告（電子版） | N2: =【様式1】9月!N2 -> はろわ | O2: 高等学校 | Q2: 様式１
G3: ★電子版で報告の場合は黄色のセルを入力してください。 ※それ以外のセルは選択できません。
A4: 令和 | C4: 8 | D4: 年 | E4: 10 | F4: 月 | G4: 就職希望者 総数（内定含） | H4: 前月までの 内定者数 | I4: 今月の 内定者数 | J4: 内定者合計 | K4: 未内定者数 | N4: 就職未内定者希望職種
A5: 1 | B5: 公務員希望 | F5: 男 | G5: 0 | H5: =【様式1】9月!J5 -> 0 | I5: 0 | J5: =SUM($H5:$I5) -> 0 | K5: =G5-J5 -> 0 | O5: 男 | P5: 女 | Q5: 計
F6: 女 | G6: 0 | H6: =【様式1】9月!J6 -> 0 | I6: 0 | J6: =SUM($H6:$I6) -> 0 | K6: =G6-J6 -> 0 | N6: 専門的・技術的 職業 | O6: 0 | P6: 0 | Q6: =SUM(O6:P6) -> 0
F7: 計 | G7: =SUM(G5+G6) -> 0 | H7: =【様式1】9月!J7 -> 0 | I7: =SUM(I5:I6) -> 0 | J7: =SUM(J5:J6) -> 0 | K7: =G7-J7 -> 0 | N7: 事務的職業 | O7: 0 | P7: 0 | Q7: =SUM(O7:P7) -> 0
A8: 2 | B8: 自営・縁故 自己就職 希望 | F8: 男 | G8: 0 | H8: =【様式1】9月!J8 -> 0 | I8: 0 | J8: =SUM($H8:$I8) -> 0 | K8: =G8-J8 -> 0 | N8: 販売の職業 | O8: 0 | P8: 0 | Q8: =SUM(O8:P8) -> 0
F9: 女 | G9: 0 | H9: =【様式1】9月!J9 -> 0 | I9: 0 | J9: =SUM($H9:$I9) -> 0 | K9: =G9-J9 -> 0 | N9: サービスの職業 | O9: 0 | P9: 0 | Q9: =SUM(O9:P9) -> 0
F10: 計 | G10: =SUM(G8:G9) -> 0 | H10: =【様式1】9月!J10 -> 0 | I10: =SUM(I8:I9) -> 0 | J10: =SUM(J8:J9) -> 0 | K10: =G10-J10 -> 0 | N10: 生産工程の職業 | O10: 0 | P10: 0 | Q10: =SUM(O10:P10) -> 0
A11: 3 | B11: 学校紹介による 就職希望 | F11: 男 | G11: 0 | H11: =【様式1】9月!J11 -> 0 | I11: 0 | J11: =SUM($H11:$I11) -> 0 | K11: =G11-J11 -> 0 | N11: 運搬・清掃・包装等の 職業 | O11: 0 | P11: 0 | Q11: =SUM(O11:P11) -> 0
F12: 女 | G12: 0 | H12: =【様式1】9月!J12 -> 0 | I12: 0 | J12: =SUM($H12:$I12) -> 0 | K12: =G12-J12 -> 0 | N12: その他の職業 | O12: 0 | P12: 0 | Q12: =SUM(O12:P12) -> 0
F13: 計 | G13: =SUM(G11+G12) -> 0 | H13: =【様式1】9月!J13 -> 0 | I13: =SUM(I11:I12) -> 0 | J13: =SUM(J11:J12) -> 0 | K13: =G13-J13 -> 0 | N13: 希望職種未定 | O13: 0 | P13: 0 | Q13: =SUM(O13:P13) -> 0
A14: ★１～３の各項目の未内定者数が０になった場合は、翌月以降の提出は不要です。 ただし、あらたに就職希望者が増えた場合には提出を再開してください。 | N14: 合計 | O14: =SUM(O6:O13) -> 0 | P14: =SUM(P6:P13) -> 0 | Q14: =SUM(O14:P14) -> 0
A15: 【連絡事項】
N16: 【その他の内訳】※具体的に職種をご記入ください。
J17: =IFERROR(IF(COUNTA($O$6:$P$13)=0,"",IF(SUM(#REF!)=#REF!,"","希望職種欄の人数と、就職未決定者数に差異があります。内定者数または希望職種の入力欄に誤りや入力もれがないか、ご確認ください。")),"")

Sheet 【様式1】11月
A2: 令和９年３月 新規学卒者就職希望・内定状況報告（電子版） | N2: =【様式1】9月!N2 -> はろわ | O2: 高等学校 | Q2: 様式１
G3: ★電子版で報告の場合は黄色のセルを入力してください。 ※それ以外のセルは選択できません。
A4: 令和 | C4: 8 | D4: 年 | E4: 11 | F4: 月 | G4: 就職希望者 総数（内定含） | H4: 前月までの 内定者数 | I4: 今月の 内定者数 | J4: 内定者合計 | K4: 未内定者数 | N4: 就職未内定者希望職種
A5: 1 | B5: 公務員希望 | F5: 男 | G5: 0 | H5: =【様式1】10月!J5 -> 0 | I5: 0 | J5: =SUM($H5:$I5) -> 0 | K5: =G5-J5 -> 0 | O5: 男 | P5: 女 | Q5: 計
F6: 女 | G6: 0 | H6: =【様式1】10月!J6 -> 0 | I6: 0 | J6: =SUM($H6:$I6) -> 0 | K6: =G6-J6 -> 0 | N6: 専門的・技術的 職業 | O6: 0 | P6: 0 | Q6: =SUM(O6:P6) -> 0
F7: 計 | G7: =SUM(G5+G6) -> 0 | H7: =【様式1】10月!J7 -> 0 | I7: =SUM(I5:I6) -> 0 | J7: =SUM(J5:J6) -> 0 | K7: =G7-J7 -> 0 | N7: 事務的職業 | O7: 0 | P7: 0 | Q7: =SUM(O7:P7) -> 0
A8: 2 | B8: 自営・縁故 自己就職 希望 | F8: 男 | G8: 0 | H8: =【様式1】10月!J8 -> 0 | I8: 0 | J8: =SUM($H8:$I8) -> 0 | K8: =G8-J8 -> 0 | N8: 販売の職業 | O8: 0 | P8: 0 | Q8: =SUM(O8:P8) -> 0
F9: 女 | G9: 0 | H9: =【様式1】10月!J9 -> 0 | I9: 0 | J9: =SUM($H9:$I9) -> 0 | K9: =G9-J9 -> 0 | N9: サービスの職業 | O9: 0 | P9: 0 | Q9: =SUM(O9:P9) -> 0
F10: 計 | G10: =SUM(G8:G9) -> 0 | H10: =【様式1】10月!J10 -> 0 | I10: =SUM(I8:I9) -> 0 | J10: =SUM(J8:J9) -> 0 | K10: =G10-J10 -> 0 | N10: 生産工程の職業 | O10: 0 | P10: 0 | Q10: =SUM(O10:P10) -> 0
A11: 3 | B11: 学校紹介による 就職希望 | F11: 男 | G11: 0 | H11: =【様式1】10月!J11 -> 0 | I11: 0 | J11: =SUM($H11:$I11) -> 0 | K11: =G11-J11 -> 0 | N11: 運搬・清掃・包装等の 職業 | O11: 0 | P11: 0 | Q11: =SUM(O11:P11) -> 0
F12: 女 | G12: 0 | H12: =【様式1】10月!J12 -> 0 | I12: 0 | J12: =SUM($H12:$I12) -> 0 | K12: =G12-J12 -> 0 | N12: その他の職業 | O12: 0 | P12: 0 | Q12: =SUM(O12:P12) -> 0
F13: 計 | G13: =SUM(G11+G12) -> 0 | H13: =【様式1】10月!J13 -> 0 | I13: =SUM(I11:I12) -> 0 | J13: =SUM(J11:J12) -> 0 | K13: =G13-J13 -> 0 | N13: 希望職種未定 | O13: 0 | P13: 0 | Q13: =SUM(O13:P13) -> 0
A14: ★１～３の各項目の未内定者数が０になった場合は、翌月以降の提出は不要です。 ただし、あらたに就職希望者が増えた場合には提出を再開してください。 | N14: 合計 | O14: =SUM(O6:O13) -> 0 | P14: =SUM(P6:P13) -> 0 | Q14: =SUM(O14:P14) -> 0
A15: 【連絡事項】
N16: 【その他の内訳】※具体的に職種をご記入ください。
J17: =IFERROR(IF(COUNTA($O$6:$P$13)=0,"",IF(SUM(#REF!)=#REF!,"","希望職種欄の人数と、就職未決定者数に差異があります。内定者数または希望職種の入力欄に誤りや入力もれがないか、ご確認ください。")),"")

Sheet 【様式1】12月
A2: 令和９年３月 新規学卒者就職希望・内定状況報告（電子版） | N2: =【様式1】9月!N2 -> はろわ | O2: 高等学校 | Q2: 様式１
G3: ★電子版で報告の場合は黄色のセルを入力してください。 ※それ以外のセルは選択できません。
A4: 令和 | C4: 8 | D4: 年 | E4: 12 | F4: 月 | G4: 就職希望者 総数（内定含） | H4: 前月までの 内定者数 | I4: 今月の 内定者数 | J4: 内定者合計 | K4: 未内定者数 | N4: 就職未内定者希望職種
A5: 1 | B5: 公務員希望 | F5: 男 | G5: 0 | H5: =【様式1】11月!J5 -> 0 | I5: 0 | J5: =SUM($H5:$I5) -> 0 | K5: =G5-J5 -> 0 | O5: 男 | P5: 女 | Q5: 計
F6: 女 | G6: 0 | H6: =【様式1】11月!J6 -> 0 | I6: 0 | J6: =SUM($H6:$I6) -> 0 | K6: =G6-J6 -> 0 | N6: 専門的・技術的 職業 | O6: 0 | P6: 0 | Q6: =SUM(O6:P6) -> 0
F7: 計 | G7: =SUM(G5+G6) -> 0 | H7: =【様式1】11月!J7 -> 0 | I7: =SUM(I5:I6) -> 0 | J7: =SUM(J5:J6) -> 0 | K7: =G7-J7 -> 0 | N7: 事務的職業 | O7: 0 | P7: 0 | Q7: =SUM(O7:P7) -> 0
A8: 2 | B8: 自営・縁故 自己就職 希望 | F8: 男 | G8: 0 | H8: =【様式1】11月!J8 -> 0 | I8: 0 | J8: =SUM($H8:$I8) -> 0 | K8: =G8-J8 -> 0 | N8: 販売の職業 | O8: 0 | P8: 0 | Q8: =SUM(O8:P8) -> 0
F9: 女 | G9: 0 | H9: =【様式1】11月!J9 -> 0 | I9: 0 | J9: =SUM($H9:$I9) -> 0 | K9: =G9-J9 -> 0 | N9: サービスの職業 | O9: 0 | P9: 0 | Q9: =SUM(O9:P9) -> 0
F10: 計 | G10: =SUM(G8:G9) -> 0 | H10: =【様式1】11月!J10 -> 0 | I10: =SUM(I8:I9) -> 0 | J10: =SUM(J8:J9) -> 0 | K10: =G10-J10 -> 0 | N10: 生産工程の職業 | O10: 0 | P10: 0 | Q10: =SUM(O10:P10) -> 0
A11: 3 | B11: 学校紹介による 就職希望 | F11: 男 | G11: 0 | H11: =【様式1】11月!J11 -> 0 | I11: 0 | J11: =SUM($H11:$I11) -> 0 | K11: =G11-J11 -> 0 | N11: 運搬・清掃・包装等の 職業 | O11: 0 | P11: 0 | Q11: =SUM(O11:P11) -> 0
F12: 女 | G12: 0 | H12: =【様式1】11月!J12 -> 0 | I12: 0 | J12: =SUM($H12:$I12) -> 0 | K12: =G12-J12 -> 0 | N12: その他の職業 | O12: 0 | P12: 0 | Q12: =SUM(O12:P12) -> 0
F13: 計 | G13: =SUM(G11+G12) -> 0 | H13: =【様式1】11月!J13 -> 0 | I13: =SUM(I11:I12) -> 0 | J13: =SUM(J11:J12) -> 0 | K13: =G13-J13 -> 0 | N13: 希望職種未定 | O13: 0 | P13: 0 | Q13: =SUM(O13:P13) -> 0
A14: ★１～３の各項目の未内定者数が０になった場合は、翌月以降の提出は不要です。 ただし、あらたに就職希望者が増えた場合には提出を再開してください。 | N14: 合計 | O14: =SUM(O6:O13) -> 0 | P14: =SUM(P6:P13) -> 0 | Q14: =SUM(O14:P14) -> 0
A15: 【連絡事項】
N16: 【その他の内訳】※具体的に職種をご記入ください。
J17: =IFERROR(IF(COUNTA($O$6:$P$13)=0,"",IF(SUM(#REF!)=#REF!,"","希望職種欄の人数と、就職未決定者数に差異があります。内定者数または希望職種の入力欄に誤りや入力もれがないか、ご確認ください。")),"")

Sheet 【様式1】1月
A2: 令和９年３月 新規学卒者就職希望・内定状況報告（電子版） | N2: =【様式1】9月!N2 -> はろわ | O2: 高等学校 | Q2: 様式１
G3: ★電子版で報告の場合は黄色のセルを入力してください。 ※それ以外のセルは選択できません。
A4: 令和 | C4: 9 | D4: 年 | E4: 1 | F4: 月 | G4: 就職希望者 総数（内定含） | H4: 前月までの 内定者数 | I4: 今月の 内定者数 | J4: 内定者合計 | K4: 未内定者数 | N4: 就職未内定者希望職種
A5: 1 | B5: 公務員希望 | F5: 男 | G5: 0 | H5: =【様式1】12月!J5 -> 0 | I5: 0 | J5: =SUM($H5:$I5) -> 0 | K5: =G5-J5 -> 0 | O5: 男 | P5: 女 | Q5: 計
F6: 女 | G6: 0 | H6: =【様式1】12月!J6 -> 0 | I6: 0 | J6: =SUM($H6:$I6) -> 0 | K6: =G6-J6 -> 0 | N6: 専門的・技術的 職業 | O6: 0 | P6: 0 | Q6: =SUM(O6:P6) -> 0
F7: 計 | G7: =SUM(G5+G6) -> 0 | H7: =【様式1】12月!J7 -> 0 | I7: =SUM(I5:I6) -> 0 | J7: =SUM(J5:J6) -> 0 | K7: =G7-J7 -> 0 | N7: 事務的職業 | O7: 0 | P7: 0 | Q7: =SUM(O7:P7) -> 0
A8: 2 | B8: 自営・縁故 自己就職 希望 | F8: 男 | G8: 0 | H8: =【様式1】12月!J8 -> 0 | I8: 0 | J8: =SUM($H8:$I8) -> 0 | K8: =G8-J8 -> 0 | N8: 販売の職業 | O8: 0 | P8: 0 | Q8: =SUM(O8:P8) -> 0
F9: 女 | G9: 0 | H9: =【様式1】12月!J9 -> 0 | I9: 0 | J9: =SUM($H9:$I9) -> 0 | K9: =G9-J9 -> 0 | N9: サービスの職業 | O9: 0 | P9: 0 | Q9: =SUM(O9:P9) -> 0
F10: 計 | G10: =SUM(G8:G9) -> 0 | H10: =【様式1】12月!J10 -> 0 | I10: =SUM(I8:I9) -> 0 | J10: =SUM(J8:J9) -> 0 | K10: =G10-J10 -> 0 | N10: 生産工程の職業 | O10: 0 | P10: 0 | Q10: =SUM(O10:P10) -> 0
A11: 3 | B11: 学校紹介による 就職希望 | F11: 男 | G11: 0 | H11: =【様式1】12月!J11 -> 0 | I11: 0 | J11: =SUM($H11:$I11) -> 0 | K11: =G11-J11 -> 0 | N11: 運搬・清掃・包装等の 職業 | O11: 0 | P11: 0 | Q11: =SUM(O11:P11) -> 0
F12: 女 | G12: 0 | H12: =【様式1】12月!J12 -> 0 | I12: 0 | J12: =SUM($H12:$I12) -> 0 | K12: =G12-J12 -> 0 | N12: その他の職業 | O12: 0 | P12: 0 | Q12: =SUM(O12:P12) -> 0
F13: 計 | G13: =SUM(G11+G12) -> 0 | H13: =【様式1】12月!J13 -> 0 | I13: =SUM(I11:I12) -> 0 | J13: =SUM(J11:J12) -> 0 | K13: =G13-J13 -> 0 | N13: 希望職種未定 | O13: 0 | P13: 0 | Q13: =SUM(O13:P13) -> 0
A14: ★１～３の各項目の未内定者数が０になった場合は、翌月以降の提出は不要です。 ただし、あらたに就職希望者が増えた場合には提出を再開してください。 | N14: 合計 | O14: =SUM(O6:O13) -> 0 | P14: =SUM(P6:P13) -> 0 | Q14: =SUM(O14:P14) -> 0
A15: 【連絡事項】
N16: 【その他の内訳】※具体的に職種をご記入ください。
J17: =IFERROR(IF(COUNTA($O$6:$P$13)=0,"",IF(SUM(#REF!)=#REF!,"","希望職種欄の人数と、就職未決定者数に差異があります。内定者数または希望職種の入力欄に誤りや入力もれがないか、ご確認ください。")),"")

Sheet 【様式1】2月
A2: 令和９年３月 新規学卒者就職希望・内定状況報告（電子版） | N2: =【様式1】9月!N2 -> はろわ | O2: 高等学校 | Q2: 様式１
G3: ★電子版で報告の場合は黄色のセルを入力してください。 ※それ以外のセルは選択できません。
A4: 令和 | C4: 9 | D4: 年 | E4: 2 | F4: 月 | G4: 就職希望者 総数（内定含） | H4: 前月までの 内定者数 | I4: 今月の 内定者数 | J4: 内定者合計 | K4: 未内定者数 | N4: 就職未内定者希望職種
A5: 1 | B5: 公務員希望 | F5: 男 | G5: 0 | H5: =【様式1】1月!J5 -> 0 | I5: 0 | J5: =SUM($H5:$I5) -> 0 | K5: =G5-J5 -> 0 | O5: 男 | P5: 女 | Q5: 計
F6: 女 | G6: 0 | H6: =【様式1】1月!J6 -> 0 | I6: 0 | J6: =SUM($H6:$I6) -> 0 | K6: =G6-J6 -> 0 | N6: 専門的・技術的 職業 | O6: 0 | P6: 0 | Q6: =SUM(O6:P6) -> 0
F7: 計 | G7: =SUM(G5+G6) -> 0 | H7: =【様式1】1月!J7 -> 0 | I7: =SUM(I5:I6) -> 0 | J7: =SUM(J5:J6) -> 0 | K7: =G7-J7 -> 0 | N7: 事務的職業 | O7: 0 | P7: 0 | Q7: =SUM(O7:P7) -> 0
A8: 2 | B8: 自営・縁故 自己就職 希望 | F8: 男 | G8: 0 | H8: =【様式1】1月!J8 -> 0 | I8: 0 | J8: =SUM($H8:$I8) -> 0 | K8: =G8-J8 -> 0 | N8: 販売の職業 | O8: 0 | P8: 0 | Q8: =SUM(O8:P8) -> 0
F9: 女 | G9: 0 | H9: =【様式1】1月!J9 -> 0 | I9: 0 | J9: =SUM($H9:$I9) -> 0 | K9: =G9-J9 -> 0 | N9: サービスの職業 | O9: 0 | P9: 0 | Q9: =SUM(O9:P9) -> 0
F10: 計 | G10: =SUM(G8:G9) -> 0 | H10: =【様式1】1月!J10 -> 0 | I10: =SUM(I8:I9) -> 0 | J10: =SUM(J8:J9) -> 0 | K10: =G10-J10 -> 0 | N10: 生産工程の職業 | O10: 0 | P10: 0 | Q10: =SUM(O10:P10) -> 0
A11: 3 | B11: 学校紹介による 就職希望 | F11: 男 | G11: 0 | H11: =【様式1】1月!J11 -> 0 | I11: 0 | J11: =SUM($H11:$I11) -> 0 | K11: =G11-J11 -> 0 | N11: 運搬・清掃・包装等の 職業 | O11: 0 | P11: 0 | Q11: =SUM(O11:P11) -> 0
F12: 女 | G12: 0 | H12: =【様式1】1月!J12 -> 0 | I12: 0 | J12: =SUM($H12:$I12) -> 0 | K12: =G12-J12 -> 0 | N12: その他の職業 | O12: 0 | P12: 0 | Q12: =SUM(O12:P12) -> 0
F13: 計 | G13: =SUM(G11+G12) -> 0 | H13: =【様式1】1月!J13 -> 0 | I13: =SUM(I11:I12) -> 0 | J13: =SUM(J11:J12) -> 0 | K13: =G13-J13 -> 0 | N13: 希望職種未定 | O13: 0 | P13: 0 | Q13: =SUM(O13:P13) -> 0
A14: ★１～３の各項目の未内定者数が０になった場合は、翌月以降の提出は不要です。 ただし、あらたに就職希望者が増えた場合には提出を再開してください。 | N14: 合計 | O14: =SUM(O6:O13) -> 0 | P14: =SUM(P6:P13) -> 0 | Q14: =SUM(O14:P14) -> 0
A15: 【連絡事項】
N16: 【その他の内訳】※具体的に職種をご記入ください。
J17: =IFERROR(IF(COUNTA($O$6:$P$13)=0,"",IF(SUM(#REF!)=#REF!,"","希望職種欄の人数と、就職未決定者数に差異があります。内定者数または希望職種の入力欄に誤りや入力もれがないか、ご確認ください。")),"")

Sheet 【様式1】3月
A2: 令和９年３月 新規学卒者就職希望・内定状況報告（電子版） | N2: =【様式1】9月!N2 -> はろわ | O2: 高等学校 | Q2: 様式１
G3: ★電子版で報告の場合は黄色のセルを入力してください。 ※それ以外のセルは選択できません。
A4: 令和 | C4: 9 | D4: 年 | E4: 3 | F4: 月 | G4: 就職希望者 総数（内定含） | H4: 前月までの 内定者数 | I4: 今月の 内定者数 | J4: 内定者合計 | K4: 未内定者数 | N4: 就職未内定者希望職種
A5: 1 | B5: 公務員希望 | F5: 男 | G5: 0 | H5: =【様式1】2月!J5 -> 0 | I5: 0 | J5: =SUM($H5:$I5) -> 0 | K5: =G5-J5 -> 0 | O5: 男 | P5: 女 | Q5: 計
F6: 女 | G6: 0 | H6: =【様式1】2月!J6 -> 0 | I6: 0 | J6: =SUM($H6:$I6) -> 0 | K6: =G6-J6 -> 0 | N6: 専門的・技術的 職業 | O6: 0 | P6: 0 | Q6: =SUM(O6:P6) -> 0
F7: 計 | G7: =SUM(G5+G6) -> 0 | H7: =【様式1】2月!J7 -> 0 | I7: =SUM(I5:I6) -> 0 | J7: =SUM(J5:J6) -> 0 | K7: =G7-J7 -> 0 | N7: 事務的職業 | O7: 0 | P7: 0 | Q7: =SUM(O7:P7) -> 0
A8: 2 | B8: 自営・縁故 自己就職 希望 | F8: 男 | G8: 0 | H8: =【様式1】2月!J8 -> 0 | I8: 0 | J8: =SUM($H8:$I8) -> 0 | K8: =G8-J8 -> 0 | N8: 販売の職業 | O8: 0 | P8: 0 | Q8: =SUM(O8:P8) -> 0
F9: 女 | G9: 0 | H9: =【様式1】2月!J9 -> 0 | I9: 0 | J9: =SUM($H9:$I9) -> 0 | K9: =G9-J9 -> 0 | N9: サービスの職業 | O9: 0 | P9: 0 | Q9: =SUM(O9:P9) -> 0
F10: 計 | G10: =SUM(G8:G9) -> 0 | H10: =【様式1】2月!J10 -> 0 | I10: =SUM(I8:I9) -> 0 | J10: =SUM(J8:J9) -> 0 | K10: =G10-J10 -> 0 | N10: 生産工程の職業 | O10: 0 | P10: 0 | Q10: =SUM(O10:P10) -> 0
A11: 3 | B11: 学校紹介による 就職希望 | F11: 男 | G11: 0 | H11: =【様式1】2月!J11 -> 0 | I11: 0 | J11: =SUM($H11:$I11) -> 0 | K11: =G11-J11 -> 0 | N11: 運搬・清掃・包装等の 職業 | O11: 0 | P11: 0 | Q11: =SUM(O11:P11) -> 0
F12: 女 | G12: 0 | H12: =【様式1】2月!J12 -> 0 | I12: 0 | J12: =SUM($H12:$I12) -> 0 | K12: =G12-J12 -> 0 | N12: その他の職業 | O12: 0 | P12: 0 | Q12: =SUM(O12:P12) -> 0
F13: 計 | G13: =SUM(G11+G12) -> 0 | H13: =【様式1】2月!J13 -> 0 | I13: =SUM(I11:I12) -> 0 | J13: =SUM(J11:J12) -> 0 | K13: =G13-J13 -> 0 | N13: 希望職種未定 | O13: 0 | P13: 0 | Q13: =SUM(O13:P13) -> 0
A14: ★１～３の各項目の未内定者数が０になった場合は、翌月以降の提出は不要です。 ただし、あらたに就職希望者が増えた場合には提出を再開してください。 | N14: 合計 | O14: =SUM(O6:O13) -> 0 | P14: =SUM(P6:P13) -> 0 | Q14: =SUM(O14:P14) -> 0
A15: 【連絡事項】
N16: 【その他の内訳】※具体的に職種をご記入ください。
J17: =IFERROR(IF(COUNTA($O$6:$P$13)=0,"",IF(SUM(#REF!)=#REF!,"","希望職種欄の人数と、就職未決定者数に差異があります。内定者数または希望職種の入力欄に誤りや入力もれがないか、ご確認ください。")),"")

Sheet 【様式1】記入要領
A2: 令和９年３月 新規学卒者就職希望・内定状況報告 | N2: ●● | O2: 高等学校 | Q2: 様式１
G3: ★電子版報告の場合は黄色のセルを入力してください。 ※グレー部分は数値が反映します。手書きの場合はご自身で計算しご記入ください。
A4: 令和 | C4: 8 | D4: 年 | E4: 9 | F4: 月 | G4: 就職希望者 総数（内定含） | H4: 前月までの 内定者数 | I4: 今月の 内定者数 | J4: 内定者合計 | K4: 未内定者数 | N4: 就職未内定者希望職種
A5: 1 | B5: 公務員希望 | F5: 男 | G5: 0 | H5: 0 | I5: 0 | J5: =SUM($H5:$I5) -> 0 | K5: =G5-J5 -> 0 | O5: 男 | P5: 女 | Q5: 計
F6: 女 | G6: 0 | H6: 0 | I6: 0 | J6: =SUM($H6:$I6) -> 0 | K6: =G6-J6 -> 0 | N6: 専門的・技術的 職業 | O6: 0 | P6: 0 | Q6: =SUM(O6:P6) -> 0
F7: 計 | G7: =SUM(G5+G6) -> 0 | H7: =SUM(H5:H6) -> 0 | I7: =SUM(I5:I6) -> 0 | J7: =SUM(J5:J6) -> 0 | K7: =G7-J7 -> 0 | N7: 事務的職業 | O7: 0 | P7: 0 | Q7: =SUM(O7:P7) -> 0
A8: 2 | B8: 自営・縁故等 自己就職 希望 | F8: 男 | G8: 0 | H8: 0 | I8: 0 | J8: =SUM($H8:$I8) -> 0 | K8: =G8-J8 -> 0 | N8: 販売の職業 | O8: 0 | P8: 0 | Q8: =SUM(O8:P8) -> 0
F9: 女 | G9: 0 | H9: 0 | I9: =SUM(H9) -> 0 | J9: =SUM($H9:$I9) -> 0 | K9: =G9-J9 -> 0 | N9: サービスの職業 | O9: 0 | P9: 0 | Q9: =SUM(O9:P9) -> 0
F10: 計 | G10: =SUM(G8:G9) -> 0 | H10: =SUM(H8:H9) -> 0 | I10: =SUM(I8:I9) -> 0 | J10: =SUM(J8:J9) -> 0 | K10: =G10-J10 -> 0 | N10: 生産工程の職業 | O10: 0 | P10: 0 | Q10: =SUM(O10:P10) -> 0
A11: 3 | B11: 学校紹介による 就職希望 | F11: 男 | G11: 0 | H11: 0 | I11: 0 | J11: =SUM($H11:$I11) -> 0 | K11: =G11-J11 -> 0 | N11: 運搬・清掃・包装等の 職業 | O11: 0 | P11: 0 | Q11: =SUM(O11:P11) -> 0
F12: 女 | G12: 0 | H12: 0 | I12: 0 | J12: =SUM($H12:$I12) -> 0 | K12: =G12-J12 -> 0 | N12: その他の職業 | O12: 0 | P12: 0 | Q12: =SUM(O12:P12) -> 0
F13: 計 | G13: =SUM(G11+G12) -> 0 | H13: =SUM(H11:H12) -> 0 | I13: =SUM(I11:I12) -> 0 | J13: =SUM(J11:J12) -> 0 | K13: =G13-J13 -> 0 | N13: 希望職種未定 | O13: 0 | P13: 0 | Q13: =SUM(O13:P13) -> 0
A14: ★１～３の各項目の未内定者数が０になった場合は、翌月以降の提出は不要です。 ただし、あらたに就職希望者が増えた場合には提出を再開してください。 | N14: 合計 | O14: =SUM(O6:O13) -> 0 | P14: =SUM(P6:P13) -> 0 | Q14: =SUM(O14:P14) -> 0
A15: 【連絡事項】
N16: 【その他の内訳】
J17: =IFERROR(IF(COUNTA($O$6:$P$13)=0,"",IF(SUM(#REF!)=#REF!,"","希望職種欄の人数と、就職未決定者数に差異があります。内定者数または希望職種の入力欄に誤りや入力もれがないか、ご確認ください。")),"") | N17: 例）建設、警備、農業、 デザイナー、ネイリスト、スポーツトレーナー等

Sheet Sheet1
