{"text_format":"1","workbook":"xlsx","n_sheets":6,"sheets":["早見表","【記載例】保険料申告内訳名簿（一人親方団体控）","保険料申告内訳名簿（一人親方団体控）","保険料申告内訳名簿（監督署提出用)","保険料申告内訳名簿（局提出用)","マスタ"],"not_rendered":{"charts":0,"images":0,"macros":0,"external_links":0,"defined_names":0,"comments":2,"pivot_tables":0},"unopened":[],"bounds":{"document_bytes":16777216,"sheet_cells":100000,"rows_first":2000,"rows_last":500,"rows_between":2000,"halvings":0,"cell_chars":16384,"cell_head_chars":4096},"cells_cut":0,"cells_raw":0,"read":"whole","date_system":"1900"}

{"sheet":"早見表","index":0,"n_rows":19,"n_cols":19,"rows_kept":19,"cut":false,"hidden":true,"merged":[]}
[]
[]
[]
[]
[null,"特別加入保険料月割算定基礎額早見表"]
[null,"給付基礎日額",null,3500,4000,5000,6000,7000,8000,9000,10000,12000,14000,16000,18000,20000,22000,24000,25000]
[]
[null,12,null,1277500,1460000,1825000,2190000,2555000,2920000,3285000,3650000,4380000,5110000,5840000,6570000,7300000,8030000,8760000,9125000]
[null,11,null,1171049,1338337,1672924,2007500,2342087,2676674,3011250,3345837,4015000,4684174,5353337,6022500,6691674,7360837,8030000,8364587]
[null,10,null,1064590,1216670,1520840,1825000,2129170,2433340,2737500,3041670,3650000,4258340,4866670,5475000,6083340,6691670,7300000,7604170]
[null,9,null,958131,1095003,1368756,1642500,1916253,2190006,2463750,2737503,3285000,3832506,4380003,4927500,5475006,6022503,6570000,6843753]
[null,8,null,851672,973336,1216672,1460000,1703336,1946672,2190000,2433336,2920000,3406672,3893336,4380000,4866672,5353336,5840000,6083336]
[null,7,null,745213,851669,1064588,1277500,1490419,1703338,1916250,2129169,2555000,2980838,3406669,3832500,4258338,4684169,5110000,5322919]
[null,6,null,638754,730002,912504,1095000,1277502,1460004,1642500,1825002,2190000,2555004,2920002,3285000,3650004,4015002,4380000,4562502]
[null,5,null,532295,608335,760420,912500,1064585,1216670,1368750,1520835,1825000,2129170,2433335,2737500,3041670,3345835,3650000,3802085]
[null,4,null,425836,486668,608336,730000,851668,973336,1095000,1216668,1460000,1703336,1946668,2190000,2433336,2676668,2920000,3041668]
[null,3,null,319377,365001,456252,547500,638751,730002,821250,912501,1095000,1277502,1460001,1642500,1825002,2007501,2190000,2281251]
[null,2,null,212918,243334,304168,365000,425834,486668,547500,608334,730000,851668,973334,1095000,1216668,1338334,1460000,1520834]
[null,1,null,106459,121667,152084,182500,212917,243334,273750,304167,365000,425834,486667,547500,608334,669167,730000,760417]

{"sheet":"【記載例】保険料申告内訳名簿（一人親方団体控）","index":1,"n_rows":328,"n_cols":34,"rows_kept":328,"cut":false,"hidden":false,"merged":[[321,28,321,33],[322,1,322,17],[322,18,322,23],[322,24,322,27],[322,28,322,33],[320,24,320,27],[320,28,320,33],[321,1,321,2],[321,3,321,6],[321,7,321,10],[321,11,321,13],[321,14,321,15],[321,16,321,17],[321,18,321,23],[321,24,321,27],[319,18,319,23],[319,24,319,27],[319,28,319,33],[320,1,320,2],[320,3,320,6],[320,7,320,10],[320,11,320,13],[320,14,320,15],[320,16,320,17],[320,18,320,23],[319,1,319,2],[319,3,319,6],[319,7,319,10],[319,11,319,13],[319,14,319,15],[319,16,319,17],[317,28,317,33],[318,1,318,2],[318,3,318,6],[318,7,318,10],[318,11,318,13],[318,14,318,15],[318,16,318,17],[318,18,318,23],[318,24,318,27],[318,28,318,33],[316,24,316,27],[316,28,316,33],[317,1,317,2],[317,3,317,6],[317,7,317,10],[317,11,317,13],[317,14,317,15],[317,16,317,17],[317,18,317,23],[317,24,317,27],[315,18,315,23],[315,24,315,27],[315,28,315,33],[316,1,316,2],[316,3,316,6],[316,7,316,10],[316,11,316,13],[316,14,316,15],[316,16,316,17],[316,18,316,23],[315,1,315,2],[315,3,315,6],[315,7,315,10],[315,11,315,13],[315,14,315,15],[315,16,315,17],[313,28,313,33],[314,1,314,2],[314,3,314,6],[314,7,314,10],[314,11,314,13],[314,14,314,15],[314,16,314,17],[314,18,314,23],[314,24,314,27],[314,28,314,33],[312,24,312,27],[312,28,312,33],[313,1,313,2],[313,3,313,6],[313,7,313,10],[313,11,313,13],[313,14,313,15],[313,16,313,17],[313,18,313,23],[313,24,313,27],[311,18,311,23],[311,24,311,27],[311,28,311,33],[312,1,312,2],[312,3,312,6],[312,7,312,10],[312,11,312,13],[312,14,312,15],[312,16,312,17],[312,18,312,23],[311,1,311,2],[311,3,311,6],[311,7,311,10],[311,11,311,13],[311,14,311,15],[311,16,311,17],[309,28,309,33],[310,1,310,2],[310,3,310,6],[310,7,310,10],[310,11,310,13],[310,14,310,15],[310,16,310,17],[310,18,310,23],[310,24,310,27],[310,28,310,33],[308,24,308,27],[308,28,308,33],[309,1,309,2],[309,3,309,6],[309,7,309,10],[309,11,309,13],[309,14,309,15],[309,16,309,17],[309,18,309,23],[309,24,309,27],[307,18,307,23],[307,24,307,27],[307,28,307,33],[308,1,308,2],[308,3,308,6],[308,7,308,10],[308,11,308,13],[308,14,308,15],[308,16,308,17],[308,18,308,23],[307,1,307,2],[307,3,307,6],[307,7,307,10],[307,11,307,13],[307,14,307,15],[307,16,307,17],[305,11,305,17],[305,18,306,23],[305,24,306,27],[305,28,306,33],[306,11,306,15],[306,16,306,17],[302,23,302,33],[303,20,303,22],[303,23,303,33],[304,1,306,2],[304,3,306,6],[304,14,304,16],[304,17,304,19],[304,24,304,26],[304,27,304,29],[305,7,306,10],[302,1,303,5],[302,6,302,7],[302,9,302,10],[302,11,302,16],[302,17,302,19],[302,20,302,22],[298,1,298,33],[299,1,299,33],[300,25,300,26],[300,27,300,28],[300,29,300,30],[300,31,300,32],[288,28,288,33],[289,1,289,17],[289,18,289,23],[289,24,289,27],[289,28,289,33],[297,26,297,33],[287,24,287,27],[287,28,287,33],[288,1,288,2],[288,3,288,6],[288,7,288,10],[288,11,288,13],[288,14,288,15],[288,16,288,17],[288,18,288,23],[288,24,288,27],[286,18,286,23],[286,24,286,27],[286,28,286,33],[287,1,287,2],[287,3,287,6],[287,7,287,10],[287,11,287,13],[287,14,287,15],[287,16,287,17],[287,18,287,23],[286,1,286,2],[286,3,286,6],[286,7,286,10],[286,11,286,13],[286,14,286,15],[286,16,286,17],[284,28,284,33],[285,1,285,2],[285,3,285,6],[285,7,285,10],[285,11,285,13],[285,14,285,15],[285,16,285,17],[285,18,285,23],[285,24,285,27],[285,28,285,33],[283,24,283,27],[283,28,283,33],[284,1,284,2],[284,3,284,6],[284,7,284,10],[284,11,284,13],[284,14,284,15],[284,16,284,17],[284,18,284,23],[284,24,284,27],[282,18,282,23],[282,24,282,27],[282,28,282,33],[283,1,283,2],[283,3,283,6],[283,7,283,10],[283,11,283,13],[283,14,283,15],[283,16,283,17],[283,18,283,23],[282,1,282,2],[282,3,282,6],[282,7,282,10],[282,11,282,13],[282,14,282,15],[282,16,282,17],[280,28,280,33],[281,1,281,2],[281,3,281,6],[281,7,281,10],[281,11,281,13],[281,14,281,15],[281,16,281,17],[281,18,281,23],[281,24,281,27],[281,28,281,33],[279,24,279,27],[279,28,279,33],[280,1,280,2],[280,3,280,6],[280,7,280,10],[280,11,280,13],[280,14,280,15],[280,16,280,17],[280,18,280,23],[280,24,280,27],[278,18,278,23],[278,24,278,27],[278,28,278,33],[279,1,279,2],[279,3,279,6],[279,7,279,10],[279,11,279,13],[279,14,279,15],[279,16,279,17],[279,18,279,23],[278,1,278,2],[278,3,278,6],[278,7,278,10],[278,11,278,13],[278,14,278,15],[278,16,278,17],[276,28,276,33],[277,1,277,2],[277,3,277,6],[277,7,277,10],[277,11,277,13],[277,14,277,15],[277,16,277,17],[277,18,277,23],[277,24,277,27],[277,28,277,33],[275,24,275,27],[275,28,275,33],[276,1,276,2],[276,3,276,6],[276,7,276,10],[276,11,276,13],[276,14,276,15],[276,16,276,17],[276,18,276,23],[276,24,276,27],[274,18,274,23],[274,24,274,27],[274,28,274,33],[275,1,275,2],[275,3,275,6],[275,7,275,10],[275,11,275,13],[275,14,275,15],[275,16,275,17],[275,18,275,23],[274,1,274,2],[274,3,274,6],[274,7,274,10],[274,11,274,13],[274,14,274,15],[274,16,274,17],[272,11,272,17],[272,18,273,23],[272,24,273,27],[272,28,273,33],[273,11,273,15],[273,16,273,17],[269,23,269,33],[270,20,270,22],[270,23,270,33],[271,1,273,2],[271,3,273,6],[271,14,271,16],[271,17,271,19],[271,24,271,26],[271,27,271,29],[272,7,273,10],[269,1,270,5],[269,6,269,7],[269,9,269,10],[269,11,269,16],[269,17,269,19],[269,20,269,22],[265,1,265,33],[266,1,266,33],[267,25,267,26],[267,27,267,28],[267,29,267,30],[267,31,267,32],[255,28,255,33],[256,1,256,17],[256,18,256,23],[256,24,256,27],[256,28,256,33],[264,26,264,33],[254,24,254,27],[254,28,254,33],[255,1,255,2],[255,3,255,6],[255,7,255,10],[255,11,255,13],[255,14,255,15],[255,16,255,17],[255,18,255,23],[255,24,255,27],[253,18,253,23],[253,24,253,27],[253,28,253,33],[254,1,254,2],[254,3,254,6],[254,7,254,10],[254,11,254,13],[254,14,254,15],[254,16,254,17],[254,18,254,23],[253,1,253,2],[253,3,253,6],[253,7,253,10],[253,11,253,13],[253,14,253,15],[253,16,253,17],[251,28,251,33],[252,1,252,2],[252,3,252,6],[252,7,252,10],[252,11,252,13],[252,14,252,15],[252,16,252,17],[252,18,252,23],[252,24,252,27],[252,28,252,33],[250,24,250,27],[250,28,250,33],[251,1,251,2],[251,3,251,6],[251,7,251,10],[251,11,251,13],[251,14,251,15],[251,16,251,17],[251,18,251,23],[251,24,251,27],[249,18,249,23],[249,24,249,27],[249,28,249,33],[250,1,250,2],[250,3,250,6],[250,7,250,10],[250,11,250,13],[250,14,250,15],[250,16,250,17],[250,18,250,23],[249,1,249,2],[249,3,249,6],[249,7,249,10],[249,11,249,13],[249,14,249,15],[249,16,249,17],[247,28,247,33],[248,1,248,2],[248,3,248,6],[248,7,248,10],[248,11,248,13],[248,14,248,15],[248,16,248,17],[248,18,248,23],[248,24,248,27],[248,28,248,33],[246,24,246,27],[246,28,246,33],[247,1,247,2],[247,3,247,6],[247,7,247,10],[247,11,247,13],[247,14,247,15],[247,16,247,17],[247,18,247,23],[247,24,247,27],[245,18,245,23],[245,24,245,27],[245,28,245,33],[246,1,246,2],[246,3,246,6],[246,7,246,10],[246,11,246,13],[246,14,246,15],[246,16,246,17],[246,18,246,23],[245,1,245,2],[245,3,245,6],[245,7,245,10],[245,11,245,13],[245,14,245,15],[245,16,245,17],[243,28,243,33],[244,1,244,2],[244,3,244,6],[244,7,244,10],[244,11,244,13],[244,14,244,15],[244,16,244,17],[244,18,244,23],[244,24,244,27],[244,28,244,33],[242,24,242,27],[242,28,242,33],[243,1,243,2],[243,3,243,6],[243,7,243,10],[243,11,243,13],[243,14,243,15],[243,16,243,17],[243,18,243,23],[243,24,243,27],[241,18,241,23],[241,24,241,27],[241,28,241,33],[242,1,242,2],[242,3,242,6],[242,7,242,10],[242,11,242,13],[242,14,242,15],[242,16,242,17],[242,18,242,23],[241,1,241,2],[241,3,241,6],[241,7,241,10],[241,11,241,13],[241,14,241,15],[241,16,241,17],[239,11,239,17],[239,18,240,23],[239,24,240,27],[239,28,240,33],[240,11,240,15],[240,16,240,17],[236,23,236,33],[237,20,237,22],[237,23,237,33],[238,1,240,2],[238,3,240,6],[238,14,238,16],[238,17,238,19],[238,24,238,26],[238,27,238,29],[239,7,240,10],[236,1,237,5],[236,6,236,7],[236,9,236,10],[236,11,236,16],[236,17,236,19],[236,20,236,22],[232,1,232,33],[233,1,233,33],[234,25,234,26],[234,27,234,28],[234,29,234,30],[234,31,234,32],[222,28,222,33],[223,1,223,17],[223,18,223,23],[223,24,223,27],[223,28,223,33],[231,26,231,33],[221,24,221,27],[221,28,221,33],[222,1,222,2],[222,3,222,6],[222,7,222,10],[222,11,222,13],[222,14,222,15],[222,16,222,17],[222,18,222,23],[222,24,222,27],[220,18,220,23],[220,24,220,27],[220,28,220,33],[221,1,221,2],[221,3,221,6],[221,7,221,10],[221,11,221,13],[221,14,221,15],[221,16,221,17],[221,18,221,23],[220,1,220,2],[220,3,220,6],[220,7,220,10],[220,11,220,13],[220,14,220,15],[220,16,220,17],[218,28,218,33],[219,1,219,2],[219,3,219,6],[219,7,219,10],[219,11,219,13],[219,14,219,15],[219,16,219,17],[219,18,219,23],[219,24,219,27],[219,28,219,33],[217,24,217,27],[217,28,217,33],[218,1,218,2],[218,3,218,6],[218,7,218,10],[218,11,218,13],[218,14,218,15],[218,16,218,17],[218,18,218,23],[218,24,218,27],[216,18,216,23],[216,24,216,27],[216,28,216,33],[217,1,217,2],[217,3,217,6],[217,7,217,10],[217,11,217,13],[217,14,217,15],[217,16,217,17],[217,18,217,23],[216,1,216,2],[216,3,216,6],[216,7,216,10],[216,11,216,13],[216,14,216,15],[216,16,216,17],[214,28,214,33],[215,1,215,2],[215,3,215,6],[215,7,215,10],[215,11,215,13],[215,14,215,15],[215,16,215,17],[215,18,215,23],[215,24,215,27],[215,28,215,33],[213,24,213,27],[213,28,213,33],[214,1,214,2],[214,3,214,6],[214,7,214,10],[214,11,214,13],[214,14,214,15],[214,16,214,17],[214,18,214,23],[214,24,214,27],[212,18,212,23],[212,24,212,27],[212,28,212,33],[213,1,213,2],[213,3,213,6],[213,7,213,10],[213,11,213,13],[213,14,213,15],[213,16,213,17],[213,18,213,23],[212,1,212,2],[212,3,212,6],[212,7,212,10],[212,11,212,13],[212,14,212,15],[212,16,212,17],[210,28,210,33],[211,1,211,2],[211,3,211,6],[211,7,211,10],[211,11,211,13],[211,14,211,15],[211,16,211,17],[211,18,211,23],[211,24,211,27],[211,28,211,33],[209,24,209,27],[209,28,209,33],[210,1,210,2],[210,3,210,6],[210,7,210,10],[210,11,210,13],[210,14,210,15],[210,16,210,17],[210,18,210,23],[210,24,210,27],[208,18,208,23],[208,24,208,27],[208,28,208,33],[209,1,209,2],[209,3,209,6],[209,7,209,10],[209,11,209,13],[209,14,209,15],[209,16,209,17],[209,18,209,23],[208,1,208,2],[208,3,208,6],[208,7,208,10],[208,11,208,13],[208,14,208,15],[208,16,208,17],[206,11,206,17],[206,18,207,23],[206,24,207,27],[206,28,207,33],[207,11,207,15],[207,16,207,17],[203,23,203,33],[204,20,204,22],[204,23,204,33],[205,1,207,2],[205,3,207,6],[205,14,205,16],[205,17,205,19],[205,24,205,26],[205,27,205,29],[206,7,207,10],[203,1,204,5],[203,6,203,7],[203,9,203,10],[203,11,203,16],[203,17,203,19],[203,20,203,22],[199,1,199,33],[200,1,200,33],[201,25,201,26],[201,27,201,28],[201,29,201,30],[201,31,201,32],[189,28,189,33],[190,1,190,17],[190,18,190,23],[190,24,190,27],[190,28,190,33],[198,26,198,33],[188,24,188,27],[188,28,188,33],[189,1,189,2],[189,3,189,6],[189,7,189,10],[189,11,189,13],[189,14,189,15],[189,16,189,17],[189,18,189,23],[189,24,189,27],[187,18,187,23],[187,24,187,27],[187,28,187,33],[188,1,188,2],[188,3,188,6],[188,7,188,10],[188,11,188,13],[188,14,188,15],[188,16,188,17],[188,18,188,23],[187,1,187,2],[187,3,187,6],[187,7,187,10],[187,11,187,13],[187,14,187,15],[187,16,187,17],[185,28,185,33],[186,1,186,2],[186,3,186,6],[186,7,186,10],[186,11,186,13],[186,14,186,15],[186,16,186,17],[186,18,186,23],[186,24,186,27],[186,28,186,33],[184,24,184,27],[184,28,184,33],[185,1,185,2],[185,3,185,6],[185,7,185,10],[185,11,185,13],[185,14,185,15],[185,16,185,17],[185,18,185,23],[185,24,185,27],[183,18,183,23],[183,24,183,27],[183,28,183,33],[184,1,184,2],[184,3,184,6],[184,7,184,10],[184,11,184,13],[184,14,184,15],[184,16,184,17],[184,18,184,23],[183,1,183,2],[183,3,183,6],[183,7,183,10],[183,11,183,13],[183,14,183,15],[183,16,183,17],[181,28,181,33],[182,1,182,2],[182,3,182,6],[182,7,182,10],[182,11,182,13],[182,14,182,15],[182,16,182,17],[182,18,182,23],[182,24,182,27],[182,28,182,33],[180,24,180,27],[180,28,180,33],[181,1,181,2],[181,3,181,6],[181,7,181,10],[181,11,181,13],[181,14,181,15],[181,16,181,17],[181,18,181,23],[181,24,181,27],[179,18,179,23],[179,24,179,27],[179,28,179,33],[180,1,180,2],[180,3,180,6],[180,7,180,10],[180,11,180,13],[180,14,180,15],[180,16,180,17],[180,18,180,23],[179,1,179,2],[179,3,179,6],[179,7,179,10],[179,11,179,13],[179,14,179,15],[179,16,179,17],[177,28,177,33],[178,1,178,2],[178,3,178,6],[178,7,178,10],[178,11,178,13],[178,14,178,15],[178,16,178,17],[178,18,178,23],[178,24,178,27],[178,28,178,33],[176,24,176,27],[176,28,176,33],[177,1,177,2],[177,3,177,6],[177,7,177,10],[177,11,177,13],[177,14,177,15],[177,16,177,17],[177,18,177,23],[177,24,177,27],[175,18,175,23],[175,24,175,27],[175,28,175,33],[176,1,176,2],[176,3,176,6],[176,7,176,10],[176,11,176,13],[176,14,176,15],[176,16,176,17],[176,18,176,23],[175,1,175,2],[175,3,175,6],[175,7,175,10],[175,11,175,13],[175,14,175,15],[175,16,175,17],[173,11,173,17],[173,18,174,23],[173,24,174,27],[173,28,174,33],[174,11,174,15],[174,16,174,17],[170,23,170,33],[171,20,171,22],[171,23,171,33],[172,1,174,2],[172,3,174,6],[172,14,172,16],[172,17,172,19],[172,24,172,26],[172,27,172,29],[173,7,174,10],[170,1,171,5],[170,6,170,7],[170,9,170,10],[170,11,170,16],[170,17,170,19],[170,20,170,22],[166,1,166,33],[167,1,167,33],[168,25,168,26],[168,27,168,28],[168,29,168,30],[168,31,168,32],[156,28,156,33],[157,1,157,17],[157,18,157,23],[157,24,157,27],[157,28,157,33],[165,26,165,33],[155,24,155,27],[155,28,155,33],[156,1,156,2],[156,3,156,6],[156,7,156,10],[156,11,156,13],[156,14,156,15],[156,16,156,17],[156,18,156,23],[156,24,156,27],[154,18,154,23],[154,24,154,27],[154,28,154,33],[155,1,155,2],[155,3,155,6],[155,7,155,10],[155,11,155,13],[155,14,155,15],[155,16,155,17],[155,18,155,23],[154,1,154,2],[154,3,154,6],[154,7,154,10],[154,11,154,13],[154,14,154,15],[154,16,154,17],[152,28,152,33],[153,1,153,2],[153,3,153,6],[153,7,153,10],[153,11,153,13],[153,14,153,15],[153,16,153,17],[153,18,153,23],[153,24,153,27],[153,28,153,33],[151,24,151,27],[151,28,151,33],[152,1,152,2],[152,3,152,6],[152,7,152,10],[152,11,152,13],[152,14,152,15],[152,16,152,17],[152,18,152,23],[152,24,152,27],[150,18,150,23],[150,24,150,27],[150,28,150,33],[151,1,151,2],[151,3,151,6],[151,7,151,10],[151,11,151,13],[151,14,151,15],[151,16,151,17],[151,18,151,23],[150,1,150,2],[150,3,150,6],[150,7,150,10],[150,11,150,13],[150,14,150,15],[150,16,150,17],[148,28,148,33],[149,1,149,2],[149,3,149,6],[149,7,149,10],[149,11,149,13],[149,14,149,15],[149,16,149,17],[149,18,149,23],[149,24,149,27],[149,28,149,33],[147,24,147,27],[147,28,147,33],[148,1,148,2],[148,3,148,6],[148,7,148,10],[148,11,148,13],[148,14,148,15],[148,16,148,17],[148,18,148,23],[148,24,148,27],[146,18,146,23],[146,24,146,27],[146,28,146,33],[147,1,147,2],[147,3,147,6],[147,7,147,10],[147,11,147,13],[147,14,147,15],[147,16,147,17],[147,18,147,23],[146,1,146,2],[146,3,146,6],[146,7,146,10],[146,11,146,13],[146,14,146,15],[146,16,146,17],[144,28,144,33],[145,1,145,2],[145,3,145,6],[145,7,145,10],[145,11,145,13],[145,14,145,15],[145,16,145,17],[145,18,145,23],[145,24,145,27],[145,28,145,33],[143,24,143,27],[143,28,143,33],[144,1,144,2],[144,3,144,6],[144,7,144,10],[144,11,144,13],[144,14,144,15],[144,16,144,17],[144,18,144,23],[144,24,144,27],[142,18,142,23],[142,24,142,27],[142,28,142,33],[143,1,143,2],[143,3,143,6],[143,7,143,10],[143,11,143,13],[143,14,143,15],[143,16,143,17],[143,18,143,23],[142,1,142,2],[142,3,142,6],[142,7,142,10],[142,11,142,13],[142,14,142,15],[142,16,142,17],[140,11,140,17],[140,18,141,23],[140,24,141,27],[140,28,141,33],[141,11,141,15],[141,16,141,17],[137,23,137,33],[138,20,138,22],[138,23,138,33],[139,1,141,2],[139,3,141,6],[139,14,139,16],[139,17,139,19],[139,24,139,26],[139,27,139,29],[140,7,141,10],[137,1,138,5],[137,6,137,7],[137,9,137,10],[137,11,137,16],[137,17,137,19]],"merged_total":1680,"flags":["merged_cut"]}
[null,"【島根局版】",null,null,null,null,null,null,null,null,null,null,null,null,null,null,null,null,null,null,null,null,null,null,null,null,"一人親方団体控"]
[null,"第２種特別加入保険料申告内訳名簿"]
[null,"（一人親方等）"]
[null,null,null,null,null,null,null,null,null,null,null,null,null,null,null,null,null,null,null,null,null,null,null,null,"（",{"$f":"IF(COUNTA(B11:C25)>0,1,0) + IF(COUNTA(B44:C58)>0,1,0)+ IF(COUNTA(B77:C91)>0,1,0)+ IF(COUNTA(B110:C124)>0,1,0)+ IF(COUNTA(B143:C157)>0,1,0)+ IF(COUNTA(B176:C190)>0,1,0)+ IF(COUNTA(B209:C223)>0,1,0)+ IF(COUNTA(B242:C256)>0,1,0)+ IF(COUNTA(B275:C289)>0,1,0)+ IF(COUNTA(B308:C322)>0,1,0)","v":1},null,"枚のうち",null,1,null,"枚目",null,"）"]
[]
[null,"労働保険\n番　　　号",null,null,null,null,"府県",null,"所掌","管轄",null,"基幹番号",null,null,null,null,null,"枝番号",null,null,"事業場の\n所在地",null,null,"松江市向島町134-10　松江地方合同庁舎５階"]
[null,null,null,null,null,null,"3","2","×","0","1","×","×","×","×","×","×","×","×","×","事業場の\n名称",null,null,"労働保険事務組合　島根労働局"]
[null,"①\n整理\n番号",null,"②\n氏名",null,null,null,null,null,null,null,null,null,null,"令 和",null,null,6,null,null,null,null,null,"年 度 確 定 ","令 和",null,null,7,null,null,null,null,null,"年 度 概 算 "]
[null,null,null,null,null,null,null,"③　\n給付基礎日額",null,null,null,"④年度中途加入・脱退",null,null,null,null,null,null,"⑤\n保険料算定基礎額",null,null,null,null,null,"⑥\n給付基礎日額",null,null,null,"⑦\n保険料算定基礎額"]
[null,null,null,null,null,null,null,null,null,null,null,"加入・脱退年月日",null,null,null,null,"加入月数"]
[null,304,null,"島労　太郎",null,null,null,3500,null,null,null,"2025-04-01",null,null,"加入",null,12,null,{"$f":"IFERROR(INDEX(早見表!$B$6:$S$19,MATCH(Q11,早見表!$B$6:$B$19,0),MATCH(H11,早見表!$B$6:$S$6,0)),0)","v":1277500},null,null,null,null,null,3500,null,null,null,{"$f":"IFERROR(INDEX(早見表!$B$6:$S$8,MATCH(12,早見表!$B$6:$B$8,0),MATCH(Y11,早見表!$B$6:$S$6,0)),0)","v":1277500}]
[null,305,null,"島局　花子",null,null,null,10000,null,null,null,null,null,null,null,null,12,null,{"$f":"IFERROR(INDEX(早見表!$B$6:$S$19,MATCH(Q12,早見表!$B$6:$B$19,0),MATCH(H12,早見表!$B$6:$S$6,0)),0)","v":3650000},null,null,null,null,null,10000,null,null,null,{"$f":"IFERROR(INDEX(早見表!$B$6:$S$8,MATCH(12,早見表!$B$6:$B$8,0),MATCH(Y12,早見表!$B$6:$S$6,0)),0)","v":3650000}]
[null,null,null,null,null,null,null,null,null,null,null,null,null,null,null,null,null,null,{"$f":"IFERROR(INDEX(早見表!$B$6:$S$19,MATCH(Q13,早見表!$B$6:$B$19,0),MATCH(H13,早見表!$B$6:$S$6,0)),0)","v":0},null,null,null,null,null,null,null,null,null,{"$f":"IFERROR(INDEX(早見表!$B$6:$S$8,MATCH(12,早見表!$B$6:$B$8,0),MATCH(Y13,早見表!$B$6:$S$6,0)),0)","v":0}]
[null,null,null,null,null,null,null,null,null,null,null,null,null,null,null,null,null,null,{"$f":"IFERROR(INDEX(早見表!$B$6:$S$19,MATCH(Q14,早見表!$B$6:$B$19,0),MATCH(H14,早見表!$B$6:$S$6,0)),0)","v":0},null,null,null,null,null,null,null,null,null,{"$f":"IFERROR(INDEX(早見表!$B$6:$S$8,MATCH(12,早見表!$B$6:$B$8,0),MATCH(Y14,早見表!$B$6:$S$6,0)),0)","v":0}]
[null,null,null,null,null,null,null,null,null,null,null,null,null,null,null,null,null,null,{"$f":"IFERROR(INDEX(早見表!$B$6:$S$19,MATCH(Q15,早見表!$B$6:$B$19,0),MATCH(H15,早見表!$B$6:$S$6,0)),0)","v":0},null,null,null,null,null,null,null,null,null,{"$f":"IFERROR(INDEX(早見表!$B$6:$S$8,MATCH(12,早見表!$B$6:$B$8,0),MATCH(Y15,早見表!$B$6:$S$6,0)),0)","v":0}]
[null,null,null,null,null,null,null,null,null,null,null,null,null,null,null,null,null,null,{"$f":"IFERROR(INDEX(早見表!$B$6:$S$19,MATCH(Q16,早見表!$B$6:$B$19,0),MATCH(H16,早見表!$B$6:$S$6,0)),0)","v":0},null,null,null,null,null,null,null,null,null,{"$f":"IFERROR(INDEX(早見表!$B$6:$S$8,MATCH(12,早見表!$B$6:$B$8,0),MATCH(Y16,早見表!$B$6:$S$6,0)),0)","v":0}]
[null,null,null,null,null,null,null,null,null,null,null,null,null,null,null,null,null,null,{"$f":"IFERROR(INDEX(早見表!$B$6:$S$19,MATCH(Q17,早見表!$B$6:$B$19,0),MATCH(H17,早見表!$B$6:$S$6,0)),0)","v":0},null,null,null,null,null,null,null,null,null,{"$f":"IFERROR(INDEX(早見表!$B$6:$S$8,MATCH(12,早見表!$B$6:$B$8,0),MATCH(Y17,早見表!$B$6:$S$6,0)),0)","v":0}]
[null,null,null,null,null,null,null,null,null,null,null,null,null,null,null,null,null,null,{"$f":"IFERROR(INDEX(早見表!$B$6:$S$19,MATCH(Q18,早見表!$B$6:$B$19,0),MATCH(H18,早見表!$B$6:$S$6,0)),0)","v":0},null,null,null,null,null,null,null,null,null,{"$f":"IFERROR(INDEX(早見表!$B$6:$S$8,MATCH(12,早見表!$B$6:$B$8,0),MATCH(Y18,早見表!$B$6:$S$6,0)),0)","v":0}]
[null,null,null,null,null,null,null,null,null,null,null,null,null,null,null,null,null,null,{"$f":"IFERROR(INDEX(早見表!$B$6:$S$19,MATCH(Q19,早見表!$B$6:$B$19,0),MATCH(H19,早見表!$B$6:$S$6,0)),0)","v":0},null,null,null,null,null,null,null,null,null,{"$f":"IFERROR(INDEX(早見表!$B$6:$S$8,MATCH(12,早見表!$B$6:$B$8,0),MATCH(Y19,早見表!$B$6:$S$6,0)),0)","v":0}]
[null,null,null,null,null,null,null,null,null,null,null,null,null,null,null,null,null,null,{"$f":"IFERROR(INDEX(早見表!$B$6:$S$19,MATCH(Q20,早見表!$B$6:$B$19,0),MATCH(H20,早見表!$B$6:$S$6,0)),0)","v":0},null,null,null,null,null,null,null,null,null,{"$f":"IFERROR(INDEX(早見表!$B$6:$S$8,MATCH(12,早見表!$B$6:$B$8,0),MATCH(Y20,早見表!$B$6:$S$6,0)),0)","v":0}]
[null,null,null,null,null,null,null,null,null,null,null,null,null,null,null,null,null,null,{"$f":"IFERROR(INDEX(早見表!$B$6:$S$19,MATCH(Q21,早見表!$B$6:$B$19,0),MATCH(H21,早見表!$B$6:$S$6,0)),0)","v":0},null,null,null,null,null,null,null,null,null,{"$f":"IFERROR(INDEX(早見表!$B$6:$S$8,MATCH(12,早見表!$B$6:$B$8,0),MATCH(Y21,早見表!$B$6:$S$6,0)),0)","v":0}]
[null,null,null,null,null,null,null,null,null,null,null,null,null,null,null,null,null,null,{"$f":"IFERROR(INDEX(早見表!$B$6:$S$19,MATCH(Q22,早見表!$B$6:$B$19,0),MATCH(H22,早見表!$B$6:$S$6,0)),0)","v":0},null,null,null,null,null,null,null,null,null,{"$f":"IFERROR(INDEX(早見表!$B$6:$S$8,MATCH(12,早見表!$B$6:$B$8,0),MATCH(Y22,早見表!$B$6:$S$6,0)),0)","v":0}]
[null,null,null,null,null,null,null,null,null,null,null,null,null,null,null,null,null,null,{"$f":"IFERROR(INDEX(早見表!$B$6:$S$19,MATCH(Q23,早見表!$B$6:$B$19,0),MATCH(H23,早見表!$B$6:$S$6,0)),0)","v":0},null,null,null,null,null,null,null,null,null,{"$f":"IFERROR(INDEX(早見表!$B$6:$S$8,MATCH(12,早見表!$B$6:$B$8,0),MATCH(Y23,早見表!$B$6:$S$6,0)),0)","v":0}]
[null,null,null,null,null,null,null,null,null,null,null,null,null,null,null,null,null,null,{"$f":"IFERROR(INDEX(早見表!$B$6:$S$19,MATCH(Q24,早見表!$B$6:$B$19,0),MATCH(H24,早見表!$B$6:$S$6,0)),0)","v":0},null,null,null,null,null,null,null,null,null,{"$f":"IFERROR(INDEX(早見表!$B$6:$S$8,MATCH(12,早見表!$B$6:$B$8,0),MATCH(Y24,早見表!$B$6:$S$6,0)),0)","v":0}]
[null,null,null,null,null,null,null,null,null,null,null,null,null,null,null,null,null,null,{"$f":"IFERROR(INDEX(早見表!$B$6:$S$19,MATCH(Q25,早見表!$B$6:$B$19,0),MATCH(H25,早見表!$B$6:$S$6,0)),0)","v":0},null,null,null,null,null,null,null,null,null,{"$f":"IFERROR(INDEX(早見表!$B$6:$S$8,MATCH(12,早見表!$B$6:$B$8,0),MATCH(Y25,早見表!$B$6:$S$6,0)),0)","v":0}]
[null,null,null,null,null,null,null,null,null,null,null,null,null,null,null,null,null,null,{"$f":"SUM(S11:X25)","v":4927500},null,null,null,null,null,null,null,null,null,{"$f":"SUM(AC11:AH25)","v":4927500}]
[]
[null,"（注）"]
[null,null,"１）　④欄は月割の対象となる方のみ記入して下さい。"]
[null,null,"２）　月割の対象となる場合の⑤保険料算定基礎額の算定方法"]
[null,null,"２）　月割の対象となる場合の③（給付基礎日額×365÷12）（円未満を切り上げてから）×加入月数"]
[]
[]
[null,"【島根局版】",null,null,null,null,null,null,null,null,null,null,null,null,null,null,null,null,null,null,null,null,null,null,null,null,"一人親方団体控"]
[null,"第２種特別加入保険料申告内訳名簿"]
[null,"（一人親方等）"]
[null,null,null,null,null,null,null,null,null,null,null,null,null,null,null,null,null,null,null,null,null,null,null,null,"（",{"$f":"Z4","v":1},null,"枚のうち",null,2,null,"枚目",null,"）"]
[]
[null,"労働保険\n番　　　号",null,null,null,null,"府県",null,"所掌","管轄",null,"基幹番号",null,null,null,null,null,"枝番号",null,null,"事業場の\n所在地",null,null,{"$f":"IF(X6=\"\",\"\",X6)","v":"松江市向島町134-10　松江地方合同庁舎５階"},"","","","","","","","","",""]
[null,null,null,null,null,null,"3","2",{"$f":"IF(I7=\"\",\"\",I7)","v":"×"},{"$f":"IF(J7=\"\",\"\",J7)","v":"0"},"1","×","×","×","×","×","×","×","×","×","事業場の\n名称",null,null,"労働保険事務組合　島根労働局","","","","","","","","","",""]
[null,"①\n整理\n番号",null,"②\n氏名",null,null,null,null,null,null,null,null,null,null,"令 和",null,null,6,"","",null,null,null,"年 度 確 定 ","令 和",null,null,7,"","",null,null,null,"年 度 概 算 "]
[null,null,null,null,null,null,null,"③　\n給付基礎日額",null,null,null,"④年度中途加入・脱退",null,null,null,null,null,null,"⑤\n保険料算定基礎額",null,null,null,null,null,"⑥\n給付基礎日額",null,null,null,"⑦\n保険料算定基礎額"]
[null,null,null,null,null,null,null,null,null,null,null,"加入・脱退年月日",null,null,null,null,"加入月数"]
[null,null,null,null,null,null,null,null,null,null,null,null,null,null,null,null,null,null,{"$f":"IFERROR(INDEX(早見表!$B$6:$S$19,MATCH(Q44,早見表!$B$6:$B$19,0),MATCH(H44,早見表!$B$6:$S$6,0)),0)","v":0},null,null,null,null,null,null,null,null,null,{"$f":"IFERROR(INDEX(早見表!$B$6:$S$8,MATCH(12,早見表!$B$6:$B$8,0),MATCH(Y44,早見表!$B$6:$S$6,0)),0)","v":0}]
[null,null,null,null,null,null,null,null,null,null,null,null,null,null,null,null,null,null,{"$f":"IFERROR(INDEX(早見表!$B$6:$S$19,MATCH(Q45,早見表!$B$6:$B$19,0),MATCH(H45,早見表!$B$6:$S$6,0)),0)","v":0},null,null,null,null,null,null,null,null,null,{"$f":"IFERROR(INDEX(早見表!$B$6:$S$8,MATCH(12,早見表!$B$6:$B$8,0),MATCH(Y45,早見表!$B$6:$S$6,0)),0)","v":0}]
[null,null,null,null,null,null,null,null,null,null,null,null,null,null,null,null,null,null,{"$f":"IFERROR(INDEX(早見表!$B$6:$S$19,MATCH(Q46,早見表!$B$6:$B$19,0),MATCH(H46,早見表!$B$6:$S$6,0)),0)","v":0},null,null,null,null,null,null,null,null,null,{"$f":"IFERROR(INDEX(早見表!$B$6:$S$8,MATCH(12,早見表!$B$6:$B$8,0),MATCH(Y46,早見表!$B$6:$S$6,0)),0)","v":0}]
[null,null,null,null,null,null,null,null,null,null,null,null,null,null,null,null,null,null,{"$f":"IFERROR(INDEX(早見表!$B$6:$S$19,MATCH(Q47,早見表!$B$6:$B$19,0),MATCH(H47,早見表!$B$6:$S$6,0)),0)","v":0},null,null,null,null,null,null,null,null,null,{"$f":"IFERROR(INDEX(早見表!$B$6:$S$8,MATCH(12,早見表!$B$6:$B$8,0),MATCH(Y47,早見表!$B$6:$S$6,0)),0)","v":0}]
[null,null,null,null,null,null,null,null,null,null,null,null,null,null,null,null,null,null,{"$f":"IFERROR(INDEX(早見表!$B$6:$S$19,MATCH(Q48,早見表!$B$6:$B$19,0),MATCH(H48,早見表!$B$6:$S$6,0)),0)","v":0},null,null,null,null,null,null,null,null,null,{"$f":"IFERROR(INDEX(早見表!$B$6:$S$8,MATCH(12,早見表!$B$6:$B$8,0),MATCH(Y48,早見表!$B$6:$S$6,0)),0)","v":0}]
[null,null,null,null,null,null,null,null,null,null,null,null,null,null,null,null,null,null,{"$f":"IFERROR(INDEX(早見表!$B$6:$S$19,MATCH(Q49,早見表!$B$6:$B$19,0),MATCH(H49,早見表!$B$6:$S$6,0)),0)","v":0},null,null,null,null,null,null,null,null,null,{"$f":"IFERROR(INDEX(早見表!$B$6:$S$8,MATCH(12,早見表!$B$6:$B$8,0),MATCH(Y49,早見表!$B$6:$S$6,0)),0)","v":0}]
[null,null,null,null,null,null,null,null,null,null,null,null,null,null,null,null,null,null,{"$f":"IFERROR(INDEX(早見表!$B$6:$S$19,MATCH(Q50,早見表!$B$6:$B$19,0),MATCH(H50,早見表!$B$6:$S$6,0)),0)","v":0},null,null,null,null,null,null,null,null,null,{"$f":"IFERROR(INDEX(早見表!$B$6:$S$8,MATCH(12,早見表!$B$6:$B$8,0),MATCH(Y50,早見表!$B$6:$S$6,0)),0)","v":0}]
[null,null,null,null,null,null,null,null,null,null,null,null,null,null,null,null,null,null,{"$f":"IFERROR(INDEX(早見表!$B$6:$S$19,MATCH(Q51,早見表!$B$6:$B$19,0),MATCH(H51,早見表!$B$6:$S$6,0)),0)","v":0},null,null,null,null,null,null,null,null,null,{"$f":"IFERROR(INDEX(早見表!$B$6:$S$8,MATCH(12,早見表!$B$6:$B$8,0),MATCH(Y51,早見表!$B$6:$S$6,0)),0)","v":0}]
[null,null,null,null,null,null,null,null,null,null,null,null,null,null,null,null,null,null,{"$f":"IFERROR(INDEX(早見表!$B$6:$S$19,MATCH(Q52,早見表!$B$6:$B$19,0),MATCH(H52,早見表!$B$6:$S$6,0)),0)","v":0},null,null,null,null,null,null,null,null,null,{"$f":"IFERROR(INDEX(早見表!$B$6:$S$8,MATCH(12,早見表!$B$6:$B$8,0),MATCH(Y52,早見表!$B$6:$S$6,0)),0)","v":0}]
[null,null,null,null,null,null,null,null,null,null,null,null,null,null,null,null,null,null,{"$f":"IFERROR(INDEX(早見表!$B$6:$S$19,MATCH(Q53,早見表!$B$6:$B$19,0),MATCH(H53,早見表!$B$6:$S$6,0)),0)","v":0},null,null,null,null,null,null,null,null,null,{"$f":"IFERROR(INDEX(早見表!$B$6:$S$8,MATCH(12,早見表!$B$6:$B$8,0),MATCH(Y53,早見表!$B$6:$S$6,0)),0)","v":0}]
[null,null,null,null,null,null,null,null,null,null,null,null,null,null,null,null,null,null,{"$f":"IFERROR(INDEX(早見表!$B$6:$S$19,MATCH(Q54,早見表!$B$6:$B$19,0),MATCH(H54,早見表!$B$6:$S$6,0)),0)","v":0},null,null,null,null,null,null,null,null,null,{"$f":"IFERROR(INDEX(早見表!$B$6:$S$8,MATCH(12,早見表!$B$6:$B$8,0),MATCH(Y54,早見表!$B$6:$S$6,0)),0)","v":0}]
[null,null,null,null,null,null,null,null,null,null,null,null,null,null,null,null,null,null,{"$f":"IFERROR(INDEX(早見表!$B$6:$S$19,MATCH(Q55,早見表!$B$6:$B$19,0),MATCH(H55,早見表!$B$6:$S$6,0)),0)","v":0},null,null,null,null,null,null,null,null,null,{"$f":"IFERROR(INDEX(早見表!$B$6:$S$8,MATCH(12,早見表!$B$6:$B$8,0),MATCH(Y55,早見表!$B$6:$S$6,0)),0)","v":0}]
[null,null,null,null,null,null,null,null,null,null,null,null,null,null,null,null,null,null,{"$f":"IFERROR(INDEX(早見表!$B$6:$S$19,MATCH(Q56,早見表!$B$6:$B$19,0),MATCH(H56,早見表!$B$6:$S$6,0)),0)","v":0},null,null,null,null,null,null,null,null,null,{"$f":"IFERROR(INDEX(早見表!$B$6:$S$8,MATCH(12,早見表!$B$6:$B$8,0),MATCH(Y56,早見表!$B$6:$S$6,0)),0)","v":0}]
[null,null,null,null,null,null,null,null,null,null,null,null,null,null,null,null,null,null,{"$f":"IFERROR(INDEX(早見表!$B$6:$S$19,MATCH(Q57,早見表!$B$6:$B$19,0),MATCH(H57,早見表!$B$6:$S$6,0)),0)","v":0},null,null,null,null,null,null,null,null,null,{"$f":"IFERROR(INDEX(早見表!$B$6:$S$8,MATCH(12,早見表!$B$6:$B$8,0),MATCH(Y57,早見表!$B$6:$S$6,0)),0)","v":0}]
[null,null,null,null,null,null,null,null,null,null,null,null,null,null,null,null,null,null,{"$f":"IFERROR(INDEX(早見表!$B$6:$S$19,MATCH(Q58,早見表!$B$6:$B$19,0),MATCH(H58,早見表!$B$6:$S$6,0)),0)","v":0},null,null,null,null,null,null,null,null,null,{"$f":"IFERROR(INDEX(早見表!$B$6:$S$8,MATCH(12,早見表!$B$6:$B$8,0),MATCH(Y58,早見表!$B$6:$S$6,0)),0)","v":0}]
[null,null,null,null,null,null,null,null,null,null,null,null,null,null,null,null,null,null,{"$f":"SUM(S44:X58)","v":0},null,null,null,null,null,null,null,null,null,{"$f":"SUM(AC44:AH58)","v":0}]
[]
[null,"（注）"]
[null,null,"１）　④欄は月割の対象となる方のみ記入して下さい。"]
[null,null,"２）　月割の対象となる場合の⑤保険料算定基礎額の算定方法"]
[null,null,"２）　月割の対象となる場合の③（給付基礎日額×365÷12）（円未満を切り上げてから）×加入月数"]
[]
[]
[null,"【島根局版】",null,null,null,null,null,null,null,null,null,null,null,null,null,null,null,null,null,null,null,null,null,null,null,null,"一人親方団体控"]
[null,"第２種特別加入保険料申告内訳名簿"]
[null,"（一人親方等）"]
[null,null,null,null,null,null,null,null,null,null,null,null,null,null,null,null,null,null,null,null,null,null,null,null,"（",{"$f":"Z37","v":1},null,"枚のうち",null,3,null,"枚目",null,"）"]
[]
[null,"労働保険\n番　　　号",null,null,null,null,"府県",null,"所掌","管轄",null,"基幹番号",null,null,null,null,null,"枝番号",null,null,"事業場の\n所在地",null,null,{"$f":"IF(X39=\"\",\"\",X39)","v":"松江市向島町134-10　松江地方合同庁舎５階"},"","","","","","","","","",""]
[null,null,null,null,null,null,"3","2",{"$f":"IF(I40=\"\",\"\",I40)","v":"×"},{"$f":"IF(J40=\"\",\"\",J40)","v":"0"},"1","×","×","×","×","×","×","×","×","×","事業場の\n名称",null,null,"労働保険事務組合　島根労働局","","","","","","","","","",""]
[null,"①\n整理\n番号",null,"②\n氏名",null,null,null,null,null,null,null,null,null,null,"令 和",null,null,6,"","",null,null,null,"年 度 確 定 ","令 和",null,null,7,"","",null,null,null,"年 度 概 算 "]
[null,null,null,null,null,null,null,"③　\n給付基礎日額",null,null,null,"④年度中途加入・脱退",null,null,null,null,null,null,"⑤\n保険料算定基礎額",null,null,null,null,null,"⑥\n給付基礎日額",null,null,null,"⑦\n保険料算定基礎額"]
[null,null,null,null,null,null,null,null,null,null,null,"加入・脱退年月日",null,null,null,null,"加入月数"]
[null,null,null,null,null,null,null,null,null,null,null,null,null,null,null,null,null,null,{"$f":"IFERROR(INDEX(早見表!$B$6:$S$19,MATCH(Q77,早見表!$B$6:$B$19,0),MATCH(H77,早見表!$B$6:$S$6,0)),0)","v":0},null,null,null,null,null,null,null,null,null,{"$f":"IFERROR(INDEX(早見表!$B$6:$S$8,MATCH(12,早見表!$B$6:$B$8,0),MATCH(Y77,早見表!$B$6:$S$6,0)),0)","v":0}]
[null,null,null,null,null,null,null,null,null,null,null,null,null,null,null,null,null,null,{"$f":"IFERROR(INDEX(早見表!$B$6:$S$19,MATCH(Q78,早見表!$B$6:$B$19,0),MATCH(H78,早見表!$B$6:$S$6,0)),0)","v":0},null,null,null,null,null,null,null,null,null,{"$f":"IFERROR(INDEX(早見表!$B$6:$S$8,MATCH(12,早見表!$B$6:$B$8,0),MATCH(Y78,早見表!$B$6:$S$6,0)),0)","v":0}]
[null,null,null,null,null,null,null,null,null,null,null,null,null,null,null,null,null,null,{"$f":"IFERROR(INDEX(早見表!$B$6:$S$19,MATCH(Q79,早見表!$B$6:$B$19,0),MATCH(H79,早見表!$B$6:$S$6,0)),0)","v":0},null,null,null,null,null,null,null,null,null,{"$f":"IFERROR(INDEX(早見表!$B$6:$S$8,MATCH(12,早見表!$B$6:$B$8,0),MATCH(Y79,早見表!$B$6:$S$6,0)),0)","v":0}]
[null,null,null,null,null,null,null,null,null,null,null,null,null,null,null,null,null,null,{"$f":"IFERROR(INDEX(早見表!$B$6:$S$19,MATCH(Q80,早見表!$B$6:$B$19,0),MATCH(H80,早見表!$B$6:$S$6,0)),0)","v":0},null,null,null,null,null,null,null,null,null,{"$f":"IFERROR(INDEX(早見表!$B$6:$S$8,MATCH(12,早見表!$B$6:$B$8,0),MATCH(Y80,早見表!$B$6:$S$6,0)),0)","v":0}]
[null,null,null,null,null,null,null,null,null,null,null,null,null,null,null,null,null,null,{"$f":"IFERROR(INDEX(早見表!$B$6:$S$19,MATCH(Q81,早見表!$B$6:$B$19,0),MATCH(H81,早見表!$B$6:$S$6,0)),0)","v":0},null,null,null,null,null,null,null,null,null,{"$f":"IFERROR(INDEX(早見表!$B$6:$S$8,MATCH(12,早見表!$B$6:$B$8,0),MATCH(Y81,早見表!$B$6:$S$6,0)),0)","v":0}]
[null,null,null,null,null,null,null,null,null,null,null,null,null,null,null,null,null,null,{"$f":"IFERROR(INDEX(早見表!$B$6:$S$19,MATCH(Q82,早見表!$B$6:$B$19,0),MATCH(H82,早見表!$B$6:$S$6,0)),0)","v":0},null,null,null,null,null,null,null,null,null,{"$f":"IFERROR(INDEX(早見表!$B$6:$S$8,MATCH(12,早見表!$B$6:$B$8,0),MATCH(Y82,早見表!$B$6:$S$6,0)),0)","v":0}]
[null,null,null,null,null,null,null,null,null,null,null,null,null,null,null,null,null,null,{"$f":"IFERROR(INDEX(早見表!$B$6:$S$19,MATCH(Q83,早見表!$B$6:$B$19,0),MATCH(H83,早見表!$B$6:$S$6,0)),0)","v":0},null,null,null,null,null,null,null,null,null,{"$f":"IFERROR(INDEX(早見表!$B$6:$S$8,MATCH(12,早見表!$B$6:$B$8,0),MATCH(Y83,早見表!$B$6:$S$6,0)),0)","v":0}]
[null,null,null,null,null,null,null,null,null,null,null,null,null,null,null,null,null,null,{"$f":"IFERROR(INDEX(早見表!$B$6:$S$19,MATCH(Q84,早見表!$B$6:$B$19,0),MATCH(H84,早見表!$B$6:$S$6,0)),0)","v":0},null,null,null,null,null,null,null,null,null,{"$f":"IFERROR(INDEX(早見表!$B$6:$S$8,MATCH(12,早見表!$B$6:$B$8,0),MATCH(Y84,早見表!$B$6:$S$6,0)),0)","v":0}]
[null,null,null,null,null,null,null,null,null,null,null,null,null,null,null,null,null,null,{"$f":"IFERROR(INDEX(早見表!$B$6:$S$19,MATCH(Q85,早見表!$B$6:$B$19,0),MATCH(H85,早見表!$B$6:$S$6,0)),0)","v":0},null,null,null,null,null,null,null,null,null,{"$f":"IFERROR(INDEX(早見表!$B$6:$S$8,MATCH(12,早見表!$B$6:$B$8,0),MATCH(Y85,早見表!$B$6:$S$6,0)),0)","v":0}]
[null,null,null,null,null,null,null,null,null,null,null,null,null,null,null,null,null,null,{"$f":"IFERROR(INDEX(早見表!$B$6:$S$19,MATCH(Q86,早見表!$B$6:$B$19,0),MATCH(H86,早見表!$B$6:$S$6,0)),0)","v":0},null,null,null,null,null,null,null,null,null,{"$f":"IFERROR(INDEX(早見表!$B$6:$S$8,MATCH(12,早見表!$B$6:$B$8,0),MATCH(Y86,早見表!$B$6:$S$6,0)),0)","v":0}]
[null,null,null,null,null,null,null,null,null,null,null,null,null,null,null,null,null,null,{"$f":"IFERROR(INDEX(早見表!$B$6:$S$19,MATCH(Q87,早見表!$B$6:$B$19,0),MATCH(H87,早見表!$B$6:$S$6,0)),0)","v":0},null,null,null,null,null,null,null,null,null,{"$f":"IFERROR(INDEX(早見表!$B$6:$S$8,MATCH(12,早見表!$B$6:$B$8,0),MATCH(Y87,早見表!$B$6:$S$6,0)),0)","v":0}]
[null,null,null,null,null,null,null,null,null,null,null,null,null,null,null,null,null,null,{"$f":"IFERROR(INDEX(早見表!$B$6:$S$19,MATCH(Q88,早見表!$B$6:$B$19,0),MATCH(H88,早見表!$B$6:$S$6,0)),0)","v":0},null,null,null,null,null,null,null,null,null,{"$f":"IFERROR(INDEX(早見表!$B$6:$S$8,MATCH(12,早見表!$B$6:$B$8,0),MATCH(Y88,早見表!$B$6:$S$6,0)),0)","v":0}]
[null,null,null,null,null,null,null,null,null,null,null,null,null,null,null,null,null,null,{"$f":"IFERROR(INDEX(早見表!$B$6:$S$19,MATCH(Q89,早見表!$B$6:$B$19,0),MATCH(H89,早見表!$B$6:$S$6,0)),0)","v":0},null,null,null,null,null,null,null,null,null,{"$f":"IFERROR(INDEX(早見表!$B$6:$S$8,MATCH(12,早見表!$B$6:$B$8,0),MATCH(Y89,早見表!$B$6:$S$6,0)),0)","v":0}]
[null,null,null,null,null,null,null,null,null,null,null,null,null,null,null,null,null,null,{"$f":"IFERROR(INDEX(早見表!$B$6:$S$19,MATCH(Q90,早見表!$B$6:$B$19,0),MATCH(H90,早見表!$B$6:$S$6,0)),0)","v":0},null,null,null,null,null,null,null,null,null,{"$f":"IFERROR(INDEX(早見表!$B$6:$S$8,MATCH(12,早見表!$B$6:$B$8,0),MATCH(Y90,早見表!$B$6:$S$6,0)),0)","v":0}]
[null,null,null,null,null,null,null,null,null,null,null,null,null,null,null,null,null,null,{"$f":"IFERROR(INDEX(早見表!$B$6:$S$19,MATCH(Q91,早見表!$B$6:$B$19,0),MATCH(H91,早見表!$B$6:$S$6,0)),0)","v":0},null,null,null,null,null,null,null,null,null,{"$f":"IFERROR(INDEX(早見表!$B$6:$S$8,MATCH(12,早見表!$B$6:$B$8,0),MATCH(Y91,早見表!$B$6:$S$6,0)),0)","v":0}]
[null,null,null,null,null,null,null,null,null,null,null,null,null,null,null,null,null,null,{"$f":"SUM(S77:X91)","v":0},null,null,null,null,null,null,null,null,null,{"$f":"SUM(AC77:AH91)","v":0}]
[]
[null,"（注）"]
[null,null,"１）　④欄は月割の対象となる方のみ記入して下さい。"]
[null,null,"２）　月割の対象となる場合の⑤保険料算定基礎額の算定方法"]
[null,null,"２）　月割の対象となる場合の③（給付基礎日額×365÷12）（円未満を切り上げてから）×加入月数"]
[]
[]
[null,"【島根局版】",null,null,null,null,null,null,null,null,null,null,null,null,null,null,null,null,null,null,null,null,null,null,null,null,"一人親方団体控"]
[null,"第２種特別加入保険料申告内訳名簿"]
[null,"（一人親方等）"]
[null,null,null,null,null,null,null,null,null,null,null,null,null,null,null,null,null,null,null,null,null,null,null,null,"（",{"$f":"Z70","v":1},null,"枚のうち",null,4,null,"枚目",null,"）"]
[]
[null,"労働保険\n番　　　号",null,null,null,null,"府県",null,"所掌","管轄",null,"基幹番号",null,null,null,null,null,"枝番号",null,null,"事業場の\n所在地",null,null,{"$f":"IF(X72=\"\",\"\",X72)","v":"松江市向島町134-10　松江地方合同庁舎５階"},"","","","","","","","","",""]
[null,null,null,null,null,null,"3","2",{"$f":"IF(I73=\"\",\"\",I73)","v":"×"},{"$f":"IF(J73=\"\",\"\",J73)","v":"0"},"1","×","×","×","×","×","×","×","×","×","事業場の\n名称",null,null,"労働保険事務組合　島根労働局","","","","","","","","","",""]
[null,"①\n整理\n番号",null,"②\n氏名",null,null,null,null,null,null,null,null,null,null,"令 和",null,null,6,"","",null,null,null,"年 度 確 定 ","令 和",null,null,7,"","",null,null,null,"年 度 概 算 "]
[null,null,null,null,null,null,null,"③　\n給付基礎日額",null,null,null,"④年度中途加入・脱退",null,null,null,null,null,null,"⑤\n保険料算定基礎額",null,null,null,null,null,"⑥\n給付基礎日額",null,null,null,"⑦\n保険料算定基礎額"]
[null,null,null,null,null,null,null,null,null,null,null,"加入・脱退年月日",null,null,null,null,"加入月数"]
[null,null,null,null,null,null,null,null,null,null,null,null,null,null,null,null,null,null,{"$f":"IFERROR(INDEX(早見表!$B$6:$S$19,MATCH(Q110,早見表!$B$6:$B$19,0),MATCH(H110,早見表!$B$6:$S$6,0)),0)","v":0},null,null,null,null,null,null,null,null,null,{"$f":"IFERROR(INDEX(早見表!$B$6:$S$8,MATCH(12,早見表!$B$6:$B$8,0),MATCH(Y110,早見表!$B$6:$S$6,0)),0)","v":0}]
[null,null,null,null,null,null,null,null,null,null,null,null,null,null,null,null,null,null,{"$f":"IFERROR(INDEX(早見表!$B$6:$S$19,MATCH(Q111,早見表!$B$6:$B$19,0),MATCH(H111,早見表!$B$6:$S$6,0)),0)","v":0},null,null,null,null,null,null,null,null,null,{"$f":"IFERROR(INDEX(早見表!$B$6:$S$8,MATCH(12,早見表!$B$6:$B$8,0),MATCH(Y111,早見表!$B$6:$S$6,0)),0)","v":0}]
[null,null,null,null,null,null,null,null,null,null,null,null,null,null,null,null,null,null,{"$f":"IFERROR(INDEX(早見表!$B$6:$S$19,MATCH(Q112,早見表!$B$6:$B$19,0),MATCH(H112,早見表!$B$6:$S$6,0)),0)","v":0},null,null,null,null,null,null,null,null,null,{"$f":"IFERROR(INDEX(早見表!$B$6:$S$8,MATCH(12,早見表!$B$6:$B$8,0),MATCH(Y112,早見表!$B$6:$S$6,0)),0)","v":0}]
[null,null,null,null,null,null,null,null,null,null,null,null,null,null,null,null,null,null,{"$f":"IFERROR(INDEX(早見表!$B$6:$S$19,MATCH(Q113,早見表!$B$6:$B$19,0),MATCH(H113,早見表!$B$6:$S$6,0)),0)","v":0},null,null,null,null,null,null,null,null,null,{"$f":"IFERROR(INDEX(早見表!$B$6:$S$8,MATCH(12,早見表!$B$6:$B$8,0),MATCH(Y113,早見表!$B$6:$S$6,0)),0)","v":0}]
[null,null,null,null,null,null,null,null,null,null,null,null,null,null,null,null,null,null,{"$f":"IFERROR(INDEX(早見表!$B$6:$S$19,MATCH(Q114,早見表!$B$6:$B$19,0),MATCH(H114,早見表!$B$6:$S$6,0)),0)","v":0},null,null,null,null,null,null,null,null,null,{"$f":"IFERROR(INDEX(早見表!$B$6:$S$8,MATCH(12,早見表!$B$6:$B$8,0),MATCH(Y114,早見表!$B$6:$S$6,0)),0)","v":0}]
[null,null,null,null,null,null,null,null,null,null,null,null,null,null,null,null,null,null,{"$f":"IFERROR(INDEX(早見表!$B$6:$S$19,MATCH(Q115,早見表!$B$6:$B$19,0),MATCH(H115,早見表!$B$6:$S$6,0)),0)","v":0},null,null,null,null,null,null,null,null,null,{"$f":"IFERROR(INDEX(早見表!$B$6:$S$8,MATCH(12,早見表!$B$6:$B$8,0),MATCH(Y115,早見表!$B$6:$S$6,0)),0)","v":0}]
[null,null,null,null,null,null,null,null,null,null,null,null,null,null,null,null,null,null,{"$f":"IFERROR(INDEX(早見表!$B$6:$S$19,MATCH(Q116,早見表!$B$6:$B$19,0),MATCH(H116,早見表!$B$6:$S$6,0)),0)","v":0},null,null,null,null,null,null,null,null,null,{"$f":"IFERROR(INDEX(早見表!$B$6:$S$8,MATCH(12,早見表!$B$6:$B$8,0),MATCH(Y116,早見表!$B$6:$S$6,0)),0)","v":0}]
[null,null,null,null,null,null,null,null,null,null,null,null,null,null,null,null,null,null,{"$f":"IFERROR(INDEX(早見表!$B$6:$S$19,MATCH(Q117,早見表!$B$6:$B$19,0),MATCH(H117,早見表!$B$6:$S$6,0)),0)","v":0},null,null,null,null,null,null,null,null,null,{"$f":"IFERROR(INDEX(早見表!$B$6:$S$8,MATCH(12,早見表!$B$6:$B$8,0),MATCH(Y117,早見表!$B$6:$S$6,0)),0)","v":0}]
[null,null,null,null,null,null,null,null,null,null,null,null,null,null,null,null,null,null,{"$f":"IFERROR(INDEX(早見表!$B$6:$S$19,MATCH(Q118,早見表!$B$6:$B$19,0),MATCH(H118,早見表!$B$6:$S$6,0)),0)","v":0},null,null,null,null,null,null,null,null,null,{"$f":"IFERROR(INDEX(早見表!$B$6:$S$8,MATCH(12,早見表!$B$6:$B$8,0),MATCH(Y118,早見表!$B$6:$S$6,0)),0)","v":0}]
[null,null,null,null,null,null,null,null,null,null,null,null,null,null,null,null,null,null,{"$f":"IFERROR(INDEX(早見表!$B$6:$S$19,MATCH(Q119,早見表!$B$6:$B$19,0),MATCH(H119,早見表!$B$6:$S$6,0)),0)","v":0},null,null,null,null,null,null,null,null,null,{"$f":"IFERROR(INDEX(早見表!$B$6:$S$8,MATCH(12,早見表!$B$6:$B$8,0),MATCH(Y119,早見表!$B$6:$S$6,0)),0)","v":0}]
[null,null,null,null,null,null,null,null,null,null,null,null,null,null,null,null,null,null,{"$f":"IFERROR(INDEX(早見表!$B$6:$S$19,MATCH(Q120,早見表!$B$6:$B$19,0),MATCH(H120,早見表!$B$6:$S$6,0)),0)","v":0},null,null,null,null,null,null,null,null,null,{"$f":"IFERROR(INDEX(早見表!$B$6:$S$8,MATCH(12,早見表!$B$6:$B$8,0),MATCH(Y120,早見表!$B$6:$S$6,0)),0)","v":0}]
[null,null,null,null,null,null,null,null,null,null,null,null,null,null,null,null,null,null,{"$f":"IFERROR(INDEX(早見表!$B$6:$S$19,MATCH(Q121,早見表!$B$6:$B$19,0),MATCH(H121,早見表!$B$6:$S$6,0)),0)","v":0},null,null,null,null,null,null,null,null,null,{"$f":"IFERROR(INDEX(早見表!$B$6:$S$8,MATCH(12,早見表!$B$6:$B$8,0),MATCH(Y121,早見表!$B$6:$S$6,0)),0)","v":0}]
[null,null,null,null,null,null,null,null,null,null,null,null,null,null,null,null,null,null,{"$f":"IFERROR(INDEX(早見表!$B$6:$S$19,MATCH(Q122,早見表!$B$6:$B$19,0),MATCH(H122,早見表!$B$6:$S$6,0)),0)","v":0},null,null,null,null,null,null,null,null,null,{"$f":"IFERROR(INDEX(早見表!$B$6:$S$8,MATCH(12,早見表!$B$6:$B$8,0),MATCH(Y122,早見表!$B$6:$S$6,0)),0)","v":0}]
[null,null,null,null,null,null,null,null,null,null,null,null,null,null,null,null,null,null,{"$f":"IFERROR(INDEX(早見表!$B$6:$S$19,MATCH(Q123,早見表!$B$6:$B$19,0),MATCH(H123,早見表!$B$6:$S$6,0)),0)","v":0},null,null,null,null,null,null,null,null,null,{"$f":"IFERROR(INDEX(早見表!$B$6:$S$8,MATCH(12,早見表!$B$6:$B$8,0),MATCH(Y123,早見表!$B$6:$S$6,0)),0)","v":0}]
[null,null,null,null,null,null,null,null,null,null,null,null,null,null,null,null,null,null,{"$f":"IFERROR(INDEX(早見表!$B$6:$S$19,MATCH(Q124,早見表!$B$6:$B$19,0),MATCH(H124,早見表!$B$6:$S$6,0)),0)","v":0},null,null,null,null,null,null,null,null,null,{"$f":"IFERROR(INDEX(早見表!$B$6:$S$8,MATCH(12,早見表!$B$6:$B$8,0),MATCH(Y124,早見表!$B$6:$S$6,0)),0)","v":0}]
[null,null,null,null,null,null,null,null,null,null,null,null,null,null,null,null,null,null,{"$f":"SUM(S110:X124)","v":0},null,null,null,null,null,null,null,null,null,{"$f":"SUM(AC110:AH124)","v":0}]
[]
[null,"（注）"]
[null,null,"１）　④欄は月割の対象となる方のみ記入して下さい。"]
[null,null,"２）　月割の対象となる場合の⑤保険料算定基礎額の算定方法"]
[null,null,"２）　月割の対象となる場合の③（給付基礎日額×365÷12）（円未満を切り上げてから）×加入月数"]
[]
[]
[null,"【島根局版】",null,null,null,null,null,null,null,null,null,null,null,null,null,null,null,null,null,null,null,null,null,null,null,null,"一人親方団体控"]
[null,"第２種特別加入保険料申告内訳名簿"]
[null,"（一人親方等）"]
[null,null,null,null,null,null,null,null,null,null,null,null,null,null,null,null,null,null,null,null,null,null,null,null,"（",{"$f":"Z103","v":1},null,"枚のうち",null,5,null,"枚目",null,"）"]
[]
[null,"労働保険\n番　　　号",null,null,null,null,"府県",null,"所掌","管轄",null,"基幹番号",null,null,null,null,null,"枝番号",null,null,"事業場の\n所在地",null,null,{"$f":"IF(X105=\"\",\"\",X105)","v":"松江市向島町134-10　松江地方合同庁舎５階"},"","","","","","","","","",""]
[null,null,null,null,null,null,"3","2",{"$f":"IF(I106=\"\",\"\",I106)","v":"×"},{"$f":"IF(J106=\"\",\"\",J106)","v":"0"},"1","×","×","×","×","×","×","×","×","×","事業場の\n名称",null,null,"労働保険事務組合　島根労働局","","","","","","","","","",""]
[null,"①\n整理\n番号",null,"②\n氏名",null,null,null,null,null,null,null,null,null,null,"令 和",null,null,6,"","",null,null,null,"年 度 確 定 ","令 和",null,null,7,"","",null,null,null,"年 度 概 算 "]
[null,null,null,null,null,null,null,"③　\n給付基礎日額",null,null,null,"④年度中途加入・脱退",null,null,null,null,null,null,"⑤\n保険料算定基礎額",null,null,null,null,null,"⑥\n給付基礎日額",null,null,null,"⑦\n保険料算定基礎額"]
[null,null,null,null,null,null,null,null,null,null,null,"加入・脱退年月日",null,null,null,null,"加入月数"]
[null,null,null,null,null,null,null,null,null,null,null,null,null,null,null,null,null,null,{"$f":"IFERROR(INDEX(早見表!$B$6:$S$19,MATCH(Q143,早見表!$B$6:$B$19,0),MATCH(H143,早見表!$B$6:$S$6,0)),0)","v":0},null,null,null,null,null,null,null,null,null,{"$f":"IFERROR(INDEX(早見表!$B$6:$S$8,MATCH(12,早見表!$B$6:$B$8,0),MATCH(Y143,早見表!$B$6:$S$6,0)),0)","v":0}]
[null,null,null,null,null,null,null,null,null,null,null,null,null,null,null,null,null,null,{"$f":"IFERROR(INDEX(早見表!$B$6:$S$19,MATCH(Q144,早見表!$B$6:$B$19,0),MATCH(H144,早見表!$B$6:$S$6,0)),0)","v":0},null,null,null,null,null,null,null,null,null,{"$f":"IFERROR(INDEX(早見表!$B$6:$S$8,MATCH(12,早見表!$B$6:$B$8,0),MATCH(Y144,早見表!$B$6:$S$6,0)),0)","v":0}]
[null,null,null,null,null,null,null,null,null,null,null,null,null,null,null,null,null,null,{"$f":"IFERROR(INDEX(早見表!$B$6:$S$19,MATCH(Q145,早見表!$B$6:$B$19,0),MATCH(H145,早見表!$B$6:$S$6,0)),0)","v":0},null,null,null,null,null,null,null,null,null,{"$f":"IFERROR(INDEX(早見表!$B$6:$S$8,MATCH(12,早見表!$B$6:$B$8,0),MATCH(Y145,早見表!$B$6:$S$6,0)),0)","v":0}]
[null,null,null,null,null,null,null,null,null,null,null,null,null,null,null,null,null,null,{"$f":"IFERROR(INDEX(早見表!$B$6:$S$19,MATCH(Q146,早見表!$B$6:$B$19,0),MATCH(H146,早見表!$B$6:$S$6,0)),0)","v":0},null,null,null,null,null,null,null,null,null,{"$f":"IFERROR(INDEX(早見表!$B$6:$S$8,MATCH(12,早見表!$B$6:$B$8,0),MATCH(Y146,早見表!$B$6:$S$6,0)),0)","v":0}]
[null,null,null,null,null,null,null,null,null,null,null,null,null,null,null,null,null,null,{"$f":"IFERROR(INDEX(早見表!$B$6:$S$19,MATCH(Q147,早見表!$B$6:$B$19,0),MATCH(H147,早見表!$B$6:$S$6,0)),0)","v":0},null,null,null,null,null,null,null,null,null,{"$f":"IFERROR(INDEX(早見表!$B$6:$S$8,MATCH(12,早見表!$B$6:$B$8,0),MATCH(Y147,早見表!$B$6:$S$6,0)),0)","v":0}]
[null,null,null,null,null,null,null,null,null,null,null,null,null,null,null,null,null,null,{"$f":"IFERROR(INDEX(早見表!$B$6:$S$19,MATCH(Q148,早見表!$B$6:$B$19,0),MATCH(H148,早見表!$B$6:$S$6,0)),0)","v":0},null,null,null,null,null,null,null,null,null,{"$f":"IFERROR(INDEX(早見表!$B$6:$S$8,MATCH(12,早見表!$B$6:$B$8,0),MATCH(Y148,早見表!$B$6:$S$6,0)),0)","v":0}]
[null,null,null,null,null,null,null,null,null,null,null,null,null,null,null,null,null,null,{"$f":"IFERROR(INDEX(早見表!$B$6:$S$19,MATCH(Q149,早見表!$B$6:$B$19,0),MATCH(H149,早見表!$B$6:$S$6,0)),0)","v":0},null,null,null,null,null,null,null,null,null,{"$f":"IFERROR(INDEX(早見表!$B$6:$S$8,MATCH(12,早見表!$B$6:$B$8,0),MATCH(Y149,早見表!$B$6:$S$6,0)),0)","v":0}]
[null,null,null,null,null,null,null,null,null,null,null,null,null,null,null,null,null,null,{"$f":"IFERROR(INDEX(早見表!$B$6:$S$19,MATCH(Q150,早見表!$B$6:$B$19,0),MATCH(H150,早見表!$B$6:$S$6,0)),0)","v":0},null,null,null,null,null,null,null,null,null,{"$f":"IFERROR(INDEX(早見表!$B$6:$S$8,MATCH(12,早見表!$B$6:$B$8,0),MATCH(Y150,早見表!$B$6:$S$6,0)),0)","v":0}]
[null,null,null,null,null,null,null,null,null,null,null,null,null,null,null,null,null,null,{"$f":"IFERROR(INDEX(早見表!$B$6:$S$19,MATCH(Q151,早見表!$B$6:$B$19,0),MATCH(H151,早見表!$B$6:$S$6,0)),0)","v":0},null,null,null,null,null,null,null,null,null,{"$f":"IFERROR(INDEX(早見表!$B$6:$S$8,MATCH(12,早見表!$B$6:$B$8,0),MATCH(Y151,早見表!$B$6:$S$6,0)),0)","v":0}]
[null,null,null,null,null,null,null,null,null,null,null,null,null,null,null,null,null,null,{"$f":"IFERROR(INDEX(早見表!$B$6:$S$19,MATCH(Q152,早見表!$B$6:$B$19,0),MATCH(H152,早見表!$B$6:$S$6,0)),0)","v":0},null,null,null,null,null,null,null,null,null,{"$f":"IFERROR(INDEX(早見表!$B$6:$S$8,MATCH(12,早見表!$B$6:$B$8,0),MATCH(Y152,早見表!$B$6:$S$6,0)),0)","v":0}]
[null,null,null,null,null,null,null,null,null,null,null,null,null,null,null,null,null,null,{"$f":"IFERROR(INDEX(早見表!$B$6:$S$19,MATCH(Q153,早見表!$B$6:$B$19,0),MATCH(H153,早見表!$B$6:$S$6,0)),0)","v":0},null,null,null,null,null,null,null,null,null,{"$f":"IFERROR(INDEX(早見表!$B$6:$S$8,MATCH(12,早見表!$B$6:$B$8,0),MATCH(Y153,早見表!$B$6:$S$6,0)),0)","v":0}]
[null,null,null,null,null,null,null,null,null,null,null,null,null,null,null,null,null,null,{"$f":"IFERROR(INDEX(早見表!$B$6:$S$19,MATCH(Q154,早見表!$B$6:$B$19,0),MATCH(H154,早見表!$B$6:$S$6,0)),0)","v":0},null,null,null,null,null,null,null,null,null,{"$f":"IFERROR(INDEX(早見表!$B$6:$S$8,MATCH(12,早見表!$B$6:$B$8,0),MATCH(Y154,早見表!$B$6:$S$6,0)),0)","v":0}]
[null,null,null,null,null,null,null,null,null,null,null,null,null,null,null,null,null,null,{"$f":"IFERROR(INDEX(早見表!$B$6:$S$19,MATCH(Q155,早見表!$B$6:$B$19,0),MATCH(H155,早見表!$B$6:$S$6,0)),0)","v":0},null,null,null,null,null,null,null,null,null,{"$f":"IFERROR(INDEX(早見表!$B$6:$S$8,MATCH(12,早見表!$B$6:$B$8,0),MATCH(Y155,早見表!$B$6:$S$6,0)),0)","v":0}]
[null,null,null,null,null,null,null,null,null,null,null,null,null,null,null,null,null,null,{"$f":"IFERROR(INDEX(早見表!$B$6:$S$19,MATCH(Q156,早見表!$B$6:$B$19,0),MATCH(H156,早見表!$B$6:$S$6,0)),0)","v":0},null,null,null,null,null,null,null,null,null,{"$f":"IFERROR(INDEX(早見表!$B$6:$S$8,MATCH(12,早見表!$B$6:$B$8,0),MATCH(Y156,早見表!$B$6:$S$6,0)),0)","v":0}]
[null,null,null,null,null,null,null,null,null,null,null,null,null,null,null,null,null,null,{"$f":"IFERROR(INDEX(早見表!$B$6:$S$19,MATCH(Q157,早見表!$B$6:$B$19,0),MATCH(H157,早見表!$B$6:$S$6,0)),0)","v":0},null,null,null,null,null,null,null,null,null,{"$f":"IFERROR(INDEX(早見表!$B$6:$S$8,MATCH(12,早見表!$B$6:$B$8,0),MATCH(Y157,早見表!$B$6:$S$6,0)),0)","v":0}]
[null,null,null,null,null,null,null,null,null,null,null,null,null,null,null,null,null,null,{"$f":"SUM(S143:X157)","v":0},null,null,null,null,null,null,null,null,null,{"$f":"SUM(AC143:AH157)","v":0}]
[]
[null,"（注）"]
[null,null,"１）　④欄は月割の対象となる方のみ記入して下さい。"]
[null,null,"２）　月割の対象となる場合の⑤保険料算定基礎額の算定方法"]
[null,null,"２）　月割の対象となる場合の③（給付基礎日額×365÷12）（円未満を切り上げてから）×加入月数"]
[]
[]
[null,"【島根局版】",null,null,null,null,null,null,null,null,null,null,null,null,null,null,null,null,null,null,null,null,null,null,null,null,"一人親方団体控"]
[null,"第２種特別加入保険料申告内訳名簿"]
[null,"（一人親方等）"]
[null,null,null,null,null,null,null,null,null,null,null,null,null,null,null,null,null,null,null,null,null,null,null,null,"（",{"$f":"Z136","v":1},null,"枚のうち",null,6,null,"枚目",null,"）"]
[]
[null,"労働保険\n番　　　号",null,null,null,null,"府県",null,"所掌","管轄",null,"基幹番号",null,null,null,null,null,"枝番号",null,null,"事業場の\n所在地",null,null,{"$f":"IF(X138=\"\",\"\",X138)","v":"松江市向島町134-10　松江地方合同庁舎５階"},"","","","","","","","","",""]
[null,null,null,null,null,null,"3","2",{"$f":"IF(I139=\"\",\"\",I139)","v":"×"},{"$f":"IF(J139=\"\",\"\",J139)","v":"0"},"1","×","×","×","×","×","×","×","×","×","事業場の\n名称",null,null,"労働保険事務組合　島根労働局","","","","","","","","","",""]
[null,"①\n整理\n番号",null,"②\n氏名",null,null,null,null,null,null,null,null,null,null,"令 和",null,null,6,"","",null,null,null,"年 度 確 定 ","令 和",null,null,7,"","",null,null,null,"年 度 概 算 "]
[null,null,null,null,null,null,null,"③　\n給付基礎日額",null,null,null,"④年度中途加入・脱退",null,null,null,null,null,null,"⑤\n保険料算定基礎額",null,null,null,null,null,"⑥\n給付基礎日額",null,null,null,"⑦\n保険料算定基礎額"]
[null,null,null,null,null,null,null,null,null,null,null,"加入・脱退年月日",null,null,null,null,"加入月数"]
[null,null,null,null,null,null,null,null,null,null,null,null,null,null,null,null,null,null,{"$f":"IFERROR(INDEX(早見表!$B$6:$S$19,MATCH(Q176,早見表!$B$6:$B$19,0),MATCH(H176,早見表!$B$6:$S$6,0)),0)","v":0},null,null,null,null,null,null,null,null,null,{"$f":"IFERROR(INDEX(早見表!$B$6:$S$8,MATCH(12,早見表!$B$6:$B$8,0),MATCH(Y176,早見表!$B$6:$S$6,0)),0)","v":0}]
[null,null,null,null,null,null,null,null,null,null,null,null,null,null,null,null,null,null,{"$f":"IFERROR(INDEX(早見表!$B$6:$S$19,MATCH(Q177,早見表!$B$6:$B$19,0),MATCH(H177,早見表!$B$6:$S$6,0)),0)","v":0},null,null,null,null,null,null,null,null,null,{"$f":"IFERROR(INDEX(早見表!$B$6:$S$8,MATCH(12,早見表!$B$6:$B$8,0),MATCH(Y177,早見表!$B$6:$S$6,0)),0)","v":0}]
[null,null,null,null,null,null,null,null,null,null,null,null,null,null,null,null,null,null,{"$f":"IFERROR(INDEX(早見表!$B$6:$S$19,MATCH(Q178,早見表!$B$6:$B$19,0),MATCH(H178,早見表!$B$6:$S$6,0)),0)","v":0},null,null,null,null,null,null,null,null,null,{"$f":"IFERROR(INDEX(早見表!$B$6:$S$8,MATCH(12,早見表!$B$6:$B$8,0),MATCH(Y178,早見表!$B$6:$S$6,0)),0)","v":0}]
[null,null,null,null,null,null,null,null,null,null,null,null,null,null,null,null,null,null,{"$f":"IFERROR(INDEX(早見表!$B$6:$S$19,MATCH(Q179,早見表!$B$6:$B$19,0),MATCH(H179,早見表!$B$6:$S$6,0)),0)","v":0},null,null,null,null,null,null,null,null,null,{"$f":"IFERROR(INDEX(早見表!$B$6:$S$8,MATCH(12,早見表!$B$6:$B$8,0),MATCH(Y179,早見表!$B$6:$S$6,0)),0)","v":0}]
[null,null,null,null,null,null,null,null,null,null,null,null,null,null,null,null,null,null,{"$f":"IFERROR(INDEX(早見表!$B$6:$S$19,MATCH(Q180,早見表!$B$6:$B$19,0),MATCH(H180,早見表!$B$6:$S$6,0)),0)","v":0},null,null,null,null,null,null,null,null,null,{"$f":"IFERROR(INDEX(早見表!$B$6:$S$8,MATCH(12,早見表!$B$6:$B$8,0),MATCH(Y180,早見表!$B$6:$S$6,0)),0)","v":0}]
[null,null,null,null,null,null,null,null,null,null,null,null,null,null,null,null,null,null,{"$f":"IFERROR(INDEX(早見表!$B$6:$S$19,MATCH(Q181,早見表!$B$6:$B$19,0),MATCH(H181,早見表!$B$6:$S$6,0)),0)","v":0},null,null,null,null,null,null,null,null,null,{"$f":"IFERROR(INDEX(早見表!$B$6:$S$8,MATCH(12,早見表!$B$6:$B$8,0),MATCH(Y181,早見表!$B$6:$S$6,0)),0)","v":0}]
[null,null,null,null,null,null,null,null,null,null,null,null,null,null,null,null,null,null,{"$f":"IFERROR(INDEX(早見表!$B$6:$S$19,MATCH(Q182,早見表!$B$6:$B$19,0),MATCH(H182,早見表!$B$6:$S$6,0)),0)","v":0},null,null,null,null,null,null,null,null,null,{"$f":"IFERROR(INDEX(早見表!$B$6:$S$8,MATCH(12,早見表!$B$6:$B$8,0),MATCH(Y182,早見表!$B$6:$S$6,0)),0)","v":0}]
[null,null,null,null,null,null,null,null,null,null,null,null,null,null,null,null,null,null,{"$f":"IFERROR(INDEX(早見表!$B$6:$S$19,MATCH(Q183,早見表!$B$6:$B$19,0),MATCH(H183,早見表!$B$6:$S$6,0)),0)","v":0},null,null,null,null,null,null,null,null,null,{"$f":"IFERROR(INDEX(早見表!$B$6:$S$8,MATCH(12,早見表!$B$6:$B$8,0),MATCH(Y183,早見表!$B$6:$S$6,0)),0)","v":0}]
[null,null,null,null,null,null,null,null,null,null,null,null,null,null,null,null,null,null,{"$f":"IFERROR(INDEX(早見表!$B$6:$S$19,MATCH(Q184,早見表!$B$6:$B$19,0),MATCH(H184,早見表!$B$6:$S$6,0)),0)","v":0},null,null,null,null,null,null,null,null,null,{"$f":"IFERROR(INDEX(早見表!$B$6:$S$8,MATCH(12,早見表!$B$6:$B$8,0),MATCH(Y184,早見表!$B$6:$S$6,0)),0)","v":0}]
[null,null,null,null,null,null,null,null,null,null,null,null,null,null,null,null,null,null,{"$f":"IFERROR(INDEX(早見表!$B$6:$S$19,MATCH(Q185,早見表!$B$6:$B$19,0),MATCH(H185,早見表!$B$6:$S$6,0)),0)","v":0},null,null,null,null,null,null,null,null,null,{"$f":"IFERROR(INDEX(早見表!$B$6:$S$8,MATCH(12,早見表!$B$6:$B$8,0),MATCH(Y185,早見表!$B$6:$S$6,0)),0)","v":0}]
[null,null,null,null,null,null,null,null,null,null,null,null,null,null,null,null,null,null,{"$f":"IFERROR(INDEX(早見表!$B$6:$S$19,MATCH(Q186,早見表!$B$6:$B$19,0),MATCH(H186,早見表!$B$6:$S$6,0)),0)","v":0},null,null,null,null,null,null,null,null,null,{"$f":"IFERROR(INDEX(早見表!$B$6:$S$8,MATCH(12,早見表!$B$6:$B$8,0),MATCH(Y186,早見表!$B$6:$S$6,0)),0)","v":0}]
[null,null,null,null,null,null,null,null,null,null,null,null,null,null,null,null,null,null,{"$f":"IFERROR(INDEX(早見表!$B$6:$S$19,MATCH(Q187,早見表!$B$6:$B$19,0),MATCH(H187,早見表!$B$6:$S$6,0)),0)","v":0},null,null,null,null,null,null,null,null,null,{"$f":"IFERROR(INDEX(早見表!$B$6:$S$8,MATCH(12,早見表!$B$6:$B$8,0),MATCH(Y187,早見表!$B$6:$S$6,0)),0)","v":0}]
[null,null,null,null,null,null,null,null,null,null,null,null,null,null,null,null,null,null,{"$f":"IFERROR(INDEX(早見表!$B$6:$S$19,MATCH(Q188,早見表!$B$6:$B$19,0),MATCH(H188,早見表!$B$6:$S$6,0)),0)","v":0},null,null,null,null,null,null,null,null,null,{"$f":"IFERROR(INDEX(早見表!$B$6:$S$8,MATCH(12,早見表!$B$6:$B$8,0),MATCH(Y188,早見表!$B$6:$S$6,0)),0)","v":0}]
[null,null,null,null,null,null,null,null,null,null,null,null,null,null,null,null,null,null,{"$f":"IFERROR(INDEX(早見表!$B$6:$S$19,MATCH(Q189,早見表!$B$6:$B$19,0),MATCH(H189,早見表!$B$6:$S$6,0)),0)","v":0},null,null,null,null,null,null,null,null,null,{"$f":"IFERROR(INDEX(早見表!$B$6:$S$8,MATCH(12,早見表!$B$6:$B$8,0),MATCH(Y189,早見表!$B$6:$S$6,0)),0)","v":0}]
[null,null,null,null,null,null,null,null,null,null,null,null,null,null,null,null,null,null,{"$f":"IFERROR(INDEX(早見表!$B$6:$S$19,MATCH(Q190,早見表!$B$6:$B$19,0),MATCH(H190,早見表!$B$6:$S$6,0)),0)","v":0},null,null,null,null,null,null,null,null,null,{"$f":"IFERROR(INDEX(早見表!$B$6:$S$8,MATCH(12,早見表!$B$6:$B$8,0),MATCH(Y190,早見表!$B$6:$S$6,0)),0)","v":0}]
[null,null,null,null,null,null,null,null,null,null,null,null,null,null,null,null,null,null,{"$f":"SUM(S176:X190)","v":0},null,null,null,null,null,null,null,null,null,{"$f":"SUM(AC176:AH190)","v":0}]
[]
[null,"（注）"]
[null,null,"１）　④欄は月割の対象となる方のみ記入して下さい。"]
[null,null,"２）　月割の対象となる場合の⑤保険料算定基礎額の算定方法"]
[null,null,"２）　月割の対象となる場合の③（給付基礎日額×365÷12）（円未満を切り上げてから）×加入月数"]
[]
[]
[null,"【島根局版】",null,null,null,null,null,null,null,null,null,null,null,null,null,null,null,null,null,null,null,null,null,null,null,null,"一人親方団体控"]
[null,"第２種特別加入保険料申告内訳名簿"]
[null,"（一人親方等）"]
[null,null,null,null,null,null,null,null,null,null,null,null,null,null,null,null,null,null,null,null,null,null,null,null,"（",{"$f":"Z169","v":1},null,"枚のうち",null,7,null,"枚目",null,"）"]
[]
[null,"労働保険\n番　　　号",null,null,null,null,"府県",null,"所掌","管轄",null,"基幹番号",null,null,null,null,null,"枝番号",null,null,"事業場の\n所在地",null,null,{"$f":"IF(X171=\"\",\"\",X171)","v":"松江市向島町134-10　松江地方合同庁舎５階"},"","","","","","","","","",""]
[null,null,null,null,null,null,"3","2",{"$f":"IF(I172=\"\",\"\",I172)","v":"×"},{"$f":"IF(J172=\"\",\"\",J172)","v":"0"},"1","×","×","×","×","×","×","×","×","×","事業場の\n名称",null,null,"労働保険事務組合　島根労働局","","","","","","","","","",""]
[null,"①\n整理\n番号",null,"②\n氏名",null,null,null,null,null,null,null,null,null,null,"令 和",null,null,6,"","",null,null,null,"年 度 確 定 ","令 和",null,null,7,"","",null,null,null,"年 度 概 算 "]
[null,null,null,null,null,null,null,"③　\n給付基礎日額",null,null,null,"④年度中途加入・脱退",null,null,null,null,null,null,"⑤\n保険料算定基礎額",null,null,null,null,null,"⑥\n給付基礎日額",null,null,null,"⑦\n保険料算定基礎額"]
[null,null,null,null,null,null,null,null,null,null,null,"加入・脱退年月日",null,null,null,null,"加入月数"]
[null,null,null,null,null,null,null,null,null,null,null,null,null,null,null,null,null,null,{"$f":"IFERROR(INDEX(早見表!$B$6:$S$19,MATCH(Q209,早見表!$B$6:$B$19,0),MATCH(H209,早見表!$B$6:$S$6,0)),0)","v":0},null,null,null,null,null,null,null,null,null,{"$f":"IFERROR(INDEX(早見表!$B$6:$S$8,MATCH(12,早見表!$B$6:$B$8,0),MATCH(Y209,早見表!$B$6:$S$6,0)),0)","v":0}]
[null,null,null,null,null,null,null,null,null,null,null,null,null,null,null,null,null,null,{"$f":"IFERROR(INDEX(早見表!$B$6:$S$19,MATCH(Q210,早見表!$B$6:$B$19,0),MATCH(H210,早見表!$B$6:$S$6,0)),0)","v":0},null,null,null,null,null,null,null,null,null,{"$f":"IFERROR(INDEX(早見表!$B$6:$S$8,MATCH(12,早見表!$B$6:$B$8,0),MATCH(Y210,早見表!$B$6:$S$6,0)),0)","v":0}]
[null,null,null,null,null,null,null,null,null,null,null,null,null,null,null,null,null,null,{"$f":"IFERROR(INDEX(早見表!$B$6:$S$19,MATCH(Q211,早見表!$B$6:$B$19,0),MATCH(H211,早見表!$B$6:$S$6,0)),0)","v":0},null,null,null,null,null,null,null,null,null,{"$f":"IFERROR(INDEX(早見表!$B$6:$S$8,MATCH(12,早見表!$B$6:$B$8,0),MATCH(Y211,早見表!$B$6:$S$6,0)),0)","v":0}]
[null,null,null,null,null,null,null,null,null,null,null,null,null,null,null,null,null,null,{"$f":"IFERROR(INDEX(早見表!$B$6:$S$19,MATCH(Q212,早見表!$B$6:$B$19,0),MATCH(H212,早見表!$B$6:$S$6,0)),0)","v":0},null,null,null,null,null,null,null,null,null,{"$f":"IFERROR(INDEX(早見表!$B$6:$S$8,MATCH(12,早見表!$B$6:$B$8,0),MATCH(Y212,早見表!$B$6:$S$6,0)),0)","v":0}]
[null,null,null,null,null,null,null,null,null,null,null,null,null,null,null,null,null,null,{"$f":"IFERROR(INDEX(早見表!$B$6:$S$19,MATCH(Q213,早見表!$B$6:$B$19,0),MATCH(H213,早見表!$B$6:$S$6,0)),0)","v":0},null,null,null,null,null,null,null,null,null,{"$f":"IFERROR(INDEX(早見表!$B$6:$S$8,MATCH(12,早見表!$B$6:$B$8,0),MATCH(Y213,早見表!$B$6:$S$6,0)),0)","v":0}]
[null,null,null,null,null,null,null,null,null,null,null,null,null,null,null,null,null,null,{"$f":"IFERROR(INDEX(早見表!$B$6:$S$19,MATCH(Q214,早見表!$B$6:$B$19,0),MATCH(H214,早見表!$B$6:$S$6,0)),0)","v":0},null,null,null,null,null,null,null,null,null,{"$f":"IFERROR(INDEX(早見表!$B$6:$S$8,MATCH(12,早見表!$B$6:$B$8,0),MATCH(Y214,早見表!$B$6:$S$6,0)),0)","v":0}]
[null,null,null,null,null,null,null,null,null,null,null,null,null,null,null,null,null,null,{"$f":"IFERROR(INDEX(早見表!$B$6:$S$19,MATCH(Q215,早見表!$B$6:$B$19,0),MATCH(H215,早見表!$B$6:$S$6,0)),0)","v":0},null,null,null,null,null,null,null,null,null,{"$f":"IFERROR(INDEX(早見表!$B$6:$S$8,MATCH(12,早見表!$B$6:$B$8,0),MATCH(Y215,早見表!$B$6:$S$6,0)),0)","v":0}]
[null,null,null,null,null,null,null,null,null,null,null,null,null,null,null,null,null,null,{"$f":"IFERROR(INDEX(早見表!$B$6:$S$19,MATCH(Q216,早見表!$B$6:$B$19,0),MATCH(H216,早見表!$B$6:$S$6,0)),0)","v":0},null,null,null,null,null,null,null,null,null,{"$f":"IFERROR(INDEX(早見表!$B$6:$S$8,MATCH(12,早見表!$B$6:$B$8,0),MATCH(Y216,早見表!$B$6:$S$6,0)),0)","v":0}]
[null,null,null,null,null,null,null,null,null,null,null,null,null,null,null,null,null,null,{"$f":"IFERROR(INDEX(早見表!$B$6:$S$19,MATCH(Q217,早見表!$B$6:$B$19,0),MATCH(H217,早見表!$B$6:$S$6,0)),0)","v":0},null,null,null,null,null,null,null,null,null,{"$f":"IFERROR(INDEX(早見表!$B$6:$S$8,MATCH(12,早見表!$B$6:$B$8,0),MATCH(Y217,早見表!$B$6:$S$6,0)),0)","v":0}]
[null,null,null,null,null,null,null,null,null,null,null,null,null,null,null,null,null,null,{"$f":"IFERROR(INDEX(早見表!$B$6:$S$19,MATCH(Q218,早見表!$B$6:$B$19,0),MATCH(H218,早見表!$B$6:$S$6,0)),0)","v":0},null,null,null,null,null,null,null,null,null,{"$f":"IFERROR(INDEX(早見表!$B$6:$S$8,MATCH(12,早見表!$B$6:$B$8,0),MATCH(Y218,早見表!$B$6:$S$6,0)),0)","v":0}]
[null,null,null,null,null,null,null,null,null,null,null,null,null,null,null,null,null,null,{"$f":"IFERROR(INDEX(早見表!$B$6:$S$19,MATCH(Q219,早見表!$B$6:$B$19,0),MATCH(H219,早見表!$B$6:$S$6,0)),0)","v":0},null,null,null,null,null,null,null,null,null,{"$f":"IFERROR(INDEX(早見表!$B$6:$S$8,MATCH(12,早見表!$B$6:$B$8,0),MATCH(Y219,早見表!$B$6:$S$6,0)),0)","v":0}]
[null,null,null,null,null,null,null,null,null,null,null,null,null,null,null,null,null,null,{"$f":"IFERROR(INDEX(早見表!$B$6:$S$19,MATCH(Q220,早見表!$B$6:$B$19,0),MATCH(H220,早見表!$B$6:$S$6,0)),0)","v":0},null,null,null,null,null,null,null,null,null,{"$f":"IFERROR(INDEX(早見表!$B$6:$S$8,MATCH(12,早見表!$B$6:$B$8,0),MATCH(Y220,早見表!$B$6:$S$6,0)),0)","v":0}]
[null,null,null,null,null,null,null,null,null,null,null,null,null,null,null,null,null,null,{"$f":"IFERROR(INDEX(早見表!$B$6:$S$19,MATCH(Q221,早見表!$B$6:$B$19,0),MATCH(H221,早見表!$B$6:$S$6,0)),0)","v":0},null,null,null,null,null,null,null,null,null,{"$f":"IFERROR(INDEX(早見表!$B$6:$S$8,MATCH(12,早見表!$B$6:$B$8,0),MATCH(Y221,早見表!$B$6:$S$6,0)),0)","v":0}]
[null,null,null,null,null,null,null,null,null,null,null,null,null,null,null,null,null,null,{"$f":"IFERROR(INDEX(早見表!$B$6:$S$19,MATCH(Q222,早見表!$B$6:$B$19,0),MATCH(H222,早見表!$B$6:$S$6,0)),0)","v":0},null,null,null,null,null,null,null,null,null,{"$f":"IFERROR(INDEX(早見表!$B$6:$S$8,MATCH(12,早見表!$B$6:$B$8,0),MATCH(Y222,早見表!$B$6:$S$6,0)),0)","v":0}]
[null,null,null,null,null,null,null,null,null,null,null,null,null,null,null,null,null,null,{"$f":"IFERROR(INDEX(早見表!$B$6:$S$19,MATCH(Q223,早見表!$B$6:$B$19,0),MATCH(H223,早見表!$B$6:$S$6,0)),0)","v":0},null,null,null,null,null,null,null,null,null,{"$f":"IFERROR(INDEX(早見表!$B$6:$S$8,MATCH(12,早見表!$B$6:$B$8,0),MATCH(Y223,早見表!$B$6:$S$6,0)),0)","v":0}]
[null,null,null,null,null,null,null,null,null,null,null,null,null,null,null,null,null,null,{"$f":"SUM(S209:X223)","v":0},null,null,null,null,null,null,null,null,null,{"$f":"SUM(AC209:AH223)","v":0}]
[]
[null,"（注）"]
[null,null,"１）　④欄は月割の対象となる方のみ記入して下さい。"]
[null,null,"２）　月割の対象となる場合の⑤保険料算定基礎額の算定方法"]
[null,null,"２）　月割の対象となる場合の③（給付基礎日額×365÷12）（円未満を切り上げてから）×加入月数"]
[]
[]
[null,"【島根局版】",null,null,null,null,null,null,null,null,null,null,null,null,null,null,null,null,null,null,null,null,null,null,null,null,"一人親方団体控"]
[null,"第２種特別加入保険料申告内訳名簿"]
[null,"（一人親方等）"]
[null,null,null,null,null,null,null,null,null,null,null,null,null,null,null,null,null,null,null,null,null,null,null,null,"（",{"$f":"Z202","v":1},null,"枚のうち",null,8,null,"枚目",null,"）"]
[]
[null,"労働保険\n番　　　号",null,null,null,null,"府県",null,"所掌","管轄",null,"基幹番号",null,null,null,null,null,"枝番号",null,null,"事業場の\n所在地",null,null,{"$f":"IF(X204=\"\",\"\",X204)","v":"松江市向島町134-10　松江地方合同庁舎５階"},"","","","","","","","","",""]
[null,null,null,null,null,null,"3","2",{"$f":"IF(I205=\"\",\"\",I205)","v":"×"},{"$f":"IF(J205=\"\",\"\",J205)","v":"0"},"1","×","×","×","×","×","×","×","×","×","事業場の\n名称",null,null,"労働保険事務組合　島根労働局","","","","","","","","","",""]
[null,"①\n整理\n番号",null,"②\n氏名",null,null,null,null,null,null,null,null,null,null,"令 和",null,null,6,"","",null,null,null,"年 度 確 定 ","令 和",null,null,7,"","",null,null,null,"年 度 概 算 "]
[null,null,null,null,null,null,null,"③　\n給付基礎日額",null,null,null,"④年度中途加入・脱退",null,null,null,null,null,null,"⑤\n保険料算定基礎額",null,null,null,null,null,"⑥\n給付基礎日額",null,null,null,"⑦\n保険料算定基礎額"]
[null,null,null,null,null,null,null,null,null,null,null,"加入・脱退年月日",null,null,null,null,"加入月数"]
[null,null,null,null,null,null,null,null,null,null,null,null,null,null,null,null,null,null,{"$f":"IFERROR(INDEX(早見表!$B$6:$S$19,MATCH(Q242,早見表!$B$6:$B$19,0),MATCH(H242,早見表!$B$6:$S$6,0)),0)","v":0},null,null,null,null,null,null,null,null,null,{"$f":"IFERROR(INDEX(早見表!$B$6:$S$8,MATCH(12,早見表!$B$6:$B$8,0),MATCH(Y242,早見表!$B$6:$S$6,0)),0)","v":0}]
[null,null,null,null,null,null,null,null,null,null,null,null,null,null,null,null,null,null,{"$f":"IFERROR(INDEX(早見表!$B$6:$S$19,MATCH(Q243,早見表!$B$6:$B$19,0),MATCH(H243,早見表!$B$6:$S$6,0)),0)","v":0},null,null,null,null,null,null,null,null,null,{"$f":"IFERROR(INDEX(早見表!$B$6:$S$8,MATCH(12,早見表!$B$6:$B$8,0),MATCH(Y243,早見表!$B$6:$S$6,0)),0)","v":0}]
[null,null,null,null,null,null,null,null,null,null,null,null,null,null,null,null,null,null,{"$f":"IFERROR(INDEX(早見表!$B$6:$S$19,MATCH(Q244,早見表!$B$6:$B$19,0),MATCH(H244,早見表!$B$6:$S$6,0)),0)","v":0},null,null,null,null,null,null,null,null,null,{"$f":"IFERROR(INDEX(早見表!$B$6:$S$8,MATCH(12,早見表!$B$6:$B$8,0),MATCH(Y244,早見表!$B$6:$S$6,0)),0)","v":0}]
[null,null,null,null,null,null,null,null,null,null,null,null,null,null,null,null,null,null,{"$f":"IFERROR(INDEX(早見表!$B$6:$S$19,MATCH(Q245,早見表!$B$6:$B$19,0),MATCH(H245,早見表!$B$6:$S$6,0)),0)","v":0},null,null,null,null,null,null,null,null,null,{"$f":"IFERROR(INDEX(早見表!$B$6:$S$8,MATCH(12,早見表!$B$6:$B$8,0),MATCH(Y245,早見表!$B$6:$S$6,0)),0)","v":0}]
[null,null,null,null,null,null,null,null,null,null,null,null,null,null,null,null,null,null,{"$f":"IFERROR(INDEX(早見表!$B$6:$S$19,MATCH(Q246,早見表!$B$6:$B$19,0),MATCH(H246,早見表!$B$6:$S$6,0)),0)","v":0},null,null,null,null,null,null,null,null,null,{"$f":"IFERROR(INDEX(早見表!$B$6:$S$8,MATCH(12,早見表!$B$6:$B$8,0),MATCH(Y246,早見表!$B$6:$S$6,0)),0)","v":0}]
[null,null,null,null,null,null,null,null,null,null,null,null,null,null,null,null,null,null,{"$f":"IFERROR(INDEX(早見表!$B$6:$S$19,MATCH(Q247,早見表!$B$6:$B$19,0),MATCH(H247,早見表!$B$6:$S$6,0)),0)","v":0},null,null,null,null,null,null,null,null,null,{"$f":"IFERROR(INDEX(早見表!$B$6:$S$8,MATCH(12,早見表!$B$6:$B$8,0),MATCH(Y247,早見表!$B$6:$S$6,0)),0)","v":0}]
[null,null,null,null,null,null,null,null,null,null,null,null,null,null,null,null,null,null,{"$f":"IFERROR(INDEX(早見表!$B$6:$S$19,MATCH(Q248,早見表!$B$6:$B$19,0),MATCH(H248,早見表!$B$6:$S$6,0)),0)","v":0},null,null,null,null,null,null,null,null,null,{"$f":"IFERROR(INDEX(早見表!$B$6:$S$8,MATCH(12,早見表!$B$6:$B$8,0),MATCH(Y248,早見表!$B$6:$S$6,0)),0)","v":0}]
[null,null,null,null,null,null,null,null,null,null,null,null,null,null,null,null,null,null,{"$f":"IFERROR(INDEX(早見表!$B$6:$S$19,MATCH(Q249,早見表!$B$6:$B$19,0),MATCH(H249,早見表!$B$6:$S$6,0)),0)","v":0},null,null,null,null,null,null,null,null,null,{"$f":"IFERROR(INDEX(早見表!$B$6:$S$8,MATCH(12,早見表!$B$6:$B$8,0),MATCH(Y249,早見表!$B$6:$S$6,0)),0)","v":0}]
[null,null,null,null,null,null,null,null,null,null,null,null,null,null,null,null,null,null,{"$f":"IFERROR(INDEX(早見表!$B$6:$S$19,MATCH(Q250,早見表!$B$6:$B$19,0),MATCH(H250,早見表!$B$6:$S$6,0)),0)","v":0},null,null,null,null,null,null,null,null,null,{"$f":"IFERROR(INDEX(早見表!$B$6:$S$8,MATCH(12,早見表!$B$6:$B$8,0),MATCH(Y250,早見表!$B$6:$S$6,0)),0)","v":0}]
[null,null,null,null,null,null,null,null,null,null,null,null,null,null,null,null,null,null,{"$f":"IFERROR(INDEX(早見表!$B$6:$S$19,MATCH(Q251,早見表!$B$6:$B$19,0),MATCH(H251,早見表!$B$6:$S$6,0)),0)","v":0},null,null,null,null,null,null,null,null,null,{"$f":"IFERROR(INDEX(早見表!$B$6:$S$8,MATCH(12,早見表!$B$6:$B$8,0),MATCH(Y251,早見表!$B$6:$S$6,0)),0)","v":0}]
[null,null,null,null,null,null,null,null,null,null,null,null,null,null,null,null,null,null,{"$f":"IFERROR(INDEX(早見表!$B$6:$S$19,MATCH(Q252,早見表!$B$6:$B$19,0),MATCH(H252,早見表!$B$6:$S$6,0)),0)","v":0},null,null,null,null,null,null,null,null,null,{"$f":"IFERROR(INDEX(早見表!$B$6:$S$8,MATCH(12,早見表!$B$6:$B$8,0),MATCH(Y252,早見表!$B$6:$S$6,0)),0)","v":0}]
[null,null,null,null,null,null,null,null,null,null,null,null,null,null,null,null,null,null,{"$f":"IFERROR(INDEX(早見表!$B$6:$S$19,MATCH(Q253,早見表!$B$6:$B$19,0),MATCH(H253,早見表!$B$6:$S$6,0)),0)","v":0},null,null,null,null,null,null,null,null,null,{"$f":"IFERROR(INDEX(早見表!$B$6:$S$8,MATCH(12,早見表!$B$6:$B$8,0),MATCH(Y253,早見表!$B$6:$S$6,0)),0)","v":0}]
[null,null,null,null,null,null,null,null,null,null,null,null,null,null,null,null,null,null,{"$f":"IFERROR(INDEX(早見表!$B$6:$S$19,MATCH(Q254,早見表!$B$6:$B$19,0),MATCH(H254,早見表!$B$6:$S$6,0)),0)","v":0},null,null,null,null,null,null,null,null,null,{"$f":"IFERROR(INDEX(早見表!$B$6:$S$8,MATCH(12,早見表!$B$6:$B$8,0),MATCH(Y254,早見表!$B$6:$S$6,0)),0)","v":0}]
[null,null,null,null,null,null,null,null,null,null,null,null,null,null,null,null,null,null,{"$f":"IFERROR(INDEX(早見表!$B$6:$S$19,MATCH(Q255,早見表!$B$6:$B$19,0),MATCH(H255,早見表!$B$6:$S$6,0)),0)","v":0},null,null,null,null,null,null,null,null,null,{"$f":"IFERROR(INDEX(早見表!$B$6:$S$8,MATCH(12,早見表!$B$6:$B$8,0),MATCH(Y255,早見表!$B$6:$S$6,0)),0)","v":0}]
[null,null,null,null,null,null,null,null,null,null,null,null,null,null,null,null,null,null,{"$f":"IFERROR(INDEX(早見表!$B$6:$S$19,MATCH(Q256,早見表!$B$6:$B$19,0),MATCH(H256,早見表!$B$6:$S$6,0)),0)","v":0},null,null,null,null,null,null,null,null,null,{"$f":"IFERROR(INDEX(早見表!$B$6:$S$8,MATCH(12,早見表!$B$6:$B$8,0),MATCH(Y256,早見表!$B$6:$S$6,0)),0)","v":0}]
[null,null,null,null,null,null,null,null,null,null,null,null,null,null,null,null,null,null,{"$f":"SUM(S242:X256)","v":0},null,null,null,null,null,null,null,null,null,{"$f":"SUM(AC242:AH256)","v":0}]
[]
[null,"（注）"]
[null,null,"１）　④欄は月割の対象となる方のみ記入して下さい。"]
[null,null,"２）　月割の対象となる場合の⑤保険料算定基礎額の算定方法"]
[null,null,"２）　月割の対象となる場合の③（給付基礎日額×365÷12）（円未満を切り上げてから）×加入月数"]
[]
[]
[null,"【島根局版】",null,null,null,null,null,null,null,null,null,null,null,null,null,null,null,null,null,null,null,null,null,null,null,null,"一人親方団体控"]
[null,"第２種特別加入保険料申告内訳名簿"]
[null,"（一人親方等）"]
[null,null,null,null,null,null,null,null,null,null,null,null,null,null,null,null,null,null,null,null,null,null,null,null,"（",{"$f":"Z235","v":1},null,"枚のうち",null,9,null,"枚目",null,"）"]
[]
[null,"労働保険\n番　　　号",null,null,null,null,"府県",null,"所掌","管轄",null,"基幹番号",null,null,null,null,null,"枝番号",null,null,"事業場の\n所在地",null,null,{"$f":"IF(X237=\"\",\"\",X237)","v":"松江市向島町134-10　松江地方合同庁舎５階"},"","","","","","","","","",""]
[null,null,null,null,null,null,"3","2",{"$f":"IF(I238=\"\",\"\",I238)","v":"×"},{"$f":"IF(J238=\"\",\"\",J238)","v":"0"},"1","×","×","×","×","×","×","×","×","×","事業場の\n名称",null,null,"労働保険事務組合　島根労働局","","","","","","","","","",""]
[null,"①\n整理\n番号",null,"②\n氏名",null,null,null,null,null,null,null,null,null,null,"令 和",null,null,6,"","",null,null,null,"年 度 確 定 ","令 和",null,null,7,"","",null,null,null,"年 度 概 算 "]
[null,null,null,null,null,null,null,"③　\n給付基礎日額",null,null,null,"④年度中途加入・脱退",null,null,null,null,null,null,"⑤\n保険料算定基礎額",null,null,null,null,null,"⑥\n給付基礎日額",null,null,null,"⑦\n保険料算定基礎額"]
[null,null,null,null,null,null,null,null,null,null,null,"加入・脱退年月日",null,null,null,null,"加入月数"]
[null,null,null,null,null,null,null,null,null,null,null,null,null,null,null,null,null,null,{"$f":"IFERROR(INDEX(早見表!$B$6:$S$19,MATCH(Q275,早見表!$B$6:$B$19,0),MATCH(H275,早見表!$B$6:$S$6,0)),0)","v":0},null,null,null,null,null,null,null,null,null,{"$f":"IFERROR(INDEX(早見表!$B$6:$S$8,MATCH(12,早見表!$B$6:$B$8,0),MATCH(Y275,早見表!$B$6:$S$6,0)),0)","v":0}]
[null,null,null,null,null,null,null,null,null,null,null,null,null,null,null,null,null,null,{"$f":"IFERROR(INDEX(早見表!$B$6:$S$19,MATCH(Q276,早見表!$B$6:$B$19,0),MATCH(H276,早見表!$B$6:$S$6,0)),0)","v":0},null,null,null,null,null,null,null,null,null,{"$f":"IFERROR(INDEX(早見表!$B$6:$S$8,MATCH(12,早見表!$B$6:$B$8,0),MATCH(Y276,早見表!$B$6:$S$6,0)),0)","v":0}]
[null,null,null,null,null,null,null,null,null,null,null,null,null,null,null,null,null,null,{"$f":"IFERROR(INDEX(早見表!$B$6:$S$19,MATCH(Q277,早見表!$B$6:$B$19,0),MATCH(H277,早見表!$B$6:$S$6,0)),0)","v":0},null,null,null,null,null,null,null,null,null,{"$f":"IFERROR(INDEX(早見表!$B$6:$S$8,MATCH(12,早見表!$B$6:$B$8,0),MATCH(Y277,早見表!$B$6:$S$6,0)),0)","v":0}]
[null,null,null,null,null,null,null,null,null,null,null,null,null,null,null,null,null,null,{"$f":"IFERROR(INDEX(早見表!$B$6:$S$19,MATCH(Q278,早見表!$B$6:$B$19,0),MATCH(H278,早見表!$B$6:$S$6,0)),0)","v":0},null,null,null,null,null,null,null,null,null,{"$f":"IFERROR(INDEX(早見表!$B$6:$S$8,MATCH(12,早見表!$B$6:$B$8,0),MATCH(Y278,早見表!$B$6:$S$6,0)),0)","v":0}]
[null,null,null,null,null,null,null,null,null,null,null,null,null,null,null,null,null,null,{"$f":"IFERROR(INDEX(早見表!$B$6:$S$19,MATCH(Q279,早見表!$B$6:$B$19,0),MATCH(H279,早見表!$B$6:$S$6,0)),0)","v":0},null,null,null,null,null,null,null,null,null,{"$f":"IFERROR(INDEX(早見表!$B$6:$S$8,MATCH(12,早見表!$B$6:$B$8,0),MATCH(Y279,早見表!$B$6:$S$6,0)),0)","v":0}]
[null,null,null,null,null,null,null,null,null,null,null,null,null,null,null,null,null,null,{"$f":"IFERROR(INDEX(早見表!$B$6:$S$19,MATCH(Q280,早見表!$B$6:$B$19,0),MATCH(H280,早見表!$B$6:$S$6,0)),0)","v":0},null,null,null,null,null,null,null,null,null,{"$f":"IFERROR(INDEX(早見表!$B$6:$S$8,MATCH(12,早見表!$B$6:$B$8,0),MATCH(Y280,早見表!$B$6:$S$6,0)),0)","v":0}]
[null,null,null,null,null,null,null,null,null,null,null,null,null,null,null,null,null,null,{"$f":"IFERROR(INDEX(早見表!$B$6:$S$19,MATCH(Q281,早見表!$B$6:$B$19,0),MATCH(H281,早見表!$B$6:$S$6,0)),0)","v":0},null,null,null,null,null,null,null,null,null,{"$f":"IFERROR(INDEX(早見表!$B$6:$S$8,MATCH(12,早見表!$B$6:$B$8,0),MATCH(Y281,早見表!$B$6:$S$6,0)),0)","v":0}]
[null,null,null,null,null,null,null,null,null,null,null,null,null,null,null,null,null,null,{"$f":"IFERROR(INDEX(早見表!$B$6:$S$19,MATCH(Q282,早見表!$B$6:$B$19,0),MATCH(H282,早見表!$B$6:$S$6,0)),0)","v":0},null,null,null,null,null,null,null,null,null,{"$f":"IFERROR(INDEX(早見表!$B$6:$S$8,MATCH(12,早見表!$B$6:$B$8,0),MATCH(Y282,早見表!$B$6:$S$6,0)),0)","v":0}]
[null,null,null,null,null,null,null,null,null,null,null,null,null,null,null,null,null,null,{"$f":"IFERROR(INDEX(早見表!$B$6:$S$19,MATCH(Q283,早見表!$B$6:$B$19,0),MATCH(H283,早見表!$B$6:$S$6,0)),0)","v":0},null,null,null,null,null,null,null,null,null,{"$f":"IFERROR(INDEX(早見表!$B$6:$S$8,MATCH(12,早見表!$B$6:$B$8,0),MATCH(Y283,早見表!$B$6:$S$6,0)),0)","v":0}]
[null,null,null,null,null,null,null,null,null,null,null,null,null,null,null,null,null,null,{"$f":"IFERROR(INDEX(早見表!$B$6:$S$19,MATCH(Q284,早見表!$B$6:$B$19,0),MATCH(H284,早見表!$B$6:$S$6,0)),0)","v":0},null,null,null,null,null,null,null,null,null,{"$f":"IFERROR(INDEX(早見表!$B$6:$S$8,MATCH(12,早見表!$B$6:$B$8,0),MATCH(Y284,早見表!$B$6:$S$6,0)),0)","v":0}]
[null,null,null,null,null,null,null,null,null,null,null,null,null,null,null,null,null,null,{"$f":"IFERROR(INDEX(早見表!$B$6:$S$19,MATCH(Q285,早見表!$B$6:$B$19,0),MATCH(H285,早見表!$B$6:$S$6,0)),0)","v":0},null,null,null,null,null,null,null,null,null,{"$f":"IFERROR(INDEX(早見表!$B$6:$S$8,MATCH(12,早見表!$B$6:$B$8,0),MATCH(Y285,早見表!$B$6:$S$6,0)),0)","v":0}]
[null,null,null,null,null,null,null,null,null,null,null,null,null,null,null,null,null,null,{"$f":"IFERROR(INDEX(早見表!$B$6:$S$19,MATCH(Q286,早見表!$B$6:$B$19,0),MATCH(H286,早見表!$B$6:$S$6,0)),0)","v":0},null,null,null,null,null,null,null,null,null,{"$f":"IFERROR(INDEX(早見表!$B$6:$S$8,MATCH(12,早見表!$B$6:$B$8,0),MATCH(Y286,早見表!$B$6:$S$6,0)),0)","v":0}]
[null,null,null,null,null,null,null,null,null,null,null,null,null,null,null,null,null,null,{"$f":"IFERROR(INDEX(早見表!$B$6:$S$19,MATCH(Q287,早見表!$B$6:$B$19,0),MATCH(H287,早見表!$B$6:$S$6,0)),0)","v":0},null,null,null,null,null,null,null,null,null,{"$f":"IFERROR(INDEX(早見表!$B$6:$S$8,MATCH(12,早見表!$B$6:$B$8,0),MATCH(Y287,早見表!$B$6:$S$6,0)),0)","v":0}]
[null,null,null,null,null,null,null,null,null,null,null,null,null,null,null,null,null,null,{"$f":"IFERROR(INDEX(早見表!$B$6:$S$19,MATCH(Q288,早見表!$B$6:$B$19,0),MATCH(H288,早見表!$B$6:$S$6,0)),0)","v":0},null,null,null,null,null,null,null,null,null,{"$f":"IFERROR(INDEX(早見表!$B$6:$S$8,MATCH(12,早見表!$B$6:$B$8,0),MATCH(Y288,早見表!$B$6:$S$6,0)),0)","v":0}]
[null,null,null,null,null,null,null,null,null,null,null,null,null,null,null,null,null,null,{"$f":"IFERROR(INDEX(早見表!$B$6:$S$19,MATCH(Q289,早見表!$B$6:$B$19,0),MATCH(H289,早見表!$B$6:$S$6,0)),0)","v":0},null,null,null,null,null,null,null,null,null,{"$f":"IFERROR(INDEX(早見表!$B$6:$S$8,MATCH(12,早見表!$B$6:$B$8,0),MATCH(Y289,早見表!$B$6:$S$6,0)),0)","v":0}]
[null,null,null,null,null,null,null,null,null,null,null,null,null,null,null,null,null,null,{"$f":"SUM(S275:X289)","v":0},null,null,null,null,null,null,null,null,null,{"$f":"SUM(AC275:AH289)","v":0}]
[]
[null,"（注）"]
[null,null,"１）　④欄は月割の対象となる方のみ記入して下さい。"]
[null,null,"２）　月割の対象となる場合の⑤保険料算定基礎額の算定方法"]
[null,null,"２）　月割の対象となる場合の③（給付基礎日額×365÷12）（円未満を切り上げてから）×加入月数"]
[]
[]
[null,"【島根局版】",null,null,null,null,null,null,null,null,null,null,null,null,null,null,null,null,null,null,null,null,null,null,null,null,"一人親方団体控"]
[null,"第２種特別加入保険料申告内訳名簿"]
[null,"（一人親方等）"]
[null,null,null,null,null,null,null,null,null,null,null,null,null,null,null,null,null,null,null,null,null,null,null,null,"（",{"$f":"Z268","v":1},null,"枚のうち",null,10,null,"枚目",null,"）"]
[]
[null,"労働保険\n番　　　号",null,null,null,null,"府県",null,"所掌","管轄",null,"基幹番号",null,null,null,null,null,"枝番号",null,null,"事業場の\n所在地",null,null,{"$f":"IF(X270=\"\",\"\",X270)","v":"松江市向島町134-10　松江地方合同庁舎５階"},"","","","","","","","","",""]
[null,null,null,null,null,null,"3","2",{"$f":"IF(I271=\"\",\"\",I271)","v":"×"},{"$f":"IF(J271=\"\",\"\",J271)","v":"0"},"1","×","×","×","×","×","×","×","×","×","事業場の\n名称",null,null,"労働保険事務組合　島根労働局","","","","","","","","","",""]
[null,"①\n整理\n番号",null,"②\n氏名",null,null,null,null,null,null,null,null,null,null,"令 和",null,null,6,"","",null,null,null,"年 度 確 定 ","令 和",null,null,7,"","",null,null,null,"年 度 概 算 "]
[null,null,null,null,null,null,null,"③　\n給付基礎日額",null,null,null,"④年度中途加入・脱退",null,null,null,null,null,null,"⑤\n保険料算定基礎額",null,null,null,null,null,"⑥\n給付基礎日額",null,null,null,"⑦\n保険料算定基礎額"]
[null,null,null,null,null,null,null,null,null,null,null,"加入・脱退年月日",null,null,null,null,"加入月数"]
[null,null,null,null,null,null,null,null,null,null,null,null,null,null,null,null,null,null,{"$f":"IFERROR(INDEX(早見表!$B$6:$S$19,MATCH(Q308,早見表!$B$6:$B$19,0),MATCH(H308,早見表!$B$6:$S$6,0)),0)","v":0},null,null,null,null,null,null,null,null,null,{"$f":"IFERROR(INDEX(早見表!$B$6:$S$8,MATCH(12,早見表!$B$6:$B$8,0),MATCH(Y308,早見表!$B$6:$S$6,0)),0)","v":0}]
[null,null,null,null,null,null,null,null,null,null,null,null,null,null,null,null,null,null,{"$f":"IFERROR(INDEX(早見表!$B$6:$S$19,MATCH(Q309,早見表!$B$6:$B$19,0),MATCH(H309,早見表!$B$6:$S$6,0)),0)","v":0},null,null,null,null,null,null,null,null,null,{"$f":"IFERROR(INDEX(早見表!$B$6:$S$8,MATCH(12,早見表!$B$6:$B$8,0),MATCH(Y309,早見表!$B$6:$S$6,0)),0)","v":0}]
[null,null,null,null,null,null,null,null,null,null,null,null,null,null,null,null,null,null,{"$f":"IFERROR(INDEX(早見表!$B$6:$S$19,MATCH(Q310,早見表!$B$6:$B$19,0),MATCH(H310,早見表!$B$6:$S$6,0)),0)","v":0},null,null,null,null,null,null,null,null,null,{"$f":"IFERROR(INDEX(早見表!$B$6:$S$8,MATCH(12,早見表!$B$6:$B$8,0),MATCH(Y310,早見表!$B$6:$S$6,0)),0)","v":0}]
[null,null,null,null,null,null,null,null,null,null,null,null,null,null,null,null,null,null,{"$f":"IFERROR(INDEX(早見表!$B$6:$S$19,MATCH(Q311,早見表!$B$6:$B$19,0),MATCH(H311,早見表!$B$6:$S$6,0)),0)","v":0},null,null,null,null,null,null,null,null,null,{"$f":"IFERROR(INDEX(早見表!$B$6:$S$8,MATCH(12,早見表!$B$6:$B$8,0),MATCH(Y311,早見表!$B$6:$S$6,0)),0)","v":0}]
[null,null,null,null,null,null,null,null,null,null,null,null,null,null,null,null,null,null,{"$f":"IFERROR(INDEX(早見表!$B$6:$S$19,MATCH(Q312,早見表!$B$6:$B$19,0),MATCH(H312,早見表!$B$6:$S$6,0)),0)","v":0},null,null,null,null,null,null,null,null,null,{"$f":"IFERROR(INDEX(早見表!$B$6:$S$8,MATCH(12,早見表!$B$6:$B$8,0),MATCH(Y312,早見表!$B$6:$S$6,0)),0)","v":0}]
[null,null,null,null,null,null,null,null,null,null,null,null,null,null,null,null,null,null,{"$f":"IFERROR(INDEX(早見表!$B$6:$S$19,MATCH(Q313,早見表!$B$6:$B$19,0),MATCH(H313,早見表!$B$6:$S$6,0)),0)","v":0},null,null,null,null,null,null,null,null,null,{"$f":"IFERROR(INDEX(早見表!$B$6:$S$8,MATCH(12,早見表!$B$6:$B$8,0),MATCH(Y313,早見表!$B$6:$S$6,0)),0)","v":0}]
[null,null,null,null,null,null,null,null,null,null,null,null,null,null,null,null,null,null,{"$f":"IFERROR(INDEX(早見表!$B$6:$S$19,MATCH(Q314,早見表!$B$6:$B$19,0),MATCH(H314,早見表!$B$6:$S$6,0)),0)","v":0},null,null,null,null,null,null,null,null,null,{"$f":"IFERROR(INDEX(早見表!$B$6:$S$8,MATCH(12,早見表!$B$6:$B$8,0),MATCH(Y314,早見表!$B$6:$S$6,0)),0)","v":0}]
[null,null,null,null,null,null,null,null,null,null,null,null,null,null,null,null,null,null,{"$f":"IFERROR(INDEX(早見表!$B$6:$S$19,MATCH(Q315,早見表!$B$6:$B$19,0),MATCH(H315,早見表!$B$6:$S$6,0)),0)","v":0},null,null,null,null,null,null,null,null,null,{"$f":"IFERROR(INDEX(早見表!$B$6:$S$8,MATCH(12,早見表!$B$6:$B$8,0),MATCH(Y315,早見表!$B$6:$S$6,0)),0)","v":0}]
[null,null,null,null,null,null,null,null,null,null,null,null,null,null,null,null,null,null,{"$f":"IFERROR(INDEX(早見表!$B$6:$S$19,MATCH(Q316,早見表!$B$6:$B$19,0),MATCH(H316,早見表!$B$6:$S$6,0)),0)","v":0},null,null,null,null,null,null,null,null,null,{"$f":"IFERROR(INDEX(早見表!$B$6:$S$8,MATCH(12,早見表!$B$6:$B$8,0),MATCH(Y316,早見表!$B$6:$S$6,0)),0)","v":0}]
[null,null,null,null,null,null,null,null,null,null,null,null,null,null,null,null,null,null,{"$f":"IFERROR(INDEX(早見表!$B$6:$S$19,MATCH(Q317,早見表!$B$6:$B$19,0),MATCH(H317,早見表!$B$6:$S$6,0)),0)","v":0},null,null,null,null,null,null,null,null,null,{"$f":"IFERROR(INDEX(早見表!$B$6:$S$8,MATCH(12,早見表!$B$6:$B$8,0),MATCH(Y317,早見表!$B$6:$S$6,0)),0)","v":0}]
[null,null,null,null,null,null,null,null,null,null,null,null,null,null,null,null,null,null,{"$f":"IFERROR(INDEX(早見表!$B$6:$S$19,MATCH(Q318,早見表!$B$6:$B$19,0),MATCH(H318,早見表!$B$6:$S$6,0)),0)","v":0},null,null,null,null,null,null,null,null,null,{"$f":"IFERROR(INDEX(早見表!$B$6:$S$8,MATCH(12,早見表!$B$6:$B$8,0),MATCH(Y318,早見表!$B$6:$S$6,0)),0)","v":0}]
[null,null,null,null,null,null,null,null,null,null,null,null,null,null,null,null,null,null,{"$f":"IFERROR(INDEX(早見表!$B$6:$S$19,MATCH(Q319,早見表!$B$6:$B$19,0),MATCH(H319,早見表!$B$6:$S$6,0)),0)","v":0},null,null,null,null,null,null,null,null,null,{"$f":"IFERROR(INDEX(早見表!$B$6:$S$8,MATCH(12,早見表!$B$6:$B$8,0),MATCH(Y319,早見表!$B$6:$S$6,0)),0)","v":0}]
[null,null,null,null,null,null,null,null,null,null,null,null,null,null,null,null,null,null,{"$f":"IFERROR(INDEX(早見表!$B$6:$S$19,MATCH(Q320,早見表!$B$6:$B$19,0),MATCH(H320,早見表!$B$6:$S$6,0)),0)","v":0},null,null,null,null,null,null,null,null,null,{"$f":"IFERROR(INDEX(早見表!$B$6:$S$8,MATCH(12,早見表!$B$6:$B$8,0),MATCH(Y320,早見表!$B$6:$S$6,0)),0)","v":0}]
[null,null,null,null,null,null,null,null,null,null,null,null,null,null,null,null,null,null,{"$f":"IFERROR(INDEX(早見表!$B$6:$S$19,MATCH(Q321,早見表!$B$6:$B$19,0),MATCH(H321,早見表!$B$6:$S$6,0)),0)","v":0},null,null,null,null,null,null,null,null,null,{"$f":"IFERROR(INDEX(早見表!$B$6:$S$8,MATCH(12,早見表!$B$6:$B$8,0),MATCH(Y321,早見表!$B$6:$S$6,0)),0)","v":0}]
[null,null,null,null,null,null,null,null,null,null,null,null,null,null,null,null,null,null,{"$f":"IFERROR(INDEX(早見表!$B$6:$S$19,MATCH(Q322,早見表!$B$6:$B$19,0),MATCH(H322,早見表!$B$6:$S$6,0)),0)","v":0},null,null,null,null,null,null,null,null,null,{"$f":"IFERROR(INDEX(早見表!$B$6:$S$8,MATCH(12,早見表!$B$6:$B$8,0),MATCH(Y322,早見表!$B$6:$S$6,0)),0)","v":0}]
[null,null,null,null,null,null,null,null,null,null,null,null,null,null,null,null,null,null,{"$f":"SUM(S308:X322)","v":0},null,null,null,null,null,null,null,null,null,{"$f":"SUM(AC308:AH322)","v":0}]
[]
[null,"（注）"]
[null,null,"１）　④欄は月割の対象となる方のみ記入して下さい。"]
[null,null,"２）　月割の対象となる場合の⑤保険料算定基礎額の算定方法"]
[null,null,"２）　月割の対象となる場合の③（給付基礎日額×365÷12）（円未満を切り上げてから）×加入月数"]

{"sheet":"保険料申告内訳名簿（一人親方団体控）","index":2,"n_rows":328,"n_cols":34,"rows_kept":328,"cut":false,"hidden":false,"merged":[[321,28,321,33],[322,1,322,17],[322,18,322,23],[322,24,322,27],[322,28,322,33],[320,24,320,27],[320,28,320,33],[321,1,321,2],[321,3,321,6],[321,7,321,10],[321,11,321,13],[321,14,321,15],[321,16,321,17],[321,18,321,23],[321,24,321,27],[319,18,319,23],[319,24,319,27],[319,28,319,33],[320,1,320,2],[320,3,320,6],[320,7,320,10],[320,11,320,13],[320,14,320,15],[320,16,320,17],[320,18,320,23],[319,1,319,2],[319,3,319,6],[319,7,319,10],[319,11,319,13],[319,14,319,15],[319,16,319,17],[317,28,317,33],[318,1,318,2],[318,3,318,6],[318,7,318,10],[318,11,318,13],[318,14,318,15],[318,16,318,17],[318,18,318,23],[318,24,318,27],[318,28,318,33],[316,24,316,27],[316,28,316,33],[317,1,317,2],[317,3,317,6],[317,7,317,10],[317,11,317,13],[317,14,317,15],[317,16,317,17],[317,18,317,23],[317,24,317,27],[315,18,315,23],[315,24,315,27],[315,28,315,33],[316,1,316,2],[316,3,316,6],[316,7,316,10],[316,11,316,13],[316,14,316,15],[316,16,316,17],[316,18,316,23],[315,1,315,2],[315,3,315,6],[315,7,315,10],[315,11,315,13],[315,14,315,15],[315,16,315,17],[313,28,313,33],[314,1,314,2],[314,3,314,6],[314,7,314,10],[314,11,314,13],[314,14,314,15],[314,16,314,17],[314,18,314,23],[314,24,314,27],[314,28,314,33],[312,24,312,27],[312,28,312,33],[313,1,313,2],[313,3,313,6],[313,7,313,10],[313,11,313,13],[313,14,313,15],[313,16,313,17],[313,18,313,23],[313,24,313,27],[311,18,311,23],[311,24,311,27],[311,28,311,33],[312,1,312,2],[312,3,312,6],[312,7,312,10],[312,11,312,13],[312,14,312,15],[312,16,312,17],[312,18,312,23],[311,1,311,2],[311,3,311,6],[311,7,311,10],[311,11,311,13],[311,14,311,15],[311,16,311,17],[309,28,309,33],[310,1,310,2],[310,3,310,6],[310,7,310,10],[310,11,310,13],[310,14,310,15],[310,16,310,17],[310,18,310,23],[310,24,310,27],[310,28,310,33],[308,24,308,27],[308,28,308,33],[309,1,309,2],[309,3,309,6],[309,7,309,10],[309,11,309,13],[309,14,309,15],[309,16,309,17],[309,18,309,23],[309,24,309,27],[307,18,307,23],[307,24,307,27],[307,28,307,33],[308,1,308,2],[308,3,308,6],[308,7,308,10],[308,11,308,13],[308,14,308,15],[308,16,308,17],[308,18,308,23],[307,1,307,2],[307,3,307,6],[307,7,307,10],[307,11,307,13],[307,14,307,15],[307,16,307,17],[305,11,305,17],[305,18,306,23],[305,24,306,27],[305,28,306,33],[306,11,306,15],[306,16,306,17],[302,23,302,33],[303,20,303,22],[303,23,303,33],[304,1,306,2],[304,3,306,6],[304,14,304,16],[304,17,304,19],[304,24,304,26],[304,27,304,29],[305,7,306,10],[302,1,303,5],[302,6,302,7],[302,9,302,10],[302,11,302,16],[302,17,302,19],[302,20,302,22],[298,1,298,33],[299,1,299,33],[300,25,300,26],[300,27,300,28],[300,29,300,30],[300,31,300,32],[288,28,288,33],[289,1,289,17],[289,18,289,23],[289,24,289,27],[289,28,289,33],[297,26,297,33],[287,24,287,27],[287,28,287,33],[288,1,288,2],[288,3,288,6],[288,7,288,10],[288,11,288,13],[288,14,288,15],[288,16,288,17],[288,18,288,23],[288,24,288,27],[286,18,286,23],[286,24,286,27],[286,28,286,33],[287,1,287,2],[287,3,287,6],[287,7,287,10],[287,11,287,13],[287,14,287,15],[287,16,287,17],[287,18,287,23],[286,1,286,2],[286,3,286,6],[286,7,286,10],[286,11,286,13],[286,14,286,15],[286,16,286,17],[284,28,284,33],[285,1,285,2],[285,3,285,6],[285,7,285,10],[285,11,285,13],[285,14,285,15],[285,16,285,17],[285,18,285,23],[285,24,285,27],[285,28,285,33],[283,24,283,27],[283,28,283,33],[284,1,284,2],[284,3,284,6],[284,7,284,10],[284,11,284,13],[284,14,284,15],[284,16,284,17],[284,18,284,23],[284,24,284,27],[282,18,282,23],[282,24,282,27],[282,28,282,33],[283,1,283,2],[283,3,283,6],[283,7,283,10],[283,11,283,13],[283,14,283,15],[283,16,283,17],[283,18,283,23],[282,1,282,2],[282,3,282,6],[282,7,282,10],[282,11,282,13],[282,14,282,15],[282,16,282,17],[280,28,280,33],[281,1,281,2],[281,3,281,6],[281,7,281,10],[281,11,281,13],[281,14,281,15],[281,16,281,17],[281,18,281,23],[281,24,281,27],[281,28,281,33],[279,24,279,27],[279,28,279,33],[280,1,280,2],[280,3,280,6],[280,7,280,10],[280,11,280,13],[280,14,280,15],[280,16,280,17],[280,18,280,23],[280,24,280,27],[278,18,278,23],[278,24,278,27],[278,28,278,33],[279,1,279,2],[279,3,279,6],[279,7,279,10],[279,11,279,13],[279,14,279,15],[279,16,279,17],[279,18,279,23],[278,1,278,2],[278,3,278,6],[278,7,278,10],[278,11,278,13],[278,14,278,15],[278,16,278,17],[276,28,276,33],[277,1,277,2],[277,3,277,6],[277,7,277,10],[277,11,277,13],[277,14,277,15],[277,16,277,17],[277,18,277,23],[277,24,277,27],[277,28,277,33],[275,24,275,27],[275,28,275,33],[276,1,276,2],[276,3,276,6],[276,7,276,10],[276,11,276,13],[276,14,276,15],[276,16,276,17],[276,18,276,23],[276,24,276,27],[274,18,274,23],[274,24,274,27],[274,28,274,33],[275,1,275,2],[275,3,275,6],[275,7,275,10],[275,11,275,13],[275,14,275,15],[275,16,275,17],[275,18,275,23],[274,1,274,2],[274,3,274,6],[274,7,274,10],[274,11,274,13],[274,14,274,15],[274,16,274,17],[272,11,272,17],[272,18,273,23],[272,24,273,27],[272,28,273,33],[273,11,273,15],[273,16,273,17],[269,23,269,33],[270,20,270,22],[270,23,270,33],[271,1,273,2],[271,3,273,6],[271,14,271,16],[271,17,271,19],[271,24,271,26],[271,27,271,29],[272,7,273,10],[269,1,270,5],[269,6,269,7],[269,9,269,10],[269,11,269,16],[269,17,269,19],[269,20,269,22],[265,1,265,33],[266,1,266,33],[267,25,267,26],[267,27,267,28],[267,29,267,30],[267,31,267,32],[255,28,255,33],[256,1,256,17],[256,18,256,23],[256,24,256,27],[256,28,256,33],[264,26,264,33],[254,24,254,27],[254,28,254,33],[255,1,255,2],[255,3,255,6],[255,7,255,10],[255,11,255,13],[255,14,255,15],[255,16,255,17],[255,18,255,23],[255,24,255,27],[253,18,253,23],[253,24,253,27],[253,28,253,33],[254,1,254,2],[254,3,254,6],[254,7,254,10],[254,11,254,13],[254,14,254,15],[254,16,254,17],[254,18,254,23],[253,1,253,2],[253,3,253,6],[253,7,253,10],[253,11,253,13],[253,14,253,15],[253,16,253,17],[251,28,251,33],[252,1,252,2],[252,3,252,6],[252,7,252,10],[252,11,252,13],[252,14,252,15],[252,16,252,17],[252,18,252,23],[252,24,252,27],[252,28,252,33],[250,24,250,27],[250,28,250,33],[251,1,251,2],[251,3,251,6],[251,7,251,10],[251,11,251,13],[251,14,251,15],[251,16,251,17],[251,18,251,23],[251,24,251,27],[249,18,249,23],[249,24,249,27],[249,28,249,33],[250,1,250,2],[250,3,250,6],[250,7,250,10],[250,11,250,13],[250,14,250,15],[250,16,250,17],[250,18,250,23],[249,1,249,2],[249,3,249,6],[249,7,249,10],[249,11,249,13],[249,14,249,15],[249,16,249,17],[247,28,247,33],[248,1,248,2],[248,3,248,6],[248,7,248,10],[248,11,248,13],[248,14,248,15],[248,16,248,17],[248,18,248,23],[248,24,248,27],[248,28,248,33],[246,24,246,27],[246,28,246,33],[247,1,247,2],[247,3,247,6],[247,7,247,10],[247,11,247,13],[247,14,247,15],[247,16,247,17],[247,18,247,23],[247,24,247,27],[245,18,245,23],[245,24,245,27],[245,28,245,33],[246,1,246,2],[246,3,246,6],[246,7,246,10],[246,11,246,13],[246,14,246,15],[246,16,246,17],[246,18,246,23],[245,1,245,2],[245,3,245,6],[245,7,245,10],[245,11,245,13],[245,14,245,15],[245,16,245,17],[243,28,243,33],[244,1,244,2],[244,3,244,6],[244,7,244,10],[244,11,244,13],[244,14,244,15],[244,16,244,17],[244,18,244,23],[244,24,244,27],[244,28,244,33],[242,24,242,27],[242,28,242,33],[243,1,243,2],[243,3,243,6],[243,7,243,10],[243,11,243,13],[243,14,243,15],[243,16,243,17],[243,18,243,23],[243,24,243,27],[241,18,241,23],[241,24,241,27],[241,28,241,33],[242,1,242,2],[242,3,242,6],[242,7,242,10],[242,11,242,13],[242,14,242,15],[242,16,242,17],[242,18,242,23],[241,1,241,2],[241,3,241,6],[241,7,241,10],[241,11,241,13],[241,14,241,15],[241,16,241,17],[239,11,239,17],[239,18,240,23],[239,24,240,27],[239,28,240,33],[240,11,240,15],[240,16,240,17],[236,23,236,33],[237,20,237,22],[237,23,237,33],[238,1,240,2],[238,3,240,6],[238,14,238,16],[238,17,238,19],[238,24,238,26],[238,27,238,29],[239,7,240,10],[236,1,237,5],[236,6,236,7],[236,9,236,10],[236,11,236,16],[236,17,236,19],[236,20,236,22],[232,1,232,33],[233,1,233,33],[234,25,234,26],[234,27,234,28],[234,29,234,30],[234,31,234,32],[222,28,222,33],[223,1,223,17],[223,18,223,23],[223,24,223,27],[223,28,223,33],[231,26,231,33],[221,24,221,27],[221,28,221,33],[222,1,222,2],[222,3,222,6],[222,7,222,10],[222,11,222,13],[222,14,222,15],[222,16,222,17],[222,18,222,23],[222,24,222,27],[220,18,220,23],[220,24,220,27],[220,28,220,33],[221,1,221,2],[221,3,221,6],[221,7,221,10],[221,11,221,13],[221,14,221,15],[221,16,221,17],[221,18,221,23],[220,1,220,2],[220,3,220,6],[220,7,220,10],[220,11,220,13],[220,14,220,15],[220,16,220,17],[218,28,218,33],[219,1,219,2],[219,3,219,6],[219,7,219,10],[219,11,219,13],[219,14,219,15],[219,16,219,17],[219,18,219,23],[219,24,219,27],[219,28,219,33],[217,24,217,27],[217,28,217,33],[218,1,218,2],[218,3,218,6],[218,7,218,10],[218,11,218,13],[218,14,218,15],[218,16,218,17],[218,18,218,23],[218,24,218,27],[216,18,216,23],[216,24,216,27],[216,28,216,33],[217,1,217,2],[217,3,217,6],[217,7,217,10],[217,11,217,13],[217,14,217,15],[217,16,217,17],[217,18,217,23],[216,1,216,2],[216,3,216,6],[216,7,216,10],[216,11,216,13],[216,14,216,15],[216,16,216,17],[214,28,214,33],[215,1,215,2],[215,3,215,6],[215,7,215,10],[215,11,215,13],[215,14,215,15],[215,16,215,17],[215,18,215,23],[215,24,215,27],[215,28,215,33],[213,24,213,27],[213,28,213,33],[214,1,214,2],[214,3,214,6],[214,7,214,10],[214,11,214,13],[214,14,214,15],[214,16,214,17],[214,18,214,23],[214,24,214,27],[212,18,212,23],[212,24,212,27],[212,28,212,33],[213,1,213,2],[213,3,213,6],[213,7,213,10],[213,11,213,13],[213,14,213,15],[213,16,213,17],[213,18,213,23],[212,1,212,2],[212,3,212,6],[212,7,212,10],[212,11,212,13],[212,14,212,15],[212,16,212,17],[210,28,210,33],[211,1,211,2],[211,3,211,6],[211,7,211,10],[211,11,211,13],[211,14,211,15],[211,16,211,17],[211,18,211,23],[211,24,211,27],[211,28,211,33],[209,24,209,27],[209,28,209,33],[210,1,210,2],[210,3,210,6],[210,7,210,10],[210,11,210,13],[210,14,210,15],[210,16,210,17],[210,18,210,23],[210,24,210,27],[208,18,208,23],[208,24,208,27],[208,28,208,33],[209,1,209,2],[209,3,209,6],[209,7,209,10],[209,11,209,13],[209,14,209,15],[209,16,209,17],[209,18,209,23],[208,1,208,2],[208,3,208,6],[208,7,208,10],[208,11,208,13],[208,14,208,15],[208,16,208,17],[206,11,206,17],[206,18,207,23],[206,24,207,27],[206,28,207,33],[207,11,207,15],[207,16,207,17],[203,23,203,33],[204,20,204,22],[204,23,204,33],[205,1,207,2],[205,3,207,6],[205,14,205,16],[205,17,205,19],[205,24,205,26],[205,27,205,29],[206,7,207,10],[203,1,204,5],[203,6,203,7],[203,9,203,10],[203,11,203,16],[203,17,203,19],[203,20,203,22],[199,1,199,33],[200,1,200,33],[201,25,201,26],[201,27,201,28],[201,29,201,30],[201,31,201,32],[189,28,189,33],[190,1,190,17],[190,18,190,23],[190,24,190,27],[190,28,190,33],[198,26,198,33],[188,24,188,27],[188,28,188,33],[189,1,189,2],[189,3,189,6],[189,7,189,10],[189,11,189,13],[189,14,189,15],[189,16,189,17],[189,18,189,23],[189,24,189,27],[187,18,187,23],[187,24,187,27],[187,28,187,33],[188,1,188,2],[188,3,188,6],[188,7,188,10],[188,11,188,13],[188,14,188,15],[188,16,188,17],[188,18,188,23],[187,1,187,2],[187,3,187,6],[187,7,187,10],[187,11,187,13],[187,14,187,15],[187,16,187,17],[185,28,185,33],[186,1,186,2],[186,3,186,6],[186,7,186,10],[186,11,186,13],[186,14,186,15],[186,16,186,17],[186,18,186,23],[186,24,186,27],[186,28,186,33],[184,24,184,27],[184,28,184,33],[185,1,185,2],[185,3,185,6],[185,7,185,10],[185,11,185,13],[185,14,185,15],[185,16,185,17],[185,18,185,23],[185,24,185,27],[183,18,183,23],[183,24,183,27],[183,28,183,33],[184,1,184,2],[184,3,184,6],[184,7,184,10],[184,11,184,13],[184,14,184,15],[184,16,184,17],[184,18,184,23],[183,1,183,2],[183,3,183,6],[183,7,183,10],[183,11,183,13],[183,14,183,15],[183,16,183,17],[181,28,181,33],[182,1,182,2],[182,3,182,6],[182,7,182,10],[182,11,182,13],[182,14,182,15],[182,16,182,17],[182,18,182,23],[182,24,182,27],[182,28,182,33],[180,24,180,27],[180,28,180,33],[181,1,181,2],[181,3,181,6],[181,7,181,10],[181,11,181,13],[181,14,181,15],[181,16,181,17],[181,18,181,23],[181,24,181,27],[179,18,179,23],[179,24,179,27],[179,28,179,33],[180,1,180,2],[180,3,180,6],[180,7,180,10],[180,11,180,13],[180,14,180,15],[180,16,180,17],[180,18,180,23],[179,1,179,2],[179,3,179,6],[179,7,179,10],[179,11,179,13],[179,14,179,15],[179,16,179,17],[177,28,177,33],[178,1,178,2],[178,3,178,6],[178,7,178,10],[178,11,178,13],[178,14,178,15],[178,16,178,17],[178,18,178,23],[178,24,178,27],[178,28,178,33],[176,24,176,27],[176,28,176,33],[177,1,177,2],[177,3,177,6],[177,7,177,10],[177,11,177,13],[177,14,177,15],[177,16,177,17],[177,18,177,23],[177,24,177,27],[175,18,175,23],[175,24,175,27],[175,28,175,33],[176,1,176,2],[176,3,176,6],[176,7,176,10],[176,11,176,13],[176,14,176,15],[176,16,176,17],[176,18,176,23],[175,1,175,2],[175,3,175,6],[175,7,175,10],[175,11,175,13],[175,14,175,15],[175,16,175,17],[173,11,173,17],[173,18,174,23],[173,24,174,27],[173,28,174,33],[174,11,174,15],[174,16,174,17],[170,23,170,33],[171,20,171,22],[171,23,171,33],[172,1,174,2],[172,3,174,6],[172,14,172,16],[172,17,172,19],[172,24,172,26],[172,27,172,29],[173,7,174,10],[170,1,171,5],[170,6,170,7],[170,9,170,10],[170,11,170,16],[170,17,170,19],[170,20,170,22],[166,1,166,33],[167,1,167,33],[168,25,168,26],[168,27,168,28],[168,29,168,30],[168,31,168,32],[156,28,156,33],[157,1,157,17],[157,18,157,23],[157,24,157,27],[157,28,157,33],[165,26,165,33],[155,24,155,27],[155,28,155,33],[156,1,156,2],[156,3,156,6],[156,7,156,10],[156,11,156,13],[156,14,156,15],[156,16,156,17],[156,18,156,23],[156,24,156,27],[154,18,154,23],[154,24,154,27],[154,28,154,33],[155,1,155,2],[155,3,155,6],[155,7,155,10],[155,11,155,13],[155,14,155,15],[155,16,155,17],[155,18,155,23],[154,1,154,2],[154,3,154,6],[154,7,154,10],[154,11,154,13],[154,14,154,15],[154,16,154,17],[152,28,152,33],[153,1,153,2],[153,3,153,6],[153,7,153,10],[153,11,153,13],[153,14,153,15],[153,16,153,17],[153,18,153,23],[153,24,153,27],[153,28,153,33],[151,24,151,27],[151,28,151,33],[152,1,152,2],[152,3,152,6],[152,7,152,10],[152,11,152,13],[152,14,152,15],[152,16,152,17],[152,18,152,23],[152,24,152,27],[150,18,150,23],[150,24,150,27],[150,28,150,33],[151,1,151,2],[151,3,151,6],[151,7,151,10],[151,11,151,13],[151,14,151,15],[151,16,151,17],[151,18,151,23],[150,1,150,2],[150,3,150,6],[150,7,150,10],[150,11,150,13],[150,14,150,15],[150,16,150,17],[148,28,148,33],[149,1,149,2],[149,3,149,6],[149,7,149,10],[149,11,149,13],[149,14,149,15],[149,16,149,17],[149,18,149,23],[149,24,149,27],[149,28,149,33],[147,24,147,27],[147,28,147,33],[148,1,148,2],[148,3,148,6],[148,7,148,10],[148,11,148,13],[148,14,148,15],[148,16,148,17],[148,18,148,23],[148,24,148,27],[146,18,146,23],[146,24,146,27],[146,28,146,33],[147,1,147,2],[147,3,147,6],[147,7,147,10],[147,11,147,13],[147,14,147,15],[147,16,147,17],[147,18,147,23],[146,1,146,2],[146,3,146,6],[146,7,146,10],[146,11,146,13],[146,14,146,15],[146,16,146,17],[144,28,144,33],[145,1,145,2],[145,3,145,6],[145,7,145,10],[145,11,145,13],[145,14,145,15],[145,16,145,17],[145,18,145,23],[145,24,145,27],[145,28,145,33],[143,24,143,27],[143,28,143,33],[144,1,144,2],[144,3,144,6],[144,7,144,10],[144,11,144,13],[144,14,144,15],[144,16,144,17],[144,18,144,23],[144,24,144,27],[142,18,142,23],[142,24,142,27],[142,28,142,33],[143,1,143,2],[143,3,143,6],[143,7,143,10],[143,11,143,13],[143,14,143,15],[143,16,143,17],[143,18,143,23],[142,1,142,2],[142,3,142,6],[142,7,142,10],[142,11,142,13],[142,14,142,15],[142,16,142,17],[140,11,140,17],[140,18,141,23],[140,24,141,27],[140,28,141,33],[141,11,141,15],[141,16,141,17],[137,23,137,33],[138,20,138,22],[138,23,138,33],[139,1,141,2],[139,3,141,6],[139,14,139,16],[139,17,139,19],[139,24,139,26],[139,27,139,29],[140,7,141,10],[137,1,138,5],[137,6,137,7],[137,9,137,10],[137,11,137,16],[137,17,137,19]],"merged_total":1680,"flags":["merged_cut"]}
[null,"【島根局版】",null,null,null,null,null,null,null,null,null,null,null,null,null,null,null,null,null,null,null,null,null,null,null,null,"一人親方団体控"]
[null,"第２種特別加入保険料申告内訳名簿"]
[null,"（一人親方等）"]
[null,null,null,null,null,null,null,null,null,null,null,null,null,null,null,null,null,null,null,null,null,null,null,null,"（",{"$f":"IF(COUNTA(B11:C25)>0,1,0) + IF(COUNTA(B44:C58)>0,1,0)+ IF(COUNTA(B77:C91)>0,1,0)+ IF(COUNTA(B110:C124)>0,1,0)+ IF(COUNTA(B143:C157)>0,1,0)+ IF(COUNTA(B176:C190)>0,1,0)+ IF(COUNTA(B209:C223)>0,1,0)+ IF(COUNTA(B242:C256)>0,1,0)+ IF(COUNTA(B275:C289)>0,1,0)+ IF(COUNTA(B308:C322)>0,1,0)","v":0},null,"枚のうち",null,1,null,"枚目",null,"）"]
[]
[null,"労働保険\n番　　　号",null,null,null,null,"府県",null,"所掌","管轄",null,"基幹番号",null,null,null,null,null,"枝番号",null,null,"事業場の\n所在地"]
[null,null,null,null,null,null,"3","2",null,null,null,null,null,null,null,null,null,null,null,null,"事業場の\n名称"]
[null,"①\n整理\n番号",null,"②\n氏名",null,null,null,null,null,null,null,null,null,null,"令 和",null,null,null,null,null,null,null,null,"年 度 確 定 ","令 和",null,null,null,null,null,null,null,null,"年 度 概 算 "]
[null,null,null,null,null,null,null,"③　\n給付基礎日額",null,null,null,"④年度中途加入・脱退",null,null,null,null,null,null,"⑤\n保険料算定基礎額",null,null,null,null,null,"⑥\n給付基礎日額",null,null,null,"⑦\n保険料算定基礎額"]
[null,null,null,null,null,null,null,null,null,null,null,"加入・脱退年月日",null,null,null,null,"加入月数"]
[null,null,null,null,null,null,null,null,null,null,null,null,null,null,null,null,null,null,{"$f":"IFERROR(INDEX(早見表!$B$6:$S$19,MATCH(Q11,早見表!$B$6:$B$19,0),MATCH(H11,早見表!$B$6:$S$6,0)),0)","v":0},null,null,null,null,null,null,null,null,null,{"$f":"IFERROR(INDEX(早見表!$B$6:$S$8,MATCH(12,早見表!$B$6:$B$8,0),MATCH(Y11,早見表!$B$6:$S$6,0)),0)","v":0}]
[null,null,null,null,null,null,null,null,null,null,null,null,null,null,null,null,null,null,{"$f":"IFERROR(INDEX(早見表!$B$6:$S$19,MATCH(Q12,早見表!$B$6:$B$19,0),MATCH(H12,早見表!$B$6:$S$6,0)),0)","v":0},null,null,null,null,null,null,null,null,null,{"$f":"IFERROR(INDEX(早見表!$B$6:$S$8,MATCH(12,早見表!$B$6:$B$8,0),MATCH(Y12,早見表!$B$6:$S$6,0)),0)","v":0}]
[null,null,null,null,null,null,null,null,null,null,null,null,null,null,null,null,null,null,{"$f":"IFERROR(INDEX(早見表!$B$6:$S$19,MATCH(Q13,早見表!$B$6:$B$19,0),MATCH(H13,早見表!$B$6:$S$6,0)),0)","v":0},null,null,null,null,null,null,null,null,null,{"$f":"IFERROR(INDEX(早見表!$B$6:$S$8,MATCH(12,早見表!$B$6:$B$8,0),MATCH(Y13,早見表!$B$6:$S$6,0)),0)","v":0}]
[null,null,null,null,null,null,null,null,null,null,null,null,null,null,null,null,null,null,{"$f":"IFERROR(INDEX(早見表!$B$6:$S$19,MATCH(Q14,早見表!$B$6:$B$19,0),MATCH(H14,早見表!$B$6:$S$6,0)),0)","v":0},null,null,null,null,null,null,null,null,null,{"$f":"IFERROR(INDEX(早見表!$B$6:$S$8,MATCH(12,早見表!$B$6:$B$8,0),MATCH(Y14,早見表!$B$6:$S$6,0)),0)","v":0}]
[null,null,null,null,null,null,null,null,null,null,null,null,null,null,null,null,null,null,{"$f":"IFERROR(INDEX(早見表!$B$6:$S$19,MATCH(Q15,早見表!$B$6:$B$19,0),MATCH(H15,早見表!$B$6:$S$6,0)),0)","v":0},null,null,null,null,null,null,null,null,null,{"$f":"IFERROR(INDEX(早見表!$B$6:$S$8,MATCH(12,早見表!$B$6:$B$8,0),MATCH(Y15,早見表!$B$6:$S$6,0)),0)","v":0}]
[null,null,null,null,null,null,null,null,null,null,null,null,null,null,null,null,null,null,{"$f":"IFERROR(INDEX(早見表!$B$6:$S$19,MATCH(Q16,早見表!$B$6:$B$19,0),MATCH(H16,早見表!$B$6:$S$6,0)),0)","v":0},null,null,null,null,null,null,null,null,null,{"$f":"IFERROR(INDEX(早見表!$B$6:$S$8,MATCH(12,早見表!$B$6:$B$8,0),MATCH(Y16,早見表!$B$6:$S$6,0)),0)","v":0}]
[null,null,null,null,null,null,null,null,null,null,null,null,null,null,null,null,null,null,{"$f":"IFERROR(INDEX(早見表!$B$6:$S$19,MATCH(Q17,早見表!$B$6:$B$19,0),MATCH(H17,早見表!$B$6:$S$6,0)),0)","v":0},null,null,null,null,null,null,null,null,null,{"$f":"IFERROR(INDEX(早見表!$B$6:$S$8,MATCH(12,早見表!$B$6:$B$8,0),MATCH(Y17,早見表!$B$6:$S$6,0)),0)","v":0}]
[null,null,null,null,null,null,null,null,null,null,null,null,null,null,null,null,null,null,{"$f":"IFERROR(INDEX(早見表!$B$6:$S$19,MATCH(Q18,早見表!$B$6:$B$19,0),MATCH(H18,早見表!$B$6:$S$6,0)),0)","v":0},null,null,null,null,null,null,null,null,null,{"$f":"IFERROR(INDEX(早見表!$B$6:$S$8,MATCH(12,早見表!$B$6:$B$8,0),MATCH(Y18,早見表!$B$6:$S$6,0)),0)","v":0}]
[null,null,null,null,null,null,null,null,null,null,null,null,null,null,null,null,null,null,{"$f":"IFERROR(INDEX(早見表!$B$6:$S$19,MATCH(Q19,早見表!$B$6:$B$19,0),MATCH(H19,早見表!$B$6:$S$6,0)),0)","v":0},null,null,null,null,null,null,null,null,null,{"$f":"IFERROR(INDEX(早見表!$B$6:$S$8,MATCH(12,早見表!$B$6:$B$8,0),MATCH(Y19,早見表!$B$6:$S$6,0)),0)","v":0}]
[null,null,null,null,null,null,null,null,null,null,null,null,null,null,null,null,null,null,{"$f":"IFERROR(INDEX(早見表!$B$6:$S$19,MATCH(Q20,早見表!$B$6:$B$19,0),MATCH(H20,早見表!$B$6:$S$6,0)),0)","v":0},null,null,null,null,null,null,null,null,null,{"$f":"IFERROR(INDEX(早見表!$B$6:$S$8,MATCH(12,早見表!$B$6:$B$8,0),MATCH(Y20,早見表!$B$6:$S$6,0)),0)","v":0}]
[null,null,null,null,null,null,null,null,null,null,null,null,null,null,null,null,null,null,{"$f":"IFERROR(INDEX(早見表!$B$6:$S$19,MATCH(Q21,早見表!$B$6:$B$19,0),MATCH(H21,早見表!$B$6:$S$6,0)),0)","v":0},null,null,null,null,null,null,null,null,null,{"$f":"IFERROR(INDEX(早見表!$B$6:$S$8,MATCH(12,早見表!$B$6:$B$8,0),MATCH(Y21,早見表!$B$6:$S$6,0)),0)","v":0}]
[null,null,null,null,null,null,null,null,null,null,null,null,null,null,null,null,null,null,{"$f":"IFERROR(INDEX(早見表!$B$6:$S$19,MATCH(Q22,早見表!$B$6:$B$19,0),MATCH(H22,早見表!$B$6:$S$6,0)),0)","v":0},null,null,null,null,null,null,null,null,null,{"$f":"IFERROR(INDEX(早見表!$B$6:$S$8,MATCH(12,早見表!$B$6:$B$8,0),MATCH(Y22,早見表!$B$6:$S$6,0)),0)","v":0}]
[null,null,null,null,null,null,null,null,null,null,null,null,null,null,null,null,null,null,{"$f":"IFERROR(INDEX(早見表!$B$6:$S$19,MATCH(Q23,早見表!$B$6:$B$19,0),MATCH(H23,早見表!$B$6:$S$6,0)),0)","v":0},null,null,null,null,null,null,null,null,null,{"$f":"IFERROR(INDEX(早見表!$B$6:$S$8,MATCH(12,早見表!$B$6:$B$8,0),MATCH(Y23,早見表!$B$6:$S$6,0)),0)","v":0}]
[null,null,null,null,null,null,null,null,null,null,null,null,null,null,null,null,null,null,{"$f":"IFERROR(INDEX(早見表!$B$6:$S$19,MATCH(Q24,早見表!$B$6:$B$19,0),MATCH(H24,早見表!$B$6:$S$6,0)),0)","v":0},null,null,null,null,null,null,null,null,null,{"$f":"IFERROR(INDEX(早見表!$B$6:$S$8,MATCH(12,早見表!$B$6:$B$8,0),MATCH(Y24,早見表!$B$6:$S$6,0)),0)","v":0}]
[null,null,null,null,null,null,null,null,null,null,null,null,null,null,null,null,null,null,{"$f":"IFERROR(INDEX(早見表!$B$6:$S$19,MATCH(Q25,早見表!$B$6:$B$19,0),MATCH(H25,早見表!$B$6:$S$6,0)),0)","v":0},null,null,null,null,null,null,null,null,null,{"$f":"IFERROR(INDEX(早見表!$B$6:$S$8,MATCH(12,早見表!$B$6:$B$8,0),MATCH(Y25,早見表!$B$6:$S$6,0)),0)","v":0}]
[null,null,null,null,null,null,null,null,null,null,null,null,null,null,null,null,null,null,{"$f":"SUM(S11:X25)","v":0},null,null,null,null,null,null,null,null,null,{"$f":"SUM(AC11:AH25)","v":0}]
[]
[null,"（注）"]
[null,null,"１）　④欄は月割の対象となる方のみ記入して下さい。"]
[null,null,"２）　月割の対象となる場合の⑤保険料算定基礎額の算定方法"]
[null,null,"２）　月割の対象となる場合の③（給付基礎日額×365÷12）（円未満を切り上げてから）×加入月数"]
[]
[]
[null,"【島根局版】",null,null,null,null,null,null,null,null,null,null,null,null,null,null,null,null,null,null,null,null,null,null,null,null,"一人親方団体控"]
[null,"第２種特別加入保険料申告内訳名簿"]
[null,"（一人親方等）"]
[null,null,null,null,null,null,null,null,null,null,null,null,null,null,null,null,null,null,null,null,null,null,null,null,"（",{"$f":"Z4","v":0},null,"枚のうち",null,2,null,"枚目",null,"）"]
[]
[null,"労働保険\n番　　　号",null,null,null,null,"府県",null,"所掌","管轄",null,"基幹番号",null,null,null,null,null,"枝番号",null,null,"事業場の\n所在地",null,null,{"$f":"IF(X6=\"\",\"\",X6)","v":""},"","","","","","","","","",""]
[null,null,null,null,null,null,"3","2",{"$f":"IF(I7=\"\",\"\",I7)","v":""},{"$f":"IF(J7=\"\",\"\",J7)","v":""},"","","","","","","","","","","事業場の\n名称",null,null,{"$f":"IF(X7=\"\",\"\",X7)","v":""},"","","","","","","","","",""]
[null,"①\n整理\n番号",null,"②\n氏名",null,null,null,null,null,null,null,null,null,null,"令 和",null,null,"","","",null,null,null,"年 度 確 定 ","令 和",null,null,"","","",null,null,null,"年 度 概 算 "]
[null,null,null,null,null,null,null,"③　\n給付基礎日額",null,null,null,"④年度中途加入・脱退",null,null,null,null,null,null,"⑤\n保険料算定基礎額",null,null,null,null,null,"⑥\n給付基礎日額",null,null,null,"⑦\n保険料算定基礎額"]
[null,null,null,null,null,null,null,null,null,null,null,"加入・脱退年月日",null,null,null,null,"加入月数"]
[null,null,null,null,null,null,null,null,null,null,null,null,null,null,null,null,null,null,{"$f":"IFERROR(INDEX(早見表!$B$6:$S$19,MATCH(Q44,早見表!$B$6:$B$19,0),MATCH(H44,早見表!$B$6:$S$6,0)),0)","v":0},null,null,null,null,null,null,null,null,null,{"$f":"IFERROR(INDEX(早見表!$B$6:$S$8,MATCH(12,早見表!$B$6:$B$8,0),MATCH(Y44,早見表!$B$6:$S$6,0)),0)","v":0}]
[null,null,null,null,null,null,null,null,null,null,null,null,null,null,null,null,null,null,{"$f":"IFERROR(INDEX(早見表!$B$6:$S$19,MATCH(Q45,早見表!$B$6:$B$19,0),MATCH(H45,早見表!$B$6:$S$6,0)),0)","v":0},null,null,null,null,null,null,null,null,null,{"$f":"IFERROR(INDEX(早見表!$B$6:$S$8,MATCH(12,早見表!$B$6:$B$8,0),MATCH(Y45,早見表!$B$6:$S$6,0)),0)","v":0}]
[null,null,null,null,null,null,null,null,null,null,null,null,null,null,null,null,null,null,{"$f":"IFERROR(INDEX(早見表!$B$6:$S$19,MATCH(Q46,早見表!$B$6:$B$19,0),MATCH(H46,早見表!$B$6:$S$6,0)),0)","v":0},null,null,null,null,null,null,null,null,null,{"$f":"IFERROR(INDEX(早見表!$B$6:$S$8,MATCH(12,早見表!$B$6:$B$8,0),MATCH(Y46,早見表!$B$6:$S$6,0)),0)","v":0}]
[null,null,null,null,null,null,null,null,null,null,null,null,null,null,null,null,null,null,{"$f":"IFERROR(INDEX(早見表!$B$6:$S$19,MATCH(Q47,早見表!$B$6:$B$19,0),MATCH(H47,早見表!$B$6:$S$6,0)),0)","v":0},null,null,null,null,null,null,null,null,null,{"$f":"IFERROR(INDEX(早見表!$B$6:$S$8,MATCH(12,早見表!$B$6:$B$8,0),MATCH(Y47,早見表!$B$6:$S$6,0)),0)","v":0}]
[null,null,null,null,null,null,null,null,null,null,null,null,null,null,null,null,null,null,{"$f":"IFERROR(INDEX(早見表!$B$6:$S$19,MATCH(Q48,早見表!$B$6:$B$19,0),MATCH(H48,早見表!$B$6:$S$6,0)),0)","v":0},null,null,null,null,null,null,null,null,null,{"$f":"IFERROR(INDEX(早見表!$B$6:$S$8,MATCH(12,早見表!$B$6:$B$8,0),MATCH(Y48,早見表!$B$6:$S$6,0)),0)","v":0}]
[null,null,null,null,null,null,null,null,null,null,null,null,null,null,null,null,null,null,{"$f":"IFERROR(INDEX(早見表!$B$6:$S$19,MATCH(Q49,早見表!$B$6:$B$19,0),MATCH(H49,早見表!$B$6:$S$6,0)),0)","v":0},null,null,null,null,null,null,null,null,null,{"$f":"IFERROR(INDEX(早見表!$B$6:$S$8,MATCH(12,早見表!$B$6:$B$8,0),MATCH(Y49,早見表!$B$6:$S$6,0)),0)","v":0}]
[null,null,null,null,null,null,null,null,null,null,null,null,null,null,null,null,null,null,{"$f":"IFERROR(INDEX(早見表!$B$6:$S$19,MATCH(Q50,早見表!$B$6:$B$19,0),MATCH(H50,早見表!$B$6:$S$6,0)),0)","v":0},null,null,null,null,null,null,null,null,null,{"$f":"IFERROR(INDEX(早見表!$B$6:$S$8,MATCH(12,早見表!$B$6:$B$8,0),MATCH(Y50,早見表!$B$6:$S$6,0)),0)","v":0}]
[null,null,null,null,null,null,null,null,null,null,null,null,null,null,null,null,null,null,{"$f":"IFERROR(INDEX(早見表!$B$6:$S$19,MATCH(Q51,早見表!$B$6:$B$19,0),MATCH(H51,早見表!$B$6:$S$6,0)),0)","v":0},null,null,null,null,null,null,null,null,null,{"$f":"IFERROR(INDEX(早見表!$B$6:$S$8,MATCH(12,早見表!$B$6:$B$8,0),MATCH(Y51,早見表!$B$6:$S$6,0)),0)","v":0}]
[null,null,null,null,null,null,null,null,null,null,null,null,null,null,null,null,null,null,{"$f":"IFERROR(INDEX(早見表!$B$6:$S$19,MATCH(Q52,早見表!$B$6:$B$19,0),MATCH(H52,早見表!$B$6:$S$6,0)),0)","v":0},null,null,null,null,null,null,null,null,null,{"$f":"IFERROR(INDEX(早見表!$B$6:$S$8,MATCH(12,早見表!$B$6:$B$8,0),MATCH(Y52,早見表!$B$6:$S$6,0)),0)","v":0}]
[null,null,null,null,null,null,null,null,null,null,null,null,null,null,null,null,null,null,{"$f":"IFERROR(INDEX(早見表!$B$6:$S$19,MATCH(Q53,早見表!$B$6:$B$19,0),MATCH(H53,早見表!$B$6:$S$6,0)),0)","v":0},null,null,null,null,null,null,null,null,null,{"$f":"IFERROR(INDEX(早見表!$B$6:$S$8,MATCH(12,早見表!$B$6:$B$8,0),MATCH(Y53,早見表!$B$6:$S$6,0)),0)","v":0}]
[null,null,null,null,null,null,null,null,null,null,null,null,null,null,null,null,null,null,{"$f":"IFERROR(INDEX(早見表!$B$6:$S$19,MATCH(Q54,早見表!$B$6:$B$19,0),MATCH(H54,早見表!$B$6:$S$6,0)),0)","v":0},null,null,null,null,null,null,null,null,null,{"$f":"IFERROR(INDEX(早見表!$B$6:$S$8,MATCH(12,早見表!$B$6:$B$8,0),MATCH(Y54,早見表!$B$6:$S$6,0)),0)","v":0}]
[null,null,null,null,null,null,null,null,null,null,null,null,null,null,null,null,null,null,{"$f":"IFERROR(INDEX(早見表!$B$6:$S$19,MATCH(Q55,早見表!$B$6:$B$19,0),MATCH(H55,早見表!$B$6:$S$6,0)),0)","v":0},null,null,null,null,null,null,null,null,null,{"$f":"IFERROR(INDEX(早見表!$B$6:$S$8,MATCH(12,早見表!$B$6:$B$8,0),MATCH(Y55,早見表!$B$6:$S$6,0)),0)","v":0}]
[null,null,null,null,null,null,null,null,null,null,null,null,null,null,null,null,null,null,{"$f":"IFERROR(INDEX(早見表!$B$6:$S$19,MATCH(Q56,早見表!$B$6:$B$19,0),MATCH(H56,早見表!$B$6:$S$6,0)),0)","v":0},null,null,null,null,null,null,null,null,null,{"$f":"IFERROR(INDEX(早見表!$B$6:$S$8,MATCH(12,早見表!$B$6:$B$8,0),MATCH(Y56,早見表!$B$6:$S$6,0)),0)","v":0}]
[null,null,null,null,null,null,null,null,null,null,null,null,null,null,null,null,null,null,{"$f":"IFERROR(INDEX(早見表!$B$6:$S$19,MATCH(Q57,早見表!$B$6:$B$19,0),MATCH(H57,早見表!$B$6:$S$6,0)),0)","v":0},null,null,null,null,null,null,null,null,null,{"$f":"IFERROR(INDEX(早見表!$B$6:$S$8,MATCH(12,早見表!$B$6:$B$8,0),MATCH(Y57,早見表!$B$6:$S$6,0)),0)","v":0}]
[null,null,null,null,null,null,null,null,null,null,null,null,null,null,null,null,null,null,{"$f":"IFERROR(INDEX(早見表!$B$6:$S$19,MATCH(Q58,早見表!$B$6:$B$19,0),MATCH(H58,早見表!$B$6:$S$6,0)),0)","v":0},null,null,null,null,null,null,null,null,null,{"$f":"IFERROR(INDEX(早見表!$B$6:$S$8,MATCH(12,早見表!$B$6:$B$8,0),MATCH(Y58,早見表!$B$6:$S$6,0)),0)","v":0}]
[null,null,null,null,null,null,null,null,null,null,null,null,null,null,null,null,null,null,{"$f":"SUM(S44:X58)","v":0},null,null,null,null,null,null,null,null,null,{"$f":"SUM(AC44:AH58)","v":0}]
[]
[null,"（注）"]
[null,null,"１）　④欄は月割の対象となる方のみ記入して下さい。"]
[null,null,"２）　月割の対象となる場合の⑤保険料算定基礎額の算定方法"]
[null,null,"２）　月割の対象となる場合の③（給付基礎日額×365÷12）（円未満を切り上げてから）×加入月数"]
[]
[]
[null,"【島根局版】",null,null,null,null,null,null,null,null,null,null,null,null,null,null,null,null,null,null,null,null,null,null,null,null,"一人親方団体控"]
[null,"第２種特別加入保険料申告内訳名簿"]
[null,"（一人親方等）"]
[null,null,null,null,null,null,null,null,null,null,null,null,null,null,null,null,null,null,null,null,null,null,null,null,"（",{"$f":"Z37","v":0},null,"枚のうち",null,3,null,"枚目",null,"）"]
[]
[null,"労働保険\n番　　　号",null,null,null,null,"府県",null,"所掌","管轄",null,"基幹番号",null,null,null,null,null,"枝番号",null,null,"事業場の\n所在地",null,null,{"$f":"IF(X39=\"\",\"\",X39)","v":""},"","","","","","","","","",""]
[null,null,null,null,null,null,"3","2",{"$f":"IF(I40=\"\",\"\",I40)","v":""},{"$f":"IF(J40=\"\",\"\",J40)","v":""},"","","","","","","","","","","事業場の\n名称",null,null,{"$f":"IF(X40=\"\",\"\",X40)","v":""},"","","","","","","","","",""]
[null,"①\n整理\n番号",null,"②\n氏名",null,null,null,null,null,null,null,null,null,null,"令 和",null,null,{"$f":"IF(R41=\"\",\"\",R41)","v":""},"","",null,null,null,"年 度 確 定 ","令 和",null,null,{"$f":"IF(AB41=\"\",\"\",AB41)","v":""},"","",null,null,null,"年 度 概 算 "]
[null,null,null,null,null,null,null,"③　\n給付基礎日額",null,null,null,"④年度中途加入・脱退",null,null,null,null,null,null,"⑤\n保険料算定基礎額",null,null,null,null,null,"⑥\n給付基礎日額",null,null,null,"⑦\n保険料算定基礎額"]
[null,null,null,null,null,null,null,null,null,null,null,"加入・脱退年月日",null,null,null,null,"加入月数"]
[null,null,null,null,null,null,null,null,null,null,null,null,null,null,null,null,null,null,{"$f":"IFERROR(INDEX(早見表!$B$6:$S$19,MATCH(Q77,早見表!$B$6:$B$19,0),MATCH(H77,早見表!$B$6:$S$6,0)),0)","v":0},null,null,null,null,null,null,null,null,null,{"$f":"IFERROR(INDEX(早見表!$B$6:$S$8,MATCH(12,早見表!$B$6:$B$8,0),MATCH(Y77,早見表!$B$6:$S$6,0)),0)","v":0}]
[null,null,null,null,null,null,null,null,null,null,null,null,null,null,null,null,null,null,{"$f":"IFERROR(INDEX(早見表!$B$6:$S$19,MATCH(Q78,早見表!$B$6:$B$19,0),MATCH(H78,早見表!$B$6:$S$6,0)),0)","v":0},null,null,null,null,null,null,null,null,null,{"$f":"IFERROR(INDEX(早見表!$B$6:$S$8,MATCH(12,早見表!$B$6:$B$8,0),MATCH(Y78,早見表!$B$6:$S$6,0)),0)","v":0}]
[null,null,null,null,null,null,null,null,null,null,null,null,null,null,null,null,null,null,{"$f":"IFERROR(INDEX(早見表!$B$6:$S$19,MATCH(Q79,早見表!$B$6:$B$19,0),MATCH(H79,早見表!$B$6:$S$6,0)),0)","v":0},null,null,null,null,null,null,null,null,null,{"$f":"IFERROR(INDEX(早見表!$B$6:$S$8,MATCH(12,早見表!$B$6:$B$8,0),MATCH(Y79,早見表!$B$6:$S$6,0)),0)","v":0}]
[null,null,null,null,null,null,null,null,null,null,null,null,null,null,null,null,null,null,{"$f":"IFERROR(INDEX(早見表!$B$6:$S$19,MATCH(Q80,早見表!$B$6:$B$19,0),MATCH(H80,早見表!$B$6:$S$6,0)),0)","v":0},null,null,null,null,null,null,null,null,null,{"$f":"IFERROR(INDEX(早見表!$B$6:$S$8,MATCH(12,早見表!$B$6:$B$8,0),MATCH(Y80,早見表!$B$6:$S$6,0)),0)","v":0}]
[null,null,null,null,null,null,null,null,null,null,null,null,null,null,null,null,null,null,{"$f":"IFERROR(INDEX(早見表!$B$6:$S$19,MATCH(Q81,早見表!$B$6:$B$19,0),MATCH(H81,早見表!$B$6:$S$6,0)),0)","v":0},null,null,null,null,null,null,null,null,null,{"$f":"IFERROR(INDEX(早見表!$B$6:$S$8,MATCH(12,早見表!$B$6:$B$8,0),MATCH(Y81,早見表!$B$6:$S$6,0)),0)","v":0}]
[null,null,null,null,null,null,null,null,null,null,null,null,null,null,null,null,null,null,{"$f":"IFERROR(INDEX(早見表!$B$6:$S$19,MATCH(Q82,早見表!$B$6:$B$19,0),MATCH(H82,早見表!$B$6:$S$6,0)),0)","v":0},null,null,null,null,null,null,null,null,null,{"$f":"IFERROR(INDEX(早見表!$B$6:$S$8,MATCH(12,早見表!$B$6:$B$8,0),MATCH(Y82,早見表!$B$6:$S$6,0)),0)","v":0}]
[null,null,null,null,null,null,null,null,null,null,null,null,null,null,null,null,null,null,{"$f":"IFERROR(INDEX(早見表!$B$6:$S$19,MATCH(Q83,早見表!$B$6:$B$19,0),MATCH(H83,早見表!$B$6:$S$6,0)),0)","v":0},null,null,null,null,null,null,null,null,null,{"$f":"IFERROR(INDEX(早見表!$B$6:$S$8,MATCH(12,早見表!$B$6:$B$8,0),MATCH(Y83,早見表!$B$6:$S$6,0)),0)","v":0}]
[null,null,null,null,null,null,null,null,null,null,null,null,null,null,null,null,null,null,{"$f":"IFERROR(INDEX(早見表!$B$6:$S$19,MATCH(Q84,早見表!$B$6:$B$19,0),MATCH(H84,早見表!$B$6:$S$6,0)),0)","v":0},null,null,null,null,null,null,null,null,null,{"$f":"IFERROR(INDEX(早見表!$B$6:$S$8,MATCH(12,早見表!$B$6:$B$8,0),MATCH(Y84,早見表!$B$6:$S$6,0)),0)","v":0}]
[null,null,null,null,null,null,null,null,null,null,null,null,null,null,null,null,null,null,{"$f":"IFERROR(INDEX(早見表!$B$6:$S$19,MATCH(Q85,早見表!$B$6:$B$19,0),MATCH(H85,早見表!$B$6:$S$6,0)),0)","v":0},null,null,null,null,null,null,null,null,null,{"$f":"IFERROR(INDEX(早見表!$B$6:$S$8,MATCH(12,早見表!$B$6:$B$8,0),MATCH(Y85,早見表!$B$6:$S$6,0)),0)","v":0}]
[null,null,null,null,null,null,null,null,null,null,null,null,null,null,null,null,null,null,{"$f":"IFERROR(INDEX(早見表!$B$6:$S$19,MATCH(Q86,早見表!$B$6:$B$19,0),MATCH(H86,早見表!$B$6:$S$6,0)),0)","v":0},null,null,null,null,null,null,null,null,null,{"$f":"IFERROR(INDEX(早見表!$B$6:$S$8,MATCH(12,早見表!$B$6:$B$8,0),MATCH(Y86,早見表!$B$6:$S$6,0)),0)","v":0}]
[null,null,null,null,null,null,null,null,null,null,null,null,null,null,null,null,null,null,{"$f":"IFERROR(INDEX(早見表!$B$6:$S$19,MATCH(Q87,早見表!$B$6:$B$19,0),MATCH(H87,早見表!$B$6:$S$6,0)),0)","v":0},null,null,null,null,null,null,null,null,null,{"$f":"IFERROR(INDEX(早見表!$B$6:$S$8,MATCH(12,早見表!$B$6:$B$8,0),MATCH(Y87,早見表!$B$6:$S$6,0)),0)","v":0}]
[null,null,null,null,null,null,null,null,null,null,null,null,null,null,null,null,null,null,{"$f":"IFERROR(INDEX(早見表!$B$6:$S$19,MATCH(Q88,早見表!$B$6:$B$19,0),MATCH(H88,早見表!$B$6:$S$6,0)),0)","v":0},null,null,null,null,null,null,null,null,null,{"$f":"IFERROR(INDEX(早見表!$B$6:$S$8,MATCH(12,早見表!$B$6:$B$8,0),MATCH(Y88,早見表!$B$6:$S$6,0)),0)","v":0}]
[null,null,null,null,null,null,null,null,null,null,null,null,null,null,null,null,null,null,{"$f":"IFERROR(INDEX(早見表!$B$6:$S$19,MATCH(Q89,早見表!$B$6:$B$19,0),MATCH(H89,早見表!$B$6:$S$6,0)),0)","v":0},null,null,null,null,null,null,null,null,null,{"$f":"IFERROR(INDEX(早見表!$B$6:$S$8,MATCH(12,早見表!$B$6:$B$8,0),MATCH(Y89,早見表!$B$6:$S$6,0)),0)","v":0}]
[null,null,null,null,null,null,null,null,null,null,null,null,null,null,null,null,null,null,{"$f":"IFERROR(INDEX(早見表!$B$6:$S$19,MATCH(Q90,早見表!$B$6:$B$19,0),MATCH(H90,早見表!$B$6:$S$6,0)),0)","v":0},null,null,null,null,null,null,null,null,null,{"$f":"IFERROR(INDEX(早見表!$B$6:$S$8,MATCH(12,早見表!$B$6:$B$8,0),MATCH(Y90,早見表!$B$6:$S$6,0)),0)","v":0}]
[null,null,null,null,null,null,null,null,null,null,null,null,null,null,null,null,null,null,{"$f":"IFERROR(INDEX(早見表!$B$6:$S$19,MATCH(Q91,早見表!$B$6:$B$19,0),MATCH(H91,早見表!$B$6:$S$6,0)),0)","v":0},null,null,null,null,null,null,null,null,null,{"$f":"IFERROR(INDEX(早見表!$B$6:$S$8,MATCH(12,早見表!$B$6:$B$8,0),MATCH(Y91,早見表!$B$6:$S$6,0)),0)","v":0}]
[null,null,null,null,null,null,null,null,null,null,null,null,null,null,null,null,null,null,{"$f":"SUM(S77:X91)","v":0},null,null,null,null,null,null,null,null,null,{"$f":"SUM(AC77:AH91)","v":0}]
[]
[null,"（注）"]
[null,null,"１）　④欄は月割の対象となる方のみ記入して下さい。"]
[null,null,"２）　月割の対象となる場合の⑤保険料算定基礎額の算定方法"]
[null,null,"２）　月割の対象となる場合の③（給付基礎日額×365÷12）（円未満を切り上げてから）×加入月数"]
[]
[]
[null,"【島根局版】",null,null,null,null,null,null,null,null,null,null,null,null,null,null,null,null,null,null,null,null,null,null,null,null,"一人親方団体控"]
[null,"第２種特別加入保険料申告内訳名簿"]
[null,"（一人親方等）"]
[null,null,null,null,null,null,null,null,null,null,null,null,null,null,null,null,null,null,null,null,null,null,null,null,"（",{"$f":"Z70","v":0},null,"枚のうち",null,4,null,"枚目",null,"）"]
[]
[null,"労働保険\n番　　　号",null,null,null,null,"府県",null,"所掌","管轄",null,"基幹番号",null,null,null,null,null,"枝番号",null,null,"事業場の\n所在地",null,null,{"$f":"IF(X72=\"\",\"\",X72)","v":""},"","","","","","","","","",""]
[null,null,null,null,null,null,"3","2",{"$f":"IF(I73=\"\",\"\",I73)","v":""},{"$f":"IF(J73=\"\",\"\",J73)","v":""},"","","","","","","","","","","事業場の\n名称",null,null,{"$f":"IF(X73=\"\",\"\",X73)","v":""},"","","","","","","","","",""]
[null,"①\n整理\n番号",null,"②\n氏名",null,null,null,null,null,null,null,null,null,null,"令 和",null,null,{"$f":"IF(R74=\"\",\"\",R74)","v":""},"","",null,null,null,"年 度 確 定 ","令 和",null,null,{"$f":"IF(AB74=\"\",\"\",AB74)","v":""},"","",null,null,null,"年 度 概 算 "]
[null,null,null,null,null,null,null,"③　\n給付基礎日額",null,null,null,"④年度中途加入・脱退",null,null,null,null,null,null,"⑤\n保険料算定基礎額",null,null,null,null,null,"⑥\n給付基礎日額",null,null,null,"⑦\n保険料算定基礎額"]
[null,null,null,null,null,null,null,null,null,null,null,"加入・脱退年月日",null,null,null,null,"加入月数"]
[null,null,null,null,null,null,null,null,null,null,null,null,null,null,null,null,null,null,{"$f":"IFERROR(INDEX(早見表!$B$6:$S$19,MATCH(Q110,早見表!$B$6:$B$19,0),MATCH(H110,早見表!$B$6:$S$6,0)),0)","v":0},null,null,null,null,null,null,null,null,null,{"$f":"IFERROR(INDEX(早見表!$B$6:$S$8,MATCH(12,早見表!$B$6:$B$8,0),MATCH(Y110,早見表!$B$6:$S$6,0)),0)","v":0}]
[null,null,null,null,null,null,null,null,null,null,null,null,null,null,null,null,null,null,{"$f":"IFERROR(INDEX(早見表!$B$6:$S$19,MATCH(Q111,早見表!$B$6:$B$19,0),MATCH(H111,早見表!$B$6:$S$6,0)),0)","v":0},null,null,null,null,null,null,null,null,null,{"$f":"IFERROR(INDEX(早見表!$B$6:$S$8,MATCH(12,早見表!$B$6:$B$8,0),MATCH(Y111,早見表!$B$6:$S$6,0)),0)","v":0}]
[null,null,null,null,null,null,null,null,null,null,null,null,null,null,null,null,null,null,{"$f":"IFERROR(INDEX(早見表!$B$6:$S$19,MATCH(Q112,早見表!$B$6:$B$19,0),MATCH(H112,早見表!$B$6:$S$6,0)),0)","v":0},null,null,null,null,null,null,null,null,null,{"$f":"IFERROR(INDEX(早見表!$B$6:$S$8,MATCH(12,早見表!$B$6:$B$8,0),MATCH(Y112,早見表!$B$6:$S$6,0)),0)","v":0}]
[null,null,null,null,null,null,null,null,null,null,null,null,null,null,null,null,null,null,{"$f":"IFERROR(INDEX(早見表!$B$6:$S$19,MATCH(Q113,早見表!$B$6:$B$19,0),MATCH(H113,早見表!$B$6:$S$6,0)),0)","v":0},null,null,null,null,null,null,null,null,null,{"$f":"IFERROR(INDEX(早見表!$B$6:$S$8,MATCH(12,早見表!$B$6:$B$8,0),MATCH(Y113,早見表!$B$6:$S$6,0)),0)","v":0}]
[null,null,null,null,null,null,null,null,null,null,null,null,null,null,null,null,null,null,{"$f":"IFERROR(INDEX(早見表!$B$6:$S$19,MATCH(Q114,早見表!$B$6:$B$19,0),MATCH(H114,早見表!$B$6:$S$6,0)),0)","v":0},null,null,null,null,null,null,null,null,null,{"$f":"IFERROR(INDEX(早見表!$B$6:$S$8,MATCH(12,早見表!$B$6:$B$8,0),MATCH(Y114,早見表!$B$6:$S$6,0)),0)","v":0}]
[null,null,null,null,null,null,null,null,null,null,null,null,null,null,null,null,null,null,{"$f":"IFERROR(INDEX(早見表!$B$6:$S$19,MATCH(Q115,早見表!$B$6:$B$19,0),MATCH(H115,早見表!$B$6:$S$6,0)),0)","v":0},null,null,null,null,null,null,null,null,null,{"$f":"IFERROR(INDEX(早見表!$B$6:$S$8,MATCH(12,早見表!$B$6:$B$8,0),MATCH(Y115,早見表!$B$6:$S$6,0)),0)","v":0}]
[null,null,null,null,null,null,null,null,null,null,null,null,null,null,null,null,null,null,{"$f":"IFERROR(INDEX(早見表!$B$6:$S$19,MATCH(Q116,早見表!$B$6:$B$19,0),MATCH(H116,早見表!$B$6:$S$6,0)),0)","v":0},null,null,null,null,null,null,null,null,null,{"$f":"IFERROR(INDEX(早見表!$B$6:$S$8,MATCH(12,早見表!$B$6:$B$8,0),MATCH(Y116,早見表!$B$6:$S$6,0)),0)","v":0}]
[null,null,null,null,null,null,null,null,null,null,null,null,null,null,null,null,null,null,{"$f":"IFERROR(INDEX(早見表!$B$6:$S$19,MATCH(Q117,早見表!$B$6:$B$19,0),MATCH(H117,早見表!$B$6:$S$6,0)),0)","v":0},null,null,null,null,null,null,null,null,null,{"$f":"IFERROR(INDEX(早見表!$B$6:$S$8,MATCH(12,早見表!$B$6:$B$8,0),MATCH(Y117,早見表!$B$6:$S$6,0)),0)","v":0}]
[null,null,null,null,null,null,null,null,null,null,null,null,null,null,null,null,null,null,{"$f":"IFERROR(INDEX(早見表!$B$6:$S$19,MATCH(Q118,早見表!$B$6:$B$19,0),MATCH(H118,早見表!$B$6:$S$6,0)),0)","v":0},null,null,null,null,null,null,null,null,null,{"$f":"IFERROR(INDEX(早見表!$B$6:$S$8,MATCH(12,早見表!$B$6:$B$8,0),MATCH(Y118,早見表!$B$6:$S$6,0)),0)","v":0}]
[null,null,null,null,null,null,null,null,null,null,null,null,null,null,null,null,null,null,{"$f":"IFERROR(INDEX(早見表!$B$6:$S$19,MATCH(Q119,早見表!$B$6:$B$19,0),MATCH(H119,早見表!$B$6:$S$6,0)),0)","v":0},null,null,null,null,null,null,null,null,null,{"$f":"IFERROR(INDEX(早見表!$B$6:$S$8,MATCH(12,早見表!$B$6:$B$8,0),MATCH(Y119,早見表!$B$6:$S$6,0)),0)","v":0}]
[null,null,null,null,null,null,null,null,null,null,null,null,null,null,null,null,null,null,{"$f":"IFERROR(INDEX(早見表!$B$6:$S$19,MATCH(Q120,早見表!$B$6:$B$19,0),MATCH(H120,早見表!$B$6:$S$6,0)),0)","v":0},null,null,null,null,null,null,null,null,null,{"$f":"IFERROR(INDEX(早見表!$B$6:$S$8,MATCH(12,早見表!$B$6:$B$8,0),MATCH(Y120,早見表!$B$6:$S$6,0)),0)","v":0}]
[null,null,null,null,null,null,null,null,null,null,null,null,null,null,null,null,null,null,{"$f":"IFERROR(INDEX(早見表!$B$6:$S$19,MATCH(Q121,早見表!$B$6:$B$19,0),MATCH(H121,早見表!$B$6:$S$6,0)),0)","v":0},null,null,null,null,null,null,null,null,null,{"$f":"IFERROR(INDEX(早見表!$B$6:$S$8,MATCH(12,早見表!$B$6:$B$8,0),MATCH(Y121,早見表!$B$6:$S$6,0)),0)","v":0}]
[null,null,null,null,null,null,null,null,null,null,null,null,null,null,null,null,null,null,{"$f":"IFERROR(INDEX(早見表!$B$6:$S$19,MATCH(Q122,早見表!$B$6:$B$19,0),MATCH(H122,早見表!$B$6:$S$6,0)),0)","v":0},null,null,null,null,null,null,null,null,null,{"$f":"IFERROR(INDEX(早見表!$B$6:$S$8,MATCH(12,早見表!$B$6:$B$8,0),MATCH(Y122,早見表!$B$6:$S$6,0)),0)","v":0}]
[null,null,null,null,null,null,null,null,null,null,null,null,null,null,null,null,null,null,{"$f":"IFERROR(INDEX(早見表!$B$6:$S$19,MATCH(Q123,早見表!$B$6:$B$19,0),MATCH(H123,早見表!$B$6:$S$6,0)),0)","v":0},null,null,null,null,null,null,null,null,null,{"$f":"IFERROR(INDEX(早見表!$B$6:$S$8,MATCH(12,早見表!$B$6:$B$8,0),MATCH(Y123,早見表!$B$6:$S$6,0)),0)","v":0}]
[null,null,null,null,null,null,null,null,null,null,null,null,null,null,null,null,null,null,{"$f":"IFERROR(INDEX(早見表!$B$6:$S$19,MATCH(Q124,早見表!$B$6:$B$19,0),MATCH(H124,早見表!$B$6:$S$6,0)),0)","v":0},null,null,null,null,null,null,null,null,null,{"$f":"IFERROR(INDEX(早見表!$B$6:$S$8,MATCH(12,早見表!$B$6:$B$8,0),MATCH(Y124,早見表!$B$6:$S$6,0)),0)","v":0}]
[null,null,null,null,null,null,null,null,null,null,null,null,null,null,null,null,null,null,{"$f":"SUM(S110:X124)","v":0},null,null,null,null,null,null,null,null,null,{"$f":"SUM(AC110:AH124)","v":0}]
[]
[null,"（注）"]
[null,null,"１）　④欄は月割の対象となる方のみ記入して下さい。"]
[null,null,"２）　月割の対象となる場合の⑤保険料算定基礎額の算定方法"]
[null,null,"２）　月割の対象となる場合の③（給付基礎日額×365÷12）（円未満を切り上げてから）×加入月数"]
[]
[]
[null,"【島根局版】",null,null,null,null,null,null,null,null,null,null,null,null,null,null,null,null,null,null,null,null,null,null,null,null,"一人親方団体控"]
[null,"第２種特別加入保険料申告内訳名簿"]
[null,"（一人親方等）"]
[null,null,null,null,null,null,null,null,null,null,null,null,null,null,null,null,null,null,null,null,null,null,null,null,"（",{"$f":"Z103","v":0},null,"枚のうち",null,5,null,"枚目",null,"）"]
[]
[null,"労働保険\n番　　　号",null,null,null,null,"府県",null,"所掌","管轄",null,"基幹番号",null,null,null,null,null,"枝番号",null,null,"事業場の\n所在地",null,null,{"$f":"IF(X105=\"\",\"\",X105)","v":""},"","","","","","","","","",""]
[null,null,null,null,null,null,"3","2",{"$f":"IF(I106=\"\",\"\",I106)","v":""},{"$f":"IF(J106=\"\",\"\",J106)","v":""},"","","","","","","","","","","事業場の\n名称",null,null,{"$f":"IF(X106=\"\",\"\",X106)","v":""},"","","","","","","","","",""]
[null,"①\n整理\n番号",null,"②\n氏名",null,null,null,null,null,null,null,null,null,null,"令 和",null,null,{"$f":"IF(R107=\"\",\"\",R107)","v":""},"","",null,null,null,"年 度 確 定 ","令 和",null,null,{"$f":"IF(AB107=\"\",\"\",AB107)","v":""},"","",null,null,null,"年 度 概 算 "]
[null,null,null,null,null,null,null,"③　\n給付基礎日額",null,null,null,"④年度中途加入・脱退",null,null,null,null,null,null,"⑤\n保険料算定基礎額",null,null,null,null,null,"⑥\n給付基礎日額",null,null,null,"⑦\n保険料算定基礎額"]
[null,null,null,null,null,null,null,null,null,null,null,"加入・脱退年月日",null,null,null,null,"加入月数"]
[null,null,null,null,null,null,null,null,null,null,null,null,null,null,null,null,null,null,{"$f":"IFERROR(INDEX(早見表!$B$6:$S$19,MATCH(Q143,早見表!$B$6:$B$19,0),MATCH(H143,早見表!$B$6:$S$6,0)),0)","v":0},null,null,null,null,null,null,null,null,null,{"$f":"IFERROR(INDEX(早見表!$B$6:$S$8,MATCH(12,早見表!$B$6:$B$8,0),MATCH(Y143,早見表!$B$6:$S$6,0)),0)","v":0}]
[null,null,null,null,null,null,null,null,null,null,null,null,null,null,null,null,null,null,{"$f":"IFERROR(INDEX(早見表!$B$6:$S$19,MATCH(Q144,早見表!$B$6:$B$19,0),MATCH(H144,早見表!$B$6:$S$6,0)),0)","v":0},null,null,null,null,null,null,null,null,null,{"$f":"IFERROR(INDEX(早見表!$B$6:$S$8,MATCH(12,早見表!$B$6:$B$8,0),MATCH(Y144,早見表!$B$6:$S$6,0)),0)","v":0}]
[null,null,null,null,null,null,null,null,null,null,null,null,null,null,null,null,null,null,{"$f":"IFERROR(INDEX(早見表!$B$6:$S$19,MATCH(Q145,早見表!$B$6:$B$19,0),MATCH(H145,早見表!$B$6:$S$6,0)),0)","v":0},null,null,null,null,null,null,null,null,null,{"$f":"IFERROR(INDEX(早見表!$B$6:$S$8,MATCH(12,早見表!$B$6:$B$8,0),MATCH(Y145,早見表!$B$6:$S$6,0)),0)","v":0}]
[null,null,null,null,null,null,null,null,null,null,null,null,null,null,null,null,null,null,{"$f":"IFERROR(INDEX(早見表!$B$6:$S$19,MATCH(Q146,早見表!$B$6:$B$19,0),MATCH(H146,早見表!$B$6:$S$6,0)),0)","v":0},null,null,null,null,null,null,null,null,null,{"$f":"IFERROR(INDEX(早見表!$B$6:$S$8,MATCH(12,早見表!$B$6:$B$8,0),MATCH(Y146,早見表!$B$6:$S$6,0)),0)","v":0}]
[null,null,null,null,null,null,null,null,null,null,null,null,null,null,null,null,null,null,{"$f":"IFERROR(INDEX(早見表!$B$6:$S$19,MATCH(Q147,早見表!$B$6:$B$19,0),MATCH(H147,早見表!$B$6:$S$6,0)),0)","v":0},null,null,null,null,null,null,null,null,null,{"$f":"IFERROR(INDEX(早見表!$B$6:$S$8,MATCH(12,早見表!$B$6:$B$8,0),MATCH(Y147,早見表!$B$6:$S$6,0)),0)","v":0}]
[null,null,null,null,null,null,null,null,null,null,null,null,null,null,null,null,null,null,{"$f":"IFERROR(INDEX(早見表!$B$6:$S$19,MATCH(Q148,早見表!$B$6:$B$19,0),MATCH(H148,早見表!$B$6:$S$6,0)),0)","v":0},null,null,null,null,null,null,null,null,null,{"$f":"IFERROR(INDEX(早見表!$B$6:$S$8,MATCH(12,早見表!$B$6:$B$8,0),MATCH(Y148,早見表!$B$6:$S$6,0)),0)","v":0}]
[null,null,null,null,null,null,null,null,null,null,null,null,null,null,null,null,null,null,{"$f":"IFERROR(INDEX(早見表!$B$6:$S$19,MATCH(Q149,早見表!$B$6:$B$19,0),MATCH(H149,早見表!$B$6:$S$6,0)),0)","v":0},null,null,null,null,null,null,null,null,null,{"$f":"IFERROR(INDEX(早見表!$B$6:$S$8,MATCH(12,早見表!$B$6:$B$8,0),MATCH(Y149,早見表!$B$6:$S$6,0)),0)","v":0}]
[null,null,null,null,null,null,null,null,null,null,null,null,null,null,null,null,null,null,{"$f":"IFERROR(INDEX(早見表!$B$6:$S$19,MATCH(Q150,早見表!$B$6:$B$19,0),MATCH(H150,早見表!$B$6:$S$6,0)),0)","v":0},null,null,null,null,null,null,null,null,null,{"$f":"IFERROR(INDEX(早見表!$B$6:$S$8,MATCH(12,早見表!$B$6:$B$8,0),MATCH(Y150,早見表!$B$6:$S$6,0)),0)","v":0}]
[null,null,null,null,null,null,null,null,null,null,null,null,null,null,null,null,null,null,{"$f":"IFERROR(INDEX(早見表!$B$6:$S$19,MATCH(Q151,早見表!$B$6:$B$19,0),MATCH(H151,早見表!$B$6:$S$6,0)),0)","v":0},null,null,null,null,null,null,null,null,null,{"$f":"IFERROR(INDEX(早見表!$B$6:$S$8,MATCH(12,早見表!$B$6:$B$8,0),MATCH(Y151,早見表!$B$6:$S$6,0)),0)","v":0}]
[null,null,null,null,null,null,null,null,null,null,null,null,null,null,null,null,null,null,{"$f":"IFERROR(INDEX(早見表!$B$6:$S$19,MATCH(Q152,早見表!$B$6:$B$19,0),MATCH(H152,早見表!$B$6:$S$6,0)),0)","v":0},null,null,null,null,null,null,null,null,null,{"$f":"IFERROR(INDEX(早見表!$B$6:$S$8,MATCH(12,早見表!$B$6:$B$8,0),MATCH(Y152,早見表!$B$6:$S$6,0)),0)","v":0}]
[null,null,null,null,null,null,null,null,null,null,null,null,null,null,null,null,null,null,{"$f":"IFERROR(INDEX(早見表!$B$6:$S$19,MATCH(Q153,早見表!$B$6:$B$19,0),MATCH(H153,早見表!$B$6:$S$6,0)),0)","v":0},null,null,null,null,null,null,null,null,null,{"$f":"IFERROR(INDEX(早見表!$B$6:$S$8,MATCH(12,早見表!$B$6:$B$8,0),MATCH(Y153,早見表!$B$6:$S$6,0)),0)","v":0}]
[null,null,null,null,null,null,null,null,null,null,null,null,null,null,null,null,null,null,{"$f":"IFERROR(INDEX(早見表!$B$6:$S$19,MATCH(Q154,早見表!$B$6:$B$19,0),MATCH(H154,早見表!$B$6:$S$6,0)),0)","v":0},null,null,null,null,null,null,null,null,null,{"$f":"IFERROR(INDEX(早見表!$B$6:$S$8,MATCH(12,早見表!$B$6:$B$8,0),MATCH(Y154,早見表!$B$6:$S$6,0)),0)","v":0}]
[null,null,null,null,null,null,null,null,null,null,null,null,null,null,null,null,null,null,{"$f":"IFERROR(INDEX(早見表!$B$6:$S$19,MATCH(Q155,早見表!$B$6:$B$19,0),MATCH(H155,早見表!$B$6:$S$6,0)),0)","v":0},null,null,null,null,null,null,null,null,null,{"$f":"IFERROR(INDEX(早見表!$B$6:$S$8,MATCH(12,早見表!$B$6:$B$8,0),MATCH(Y155,早見表!$B$6:$S$6,0)),0)","v":0}]
[null,null,null,null,null,null,null,null,null,null,null,null,null,null,null,null,null,null,{"$f":"IFERROR(INDEX(早見表!$B$6:$S$19,MATCH(Q156,早見表!$B$6:$B$19,0),MATCH(H156,早見表!$B$6:$S$6,0)),0)","v":0},null,null,null,null,null,null,null,null,null,{"$f":"IFERROR(INDEX(早見表!$B$6:$S$8,MATCH(12,早見表!$B$6:$B$8,0),MATCH(Y156,早見表!$B$6:$S$6,0)),0)","v":0}]
[null,null,null,null,null,null,null,null,null,null,null,null,null,null,null,null,null,null,{"$f":"IFERROR(INDEX(早見表!$B$6:$S$19,MATCH(Q157,早見表!$B$6:$B$19,0),MATCH(H157,早見表!$B$6:$S$6,0)),0)","v":0},null,null,null,null,null,null,null,null,null,{"$f":"IFERROR(INDEX(早見表!$B$6:$S$8,MATCH(12,早見表!$B$6:$B$8,0),MATCH(Y157,早見表!$B$6:$S$6,0)),0)","v":0}]
[null,null,null,null,null,null,null,null,null,null,null,null,null,null,null,null,null,null,{"$f":"SUM(S143:X157)","v":0},null,null,null,null,null,null,null,null,null,{"$f":"SUM(AC143:AH157)","v":0}]
[]
[null,"（注）"]
[null,null,"１）　④欄は月割の対象となる方のみ記入して下さい。"]
[null,null,"２）　月割の対象となる場合の⑤保険料算定基礎額の算定方法"]
[null,null,"２）　月割の対象となる場合の③（給付基礎日額×365÷12）（円未満を切り上げてから）×加入月数"]
[]
[]
[null,"【島根局版】",null,null,null,null,null,null,null,null,null,null,null,null,null,null,null,null,null,null,null,null,null,null,null,null,"一人親方団体控"]
[null,"第２種特別加入保険料申告内訳名簿"]
[null,"（一人親方等）"]
[null,null,null,null,null,null,null,null,null,null,null,null,null,null,null,null,null,null,null,null,null,null,null,null,"（",{"$f":"Z136","v":0},null,"枚のうち",null,6,null,"枚目",null,"）"]
[]
[null,"労働保険\n番　　　号",null,null,null,null,"府県",null,"所掌","管轄",null,"基幹番号",null,null,null,null,null,"枝番号",null,null,"事業場の\n所在地",null,null,{"$f":"IF(X138=\"\",\"\",X138)","v":""},"","","","","","","","","",""]
[null,null,null,null,null,null,"3","2",{"$f":"IF(I139=\"\",\"\",I139)","v":""},{"$f":"IF(J139=\"\",\"\",J139)","v":""},"","","","","","","","","","","事業場の\n名称",null,null,{"$f":"IF(X139=\"\",\"\",X139)","v":""},"","","","","","","","","",""]
[null,"①\n整理\n番号",null,"②\n氏名",null,null,null,null,null,null,null,null,null,null,"令 和",null,null,{"$f":"IF(R140=\"\",\"\",R140)","v":""},"","",null,null,null,"年 度 確 定 ","令 和",null,null,{"$f":"IF(AB140=\"\",\"\",AB140)","v":""},"","",null,null,null,"年 度 概 算 "]
[null,null,null,null,null,null,null,"③　\n給付基礎日額",null,null,null,"④年度中途加入・脱退",null,null,null,null,null,null,"⑤\n保険料算定基礎額",null,null,null,null,null,"⑥\n給付基礎日額",null,null,null,"⑦\n保険料算定基礎額"]
[null,null,null,null,null,null,null,null,null,null,null,"加入・脱退年月日",null,null,null,null,"加入月数"]
[null,null,null,null,null,null,null,null,null,null,null,null,null,null,null,null,null,null,{"$f":"IFERROR(INDEX(早見表!$B$6:$S$19,MATCH(Q176,早見表!$B$6:$B$19,0),MATCH(H176,早見表!$B$6:$S$6,0)),0)","v":0},null,null,null,null,null,null,null,null,null,{"$f":"IFERROR(INDEX(早見表!$B$6:$S$8,MATCH(12,早見表!$B$6:$B$8,0),MATCH(Y176,早見表!$B$6:$S$6,0)),0)","v":0}]
[null,null,null,null,null,null,null,null,null,null,null,null,null,null,null,null,null,null,{"$f":"IFERROR(INDEX(早見表!$B$6:$S$19,MATCH(Q177,早見表!$B$6:$B$19,0),MATCH(H177,早見表!$B$6:$S$6,0)),0)","v":0},null,null,null,null,null,null,null,null,null,{"$f":"IFERROR(INDEX(早見表!$B$6:$S$8,MATCH(12,早見表!$B$6:$B$8,0),MATCH(Y177,早見表!$B$6:$S$6,0)),0)","v":0}]
[null,null,null,null,null,null,null,null,null,null,null,null,null,null,null,null,null,null,{"$f":"IFERROR(INDEX(早見表!$B$6:$S$19,MATCH(Q178,早見表!$B$6:$B$19,0),MATCH(H178,早見表!$B$6:$S$6,0)),0)","v":0},null,null,null,null,null,null,null,null,null,{"$f":"IFERROR(INDEX(早見表!$B$6:$S$8,MATCH(12,早見表!$B$6:$B$8,0),MATCH(Y178,早見表!$B$6:$S$6,0)),0)","v":0}]
[null,null,null,null,null,null,null,null,null,null,null,null,null,null,null,null,null,null,{"$f":"IFERROR(INDEX(早見表!$B$6:$S$19,MATCH(Q179,早見表!$B$6:$B$19,0),MATCH(H179,早見表!$B$6:$S$6,0)),0)","v":0},null,null,null,null,null,null,null,null,null,{"$f":"IFERROR(INDEX(早見表!$B$6:$S$8,MATCH(12,早見表!$B$6:$B$8,0),MATCH(Y179,早見表!$B$6:$S$6,0)),0)","v":0}]
[null,null,null,null,null,null,null,null,null,null,null,null,null,null,null,null,null,null,{"$f":"IFERROR(INDEX(早見表!$B$6:$S$19,MATCH(Q180,早見表!$B$6:$B$19,0),MATCH(H180,早見表!$B$6:$S$6,0)),0)","v":0},null,null,null,null,null,null,null,null,null,{"$f":"IFERROR(INDEX(早見表!$B$6:$S$8,MATCH(12,早見表!$B$6:$B$8,0),MATCH(Y180,早見表!$B$6:$S$6,0)),0)","v":0}]
[null,null,null,null,null,null,null,null,null,null,null,null,null,null,null,null,null,null,{"$f":"IFERROR(INDEX(早見表!$B$6:$S$19,MATCH(Q181,早見表!$B$6:$B$19,0),MATCH(H181,早見表!$B$6:$S$6,0)),0)","v":0},null,null,null,null,null,null,null,null,null,{"$f":"IFERROR(INDEX(早見表!$B$6:$S$8,MATCH(12,早見表!$B$6:$B$8,0),MATCH(Y181,早見表!$B$6:$S$6,0)),0)","v":0}]
[null,null,null,null,null,null,null,null,null,null,null,null,null,null,null,null,null,null,{"$f":"IFERROR(INDEX(早見表!$B$6:$S$19,MATCH(Q182,早見表!$B$6:$B$19,0),MATCH(H182,早見表!$B$6:$S$6,0)),0)","v":0},null,null,null,null,null,null,null,null,null,{"$f":"IFERROR(INDEX(早見表!$B$6:$S$8,MATCH(12,早見表!$B$6:$B$8,0),MATCH(Y182,早見表!$B$6:$S$6,0)),0)","v":0}]
[null,null,null,null,null,null,null,null,null,null,null,null,null,null,null,null,null,null,{"$f":"IFERROR(INDEX(早見表!$B$6:$S$19,MATCH(Q183,早見表!$B$6:$B$19,0),MATCH(H183,早見表!$B$6:$S$6,0)),0)","v":0},null,null,null,null,null,null,null,null,null,{"$f":"IFERROR(INDEX(早見表!$B$6:$S$8,MATCH(12,早見表!$B$6:$B$8,0),MATCH(Y183,早見表!$B$6:$S$6,0)),0)","v":0}]
[null,null,null,null,null,null,null,null,null,null,null,null,null,null,null,null,null,null,{"$f":"IFERROR(INDEX(早見表!$B$6:$S$19,MATCH(Q184,早見表!$B$6:$B$19,0),MATCH(H184,早見表!$B$6:$S$6,0)),0)","v":0},null,null,null,null,null,null,null,null,null,{"$f":"IFERROR(INDEX(早見表!$B$6:$S$8,MATCH(12,早見表!$B$6:$B$8,0),MATCH(Y184,早見表!$B$6:$S$6,0)),0)","v":0}]
[null,null,null,null,null,null,null,null,null,null,null,null,null,null,null,null,null,null,{"$f":"IFERROR(INDEX(早見表!$B$6:$S$19,MATCH(Q185,早見表!$B$6:$B$19,0),MATCH(H185,早見表!$B$6:$S$6,0)),0)","v":0},null,null,null,null,null,null,null,null,null,{"$f":"IFERROR(INDEX(早見表!$B$6:$S$8,MATCH(12,早見表!$B$6:$B$8,0),MATCH(Y185,早見表!$B$6:$S$6,0)),0)","v":0}]
[null,null,null,null,null,null,null,null,null,null,null,null,null,null,null,null,null,null,{"$f":"IFERROR(INDEX(早見表!$B$6:$S$19,MATCH(Q186,早見表!$B$6:$B$19,0),MATCH(H186,早見表!$B$6:$S$6,0)),0)","v":0},null,null,null,null,null,null,null,null,null,{"$f":"IFERROR(INDEX(早見表!$B$6:$S$8,MATCH(12,早見表!$B$6:$B$8,0),MATCH(Y186,早見表!$B$6:$S$6,0)),0)","v":0}]
[null,null,null,null,null,null,null,null,null,null,null,null,null,null,null,null,null,null,{"$f":"IFERROR(INDEX(早見表!$B$6:$S$19,MATCH(Q187,早見表!$B$6:$B$19,0),MATCH(H187,早見表!$B$6:$S$6,0)),0)","v":0},null,null,null,null,null,null,null,null,null,{"$f":"IFERROR(INDEX(早見表!$B$6:$S$8,MATCH(12,早見表!$B$6:$B$8,0),MATCH(Y187,早見表!$B$6:$S$6,0)),0)","v":0}]
[null,null,null,null,null,null,null,null,null,null,null,null,null,null,null,null,null,null,{"$f":"IFERROR(INDEX(早見表!$B$6:$S$19,MATCH(Q188,早見表!$B$6:$B$19,0),MATCH(H188,早見表!$B$6:$S$6,0)),0)","v":0},null,null,null,null,null,null,null,null,null,{"$f":"IFERROR(INDEX(早見表!$B$6:$S$8,MATCH(12,早見表!$B$6:$B$8,0),MATCH(Y188,早見表!$B$6:$S$6,0)),0)","v":0}]
[null,null,null,null,null,null,null,null,null,null,null,null,null,null,null,null,null,null,{"$f":"IFERROR(INDEX(早見表!$B$6:$S$19,MATCH(Q189,早見表!$B$6:$B$19,0),MATCH(H189,早見表!$B$6:$S$6,0)),0)","v":0},null,null,null,null,null,null,null,null,null,{"$f":"IFERROR(INDEX(早見表!$B$6:$S$8,MATCH(12,早見表!$B$6:$B$8,0),MATCH(Y189,早見表!$B$6:$S$6,0)),0)","v":0}]
[null,null,null,null,null,null,null,null,null,null,null,null,null,null,null,null,null,null,{"$f":"IFERROR(INDEX(早見表!$B$6:$S$19,MATCH(Q190,早見表!$B$6:$B$19,0),MATCH(H190,早見表!$B$6:$S$6,0)),0)","v":0},null,null,null,null,null,null,null,null,null,{"$f":"IFERROR(INDEX(早見表!$B$6:$S$8,MATCH(12,早見表!$B$6:$B$8,0),MATCH(Y190,早見表!$B$6:$S$6,0)),0)","v":0}]
[null,null,null,null,null,null,null,null,null,null,null,null,null,null,null,null,null,null,{"$f":"SUM(S176:X190)","v":0},null,null,null,null,null,null,null,null,null,{"$f":"SUM(AC176:AH190)","v":0}]
[]
[null,"（注）"]
[null,null,"１）　④欄は月割の対象となる方のみ記入して下さい。"]
[null,null,"２）　月割の対象となる場合の⑤保険料算定基礎額の算定方法"]
[null,null,"２）　月割の対象となる場合の③（給付基礎日額×365÷12）（円未満を切り上げてから）×加入月数"]
[]
[]
[null,"【島根局版】",null,null,null,null,null,null,null,null,null,null,null,null,null,null,null,null,null,null,null,null,null,null,null,null,"一人親方団体控"]
[null,"第２種特別加入保険料申告内訳名簿"]
[null,"（一人親方等）"]
[null,null,null,null,null,null,null,null,null,null,null,null,null,null,null,null,null,null,null,null,null,null,null,null,"（",{"$f":"Z169","v":0},null,"枚のうち",null,7,null,"枚目",null,"）"]
[]
[null,"労働保険\n番　　　号",null,null,null,null,"府県",null,"所掌","管轄",null,"基幹番号",null,null,null,null,null,"枝番号",null,null,"事業場の\n所在地",null,null,{"$f":"IF(X171=\"\",\"\",X171)","v":""},"","","","","","","","","",""]
[null,null,null,null,null,null,"3","2",{"$f":"IF(I172=\"\",\"\",I172)","v":""},{"$f":"IF(J172=\"\",\"\",J172)","v":""},"","","","","","","","","","","事業場の\n名称",null,null,{"$f":"IF(X172=\"\",\"\",X172)","v":""},"","","","","","","","","",""]
[null,"①\n整理\n番号",null,"②\n氏名",null,null,null,null,null,null,null,null,null,null,"令 和",null,null,{"$f":"IF(R173=\"\",\"\",R173)","v":""},"","",null,null,null,"年 度 確 定 ","令 和",null,null,{"$f":"IF(AB173=\"\",\"\",AB173)","v":""},"","",null,null,null,"年 度 概 算 "]
[null,null,null,null,null,null,null,"③　\n給付基礎日額",null,null,null,"④年度中途加入・脱退",null,null,null,null,null,null,"⑤\n保険料算定基礎額",null,null,null,null,null,"⑥\n給付基礎日額",null,null,null,"⑦\n保険料算定基礎額"]
[null,null,null,null,null,null,null,null,null,null,null,"加入・脱退年月日",null,null,null,null,"加入月数"]
[null,null,null,null,null,null,null,null,null,null,null,null,null,null,null,null,null,null,{"$f":"IFERROR(INDEX(早見表!$B$6:$S$19,MATCH(Q209,早見表!$B$6:$B$19,0),MATCH(H209,早見表!$B$6:$S$6,0)),0)","v":0},null,null,null,null,null,null,null,null,null,{"$f":"IFERROR(INDEX(早見表!$B$6:$S$8,MATCH(12,早見表!$B$6:$B$8,0),MATCH(Y209,早見表!$B$6:$S$6,0)),0)","v":0}]
[null,null,null,null,null,null,null,null,null,null,null,null,null,null,null,null,null,null,{"$f":"IFERROR(INDEX(早見表!$B$6:$S$19,MATCH(Q210,早見表!$B$6:$B$19,0),MATCH(H210,早見表!$B$6:$S$6,0)),0)","v":0},null,null,null,null,null,null,null,null,null,{"$f":"IFERROR(INDEX(早見表!$B$6:$S$8,MATCH(12,早見表!$B$6:$B$8,0),MATCH(Y210,早見表!$B$6:$S$6,0)),0)","v":0}]
[null,null,null,null,null,null,null,null,null,null,null,null,null,null,null,null,null,null,{"$f":"IFERROR(INDEX(早見表!$B$6:$S$19,MATCH(Q211,早見表!$B$6:$B$19,0),MATCH(H211,早見表!$B$6:$S$6,0)),0)","v":0},null,null,null,null,null,null,null,null,null,{"$f":"IFERROR(INDEX(早見表!$B$6:$S$8,MATCH(12,早見表!$B$6:$B$8,0),MATCH(Y211,早見表!$B$6:$S$6,0)),0)","v":0}]
[null,null,null,null,null,null,null,null,null,null,null,null,null,null,null,null,null,null,{"$f":"IFERROR(INDEX(早見表!$B$6:$S$19,MATCH(Q212,早見表!$B$6:$B$19,0),MATCH(H212,早見表!$B$6:$S$6,0)),0)","v":0},null,null,null,null,null,null,null,null,null,{"$f":"IFERROR(INDEX(早見表!$B$6:$S$8,MATCH(12,早見表!$B$6:$B$8,0),MATCH(Y212,早見表!$B$6:$S$6,0)),0)","v":0}]
[null,null,null,null,null,null,null,null,null,null,null,null,null,null,null,null,null,null,{"$f":"IFERROR(INDEX(早見表!$B$6:$S$19,MATCH(Q213,早見表!$B$6:$B$19,0),MATCH(H213,早見表!$B$6:$S$6,0)),0)","v":0},null,null,null,null,null,null,null,null,null,{"$f":"IFERROR(INDEX(早見表!$B$6:$S$8,MATCH(12,早見表!$B$6:$B$8,0),MATCH(Y213,早見表!$B$6:$S$6,0)),0)","v":0}]
[null,null,null,null,null,null,null,null,null,null,null,null,null,null,null,null,null,null,{"$f":"IFERROR(INDEX(早見表!$B$6:$S$19,MATCH(Q214,早見表!$B$6:$B$19,0),MATCH(H214,早見表!$B$6:$S$6,0)),0)","v":0},null,null,null,null,null,null,null,null,null,{"$f":"IFERROR(INDEX(早見表!$B$6:$S$8,MATCH(12,早見表!$B$6:$B$8,0),MATCH(Y214,早見表!$B$6:$S$6,0)),0)","v":0}]
[null,null,null,null,null,null,null,null,null,null,null,null,null,null,null,null,null,null,{"$f":"IFERROR(INDEX(早見表!$B$6:$S$19,MATCH(Q215,早見表!$B$6:$B$19,0),MATCH(H215,早見表!$B$6:$S$6,0)),0)","v":0},null,null,null,null,null,null,null,null,null,{"$f":"IFERROR(INDEX(早見表!$B$6:$S$8,MATCH(12,早見表!$B$6:$B$8,0),MATCH(Y215,早見表!$B$6:$S$6,0)),0)","v":0}]
[null,null,null,null,null,null,null,null,null,null,null,null,null,null,null,null,null,null,{"$f":"IFERROR(INDEX(早見表!$B$6:$S$19,MATCH(Q216,早見表!$B$6:$B$19,0),MATCH(H216,早見表!$B$6:$S$6,0)),0)","v":0},null,null,null,null,null,null,null,null,null,{"$f":"IFERROR(INDEX(早見表!$B$6:$S$8,MATCH(12,早見表!$B$6:$B$8,0),MATCH(Y216,早見表!$B$6:$S$6,0)),0)","v":0}]
[null,null,null,null,null,null,null,null,null,null,null,null,null,null,null,null,null,null,{"$f":"IFERROR(INDEX(早見表!$B$6:$S$19,MATCH(Q217,早見表!$B$6:$B$19,0),MATCH(H217,早見表!$B$6:$S$6,0)),0)","v":0},null,null,null,null,null,null,null,null,null,{"$f":"IFERROR(INDEX(早見表!$B$6:$S$8,MATCH(12,早見表!$B$6:$B$8,0),MATCH(Y217,早見表!$B$6:$S$6,0)),0)","v":0}]
[null,null,null,null,null,null,null,null,null,null,null,null,null,null,null,null,null,null,{"$f":"IFERROR(INDEX(早見表!$B$6:$S$19,MATCH(Q218,早見表!$B$6:$B$19,0),MATCH(H218,早見表!$B$6:$S$6,0)),0)","v":0},null,null,null,null,null,null,null,null,null,{"$f":"IFERROR(INDEX(早見表!$B$6:$S$8,MATCH(12,早見表!$B$6:$B$8,0),MATCH(Y218,早見表!$B$6:$S$6,0)),0)","v":0}]
[null,null,null,null,null,null,null,null,null,null,null,null,null,null,null,null,null,null,{"$f":"IFERROR(INDEX(早見表!$B$6:$S$19,MATCH(Q219,早見表!$B$6:$B$19,0),MATCH(H219,早見表!$B$6:$S$6,0)),0)","v":0},null,null,null,null,null,null,null,null,null,{"$f":"IFERROR(INDEX(早見表!$B$6:$S$8,MATCH(12,早見表!$B$6:$B$8,0),MATCH(Y219,早見表!$B$6:$S$6,0)),0)","v":0}]
[null,null,null,null,null,null,null,null,null,null,null,null,null,null,null,null,null,null,{"$f":"IFERROR(INDEX(早見表!$B$6:$S$19,MATCH(Q220,早見表!$B$6:$B$19,0),MATCH(H220,早見表!$B$6:$S$6,0)),0)","v":0},null,null,null,null,null,null,null,null,null,{"$f":"IFERROR(INDEX(早見表!$B$6:$S$8,MATCH(12,早見表!$B$6:$B$8,0),MATCH(Y220,早見表!$B$6:$S$6,0)),0)","v":0}]
[null,null,null,null,null,null,null,null,null,null,null,null,null,null,null,null,null,null,{"$f":"IFERROR(INDEX(早見表!$B$6:$S$19,MATCH(Q221,早見表!$B$6:$B$19,0),MATCH(H221,早見表!$B$6:$S$6,0)),0)","v":0},null,null,null,null,null,null,null,null,null,{"$f":"IFERROR(INDEX(早見表!$B$6:$S$8,MATCH(12,早見表!$B$6:$B$8,0),MATCH(Y221,早見表!$B$6:$S$6,0)),0)","v":0}]
[null,null,null,null,null,null,null,null,null,null,null,null,null,null,null,null,null,null,{"$f":"IFERROR(INDEX(早見表!$B$6:$S$19,MATCH(Q222,早見表!$B$6:$B$19,0),MATCH(H222,早見表!$B$6:$S$6,0)),0)","v":0},null,null,null,null,null,null,null,null,null,{"$f":"IFERROR(INDEX(早見表!$B$6:$S$8,MATCH(12,早見表!$B$6:$B$8,0),MATCH(Y222,早見表!$B$6:$S$6,0)),0)","v":0}]
[null,null,null,null,null,null,null,null,null,null,null,null,null,null,null,null,null,null,{"$f":"IFERROR(INDEX(早見表!$B$6:$S$19,MATCH(Q223,早見表!$B$6:$B$19,0),MATCH(H223,早見表!$B$6:$S$6,0)),0)","v":0},null,null,null,null,null,null,null,null,null,{"$f":"IFERROR(INDEX(早見表!$B$6:$S$8,MATCH(12,早見表!$B$6:$B$8,0),MATCH(Y223,早見表!$B$6:$S$6,0)),0)","v":0}]
[null,null,null,null,null,null,null,null,null,null,null,null,null,null,null,null,null,null,{"$f":"SUM(S209:X223)","v":0},null,null,null,null,null,null,null,null,null,{"$f":"SUM(AC209:AH223)","v":0}]
[]
[null,"（注）"]
[null,null,"１）　④欄は月割の対象となる方のみ記入して下さい。"]
[null,null,"２）　月割の対象となる場合の⑤保険料算定基礎額の算定方法"]
[null,null,"２）　月割の対象となる場合の③（給付基礎日額×365÷12）（円未満を切り上げてから）×加入月数"]
[]
[]
[null,"【島根局版】",null,null,null,null,null,null,null,null,null,null,null,null,null,null,null,null,null,null,null,null,null,null,null,null,"一人親方団体控"]
[null,"第２種特別加入保険料申告内訳名簿"]
[null,"（一人親方等）"]
[null,null,null,null,null,null,null,null,null,null,null,null,null,null,null,null,null,null,null,null,null,null,null,null,"（",{"$f":"Z202","v":0},null,"枚のうち",null,8,null,"枚目",null,"）"]
[]
[null,"労働保険\n番　　　号",null,null,null,null,"府県",null,"所掌","管轄",null,"基幹番号",null,null,null,null,null,"枝番号",null,null,"事業場の\n所在地",null,null,{"$f":"IF(X204=\"\",\"\",X204)","v":""},"","","","","","","","","",""]
[null,null,null,null,null,null,"3","2",{"$f":"IF(I205=\"\",\"\",I205)","v":""},{"$f":"IF(J205=\"\",\"\",J205)","v":""},"","","","","","","","","","","事業場の\n名称",null,null,{"$f":"IF(X205=\"\",\"\",X205)","v":""},"","","","","","","","","",""]
[null,"①\n整理\n番号",null,"②\n氏名",null,null,null,null,null,null,null,null,null,null,"令 和",null,null,{"$f":"IF(R206=\"\",\"\",R206)","v":""},"","",null,null,null,"年 度 確 定 ","令 和",null,null,{"$f":"IF(AB206=\"\",\"\",AB206)","v":""},"","",null,null,null,"年 度 概 算 "]
[null,null,null,null,null,null,null,"③　\n給付基礎日額",null,null,null,"④年度中途加入・脱退",null,null,null,null,null,null,"⑤\n保険料算定基礎額",null,null,null,null,null,"⑥\n給付基礎日額",null,null,null,"⑦\n保険料算定基礎額"]
[null,null,null,null,null,null,null,null,null,null,null,"加入・脱退年月日",null,null,null,null,"加入月数"]
[null,null,null,null,null,null,null,null,null,null,null,null,null,null,null,null,null,null,{"$f":"IFERROR(INDEX(早見表!$B$6:$S$19,MATCH(Q242,早見表!$B$6:$B$19,0),MATCH(H242,早見表!$B$6:$S$6,0)),0)","v":0},null,null,null,null,null,null,null,null,null,{"$f":"IFERROR(INDEX(早見表!$B$6:$S$8,MATCH(12,早見表!$B$6:$B$8,0),MATCH(Y242,早見表!$B$6:$S$6,0)),0)","v":0}]
[null,null,null,null,null,null,null,null,null,null,null,null,null,null,null,null,null,null,{"$f":"IFERROR(INDEX(早見表!$B$6:$S$19,MATCH(Q243,早見表!$B$6:$B$19,0),MATCH(H243,早見表!$B$6:$S$6,0)),0)","v":0},null,null,null,null,null,null,null,null,null,{"$f":"IFERROR(INDEX(早見表!$B$6:$S$8,MATCH(12,早見表!$B$6:$B$8,0),MATCH(Y243,早見表!$B$6:$S$6,0)),0)","v":0}]
[null,null,null,null,null,null,null,null,null,null,null,null,null,null,null,null,null,null,{"$f":"IFERROR(INDEX(早見表!$B$6:$S$19,MATCH(Q244,早見表!$B$6:$B$19,0),MATCH(H244,早見表!$B$6:$S$6,0)),0)","v":0},null,null,null,null,null,null,null,null,null,{"$f":"IFERROR(INDEX(早見表!$B$6:$S$8,MATCH(12,早見表!$B$6:$B$8,0),MATCH(Y244,早見表!$B$6:$S$6,0)),0)","v":0}]
[null,null,null,null,null,null,null,null,null,null,null,null,null,null,null,null,null,null,{"$f":"IFERROR(INDEX(早見表!$B$6:$S$19,MATCH(Q245,早見表!$B$6:$B$19,0),MATCH(H245,早見表!$B$6:$S$6,0)),0)","v":0},null,null,null,null,null,null,null,null,null,{"$f":"IFERROR(INDEX(早見表!$B$6:$S$8,MATCH(12,早見表!$B$6:$B$8,0),MATCH(Y245,早見表!$B$6:$S$6,0)),0)","v":0}]
[null,null,null,null,null,null,null,null,null,null,null,null,null,null,null,null,null,null,{"$f":"IFERROR(INDEX(早見表!$B$6:$S$19,MATCH(Q246,早見表!$B$6:$B$19,0),MATCH(H246,早見表!$B$6:$S$6,0)),0)","v":0},null,null,null,null,null,null,null,null,null,{"$f":"IFERROR(INDEX(早見表!$B$6:$S$8,MATCH(12,早見表!$B$6:$B$8,0),MATCH(Y246,早見表!$B$6:$S$6,0)),0)","v":0}]
[null,null,null,null,null,null,null,null,null,null,null,null,null,null,null,null,null,null,{"$f":"IFERROR(INDEX(早見表!$B$6:$S$19,MATCH(Q247,早見表!$B$6:$B$19,0),MATCH(H247,早見表!$B$6:$S$6,0)),0)","v":0},null,null,null,null,null,null,null,null,null,{"$f":"IFERROR(INDEX(早見表!$B$6:$S$8,MATCH(12,早見表!$B$6:$B$8,0),MATCH(Y247,早見表!$B$6:$S$6,0)),0)","v":0}]
[null,null,null,null,null,null,null,null,null,null,null,null,null,null,null,null,null,null,{"$f":"IFERROR(INDEX(早見表!$B$6:$S$19,MATCH(Q248,早見表!$B$6:$B$19,0),MATCH(H248,早見表!$B$6:$S$6,0)),0)","v":0},null,null,null,null,null,null,null,null,null,{"$f":"IFERROR(INDEX(早見表!$B$6:$S$8,MATCH(12,早見表!$B$6:$B$8,0),MATCH(Y248,早見表!$B$6:$S$6,0)),0)","v":0}]
[null,null,null,null,null,null,null,null,null,null,null,null,null,null,null,null,null,null,{"$f":"IFERROR(INDEX(早見表!$B$6:$S$19,MATCH(Q249,早見表!$B$6:$B$19,0),MATCH(H249,早見表!$B$6:$S$6,0)),0)","v":0},null,null,null,null,null,null,null,null,null,{"$f":"IFERROR(INDEX(早見表!$B$6:$S$8,MATCH(12,早見表!$B$6:$B$8,0),MATCH(Y249,早見表!$B$6:$S$6,0)),0)","v":0}]
[null,null,null,null,null,null,null,null,null,null,null,null,null,null,null,null,null,null,{"$f":"IFERROR(INDEX(早見表!$B$6:$S$19,MATCH(Q250,早見表!$B$6:$B$19,0),MATCH(H250,早見表!$B$6:$S$6,0)),0)","v":0},null,null,null,null,null,null,null,null,null,{"$f":"IFERROR(INDEX(早見表!$B$6:$S$8,MATCH(12,早見表!$B$6:$B$8,0),MATCH(Y250,早見表!$B$6:$S$6,0)),0)","v":0}]
[null,null,null,null,null,null,null,null,null,null,null,null,null,null,null,null,null,null,{"$f":"IFERROR(INDEX(早見表!$B$6:$S$19,MATCH(Q251,早見表!$B$6:$B$19,0),MATCH(H251,早見表!$B$6:$S$6,0)),0)","v":0},null,null,null,null,null,null,null,null,null,{"$f":"IFERROR(INDEX(早見表!$B$6:$S$8,MATCH(12,早見表!$B$6:$B$8,0),MATCH(Y251,早見表!$B$6:$S$6,0)),0)","v":0}]
[null,null,null,null,null,null,null,null,null,null,null,null,null,null,null,null,null,null,{"$f":"IFERROR(INDEX(早見表!$B$6:$S$19,MATCH(Q252,早見表!$B$6:$B$19,0),MATCH(H252,早見表!$B$6:$S$6,0)),0)","v":0},null,null,null,null,null,null,null,null,null,{"$f":"IFERROR(INDEX(早見表!$B$6:$S$8,MATCH(12,早見表!$B$6:$B$8,0),MATCH(Y252,早見表!$B$6:$S$6,0)),0)","v":0}]
[null,null,null,null,null,null,null,null,null,null,null,null,null,null,null,null,null,null,{"$f":"IFERROR(INDEX(早見表!$B$6:$S$19,MATCH(Q253,早見表!$B$6:$B$19,0),MATCH(H253,早見表!$B$6:$S$6,0)),0)","v":0},null,null,null,null,null,null,null,null,null,{"$f":"IFERROR(INDEX(早見表!$B$6:$S$8,MATCH(12,早見表!$B$6:$B$8,0),MATCH(Y253,早見表!$B$6:$S$6,0)),0)","v":0}]
[null,null,null,null,null,null,null,null,null,null,null,null,null,null,null,null,null,null,{"$f":"IFERROR(INDEX(早見表!$B$6:$S$19,MATCH(Q254,早見表!$B$6:$B$19,0),MATCH(H254,早見表!$B$6:$S$6,0)),0)","v":0},null,null,null,null,null,null,null,null,null,{"$f":"IFERROR(INDEX(早見表!$B$6:$S$8,MATCH(12,早見表!$B$6:$B$8,0),MATCH(Y254,早見表!$B$6:$S$6,0)),0)","v":0}]
[null,null,null,null,null,null,null,null,null,null,null,null,null,null,null,null,null,null,{"$f":"IFERROR(INDEX(早見表!$B$6:$S$19,MATCH(Q255,早見表!$B$6:$B$19,0),MATCH(H255,早見表!$B$6:$S$6,0)),0)","v":0},null,null,null,null,null,null,null,null,null,{"$f":"IFERROR(INDEX(早見表!$B$6:$S$8,MATCH(12,早見表!$B$6:$B$8,0),MATCH(Y255,早見表!$B$6:$S$6,0)),0)","v":0}]
[null,null,null,null,null,null,null,null,null,null,null,null,null,null,null,null,null,null,{"$f":"IFERROR(INDEX(早見表!$B$6:$S$19,MATCH(Q256,早見表!$B$6:$B$19,0),MATCH(H256,早見表!$B$6:$S$6,0)),0)","v":0},null,null,null,null,null,null,null,null,null,{"$f":"IFERROR(INDEX(早見表!$B$6:$S$8,MATCH(12,早見表!$B$6:$B$8,0),MATCH(Y256,早見表!$B$6:$S$6,0)),0)","v":0}]
[null,null,null,null,null,null,null,null,null,null,null,null,null,null,null,null,null,null,{"$f":"SUM(S242:X256)","v":0},null,null,null,null,null,null,null,null,null,{"$f":"SUM(AC242:AH256)","v":0}]
[]
[null,"（注）"]
[null,null,"１）　④欄は月割の対象となる方のみ記入して下さい。"]
[null,null,"２）　月割の対象となる場合の⑤保険料算定基礎額の算定方法"]
[null,null,"２）　月割の対象となる場合の③（給付基礎日額×365÷12）（円未満を切り上げてから）×加入月数"]
[]
[]
[null,"【島根局版】",null,null,null,null,null,null,null,null,null,null,null,null,null,null,null,null,null,null,null,null,null,null,null,null,"一人親方団体控"]
[null,"第２種特別加入保険料申告内訳名簿"]
[null,"（一人親方等）"]
[null,null,null,null,null,null,null,null,null,null,null,null,null,null,null,null,null,null,null,null,null,null,null,null,"（",{"$f":"Z235","v":0},null,"枚のうち",null,9,null,"枚目",null,"）"]
[]
[null,"労働保険\n番　　　号",null,null,null,null,"府県",null,"所掌","管轄",null,"基幹番号",null,null,null,null,null,"枝番号",null,null,"事業場の\n所在地",null,null,{"$f":"IF(X237=\"\",\"\",X237)","v":""},"","","","","","","","","",""]
[null,null,null,null,null,null,"3","2",{"$f":"IF(I238=\"\",\"\",I238)","v":""},{"$f":"IF(J238=\"\",\"\",J238)","v":""},"","","","","","","","","","","事業場の\n名称",null,null,{"$f":"IF(X238=\"\",\"\",X238)","v":""},"","","","","","","","","",""]
[null,"①\n整理\n番号",null,"②\n氏名",null,null,null,null,null,null,null,null,null,null,"令 和",null,null,{"$f":"IF(R239=\"\",\"\",R239)","v":""},"","",null,null,null,"年 度 確 定 ","令 和",null,null,{"$f":"IF(AB239=\"\",\"\",AB239)","v":""},"","",null,null,null,"年 度 概 算 "]
[null,null,null,null,null,null,null,"③　\n給付基礎日額",null,null,null,"④年度中途加入・脱退",null,null,null,null,null,null,"⑤\n保険料算定基礎額",null,null,null,null,null,"⑥\n給付基礎日額",null,null,null,"⑦\n保険料算定基礎額"]
[null,null,null,null,null,null,null,null,null,null,null,"加入・脱退年月日",null,null,null,null,"加入月数"]
[null,null,null,null,null,null,null,null,null,null,null,null,null,null,null,null,null,null,{"$f":"IFERROR(INDEX(早見表!$B$6:$S$19,MATCH(Q275,早見表!$B$6:$B$19,0),MATCH(H275,早見表!$B$6:$S$6,0)),0)","v":0},null,null,null,null,null,null,null,null,null,{"$f":"IFERROR(INDEX(早見表!$B$6:$S$8,MATCH(12,早見表!$B$6:$B$8,0),MATCH(Y275,早見表!$B$6:$S$6,0)),0)","v":0}]
[null,null,null,null,null,null,null,null,null,null,null,null,null,null,null,null,null,null,{"$f":"IFERROR(INDEX(早見表!$B$6:$S$19,MATCH(Q276,早見表!$B$6:$B$19,0),MATCH(H276,早見表!$B$6:$S$6,0)),0)","v":0},null,null,null,null,null,null,null,null,null,{"$f":"IFERROR(INDEX(早見表!$B$6:$S$8,MATCH(12,早見表!$B$6:$B$8,0),MATCH(Y276,早見表!$B$6:$S$6,0)),0)","v":0}]
[null,null,null,null,null,null,null,null,null,null,null,null,null,null,null,null,null,null,{"$f":"IFERROR(INDEX(早見表!$B$6:$S$19,MATCH(Q277,早見表!$B$6:$B$19,0),MATCH(H277,早見表!$B$6:$S$6,0)),0)","v":0},null,null,null,null,null,null,null,null,null,{"$f":"IFERROR(INDEX(早見表!$B$6:$S$8,MATCH(12,早見表!$B$6:$B$8,0),MATCH(Y277,早見表!$B$6:$S$6,0)),0)","v":0}]
[null,null,null,null,null,null,null,null,null,null,null,null,null,null,null,null,null,null,{"$f":"IFERROR(INDEX(早見表!$B$6:$S$19,MATCH(Q278,早見表!$B$6:$B$19,0),MATCH(H278,早見表!$B$6:$S$6,0)),0)","v":0},null,null,null,null,null,null,null,null,null,{"$f":"IFERROR(INDEX(早見表!$B$6:$S$8,MATCH(12,早見表!$B$6:$B$8,0),MATCH(Y278,早見表!$B$6:$S$6,0)),0)","v":0}]
[null,null,null,null,null,null,null,null,null,null,null,null,null,null,null,null,null,null,{"$f":"IFERROR(INDEX(早見表!$B$6:$S$19,MATCH(Q279,早見表!$B$6:$B$19,0),MATCH(H279,早見表!$B$6:$S$6,0)),0)","v":0},null,null,null,null,null,null,null,null,null,{"$f":"IFERROR(INDEX(早見表!$B$6:$S$8,MATCH(12,早見表!$B$6:$B$8,0),MATCH(Y279,早見表!$B$6:$S$6,0)),0)","v":0}]
[null,null,null,null,null,null,null,null,null,null,null,null,null,null,null,null,null,null,{"$f":"IFERROR(INDEX(早見表!$B$6:$S$19,MATCH(Q280,早見表!$B$6:$B$19,0),MATCH(H280,早見表!$B$6:$S$6,0)),0)","v":0},null,null,null,null,null,null,null,null,null,{"$f":"IFERROR(INDEX(早見表!$B$6:$S$8,MATCH(12,早見表!$B$6:$B$8,0),MATCH(Y280,早見表!$B$6:$S$6,0)),0)","v":0}]
[null,null,null,null,null,null,null,null,null,null,null,null,null,null,null,null,null,null,{"$f":"IFERROR(INDEX(早見表!$B$6:$S$19,MATCH(Q281,早見表!$B$6:$B$19,0),MATCH(H281,早見表!$B$6:$S$6,0)),0)","v":0},null,null,null,null,null,null,null,null,null,{"$f":"IFERROR(INDEX(早見表!$B$6:$S$8,MATCH(12,早見表!$B$6:$B$8,0),MATCH(Y281,早見表!$B$6:$S$6,0)),0)","v":0}]
[null,null,null,null,null,null,null,null,null,null,null,null,null,null,null,null,null,null,{"$f":"IFERROR(INDEX(早見表!$B$6:$S$19,MATCH(Q282,早見表!$B$6:$B$19,0),MATCH(H282,早見表!$B$6:$S$6,0)),0)","v":0},null,null,null,null,null,null,null,null,null,{"$f":"IFERROR(INDEX(早見表!$B$6:$S$8,MATCH(12,早見表!$B$6:$B$8,0),MATCH(Y282,早見表!$B$6:$S$6,0)),0)","v":0}]
[null,null,null,null,null,null,null,null,null,null,null,null,null,null,null,null,null,null,{"$f":"IFERROR(INDEX(早見表!$B$6:$S$19,MATCH(Q283,早見表!$B$6:$B$19,0),MATCH(H283,早見表!$B$6:$S$6,0)),0)","v":0},null,null,null,null,null,null,null,null,null,{"$f":"IFERROR(INDEX(早見表!$B$6:$S$8,MATCH(12,早見表!$B$6:$B$8,0),MATCH(Y283,早見表!$B$6:$S$6,0)),0)","v":0}]
[null,null,null,null,null,null,null,null,null,null,null,null,null,null,null,null,null,null,{"$f":"IFERROR(INDEX(早見表!$B$6:$S$19,MATCH(Q284,早見表!$B$6:$B$19,0),MATCH(H284,早見表!$B$6:$S$6,0)),0)","v":0},null,null,null,null,null,null,null,null,null,{"$f":"IFERROR(INDEX(早見表!$B$6:$S$8,MATCH(12,早見表!$B$6:$B$8,0),MATCH(Y284,早見表!$B$6:$S$6,0)),0)","v":0}]
[null,null,null,null,null,null,null,null,null,null,null,null,null,null,null,null,null,null,{"$f":"IFERROR(INDEX(早見表!$B$6:$S$19,MATCH(Q285,早見表!$B$6:$B$19,0),MATCH(H285,早見表!$B$6:$S$6,0)),0)","v":0},null,null,null,null,null,null,null,null,null,{"$f":"IFERROR(INDEX(早見表!$B$6:$S$8,MATCH(12,早見表!$B$6:$B$8,0),MATCH(Y285,早見表!$B$6:$S$6,0)),0)","v":0}]
[null,null,null,null,null,null,null,null,null,null,null,null,null,null,null,null,null,null,{"$f":"IFERROR(INDEX(早見表!$B$6:$S$19,MATCH(Q286,早見表!$B$6:$B$19,0),MATCH(H286,早見表!$B$6:$S$6,0)),0)","v":0},null,null,null,null,null,null,null,null,null,{"$f":"IFERROR(INDEX(早見表!$B$6:$S$8,MATCH(12,早見表!$B$6:$B$8,0),MATCH(Y286,早見表!$B$6:$S$6,0)),0)","v":0}]
[null,null,null,null,null,null,null,null,null,null,null,null,null,null,null,null,null,null,{"$f":"IFERROR(INDEX(早見表!$B$6:$S$19,MATCH(Q287,早見表!$B$6:$B$19,0),MATCH(H287,早見表!$B$6:$S$6,0)),0)","v":0},null,null,null,null,null,null,null,null,null,{"$f":"IFERROR(INDEX(早見表!$B$6:$S$8,MATCH(12,早見表!$B$6:$B$8,0),MATCH(Y287,早見表!$B$6:$S$6,0)),0)","v":0}]
[null,null,null,null,null,null,null,null,null,null,null,null,null,null,null,null,null,null,{"$f":"IFERROR(INDEX(早見表!$B$6:$S$19,MATCH(Q288,早見表!$B$6:$B$19,0),MATCH(H288,早見表!$B$6:$S$6,0)),0)","v":0},null,null,null,null,null,null,null,null,null,{"$f":"IFERROR(INDEX(早見表!$B$6:$S$8,MATCH(12,早見表!$B$6:$B$8,0),MATCH(Y288,早見表!$B$6:$S$6,0)),0)","v":0}]
[null,null,null,null,null,null,null,null,null,null,null,null,null,null,null,null,null,null,{"$f":"IFERROR(INDEX(早見表!$B$6:$S$19,MATCH(Q289,早見表!$B$6:$B$19,0),MATCH(H289,早見表!$B$6:$S$6,0)),0)","v":0},null,null,null,null,null,null,null,null,null,{"$f":"IFERROR(INDEX(早見表!$B$6:$S$8,MATCH(12,早見表!$B$6:$B$8,0),MATCH(Y289,早見表!$B$6:$S$6,0)),0)","v":0}]
[null,null,null,null,null,null,null,null,null,null,null,null,null,null,null,null,null,null,{"$f":"SUM(S275:X289)","v":0},null,null,null,null,null,null,null,null,null,{"$f":"SUM(AC275:AH289)","v":0}]
[]
[null,"（注）"]
[null,null,"１）　④欄は月割の対象となる方のみ記入して下さい。"]
[null,null,"２）　月割の対象となる場合の⑤保険料算定基礎額の算定方法"]
[null,null,"２）　月割の対象となる場合の③（給付基礎日額×365÷12）（円未満を切り上げてから）×加入月数"]
[]
[]
[null,"【島根局版】",null,null,null,null,null,null,null,null,null,null,null,null,null,null,null,null,null,null,null,null,null,null,null,null,"一人親方団体控"]
[null,"第２種特別加入保険料申告内訳名簿"]
[null,"（一人親方等）"]
[null,null,null,null,null,null,null,null,null,null,null,null,null,null,null,null,null,null,null,null,null,null,null,null,"（",{"$f":"Z268","v":0},null,"枚のうち",null,10,null,"枚目",null,"）"]
[]
[null,"労働保険\n番　　　号",null,null,null,null,"府県",null,"所掌","管轄",null,"基幹番号",null,null,null,null,null,"枝番号",null,null,"事業場の\n所在地",null,null,{"$f":"IF(X270=\"\",\"\",X270)","v":""},"","","","","","","","","",""]
[null,null,null,null,null,null,"3","2",{"$f":"IF(I271=\"\",\"\",I271)","v":""},{"$f":"IF(J271=\"\",\"\",J271)","v":""},"","","","","","","","","","","事業場の\n名称",null,null,{"$f":"IF(X271=\"\",\"\",X271)","v":""},"","","","","","","","","",""]
[null,"①\n整理\n番号",null,"②\n氏名",null,null,null,null,null,null,null,null,null,null,"令 和",null,null,{"$f":"IF(R272=\"\",\"\",R272)","v":""},"","",null,null,null,"年 度 確 定 ","令 和",null,null,{"$f":"IF(AB272=\"\",\"\",AB272)","v":""},"","",null,null,null,"年 度 概 算 "]
[null,null,null,null,null,null,null,"③　\n給付基礎日額",null,null,null,"④年度中途加入・脱退",null,null,null,null,null,null,"⑤\n保険料算定基礎額",null,null,null,null,null,"⑥\n給付基礎日額",null,null,null,"⑦\n保険料算定基礎額"]
[null,null,null,null,null,null,null,null,null,null,null,"加入・脱退年月日",null,null,null,null,"加入月数"]
[null,null,null,null,null,null,null,null,null,null,null,null,null,null,null,null,null,null,{"$f":"IFERROR(INDEX(早見表!$B$6:$S$19,MATCH(Q308,早見表!$B$6:$B$19,0),MATCH(H308,早見表!$B$6:$S$6,0)),0)","v":0},null,null,null,null,null,null,null,null,null,{"$f":"IFERROR(INDEX(早見表!$B$6:$S$8,MATCH(12,早見表!$B$6:$B$8,0),MATCH(Y308,早見表!$B$6:$S$6,0)),0)","v":0}]
[null,null,null,null,null,null,null,null,null,null,null,null,null,null,null,null,null,null,{"$f":"IFERROR(INDEX(早見表!$B$6:$S$19,MATCH(Q309,早見表!$B$6:$B$19,0),MATCH(H309,早見表!$B$6:$S$6,0)),0)","v":0},null,null,null,null,null,null,null,null,null,{"$f":"IFERROR(INDEX(早見表!$B$6:$S$8,MATCH(12,早見表!$B$6:$B$8,0),MATCH(Y309,早見表!$B$6:$S$6,0)),0)","v":0}]
[null,null,null,null,null,null,null,null,null,null,null,null,null,null,null,null,null,null,{"$f":"IFERROR(INDEX(早見表!$B$6:$S$19,MATCH(Q310,早見表!$B$6:$B$19,0),MATCH(H310,早見表!$B$6:$S$6,0)),0)","v":0},null,null,null,null,null,null,null,null,null,{"$f":"IFERROR(INDEX(早見表!$B$6:$S$8,MATCH(12,早見表!$B$6:$B$8,0),MATCH(Y310,早見表!$B$6:$S$6,0)),0)","v":0}]
[null,null,null,null,null,null,null,null,null,null,null,null,null,null,null,null,null,null,{"$f":"IFERROR(INDEX(早見表!$B$6:$S$19,MATCH(Q311,早見表!$B$6:$B$19,0),MATCH(H311,早見表!$B$6:$S$6,0)),0)","v":0},null,null,null,null,null,null,null,null,null,{"$f":"IFERROR(INDEX(早見表!$B$6:$S$8,MATCH(12,早見表!$B$6:$B$8,0),MATCH(Y311,早見表!$B$6:$S$6,0)),0)","v":0}]
[null,null,null,null,null,null,null,null,null,null,null,null,null,null,null,null,null,null,{"$f":"IFERROR(INDEX(早見表!$B$6:$S$19,MATCH(Q312,早見表!$B$6:$B$19,0),MATCH(H312,早見表!$B$6:$S$6,0)),0)","v":0},null,null,null,null,null,null,null,null,null,{"$f":"IFERROR(INDEX(早見表!$B$6:$S$8,MATCH(12,早見表!$B$6:$B$8,0),MATCH(Y312,早見表!$B$6:$S$6,0)),0)","v":0}]
[null,null,null,null,null,null,null,null,null,null,null,null,null,null,null,null,null,null,{"$f":"IFERROR(INDEX(早見表!$B$6:$S$19,MATCH(Q313,早見表!$B$6:$B$19,0),MATCH(H313,早見表!$B$6:$S$6,0)),0)","v":0},null,null,null,null,null,null,null,null,null,{"$f":"IFERROR(INDEX(早見表!$B$6:$S$8,MATCH(12,早見表!$B$6:$B$8,0),MATCH(Y313,早見表!$B$6:$S$6,0)),0)","v":0}]
[null,null,null,null,null,null,null,null,null,null,null,null,null,null,null,null,null,null,{"$f":"IFERROR(INDEX(早見表!$B$6:$S$19,MATCH(Q314,早見表!$B$6:$B$19,0),MATCH(H314,早見表!$B$6:$S$6,0)),0)","v":0},null,null,null,null,null,null,null,null,null,{"$f":"IFERROR(INDEX(早見表!$B$6:$S$8,MATCH(12,早見表!$B$6:$B$8,0),MATCH(Y314,早見表!$B$6:$S$6,0)),0)","v":0}]
[null,null,null,null,null,null,null,null,null,null,null,null,null,null,null,null,null,null,{"$f":"IFERROR(INDEX(早見表!$B$6:$S$19,MATCH(Q315,早見表!$B$6:$B$19,0),MATCH(H315,早見表!$B$6:$S$6,0)),0)","v":0},null,null,null,null,null,null,null,null,null,{"$f":"IFERROR(INDEX(早見表!$B$6:$S$8,MATCH(12,早見表!$B$6:$B$8,0),MATCH(Y315,早見表!$B$6:$S$6,0)),0)","v":0}]
[null,null,null,null,null,null,null,null,null,null,null,null,null,null,null,null,null,null,{"$f":"IFERROR(INDEX(早見表!$B$6:$S$19,MATCH(Q316,早見表!$B$6:$B$19,0),MATCH(H316,早見表!$B$6:$S$6,0)),0)","v":0},null,null,null,null,null,null,null,null,null,{"$f":"IFERROR(INDEX(早見表!$B$6:$S$8,MATCH(12,早見表!$B$6:$B$8,0),MATCH(Y316,早見表!$B$6:$S$6,0)),0)","v":0}]
[null,null,null,null,null,null,null,null,null,null,null,null,null,null,null,null,null,null,{"$f":"IFERROR(INDEX(早見表!$B$6:$S$19,MATCH(Q317,早見表!$B$6:$B$19,0),MATCH(H317,早見表!$B$6:$S$6,0)),0)","v":0},null,null,null,null,null,null,null,null,null,{"$f":"IFERROR(INDEX(早見表!$B$6:$S$8,MATCH(12,早見表!$B$6:$B$8,0),MATCH(Y317,早見表!$B$6:$S$6,0)),0)","v":0}]
[null,null,null,null,null,null,null,null,null,null,null,null,null,null,null,null,null,null,{"$f":"IFERROR(INDEX(早見表!$B$6:$S$19,MATCH(Q318,早見表!$B$6:$B$19,0),MATCH(H318,早見表!$B$6:$S$6,0)),0)","v":0},null,null,null,null,null,null,null,null,null,{"$f":"IFERROR(INDEX(早見表!$B$6:$S$8,MATCH(12,早見表!$B$6:$B$8,0),MATCH(Y318,早見表!$B$6:$S$6,0)),0)","v":0}]
[null,null,null,null,null,null,null,null,null,null,null,null,null,null,null,null,null,null,{"$f":"IFERROR(INDEX(早見表!$B$6:$S$19,MATCH(Q319,早見表!$B$6:$B$19,0),MATCH(H319,早見表!$B$6:$S$6,0)),0)","v":0},null,null,null,null,null,null,null,null,null,{"$f":"IFERROR(INDEX(早見表!$B$6:$S$8,MATCH(12,早見表!$B$6:$B$8,0),MATCH(Y319,早見表!$B$6:$S$6,0)),0)","v":0}]
[null,null,null,null,null,null,null,null,null,null,null,null,null,null,null,null,null,null,{"$f":"IFERROR(INDEX(早見表!$B$6:$S$19,MATCH(Q320,早見表!$B$6:$B$19,0),MATCH(H320,早見表!$B$6:$S$6,0)),0)","v":0},null,null,null,null,null,null,null,null,null,{"$f":"IFERROR(INDEX(早見表!$B$6:$S$8,MATCH(12,早見表!$B$6:$B$8,0),MATCH(Y320,早見表!$B$6:$S$6,0)),0)","v":0}]
[null,null,null,null,null,null,null,null,null,null,null,null,null,null,null,null,null,null,{"$f":"IFERROR(INDEX(早見表!$B$6:$S$19,MATCH(Q321,早見表!$B$6:$B$19,0),MATCH(H321,早見表!$B$6:$S$6,0)),0)","v":0},null,null,null,null,null,null,null,null,null,{"$f":"IFERROR(INDEX(早見表!$B$6:$S$8,MATCH(12,早見表!$B$6:$B$8,0),MATCH(Y321,早見表!$B$6:$S$6,0)),0)","v":0}]
[null,null,null,null,null,null,null,null,null,null,null,null,null,null,null,null,null,null,{"$f":"IFERROR(INDEX(早見表!$B$6:$S$19,MATCH(Q322,早見表!$B$6:$B$19,0),MATCH(H322,早見表!$B$6:$S$6,0)),0)","v":0},null,null,null,null,null,null,null,null,null,{"$f":"IFERROR(INDEX(早見表!$B$6:$S$8,MATCH(12,早見表!$B$6:$B$8,0),MATCH(Y322,早見表!$B$6:$S$6,0)),0)","v":0}]
[null,null,null,null,null,null,null,null,null,null,null,null,null,null,null,null,null,null,{"$f":"SUM(S308:X322)","v":0},null,null,null,null,null,null,null,null,null,{"$f":"SUM(AC308:AH322)","v":0}]
[]
[null,"（注）"]
[null,null,"１）　④欄は月割の対象となる方のみ記入して下さい。"]
[null,null,"２）　月割の対象となる場合の⑤保険料算定基礎額の算定方法"]
[null,null,"２）　月割の対象となる場合の③（給付基礎日額×365÷12）（円未満を切り上げてから）×加入月数"]

{"sheet":"保険料申告内訳名簿（監督署提出用)","index":3,"n_rows":328,"n_cols":34,"rows_kept":328,"cut":false,"hidden":false,"merged":[[321,28,321,33],[322,1,322,17],[322,18,322,23],[322,24,322,27],[322,28,322,33],[320,24,320,27],[320,28,320,33],[321,1,321,2],[321,3,321,6],[321,7,321,10],[321,11,321,13],[321,14,321,15],[321,16,321,17],[321,18,321,23],[321,24,321,27],[319,18,319,23],[319,24,319,27],[319,28,319,33],[320,1,320,2],[320,3,320,6],[320,7,320,10],[320,11,320,13],[320,14,320,15],[320,16,320,17],[320,18,320,23],[319,1,319,2],[319,3,319,6],[319,7,319,10],[319,11,319,13],[319,14,319,15],[319,16,319,17],[317,28,317,33],[318,1,318,2],[318,3,318,6],[318,7,318,10],[318,11,318,13],[318,14,318,15],[318,16,318,17],[318,18,318,23],[318,24,318,27],[318,28,318,33],[316,24,316,27],[316,28,316,33],[317,1,317,2],[317,3,317,6],[317,7,317,10],[317,11,317,13],[317,14,317,15],[317,16,317,17],[317,18,317,23],[317,24,317,27],[315,18,315,23],[315,24,315,27],[315,28,315,33],[316,1,316,2],[316,3,316,6],[316,7,316,10],[316,11,316,13],[316,14,316,15],[316,16,316,17],[316,18,316,23],[315,1,315,2],[315,3,315,6],[315,7,315,10],[315,11,315,13],[315,14,315,15],[315,16,315,17],[313,28,313,33],[314,1,314,2],[314,3,314,6],[314,7,314,10],[314,11,314,13],[314,14,314,15],[314,16,314,17],[314,18,314,23],[314,24,314,27],[314,28,314,33],[312,24,312,27],[312,28,312,33],[313,1,313,2],[313,3,313,6],[313,7,313,10],[313,11,313,13],[313,14,313,15],[313,16,313,17],[313,18,313,23],[313,24,313,27],[311,18,311,23],[311,24,311,27],[311,28,311,33],[312,1,312,2],[312,3,312,6],[312,7,312,10],[312,11,312,13],[312,14,312,15],[312,16,312,17],[312,18,312,23],[311,1,311,2],[311,3,311,6],[311,7,311,10],[311,11,311,13],[311,14,311,15],[311,16,311,17],[309,28,309,33],[310,1,310,2],[310,3,310,6],[310,7,310,10],[310,11,310,13],[310,14,310,15],[310,16,310,17],[310,18,310,23],[310,24,310,27],[310,28,310,33],[308,24,308,27],[308,28,308,33],[309,1,309,2],[309,3,309,6],[309,7,309,10],[309,11,309,13],[309,14,309,15],[309,16,309,17],[309,18,309,23],[309,24,309,27],[307,18,307,23],[307,24,307,27],[307,28,307,33],[308,1,308,2],[308,3,308,6],[308,7,308,10],[308,11,308,13],[308,14,308,15],[308,16,308,17],[308,18,308,23],[307,1,307,2],[307,3,307,6],[307,7,307,10],[307,11,307,13],[307,14,307,15],[307,16,307,17],[305,11,305,17],[305,18,306,23],[305,24,306,27],[305,28,306,33],[306,11,306,15],[306,16,306,17],[302,23,302,33],[303,20,303,22],[303,23,303,33],[304,1,306,2],[304,3,306,6],[304,14,304,16],[304,17,304,19],[304,24,304,26],[304,27,304,29],[305,7,306,10],[302,1,303,5],[302,6,302,7],[302,9,302,10],[302,11,302,16],[302,17,302,19],[302,20,302,22],[298,1,298,33],[299,1,299,33],[300,25,300,26],[300,27,300,28],[300,29,300,30],[300,31,300,32],[288,28,288,33],[289,1,289,17],[289,18,289,23],[289,24,289,27],[289,28,289,33],[297,26,297,33],[287,24,287,27],[287,28,287,33],[288,1,288,2],[288,3,288,6],[288,7,288,10],[288,11,288,13],[288,14,288,15],[288,16,288,17],[288,18,288,23],[288,24,288,27],[286,18,286,23],[286,24,286,27],[286,28,286,33],[287,1,287,2],[287,3,287,6],[287,7,287,10],[287,11,287,13],[287,14,287,15],[287,16,287,17],[287,18,287,23],[286,1,286,2],[286,3,286,6],[286,7,286,10],[286,11,286,13],[286,14,286,15],[286,16,286,17],[284,28,284,33],[285,1,285,2],[285,3,285,6],[285,7,285,10],[285,11,285,13],[285,14,285,15],[285,16,285,17],[285,18,285,23],[285,24,285,27],[285,28,285,33],[283,24,283,27],[283,28,283,33],[284,1,284,2],[284,3,284,6],[284,7,284,10],[284,11,284,13],[284,14,284,15],[284,16,284,17],[284,18,284,23],[284,24,284,27],[282,18,282,23],[282,24,282,27],[282,28,282,33],[283,1,283,2],[283,3,283,6],[283,7,283,10],[283,11,283,13],[283,14,283,15],[283,16,283,17],[283,18,283,23],[282,1,282,2],[282,3,282,6],[282,7,282,10],[282,11,282,13],[282,14,282,15],[282,16,282,17],[280,28,280,33],[281,1,281,2],[281,3,281,6],[281,7,281,10],[281,11,281,13],[281,14,281,15],[281,16,281,17],[281,18,281,23],[281,24,281,27],[281,28,281,33],[279,24,279,27],[279,28,279,33],[280,1,280,2],[280,3,280,6],[280,7,280,10],[280,11,280,13],[280,14,280,15],[280,16,280,17],[280,18,280,23],[280,24,280,27],[278,18,278,23],[278,24,278,27],[278,28,278,33],[279,1,279,2],[279,3,279,6],[279,7,279,10],[279,11,279,13],[279,14,279,15],[279,16,279,17],[279,18,279,23],[278,1,278,2],[278,3,278,6],[278,7,278,10],[278,11,278,13],[278,14,278,15],[278,16,278,17],[276,28,276,33],[277,1,277,2],[277,3,277,6],[277,7,277,10],[277,11,277,13],[277,14,277,15],[277,16,277,17],[277,18,277,23],[277,24,277,27],[277,28,277,33],[275,24,275,27],[275,28,275,33],[276,1,276,2],[276,3,276,6],[276,7,276,10],[276,11,276,13],[276,14,276,15],[276,16,276,17],[276,18,276,23],[276,24,276,27],[274,18,274,23],[274,24,274,27],[274,28,274,33],[275,1,275,2],[275,3,275,6],[275,7,275,10],[275,11,275,13],[275,14,275,15],[275,16,275,17],[275,18,275,23],[274,1,274,2],[274,3,274,6],[274,7,274,10],[274,11,274,13],[274,14,274,15],[274,16,274,17],[272,11,272,17],[272,18,273,23],[272,24,273,27],[272,28,273,33],[273,11,273,15],[273,16,273,17],[269,23,269,33],[270,20,270,22],[270,23,270,33],[271,1,273,2],[271,3,273,6],[271,14,271,16],[271,17,271,19],[271,24,271,26],[271,27,271,29],[272,7,273,10],[269,1,270,5],[269,6,269,7],[269,9,269,10],[269,11,269,16],[269,17,269,19],[269,20,269,22],[265,1,265,33],[266,1,266,33],[267,25,267,26],[267,27,267,28],[267,29,267,30],[267,31,267,32],[255,28,255,33],[256,1,256,17],[256,18,256,23],[256,24,256,27],[256,28,256,33],[264,26,264,33],[254,24,254,27],[254,28,254,33],[255,1,255,2],[255,3,255,6],[255,7,255,10],[255,11,255,13],[255,14,255,15],[255,16,255,17],[255,18,255,23],[255,24,255,27],[253,18,253,23],[253,24,253,27],[253,28,253,33],[254,1,254,2],[254,3,254,6],[254,7,254,10],[254,11,254,13],[254,14,254,15],[254,16,254,17],[254,18,254,23],[253,1,253,2],[253,3,253,6],[253,7,253,10],[253,11,253,13],[253,14,253,15],[253,16,253,17],[251,28,251,33],[252,1,252,2],[252,3,252,6],[252,7,252,10],[252,11,252,13],[252,14,252,15],[252,16,252,17],[252,18,252,23],[252,24,252,27],[252,28,252,33],[250,24,250,27],[250,28,250,33],[251,1,251,2],[251,3,251,6],[251,7,251,10],[251,11,251,13],[251,14,251,15],[251,16,251,17],[251,18,251,23],[251,24,251,27],[249,18,249,23],[249,24,249,27],[249,28,249,33],[250,1,250,2],[250,3,250,6],[250,7,250,10],[250,11,250,13],[250,14,250,15],[250,16,250,17],[250,18,250,23],[249,1,249,2],[249,3,249,6],[249,7,249,10],[249,11,249,13],[249,14,249,15],[249,16,249,17],[247,28,247,33],[248,1,248,2],[248,3,248,6],[248,7,248,10],[248,11,248,13],[248,14,248,15],[248,16,248,17],[248,18,248,23],[248,24,248,27],[248,28,248,33],[246,24,246,27],[246,28,246,33],[247,1,247,2],[247,3,247,6],[247,7,247,10],[247,11,247,13],[247,14,247,15],[247,16,247,17],[247,18,247,23],[247,24,247,27],[245,18,245,23],[245,24,245,27],[245,28,245,33],[246,1,246,2],[246,3,246,6],[246,7,246,10],[246,11,246,13],[246,14,246,15],[246,16,246,17],[246,18,246,23],[245,1,245,2],[245,3,245,6],[245,7,245,10],[245,11,245,13],[245,14,245,15],[245,16,245,17],[243,28,243,33],[244,1,244,2],[244,3,244,6],[244,7,244,10],[244,11,244,13],[244,14,244,15],[244,16,244,17],[244,18,244,23],[244,24,244,27],[244,28,244,33],[242,24,242,27],[242,28,242,33],[243,1,243,2],[243,3,243,6],[243,7,243,10],[243,11,243,13],[243,14,243,15],[243,16,243,17],[243,18,243,23],[243,24,243,27],[241,18,241,23],[241,24,241,27],[241,28,241,33],[242,1,242,2],[242,3,242,6],[242,7,242,10],[242,11,242,13],[242,14,242,15],[242,16,242,17],[242,18,242,23],[241,1,241,2],[241,3,241,6],[241,7,241,10],[241,11,241,13],[241,14,241,15],[241,16,241,17],[239,11,239,17],[239,18,240,23],[239,24,240,27],[239,28,240,33],[240,11,240,15],[240,16,240,17],[236,23,236,33],[237,20,237,22],[237,23,237,33],[238,1,240,2],[238,3,240,6],[238,14,238,16],[238,17,238,19],[238,24,238,26],[238,27,238,29],[239,7,240,10],[236,1,237,5],[236,6,236,7],[236,9,236,10],[236,11,236,16],[236,17,236,19],[236,20,236,22],[232,1,232,33],[233,1,233,33],[234,25,234,26],[234,27,234,28],[234,29,234,30],[234,31,234,32],[222,28,222,33],[223,1,223,17],[223,18,223,23],[223,24,223,27],[223,28,223,33],[231,26,231,33],[221,24,221,27],[221,28,221,33],[222,1,222,2],[222,3,222,6],[222,7,222,10],[222,11,222,13],[222,14,222,15],[222,16,222,17],[222,18,222,23],[222,24,222,27],[220,18,220,23],[220,24,220,27],[220,28,220,33],[221,1,221,2],[221,3,221,6],[221,7,221,10],[221,11,221,13],[221,14,221,15],[221,16,221,17],[221,18,221,23],[220,1,220,2],[220,3,220,6],[220,7,220,10],[220,11,220,13],[220,14,220,15],[220,16,220,17],[218,28,218,33],[219,1,219,2],[219,3,219,6],[219,7,219,10],[219,11,219,13],[219,14,219,15],[219,16,219,17],[219,18,219,23],[219,24,219,27],[219,28,219,33],[217,24,217,27],[217,28,217,33],[218,1,218,2],[218,3,218,6],[218,7,218,10],[218,11,218,13],[218,14,218,15],[218,16,218,17],[218,18,218,23],[218,24,218,27],[216,18,216,23],[216,24,216,27],[216,28,216,33],[217,1,217,2],[217,3,217,6],[217,7,217,10],[217,11,217,13],[217,14,217,15],[217,16,217,17],[217,18,217,23],[216,1,216,2],[216,3,216,6],[216,7,216,10],[216,11,216,13],[216,14,216,15],[216,16,216,17],[214,28,214,33],[215,1,215,2],[215,3,215,6],[215,7,215,10],[215,11,215,13],[215,14,215,15],[215,16,215,17],[215,18,215,23],[215,24,215,27],[215,28,215,33],[213,24,213,27],[213,28,213,33],[214,1,214,2],[214,3,214,6],[214,7,214,10],[214,11,214,13],[214,14,214,15],[214,16,214,17],[214,18,214,23],[214,24,214,27],[212,18,212,23],[212,24,212,27],[212,28,212,33],[213,1,213,2],[213,3,213,6],[213,7,213,10],[213,11,213,13],[213,14,213,15],[213,16,213,17],[213,18,213,23],[212,1,212,2],[212,3,212,6],[212,7,212,10],[212,11,212,13],[212,14,212,15],[212,16,212,17],[210,28,210,33],[211,1,211,2],[211,3,211,6],[211,7,211,10],[211,11,211,13],[211,14,211,15],[211,16,211,17],[211,18,211,23],[211,24,211,27],[211,28,211,33],[209,24,209,27],[209,28,209,33],[210,1,210,2],[210,3,210,6],[210,7,210,10],[210,11,210,13],[210,14,210,15],[210,16,210,17],[210,18,210,23],[210,24,210,27],[208,18,208,23],[208,24,208,27],[208,28,208,33],[209,1,209,2],[209,3,209,6],[209,7,209,10],[209,11,209,13],[209,14,209,15],[209,16,209,17],[209,18,209,23],[208,1,208,2],[208,3,208,6],[208,7,208,10],[208,11,208,13],[208,14,208,15],[208,16,208,17],[206,11,206,17],[206,18,207,23],[206,24,207,27],[206,28,207,33],[207,11,207,15],[207,16,207,17],[203,23,203,33],[204,20,204,22],[204,23,204,33],[205,1,207,2],[205,3,207,6],[205,14,205,16],[205,17,205,19],[205,24,205,26],[205,27,205,29],[206,7,207,10],[203,1,204,5],[203,6,203,7],[203,9,203,10],[203,11,203,16],[203,17,203,19],[203,20,203,22],[199,1,199,33],[200,1,200,33],[201,25,201,26],[201,27,201,28],[201,29,201,30],[201,31,201,32],[189,28,189,33],[190,1,190,17],[190,18,190,23],[190,24,190,27],[190,28,190,33],[198,26,198,33],[188,24,188,27],[188,28,188,33],[189,1,189,2],[189,3,189,6],[189,7,189,10],[189,11,189,13],[189,14,189,15],[189,16,189,17],[189,18,189,23],[189,24,189,27],[187,18,187,23],[187,24,187,27],[187,28,187,33],[188,1,188,2],[188,3,188,6],[188,7,188,10],[188,11,188,13],[188,14,188,15],[188,16,188,17],[188,18,188,23],[187,1,187,2],[187,3,187,6],[187,7,187,10],[187,11,187,13],[187,14,187,15],[187,16,187,17],[185,28,185,33],[186,1,186,2],[186,3,186,6],[186,7,186,10],[186,11,186,13],[186,14,186,15],[186,16,186,17],[186,18,186,23],[186,24,186,27],[186,28,186,33],[184,24,184,27],[184,28,184,33],[185,1,185,2],[185,3,185,6],[185,7,185,10],[185,11,185,13],[185,14,185,15],[185,16,185,17],[185,18,185,23],[185,24,185,27],[183,18,183,23],[183,24,183,27],[183,28,183,33],[184,1,184,2],[184,3,184,6],[184,7,184,10],[184,11,184,13],[184,14,184,15],[184,16,184,17],[184,18,184,23],[183,1,183,2],[183,3,183,6],[183,7,183,10],[183,11,183,13],[183,14,183,15],[183,16,183,17],[181,28,181,33],[182,1,182,2],[182,3,182,6],[182,7,182,10],[182,11,182,13],[182,14,182,15],[182,16,182,17],[182,18,182,23],[182,24,182,27],[182,28,182,33],[180,24,180,27],[180,28,180,33],[181,1,181,2],[181,3,181,6],[181,7,181,10],[181,11,181,13],[181,14,181,15],[181,16,181,17],[181,18,181,23],[181,24,181,27],[179,18,179,23],[179,24,179,27],[179,28,179,33],[180,1,180,2],[180,3,180,6],[180,7,180,10],[180,11,180,13],[180,14,180,15],[180,16,180,17],[180,18,180,23],[179,1,179,2],[179,3,179,6],[179,7,179,10],[179,11,179,13],[179,14,179,15],[179,16,179,17],[177,28,177,33],[178,1,178,2],[178,3,178,6],[178,7,178,10],[178,11,178,13],[178,14,178,15],[178,16,178,17],[178,18,178,23],[178,24,178,27],[178,28,178,33],[176,24,176,27],[176,28,176,33],[177,1,177,2],[177,3,177,6],[177,7,177,10],[177,11,177,13],[177,14,177,15],[177,16,177,17],[177,18,177,23],[177,24,177,27],[175,18,175,23],[175,24,175,27],[175,28,175,33],[176,1,176,2],[176,3,176,6],[176,7,176,10],[176,11,176,13],[176,14,176,15],[176,16,176,17],[176,18,176,23],[175,1,175,2],[175,3,175,6],[175,7,175,10],[175,11,175,13],[175,14,175,15],[175,16,175,17],[173,11,173,17],[173,18,174,23],[173,24,174,27],[173,28,174,33],[174,11,174,15],[174,16,174,17],[170,23,170,33],[171,20,171,22],[171,23,171,33],[172,1,174,2],[172,3,174,6],[172,14,172,16],[172,17,172,19],[172,24,172,26],[172,27,172,29],[173,7,174,10],[170,1,171,5],[170,6,170,7],[170,9,170,10],[170,11,170,16],[170,17,170,19],[170,20,170,22],[166,1,166,33],[167,1,167,33],[168,25,168,26],[168,27,168,28],[168,29,168,30],[168,31,168,32],[156,28,156,33],[157,1,157,17],[157,18,157,23],[157,24,157,27],[157,28,157,33],[165,26,165,33],[155,24,155,27],[155,28,155,33],[156,1,156,2],[156,3,156,6],[156,7,156,10],[156,11,156,13],[156,14,156,15],[156,16,156,17],[156,18,156,23],[156,24,156,27],[154,18,154,23],[154,24,154,27],[154,28,154,33],[155,1,155,2],[155,3,155,6],[155,7,155,10],[155,11,155,13],[155,14,155,15],[155,16,155,17],[155,18,155,23],[154,1,154,2],[154,3,154,6],[154,7,154,10],[154,11,154,13],[154,14,154,15],[154,16,154,17],[152,28,152,33],[153,1,153,2],[153,3,153,6],[153,7,153,10],[153,11,153,13],[153,14,153,15],[153,16,153,17],[153,18,153,23],[153,24,153,27],[153,28,153,33],[151,24,151,27],[151,28,151,33],[152,1,152,2],[152,3,152,6],[152,7,152,10],[152,11,152,13],[152,14,152,15],[152,16,152,17],[152,18,152,23],[152,24,152,27],[150,18,150,23],[150,24,150,27],[150,28,150,33],[151,1,151,2],[151,3,151,6],[151,7,151,10],[151,11,151,13],[151,14,151,15],[151,16,151,17],[151,18,151,23],[150,1,150,2],[150,3,150,6],[150,7,150,10],[150,11,150,13],[150,14,150,15],[150,16,150,17],[148,28,148,33],[149,1,149,2],[149,3,149,6],[149,7,149,10],[149,11,149,13],[149,14,149,15],[149,16,149,17],[149,18,149,23],[149,24,149,27],[149,28,149,33],[147,24,147,27],[147,28,147,33],[148,1,148,2],[148,3,148,6],[148,7,148,10],[148,11,148,13],[148,14,148,15],[148,16,148,17],[148,18,148,23],[148,24,148,27],[146,18,146,23],[146,24,146,27],[146,28,146,33],[147,1,147,2],[147,3,147,6],[147,7,147,10],[147,11,147,13],[147,14,147,15],[147,16,147,17],[147,18,147,23],[146,1,146,2],[146,3,146,6],[146,7,146,10],[146,11,146,13],[146,14,146,15],[146,16,146,17],[144,28,144,33],[145,1,145,2],[145,3,145,6],[145,7,145,10],[145,11,145,13],[145,14,145,15],[145,16,145,17],[145,18,145,23],[145,24,145,27],[145,28,145,33],[143,24,143,27],[143,28,143,33],[144,1,144,2],[144,3,144,6],[144,7,144,10],[144,11,144,13],[144,14,144,15],[144,16,144,17],[144,18,144,23],[144,24,144,27],[142,18,142,23],[142,24,142,27],[142,28,142,33],[143,1,143,2],[143,3,143,6],[143,7,143,10],[143,11,143,13],[143,14,143,15],[143,16,143,17],[143,18,143,23],[142,1,142,2],[142,3,142,6],[142,7,142,10],[142,11,142,13],[142,14,142,15],[142,16,142,17],[140,11,140,17],[140,18,141,23],[140,24,141,27],[140,28,141,33],[141,11,141,15],[141,16,141,17],[137,23,137,33],[138,20,138,22],[138,23,138,33],[139,1,141,2],[139,3,141,6],[139,14,139,16],[139,17,139,19],[139,24,139,26],[139,27,139,29],[140,7,141,10],[137,1,138,5],[137,6,137,7],[137,9,137,10],[137,11,137,16],[137,17,137,19]],"merged_total":1680,"flags":["merged_cut"]}
[null,"【島根局版】",null,null,null,null,null,null,null,null,null,null,null,null,null,null,null,null,null,null,null,null,null,null,null,null,"監督署用"]
[null,"第２種特別加入保険料申告内訳名簿"]
[null,"（一人親方等）"]
[null,null,null,null,null,null,null,null,null,null,null,null,null,null,null,null,null,null,null,null,null,null,null,null,"（",{"$f":"IF('保険料申告内訳名簿（一人親方団体控）'!Z4=\"\",\"\",'保険料申告内訳名簿（一人親方団体控）'!Z4)","v":0},{"$f":"IF('保険料申告内訳名簿（一人親方団体控）'!AA4=\"\",\"\",'保険料申告内訳名簿（一人親方団体控）'!AA4)","v":""},"枚のうち",null,{"$f":"IF('保険料申告内訳名簿（一人親方団体控）'!AD4=\"\",\"\",'保険料申告内訳名簿（一人親方団体控）'!AD4)","v":1},{"$f":"IF('保険料申告内訳名簿（一人親方団体控）'!AE4=\"\",\"\",'保険料申告内訳名簿（一人親方団体控）'!AE4)","v":""},"枚目",null,"）"]
[]
[null,"労働保険\n番　　　号",null,null,null,null,"府県",null,"所掌","管轄",null,"基幹番号",null,null,null,null,null,"枝番号",null,null,"事業場の\n所在地",null,null,{"$f":"IF('保険料申告内訳名簿（一人親方団体控）'!X6=\"\",\"\",'保険料申告内訳名簿（一人親方団体控）'!X6)","v":""},{"$f":"IF('保険料申告内訳名簿（一人親方団体控）'!Y6=\"\",\"\",'保険料申告内訳名簿（一人親方団体控）'!Y6)","v":""},{"$f":"IF('保険料申告内訳名簿（一人親方団体控）'!Z6=\"\",\"\",'保険料申告内訳名簿（一人親方団体控）'!Z6)","v":""},{"$f":"IF('保険料申告内訳名簿（一人親方団体控）'!AA6=\"\",\"\",'保険料申告内訳名簿（一人親方団体控）'!AA6)","v":""},{"$f":"IF('保険料申告内訳名簿（一人親方団体控）'!AB6=\"\",\"\",'保険料申告内訳名簿（一人親方団体控）'!AB6)","v":""},{"$f":"IF('保険料申告内訳名簿（一人親方団体控）'!AC6=\"\",\"\",'保険料申告内訳名簿（一人親方団体控）'!AC6)","v":""},{"$f":"IF('保険料申告内訳名簿（一人親方団体控）'!AD6=\"\",\"\",'保険料申告内訳名簿（一人親方団体控）'!AD6)","v":""},{"$f":"IF('保険料申告内訳名簿（一人親方団体控）'!AE6=\"\",\"\",'保険料申告内訳名簿（一人親方団体控）'!AE6)","v":""},{"$f":"IF('保険料申告内訳名簿（一人親方団体控）'!AF6=\"\",\"\",'保険料申告内訳名簿（一人親方団体控）'!AF6)","v":""},{"$f":"IF('保険料申告内訳名簿（一人親方団体控）'!AG6=\"\",\"\",'保険料申告内訳名簿（一人親方団体控）'!AG6)","v":""},{"$f":"IF('保険料申告内訳名簿（一人親方団体控）'!AH6=\"\",\"\",'保険料申告内訳名簿（一人親方団体控）'!AH6)","v":""}]
[null,null,null,null,null,null,"3","2",{"$f":"IF('保険料申告内訳名簿（一人親方団体控）'!I7=\"\",\"\",'保険料申告内訳名簿（一人親方団体控）'!I7)","v":""},{"$f":"IF('保険料申告内訳名簿（一人親方団体控）'!J7=\"\",\"\",'保険料申告内訳名簿（一人親方団体控）'!J7)","v":""},{"$f":"IF('保険料申告内訳名簿（一人親方団体控）'!K7=\"\",\"\",'保険料申告内訳名簿（一人親方団体控）'!K7)","v":""},{"$f":"IF('保険料申告内訳名簿（一人親方団体控）'!L7=\"\",\"\",'保険料申告内訳名簿（一人親方団体控）'!L7)","v":""},{"$f":"IF('保険料申告内訳名簿（一人親方団体控）'!M7=\"\",\"\",'保険料申告内訳名簿（一人親方団体控）'!M7)","v":""},{"$f":"IF('保険料申告内訳名簿（一人親方団体控）'!N7=\"\",\"\",'保険料申告内訳名簿（一人親方団体控）'!N7)","v":""},{"$f":"IF('保険料申告内訳名簿（一人親方団体控）'!O7=\"\",\"\",'保険料申告内訳名簿（一人親方団体控）'!O7)","v":""},{"$f":"IF('保険料申告内訳名簿（一人親方団体控）'!P7=\"\",\"\",'保険料申告内訳名簿（一人親方団体控）'!P7)","v":""},{"$f":"IF('保険料申告内訳名簿（一人親方団体控）'!Q7=\"\",\"\",'保険料申告内訳名簿（一人親方団体控）'!Q7)","v":""},{"$f":"IF('保険料申告内訳名簿（一人親方団体控）'!R7=\"\",\"\",'保険料申告内訳名簿（一人親方団体控）'!R7)","v":""},{"$f":"IF('保険料申告内訳名簿（一人親方団体控）'!S7=\"\",\"\",'保険料申告内訳名簿（一人親方団体控）'!S7)","v":""},{"$f":"IF('保険料申告内訳名簿（一人親方団体控）'!T7=\"\",\"\",'保険料申告内訳名簿（一人親方団体控）'!T7)","v":""},"事業場の\n名称",null,null,{"$f":"IF('保険料申告内訳名簿（一人親方団体控）'!X7=\"\",\"\",'保険料申告内訳名簿（一人親方団体控）'!X7)","v":""},{"$f":"IF('保険料申告内訳名簿（一人親方団体控）'!Y7=\"\",\"\",'保険料申告内訳名簿（一人親方団体控）'!Y7)","v":""},{"$f":"IF('保険料申告内訳名簿（一人親方団体控）'!Z7=\"\",\"\",'保険料申告内訳名簿（一人親方団体控）'!Z7)","v":""},{"$f":"IF('保険料申告内訳名簿（一人親方団体控）'!AA7=\"\",\"\",'保険料申告内訳名簿（一人親方団体控）'!AA7)","v":""},{"$f":"IF('保険料申告内訳名簿（一人親方団体控）'!AB7=\"\",\"\",'保険料申告内訳名簿（一人親方団体控）'!AB7)","v":""},{"$f":"IF('保険料申告内訳名簿（一人親方団体控）'!AC7=\"\",\"\",'保険料申告内訳名簿（一人親方団体控）'!AC7)","v":""},{"$f":"IF('保険料申告内訳名簿（一人親方団体控）'!AD7=\"\",\"\",'保険料申告内訳名簿（一人親方団体控）'!AD7)","v":""},{"$f":"IF('保険料申告内訳名簿（一人親方団体控）'!AE7=\"\",\"\",'保険料申告内訳名簿（一人親方団体控）'!AE7)","v":""},{"$f":"IF('保険料申告内訳名簿（一人親方団体控）'!AF7=\"\",\"\",'保険料申告内訳名簿（一人親方団体控）'!AF7)","v":""},{"$f":"IF('保険料申告内訳名簿（一人親方団体控）'!AG7=\"\",\"\",'保険料申告内訳名簿（一人親方団体控）'!AG7)","v":""},{"$f":"IF('保険料申告内訳名簿（一人親方団体控）'!AH7=\"\",\"\",'保険料申告内訳名簿（一人親方団体控）'!AH7)","v":""}]
[null,"①\n整理\n番号",null,"②\n氏名",null,null,null,null,null,null,null,null,null,null,"令 和",null,null,{"$f":"IF('保険料申告内訳名簿（一人親方団体控）'!R8=\"\",\"\",'保険料申告内訳名簿（一人親方団体控）'!R8)","v":""},{"$f":"IF('保険料申告内訳名簿（一人親方団体控）'!S8=\"\",\"\",'保険料申告内訳名簿（一人親方団体控）'!S8)","v":""},{"$f":"IF('保険料申告内訳名簿（一人親方団体控）'!T8=\"\",\"\",'保険料申告内訳名簿（一人親方団体控）'!T8)","v":""},null,null,null,"年 度 確 定 ","令 和",null,null,{"$f":"IF('保険料申告内訳名簿（一人親方団体控）'!AB8=\"\",\"\",'保険料申告内訳名簿（一人親方団体控）'!AB8)","v":""},{"$f":"IF('保険料申告内訳名簿（一人親方団体控）'!AC8=\"\",\"\",'保険料申告内訳名簿（一人親方団体控）'!AC8)","v":""},{"$f":"IF('保険料申告内訳名簿（一人親方団体控）'!AD8=\"\",\"\",'保険料申告内訳名簿（一人親方団体控）'!AD8)","v":""},null,null,null,"年 度 概 算 "]
[null,null,null,null,null,null,null,"③　\n給付基礎日額",null,null,null,"④年度中途加入・脱退",null,null,null,null,null,null,"⑤\n保険料算定基礎額",null,null,null,null,null,"⑥\n給付基礎日額",null,null,null,"⑦\n保険料算定基礎額"]
[null,null,null,null,null,null,null,null,null,null,null,"加入・脱退年月日",null,null,null,null,"加入月数"]
[null,{"$f":"IF('保険料申告内訳名簿（一人親方団体控）'!B11=\"\",\"\",'保険料申告内訳名簿（一人親方団体控）'!B11)","v":""},{"$f":"IF('保険料申告内訳名簿（一人親方団体控）'!C11=\"\",\"\",'保険料申告内訳名簿（一人親方団体控）'!C11)","v":""},{"$f":"IF('保険料申告内訳名簿（一人親方団体控）'!D11=\"\",\"\",'保険料申告内訳名簿（一人親方団体控）'!D11)","v":""},{"$f":"IF('保険料申告内訳名簿（一人親方団体控）'!E11=\"\",\"\",'保険料申告内訳名簿（一人親方団体控）'!E11)","v":""},{"$f":"IF('保険料申告内訳名簿（一人親方団体控）'!F11=\"\",\"\",'保険料申告内訳名簿（一人親方団体控）'!F11)","v":""},{"$f":"IF('保険料申告内訳名簿（一人親方団体控）'!G11=\"\",\"\",'保険料申告内訳名簿（一人親方団体控）'!G11)","v":""},{"$f":"IF('保険料申告内訳名簿（一人親方団体控）'!H11=\"\",\"\",'保険料申告内訳名簿（一人親方団体控）'!H11)","v":""},{"$f":"IF('保険料申告内訳名簿（一人親方団体控）'!I11=\"\",\"\",'保険料申告内訳名簿（一人親方団体控）'!I11)","v":""},{"$f":"IF('保険料申告内訳名簿（一人親方団体控）'!J11=\"\",\"\",'保険料申告内訳名簿（一人親方団体控）'!J11)","v":""},{"$f":"IF('保険料申告内訳名簿（一人親方団体控）'!K11=\"\",\"\",'保険料申告内訳名簿（一人親方団体控）'!K11)","v":""},{"$f":"IF('保険料申告内訳名簿（一人親方団体控）'!L11=\"\",\"\",'保険料申告内訳名簿（一人親方団体控）'!L11)","v":""},{"$f":"IF('保険料申告内訳名簿（一人親方団体控）'!M11=\"\",\"\",'保険料申告内訳名簿（一人親方団体控）'!M11)","v":""},{"$f":"IF('保険料申告内訳名簿（一人親方団体控）'!N11=\"\",\"\",'保険料申告内訳名簿（一人親方団体控）'!N11)","v":""},{"$f":"IF('保険料申告内訳名簿（一人親方団体控）'!O11=\"\",\"\",'保険料申告内訳名簿（一人親方団体控）'!O11)","v":""},{"$f":"IF('保険料申告内訳名簿（一人親方団体控）'!P11=\"\",\"\",'保険料申告内訳名簿（一人親方団体控）'!P11)","v":""},{"$f":"IF('保険料申告内訳名簿（一人親方団体控）'!Q11=\"\",\"\",'保険料申告内訳名簿（一人親方団体控）'!Q11)","v":""},{"$f":"IF('保険料申告内訳名簿（一人親方団体控）'!R11=\"\",\"\",'保険料申告内訳名簿（一人親方団体控）'!R11)","v":""},{"$f":"IF('保険料申告内訳名簿（一人親方団体控）'!S11=\"\",\"\",'保険料申告内訳名簿（一人親方団体控）'!S11)","v":0},{"$f":"IF('保険料申告内訳名簿（一人親方団体控）'!T11=\"\",\"\",'保険料申告内訳名簿（一人親方団体控）'!T11)","v":""},{"$f":"IF('保険料申告内訳名簿（一人親方団体控）'!U11=\"\",\"\",'保険料申告内訳名簿（一人親方団体控）'!U11)","v":""},{"$f":"IF('保険料申告内訳名簿（一人親方団体控）'!V11=\"\",\"\",'保険料申告内訳名簿（一人親方団体控）'!V11)","v":""},{"$f":"IF('保険料申告内訳名簿（一人親方団体控）'!W11=\"\",\"\",'保険料申告内訳名簿（一人親方団体控）'!W11)","v":""},{"$f":"IF('保険料申告内訳名簿（一人親方団体控）'!X11=\"\",\"\",'保険料申告内訳名簿（一人親方団体控）'!X11)","v":""},{"$f":"IF('保険料申告内訳名簿（一人親方団体控）'!Y11=\"\",\"\",'保険料申告内訳名簿（一人親方団体控）'!Y11)","v":""},{"$f":"IF('保険料申告内訳名簿（一人親方団体控）'!Z11=\"\",\"\",'保険料申告内訳名簿（一人親方団体控）'!Z11)","v":""},{"$f":"IF('保険料申告内訳名簿（一人親方団体控）'!AA11=\"\",\"\",'保険料申告内訳名簿（一人親方団体控）'!AA11)","v":""},{"$f":"IF('保険料申告内訳名簿（一人親方団体控）'!AB11=\"\",\"\",'保険料申告内訳名簿（一人親方団体控）'!AB11)","v":""},{"$f":"IF('保険料申告内訳名簿（一人親方団体控）'!AC11=\"\",\"\",'保険料申告内訳名簿（一人親方団体控）'!AC11)","v":0},{"$f":"IF('保険料申告内訳名簿（一人親方団体控）'!AD11=\"\",\"\",'保険料申告内訳名簿（一人親方団体控）'!AD11)","v":""},{"$f":"IF('保険料申告内訳名簿（一人親方団体控）'!AE11=\"\",\"\",'保険料申告内訳名簿（一人親方団体控）'!AE11)","v":""},{"$f":"IF('保険料申告内訳名簿（一人親方団体控）'!AF11=\"\",\"\",'保険料申告内訳名簿（一人親方団体控）'!AF11)","v":""},{"$f":"IF('保険料申告内訳名簿（一人親方団体控）'!AG11=\"\",\"\",'保険料申告内訳名簿（一人親方団体控）'!AG11)","v":""},{"$f":"IF('保険料申告内訳名簿（一人親方団体控）'!AH11=\"\",\"\",'保険料申告内訳名簿（一人親方団体控）'!AH11)","v":""}]
[null,{"$f":"IF('保険料申告内訳名簿（一人親方団体控）'!B12=\"\",\"\",'保険料申告内訳名簿（一人親方団体控）'!B12)","v":""},{"$f":"IF('保険料申告内訳名簿（一人親方団体控）'!C12=\"\",\"\",'保険料申告内訳名簿（一人親方団体控）'!C12)","v":""},{"$f":"IF('保険料申告内訳名簿（一人親方団体控）'!D12=\"\",\"\",'保険料申告内訳名簿（一人親方団体控）'!D12)","v":""},{"$f":"IF('保険料申告内訳名簿（一人親方団体控）'!E12=\"\",\"\",'保険料申告内訳名簿（一人親方団体控）'!E12)","v":""},{"$f":"IF('保険料申告内訳名簿（一人親方団体控）'!F12=\"\",\"\",'保険料申告内訳名簿（一人親方団体控）'!F12)","v":""},{"$f":"IF('保険料申告内訳名簿（一人親方団体控）'!G12=\"\",\"\",'保険料申告内訳名簿（一人親方団体控）'!G12)","v":""},{"$f":"IF('保険料申告内訳名簿（一人親方団体控）'!H12=\"\",\"\",'保険料申告内訳名簿（一人親方団体控）'!H12)","v":""},{"$f":"IF('保険料申告内訳名簿（一人親方団体控）'!I12=\"\",\"\",'保険料申告内訳名簿（一人親方団体控）'!I12)","v":""},{"$f":"IF('保険料申告内訳名簿（一人親方団体控）'!J12=\"\",\"\",'保険料申告内訳名簿（一人親方団体控）'!J12)","v":""},{"$f":"IF('保険料申告内訳名簿（一人親方団体控）'!K12=\"\",\"\",'保険料申告内訳名簿（一人親方団体控）'!K12)","v":""},{"$f":"IF('保険料申告内訳名簿（一人親方団体控）'!L12=\"\",\"\",'保険料申告内訳名簿（一人親方団体控）'!L12)","v":""},{"$f":"IF('保険料申告内訳名簿（一人親方団体控）'!M12=\"\",\"\",'保険料申告内訳名簿（一人親方団体控）'!M12)","v":""},{"$f":"IF('保険料申告内訳名簿（一人親方団体控）'!N12=\"\",\"\",'保険料申告内訳名簿（一人親方団体控）'!N12)","v":""},{"$f":"IF('保険料申告内訳名簿（一人親方団体控）'!O12=\"\",\"\",'保険料申告内訳名簿（一人親方団体控）'!O12)","v":""},{"$f":"IF('保険料申告内訳名簿（一人親方団体控）'!P12=\"\",\"\",'保険料申告内訳名簿（一人親方団体控）'!P12)","v":""},{"$f":"IF('保険料申告内訳名簿（一人親方団体控）'!Q12=\"\",\"\",'保険料申告内訳名簿（一人親方団体控）'!Q12)","v":""},{"$f":"IF('保険料申告内訳名簿（一人親方団体控）'!R12=\"\",\"\",'保険料申告内訳名簿（一人親方団体控）'!R12)","v":""},{"$f":"IF('保険料申告内訳名簿（一人親方団体控）'!S12=\"\",\"\",'保険料申告内訳名簿（一人親方団体控）'!S12)","v":0},{"$f":"IF('保険料申告内訳名簿（一人親方団体控）'!T12=\"\",\"\",'保険料申告内訳名簿（一人親方団体控）'!T12)","v":""},{"$f":"IF('保険料申告内訳名簿（一人親方団体控）'!U12=\"\",\"\",'保険料申告内訳名簿（一人親方団体控）'!U12)","v":""},{"$f":"IF('保険料申告内訳名簿（一人親方団体控）'!V12=\"\",\"\",'保険料申告内訳名簿（一人親方団体控）'!V12)","v":""},{"$f":"IF('保険料申告内訳名簿（一人親方団体控）'!W12=\"\",\"\",'保険料申告内訳名簿（一人親方団体控）'!W12)","v":""},{"$f":"IF('保険料申告内訳名簿（一人親方団体控）'!X12=\"\",\"\",'保険料申告内訳名簿（一人親方団体控）'!X12)","v":""},{"$f":"IF('保険料申告内訳名簿（一人親方団体控）'!Y12=\"\",\"\",'保険料申告内訳名簿（一人親方団体控）'!Y12)","v":""},{"$f":"IF('保険料申告内訳名簿（一人親方団体控）'!Z12=\"\",\"\",'保険料申告内訳名簿（一人親方団体控）'!Z12)","v":""},{"$f":"IF('保険料申告内訳名簿（一人親方団体控）'!AA12=\"\",\"\",'保険料申告内訳名簿（一人親方団体控）'!AA12)","v":""},{"$f":"IF('保険料申告内訳名簿（一人親方団体控）'!AB12=\"\",\"\",'保険料申告内訳名簿（一人親方団体控）'!AB12)","v":""},{"$f":"IF('保険料申告内訳名簿（一人親方団体控）'!AC12=\"\",\"\",'保険料申告内訳名簿（一人親方団体控）'!AC12)","v":0},{"$f":"IF('保険料申告内訳名簿（一人親方団体控）'!AD12=\"\",\"\",'保険料申告内訳名簿（一人親方団体控）'!AD12)","v":""},{"$f":"IF('保険料申告内訳名簿（一人親方団体控）'!AE12=\"\",\"\",'保険料申告内訳名簿（一人親方団体控）'!AE12)","v":""},{"$f":"IF('保険料申告内訳名簿（一人親方団体控）'!AF12=\"\",\"\",'保険料申告内訳名簿（一人親方団体控）'!AF12)","v":""},{"$f":"IF('保険料申告内訳名簿（一人親方団体控）'!AG12=\"\",\"\",'保険料申告内訳名簿（一人親方団体控）'!AG12)","v":""},{"$f":"IF('保険料申告内訳名簿（一人親方団体控）'!AH12=\"\",\"\",'保険料申告内訳名簿（一人親方団体控）'!AH12)","v":""}]
[null,{"$f":"IF('保険料申告内訳名簿（一人親方団体控）'!B13=\"\",\"\",'保険料申告内訳名簿（一人親方団体控）'!B13)","v":""},{"$f":"IF('保険料申告内訳名簿（一人親方団体控）'!C13=\"\",\"\",'保険料申告内訳名簿（一人親方団体控）'!C13)","v":""},{"$f":"IF('保険料申告内訳名簿（一人親方団体控）'!D13=\"\",\"\",'保険料申告内訳名簿（一人親方団体控）'!D13)","v":""},{"$f":"IF('保険料申告内訳名簿（一人親方団体控）'!E13=\"\",\"\",'保険料申告内訳名簿（一人親方団体控）'!E13)","v":""},{"$f":"IF('保険料申告内訳名簿（一人親方団体控）'!F13=\"\",\"\",'保険料申告内訳名簿（一人親方団体控）'!F13)","v":""},{"$f":"IF('保険料申告内訳名簿（一人親方団体控）'!G13=\"\",\"\",'保険料申告内訳名簿（一人親方団体控）'!G13)","v":""},{"$f":"IF('保険料申告内訳名簿（一人親方団体控）'!H13=\"\",\"\",'保険料申告内訳名簿（一人親方団体控）'!H13)","v":""},{"$f":"IF('保険料申告内訳名簿（一人親方団体控）'!I13=\"\",\"\",'保険料申告内訳名簿（一人親方団体控）'!I13)","v":""},{"$f":"IF('保険料申告内訳名簿（一人親方団体控）'!J13=\"\",\"\",'保険料申告内訳名簿（一人親方団体控）'!J13)","v":""},{"$f":"IF('保険料申告内訳名簿（一人親方団体控）'!K13=\"\",\"\",'保険料申告内訳名簿（一人親方団体控）'!K13)","v":""},{"$f":"IF('保険料申告内訳名簿（一人親方団体控）'!L13=\"\",\"\",'保険料申告内訳名簿（一人親方団体控）'!L13)","v":""},{"$f":"IF('保険料申告内訳名簿（一人親方団体控）'!M13=\"\",\"\",'保険料申告内訳名簿（一人親方団体控）'!M13)","v":""},{"$f":"IF('保険料申告内訳名簿（一人親方団体控）'!N13=\"\",\"\",'保険料申告内訳名簿（一人親方団体控）'!N13)","v":""},{"$f":"IF('保険料申告内訳名簿（一人親方団体控）'!O13=\"\",\"\",'保険料申告内訳名簿（一人親方団体控）'!O13)","v":""},{"$f":"IF('保険料申告内訳名簿（一人親方団体控）'!P13=\"\",\"\",'保険料申告内訳名簿（一人親方団体控）'!P13)","v":""},{"$f":"IF('保険料申告内訳名簿（一人親方団体控）'!Q13=\"\",\"\",'保険料申告内訳名簿（一人親方団体控）'!Q13)","v":""},{"$f":"IF('保険料申告内訳名簿（一人親方団体控）'!R13=\"\",\"\",'保険料申告内訳名簿（一人親方団体控）'!R13)","v":""},{"$f":"IF('保険料申告内訳名簿（一人親方団体控）'!S13=\"\",\"\",'保険料申告内訳名簿（一人親方団体控）'!S13)","v":0},{"$f":"IF('保険料申告内訳名簿（一人親方団体控）'!T13=\"\",\"\",'保険料申告内訳名簿（一人親方団体控）'!T13)","v":""},{"$f":"IF('保険料申告内訳名簿（一人親方団体控）'!U13=\"\",\"\",'保険料申告内訳名簿（一人親方団体控）'!U13)","v":""},{"$f":"IF('保険料申告内訳名簿（一人親方団体控）'!V13=\"\",\"\",'保険料申告内訳名簿（一人親方団体控）'!V13)","v":""},{"$f":"IF('保険料申告内訳名簿（一人親方団体控）'!W13=\"\",\"\",'保険料申告内訳名簿（一人親方団体控）'!W13)","v":""},{"$f":"IF('保険料申告内訳名簿（一人親方団体控）'!X13=\"\",\"\",'保険料申告内訳名簿（一人親方団体控）'!X13)","v":""},{"$f":"IF('保険料申告内訳名簿（一人親方団体控）'!Y13=\"\",\"\",'保険料申告内訳名簿（一人親方団体控）'!Y13)","v":""},{"$f":"IF('保険料申告内訳名簿（一人親方団体控）'!Z13=\"\",\"\",'保険料申告内訳名簿（一人親方団体控）'!Z13)","v":""},{"$f":"IF('保険料申告内訳名簿（一人親方団体控）'!AA13=\"\",\"\",'保険料申告内訳名簿（一人親方団体控）'!AA13)","v":""},{"$f":"IF('保険料申告内訳名簿（一人親方団体控）'!AB13=\"\",\"\",'保険料申告内訳名簿（一人親方団体控）'!AB13)","v":""},{"$f":"IF('保険料申告内訳名簿（一人親方団体控）'!AC13=\"\",\"\",'保険料申告内訳名簿（一人親方団体控）'!AC13)","v":0},{"$f":"IF('保険料申告内訳名簿（一人親方団体控）'!AD13=\"\",\"\",'保険料申告内訳名簿（一人親方団体控）'!AD13)","v":""},{"$f":"IF('保険料申告内訳名簿（一人親方団体控）'!AE13=\"\",\"\",'保険料申告内訳名簿（一人親方団体控）'!AE13)","v":""},{"$f":"IF('保険料申告内訳名簿（一人親方団体控）'!AF13=\"\",\"\",'保険料申告内訳名簿（一人親方団体控）'!AF13)","v":""},{"$f":"IF('保険料申告内訳名簿（一人親方団体控）'!AG13=\"\",\"\",'保険料申告内訳名簿（一人親方団体控）'!AG13)","v":""},{"$f":"IF('保険料申告内訳名簿（一人親方団体控）'!AH13=\"\",\"\",'保険料申告内訳名簿（一人親方団体控）'!AH13)","v":""}]
[null,{"$f":"IF('保険料申告内訳名簿（一人親方団体控）'!B14=\"\",\"\",'保険料申告内訳名簿（一人親方団体控）'!B14)","v":""},{"$f":"IF('保険料申告内訳名簿（一人親方団体控）'!C14=\"\",\"\",'保険料申告内訳名簿（一人親方団体控）'!C14)","v":""},{"$f":"IF('保険料申告内訳名簿（一人親方団体控）'!D14=\"\",\"\",'保険料申告内訳名簿（一人親方団体控）'!D14)","v":""},{"$f":"IF('保険料申告内訳名簿（一人親方団体控）'!E14=\"\",\"\",'保険料申告内訳名簿（一人親方団体控）'!E14)","v":""},{"$f":"IF('保険料申告内訳名簿（一人親方団体控）'!F14=\"\",\"\",'保険料申告内訳名簿（一人親方団体控）'!F14)","v":""},{"$f":"IF('保険料申告内訳名簿（一人親方団体控）'!G14=\"\",\"\",'保険料申告内訳名簿（一人親方団体控）'!G14)","v":""},{"$f":"IF('保険料申告内訳名簿（一人親方団体控）'!H14=\"\",\"\",'保険料申告内訳名簿（一人親方団体控）'!H14)","v":""},{"$f":"IF('保険料申告内訳名簿（一人親方団体控）'!I14=\"\",\"\",'保険料申告内訳名簿（一人親方団体控）'!I14)","v":""},{"$f":"IF('保険料申告内訳名簿（一人親方団体控）'!J14=\"\",\"\",'保険料申告内訳名簿（一人親方団体控）'!J14)","v":""},{"$f":"IF('保険料申告内訳名簿（一人親方団体控）'!K14=\"\",\"\",'保険料申告内訳名簿（一人親方団体控）'!K14)","v":""},{"$f":"IF('保険料申告内訳名簿（一人親方団体控）'!L14=\"\",\"\",'保険料申告内訳名簿（一人親方団体控）'!L14)","v":""},{"$f":"IF('保険料申告内訳名簿（一人親方団体控）'!M14=\"\",\"\",'保険料申告内訳名簿（一人親方団体控）'!M14)","v":""},{"$f":"IF('保険料申告内訳名簿（一人親方団体控）'!N14=\"\",\"\",'保険料申告内訳名簿（一人親方団体控）'!N14)","v":""},{"$f":"IF('保険料申告内訳名簿（一人親方団体控）'!O14=\"\",\"\",'保険料申告内訳名簿（一人親方団体控）'!O14)","v":""},{"$f":"IF('保険料申告内訳名簿（一人親方団体控）'!P14=\"\",\"\",'保険料申告内訳名簿（一人親方団体控）'!P14)","v":""},{"$f":"IF('保険料申告内訳名簿（一人親方団体控）'!Q14=\"\",\"\",'保険料申告内訳名簿（一人親方団体控）'!Q14)","v":""},{"$f":"IF('保険料申告内訳名簿（一人親方団体控）'!R14=\"\",\"\",'保険料申告内訳名簿（一人親方団体控）'!R14)","v":""},{"$f":"IF('保険料申告内訳名簿（一人親方団体控）'!S14=\"\",\"\",'保険料申告内訳名簿（一人親方団体控）'!S14)","v":0},{"$f":"IF('保険料申告内訳名簿（一人親方団体控）'!T14=\"\",\"\",'保険料申告内訳名簿（一人親方団体控）'!T14)","v":""},{"$f":"IF('保険料申告内訳名簿（一人親方団体控）'!U14=\"\",\"\",'保険料申告内訳名簿（一人親方団体控）'!U14)","v":""},{"$f":"IF('保険料申告内訳名簿（一人親方団体控）'!V14=\"\",\"\",'保険料申告内訳名簿（一人親方団体控）'!V14)","v":""},{"$f":"IF('保険料申告内訳名簿（一人親方団体控）'!W14=\"\",\"\",'保険料申告内訳名簿（一人親方団体控）'!W14)","v":""},{"$f":"IF('保険料申告内訳名簿（一人親方団体控）'!X14=\"\",\"\",'保険料申告内訳名簿（一人親方団体控）'!X14)","v":""},{"$f":"IF('保険料申告内訳名簿（一人親方団体控）'!Y14=\"\",\"\",'保険料申告内訳名簿（一人親方団体控）'!Y14)","v":""},{"$f":"IF('保険料申告内訳名簿（一人親方団体控）'!Z14=\"\",\"\",'保険料申告内訳名簿（一人親方団体控）'!Z14)","v":""},{"$f":"IF('保険料申告内訳名簿（一人親方団体控）'!AA14=\"\",\"\",'保険料申告内訳名簿（一人親方団体控）'!AA14)","v":""},{"$f":"IF('保険料申告内訳名簿（一人親方団体控）'!AB14=\"\",\"\",'保険料申告内訳名簿（一人親方団体控）'!AB14)","v":""},{"$f":"IF('保険料申告内訳名簿（一人親方団体控）'!AC14=\"\",\"\",'保険料申告内訳名簿（一人親方団体控）'!AC14)","v":0},{"$f":"IF('保険料申告内訳名簿（一人親方団体控）'!AD14=\"\",\"\",'保険料申告内訳名簿（一人親方団体控）'!AD14)","v":""},{"$f":"IF('保険料申告内訳名簿（一人親方団体控）'!AE14=\"\",\"\",'保険料申告内訳名簿（一人親方団体控）'!AE14)","v":""},{"$f":"IF('保険料申告内訳名簿（一人親方団体控）'!AF14=\"\",\"\",'保険料申告内訳名簿（一人親方団体控）'!AF14)","v":""},{"$f":"IF('保険料申告内訳名簿（一人親方団体控）'!AG14=\"\",\"\",'保険料申告内訳名簿（一人親方団体控）'!AG14)","v":""},{"$f":"IF('保険料申告内訳名簿（一人親方団体控）'!AH14=\"\",\"\",'保険料申告内訳名簿（一人親方団体控）'!AH14)","v":""}]
[null,{"$f":"IF('保険料申告内訳名簿（一人親方団体控）'!B15=\"\",\"\",'保険料申告内訳名簿（一人親方団体控）'!B15)","v":""},{"$f":"IF('保険料申告内訳名簿（一人親方団体控）'!C15=\"\",\"\",'保険料申告内訳名簿（一人親方団体控）'!C15)","v":""},{"$f":"IF('保険料申告内訳名簿（一人親方団体控）'!D15=\"\",\"\",'保険料申告内訳名簿（一人親方団体控）'!D15)","v":""},{"$f":"IF('保険料申告内訳名簿（一人親方団体控）'!E15=\"\",\"\",'保険料申告内訳名簿（一人親方団体控）'!E15)","v":""},{"$f":"IF('保険料申告内訳名簿（一人親方団体控）'!F15=\"\",\"\",'保険料申告内訳名簿（一人親方団体控）'!F15)","v":""},{"$f":"IF('保険料申告内訳名簿（一人親方団体控）'!G15=\"\",\"\",'保険料申告内訳名簿（一人親方団体控）'!G15)","v":""},{"$f":"IF('保険料申告内訳名簿（一人親方団体控）'!H15=\"\",\"\",'保険料申告内訳名簿（一人親方団体控）'!H15)","v":""},{"$f":"IF('保険料申告内訳名簿（一人親方団体控）'!I15=\"\",\"\",'保険料申告内訳名簿（一人親方団体控）'!I15)","v":""},{"$f":"IF('保険料申告内訳名簿（一人親方団体控）'!J15=\"\",\"\",'保険料申告内訳名簿（一人親方団体控）'!J15)","v":""},{"$f":"IF('保険料申告内訳名簿（一人親方団体控）'!K15=\"\",\"\",'保険料申告内訳名簿（一人親方団体控）'!K15)","v":""},{"$f":"IF('保険料申告内訳名簿（一人親方団体控）'!L15=\"\",\"\",'保険料申告内訳名簿（一人親方団体控）'!L15)","v":""},{"$f":"IF('保険料申告内訳名簿（一人親方団体控）'!M15=\"\",\"\",'保険料申告内訳名簿（一人親方団体控）'!M15)","v":""},{"$f":"IF('保険料申告内訳名簿（一人親方団体控）'!N15=\"\",\"\",'保険料申告内訳名簿（一人親方団体控）'!N15)","v":""},{"$f":"IF('保険料申告内訳名簿（一人親方団体控）'!O15=\"\",\"\",'保険料申告内訳名簿（一人親方団体控）'!O15)","v":""},{"$f":"IF('保険料申告内訳名簿（一人親方団体控）'!P15=\"\",\"\",'保険料申告内訳名簿（一人親方団体控）'!P15)","v":""},{"$f":"IF('保険料申告内訳名簿（一人親方団体控）'!Q15=\"\",\"\",'保険料申告内訳名簿（一人親方団体控）'!Q15)","v":""},{"$f":"IF('保険料申告内訳名簿（一人親方団体控）'!R15=\"\",\"\",'保険料申告内訳名簿（一人親方団体控）'!R15)","v":""},{"$f":"IF('保険料申告内訳名簿（一人親方団体控）'!S15=\"\",\"\",'保険料申告内訳名簿（一人親方団体控）'!S15)","v":0},{"$f":"IF('保険料申告内訳名簿（一人親方団体控）'!T15=\"\",\"\",'保険料申告内訳名簿（一人親方団体控）'!T15)","v":""},{"$f":"IF('保険料申告内訳名簿（一人親方団体控）'!U15=\"\",\"\",'保険料申告内訳名簿（一人親方団体控）'!U15)","v":""},{"$f":"IF('保険料申告内訳名簿（一人親方団体控）'!V15=\"\",\"\",'保険料申告内訳名簿（一人親方団体控）'!V15)","v":""},{"$f":"IF('保険料申告内訳名簿（一人親方団体控）'!W15=\"\",\"\",'保険料申告内訳名簿（一人親方団体控）'!W15)","v":""},{"$f":"IF('保険料申告内訳名簿（一人親方団体控）'!X15=\"\",\"\",'保険料申告内訳名簿（一人親方団体控）'!X15)","v":""},{"$f":"IF('保険料申告内訳名簿（一人親方団体控）'!Y15=\"\",\"\",'保険料申告内訳名簿（一人親方団体控）'!Y15)","v":""},{"$f":"IF('保険料申告内訳名簿（一人親方団体控）'!Z15=\"\",\"\",'保険料申告内訳名簿（一人親方団体控）'!Z15)","v":""},{"$f":"IF('保険料申告内訳名簿（一人親方団体控）'!AA15=\"\",\"\",'保険料申告内訳名簿（一人親方団体控）'!AA15)","v":""},{"$f":"IF('保険料申告内訳名簿（一人親方団体控）'!AB15=\"\",\"\",'保険料申告内訳名簿（一人親方団体控）'!AB15)","v":""},{"$f":"IF('保険料申告内訳名簿（一人親方団体控）'!AC15=\"\",\"\",'保険料申告内訳名簿（一人親方団体控）'!AC15)","v":0},{"$f":"IF('保険料申告内訳名簿（一人親方団体控）'!AD15=\"\",\"\",'保険料申告内訳名簿（一人親方団体控）'!AD15)","v":""},{"$f":"IF('保険料申告内訳名簿（一人親方団体控）'!AE15=\"\",\"\",'保険料申告内訳名簿（一人親方団体控）'!AE15)","v":""},{"$f":"IF('保険料申告内訳名簿（一人親方団体控）'!AF15=\"\",\"\",'保険料申告内訳名簿（一人親方団体控）'!AF15)","v":""},{"$f":"IF('保険料申告内訳名簿（一人親方団体控）'!AG15=\"\",\"\",'保険料申告内訳名簿（一人親方団体控）'!AG15)","v":""},{"$f":"IF('保険料申告内訳名簿（一人親方団体控）'!AH15=\"\",\"\",'保険料申告内訳名簿（一人親方団体控）'!AH15)","v":""}]
[null,{"$f":"IF('保険料申告内訳名簿（一人親方団体控）'!B16=\"\",\"\",'保険料申告内訳名簿（一人親方団体控）'!B16)","v":""},{"$f":"IF('保険料申告内訳名簿（一人親方団体控）'!C16=\"\",\"\",'保険料申告内訳名簿（一人親方団体控）'!C16)","v":""},{"$f":"IF('保険料申告内訳名簿（一人親方団体控）'!D16=\"\",\"\",'保険料申告内訳名簿（一人親方団体控）'!D16)","v":""},{"$f":"IF('保険料申告内訳名簿（一人親方団体控）'!E16=\"\",\"\",'保険料申告内訳名簿（一人親方団体控）'!E16)","v":""},{"$f":"IF('保険料申告内訳名簿（一人親方団体控）'!F16=\"\",\"\",'保険料申告内訳名簿（一人親方団体控）'!F16)","v":""},{"$f":"IF('保険料申告内訳名簿（一人親方団体控）'!G16=\"\",\"\",'保険料申告内訳名簿（一人親方団体控）'!G16)","v":""},{"$f":"IF('保険料申告内訳名簿（一人親方団体控）'!H16=\"\",\"\",'保険料申告内訳名簿（一人親方団体控）'!H16)","v":""},{"$f":"IF('保険料申告内訳名簿（一人親方団体控）'!I16=\"\",\"\",'保険料申告内訳名簿（一人親方団体控）'!I16)","v":""},{"$f":"IF('保険料申告内訳名簿（一人親方団体控）'!J16=\"\",\"\",'保険料申告内訳名簿（一人親方団体控）'!J16)","v":""},{"$f":"IF('保険料申告内訳名簿（一人親方団体控）'!K16=\"\",\"\",'保険料申告内訳名簿（一人親方団体控）'!K16)","v":""},{"$f":"IF('保険料申告内訳名簿（一人親方団体控）'!L16=\"\",\"\",'保険料申告内訳名簿（一人親方団体控）'!L16)","v":""},{"$f":"IF('保険料申告内訳名簿（一人親方団体控）'!M16=\"\",\"\",'保険料申告内訳名簿（一人親方団体控）'!M16)","v":""},{"$f":"IF('保険料申告内訳名簿（一人親方団体控）'!N16=\"\",\"\",'保険料申告内訳名簿（一人親方団体控）'!N16)","v":""},{"$f":"IF('保険料申告内訳名簿（一人親方団体控）'!O16=\"\",\"\",'保険料申告内訳名簿（一人親方団体控）'!O16)","v":""},{"$f":"IF('保険料申告内訳名簿（一人親方団体控）'!P16=\"\",\"\",'保険料申告内訳名簿（一人親方団体控）'!P16)","v":""},{"$f":"IF('保険料申告内訳名簿（一人親方団体控）'!Q16=\"\",\"\",'保険料申告内訳名簿（一人親方団体控）'!Q16)","v":""},{"$f":"IF('保険料申告内訳名簿（一人親方団体控）'!R16=\"\",\"\",'保険料申告内訳名簿（一人親方団体控）'!R16)","v":""},{"$f":"IF('保険料申告内訳名簿（一人親方団体控）'!S16=\"\",\"\",'保険料申告内訳名簿（一人親方団体控）'!S16)","v":0},{"$f":"IF('保険料申告内訳名簿（一人親方団体控）'!T16=\"\",\"\",'保険料申告内訳名簿（一人親方団体控）'!T16)","v":""},{"$f":"IF('保険料申告内訳名簿（一人親方団体控）'!U16=\"\",\"\",'保険料申告内訳名簿（一人親方団体控）'!U16)","v":""},{"$f":"IF('保険料申告内訳名簿（一人親方団体控）'!V16=\"\",\"\",'保険料申告内訳名簿（一人親方団体控）'!V16)","v":""},{"$f":"IF('保険料申告内訳名簿（一人親方団体控）'!W16=\"\",\"\",'保険料申告内訳名簿（一人親方団体控）'!W16)","v":""},{"$f":"IF('保険料申告内訳名簿（一人親方団体控）'!X16=\"\",\"\",'保険料申告内訳名簿（一人親方団体控）'!X16)","v":""},{"$f":"IF('保険料申告内訳名簿（一人親方団体控）'!Y16=\"\",\"\",'保険料申告内訳名簿（一人親方団体控）'!Y16)","v":""},{"$f":"IF('保険料申告内訳名簿（一人親方団体控）'!Z16=\"\",\"\",'保険料申告内訳名簿（一人親方団体控）'!Z16)","v":""},{"$f":"IF('保険料申告内訳名簿（一人親方団体控）'!AA16=\"\",\"\",'保険料申告内訳名簿（一人親方団体控）'!AA16)","v":""},{"$f":"IF('保険料申告内訳名簿（一人親方団体控）'!AB16=\"\",\"\",'保険料申告内訳名簿（一人親方団体控）'!AB16)","v":""},{"$f":"IF('保険料申告内訳名簿（一人親方団体控）'!AC16=\"\",\"\",'保険料申告内訳名簿（一人親方団体控）'!AC16)","v":0},{"$f":"IF('保険料申告内訳名簿（一人親方団体控）'!AD16=\"\",\"\",'保険料申告内訳名簿（一人親方団体控）'!AD16)","v":""},{"$f":"IF('保険料申告内訳名簿（一人親方団体控）'!AE16=\"\",\"\",'保険料申告内訳名簿（一人親方団体控）'!AE16)","v":""},{"$f":"IF('保険料申告内訳名簿（一人親方団体控）'!AF16=\"\",\"\",'保険料申告内訳名簿（一人親方団体控）'!AF16)","v":""},{"$f":"IF('保険料申告内訳名簿（一人親方団体控）'!AG16=\"\",\"\",'保険料申告内訳名簿（一人親方団体控）'!AG16)","v":""},{"$f":"IF('保険料申告内訳名簿（一人親方団体控）'!AH16=\"\",\"\",'保険料申告内訳名簿（一人親方団体控）'!AH16)","v":""}]
[null,{"$f":"IF('保険料申告内訳名簿（一人親方団体控）'!B17=\"\",\"\",'保険料申告内訳名簿（一人親方団体控）'!B17)","v":""},{"$f":"IF('保険料申告内訳名簿（一人親方団体控）'!C17=\"\",\"\",'保険料申告内訳名簿（一人親方団体控）'!C17)","v":""},{"$f":"IF('保険料申告内訳名簿（一人親方団体控）'!D17=\"\",\"\",'保険料申告内訳名簿（一人親方団体控）'!D17)","v":""},{"$f":"IF('保険料申告内訳名簿（一人親方団体控）'!E17=\"\",\"\",'保険料申告内訳名簿（一人親方団体控）'!E17)","v":""},{"$f":"IF('保険料申告内訳名簿（一人親方団体控）'!F17=\"\",\"\",'保険料申告内訳名簿（一人親方団体控）'!F17)","v":""},{"$f":"IF('保険料申告内訳名簿（一人親方団体控）'!G17=\"\",\"\",'保険料申告内訳名簿（一人親方団体控）'!G17)","v":""},{"$f":"IF('保険料申告内訳名簿（一人親方団体控）'!H17=\"\",\"\",'保険料申告内訳名簿（一人親方団体控）'!H17)","v":""},{"$f":"IF('保険料申告内訳名簿（一人親方団体控）'!I17=\"\",\"\",'保険料申告内訳名簿（一人親方団体控）'!I17)","v":""},{"$f":"IF('保険料申告内訳名簿（一人親方団体控）'!J17=\"\",\"\",'保険料申告内訳名簿（一人親方団体控）'!J17)","v":""},{"$f":"IF('保険料申告内訳名簿（一人親方団体控）'!K17=\"\",\"\",'保険料申告内訳名簿（一人親方団体控）'!K17)","v":""},{"$f":"IF('保険料申告内訳名簿（一人親方団体控）'!L17=\"\",\"\",'保険料申告内訳名簿（一人親方団体控）'!L17)","v":""},{"$f":"IF('保険料申告内訳名簿（一人親方団体控）'!M17=\"\",\"\",'保険料申告内訳名簿（一人親方団体控）'!M17)","v":""},{"$f":"IF('保険料申告内訳名簿（一人親方団体控）'!N17=\"\",\"\",'保険料申告内訳名簿（一人親方団体控）'!N17)","v":""},{"$f":"IF('保険料申告内訳名簿（一人親方団体控）'!O17=\"\",\"\",'保険料申告内訳名簿（一人親方団体控）'!O17)","v":""},{"$f":"IF('保険料申告内訳名簿（一人親方団体控）'!P17=\"\",\"\",'保険料申告内訳名簿（一人親方団体控）'!P17)","v":""},{"$f":"IF('保険料申告内訳名簿（一人親方団体控）'!Q17=\"\",\"\",'保険料申告内訳名簿（一人親方団体控）'!Q17)","v":""},{"$f":"IF('保険料申告内訳名簿（一人親方団体控）'!R17=\"\",\"\",'保険料申告内訳名簿（一人親方団体控）'!R17)","v":""},{"$f":"IF('保険料申告内訳名簿（一人親方団体控）'!S17=\"\",\"\",'保険料申告内訳名簿（一人親方団体控）'!S17)","v":0},{"$f":"IF('保険料申告内訳名簿（一人親方団体控）'!T17=\"\",\"\",'保険料申告内訳名簿（一人親方団体控）'!T17)","v":""},{"$f":"IF('保険料申告内訳名簿（一人親方団体控）'!U17=\"\",\"\",'保険料申告内訳名簿（一人親方団体控）'!U17)","v":""},{"$f":"IF('保険料申告内訳名簿（一人親方団体控）'!V17=\"\",\"\",'保険料申告内訳名簿（一人親方団体控）'!V17)","v":""},{"$f":"IF('保険料申告内訳名簿（一人親方団体控）'!W17=\"\",\"\",'保険料申告内訳名簿（一人親方団体控）'!W17)","v":""},{"$f":"IF('保険料申告内訳名簿（一人親方団体控）'!X17=\"\",\"\",'保険料申告内訳名簿（一人親方団体控）'!X17)","v":""},{"$f":"IF('保険料申告内訳名簿（一人親方団体控）'!Y17=\"\",\"\",'保険料申告内訳名簿（一人親方団体控）'!Y17)","v":""},{"$f":"IF('保険料申告内訳名簿（一人親方団体控）'!Z17=\"\",\"\",'保険料申告内訳名簿（一人親方団体控）'!Z17)","v":""},{"$f":"IF('保険料申告内訳名簿（一人親方団体控）'!AA17=\"\",\"\",'保険料申告内訳名簿（一人親方団体控）'!AA17)","v":""},{"$f":"IF('保険料申告内訳名簿（一人親方団体控）'!AB17=\"\",\"\",'保険料申告内訳名簿（一人親方団体控）'!AB17)","v":""},{"$f":"IF('保険料申告内訳名簿（一人親方団体控）'!AC17=\"\",\"\",'保険料申告内訳名簿（一人親方団体控）'!AC17)","v":0},{"$f":"IF('保険料申告内訳名簿（一人親方団体控）'!AD17=\"\",\"\",'保険料申告内訳名簿（一人親方団体控）'!AD17)","v":""},{"$f":"IF('保険料申告内訳名簿（一人親方団体控）'!AE17=\"\",\"\",'保険料申告内訳名簿（一人親方団体控）'!AE17)","v":""},{"$f":"IF('保険料申告内訳名簿（一人親方団体控）'!AF17=\"\",\"\",'保険料申告内訳名簿（一人親方団体控）'!AF17)","v":""},{"$f":"IF('保険料申告内訳名簿（一人親方団体控）'!AG17=\"\",\"\",'保険料申告内訳名簿（一人親方団体控）'!AG17)","v":""},{"$f":"IF('保険料申告内訳名簿（一人親方団体控）'!AH17=\"\",\"\",'保険料申告内訳名簿（一人親方団体控）'!AH17)","v":""}]
[null,{"$f":"IF('保険料申告内訳名簿（一人親方団体控）'!B18=\"\",\"\",'保険料申告内訳名簿（一人親方団体控）'!B18)","v":""},{"$f":"IF('保険料申告内訳名簿（一人親方団体控）'!C18=\"\",\"\",'保険料申告内訳名簿（一人親方団体控）'!C18)","v":""},{"$f":"IF('保険料申告内訳名簿（一人親方団体控）'!D18=\"\",\"\",'保険料申告内訳名簿（一人親方団体控）'!D18)","v":""},{"$f":"IF('保険料申告内訳名簿（一人親方団体控）'!E18=\"\",\"\",'保険料申告内訳名簿（一人親方団体控）'!E18)","v":""},{"$f":"IF('保険料申告内訳名簿（一人親方団体控）'!F18=\"\",\"\",'保険料申告内訳名簿（一人親方団体控）'!F18)","v":""},{"$f":"IF('保険料申告内訳名簿（一人親方団体控）'!G18=\"\",\"\",'保険料申告内訳名簿（一人親方団体控）'!G18)","v":""},{"$f":"IF('保険料申告内訳名簿（一人親方団体控）'!H18=\"\",\"\",'保険料申告内訳名簿（一人親方団体控）'!H18)","v":""},{"$f":"IF('保険料申告内訳名簿（一人親方団体控）'!I18=\"\",\"\",'保険料申告内訳名簿（一人親方団体控）'!I18)","v":""},{"$f":"IF('保険料申告内訳名簿（一人親方団体控）'!J18=\"\",\"\",'保険料申告内訳名簿（一人親方団体控）'!J18)","v":""},{"$f":"IF('保険料申告内訳名簿（一人親方団体控）'!K18=\"\",\"\",'保険料申告内訳名簿（一人親方団体控）'!K18)","v":""},{"$f":"IF('保険料申告内訳名簿（一人親方団体控）'!L18=\"\",\"\",'保険料申告内訳名簿（一人親方団体控）'!L18)","v":""},{"$f":"IF('保険料申告内訳名簿（一人親方団体控）'!M18=\"\",\"\",'保険料申告内訳名簿（一人親方団体控）'!M18)","v":""},{"$f":"IF('保険料申告内訳名簿（一人親方団体控）'!N18=\"\",\"\",'保険料申告内訳名簿（一人親方団体控）'!N18)","v":""},{"$f":"IF('保険料申告内訳名簿（一人親方団体控）'!O18=\"\",\"\",'保険料申告内訳名簿（一人親方団体控）'!O18)","v":""},{"$f":"IF('保険料申告内訳名簿（一人親方団体控）'!P18=\"\",\"\",'保険料申告内訳名簿（一人親方団体控）'!P18)","v":""},{"$f":"IF('保険料申告内訳名簿（一人親方団体控）'!Q18=\"\",\"\",'保険料申告内訳名簿（一人親方団体控）'!Q18)","v":""},{"$f":"IF('保険料申告内訳名簿（一人親方団体控）'!R18=\"\",\"\",'保険料申告内訳名簿（一人親方団体控）'!R18)","v":""},{"$f":"IF('保険料申告内訳名簿（一人親方団体控）'!S18=\"\",\"\",'保険料申告内訳名簿（一人親方団体控）'!S18)","v":0},{"$f":"IF('保険料申告内訳名簿（一人親方団体控）'!T18=\"\",\"\",'保険料申告内訳名簿（一人親方団体控）'!T18)","v":""},{"$f":"IF('保険料申告内訳名簿（一人親方団体控）'!U18=\"\",\"\",'保険料申告内訳名簿（一人親方団体控）'!U18)","v":""},{"$f":"IF('保険料申告内訳名簿（一人親方団体控）'!V18=\"\",\"\",'保険料申告内訳名簿（一人親方団体控）'!V18)","v":""},{"$f":"IF('保険料申告内訳名簿（一人親方団体控）'!W18=\"\",\"\",'保険料申告内訳名簿（一人親方団体控）'!W18)","v":""},{"$f":"IF('保険料申告内訳名簿（一人親方団体控）'!X18=\"\",\"\",'保険料申告内訳名簿（一人親方団体控）'!X18)","v":""},{"$f":"IF('保険料申告内訳名簿（一人親方団体控）'!Y18=\"\",\"\",'保険料申告内訳名簿（一人親方団体控）'!Y18)","v":""},{"$f":"IF('保険料申告内訳名簿（一人親方団体控）'!Z18=\"\",\"\",'保険料申告内訳名簿（一人親方団体控）'!Z18)","v":""},{"$f":"IF('保険料申告内訳名簿（一人親方団体控）'!AA18=\"\",\"\",'保険料申告内訳名簿（一人親方団体控）'!AA18)","v":""},{"$f":"IF('保険料申告内訳名簿（一人親方団体控）'!AB18=\"\",\"\",'保険料申告内訳名簿（一人親方団体控）'!AB18)","v":""},{"$f":"IF('保険料申告内訳名簿（一人親方団体控）'!AC18=\"\",\"\",'保険料申告内訳名簿（一人親方団体控）'!AC18)","v":0},{"$f":"IF('保険料申告内訳名簿（一人親方団体控）'!AD18=\"\",\"\",'保険料申告内訳名簿（一人親方団体控）'!AD18)","v":""},{"$f":"IF('保険料申告内訳名簿（一人親方団体控）'!AE18=\"\",\"\",'保険料申告内訳名簿（一人親方団体控）'!AE18)","v":""},{"$f":"IF('保険料申告内訳名簿（一人親方団体控）'!AF18=\"\",\"\",'保険料申告内訳名簿（一人親方団体控）'!AF18)","v":""},{"$f":"IF('保険料申告内訳名簿（一人親方団体控）'!AG18=\"\",\"\",'保険料申告内訳名簿（一人親方団体控）'!AG18)","v":""},{"$f":"IF('保険料申告内訳名簿（一人親方団体控）'!AH18=\"\",\"\",'保険料申告内訳名簿（一人親方団体控）'!AH18)","v":""}]
[null,{"$f":"IF('保険料申告内訳名簿（一人親方団体控）'!B19=\"\",\"\",'保険料申告内訳名簿（一人親方団体控）'!B19)","v":""},{"$f":"IF('保険料申告内訳名簿（一人親方団体控）'!C19=\"\",\"\",'保険料申告内訳名簿（一人親方団体控）'!C19)","v":""},{"$f":"IF('保険料申告内訳名簿（一人親方団体控）'!D19=\"\",\"\",'保険料申告内訳名簿（一人親方団体控）'!D19)","v":""},{"$f":"IF('保険料申告内訳名簿（一人親方団体控）'!E19=\"\",\"\",'保険料申告内訳名簿（一人親方団体控）'!E19)","v":""},{"$f":"IF('保険料申告内訳名簿（一人親方団体控）'!F19=\"\",\"\",'保険料申告内訳名簿（一人親方団体控）'!F19)","v":""},{"$f":"IF('保険料申告内訳名簿（一人親方団体控）'!G19=\"\",\"\",'保険料申告内訳名簿（一人親方団体控）'!G19)","v":""},{"$f":"IF('保険料申告内訳名簿（一人親方団体控）'!H19=\"\",\"\",'保険料申告内訳名簿（一人親方団体控）'!H19)","v":""},{"$f":"IF('保険料申告内訳名簿（一人親方団体控）'!I19=\"\",\"\",'保険料申告内訳名簿（一人親方団体控）'!I19)","v":""},{"$f":"IF('保険料申告内訳名簿（一人親方団体控）'!J19=\"\",\"\",'保険料申告内訳名簿（一人親方団体控）'!J19)","v":""},{"$f":"IF('保険料申告内訳名簿（一人親方団体控）'!K19=\"\",\"\",'保険料申告内訳名簿（一人親方団体控）'!K19)","v":""},{"$f":"IF('保険料申告内訳名簿（一人親方団体控）'!L19=\"\",\"\",'保険料申告内訳名簿（一人親方団体控）'!L19)","v":""},{"$f":"IF('保険料申告内訳名簿（一人親方団体控）'!M19=\"\",\"\",'保険料申告内訳名簿（一人親方団体控）'!M19)","v":""},{"$f":"IF('保険料申告内訳名簿（一人親方団体控）'!N19=\"\",\"\",'保険料申告内訳名簿（一人親方団体控）'!N19)","v":""},{"$f":"IF('保険料申告内訳名簿（一人親方団体控）'!O19=\"\",\"\",'保険料申告内訳名簿（一人親方団体控）'!O19)","v":""},{"$f":"IF('保険料申告内訳名簿（一人親方団体控）'!P19=\"\",\"\",'保険料申告内訳名簿（一人親方団体控）'!P19)","v":""},{"$f":"IF('保険料申告内訳名簿（一人親方団体控）'!Q19=\"\",\"\",'保険料申告内訳名簿（一人親方団体控）'!Q19)","v":""},{"$f":"IF('保険料申告内訳名簿（一人親方団体控）'!R19=\"\",\"\",'保険料申告内訳名簿（一人親方団体控）'!R19)","v":""},{"$f":"IF('保険料申告内訳名簿（一人親方団体控）'!S19=\"\",\"\",'保険料申告内訳名簿（一人親方団体控）'!S19)","v":0},{"$f":"IF('保険料申告内訳名簿（一人親方団体控）'!T19=\"\",\"\",'保険料申告内訳名簿（一人親方団体控）'!T19)","v":""},{"$f":"IF('保険料申告内訳名簿（一人親方団体控）'!U19=\"\",\"\",'保険料申告内訳名簿（一人親方団体控）'!U19)","v":""},{"$f":"IF('保険料申告内訳名簿（一人親方団体控）'!V19=\"\",\"\",'保険料申告内訳名簿（一人親方団体控）'!V19)","v":""},{"$f":"IF('保険料申告内訳名簿（一人親方団体控）'!W19=\"\",\"\",'保険料申告内訳名簿（一人親方団体控）'!W19)","v":""},{"$f":"IF('保険料申告内訳名簿（一人親方団体控）'!X19=\"\",\"\",'保険料申告内訳名簿（一人親方団体控）'!X19)","v":""},{"$f":"IF('保険料申告内訳名簿（一人親方団体控）'!Y19=\"\",\"\",'保険料申告内訳名簿（一人親方団体控）'!Y19)","v":""},{"$f":"IF('保険料申告内訳名簿（一人親方団体控）'!Z19=\"\",\"\",'保険料申告内訳名簿（一人親方団体控）'!Z19)","v":""},{"$f":"IF('保険料申告内訳名簿（一人親方団体控）'!AA19=\"\",\"\",'保険料申告内訳名簿（一人親方団体控）'!AA19)","v":""},{"$f":"IF('保険料申告内訳名簿（一人親方団体控）'!AB19=\"\",\"\",'保険料申告内訳名簿（一人親方団体控）'!AB19)","v":""},{"$f":"IF('保険料申告内訳名簿（一人親方団体控）'!AC19=\"\",\"\",'保険料申告内訳名簿（一人親方団体控）'!AC19)","v":0},{"$f":"IF('保険料申告内訳名簿（一人親方団体控）'!AD19=\"\",\"\",'保険料申告内訳名簿（一人親方団体控）'!AD19)","v":""},{"$f":"IF('保険料申告内訳名簿（一人親方団体控）'!AE19=\"\",\"\",'保険料申告内訳名簿（一人親方団体控）'!AE19)","v":""},{"$f":"IF('保険料申告内訳名簿（一人親方団体控）'!AF19=\"\",\"\",'保険料申告内訳名簿（一人親方団体控）'!AF19)","v":""},{"$f":"IF('保険料申告内訳名簿（一人親方団体控）'!AG19=\"\",\"\",'保険料申告内訳名簿（一人親方団体控）'!AG19)","v":""},{"$f":"IF('保険料申告内訳名簿（一人親方団体控）'!AH19=\"\",\"\",'保険料申告内訳名簿（一人親方団体控）'!AH19)","v":""}]
[null,{"$f":"IF('保険料申告内訳名簿（一人親方団体控）'!B20=\"\",\"\",'保険料申告内訳名簿（一人親方団体控）'!B20)","v":""},{"$f":"IF('保険料申告内訳名簿（一人親方団体控）'!C20=\"\",\"\",'保険料申告内訳名簿（一人親方団体控）'!C20)","v":""},{"$f":"IF('保険料申告内訳名簿（一人親方団体控）'!D20=\"\",\"\",'保険料申告内訳名簿（一人親方団体控）'!D20)","v":""},{"$f":"IF('保険料申告内訳名簿（一人親方団体控）'!E20=\"\",\"\",'保険料申告内訳名簿（一人親方団体控）'!E20)","v":""},{"$f":"IF('保険料申告内訳名簿（一人親方団体控）'!F20=\"\",\"\",'保険料申告内訳名簿（一人親方団体控）'!F20)","v":""},{"$f":"IF('保険料申告内訳名簿（一人親方団体控）'!G20=\"\",\"\",'保険料申告内訳名簿（一人親方団体控）'!G20)","v":""},{"$f":"IF('保険料申告内訳名簿（一人親方団体控）'!H20=\"\",\"\",'保険料申告内訳名簿（一人親方団体控）'!H20)","v":""},{"$f":"IF('保険料申告内訳名簿（一人親方団体控）'!I20=\"\",\"\",'保険料申告内訳名簿（一人親方団体控）'!I20)","v":""},{"$f":"IF('保険料申告内訳名簿（一人親方団体控）'!J20=\"\",\"\",'保険料申告内訳名簿（一人親方団体控）'!J20)","v":""},{"$f":"IF('保険料申告内訳名簿（一人親方団体控）'!K20=\"\",\"\",'保険料申告内訳名簿（一人親方団体控）'!K20)","v":""},{"$f":"IF('保険料申告内訳名簿（一人親方団体控）'!L20=\"\",\"\",'保険料申告内訳名簿（一人親方団体控）'!L20)","v":""},{"$f":"IF('保険料申告内訳名簿（一人親方団体控）'!M20=\"\",\"\",'保険料申告内訳名簿（一人親方団体控）'!M20)","v":""},{"$f":"IF('保険料申告内訳名簿（一人親方団体控）'!N20=\"\",\"\",'保険料申告内訳名簿（一人親方団体控）'!N20)","v":""},{"$f":"IF('保険料申告内訳名簿（一人親方団体控）'!O20=\"\",\"\",'保険料申告内訳名簿（一人親方団体控）'!O20)","v":""},{"$f":"IF('保険料申告内訳名簿（一人親方団体控）'!P20=\"\",\"\",'保険料申告内訳名簿（一人親方団体控）'!P20)","v":""},{"$f":"IF('保険料申告内訳名簿（一人親方団体控）'!Q20=\"\",\"\",'保険料申告内訳名簿（一人親方団体控）'!Q20)","v":""},{"$f":"IF('保険料申告内訳名簿（一人親方団体控）'!R20=\"\",\"\",'保険料申告内訳名簿（一人親方団体控）'!R20)","v":""},{"$f":"IF('保険料申告内訳名簿（一人親方団体控）'!S20=\"\",\"\",'保険料申告内訳名簿（一人親方団体控）'!S20)","v":0},{"$f":"IF('保険料申告内訳名簿（一人親方団体控）'!T20=\"\",\"\",'保険料申告内訳名簿（一人親方団体控）'!T20)","v":""},{"$f":"IF('保険料申告内訳名簿（一人親方団体控）'!U20=\"\",\"\",'保険料申告内訳名簿（一人親方団体控）'!U20)","v":""},{"$f":"IF('保険料申告内訳名簿（一人親方団体控）'!V20=\"\",\"\",'保険料申告内訳名簿（一人親方団体控）'!V20)","v":""},{"$f":"IF('保険料申告内訳名簿（一人親方団体控）'!W20=\"\",\"\",'保険料申告内訳名簿（一人親方団体控）'!W20)","v":""},{"$f":"IF('保険料申告内訳名簿（一人親方団体控）'!X20=\"\",\"\",'保険料申告内訳名簿（一人親方団体控）'!X20)","v":""},{"$f":"IF('保険料申告内訳名簿（一人親方団体控）'!Y20=\"\",\"\",'保険料申告内訳名簿（一人親方団体控）'!Y20)","v":""},{"$f":"IF('保険料申告内訳名簿（一人親方団体控）'!Z20=\"\",\"\",'保険料申告内訳名簿（一人親方団体控）'!Z20)","v":""},{"$f":"IF('保険料申告内訳名簿（一人親方団体控）'!AA20=\"\",\"\",'保険料申告内訳名簿（一人親方団体控）'!AA20)","v":""},{"$f":"IF('保険料申告内訳名簿（一人親方団体控）'!AB20=\"\",\"\",'保険料申告内訳名簿（一人親方団体控）'!AB20)","v":""},{"$f":"IF('保険料申告内訳名簿（一人親方団体控）'!AC20=\"\",\"\",'保険料申告内訳名簿（一人親方団体控）'!AC20)","v":0},{"$f":"IF('保険料申告内訳名簿（一人親方団体控）'!AD20=\"\",\"\",'保険料申告内訳名簿（一人親方団体控）'!AD20)","v":""},{"$f":"IF('保険料申告内訳名簿（一人親方団体控）'!AE20=\"\",\"\",'保険料申告内訳名簿（一人親方団体控）'!AE20)","v":""},{"$f":"IF('保険料申告内訳名簿（一人親方団体控）'!AF20=\"\",\"\",'保険料申告内訳名簿（一人親方団体控）'!AF20)","v":""},{"$f":"IF('保険料申告内訳名簿（一人親方団体控）'!AG20=\"\",\"\",'保険料申告内訳名簿（一人親方団体控）'!AG20)","v":""},{"$f":"IF('保険料申告内訳名簿（一人親方団体控）'!AH20=\"\",\"\",'保険料申告内訳名簿（一人親方団体控）'!AH20)","v":""}]
[null,{"$f":"IF('保険料申告内訳名簿（一人親方団体控）'!B21=\"\",\"\",'保険料申告内訳名簿（一人親方団体控）'!B21)","v":""},{"$f":"IF('保険料申告内訳名簿（一人親方団体控）'!C21=\"\",\"\",'保険料申告内訳名簿（一人親方団体控）'!C21)","v":""},{"$f":"IF('保険料申告内訳名簿（一人親方団体控）'!D21=\"\",\"\",'保険料申告内訳名簿（一人親方団体控）'!D21)","v":""},{"$f":"IF('保険料申告内訳名簿（一人親方団体控）'!E21=\"\",\"\",'保険料申告内訳名簿（一人親方団体控）'!E21)","v":""},{"$f":"IF('保険料申告内訳名簿（一人親方団体控）'!F21=\"\",\"\",'保険料申告内訳名簿（一人親方団体控）'!F21)","v":""},{"$f":"IF('保険料申告内訳名簿（一人親方団体控）'!G21=\"\",\"\",'保険料申告内訳名簿（一人親方団体控）'!G21)","v":""},{"$f":"IF('保険料申告内訳名簿（一人親方団体控）'!H21=\"\",\"\",'保険料申告内訳名簿（一人親方団体控）'!H21)","v":""},{"$f":"IF('保険料申告内訳名簿（一人親方団体控）'!I21=\"\",\"\",'保険料申告内訳名簿（一人親方団体控）'!I21)","v":""},{"$f":"IF('保険料申告内訳名簿（一人親方団体控）'!J21=\"\",\"\",'保険料申告内訳名簿（一人親方団体控）'!J21)","v":""},{"$f":"IF('保険料申告内訳名簿（一人親方団体控）'!K21=\"\",\"\",'保険料申告内訳名簿（一人親方団体控）'!K21)","v":""},{"$f":"IF('保険料申告内訳名簿（一人親方団体控）'!L21=\"\",\"\",'保険料申告内訳名簿（一人親方団体控）'!L21)","v":""},{"$f":"IF('保険料申告内訳名簿（一人親方団体控）'!M21=\"\",\"\",'保険料申告内訳名簿（一人親方団体控）'!M21)","v":""},{"$f":"IF('保険料申告内訳名簿（一人親方団体控）'!N21=\"\",\"\",'保険料申告内訳名簿（一人親方団体控）'!N21)","v":""},{"$f":"IF('保険料申告内訳名簿（一人親方団体控）'!O21=\"\",\"\",'保険料申告内訳名簿（一人親方団体控）'!O21)","v":""},{"$f":"IF('保険料申告内訳名簿（一人親方団体控）'!P21=\"\",\"\",'保険料申告内訳名簿（一人親方団体控）'!P21)","v":""},{"$f":"IF('保険料申告内訳名簿（一人親方団体控）'!Q21=\"\",\"\",'保険料申告内訳名簿（一人親方団体控）'!Q21)","v":""},{"$f":"IF('保険料申告内訳名簿（一人親方団体控）'!R21=\"\",\"\",'保険料申告内訳名簿（一人親方団体控）'!R21)","v":""},{"$f":"IF('保険料申告内訳名簿（一人親方団体控）'!S21=\"\",\"\",'保険料申告内訳名簿（一人親方団体控）'!S21)","v":0},{"$f":"IF('保険料申告内訳名簿（一人親方団体控）'!T21=\"\",\"\",'保険料申告内訳名簿（一人親方団体控）'!T21)","v":""},{"$f":"IF('保険料申告内訳名簿（一人親方団体控）'!U21=\"\",\"\",'保険料申告内訳名簿（一人親方団体控）'!U21)","v":""},{"$f":"IF('保険料申告内訳名簿（一人親方団体控）'!V21=\"\",\"\",'保険料申告内訳名簿（一人親方団体控）'!V21)","v":""},{"$f":"IF('保険料申告内訳名簿（一人親方団体控）'!W21=\"\",\"\",'保険料申告内訳名簿（一人親方団体控）'!W21)","v":""},{"$f":"IF('保険料申告内訳名簿（一人親方団体控）'!X21=\"\",\"\",'保険料申告内訳名簿（一人親方団体控）'!X21)","v":""},{"$f":"IF('保険料申告内訳名簿（一人親方団体控）'!Y21=\"\",\"\",'保険料申告内訳名簿（一人親方団体控）'!Y21)","v":""},{"$f":"IF('保険料申告内訳名簿（一人親方団体控）'!Z21=\"\",\"\",'保険料申告内訳名簿（一人親方団体控）'!Z21)","v":""},{"$f":"IF('保険料申告内訳名簿（一人親方団体控）'!AA21=\"\",\"\",'保険料申告内訳名簿（一人親方団体控）'!AA21)","v":""},{"$f":"IF('保険料申告内訳名簿（一人親方団体控）'!AB21=\"\",\"\",'保険料申告内訳名簿（一人親方団体控）'!AB21)","v":""},{"$f":"IF('保険料申告内訳名簿（一人親方団体控）'!AC21=\"\",\"\",'保険料申告内訳名簿（一人親方団体控）'!AC21)","v":0},{"$f":"IF('保険料申告内訳名簿（一人親方団体控）'!AD21=\"\",\"\",'保険料申告内訳名簿（一人親方団体控）'!AD21)","v":""},{"$f":"IF('保険料申告内訳名簿（一人親方団体控）'!AE21=\"\",\"\",'保険料申告内訳名簿（一人親方団体控）'!AE21)","v":""},{"$f":"IF('保険料申告内訳名簿（一人親方団体控）'!AF21=\"\",\"\",'保険料申告内訳名簿（一人親方団体控）'!AF21)","v":""},{"$f":"IF('保険料申告内訳名簿（一人親方団体控）'!AG21=\"\",\"\",'保険料申告内訳名簿（一人親方団体控）'!AG21)","v":""},{"$f":"IF('保険料申告内訳名簿（一人親方団体控）'!AH21=\"\",\"\",'保険料申告内訳名簿（一人親方団体控）'!AH21)","v":""}]
[null,{"$f":"IF('保険料申告内訳名簿（一人親方団体控）'!B22=\"\",\"\",'保険料申告内訳名簿（一人親方団体控）'!B22)","v":""},{"$f":"IF('保険料申告内訳名簿（一人親方団体控）'!C22=\"\",\"\",'保険料申告内訳名簿（一人親方団体控）'!C22)","v":""},{"$f":"IF('保険料申告内訳名簿（一人親方団体控）'!D22=\"\",\"\",'保険料申告内訳名簿（一人親方団体控）'!D22)","v":""},{"$f":"IF('保険料申告内訳名簿（一人親方団体控）'!E22=\"\",\"\",'保険料申告内訳名簿（一人親方団体控）'!E22)","v":""},{"$f":"IF('保険料申告内訳名簿（一人親方団体控）'!F22=\"\",\"\",'保険料申告内訳名簿（一人親方団体控）'!F22)","v":""},{"$f":"IF('保険料申告内訳名簿（一人親方団体控）'!G22=\"\",\"\",'保険料申告内訳名簿（一人親方団体控）'!G22)","v":""},{"$f":"IF('保険料申告内訳名簿（一人親方団体控）'!H22=\"\",\"\",'保険料申告内訳名簿（一人親方団体控）'!H22)","v":""},{"$f":"IF('保険料申告内訳名簿（一人親方団体控）'!I22=\"\",\"\",'保険料申告内訳名簿（一人親方団体控）'!I22)","v":""},{"$f":"IF('保険料申告内訳名簿（一人親方団体控）'!J22=\"\",\"\",'保険料申告内訳名簿（一人親方団体控）'!J22)","v":""},{"$f":"IF('保険料申告内訳名簿（一人親方団体控）'!K22=\"\",\"\",'保険料申告内訳名簿（一人親方団体控）'!K22)","v":""},{"$f":"IF('保険料申告内訳名簿（一人親方団体控）'!L22=\"\",\"\",'保険料申告内訳名簿（一人親方団体控）'!L22)","v":""},{"$f":"IF('保険料申告内訳名簿（一人親方団体控）'!M22=\"\",\"\",'保険料申告内訳名簿（一人親方団体控）'!M22)","v":""},{"$f":"IF('保険料申告内訳名簿（一人親方団体控）'!N22=\"\",\"\",'保険料申告内訳名簿（一人親方団体控）'!N22)","v":""},{"$f":"IF('保険料申告内訳名簿（一人親方団体控）'!O22=\"\",\"\",'保険料申告内訳名簿（一人親方団体控）'!O22)","v":""},{"$f":"IF('保険料申告内訳名簿（一人親方団体控）'!P22=\"\",\"\",'保険料申告内訳名簿（一人親方団体控）'!P22)","v":""},{"$f":"IF('保険料申告内訳名簿（一人親方団体控）'!Q22=\"\",\"\",'保険料申告内訳名簿（一人親方団体控）'!Q22)","v":""},{"$f":"IF('保険料申告内訳名簿（一人親方団体控）'!R22=\"\",\"\",'保険料申告内訳名簿（一人親方団体控）'!R22)","v":""},{"$f":"IF('保険料申告内訳名簿（一人親方団体控）'!S22=\"\",\"\",'保険料申告内訳名簿（一人親方団体控）'!S22)","v":0},{"$f":"IF('保険料申告内訳名簿（一人親方団体控）'!T22=\"\",\"\",'保険料申告内訳名簿（一人親方団体控）'!T22)","v":""},{"$f":"IF('保険料申告内訳名簿（一人親方団体控）'!U22=\"\",\"\",'保険料申告内訳名簿（一人親方団体控）'!U22)","v":""},{"$f":"IF('保険料申告内訳名簿（一人親方団体控）'!V22=\"\",\"\",'保険料申告内訳名簿（一人親方団体控）'!V22)","v":""},{"$f":"IF('保険料申告内訳名簿（一人親方団体控）'!W22=\"\",\"\",'保険料申告内訳名簿（一人親方団体控）'!W22)","v":""},{"$f":"IF('保険料申告内訳名簿（一人親方団体控）'!X22=\"\",\"\",'保険料申告内訳名簿（一人親方団体控）'!X22)","v":""},{"$f":"IF('保険料申告内訳名簿（一人親方団体控）'!Y22=\"\",\"\",'保険料申告内訳名簿（一人親方団体控）'!Y22)","v":""},{"$f":"IF('保険料申告内訳名簿（一人親方団体控）'!Z22=\"\",\"\",'保険料申告内訳名簿（一人親方団体控）'!Z22)","v":""},{"$f":"IF('保険料申告内訳名簿（一人親方団体控）'!AA22=\"\",\"\",'保険料申告内訳名簿（一人親方団体控）'!AA22)","v":""},{"$f":"IF('保険料申告内訳名簿（一人親方団体控）'!AB22=\"\",\"\",'保険料申告内訳名簿（一人親方団体控）'!AB22)","v":""},{"$f":"IF('保険料申告内訳名簿（一人親方団体控）'!AC22=\"\",\"\",'保険料申告内訳名簿（一人親方団体控）'!AC22)","v":0},{"$f":"IF('保険料申告内訳名簿（一人親方団体控）'!AD22=\"\",\"\",'保険料申告内訳名簿（一人親方団体控）'!AD22)","v":""},{"$f":"IF('保険料申告内訳名簿（一人親方団体控）'!AE22=\"\",\"\",'保険料申告内訳名簿（一人親方団体控）'!AE22)","v":""},{"$f":"IF('保険料申告内訳名簿（一人親方団体控）'!AF22=\"\",\"\",'保険料申告内訳名簿（一人親方団体控）'!AF22)","v":""},{"$f":"IF('保険料申告内訳名簿（一人親方団体控）'!AG22=\"\",\"\",'保険料申告内訳名簿（一人親方団体控）'!AG22)","v":""},{"$f":"IF('保険料申告内訳名簿（一人親方団体控）'!AH22=\"\",\"\",'保険料申告内訳名簿（一人親方団体控）'!AH22)","v":""}]
[null,{"$f":"IF('保険料申告内訳名簿（一人親方団体控）'!B23=\"\",\"\",'保険料申告内訳名簿（一人親方団体控）'!B23)","v":""},{"$f":"IF('保険料申告内訳名簿（一人親方団体控）'!C23=\"\",\"\",'保険料申告内訳名簿（一人親方団体控）'!C23)","v":""},{"$f":"IF('保険料申告内訳名簿（一人親方団体控）'!D23=\"\",\"\",'保険料申告内訳名簿（一人親方団体控）'!D23)","v":""},{"$f":"IF('保険料申告内訳名簿（一人親方団体控）'!E23=\"\",\"\",'保険料申告内訳名簿（一人親方団体控）'!E23)","v":""},{"$f":"IF('保険料申告内訳名簿（一人親方団体控）'!F23=\"\",\"\",'保険料申告内訳名簿（一人親方団体控）'!F23)","v":""},{"$f":"IF('保険料申告内訳名簿（一人親方団体控）'!G23=\"\",\"\",'保険料申告内訳名簿（一人親方団体控）'!G23)","v":""},{"$f":"IF('保険料申告内訳名簿（一人親方団体控）'!H23=\"\",\"\",'保険料申告内訳名簿（一人親方団体控）'!H23)","v":""},{"$f":"IF('保険料申告内訳名簿（一人親方団体控）'!I23=\"\",\"\",'保険料申告内訳名簿（一人親方団体控）'!I23)","v":""},{"$f":"IF('保険料申告内訳名簿（一人親方団体控）'!J23=\"\",\"\",'保険料申告内訳名簿（一人親方団体控）'!J23)","v":""},{"$f":"IF('保険料申告内訳名簿（一人親方団体控）'!K23=\"\",\"\",'保険料申告内訳名簿（一人親方団体控）'!K23)","v":""},{"$f":"IF('保険料申告内訳名簿（一人親方団体控）'!L23=\"\",\"\",'保険料申告内訳名簿（一人親方団体控）'!L23)","v":""},{"$f":"IF('保険料申告内訳名簿（一人親方団体控）'!M23=\"\",\"\",'保険料申告内訳名簿（一人親方団体控）'!M23)","v":""},{"$f":"IF('保険料申告内訳名簿（一人親方団体控）'!N23=\"\",\"\",'保険料申告内訳名簿（一人親方団体控）'!N23)","v":""},{"$f":"IF('保険料申告内訳名簿（一人親方団体控）'!O23=\"\",\"\",'保険料申告内訳名簿（一人親方団体控）'!O23)","v":""},{"$f":"IF('保険料申告内訳名簿（一人親方団体控）'!P23=\"\",\"\",'保険料申告内訳名簿（一人親方団体控）'!P23)","v":""},{"$f":"IF('保険料申告内訳名簿（一人親方団体控）'!Q23=\"\",\"\",'保険料申告内訳名簿（一人親方団体控）'!Q23)","v":""},{"$f":"IF('保険料申告内訳名簿（一人親方団体控）'!R23=\"\",\"\",'保険料申告内訳名簿（一人親方団体控）'!R23)","v":""},{"$f":"IF('保険料申告内訳名簿（一人親方団体控）'!S23=\"\",\"\",'保険料申告内訳名簿（一人親方団体控）'!S23)","v":0},{"$f":"IF('保険料申告内訳名簿（一人親方団体控）'!T23=\"\",\"\",'保険料申告内訳名簿（一人親方団体控）'!T23)","v":""},{"$f":"IF('保険料申告内訳名簿（一人親方団体控）'!U23=\"\",\"\",'保険料申告内訳名簿（一人親方団体控）'!U23)","v":""},{"$f":"IF('保険料申告内訳名簿（一人親方団体控）'!V23=\"\",\"\",'保険料申告内訳名簿（一人親方団体控）'!V23)","v":""},{"$f":"IF('保険料申告内訳名簿（一人親方団体控）'!W23=\"\",\"\",'保険料申告内訳名簿（一人親方団体控）'!W23)","v":""},{"$f":"IF('保険料申告内訳名簿（一人親方団体控）'!X23=\"\",\"\",'保険料申告内訳名簿（一人親方団体控）'!X23)","v":""},{"$f":"IF('保険料申告内訳名簿（一人親方団体控）'!Y23=\"\",\"\",'保険料申告内訳名簿（一人親方団体控）'!Y23)","v":""},{"$f":"IF('保険料申告内訳名簿（一人親方団体控）'!Z23=\"\",\"\",'保険料申告内訳名簿（一人親方団体控）'!Z23)","v":""},{"$f":"IF('保険料申告内訳名簿（一人親方団体控）'!AA23=\"\",\"\",'保険料申告内訳名簿（一人親方団体控）'!AA23)","v":""},{"$f":"IF('保険料申告内訳名簿（一人親方団体控）'!AB23=\"\",\"\",'保険料申告内訳名簿（一人親方団体控）'!AB23)","v":""},{"$f":"IF('保険料申告内訳名簿（一人親方団体控）'!AC23=\"\",\"\",'保険料申告内訳名簿（一人親方団体控）'!AC23)","v":0},{"$f":"IF('保険料申告内訳名簿（一人親方団体控）'!AD23=\"\",\"\",'保険料申告内訳名簿（一人親方団体控）'!AD23)","v":""},{"$f":"IF('保険料申告内訳名簿（一人親方団体控）'!AE23=\"\",\"\",'保険料申告内訳名簿（一人親方団体控）'!AE23)","v":""},{"$f":"IF('保険料申告内訳名簿（一人親方団体控）'!AF23=\"\",\"\",'保険料申告内訳名簿（一人親方団体控）'!AF23)","v":""},{"$f":"IF('保険料申告内訳名簿（一人親方団体控）'!AG23=\"\",\"\",'保険料申告内訳名簿（一人親方団体控）'!AG23)","v":""},{"$f":"IF('保険料申告内訳名簿（一人親方団体控）'!AH23=\"\",\"\",'保険料申告内訳名簿（一人親方団体控）'!AH23)","v":""}]
[null,{"$f":"IF('保険料申告内訳名簿（一人親方団体控）'!B24=\"\",\"\",'保険料申告内訳名簿（一人親方団体控）'!B24)","v":""},{"$f":"IF('保険料申告内訳名簿（一人親方団体控）'!C24=\"\",\"\",'保険料申告内訳名簿（一人親方団体控）'!C24)","v":""},{"$f":"IF('保険料申告内訳名簿（一人親方団体控）'!D24=\"\",\"\",'保険料申告内訳名簿（一人親方団体控）'!D24)","v":""},{"$f":"IF('保険料申告内訳名簿（一人親方団体控）'!E24=\"\",\"\",'保険料申告内訳名簿（一人親方団体控）'!E24)","v":""},{"$f":"IF('保険料申告内訳名簿（一人親方団体控）'!F24=\"\",\"\",'保険料申告内訳名簿（一人親方団体控）'!F24)","v":""},{"$f":"IF('保険料申告内訳名簿（一人親方団体控）'!G24=\"\",\"\",'保険料申告内訳名簿（一人親方団体控）'!G24)","v":""},{"$f":"IF('保険料申告内訳名簿（一人親方団体控）'!H24=\"\",\"\",'保険料申告内訳名簿（一人親方団体控）'!H24)","v":""},{"$f":"IF('保険料申告内訳名簿（一人親方団体控）'!I24=\"\",\"\",'保険料申告内訳名簿（一人親方団体控）'!I24)","v":""},{"$f":"IF('保険料申告内訳名簿（一人親方団体控）'!J24=\"\",\"\",'保険料申告内訳名簿（一人親方団体控）'!J24)","v":""},{"$f":"IF('保険料申告内訳名簿（一人親方団体控）'!K24=\"\",\"\",'保険料申告内訳名簿（一人親方団体控）'!K24)","v":""},{"$f":"IF('保険料申告内訳名簿（一人親方団体控）'!L24=\"\",\"\",'保険料申告内訳名簿（一人親方団体控）'!L24)","v":""},{"$f":"IF('保険料申告内訳名簿（一人親方団体控）'!M24=\"\",\"\",'保険料申告内訳名簿（一人親方団体控）'!M24)","v":""},{"$f":"IF('保険料申告内訳名簿（一人親方団体控）'!N24=\"\",\"\",'保険料申告内訳名簿（一人親方団体控）'!N24)","v":""},{"$f":"IF('保険料申告内訳名簿（一人親方団体控）'!O24=\"\",\"\",'保険料申告内訳名簿（一人親方団体控）'!O24)","v":""},{"$f":"IF('保険料申告内訳名簿（一人親方団体控）'!P24=\"\",\"\",'保険料申告内訳名簿（一人親方団体控）'!P24)","v":""},{"$f":"IF('保険料申告内訳名簿（一人親方団体控）'!Q24=\"\",\"\",'保険料申告内訳名簿（一人親方団体控）'!Q24)","v":""},{"$f":"IF('保険料申告内訳名簿（一人親方団体控）'!R24=\"\",\"\",'保険料申告内訳名簿（一人親方団体控）'!R24)","v":""},{"$f":"IF('保険料申告内訳名簿（一人親方団体控）'!S24=\"\",\"\",'保険料申告内訳名簿（一人親方団体控）'!S24)","v":0},{"$f":"IF('保険料申告内訳名簿（一人親方団体控）'!T24=\"\",\"\",'保険料申告内訳名簿（一人親方団体控）'!T24)","v":""},{"$f":"IF('保険料申告内訳名簿（一人親方団体控）'!U24=\"\",\"\",'保険料申告内訳名簿（一人親方団体控）'!U24)","v":""},{"$f":"IF('保険料申告内訳名簿（一人親方団体控）'!V24=\"\",\"\",'保険料申告内訳名簿（一人親方団体控）'!V24)","v":""},{"$f":"IF('保険料申告内訳名簿（一人親方団体控）'!W24=\"\",\"\",'保険料申告内訳名簿（一人親方団体控）'!W24)","v":""},{"$f":"IF('保険料申告内訳名簿（一人親方団体控）'!X24=\"\",\"\",'保険料申告内訳名簿（一人親方団体控）'!X24)","v":""},{"$f":"IF('保険料申告内訳名簿（一人親方団体控）'!Y24=\"\",\"\",'保険料申告内訳名簿（一人親方団体控）'!Y24)","v":""},{"$f":"IF('保険料申告内訳名簿（一人親方団体控）'!Z24=\"\",\"\",'保険料申告内訳名簿（一人親方団体控）'!Z24)","v":""},{"$f":"IF('保険料申告内訳名簿（一人親方団体控）'!AA24=\"\",\"\",'保険料申告内訳名簿（一人親方団体控）'!AA24)","v":""},{"$f":"IF('保険料申告内訳名簿（一人親方団体控）'!AB24=\"\",\"\",'保険料申告内訳名簿（一人親方団体控）'!AB24)","v":""},{"$f":"IF('保険料申告内訳名簿（一人親方団体控）'!AC24=\"\",\"\",'保険料申告内訳名簿（一人親方団体控）'!AC24)","v":0},{"$f":"IF('保険料申告内訳名簿（一人親方団体控）'!AD24=\"\",\"\",'保険料申告内訳名簿（一人親方団体控）'!AD24)","v":""},{"$f":"IF('保険料申告内訳名簿（一人親方団体控）'!AE24=\"\",\"\",'保険料申告内訳名簿（一人親方団体控）'!AE24)","v":""},{"$f":"IF('保険料申告内訳名簿（一人親方団体控）'!AF24=\"\",\"\",'保険料申告内訳名簿（一人親方団体控）'!AF24)","v":""},{"$f":"IF('保険料申告内訳名簿（一人親方団体控）'!AG24=\"\",\"\",'保険料申告内訳名簿（一人親方団体控）'!AG24)","v":""},{"$f":"IF('保険料申告内訳名簿（一人親方団体控）'!AH24=\"\",\"\",'保険料申告内訳名簿（一人親方団体控）'!AH24)","v":""}]
[null,{"$f":"IF('保険料申告内訳名簿（一人親方団体控）'!B25=\"\",\"\",'保険料申告内訳名簿（一人親方団体控）'!B25)","v":""},{"$f":"IF('保険料申告内訳名簿（一人親方団体控）'!C25=\"\",\"\",'保険料申告内訳名簿（一人親方団体控）'!C25)","v":""},{"$f":"IF('保険料申告内訳名簿（一人親方団体控）'!D25=\"\",\"\",'保険料申告内訳名簿（一人親方団体控）'!D25)","v":""},{"$f":"IF('保険料申告内訳名簿（一人親方団体控）'!E25=\"\",\"\",'保険料申告内訳名簿（一人親方団体控）'!E25)","v":""},{"$f":"IF('保険料申告内訳名簿（一人親方団体控）'!F25=\"\",\"\",'保険料申告内訳名簿（一人親方団体控）'!F25)","v":""},{"$f":"IF('保険料申告内訳名簿（一人親方団体控）'!G25=\"\",\"\",'保険料申告内訳名簿（一人親方団体控）'!G25)","v":""},{"$f":"IF('保険料申告内訳名簿（一人親方団体控）'!H25=\"\",\"\",'保険料申告内訳名簿（一人親方団体控）'!H25)","v":""},{"$f":"IF('保険料申告内訳名簿（一人親方団体控）'!I25=\"\",\"\",'保険料申告内訳名簿（一人親方団体控）'!I25)","v":""},{"$f":"IF('保険料申告内訳名簿（一人親方団体控）'!J25=\"\",\"\",'保険料申告内訳名簿（一人親方団体控）'!J25)","v":""},{"$f":"IF('保険料申告内訳名簿（一人親方団体控）'!K25=\"\",\"\",'保険料申告内訳名簿（一人親方団体控）'!K25)","v":""},{"$f":"IF('保険料申告内訳名簿（一人親方団体控）'!L25=\"\",\"\",'保険料申告内訳名簿（一人親方団体控）'!L25)","v":""},{"$f":"IF('保険料申告内訳名簿（一人親方団体控）'!M25=\"\",\"\",'保険料申告内訳名簿（一人親方団体控）'!M25)","v":""},{"$f":"IF('保険料申告内訳名簿（一人親方団体控）'!N25=\"\",\"\",'保険料申告内訳名簿（一人親方団体控）'!N25)","v":""},{"$f":"IF('保険料申告内訳名簿（一人親方団体控）'!O25=\"\",\"\",'保険料申告内訳名簿（一人親方団体控）'!O25)","v":""},{"$f":"IF('保険料申告内訳名簿（一人親方団体控）'!P25=\"\",\"\",'保険料申告内訳名簿（一人親方団体控）'!P25)","v":""},{"$f":"IF('保険料申告内訳名簿（一人親方団体控）'!Q25=\"\",\"\",'保険料申告内訳名簿（一人親方団体控）'!Q25)","v":""},{"$f":"IF('保険料申告内訳名簿（一人親方団体控）'!R25=\"\",\"\",'保険料申告内訳名簿（一人親方団体控）'!R25)","v":""},{"$f":"IF('保険料申告内訳名簿（一人親方団体控）'!S25=\"\",\"\",'保険料申告内訳名簿（一人親方団体控）'!S25)","v":0},{"$f":"IF('保険料申告内訳名簿（一人親方団体控）'!T25=\"\",\"\",'保険料申告内訳名簿（一人親方団体控）'!T25)","v":""},{"$f":"IF('保険料申告内訳名簿（一人親方団体控）'!U25=\"\",\"\",'保険料申告内訳名簿（一人親方団体控）'!U25)","v":""},{"$f":"IF('保険料申告内訳名簿（一人親方団体控）'!V25=\"\",\"\",'保険料申告内訳名簿（一人親方団体控）'!V25)","v":""},{"$f":"IF('保険料申告内訳名簿（一人親方団体控）'!W25=\"\",\"\",'保険料申告内訳名簿（一人親方団体控）'!W25)","v":""},{"$f":"IF('保険料申告内訳名簿（一人親方団体控）'!X25=\"\",\"\",'保険料申告内訳名簿（一人親方団体控）'!X25)","v":""},{"$f":"IF('保険料申告内訳名簿（一人親方団体控）'!Y25=\"\",\"\",'保険料申告内訳名簿（一人親方団体控）'!Y25)","v":""},{"$f":"IF('保険料申告内訳名簿（一人親方団体控）'!Z25=\"\",\"\",'保険料申告内訳名簿（一人親方団体控）'!Z25)","v":""},{"$f":"IF('保険料申告内訳名簿（一人親方団体控）'!AA25=\"\",\"\",'保険料申告内訳名簿（一人親方団体控）'!AA25)","v":""},{"$f":"IF('保険料申告内訳名簿（一人親方団体控）'!AB25=\"\",\"\",'保険料申告内訳名簿（一人親方団体控）'!AB25)","v":""},{"$f":"IF('保険料申告内訳名簿（一人親方団体控）'!AC25=\"\",\"\",'保険料申告内訳名簿（一人親方団体控）'!AC25)","v":0},{"$f":"IF('保険料申告内訳名簿（一人親方団体控）'!AD25=\"\",\"\",'保険料申告内訳名簿（一人親方団体控）'!AD25)","v":""},{"$f":"IF('保険料申告内訳名簿（一人親方団体控）'!AE25=\"\",\"\",'保険料申告内訳名簿（一人親方団体控）'!AE25)","v":""},{"$f":"IF('保険料申告内訳名簿（一人親方団体控）'!AF25=\"\",\"\",'保険料申告内訳名簿（一人親方団体控）'!AF25)","v":""},{"$f":"IF('保険料申告内訳名簿（一人親方団体控）'!AG25=\"\",\"\",'保険料申告内訳名簿（一人親方団体控）'!AG25)","v":""},{"$f":"IF('保険料申告内訳名簿（一人親方団体控）'!AH25=\"\",\"\",'保険料申告内訳名簿（一人親方団体控）'!AH25)","v":""}]
[null,null,null,null,null,null,null,null,null,null,null,null,null,null,null,null,null,null,{"$f":"IF('保険料申告内訳名簿（一人親方団体控）'!S26=\"\",\"\",'保険料申告内訳名簿（一人親方団体控）'!S26)","v":0},{"$f":"IF('保険料申告内訳名簿（一人親方団体控）'!T26=\"\",\"\",'保険料申告内訳名簿（一人親方団体控）'!T26)","v":""},{"$f":"IF('保険料申告内訳名簿（一人親方団体控）'!U26=\"\",\"\",'保険料申告内訳名簿（一人親方団体控）'!U26)","v":""},{"$f":"IF('保険料申告内訳名簿（一人親方団体控）'!V26=\"\",\"\",'保険料申告内訳名簿（一人親方団体控）'!V26)","v":""},{"$f":"IF('保険料申告内訳名簿（一人親方団体控）'!W26=\"\",\"\",'保険料申告内訳名簿（一人親方団体控）'!W26)","v":""},{"$f":"IF('保険料申告内訳名簿（一人親方団体控）'!X26=\"\",\"\",'保険料申告内訳名簿（一人親方団体控）'!X26)","v":""},null,null,null,null,{"$f":"IF('保険料申告内訳名簿（一人親方団体控）'!AC26=\"\",\"\",'保険料申告内訳名簿（一人親方団体控）'!AC26)","v":0},{"$f":"IF('保険料申告内訳名簿（一人親方団体控）'!AD26=\"\",\"\",'保険料申告内訳名簿（一人親方団体控）'!AD26)","v":""},{"$f":"IF('保険料申告内訳名簿（一人親方団体控）'!AE26=\"\",\"\",'保険料申告内訳名簿（一人親方団体控）'!AE26)","v":""},{"$f":"IF('保険料申告内訳名簿（一人親方団体控）'!AF26=\"\",\"\",'保険料申告内訳名簿（一人親方団体控）'!AF26)","v":""},{"$f":"IF('保険料申告内訳名簿（一人親方団体控）'!AG26=\"\",\"\",'保険料申告内訳名簿（一人親方団体控）'!AG26)","v":""},{"$f":"IF('保険料申告内訳名簿（一人親方団体控）'!AH26=\"\",\"\",'保険料申告内訳名簿（一人親方団体控）'!AH26)","v":""}]
[]
[null,"（注）"]
[null,null,"１）　④欄は月割の対象となる方のみ記入して下さい。"]
[null,null,"２）　月割の対象となる場合の⑤保険料算定基礎額の算定方法"]
[null,null,"２）　月割の対象となる場合の③（給付基礎日額×365÷12）（円未満を切り上げてから）×加入月数"]
[]
[]
[null,"【島根局版】",null,null,null,null,null,null,null,null,null,null,null,null,null,null,null,null,null,null,null,null,null,null,null,null,"監督署用"]
[null,"第２種特別加入保険料申告内訳名簿"]
[null,"（一人親方等）"]
[null,null,null,null,null,null,null,null,null,null,null,null,null,null,null,null,null,null,null,null,null,null,null,null,"（",{"$f":"IF('保険料申告内訳名簿（一人親方団体控）'!Z37=\"\",\"\",'保険料申告内訳名簿（一人親方団体控）'!Z37)","v":0},{"$f":"IF('保険料申告内訳名簿（一人親方団体控）'!AA37=\"\",\"\",'保険料申告内訳名簿（一人親方団体控）'!AA37)","v":""},"枚のうち",null,{"$f":"IF('保険料申告内訳名簿（一人親方団体控）'!AD37=\"\",\"\",'保険料申告内訳名簿（一人親方団体控）'!AD37)","v":2},{"$f":"IF('保険料申告内訳名簿（一人親方団体控）'!AE37=\"\",\"\",'保険料申告内訳名簿（一人親方団体控）'!AE37)","v":""},"枚目",null,"）"]
[]
[null,"労働保険\n番　　　号",null,null,null,null,"府県",null,"所掌","管轄",null,"基幹番号",null,null,null,null,null,"枝番号",null,null,"事業場の\n所在地",null,null,{"$f":"IF('保険料申告内訳名簿（一人親方団体控）'!X39=\"\",\"\",'保険料申告内訳名簿（一人親方団体控）'!X39)","v":""},{"$f":"IF('保険料申告内訳名簿（一人親方団体控）'!Y39=\"\",\"\",'保険料申告内訳名簿（一人親方団体控）'!Y39)","v":""},{"$f":"IF('保険料申告内訳名簿（一人親方団体控）'!Z39=\"\",\"\",'保険料申告内訳名簿（一人親方団体控）'!Z39)","v":""},{"$f":"IF('保険料申告内訳名簿（一人親方団体控）'!AA39=\"\",\"\",'保険料申告内訳名簿（一人親方団体控）'!AA39)","v":""},{"$f":"IF('保険料申告内訳名簿（一人親方団体控）'!AB39=\"\",\"\",'保険料申告内訳名簿（一人親方団体控）'!AB39)","v":""},{"$f":"IF('保険料申告内訳名簿（一人親方団体控）'!AC39=\"\",\"\",'保険料申告内訳名簿（一人親方団体控）'!AC39)","v":""},{"$f":"IF('保険料申告内訳名簿（一人親方団体控）'!AD39=\"\",\"\",'保険料申告内訳名簿（一人親方団体控）'!AD39)","v":""},{"$f":"IF('保険料申告内訳名簿（一人親方団体控）'!AE39=\"\",\"\",'保険料申告内訳名簿（一人親方団体控）'!AE39)","v":""},{"$f":"IF('保険料申告内訳名簿（一人親方団体控）'!AF39=\"\",\"\",'保険料申告内訳名簿（一人親方団体控）'!AF39)","v":""},{"$f":"IF('保険料申告内訳名簿（一人親方団体控）'!AG39=\"\",\"\",'保険料申告内訳名簿（一人親方団体控）'!AG39)","v":""},{"$f":"IF('保険料申告内訳名簿（一人親方団体控）'!AH39=\"\",\"\",'保険料申告内訳名簿（一人親方団体控）'!AH39)","v":""}]
[null,null,null,null,null,null,"3","2",{"$f":"IF('保険料申告内訳名簿（一人親方団体控）'!I40=\"\",\"\",'保険料申告内訳名簿（一人親方団体控）'!I40)","v":""},{"$f":"IF('保険料申告内訳名簿（一人親方団体控）'!J40=\"\",\"\",'保険料申告内訳名簿（一人親方団体控）'!J40)","v":""},{"$f":"IF('保険料申告内訳名簿（一人親方団体控）'!K40=\"\",\"\",'保険料申告内訳名簿（一人親方団体控）'!K40)","v":""},{"$f":"IF('保険料申告内訳名簿（一人親方団体控）'!L40=\"\",\"\",'保険料申告内訳名簿（一人親方団体控）'!L40)","v":""},{"$f":"IF('保険料申告内訳名簿（一人親方団体控）'!M40=\"\",\"\",'保険料申告内訳名簿（一人親方団体控）'!M40)","v":""},{"$f":"IF('保険料申告内訳名簿（一人親方団体控）'!N40=\"\",\"\",'保険料申告内訳名簿（一人親方団体控）'!N40)","v":""},{"$f":"IF('保険料申告内訳名簿（一人親方団体控）'!O40=\"\",\"\",'保険料申告内訳名簿（一人親方団体控）'!O40)","v":""},{"$f":"IF('保険料申告内訳名簿（一人親方団体控）'!P40=\"\",\"\",'保険料申告内訳名簿（一人親方団体控）'!P40)","v":""},{"$f":"IF('保険料申告内訳名簿（一人親方団体控）'!Q40=\"\",\"\",'保険料申告内訳名簿（一人親方団体控）'!Q40)","v":""},{"$f":"IF('保険料申告内訳名簿（一人親方団体控）'!R40=\"\",\"\",'保険料申告内訳名簿（一人親方団体控）'!R40)","v":""},{"$f":"IF('保険料申告内訳名簿（一人親方団体控）'!S40=\"\",\"\",'保険料申告内訳名簿（一人親方団体控）'!S40)","v":""},{"$f":"IF('保険料申告内訳名簿（一人親方団体控）'!T40=\"\",\"\",'保険料申告内訳名簿（一人親方団体控）'!T40)","v":""},"事業場の\n名称",null,null,{"$f":"IF('保険料申告内訳名簿（一人親方団体控）'!X40=\"\",\"\",'保険料申告内訳名簿（一人親方団体控）'!X40)","v":""},{"$f":"IF('保険料申告内訳名簿（一人親方団体控）'!Y40=\"\",\"\",'保険料申告内訳名簿（一人親方団体控）'!Y40)","v":""},{"$f":"IF('保険料申告内訳名簿（一人親方団体控）'!Z40=\"\",\"\",'保険料申告内訳名簿（一人親方団体控）'!Z40)","v":""},{"$f":"IF('保険料申告内訳名簿（一人親方団体控）'!AA40=\"\",\"\",'保険料申告内訳名簿（一人親方団体控）'!AA40)","v":""},{"$f":"IF('保険料申告内訳名簿（一人親方団体控）'!AB40=\"\",\"\",'保険料申告内訳名簿（一人親方団体控）'!AB40)","v":""},{"$f":"IF('保険料申告内訳名簿（一人親方団体控）'!AC40=\"\",\"\",'保険料申告内訳名簿（一人親方団体控）'!AC40)","v":""},{"$f":"IF('保険料申告内訳名簿（一人親方団体控）'!AD40=\"\",\"\",'保険料申告内訳名簿（一人親方団体控）'!AD40)","v":""},{"$f":"IF('保険料申告内訳名簿（一人親方団体控）'!AE40=\"\",\"\",'保険料申告内訳名簿（一人親方団体控）'!AE40)","v":""},{"$f":"IF('保険料申告内訳名簿（一人親方団体控）'!AF40=\"\",\"\",'保険料申告内訳名簿（一人親方団体控）'!AF40)","v":""},{"$f":"IF('保険料申告内訳名簿（一人親方団体控）'!AG40=\"\",\"\",'保険料申告内訳名簿（一人親方団体控）'!AG40)","v":""},{"$f":"IF('保険料申告内訳名簿（一人親方団体控）'!AH40=\"\",\"\",'保険料申告内訳名簿（一人親方団体控）'!AH40)","v":""}]
[null,"①\n整理\n番号",null,"②\n氏名",null,null,null,null,null,null,null,null,null,null,"令 和",null,null,{"$f":"IF('保険料申告内訳名簿（一人親方団体控）'!R41=\"\",\"\",'保険料申告内訳名簿（一人親方団体控）'!R41)","v":""},{"$f":"IF('保険料申告内訳名簿（一人親方団体控）'!S41=\"\",\"\",'保険料申告内訳名簿（一人親方団体控）'!S41)","v":""},{"$f":"IF('保険料申告内訳名簿（一人親方団体控）'!T41=\"\",\"\",'保険料申告内訳名簿（一人親方団体控）'!T41)","v":""},null,null,null,"年 度 確 定 ","令 和",null,null,{"$f":"IF('保険料申告内訳名簿（一人親方団体控）'!AB41=\"\",\"\",'保険料申告内訳名簿（一人親方団体控）'!AB41)","v":""},{"$f":"IF('保険料申告内訳名簿（一人親方団体控）'!AC41=\"\",\"\",'保険料申告内訳名簿（一人親方団体控）'!AC41)","v":""},{"$f":"IF('保険料申告内訳名簿（一人親方団体控）'!AD41=\"\",\"\",'保険料申告内訳名簿（一人親方団体控）'!AD41)","v":""},null,null,null,"年 度 概 算 "]
[null,null,null,null,null,null,null,"③　\n給付基礎日額",null,null,null,"④年度中途加入・脱退",null,null,null,null,null,null,"⑤\n保険料算定基礎額",null,null,null,null,null,"⑥\n給付基礎日額",null,null,null,"⑦\n保険料算定基礎額"]
[null,null,null,null,null,null,null,null,null,null,null,"加入・脱退年月日",null,null,null,null,"加入月数"]
[null,{"$f":"IF('保険料申告内訳名簿（一人親方団体控）'!B44=\"\",\"\",'保険料申告内訳名簿（一人親方団体控）'!B44)","v":""},{"$f":"IF('保険料申告内訳名簿（一人親方団体控）'!C44=\"\",\"\",'保険料申告内訳名簿（一人親方団体控）'!C44)","v":""},{"$f":"IF('保険料申告内訳名簿（一人親方団体控）'!D44=\"\",\"\",'保険料申告内訳名簿（一人親方団体控）'!D44)","v":""},{"$f":"IF('保険料申告内訳名簿（一人親方団体控）'!E44=\"\",\"\",'保険料申告内訳名簿（一人親方団体控）'!E44)","v":""},{"$f":"IF('保険料申告内訳名簿（一人親方団体控）'!F44=\"\",\"\",'保険料申告内訳名簿（一人親方団体控）'!F44)","v":""},{"$f":"IF('保険料申告内訳名簿（一人親方団体控）'!G44=\"\",\"\",'保険料申告内訳名簿（一人親方団体控）'!G44)","v":""},{"$f":"IF('保険料申告内訳名簿（一人親方団体控）'!H44=\"\",\"\",'保険料申告内訳名簿（一人親方団体控）'!H44)","v":""},{"$f":"IF('保険料申告内訳名簿（一人親方団体控）'!I44=\"\",\"\",'保険料申告内訳名簿（一人親方団体控）'!I44)","v":""},{"$f":"IF('保険料申告内訳名簿（一人親方団体控）'!J44=\"\",\"\",'保険料申告内訳名簿（一人親方団体控）'!J44)","v":""},{"$f":"IF('保険料申告内訳名簿（一人親方団体控）'!K44=\"\",\"\",'保険料申告内訳名簿（一人親方団体控）'!K44)","v":""},{"$f":"IF('保険料申告内訳名簿（一人親方団体控）'!L44=\"\",\"\",'保険料申告内訳名簿（一人親方団体控）'!L44)","v":""},{"$f":"IF('保険料申告内訳名簿（一人親方団体控）'!M44=\"\",\"\",'保険料申告内訳名簿（一人親方団体控）'!M44)","v":""},{"$f":"IF('保険料申告内訳名簿（一人親方団体控）'!N44=\"\",\"\",'保険料申告内訳名簿（一人親方団体控）'!N44)","v":""},{"$f":"IF('保険料申告内訳名簿（一人親方団体控）'!O44=\"\",\"\",'保険料申告内訳名簿（一人親方団体控）'!O44)","v":""},{"$f":"IF('保険料申告内訳名簿（一人親方団体控）'!P44=\"\",\"\",'保険料申告内訳名簿（一人親方団体控）'!P44)","v":""},{"$f":"IF('保険料申告内訳名簿（一人親方団体控）'!Q44=\"\",\"\",'保険料申告内訳名簿（一人親方団体控）'!Q44)","v":""},{"$f":"IF('保険料申告内訳名簿（一人親方団体控）'!R44=\"\",\"\",'保険料申告内訳名簿（一人親方団体控）'!R44)","v":""},{"$f":"IF('保険料申告内訳名簿（一人親方団体控）'!S44=\"\",\"\",'保険料申告内訳名簿（一人親方団体控）'!S44)","v":0},{"$f":"IF('保険料申告内訳名簿（一人親方団体控）'!T44=\"\",\"\",'保険料申告内訳名簿（一人親方団体控）'!T44)","v":""},{"$f":"IF('保険料申告内訳名簿（一人親方団体控）'!U44=\"\",\"\",'保険料申告内訳名簿（一人親方団体控）'!U44)","v":""},{"$f":"IF('保険料申告内訳名簿（一人親方団体控）'!V44=\"\",\"\",'保険料申告内訳名簿（一人親方団体控）'!V44)","v":""},{"$f":"IF('保険料申告内訳名簿（一人親方団体控）'!W44=\"\",\"\",'保険料申告内訳名簿（一人親方団体控）'!W44)","v":""},{"$f":"IF('保険料申告内訳名簿（一人親方団体控）'!X44=\"\",\"\",'保険料申告内訳名簿（一人親方団体控）'!X44)","v":""},{"$f":"IF('保険料申告内訳名簿（一人親方団体控）'!Y44=\"\",\"\",'保険料申告内訳名簿（一人親方団体控）'!Y44)","v":""},{"$f":"IF('保険料申告内訳名簿（一人親方団体控）'!Z44=\"\",\"\",'保険料申告内訳名簿（一人親方団体控）'!Z44)","v":""},{"$f":"IF('保険料申告内訳名簿（一人親方団体控）'!AA44=\"\",\"\",'保険料申告内訳名簿（一人親方団体控）'!AA44)","v":""},{"$f":"IF('保険料申告内訳名簿（一人親方団体控）'!AB44=\"\",\"\",'保険料申告内訳名簿（一人親方団体控）'!AB44)","v":""},{"$f":"IF('保険料申告内訳名簿（一人親方団体控）'!AC44=\"\",\"\",'保険料申告内訳名簿（一人親方団体控）'!AC44)","v":0},{"$f":"IF('保険料申告内訳名簿（一人親方団体控）'!AD44=\"\",\"\",'保険料申告内訳名簿（一人親方団体控）'!AD44)","v":""},{"$f":"IF('保険料申告内訳名簿（一人親方団体控）'!AE44=\"\",\"\",'保険料申告内訳名簿（一人親方団体控）'!AE44)","v":""},{"$f":"IF('保険料申告内訳名簿（一人親方団体控）'!AF44=\"\",\"\",'保険料申告内訳名簿（一人親方団体控）'!AF44)","v":""},{"$f":"IF('保険料申告内訳名簿（一人親方団体控）'!AG44=\"\",\"\",'保険料申告内訳名簿（一人親方団体控）'!AG44)","v":""},{"$f":"IF('保険料申告内訳名簿（一人親方団体控）'!AH44=\"\",\"\",'保険料申告内訳名簿（一人親方団体控）'!AH44)","v":""}]
[null,{"$f":"IF('保険料申告内訳名簿（一人親方団体控）'!B45=\"\",\"\",'保険料申告内訳名簿（一人親方団体控）'!B45)","v":""},{"$f":"IF('保険料申告内訳名簿（一人親方団体控）'!C45=\"\",\"\",'保険料申告内訳名簿（一人親方団体控）'!C45)","v":""},{"$f":"IF('保険料申告内訳名簿（一人親方団体控）'!D45=\"\",\"\",'保険料申告内訳名簿（一人親方団体控）'!D45)","v":""},{"$f":"IF('保険料申告内訳名簿（一人親方団体控）'!E45=\"\",\"\",'保険料申告内訳名簿（一人親方団体控）'!E45)","v":""},{"$f":"IF('保険料申告内訳名簿（一人親方団体控）'!F45=\"\",\"\",'保険料申告内訳名簿（一人親方団体控）'!F45)","v":""},{"$f":"IF('保険料申告内訳名簿（一人親方団体控）'!G45=\"\",\"\",'保険料申告内訳名簿（一人親方団体控）'!G45)","v":""},{"$f":"IF('保険料申告内訳名簿（一人親方団体控）'!H45=\"\",\"\",'保険料申告内訳名簿（一人親方団体控）'!H45)","v":""},{"$f":"IF('保険料申告内訳名簿（一人親方団体控）'!I45=\"\",\"\",'保険料申告内訳名簿（一人親方団体控）'!I45)","v":""},{"$f":"IF('保険料申告内訳名簿（一人親方団体控）'!J45=\"\",\"\",'保険料申告内訳名簿（一人親方団体控）'!J45)","v":""},{"$f":"IF('保険料申告内訳名簿（一人親方団体控）'!K45=\"\",\"\",'保険料申告内訳名簿（一人親方団体控）'!K45)","v":""},{"$f":"IF('保険料申告内訳名簿（一人親方団体控）'!L45=\"\",\"\",'保険料申告内訳名簿（一人親方団体控）'!L45)","v":""},{"$f":"IF('保険料申告内訳名簿（一人親方団体控）'!M45=\"\",\"\",'保険料申告内訳名簿（一人親方団体控）'!M45)","v":""},{"$f":"IF('保険料申告内訳名簿（一人親方団体控）'!N45=\"\",\"\",'保険料申告内訳名簿（一人親方団体控）'!N45)","v":""},{"$f":"IF('保険料申告内訳名簿（一人親方団体控）'!O45=\"\",\"\",'保険料申告内訳名簿（一人親方団体控）'!O45)","v":""},{"$f":"IF('保険料申告内訳名簿（一人親方団体控）'!P45=\"\",\"\",'保険料申告内訳名簿（一人親方団体控）'!P45)","v":""},{"$f":"IF('保険料申告内訳名簿（一人親方団体控）'!Q45=\"\",\"\",'保険料申告内訳名簿（一人親方団体控）'!Q45)","v":""},{"$f":"IF('保険料申告内訳名簿（一人親方団体控）'!R45=\"\",\"\",'保険料申告内訳名簿（一人親方団体控）'!R45)","v":""},{"$f":"IF('保険料申告内訳名簿（一人親方団体控）'!S45=\"\",\"\",'保険料申告内訳名簿（一人親方団体控）'!S45)","v":0},{"$f":"IF('保険料申告内訳名簿（一人親方団体控）'!T45=\"\",\"\",'保険料申告内訳名簿（一人親方団体控）'!T45)","v":""},{"$f":"IF('保険料申告内訳名簿（一人親方団体控）'!U45=\"\",\"\",'保険料申告内訳名簿（一人親方団体控）'!U45)","v":""},{"$f":"IF('保険料申告内訳名簿（一人親方団体控）'!V45=\"\",\"\",'保険料申告内訳名簿（一人親方団体控）'!V45)","v":""},{"$f":"IF('保険料申告内訳名簿（一人親方団体控）'!W45=\"\",\"\",'保険料申告内訳名簿（一人親方団体控）'!W45)","v":""},{"$f":"IF('保険料申告内訳名簿（一人親方団体控）'!X45=\"\",\"\",'保険料申告内訳名簿（一人親方団体控）'!X45)","v":""},{"$f":"IF('保険料申告内訳名簿（一人親方団体控）'!Y45=\"\",\"\",'保険料申告内訳名簿（一人親方団体控）'!Y45)","v":""},{"$f":"IF('保険料申告内訳名簿（一人親方団体控）'!Z45=\"\",\"\",'保険料申告内訳名簿（一人親方団体控）'!Z45)","v":""},{"$f":"IF('保険料申告内訳名簿（一人親方団体控）'!AA45=\"\",\"\",'保険料申告内訳名簿（一人親方団体控）'!AA45)","v":""},{"$f":"IF('保険料申告内訳名簿（一人親方団体控）'!AB45=\"\",\"\",'保険料申告内訳名簿（一人親方団体控）'!AB45)","v":""},{"$f":"IF('保険料申告内訳名簿（一人親方団体控）'!AC45=\"\",\"\",'保険料申告内訳名簿（一人親方団体控）'!AC45)","v":0},{"$f":"IF('保険料申告内訳名簿（一人親方団体控）'!AD45=\"\",\"\",'保険料申告内訳名簿（一人親方団体控）'!AD45)","v":""},{"$f":"IF('保険料申告内訳名簿（一人親方団体控）'!AE45=\"\",\"\",'保険料申告内訳名簿（一人親方団体控）'!AE45)","v":""},{"$f":"IF('保険料申告内訳名簿（一人親方団体控）'!AF45=\"\",\"\",'保険料申告内訳名簿（一人親方団体控）'!AF45)","v":""},{"$f":"IF('保険料申告内訳名簿（一人親方団体控）'!AG45=\"\",\"\",'保険料申告内訳名簿（一人親方団体控）'!AG45)","v":""},{"$f":"IF('保険料申告内訳名簿（一人親方団体控）'!AH45=\"\",\"\",'保険料申告内訳名簿（一人親方団体控）'!AH45)","v":""}]
[null,{"$f":"IF('保険料申告内訳名簿（一人親方団体控）'!B46=\"\",\"\",'保険料申告内訳名簿（一人親方団体控）'!B46)","v":""},{"$f":"IF('保険料申告内訳名簿（一人親方団体控）'!C46=\"\",\"\",'保険料申告内訳名簿（一人親方団体控）'!C46)","v":""},{"$f":"IF('保険料申告内訳名簿（一人親方団体控）'!D46=\"\",\"\",'保険料申告内訳名簿（一人親方団体控）'!D46)","v":""},{"$f":"IF('保険料申告内訳名簿（一人親方団体控）'!E46=\"\",\"\",'保険料申告内訳名簿（一人親方団体控）'!E46)","v":""},{"$f":"IF('保険料申告内訳名簿（一人親方団体控）'!F46=\"\",\"\",'保険料申告内訳名簿（一人親方団体控）'!F46)","v":""},{"$f":"IF('保険料申告内訳名簿（一人親方団体控）'!G46=\"\",\"\",'保険料申告内訳名簿（一人親方団体控）'!G46)","v":""},{"$f":"IF('保険料申告内訳名簿（一人親方団体控）'!H46=\"\",\"\",'保険料申告内訳名簿（一人親方団体控）'!H46)","v":""},{"$f":"IF('保険料申告内訳名簿（一人親方団体控）'!I46=\"\",\"\",'保険料申告内訳名簿（一人親方団体控）'!I46)","v":""},{"$f":"IF('保険料申告内訳名簿（一人親方団体控）'!J46=\"\",\"\",'保険料申告内訳名簿（一人親方団体控）'!J46)","v":""},{"$f":"IF('保険料申告内訳名簿（一人親方団体控）'!K46=\"\",\"\",'保険料申告内訳名簿（一人親方団体控）'!K46)","v":""},{"$f":"IF('保険料申告内訳名簿（一人親方団体控）'!L46=\"\",\"\",'保険料申告内訳名簿（一人親方団体控）'!L46)","v":""},{"$f":"IF('保険料申告内訳名簿（一人親方団体控）'!M46=\"\",\"\",'保険料申告内訳名簿（一人親方団体控）'!M46)","v":""},{"$f":"IF('保険料申告内訳名簿（一人親方団体控）'!N46=\"\",\"\",'保険料申告内訳名簿（一人親方団体控）'!N46)","v":""},{"$f":"IF('保険料申告内訳名簿（一人親方団体控）'!O46=\"\",\"\",'保険料申告内訳名簿（一人親方団体控）'!O46)","v":""},{"$f":"IF('保険料申告内訳名簿（一人親方団体控）'!P46=\"\",\"\",'保険料申告内訳名簿（一人親方団体控）'!P46)","v":""},{"$f":"IF('保険料申告内訳名簿（一人親方団体控）'!Q46=\"\",\"\",'保険料申告内訳名簿（一人親方団体控）'!Q46)","v":""},{"$f":"IF('保険料申告内訳名簿（一人親方団体控）'!R46=\"\",\"\",'保険料申告内訳名簿（一人親方団体控）'!R46)","v":""},{"$f":"IF('保険料申告内訳名簿（一人親方団体控）'!S46=\"\",\"\",'保険料申告内訳名簿（一人親方団体控）'!S46)","v":0},{"$f":"IF('保険料申告内訳名簿（一人親方団体控）'!T46=\"\",\"\",'保険料申告内訳名簿（一人親方団体控）'!T46)","v":""},{"$f":"IF('保険料申告内訳名簿（一人親方団体控）'!U46=\"\",\"\",'保険料申告内訳名簿（一人親方団体控）'!U46)","v":""},{"$f":"IF('保険料申告内訳名簿（一人親方団体控）'!V46=\"\",\"\",'保険料申告内訳名簿（一人親方団体控）'!V46)","v":""},{"$f":"IF('保険料申告内訳名簿（一人親方団体控）'!W46=\"\",\"\",'保険料申告内訳名簿（一人親方団体控）'!W46)","v":""},{"$f":"IF('保険料申告内訳名簿（一人親方団体控）'!X46=\"\",\"\",'保険料申告内訳名簿（一人親方団体控）'!X46)","v":""},{"$f":"IF('保険料申告内訳名簿（一人親方団体控）'!Y46=\"\",\"\",'保険料申告内訳名簿（一人親方団体控）'!Y46)","v":""},{"$f":"IF('保険料申告内訳名簿（一人親方団体控）'!Z46=\"\",\"\",'保険料申告内訳名簿（一人親方団体控）'!Z46)","v":""},{"$f":"IF('保険料申告内訳名簿（一人親方団体控）'!AA46=\"\",\"\",'保険料申告内訳名簿（一人親方団体控）'!AA46)","v":""},{"$f":"IF('保険料申告内訳名簿（一人親方団体控）'!AB46=\"\",\"\",'保険料申告内訳名簿（一人親方団体控）'!AB46)","v":""},{"$f":"IF('保険料申告内訳名簿（一人親方団体控）'!AC46=\"\",\"\",'保険料申告内訳名簿（一人親方団体控）'!AC46)","v":0},{"$f":"IF('保険料申告内訳名簿（一人親方団体控）'!AD46=\"\",\"\",'保険料申告内訳名簿（一人親方団体控）'!AD46)","v":""},{"$f":"IF('保険料申告内訳名簿（一人親方団体控）'!AE46=\"\",\"\",'保険料申告内訳名簿（一人親方団体控）'!AE46)","v":""},{"$f":"IF('保険料申告内訳名簿（一人親方団体控）'!AF46=\"\",\"\",'保険料申告内訳名簿（一人親方団体控）'!AF46)","v":""},{"$f":"IF('保険料申告内訳名簿（一人親方団体控）'!AG46=\"\",\"\",'保険料申告内訳名簿（一人親方団体控）'!AG46)","v":""},{"$f":"IF('保険料申告内訳名簿（一人親方団体控）'!AH46=\"\",\"\",'保険料申告内訳名簿（一人親方団体控）'!AH46)","v":""}]
[null,{"$f":"IF('保険料申告内訳名簿（一人親方団体控）'!B47=\"\",\"\",'保険料申告内訳名簿（一人親方団体控）'!B47)","v":""},{"$f":"IF('保険料申告内訳名簿（一人親方団体控）'!C47=\"\",\"\",'保険料申告内訳名簿（一人親方団体控）'!C47)","v":""},{"$f":"IF('保険料申告内訳名簿（一人親方団体控）'!D47=\"\",\"\",'保険料申告内訳名簿（一人親方団体控）'!D47)","v":""},{"$f":"IF('保険料申告内訳名簿（一人親方団体控）'!E47=\"\",\"\",'保険料申告内訳名簿（一人親方団体控）'!E47)","v":""},{"$f":"IF('保険料申告内訳名簿（一人親方団体控）'!F47=\"\",\"\",'保険料申告内訳名簿（一人親方団体控）'!F47)","v":""},{"$f":"IF('保険料申告内訳名簿（一人親方団体控）'!G47=\"\",\"\",'保険料申告内訳名簿（一人親方団体控）'!G47)","v":""},{"$f":"IF('保険料申告内訳名簿（一人親方団体控）'!H47=\"\",\"\",'保険料申告内訳名簿（一人親方団体控）'!H47)","v":""},{"$f":"IF('保険料申告内訳名簿（一人親方団体控）'!I47=\"\",\"\",'保険料申告内訳名簿（一人親方団体控）'!I47)","v":""},{"$f":"IF('保険料申告内訳名簿（一人親方団体控）'!J47=\"\",\"\",'保険料申告内訳名簿（一人親方団体控）'!J47)","v":""},{"$f":"IF('保険料申告内訳名簿（一人親方団体控）'!K47=\"\",\"\",'保険料申告内訳名簿（一人親方団体控）'!K47)","v":""},{"$f":"IF('保険料申告内訳名簿（一人親方団体控）'!L47=\"\",\"\",'保険料申告内訳名簿（一人親方団体控）'!L47)","v":""},{"$f":"IF('保険料申告内訳名簿（一人親方団体控）'!M47=\"\",\"\",'保険料申告内訳名簿（一人親方団体控）'!M47)","v":""},{"$f":"IF('保険料申告内訳名簿（一人親方団体控）'!N47=\"\",\"\",'保険料申告内訳名簿（一人親方団体控）'!N47)","v":""},{"$f":"IF('保険料申告内訳名簿（一人親方団体控）'!O47=\"\",\"\",'保険料申告内訳名簿（一人親方団体控）'!O47)","v":""},{"$f":"IF('保険料申告内訳名簿（一人親方団体控）'!P47=\"\",\"\",'保険料申告内訳名簿（一人親方団体控）'!P47)","v":""},{"$f":"IF('保険料申告内訳名簿（一人親方団体控）'!Q47=\"\",\"\",'保険料申告内訳名簿（一人親方団体控）'!Q47)","v":""},{"$f":"IF('保険料申告内訳名簿（一人親方団体控）'!R47=\"\",\"\",'保険料申告内訳名簿（一人親方団体控）'!R47)","v":""},{"$f":"IF('保険料申告内訳名簿（一人親方団体控）'!S47=\"\",\"\",'保険料申告内訳名簿（一人親方団体控）'!S47)","v":0},{"$f":"IF('保険料申告内訳名簿（一人親方団体控）'!T47=\"\",\"\",'保険料申告内訳名簿（一人親方団体控）'!T47)","v":""},{"$f":"IF('保険料申告内訳名簿（一人親方団体控）'!U47=\"\",\"\",'保険料申告内訳名簿（一人親方団体控）'!U47)","v":""},{"$f":"IF('保険料申告内訳名簿（一人親方団体控）'!V47=\"\",\"\",'保険料申告内訳名簿（一人親方団体控）'!V47)","v":""},{"$f":"IF('保険料申告内訳名簿（一人親方団体控）'!W47=\"\",\"\",'保険料申告内訳名簿（一人親方団体控）'!W47)","v":""},{"$f":"IF('保険料申告内訳名簿（一人親方団体控）'!X47=\"\",\"\",'保険料申告内訳名簿（一人親方団体控）'!X47)","v":""},{"$f":"IF('保険料申告内訳名簿（一人親方団体控）'!Y47=\"\",\"\",'保険料申告内訳名簿（一人親方団体控）'!Y47)","v":""},{"$f":"IF('保険料申告内訳名簿（一人親方団体控）'!Z47=\"\",\"\",'保険料申告内訳名簿（一人親方団体控）'!Z47)","v":""},{"$f":"IF('保険料申告内訳名簿（一人親方団体控）'!AA47=\"\",\"\",'保険料申告内訳名簿（一人親方団体控）'!AA47)","v":""},{"$f":"IF('保険料申告内訳名簿（一人親方団体控）'!AB47=\"\",\"\",'保険料申告内訳名簿（一人親方団体控）'!AB47)","v":""},{"$f":"IF('保険料申告内訳名簿（一人親方団体控）'!AC47=\"\",\"\",'保険料申告内訳名簿（一人親方団体控）'!AC47)","v":0},{"$f":"IF('保険料申告内訳名簿（一人親方団体控）'!AD47=\"\",\"\",'保険料申告内訳名簿（一人親方団体控）'!AD47)","v":""},{"$f":"IF('保険料申告内訳名簿（一人親方団体控）'!AE47=\"\",\"\",'保険料申告内訳名簿（一人親方団体控）'!AE47)","v":""},{"$f":"IF('保険料申告内訳名簿（一人親方団体控）'!AF47=\"\",\"\",'保険料申告内訳名簿（一人親方団体控）'!AF47)","v":""},{"$f":"IF('保険料申告内訳名簿（一人親方団体控）'!AG47=\"\",\"\",'保険料申告内訳名簿（一人親方団体控）'!AG47)","v":""},{"$f":"IF('保険料申告内訳名簿（一人親方団体控）'!AH47=\"\",\"\",'保険料申告内訳名簿（一人親方団体控）'!AH47)","v":""}]
[null,{"$f":"IF('保険料申告内訳名簿（一人親方団体控）'!B48=\"\",\"\",'保険料申告内訳名簿（一人親方団体控）'!B48)","v":""},{"$f":"IF('保険料申告内訳名簿（一人親方団体控）'!C48=\"\",\"\",'保険料申告内訳名簿（一人親方団体控）'!C48)","v":""},{"$f":"IF('保険料申告内訳名簿（一人親方団体控）'!D48=\"\",\"\",'保険料申告内訳名簿（一人親方団体控）'!D48)","v":""},{"$f":"IF('保険料申告内訳名簿（一人親方団体控）'!E48=\"\",\"\",'保険料申告内訳名簿（一人親方団体控）'!E48)","v":""},{"$f":"IF('保険料申告内訳名簿（一人親方団体控）'!F48=\"\",\"\",'保険料申告内訳名簿（一人親方団体控）'!F48)","v":""},{"$f":"IF('保険料申告内訳名簿（一人親方団体控）'!G48=\"\",\"\",'保険料申告内訳名簿（一人親方団体控）'!G48)","v":""},{"$f":"IF('保険料申告内訳名簿（一人親方団体控）'!H48=\"\",\"\",'保険料申告内訳名簿（一人親方団体控）'!H48)","v":""},{"$f":"IF('保険料申告内訳名簿（一人親方団体控）'!I48=\"\",\"\",'保険料申告内訳名簿（一人親方団体控）'!I48)","v":""},{"$f":"IF('保険料申告内訳名簿（一人親方団体控）'!J48=\"\",\"\",'保険料申告内訳名簿（一人親方団体控）'!J48)","v":""},{"$f":"IF('保険料申告内訳名簿（一人親方団体控）'!K48=\"\",\"\",'保険料申告内訳名簿（一人親方団体控）'!K48)","v":""},{"$f":"IF('保険料申告内訳名簿（一人親方団体控）'!L48=\"\",\"\",'保険料申告内訳名簿（一人親方団体控）'!L48)","v":""},{"$f":"IF('保険料申告内訳名簿（一人親方団体控）'!M48=\"\",\"\",'保険料申告内訳名簿（一人親方団体控）'!M48)","v":""},{"$f":"IF('保険料申告内訳名簿（一人親方団体控）'!N48=\"\",\"\",'保険料申告内訳名簿（一人親方団体控）'!N48)","v":""},{"$f":"IF('保険料申告内訳名簿（一人親方団体控）'!O48=\"\",\"\",'保険料申告内訳名簿（一人親方団体控）'!O48)","v":""},{"$f":"IF('保険料申告内訳名簿（一人親方団体控）'!P48=\"\",\"\",'保険料申告内訳名簿（一人親方団体控）'!P48)","v":""},{"$f":"IF('保険料申告内訳名簿（一人親方団体控）'!Q48=\"\",\"\",'保険料申告内訳名簿（一人親方団体控）'!Q48)","v":""},{"$f":"IF('保険料申告内訳名簿（一人親方団体控）'!R48=\"\",\"\",'保険料申告内訳名簿（一人親方団体控）'!R48)","v":""},{"$f":"IF('保険料申告内訳名簿（一人親方団体控）'!S48=\"\",\"\",'保険料申告内訳名簿（一人親方団体控）'!S48)","v":0},{"$f":"IF('保険料申告内訳名簿（一人親方団体控）'!T48=\"\",\"\",'保険料申告内訳名簿（一人親方団体控）'!T48)","v":""},{"$f":"IF('保険料申告内訳名簿（一人親方団体控）'!U48=\"\",\"\",'保険料申告内訳名簿（一人親方団体控）'!U48)","v":""},{"$f":"IF('保険料申告内訳名簿（一人親方団体控）'!V48=\"\",\"\",'保険料申告内訳名簿（一人親方団体控）'!V48)","v":""},{"$f":"IF('保険料申告内訳名簿（一人親方団体控）'!W48=\"\",\"\",'保険料申告内訳名簿（一人親方団体控）'!W48)","v":""},{"$f":"IF('保険料申告内訳名簿（一人親方団体控）'!X48=\"\",\"\",'保険料申告内訳名簿（一人親方団体控）'!X48)","v":""},{"$f":"IF('保険料申告内訳名簿（一人親方団体控）'!Y48=\"\",\"\",'保険料申告内訳名簿（一人親方団体控）'!Y48)","v":""},{"$f":"IF('保険料申告内訳名簿（一人親方団体控）'!Z48=\"\",\"\",'保険料申告内訳名簿（一人親方団体控）'!Z48)","v":""},{"$f":"IF('保険料申告内訳名簿（一人親方団体控）'!AA48=\"\",\"\",'保険料申告内訳名簿（一人親方団体控）'!AA48)","v":""},{"$f":"IF('保険料申告内訳名簿（一人親方団体控）'!AB48=\"\",\"\",'保険料申告内訳名簿（一人親方団体控）'!AB48)","v":""},{"$f":"IF('保険料申告内訳名簿（一人親方団体控）'!AC48=\"\",\"\",'保険料申告内訳名簿（一人親方団体控）'!AC48)","v":0},{"$f":"IF('保険料申告内訳名簿（一人親方団体控）'!AD48=\"\",\"\",'保険料申告内訳名簿（一人親方団体控）'!AD48)","v":""},{"$f":"IF('保険料申告内訳名簿（一人親方団体控）'!AE48=\"\",\"\",'保険料申告内訳名簿（一人親方団体控）'!AE48)","v":""},{"$f":"IF('保険料申告内訳名簿（一人親方団体控）'!AF48=\"\",\"\",'保険料申告内訳名簿（一人親方団体控）'!AF48)","v":""},{"$f":"IF('保険料申告内訳名簿（一人親方団体控）'!AG48=\"\",\"\",'保険料申告内訳名簿（一人親方団体控）'!AG48)","v":""},{"$f":"IF('保険料申告内訳名簿（一人親方団体控）'!AH48=\"\",\"\",'保険料申告内訳名簿（一人親方団体控）'!AH48)","v":""}]
[null,{"$f":"IF('保険料申告内訳名簿（一人親方団体控）'!B49=\"\",\"\",'保険料申告内訳名簿（一人親方団体控）'!B49)","v":""},{"$f":"IF('保険料申告内訳名簿（一人親方団体控）'!C49=\"\",\"\",'保険料申告内訳名簿（一人親方団体控）'!C49)","v":""},{"$f":"IF('保険料申告内訳名簿（一人親方団体控）'!D49=\"\",\"\",'保険料申告内訳名簿（一人親方団体控）'!D49)","v":""},{"$f":"IF('保険料申告内訳名簿（一人親方団体控）'!E49=\"\",\"\",'保険料申告内訳名簿（一人親方団体控）'!E49)","v":""},{"$f":"IF('保険料申告内訳名簿（一人親方団体控）'!F49=\"\",\"\",'保険料申告内訳名簿（一人親方団体控）'!F49)","v":""},{"$f":"IF('保険料申告内訳名簿（一人親方団体控）'!G49=\"\",\"\",'保険料申告内訳名簿（一人親方団体控）'!G49)","v":""},{"$f":"IF('保険料申告内訳名簿（一人親方団体控）'!H49=\"\",\"\",'保険料申告内訳名簿（一人親方団体控）'!H49)","v":""},{"$f":"IF('保険料申告内訳名簿（一人親方団体控）'!I49=\"\",\"\",'保険料申告内訳名簿（一人親方団体控）'!I49)","v":""},{"$f":"IF('保険料申告内訳名簿（一人親方団体控）'!J49=\"\",\"\",'保険料申告内訳名簿（一人親方団体控）'!J49)","v":""},{"$f":"IF('保険料申告内訳名簿（一人親方団体控）'!K49=\"\",\"\",'保険料申告内訳名簿（一人親方団体控）'!K49)","v":""},{"$f":"IF('保険料申告内訳名簿（一人親方団体控）'!L49=\"\",\"\",'保険料申告内訳名簿（一人親方団体控）'!L49)","v":""},{"$f":"IF('保険料申告内訳名簿（一人親方団体控）'!M49=\"\",\"\",'保険料申告内訳名簿（一人親方団体控）'!M49)","v":""},{"$f":"IF('保険料申告内訳名簿（一人親方団体控）'!N49=\"\",\"\",'保険料申告内訳名簿（一人親方団体控）'!N49)","v":""},{"$f":"IF('保険料申告内訳名簿（一人親方団体控）'!O49=\"\",\"\",'保険料申告内訳名簿（一人親方団体控）'!O49)","v":""},{"$f":"IF('保険料申告内訳名簿（一人親方団体控）'!P49=\"\",\"\",'保険料申告内訳名簿（一人親方団体控）'!P49)","v":""},{"$f":"IF('保険料申告内訳名簿（一人親方団体控）'!Q49=\"\",\"\",'保険料申告内訳名簿（一人親方団体控）'!Q49)","v":""},{"$f":"IF('保険料申告内訳名簿（一人親方団体控）'!R49=\"\",\"\",'保険料申告内訳名簿（一人親方団体控）'!R49)","v":""},{"$f":"IF('保険料申告内訳名簿（一人親方団体控）'!S49=\"\",\"\",'保険料申告内訳名簿（一人親方団体控）'!S49)","v":0},{"$f":"IF('保険料申告内訳名簿（一人親方団体控）'!T49=\"\",\"\",'保険料申告内訳名簿（一人親方団体控）'!T49)","v":""},{"$f":"IF('保険料申告内訳名簿（一人親方団体控）'!U49=\"\",\"\",'保険料申告内訳名簿（一人親方団体控）'!U49)","v":""},{"$f":"IF('保険料申告内訳名簿（一人親方団体控）'!V49=\"\",\"\",'保険料申告内訳名簿（一人親方団体控）'!V49)","v":""},{"$f":"IF('保険料申告内訳名簿（一人親方団体控）'!W49=\"\",\"\",'保険料申告内訳名簿（一人親方団体控）'!W49)","v":""},{"$f":"IF('保険料申告内訳名簿（一人親方団体控）'!X49=\"\",\"\",'保険料申告内訳名簿（一人親方団体控）'!X49)","v":""},{"$f":"IF('保険料申告内訳名簿（一人親方団体控）'!Y49=\"\",\"\",'保険料申告内訳名簿（一人親方団体控）'!Y49)","v":""},{"$f":"IF('保険料申告内訳名簿（一人親方団体控）'!Z49=\"\",\"\",'保険料申告内訳名簿（一人親方団体控）'!Z49)","v":""},{"$f":"IF('保険料申告内訳名簿（一人親方団体控）'!AA49=\"\",\"\",'保険料申告内訳名簿（一人親方団体控）'!AA49)","v":""},{"$f":"IF('保険料申告内訳名簿（一人親方団体控）'!AB49=\"\",\"\",'保険料申告内訳名簿（一人親方団体控）'!AB49)","v":""},{"$f":"IF('保険料申告内訳名簿（一人親方団体控）'!AC49=\"\",\"\",'保険料申告内訳名簿（一人親方団体控）'!AC49)","v":0},{"$f":"IF('保険料申告内訳名簿（一人親方団体控）'!AD49=\"\",\"\",'保険料申告内訳名簿（一人親方団体控）'!AD49)","v":""},{"$f":"IF('保険料申告内訳名簿（一人親方団体控）'!AE49=\"\",\"\",'保険料申告内訳名簿（一人親方団体控）'!AE49)","v":""},{"$f":"IF('保険料申告内訳名簿（一人親方団体控）'!AF49=\"\",\"\",'保険料申告内訳名簿（一人親方団体控）'!AF49)","v":""},{"$f":"IF('保険料申告内訳名簿（一人親方団体控）'!AG49=\"\",\"\",'保険料申告内訳名簿（一人親方団体控）'!AG49)","v":""},{"$f":"IF('保険料申告内訳名簿（一人親方団体控）'!AH49=\"\",\"\",'保険料申告内訳名簿（一人親方団体控）'!AH49)","v":""}]
[null,{"$f":"IF('保険料申告内訳名簿（一人親方団体控）'!B50=\"\",\"\",'保険料申告内訳名簿（一人親方団体控）'!B50)","v":""},{"$f":"IF('保険料申告内訳名簿（一人親方団体控）'!C50=\"\",\"\",'保険料申告内訳名簿（一人親方団体控）'!C50)","v":""},{"$f":"IF('保険料申告内訳名簿（一人親方団体控）'!D50=\"\",\"\",'保険料申告内訳名簿（一人親方団体控）'!D50)","v":""},{"$f":"IF('保険料申告内訳名簿（一人親方団体控）'!E50=\"\",\"\",'保険料申告内訳名簿（一人親方団体控）'!E50)","v":""},{"$f":"IF('保険料申告内訳名簿（一人親方団体控）'!F50=\"\",\"\",'保険料申告内訳名簿（一人親方団体控）'!F50)","v":""},{"$f":"IF('保険料申告内訳名簿（一人親方団体控）'!G50=\"\",\"\",'保険料申告内訳名簿（一人親方団体控）'!G50)","v":""},{"$f":"IF('保険料申告内訳名簿（一人親方団体控）'!H50=\"\",\"\",'保険料申告内訳名簿（一人親方団体控）'!H50)","v":""},{"$f":"IF('保険料申告内訳名簿（一人親方団体控）'!I50=\"\",\"\",'保険料申告内訳名簿（一人親方団体控）'!I50)","v":""},{"$f":"IF('保険料申告内訳名簿（一人親方団体控）'!J50=\"\",\"\",'保険料申告内訳名簿（一人親方団体控）'!J50)","v":""},{"$f":"IF('保険料申告内訳名簿（一人親方団体控）'!K50=\"\",\"\",'保険料申告内訳名簿（一人親方団体控）'!K50)","v":""},{"$f":"IF('保険料申告内訳名簿（一人親方団体控）'!L50=\"\",\"\",'保険料申告内訳名簿（一人親方団体控）'!L50)","v":""},{"$f":"IF('保険料申告内訳名簿（一人親方団体控）'!M50=\"\",\"\",'保険料申告内訳名簿（一人親方団体控）'!M50)","v":""},{"$f":"IF('保険料申告内訳名簿（一人親方団体控）'!N50=\"\",\"\",'保険料申告内訳名簿（一人親方団体控）'!N50)","v":""},{"$f":"IF('保険料申告内訳名簿（一人親方団体控）'!O50=\"\",\"\",'保険料申告内訳名簿（一人親方団体控）'!O50)","v":""},{"$f":"IF('保険料申告内訳名簿（一人親方団体控）'!P50=\"\",\"\",'保険料申告内訳名簿（一人親方団体控）'!P50)","v":""},{"$f":"IF('保険料申告内訳名簿（一人親方団体控）'!Q50=\"\",\"\",'保険料申告内訳名簿（一人親方団体控）'!Q50)","v":""},{"$f":"IF('保険料申告内訳名簿（一人親方団体控）'!R50=\"\",\"\",'保険料申告内訳名簿（一人親方団体控）'!R50)","v":""},{"$f":"IF('保険料申告内訳名簿（一人親方団体控）'!S50=\"\",\"\",'保険料申告内訳名簿（一人親方団体控）'!S50)","v":0},{"$f":"IF('保険料申告内訳名簿（一人親方団体控）'!T50=\"\",\"\",'保険料申告内訳名簿（一人親方団体控）'!T50)","v":""},{"$f":"IF('保険料申告内訳名簿（一人親方団体控）'!U50=\"\",\"\",'保険料申告内訳名簿（一人親方団体控）'!U50)","v":""},{"$f":"IF('保険料申告内訳名簿（一人親方団体控）'!V50=\"\",\"\",'保険料申告内訳名簿（一人親方団体控）'!V50)","v":""},{"$f":"IF('保険料申告内訳名簿（一人親方団体控）'!W50=\"\",\"\",'保険料申告内訳名簿（一人親方団体控）'!W50)","v":""},{"$f":"IF('保険料申告内訳名簿（一人親方団体控）'!X50=\"\",\"\",'保険料申告内訳名簿（一人親方団体控）'!X50)","v":""},{"$f":"IF('保険料申告内訳名簿（一人親方団体控）'!Y50=\"\",\"\",'保険料申告内訳名簿（一人親方団体控）'!Y50)","v":""},{"$f":"IF('保険料申告内訳名簿（一人親方団体控）'!Z50=\"\",\"\",'保険料申告内訳名簿（一人親方団体控）'!Z50)","v":""},{"$f":"IF('保険料申告内訳名簿（一人親方団体控）'!AA50=\"\",\"\",'保険料申告内訳名簿（一人親方団体控）'!AA50)","v":""},{"$f":"IF('保険料申告内訳名簿（一人親方団体控）'!AB50=\"\",\"\",'保険料申告内訳名簿（一人親方団体控）'!AB50)","v":""},{"$f":"IF('保険料申告内訳名簿（一人親方団体控）'!AC50=\"\",\"\",'保険料申告内訳名簿（一人親方団体控）'!AC50)","v":0},{"$f":"IF('保険料申告内訳名簿（一人親方団体控）'!AD50=\"\",\"\",'保険料申告内訳名簿（一人親方団体控）'!AD50)","v":""},{"$f":"IF('保険料申告内訳名簿（一人親方団体控）'!AE50=\"\",\"\",'保険料申告内訳名簿（一人親方団体控）'!AE50)","v":""},{"$f":"IF('保険料申告内訳名簿（一人親方団体控）'!AF50=\"\",\"\",'保険料申告内訳名簿（一人親方団体控）'!AF50)","v":""},{"$f":"IF('保険料申告内訳名簿（一人親方団体控）'!AG50=\"\",\"\",'保険料申告内訳名簿（一人親方団体控）'!AG50)","v":""},{"$f":"IF('保険料申告内訳名簿（一人親方団体控）'!AH50=\"\",\"\",'保険料申告内訳名簿（一人親方団体控）'!AH50)","v":""}]
[null,{"$f":"IF('保険料申告内訳名簿（一人親方団体控）'!B51=\"\",\"\",'保険料申告内訳名簿（一人親方団体控）'!B51)","v":""},{"$f":"IF('保険料申告内訳名簿（一人親方団体控）'!C51=\"\",\"\",'保険料申告内訳名簿（一人親方団体控）'!C51)","v":""},{"$f":"IF('保険料申告内訳名簿（一人親方団体控）'!D51=\"\",\"\",'保険料申告内訳名簿（一人親方団体控）'!D51)","v":""},{"$f":"IF('保険料申告内訳名簿（一人親方団体控）'!E51=\"\",\"\",'保険料申告内訳名簿（一人親方団体控）'!E51)","v":""},{"$f":"IF('保険料申告内訳名簿（一人親方団体控）'!F51=\"\",\"\",'保険料申告内訳名簿（一人親方団体控）'!F51)","v":""},{"$f":"IF('保険料申告内訳名簿（一人親方団体控）'!G51=\"\",\"\",'保険料申告内訳名簿（一人親方団体控）'!G51)","v":""},{"$f":"IF('保険料申告内訳名簿（一人親方団体控）'!H51=\"\",\"\",'保険料申告内訳名簿（一人親方団体控）'!H51)","v":""},{"$f":"IF('保険料申告内訳名簿（一人親方団体控）'!I51=\"\",\"\",'保険料申告内訳名簿（一人親方団体控）'!I51)","v":""},{"$f":"IF('保険料申告内訳名簿（一人親方団体控）'!J51=\"\",\"\",'保険料申告内訳名簿（一人親方団体控）'!J51)","v":""},{"$f":"IF('保険料申告内訳名簿（一人親方団体控）'!K51=\"\",\"\",'保険料申告内訳名簿（一人親方団体控）'!K51)","v":""},{"$f":"IF('保険料申告内訳名簿（一人親方団体控）'!L51=\"\",\"\",'保険料申告内訳名簿（一人親方団体控）'!L51)","v":""},{"$f":"IF('保険料申告内訳名簿（一人親方団体控）'!M51=\"\",\"\",'保険料申告内訳名簿（一人親方団体控）'!M51)","v":""},{"$f":"IF('保険料申告内訳名簿（一人親方団体控）'!N51=\"\",\"\",'保険料申告内訳名簿（一人親方団体控）'!N51)","v":""},{"$f":"IF('保険料申告内訳名簿（一人親方団体控）'!O51=\"\",\"\",'保険料申告内訳名簿（一人親方団体控）'!O51)","v":""},{"$f":"IF('保険料申告内訳名簿（一人親方団体控）'!P51=\"\",\"\",'保険料申告内訳名簿（一人親方団体控）'!P51)","v":""},{"$f":"IF('保険料申告内訳名簿（一人親方団体控）'!Q51=\"\",\"\",'保険料申告内訳名簿（一人親方団体控）'!Q51)","v":""},{"$f":"IF('保険料申告内訳名簿（一人親方団体控）'!R51=\"\",\"\",'保険料申告内訳名簿（一人親方団体控）'!R51)","v":""},{"$f":"IF('保険料申告内訳名簿（一人親方団体控）'!S51=\"\",\"\",'保険料申告内訳名簿（一人親方団体控）'!S51)","v":0},{"$f":"IF('保険料申告内訳名簿（一人親方団体控）'!T51=\"\",\"\",'保険料申告内訳名簿（一人親方団体控）'!T51)","v":""},{"$f":"IF('保険料申告内訳名簿（一人親方団体控）'!U51=\"\",\"\",'保険料申告内訳名簿（一人親方団体控）'!U51)","v":""},{"$f":"IF('保険料申告内訳名簿（一人親方団体控）'!V51=\"\",\"\",'保険料申告内訳名簿（一人親方団体控）'!V51)","v":""},{"$f":"IF('保険料申告内訳名簿（一人親方団体控）'!W51=\"\",\"\",'保険料申告内訳名簿（一人親方団体控）'!W51)","v":""},{"$f":"IF('保険料申告内訳名簿（一人親方団体控）'!X51=\"\",\"\",'保険料申告内訳名簿（一人親方団体控）'!X51)","v":""},{"$f":"IF('保険料申告内訳名簿（一人親方団体控）'!Y51=\"\",\"\",'保険料申告内訳名簿（一人親方団体控）'!Y51)","v":""},{"$f":"IF('保険料申告内訳名簿（一人親方団体控）'!Z51=\"\",\"\",'保険料申告内訳名簿（一人親方団体控）'!Z51)","v":""},{"$f":"IF('保険料申告内訳名簿（一人親方団体控）'!AA51=\"\",\"\",'保険料申告内訳名簿（一人親方団体控）'!AA51)","v":""},{"$f":"IF('保険料申告内訳名簿（一人親方団体控）'!AB51=\"\",\"\",'保険料申告内訳名簿（一人親方団体控）'!AB51)","v":""},{"$f":"IF('保険料申告内訳名簿（一人親方団体控）'!AC51=\"\",\"\",'保険料申告内訳名簿（一人親方団体控）'!AC51)","v":0},{"$f":"IF('保険料申告内訳名簿（一人親方団体控）'!AD51=\"\",\"\",'保険料申告内訳名簿（一人親方団体控）'!AD51)","v":""},{"$f":"IF('保険料申告内訳名簿（一人親方団体控）'!AE51=\"\",\"\",'保険料申告内訳名簿（一人親方団体控）'!AE51)","v":""},{"$f":"IF('保険料申告内訳名簿（一人親方団体控）'!AF51=\"\",\"\",'保険料申告内訳名簿（一人親方団体控）'!AF51)","v":""},{"$f":"IF('保険料申告内訳名簿（一人親方団体控）'!AG51=\"\",\"\",'保険料申告内訳名簿（一人親方団体控）'!AG51)","v":""},{"$f":"IF('保険料申告内訳名簿（一人親方団体控）'!AH51=\"\",\"\",'保険料申告内訳名簿（一人親方団体控）'!AH51)","v":""}]
[null,{"$f":"IF('保険料申告内訳名簿（一人親方団体控）'!B52=\"\",\"\",'保険料申告内訳名簿（一人親方団体控）'!B52)","v":""},{"$f":"IF('保険料申告内訳名簿（一人親方団体控）'!C52=\"\",\"\",'保険料申告内訳名簿（一人親方団体控）'!C52)","v":""},{"$f":"IF('保険料申告内訳名簿（一人親方団体控）'!D52=\"\",\"\",'保険料申告内訳名簿（一人親方団体控）'!D52)","v":""},{"$f":"IF('保険料申告内訳名簿（一人親方団体控）'!E52=\"\",\"\",'保険料申告内訳名簿（一人親方団体控）'!E52)","v":""},{"$f":"IF('保険料申告内訳名簿（一人親方団体控）'!F52=\"\",\"\",'保険料申告内訳名簿（一人親方団体控）'!F52)","v":""},{"$f":"IF('保険料申告内訳名簿（一人親方団体控）'!G52=\"\",\"\",'保険料申告内訳名簿（一人親方団体控）'!G52)","v":""},{"$f":"IF('保険料申告内訳名簿（一人親方団体控）'!H52=\"\",\"\",'保険料申告内訳名簿（一人親方団体控）'!H52)","v":""},{"$f":"IF('保険料申告内訳名簿（一人親方団体控）'!I52=\"\",\"\",'保険料申告内訳名簿（一人親方団体控）'!I52)","v":""},{"$f":"IF('保険料申告内訳名簿（一人親方団体控）'!J52=\"\",\"\",'保険料申告内訳名簿（一人親方団体控）'!J52)","v":""},{"$f":"IF('保険料申告内訳名簿（一人親方団体控）'!K52=\"\",\"\",'保険料申告内訳名簿（一人親方団体控）'!K52)","v":""},{"$f":"IF('保険料申告内訳名簿（一人親方団体控）'!L52=\"\",\"\",'保険料申告内訳名簿（一人親方団体控）'!L52)","v":""},{"$f":"IF('保険料申告内訳名簿（一人親方団体控）'!M52=\"\",\"\",'保険料申告内訳名簿（一人親方団体控）'!M52)","v":""},{"$f":"IF('保険料申告内訳名簿（一人親方団体控）'!N52=\"\",\"\",'保険料申告内訳名簿（一人親方団体控）'!N52)","v":""},{"$f":"IF('保険料申告内訳名簿（一人親方団体控）'!O52=\"\",\"\",'保険料申告内訳名簿（一人親方団体控）'!O52)","v":""},{"$f":"IF('保険料申告内訳名簿（一人親方団体控）'!P52=\"\",\"\",'保険料申告内訳名簿（一人親方団体控）'!P52)","v":""},{"$f":"IF('保険料申告内訳名簿（一人親方団体控）'!Q52=\"\",\"\",'保険料申告内訳名簿（一人親方団体控）'!Q52)","v":""},{"$f":"IF('保険料申告内訳名簿（一人親方団体控）'!R52=\"\",\"\",'保険料申告内訳名簿（一人親方団体控）'!R52)","v":""},{"$f":"IF('保険料申告内訳名簿（一人親方団体控）'!S52=\"\",\"\",'保険料申告内訳名簿（一人親方団体控）'!S52)","v":0},{"$f":"IF('保険料申告内訳名簿（一人親方団体控）'!T52=\"\",\"\",'保険料申告内訳名簿（一人親方団体控）'!T52)","v":""},{"$f":"IF('保険料申告内訳名簿（一人親方団体控）'!U52=\"\",\"\",'保険料申告内訳名簿（一人親方団体控）'!U52)","v":""},{"$f":"IF('保険料申告内訳名簿（一人親方団体控）'!V52=\"\",\"\",'保険料申告内訳名簿（一人親方団体控）'!V52)","v":""},{"$f":"IF('保険料申告内訳名簿（一人親方団体控）'!W52=\"\",\"\",'保険料申告内訳名簿（一人親方団体控）'!W52)","v":""},{"$f":"IF('保険料申告内訳名簿（一人親方団体控）'!X52=\"\",\"\",'保険料申告内訳名簿（一人親方団体控）'!X52)","v":""},{"$f":"IF('保険料申告内訳名簿（一人親方団体控）'!Y52=\"\",\"\",'保険料申告内訳名簿（一人親方団体控）'!Y52)","v":""},{"$f":"IF('保険料申告内訳名簿（一人親方団体控）'!Z52=\"\",\"\",'保険料申告内訳名簿（一人親方団体控）'!Z52)","v":""},{"$f":"IF('保険料申告内訳名簿（一人親方団体控）'!AA52=\"\",\"\",'保険料申告内訳名簿（一人親方団体控）'!AA52)","v":""},{"$f":"IF('保険料申告内訳名簿（一人親方団体控）'!AB52=\"\",\"\",'保険料申告内訳名簿（一人親方団体控）'!AB52)","v":""},{"$f":"IF('保険料申告内訳名簿（一人親方団体控）'!AC52=\"\",\"\",'保険料申告内訳名簿（一人親方団体控）'!AC52)","v":0},{"$f":"IF('保険料申告内訳名簿（一人親方団体控）'!AD52=\"\",\"\",'保険料申告内訳名簿（一人親方団体控）'!AD52)","v":""},{"$f":"IF('保険料申告内訳名簿（一人親方団体控）'!AE52=\"\",\"\",'保険料申告内訳名簿（一人親方団体控）'!AE52)","v":""},{"$f":"IF('保険料申告内訳名簿（一人親方団体控）'!AF52=\"\",\"\",'保険料申告内訳名簿（一人親方団体控）'!AF52)","v":""},{"$f":"IF('保険料申告内訳名簿（一人親方団体控）'!AG52=\"\",\"\",'保険料申告内訳名簿（一人親方団体控）'!AG52)","v":""},{"$f":"IF('保険料申告内訳名簿（一人親方団体控）'!AH52=\"\",\"\",'保険料申告内訳名簿（一人親方団体控）'!AH52)","v":""}]
[null,{"$f":"IF('保険料申告内訳名簿（一人親方団体控）'!B53=\"\",\"\",'保険料申告内訳名簿（一人親方団体控）'!B53)","v":""},{"$f":"IF('保険料申告内訳名簿（一人親方団体控）'!C53=\"\",\"\",'保険料申告内訳名簿（一人親方団体控）'!C53)","v":""},{"$f":"IF('保険料申告内訳名簿（一人親方団体控）'!D53=\"\",\"\",'保険料申告内訳名簿（一人親方団体控）'!D53)","v":""},{"$f":"IF('保険料申告内訳名簿（一人親方団体控）'!E53=\"\",\"\",'保険料申告内訳名簿（一人親方団体控）'!E53)","v":""},{"$f":"IF('保険料申告内訳名簿（一人親方団体控）'!F53=\"\",\"\",'保険料申告内訳名簿（一人親方団体控）'!F53)","v":""},{"$f":"IF('保険料申告内訳名簿（一人親方団体控）'!G53=\"\",\"\",'保険料申告内訳名簿（一人親方団体控）'!G53)","v":""},{"$f":"IF('保険料申告内訳名簿（一人親方団体控）'!H53=\"\",\"\",'保険料申告内訳名簿（一人親方団体控）'!H53)","v":""},{"$f":"IF('保険料申告内訳名簿（一人親方団体控）'!I53=\"\",\"\",'保険料申告内訳名簿（一人親方団体控）'!I53)","v":""},{"$f":"IF('保険料申告内訳名簿（一人親方団体控）'!J53=\"\",\"\",'保険料申告内訳名簿（一人親方団体控）'!J53)","v":""},{"$f":"IF('保険料申告内訳名簿（一人親方団体控）'!K53=\"\",\"\",'保険料申告内訳名簿（一人親方団体控）'!K53)","v":""},{"$f":"IF('保険料申告内訳名簿（一人親方団体控）'!L53=\"\",\"\",'保険料申告内訳名簿（一人親方団体控）'!L53)","v":""},{"$f":"IF('保険料申告内訳名簿（一人親方団体控）'!M53=\"\",\"\",'保険料申告内訳名簿（一人親方団体控）'!M53)","v":""},{"$f":"IF('保険料申告内訳名簿（一人親方団体控）'!N53=\"\",\"\",'保険料申告内訳名簿（一人親方団体控）'!N53)","v":""},{"$f":"IF('保険料申告内訳名簿（一人親方団体控）'!O53=\"\",\"\",'保険料申告内訳名簿（一人親方団体控）'!O53)","v":""},{"$f":"IF('保険料申告内訳名簿（一人親方団体控）'!P53=\"\",\"\",'保険料申告内訳名簿（一人親方団体控）'!P53)","v":""},{"$f":"IF('保険料申告内訳名簿（一人親方団体控）'!Q53=\"\",\"\",'保険料申告内訳名簿（一人親方団体控）'!Q53)","v":""},{"$f":"IF('保険料申告内訳名簿（一人親方団体控）'!R53=\"\",\"\",'保険料申告内訳名簿（一人親方団体控）'!R53)","v":""},{"$f":"IF('保険料申告内訳名簿（一人親方団体控）'!S53=\"\",\"\",'保険料申告内訳名簿（一人親方団体控）'!S53)","v":0},{"$f":"IF('保険料申告内訳名簿（一人親方団体控）'!T53=\"\",\"\",'保険料申告内訳名簿（一人親方団体控）'!T53)","v":""},{"$f":"IF('保険料申告内訳名簿（一人親方団体控）'!U53=\"\",\"\",'保険料申告内訳名簿（一人親方団体控）'!U53)","v":""},{"$f":"IF('保険料申告内訳名簿（一人親方団体控）'!V53=\"\",\"\",'保険料申告内訳名簿（一人親方団体控）'!V53)","v":""},{"$f":"IF('保険料申告内訳名簿（一人親方団体控）'!W53=\"\",\"\",'保険料申告内訳名簿（一人親方団体控）'!W53)","v":""},{"$f":"IF('保険料申告内訳名簿（一人親方団体控）'!X53=\"\",\"\",'保険料申告内訳名簿（一人親方団体控）'!X53)","v":""},{"$f":"IF('保険料申告内訳名簿（一人親方団体控）'!Y53=\"\",\"\",'保険料申告内訳名簿（一人親方団体控）'!Y53)","v":""},{"$f":"IF('保険料申告内訳名簿（一人親方団体控）'!Z53=\"\",\"\",'保険料申告内訳名簿（一人親方団体控）'!Z53)","v":""},{"$f":"IF('保険料申告内訳名簿（一人親方団体控）'!AA53=\"\",\"\",'保険料申告内訳名簿（一人親方団体控）'!AA53)","v":""},{"$f":"IF('保険料申告内訳名簿（一人親方団体控）'!AB53=\"\",\"\",'保険料申告内訳名簿（一人親方団体控）'!AB53)","v":""},{"$f":"IF('保険料申告内訳名簿（一人親方団体控）'!AC53=\"\",\"\",'保険料申告内訳名簿（一人親方団体控）'!AC53)","v":0},{"$f":"IF('保険料申告内訳名簿（一人親方団体控）'!AD53=\"\",\"\",'保険料申告内訳名簿（一人親方団体控）'!AD53)","v":""},{"$f":"IF('保険料申告内訳名簿（一人親方団体控）'!AE53=\"\",\"\",'保険料申告内訳名簿（一人親方団体控）'!AE53)","v":""},{"$f":"IF('保険料申告内訳名簿（一人親方団体控）'!AF53=\"\",\"\",'保険料申告内訳名簿（一人親方団体控）'!AF53)","v":""},{"$f":"IF('保険料申告内訳名簿（一人親方団体控）'!AG53=\"\",\"\",'保険料申告内訳名簿（一人親方団体控）'!AG53)","v":""},{"$f":"IF('保険料申告内訳名簿（一人親方団体控）'!AH53=\"\",\"\",'保険料申告内訳名簿（一人親方団体控）'!AH53)","v":""}]
[null,{"$f":"IF('保険料申告内訳名簿（一人親方団体控）'!B54=\"\",\"\",'保険料申告内訳名簿（一人親方団体控）'!B54)","v":""},{"$f":"IF('保険料申告内訳名簿（一人親方団体控）'!C54=\"\",\"\",'保険料申告内訳名簿（一人親方団体控）'!C54)","v":""},{"$f":"IF('保険料申告内訳名簿（一人親方団体控）'!D54=\"\",\"\",'保険料申告内訳名簿（一人親方団体控）'!D54)","v":""},{"$f":"IF('保険料申告内訳名簿（一人親方団体控）'!E54=\"\",\"\",'保険料申告内訳名簿（一人親方団体控）'!E54)","v":""},{"$f":"IF('保険料申告内訳名簿（一人親方団体控）'!F54=\"\",\"\",'保険料申告内訳名簿（一人親方団体控）'!F54)","v":""},{"$f":"IF('保険料申告内訳名簿（一人親方団体控）'!G54=\"\",\"\",'保険料申告内訳名簿（一人親方団体控）'!G54)","v":""},{"$f":"IF('保険料申告内訳名簿（一人親方団体控）'!H54=\"\",\"\",'保険料申告内訳名簿（一人親方団体控）'!H54)","v":""},{"$f":"IF('保険料申告内訳名簿（一人親方団体控）'!I54=\"\",\"\",'保険料申告内訳名簿（一人親方団体控）'!I54)","v":""},{"$f":"IF('保険料申告内訳名簿（一人親方団体控）'!J54=\"\",\"\",'保険料申告内訳名簿（一人親方団体控）'!J54)","v":""},{"$f":"IF('保険料申告内訳名簿（一人親方団体控）'!K54=\"\",\"\",'保険料申告内訳名簿（一人親方団体控）'!K54)","v":""},{"$f":"IF('保険料申告内訳名簿（一人親方団体控）'!L54=\"\",\"\",'保険料申告内訳名簿（一人親方団体控）'!L54)","v":""},{"$f":"IF('保険料申告内訳名簿（一人親方団体控）'!M54=\"\",\"\",'保険料申告内訳名簿（一人親方団体控）'!M54)","v":""},{"$f":"IF('保険料申告内訳名簿（一人親方団体控）'!N54=\"\",\"\",'保険料申告内訳名簿（一人親方団体控）'!N54)","v":""},{"$f":"IF('保険料申告内訳名簿（一人親方団体控）'!O54=\"\",\"\",'保険料申告内訳名簿（一人親方団体控）'!O54)","v":""},{"$f":"IF('保険料申告内訳名簿（一人親方団体控）'!P54=\"\",\"\",'保険料申告内訳名簿（一人親方団体控）'!P54)","v":""},{"$f":"IF('保険料申告内訳名簿（一人親方団体控）'!Q54=\"\",\"\",'保険料申告内訳名簿（一人親方団体控）'!Q54)","v":""},{"$f":"IF('保険料申告内訳名簿（一人親方団体控）'!R54=\"\",\"\",'保険料申告内訳名簿（一人親方団体控）'!R54)","v":""},{"$f":"IF('保険料申告内訳名簿（一人親方団体控）'!S54=\"\",\"\",'保険料申告内訳名簿（一人親方団体控）'!S54)","v":0},{"$f":"IF('保険料申告内訳名簿（一人親方団体控）'!T54=\"\",\"\",'保険料申告内訳名簿（一人親方団体控）'!T54)","v":""},{"$f":"IF('保険料申告内訳名簿（一人親方団体控）'!U54=\"\",\"\",'保険料申告内訳名簿（一人親方団体控）'!U54)","v":""},{"$f":"IF('保険料申告内訳名簿（一人親方団体控）'!V54=\"\",\"\",'保険料申告内訳名簿（一人親方団体控）'!V54)","v":""},{"$f":"IF('保険料申告内訳名簿（一人親方団体控）'!W54=\"\",\"\",'保険料申告内訳名簿（一人親方団体控）'!W54)","v":""},{"$f":"IF('保険料申告内訳名簿（一人親方団体控）'!X54=\"\",\"\",'保険料申告内訳名簿（一人親方団体控）'!X54)","v":""},{"$f":"IF('保険料申告内訳名簿（一人親方団体控）'!Y54=\"\",\"\",'保険料申告内訳名簿（一人親方団体控）'!Y54)","v":""},{"$f":"IF('保険料申告内訳名簿（一人親方団体控）'!Z54=\"\",\"\",'保険料申告内訳名簿（一人親方団体控）'!Z54)","v":""},{"$f":"IF('保険料申告内訳名簿（一人親方団体控）'!AA54=\"\",\"\",'保険料申告内訳名簿（一人親方団体控）'!AA54)","v":""},{"$f":"IF('保険料申告内訳名簿（一人親方団体控）'!AB54=\"\",\"\",'保険料申告内訳名簿（一人親方団体控）'!AB54)","v":""},{"$f":"IF('保険料申告内訳名簿（一人親方団体控）'!AC54=\"\",\"\",'保険料申告内訳名簿（一人親方団体控）'!AC54)","v":0},{"$f":"IF('保険料申告内訳名簿（一人親方団体控）'!AD54=\"\",\"\",'保険料申告内訳名簿（一人親方団体控）'!AD54)","v":""},{"$f":"IF('保険料申告内訳名簿（一人親方団体控）'!AE54=\"\",\"\",'保険料申告内訳名簿（一人親方団体控）'!AE54)","v":""},{"$f":"IF('保険料申告内訳名簿（一人親方団体控）'!AF54=\"\",\"\",'保険料申告内訳名簿（一人親方団体控）'!AF54)","v":""},{"$f":"IF('保険料申告内訳名簿（一人親方団体控）'!AG54=\"\",\"\",'保険料申告内訳名簿（一人親方団体控）'!AG54)","v":""},{"$f":"IF('保険料申告内訳名簿（一人親方団体控）'!AH54=\"\",\"\",'保険料申告内訳名簿（一人親方団体控）'!AH54)","v":""}]
[null,{"$f":"IF('保険料申告内訳名簿（一人親方団体控）'!B55=\"\",\"\",'保険料申告内訳名簿（一人親方団体控）'!B55)","v":""},{"$f":"IF('保険料申告内訳名簿（一人親方団体控）'!C55=\"\",\"\",'保険料申告内訳名簿（一人親方団体控）'!C55)","v":""},{"$f":"IF('保険料申告内訳名簿（一人親方団体控）'!D55=\"\",\"\",'保険料申告内訳名簿（一人親方団体控）'!D55)","v":""},{"$f":"IF('保険料申告内訳名簿（一人親方団体控）'!E55=\"\",\"\",'保険料申告内訳名簿（一人親方団体控）'!E55)","v":""},{"$f":"IF('保険料申告内訳名簿（一人親方団体控）'!F55=\"\",\"\",'保険料申告内訳名簿（一人親方団体控）'!F55)","v":""},{"$f":"IF('保険料申告内訳名簿（一人親方団体控）'!G55=\"\",\"\",'保険料申告内訳名簿（一人親方団体控）'!G55)","v":""},{"$f":"IF('保険料申告内訳名簿（一人親方団体控）'!H55=\"\",\"\",'保険料申告内訳名簿（一人親方団体控）'!H55)","v":""},{"$f":"IF('保険料申告内訳名簿（一人親方団体控）'!I55=\"\",\"\",'保険料申告内訳名簿（一人親方団体控）'!I55)","v":""},{"$f":"IF('保険料申告内訳名簿（一人親方団体控）'!J55=\"\",\"\",'保険料申告内訳名簿（一人親方団体控）'!J55)","v":""},{"$f":"IF('保険料申告内訳名簿（一人親方団体控）'!K55=\"\",\"\",'保険料申告内訳名簿（一人親方団体控）'!K55)","v":""},{"$f":"IF('保険料申告内訳名簿（一人親方団体控）'!L55=\"\",\"\",'保険料申告内訳名簿（一人親方団体控）'!L55)","v":""},{"$f":"IF('保険料申告内訳名簿（一人親方団体控）'!M55=\"\",\"\",'保険料申告内訳名簿（一人親方団体控）'!M55)","v":""},{"$f":"IF('保険料申告内訳名簿（一人親方団体控）'!N55=\"\",\"\",'保険料申告内訳名簿（一人親方団体控）'!N55)","v":""},{"$f":"IF('保険料申告内訳名簿（一人親方団体控）'!O55=\"\",\"\",'保険料申告内訳名簿（一人親方団体控）'!O55)","v":""},{"$f":"IF('保険料申告内訳名簿（一人親方団体控）'!P55=\"\",\"\",'保険料申告内訳名簿（一人親方団体控）'!P55)","v":""},{"$f":"IF('保険料申告内訳名簿（一人親方団体控）'!Q55=\"\",\"\",'保険料申告内訳名簿（一人親方団体控）'!Q55)","v":""},{"$f":"IF('保険料申告内訳名簿（一人親方団体控）'!R55=\"\",\"\",'保険料申告内訳名簿（一人親方団体控）'!R55)","v":""},{"$f":"IF('保険料申告内訳名簿（一人親方団体控）'!S55=\"\",\"\",'保険料申告内訳名簿（一人親方団体控）'!S55)","v":0},{"$f":"IF('保険料申告内訳名簿（一人親方団体控）'!T55=\"\",\"\",'保険料申告内訳名簿（一人親方団体控）'!T55)","v":""},{"$f":"IF('保険料申告内訳名簿（一人親方団体控）'!U55=\"\",\"\",'保険料申告内訳名簿（一人親方団体控）'!U55)","v":""},{"$f":"IF('保険料申告内訳名簿（一人親方団体控）'!V55=\"\",\"\",'保険料申告内訳名簿（一人親方団体控）'!V55)","v":""},{"$f":"IF('保険料申告内訳名簿（一人親方団体控）'!W55=\"\",\"\",'保険料申告内訳名簿（一人親方団体控）'!W55)","v":""},{"$f":"IF('保険料申告内訳名簿（一人親方団体控）'!X55=\"\",\"\",'保険料申告内訳名簿（一人親方団体控）'!X55)","v":""},{"$f":"IF('保険料申告内訳名簿（一人親方団体控）'!Y55=\"\",\"\",'保険料申告内訳名簿（一人親方団体控）'!Y55)","v":""},{"$f":"IF('保険料申告内訳名簿（一人親方団体控）'!Z55=\"\",\"\",'保険料申告内訳名簿（一人親方団体控）'!Z55)","v":""},{"$f":"IF('保険料申告内訳名簿（一人親方団体控）'!AA55=\"\",\"\",'保険料申告内訳名簿（一人親方団体控）'!AA55)","v":""},{"$f":"IF('保険料申告内訳名簿（一人親方団体控）'!AB55=\"\",\"\",'保険料申告内訳名簿（一人親方団体控）'!AB55)","v":""},{"$f":"IF('保険料申告内訳名簿（一人親方団体控）'!AC55=\"\",\"\",'保険料申告内訳名簿（一人親方団体控）'!AC55)","v":0},{"$f":"IF('保険料申告内訳名簿（一人親方団体控）'!AD55=\"\",\"\",'保険料申告内訳名簿（一人親方団体控）'!AD55)","v":""},{"$f":"IF('保険料申告内訳名簿（一人親方団体控）'!AE55=\"\",\"\",'保険料申告内訳名簿（一人親方団体控）'!AE55)","v":""},{"$f":"IF('保険料申告内訳名簿（一人親方団体控）'!AF55=\"\",\"\",'保険料申告内訳名簿（一人親方団体控）'!AF55)","v":""},{"$f":"IF('保険料申告内訳名簿（一人親方団体控）'!AG55=\"\",\"\",'保険料申告内訳名簿（一人親方団体控）'!AG55)","v":""},{"$f":"IF('保険料申告内訳名簿（一人親方団体控）'!AH55=\"\",\"\",'保険料申告内訳名簿（一人親方団体控）'!AH55)","v":""}]
[null,{"$f":"IF('保険料申告内訳名簿（一人親方団体控）'!B56=\"\",\"\",'保険料申告内訳名簿（一人親方団体控）'!B56)","v":""},{"$f":"IF('保険料申告内訳名簿（一人親方団体控）'!C56=\"\",\"\",'保険料申告内訳名簿（一人親方団体控）'!C56)","v":""},{"$f":"IF('保険料申告内訳名簿（一人親方団体控）'!D56=\"\",\"\",'保険料申告内訳名簿（一人親方団体控）'!D56)","v":""},{"$f":"IF('保険料申告内訳名簿（一人親方団体控）'!E56=\"\",\"\",'保険料申告内訳名簿（一人親方団体控）'!E56)","v":""},{"$f":"IF('保険料申告内訳名簿（一人親方団体控）'!F56=\"\",\"\",'保険料申告内訳名簿（一人親方団体控）'!F56)","v":""},{"$f":"IF('保険料申告内訳名簿（一人親方団体控）'!G56=\"\",\"\",'保険料申告内訳名簿（一人親方団体控）'!G56)","v":""},{"$f":"IF('保険料申告内訳名簿（一人親方団体控）'!H56=\"\",\"\",'保険料申告内訳名簿（一人親方団体控）'!H56)","v":""},{"$f":"IF('保険料申告内訳名簿（一人親方団体控）'!I56=\"\",\"\",'保険料申告内訳名簿（一人親方団体控）'!I56)","v":""},{"$f":"IF('保険料申告内訳名簿（一人親方団体控）'!J56=\"\",\"\",'保険料申告内訳名簿（一人親方団体控）'!J56)","v":""},{"$f":"IF('保険料申告内訳名簿（一人親方団体控）'!K56=\"\",\"\",'保険料申告内訳名簿（一人親方団体控）'!K56)","v":""},{"$f":"IF('保険料申告内訳名簿（一人親方団体控）'!L56=\"\",\"\",'保険料申告内訳名簿（一人親方団体控）'!L56)","v":""},{"$f":"IF('保険料申告内訳名簿（一人親方団体控）'!M56=\"\",\"\",'保険料申告内訳名簿（一人親方団体控）'!M56)","v":""},{"$f":"IF('保険料申告内訳名簿（一人親方団体控）'!N56=\"\",\"\",'保険料申告内訳名簿（一人親方団体控）'!N56)","v":""},{"$f":"IF('保険料申告内訳名簿（一人親方団体控）'!O56=\"\",\"\",'保険料申告内訳名簿（一人親方団体控）'!O56)","v":""},{"$f":"IF('保険料申告内訳名簿（一人親方団体控）'!P56=\"\",\"\",'保険料申告内訳名簿（一人親方団体控）'!P56)","v":""},{"$f":"IF('保険料申告内訳名簿（一人親方団体控）'!Q56=\"\",\"\",'保険料申告内訳名簿（一人親方団体控）'!Q56)","v":""},{"$f":"IF('保険料申告内訳名簿（一人親方団体控）'!R56=\"\",\"\",'保険料申告内訳名簿（一人親方団体控）'!R56)","v":""},{"$f":"IF('保険料申告内訳名簿（一人親方団体控）'!S56=\"\",\"\",'保険料申告内訳名簿（一人親方団体控）'!S56)","v":0},{"$f":"IF('保険料申告内訳名簿（一人親方団体控）'!T56=\"\",\"\",'保険料申告内訳名簿（一人親方団体控）'!T56)","v":""},{"$f":"IF('保険料申告内訳名簿（一人親方団体控）'!U56=\"\",\"\",'保険料申告内訳名簿（一人親方団体控）'!U56)","v":""},{"$f":"IF('保険料申告内訳名簿（一人親方団体控）'!V56=\"\",\"\",'保険料申告内訳名簿（一人親方団体控）'!V56)","v":""},{"$f":"IF('保険料申告内訳名簿（一人親方団体控）'!W56=\"\",\"\",'保険料申告内訳名簿（一人親方団体控）'!W56)","v":""},{"$f":"IF('保険料申告内訳名簿（一人親方団体控）'!X56=\"\",\"\",'保険料申告内訳名簿（一人親方団体控）'!X56)","v":""},{"$f":"IF('保険料申告内訳名簿（一人親方団体控）'!Y56=\"\",\"\",'保険料申告内訳名簿（一人親方団体控）'!Y56)","v":""},{"$f":"IF('保険料申告内訳名簿（一人親方団体控）'!Z56=\"\",\"\",'保険料申告内訳名簿（一人親方団体控）'!Z56)","v":""},{"$f":"IF('保険料申告内訳名簿（一人親方団体控）'!AA56=\"\",\"\",'保険料申告内訳名簿（一人親方団体控）'!AA56)","v":""},{"$f":"IF('保険料申告内訳名簿（一人親方団体控）'!AB56=\"\",\"\",'保険料申告内訳名簿（一人親方団体控）'!AB56)","v":""},{"$f":"IF('保険料申告内訳名簿（一人親方団体控）'!AC56=\"\",\"\",'保険料申告内訳名簿（一人親方団体控）'!AC56)","v":0},{"$f":"IF('保険料申告内訳名簿（一人親方団体控）'!AD56=\"\",\"\",'保険料申告内訳名簿（一人親方団体控）'!AD56)","v":""},{"$f":"IF('保険料申告内訳名簿（一人親方団体控）'!AE56=\"\",\"\",'保険料申告内訳名簿（一人親方団体控）'!AE56)","v":""},{"$f":"IF('保険料申告内訳名簿（一人親方団体控）'!AF56=\"\",\"\",'保険料申告内訳名簿（一人親方団体控）'!AF56)","v":""},{"$f":"IF('保険料申告内訳名簿（一人親方団体控）'!AG56=\"\",\"\",'保険料申告内訳名簿（一人親方団体控）'!AG56)","v":""},{"$f":"IF('保険料申告内訳名簿（一人親方団体控）'!AH56=\"\",\"\",'保険料申告内訳名簿（一人親方団体控）'!AH56)","v":""}]
[null,{"$f":"IF('保険料申告内訳名簿（一人親方団体控）'!B57=\"\",\"\",'保険料申告内訳名簿（一人親方団体控）'!B57)","v":""},{"$f":"IF('保険料申告内訳名簿（一人親方団体控）'!C57=\"\",\"\",'保険料申告内訳名簿（一人親方団体控）'!C57)","v":""},{"$f":"IF('保険料申告内訳名簿（一人親方団体控）'!D57=\"\",\"\",'保険料申告内訳名簿（一人親方団体控）'!D57)","v":""},{"$f":"IF('保険料申告内訳名簿（一人親方団体控）'!E57=\"\",\"\",'保険料申告内訳名簿（一人親方団体控）'!E57)","v":""},{"$f":"IF('保険料申告内訳名簿（一人親方団体控）'!F57=\"\",\"\",'保険料申告内訳名簿（一人親方団体控）'!F57)","v":""},{"$f":"IF('保険料申告内訳名簿（一人親方団体控）'!G57=\"\",\"\",'保険料申告内訳名簿（一人親方団体控）'!G57)","v":""},{"$f":"IF('保険料申告内訳名簿（一人親方団体控）'!H57=\"\",\"\",'保険料申告内訳名簿（一人親方団体控）'!H57)","v":""},{"$f":"IF('保険料申告内訳名簿（一人親方団体控）'!I57=\"\",\"\",'保険料申告内訳名簿（一人親方団体控）'!I57)","v":""},{"$f":"IF('保険料申告内訳名簿（一人親方団体控）'!J57=\"\",\"\",'保険料申告内訳名簿（一人親方団体控）'!J57)","v":""},{"$f":"IF('保険料申告内訳名簿（一人親方団体控）'!K57=\"\",\"\",'保険料申告内訳名簿（一人親方団体控）'!K57)","v":""},{"$f":"IF('保険料申告内訳名簿（一人親方団体控）'!L57=\"\",\"\",'保険料申告内訳名簿（一人親方団体控）'!L57)","v":""},{"$f":"IF('保険料申告内訳名簿（一人親方団体控）'!M57=\"\",\"\",'保険料申告内訳名簿（一人親方団体控）'!M57)","v":""},{"$f":"IF('保険料申告内訳名簿（一人親方団体控）'!N57=\"\",\"\",'保険料申告内訳名簿（一人親方団体控）'!N57)","v":""},{"$f":"IF('保険料申告内訳名簿（一人親方団体控）'!O57=\"\",\"\",'保険料申告内訳名簿（一人親方団体控）'!O57)","v":""},{"$f":"IF('保険料申告内訳名簿（一人親方団体控）'!P57=\"\",\"\",'保険料申告内訳名簿（一人親方団体控）'!P57)","v":""},{"$f":"IF('保険料申告内訳名簿（一人親方団体控）'!Q57=\"\",\"\",'保険料申告内訳名簿（一人親方団体控）'!Q57)","v":""},{"$f":"IF('保険料申告内訳名簿（一人親方団体控）'!R57=\"\",\"\",'保険料申告内訳名簿（一人親方団体控）'!R57)","v":""},{"$f":"IF('保険料申告内訳名簿（一人親方団体控）'!S57=\"\",\"\",'保険料申告内訳名簿（一人親方団体控）'!S57)","v":0},{"$f":"IF('保険料申告内訳名簿（一人親方団体控）'!T57=\"\",\"\",'保険料申告内訳名簿（一人親方団体控）'!T57)","v":""},{"$f":"IF('保険料申告内訳名簿（一人親方団体控）'!U57=\"\",\"\",'保険料申告内訳名簿（一人親方団体控）'!U57)","v":""},{"$f":"IF('保険料申告内訳名簿（一人親方団体控）'!V57=\"\",\"\",'保険料申告内訳名簿（一人親方団体控）'!V57)","v":""},{"$f":"IF('保険料申告内訳名簿（一人親方団体控）'!W57=\"\",\"\",'保険料申告内訳名簿（一人親方団体控）'!W57)","v":""},{"$f":"IF('保険料申告内訳名簿（一人親方団体控）'!X57=\"\",\"\",'保険料申告内訳名簿（一人親方団体控）'!X57)","v":""},{"$f":"IF('保険料申告内訳名簿（一人親方団体控）'!Y57=\"\",\"\",'保険料申告内訳名簿（一人親方団体控）'!Y57)","v":""},{"$f":"IF('保険料申告内訳名簿（一人親方団体控）'!Z57=\"\",\"\",'保険料申告内訳名簿（一人親方団体控）'!Z57)","v":""},{"$f":"IF('保険料申告内訳名簿（一人親方団体控）'!AA57=\"\",\"\",'保険料申告内訳名簿（一人親方団体控）'!AA57)","v":""},{"$f":"IF('保険料申告内訳名簿（一人親方団体控）'!AB57=\"\",\"\",'保険料申告内訳名簿（一人親方団体控）'!AB57)","v":""},{"$f":"IF('保険料申告内訳名簿（一人親方団体控）'!AC57=\"\",\"\",'保険料申告内訳名簿（一人親方団体控）'!AC57)","v":0},{"$f":"IF('保険料申告内訳名簿（一人親方団体控）'!AD57=\"\",\"\",'保険料申告内訳名簿（一人親方団体控）'!AD57)","v":""},{"$f":"IF('保険料申告内訳名簿（一人親方団体控）'!AE57=\"\",\"\",'保険料申告内訳名簿（一人親方団体控）'!AE57)","v":""},{"$f":"IF('保険料申告内訳名簿（一人親方団体控）'!AF57=\"\",\"\",'保険料申告内訳名簿（一人親方団体控）'!AF57)","v":""},{"$f":"IF('保険料申告内訳名簿（一人親方団体控）'!AG57=\"\",\"\",'保険料申告内訳名簿（一人親方団体控）'!AG57)","v":""},{"$f":"IF('保険料申告内訳名簿（一人親方団体控）'!AH57=\"\",\"\",'保険料申告内訳名簿（一人親方団体控）'!AH57)","v":""}]
[null,{"$f":"IF('保険料申告内訳名簿（一人親方団体控）'!B58=\"\",\"\",'保険料申告内訳名簿（一人親方団体控）'!B58)","v":""},{"$f":"IF('保険料申告内訳名簿（一人親方団体控）'!C58=\"\",\"\",'保険料申告内訳名簿（一人親方団体控）'!C58)","v":""},{"$f":"IF('保険料申告内訳名簿（一人親方団体控）'!D58=\"\",\"\",'保険料申告内訳名簿（一人親方団体控）'!D58)","v":""},{"$f":"IF('保険料申告内訳名簿（一人親方団体控）'!E58=\"\",\"\",'保険料申告内訳名簿（一人親方団体控）'!E58)","v":""},{"$f":"IF('保険料申告内訳名簿（一人親方団体控）'!F58=\"\",\"\",'保険料申告内訳名簿（一人親方団体控）'!F58)","v":""},{"$f":"IF('保険料申告内訳名簿（一人親方団体控）'!G58=\"\",\"\",'保険料申告内訳名簿（一人親方団体控）'!G58)","v":""},{"$f":"IF('保険料申告内訳名簿（一人親方団体控）'!H58=\"\",\"\",'保険料申告内訳名簿（一人親方団体控）'!H58)","v":""},{"$f":"IF('保険料申告内訳名簿（一人親方団体控）'!I58=\"\",\"\",'保険料申告内訳名簿（一人親方団体控）'!I58)","v":""},{"$f":"IF('保険料申告内訳名簿（一人親方団体控）'!J58=\"\",\"\",'保険料申告内訳名簿（一人親方団体控）'!J58)","v":""},{"$f":"IF('保険料申告内訳名簿（一人親方団体控）'!K58=\"\",\"\",'保険料申告内訳名簿（一人親方団体控）'!K58)","v":""},{"$f":"IF('保険料申告内訳名簿（一人親方団体控）'!L58=\"\",\"\",'保険料申告内訳名簿（一人親方団体控）'!L58)","v":""},{"$f":"IF('保険料申告内訳名簿（一人親方団体控）'!M58=\"\",\"\",'保険料申告内訳名簿（一人親方団体控）'!M58)","v":""},{"$f":"IF('保険料申告内訳名簿（一人親方団体控）'!N58=\"\",\"\",'保険料申告内訳名簿（一人親方団体控）'!N58)","v":""},{"$f":"IF('保険料申告内訳名簿（一人親方団体控）'!O58=\"\",\"\",'保険料申告内訳名簿（一人親方団体控）'!O58)","v":""},{"$f":"IF('保険料申告内訳名簿（一人親方団体控）'!P58=\"\",\"\",'保険料申告内訳名簿（一人親方団体控）'!P58)","v":""},{"$f":"IF('保険料申告内訳名簿（一人親方団体控）'!Q58=\"\",\"\",'保険料申告内訳名簿（一人親方団体控）'!Q58)","v":""},{"$f":"IF('保険料申告内訳名簿（一人親方団体控）'!R58=\"\",\"\",'保険料申告内訳名簿（一人親方団体控）'!R58)","v":""},{"$f":"IF('保険料申告内訳名簿（一人親方団体控）'!S58=\"\",\"\",'保険料申告内訳名簿（一人親方団体控）'!S58)","v":0},{"$f":"IF('保険料申告内訳名簿（一人親方団体控）'!T58=\"\",\"\",'保険料申告内訳名簿（一人親方団体控）'!T58)","v":""},{"$f":"IF('保険料申告内訳名簿（一人親方団体控）'!U58=\"\",\"\",'保険料申告内訳名簿（一人親方団体控）'!U58)","v":""},{"$f":"IF('保険料申告内訳名簿（一人親方団体控）'!V58=\"\",\"\",'保険料申告内訳名簿（一人親方団体控）'!V58)","v":""},{"$f":"IF('保険料申告内訳名簿（一人親方団体控）'!W58=\"\",\"\",'保険料申告内訳名簿（一人親方団体控）'!W58)","v":""},{"$f":"IF('保険料申告内訳名簿（一人親方団体控）'!X58=\"\",\"\",'保険料申告内訳名簿（一人親方団体控）'!X58)","v":""},{"$f":"IF('保険料申告内訳名簿（一人親方団体控）'!Y58=\"\",\"\",'保険料申告内訳名簿（一人親方団体控）'!Y58)","v":""},{"$f":"IF('保険料申告内訳名簿（一人親方団体控）'!Z58=\"\",\"\",'保険料申告内訳名簿（一人親方団体控）'!Z58)","v":""},{"$f":"IF('保険料申告内訳名簿（一人親方団体控）'!AA58=\"\",\"\",'保険料申告内訳名簿（一人親方団体控）'!AA58)","v":""},{"$f":"IF('保険料申告内訳名簿（一人親方団体控）'!AB58=\"\",\"\",'保険料申告内訳名簿（一人親方団体控）'!AB58)","v":""},{"$f":"IF('保険料申告内訳名簿（一人親方団体控）'!AC58=\"\",\"\",'保険料申告内訳名簿（一人親方団体控）'!AC58)","v":0},{"$f":"IF('保険料申告内訳名簿（一人親方団体控）'!AD58=\"\",\"\",'保険料申告内訳名簿（一人親方団体控）'!AD58)","v":""},{"$f":"IF('保険料申告内訳名簿（一人親方団体控）'!AE58=\"\",\"\",'保険料申告内訳名簿（一人親方団体控）'!AE58)","v":""},{"$f":"IF('保険料申告内訳名簿（一人親方団体控）'!AF58=\"\",\"\",'保険料申告内訳名簿（一人親方団体控）'!AF58)","v":""},{"$f":"IF('保険料申告内訳名簿（一人親方団体控）'!AG58=\"\",\"\",'保険料申告内訳名簿（一人親方団体控）'!AG58)","v":""},{"$f":"IF('保険料申告内訳名簿（一人親方団体控）'!AH58=\"\",\"\",'保険料申告内訳名簿（一人親方団体控）'!AH58)","v":""}]
[null,null,null,null,null,null,null,null,null,null,null,null,null,null,null,null,null,null,{"$f":"IF('保険料申告内訳名簿（一人親方団体控）'!S59=\"\",\"\",'保険料申告内訳名簿（一人親方団体控）'!S59)","v":0},{"$f":"IF('保険料申告内訳名簿（一人親方団体控）'!T59=\"\",\"\",'保険料申告内訳名簿（一人親方団体控）'!T59)","v":""},{"$f":"IF('保険料申告内訳名簿（一人親方団体控）'!U59=\"\",\"\",'保険料申告内訳名簿（一人親方団体控）'!U59)","v":""},{"$f":"IF('保険料申告内訳名簿（一人親方団体控）'!V59=\"\",\"\",'保険料申告内訳名簿（一人親方団体控）'!V59)","v":""},{"$f":"IF('保険料申告内訳名簿（一人親方団体控）'!W59=\"\",\"\",'保険料申告内訳名簿（一人親方団体控）'!W59)","v":""},{"$f":"IF('保険料申告内訳名簿（一人親方団体控）'!X59=\"\",\"\",'保険料申告内訳名簿（一人親方団体控）'!X59)","v":""},null,null,null,null,{"$f":"IF('保険料申告内訳名簿（一人親方団体控）'!AC59=\"\",\"\",'保険料申告内訳名簿（一人親方団体控）'!AC59)","v":0},{"$f":"IF('保険料申告内訳名簿（一人親方団体控）'!AD59=\"\",\"\",'保険料申告内訳名簿（一人親方団体控）'!AD59)","v":""},{"$f":"IF('保険料申告内訳名簿（一人親方団体控）'!AE59=\"\",\"\",'保険料申告内訳名簿（一人親方団体控）'!AE59)","v":""},{"$f":"IF('保険料申告内訳名簿（一人親方団体控）'!AF59=\"\",\"\",'保険料申告内訳名簿（一人親方団体控）'!AF59)","v":""},{"$f":"IF('保険料申告内訳名簿（一人親方団体控）'!AG59=\"\",\"\",'保険料申告内訳名簿（一人親方団体控）'!AG59)","v":""},{"$f":"IF('保険料申告内訳名簿（一人親方団体控）'!AH59=\"\",\"\",'保険料申告内訳名簿（一人親方団体控）'!AH59)","v":""}]
[]
[null,"（注）"]
[null,null,"１）　④欄は月割の対象となる方のみ記入して下さい。"]
[null,null,"２）　月割の対象となる場合の⑤保険料算定基礎額の算定方法"]
[null,null,"２）　月割の対象となる場合の③（給付基礎日額×365÷12）（円未満を切り上げてから）×加入月数"]
[]
[]
[null,"【島根局版】",null,null,null,null,null,null,null,null,null,null,null,null,null,null,null,null,null,null,null,null,null,null,null,null,"監督署用"]
[null,"第２種特別加入保険料申告内訳名簿"]
[null,"（一人親方等）"]
[null,null,null,null,null,null,null,null,null,null,null,null,null,null,null,null,null,null,null,null,null,null,null,null,"（",{"$f":"IF('保険料申告内訳名簿（一人親方団体控）'!Z70=\"\",\"\",'保険料申告内訳名簿（一人親方団体控）'!Z70)","v":0},{"$f":"IF('保険料申告内訳名簿（一人親方団体控）'!AA70=\"\",\"\",'保険料申告内訳名簿（一人親方団体控）'!AA70)","v":""},"枚のうち",null,{"$f":"IF('保険料申告内訳名簿（一人親方団体控）'!AD70=\"\",\"\",'保険料申告内訳名簿（一人親方団体控）'!AD70)","v":3},{"$f":"IF('保険料申告内訳名簿（一人親方団体控）'!AE70=\"\",\"\",'保険料申告内訳名簿（一人親方団体控）'!AE70)","v":""},"枚目",null,"）"]
[]
[null,"労働保険\n番　　　号",null,null,null,null,"府県",null,"所掌","管轄",null,"基幹番号",null,null,null,null,null,"枝番号",null,null,"事業場の\n所在地",null,null,{"$f":"IF('保険料申告内訳名簿（一人親方団体控）'!X72=\"\",\"\",'保険料申告内訳名簿（一人親方団体控）'!X72)","v":""},{"$f":"IF('保険料申告内訳名簿（一人親方団体控）'!Y72=\"\",\"\",'保険料申告内訳名簿（一人親方団体控）'!Y72)","v":""},{"$f":"IF('保険料申告内訳名簿（一人親方団体控）'!Z72=\"\",\"\",'保険料申告内訳名簿（一人親方団体控）'!Z72)","v":""},{"$f":"IF('保険料申告内訳名簿（一人親方団体控）'!AA72=\"\",\"\",'保険料申告内訳名簿（一人親方団体控）'!AA72)","v":""},{"$f":"IF('保険料申告内訳名簿（一人親方団体控）'!AB72=\"\",\"\",'保険料申告内訳名簿（一人親方団体控）'!AB72)","v":""},{"$f":"IF('保険料申告内訳名簿（一人親方団体控）'!AC72=\"\",\"\",'保険料申告内訳名簿（一人親方団体控）'!AC72)","v":""},{"$f":"IF('保険料申告内訳名簿（一人親方団体控）'!AD72=\"\",\"\",'保険料申告内訳名簿（一人親方団体控）'!AD72)","v":""},{"$f":"IF('保険料申告内訳名簿（一人親方団体控）'!AE72=\"\",\"\",'保険料申告内訳名簿（一人親方団体控）'!AE72)","v":""},{"$f":"IF('保険料申告内訳名簿（一人親方団体控）'!AF72=\"\",\"\",'保険料申告内訳名簿（一人親方団体控）'!AF72)","v":""},{"$f":"IF('保険料申告内訳名簿（一人親方団体控）'!AG72=\"\",\"\",'保険料申告内訳名簿（一人親方団体控）'!AG72)","v":""},{"$f":"IF('保険料申告内訳名簿（一人親方団体控）'!AH72=\"\",\"\",'保険料申告内訳名簿（一人親方団体控）'!AH72)","v":""}]
[null,null,null,null,null,null,"3","2",{"$f":"IF('保険料申告内訳名簿（一人親方団体控）'!I73=\"\",\"\",'保険料申告内訳名簿（一人親方団体控）'!I73)","v":""},{"$f":"IF('保険料申告内訳名簿（一人親方団体控）'!J73=\"\",\"\",'保険料申告内訳名簿（一人親方団体控）'!J73)","v":""},{"$f":"IF('保険料申告内訳名簿（一人親方団体控）'!K73=\"\",\"\",'保険料申告内訳名簿（一人親方団体控）'!K73)","v":""},{"$f":"IF('保険料申告内訳名簿（一人親方団体控）'!L73=\"\",\"\",'保険料申告内訳名簿（一人親方団体控）'!L73)","v":""},{"$f":"IF('保険料申告内訳名簿（一人親方団体控）'!M73=\"\",\"\",'保険料申告内訳名簿（一人親方団体控）'!M73)","v":""},{"$f":"IF('保険料申告内訳名簿（一人親方団体控）'!N73=\"\",\"\",'保険料申告内訳名簿（一人親方団体控）'!N73)","v":""},{"$f":"IF('保険料申告内訳名簿（一人親方団体控）'!O73=\"\",\"\",'保険料申告内訳名簿（一人親方団体控）'!O73)","v":""},{"$f":"IF('保険料申告内訳名簿（一人親方団体控）'!P73=\"\",\"\",'保険料申告内訳名簿（一人親方団体控）'!P73)","v":""},{"$f":"IF('保険料申告内訳名簿（一人親方団体控）'!Q73=\"\",\"\",'保険料申告内訳名簿（一人親方団体控）'!Q73)","v":""},{"$f":"IF('保険料申告内訳名簿（一人親方団体控）'!R73=\"\",\"\",'保険料申告内訳名簿（一人親方団体控）'!R73)","v":""},{"$f":"IF('保険料申告内訳名簿（一人親方団体控）'!S73=\"\",\"\",'保険料申告内訳名簿（一人親方団体控）'!S73)","v":""},{"$f":"IF('保険料申告内訳名簿（一人親方団体控）'!T73=\"\",\"\",'保険料申告内訳名簿（一人親方団体控）'!T73)","v":""},"事業場の\n名称",null,null,{"$f":"IF('保険料申告内訳名簿（一人親方団体控）'!X73=\"\",\"\",'保険料申告内訳名簿（一人親方団体控）'!X73)","v":""},{"$f":"IF('保険料申告内訳名簿（一人親方団体控）'!Y73=\"\",\"\",'保険料申告内訳名簿（一人親方団体控）'!Y73)","v":""},{"$f":"IF('保険料申告内訳名簿（一人親方団体控）'!Z73=\"\",\"\",'保険料申告内訳名簿（一人親方団体控）'!Z73)","v":""},{"$f":"IF('保険料申告内訳名簿（一人親方団体控）'!AA73=\"\",\"\",'保険料申告内訳名簿（一人親方団体控）'!AA73)","v":""},{"$f":"IF('保険料申告内訳名簿（一人親方団体控）'!AB73=\"\",\"\",'保険料申告内訳名簿（一人親方団体控）'!AB73)","v":""},{"$f":"IF('保険料申告内訳名簿（一人親方団体控）'!AC73=\"\",\"\",'保険料申告内訳名簿（一人親方団体控）'!AC73)","v":""},{"$f":"IF('保険料申告内訳名簿（一人親方団体控）'!AD73=\"\",\"\",'保険料申告内訳名簿（一人親方団体控）'!AD73)","v":""},{"$f":"IF('保険料申告内訳名簿（一人親方団体控）'!AE73=\"\",\"\",'保険料申告内訳名簿（一人親方団体控）'!AE73)","v":""},{"$f":"IF('保険料申告内訳名簿（一人親方団体控）'!AF73=\"\",\"\",'保険料申告内訳名簿（一人親方団体控）'!AF73)","v":""},{"$f":"IF('保険料申告内訳名簿（一人親方団体控）'!AG73=\"\",\"\",'保険料申告内訳名簿（一人親方団体控）'!AG73)","v":""},{"$f":"IF('保険料申告内訳名簿（一人親方団体控）'!AH73=\"\",\"\",'保険料申告内訳名簿（一人親方団体控）'!AH73)","v":""}]
[null,"①\n整理\n番号",null,"②\n氏名",null,null,null,null,null,null,null,null,null,null,"令 和",null,null,{"$f":"IF('保険料申告内訳名簿（一人親方団体控）'!R74=\"\",\"\",'保険料申告内訳名簿（一人親方団体控）'!R74)","v":""},{"$f":"IF('保険料申告内訳名簿（一人親方団体控）'!S74=\"\",\"\",'保険料申告内訳名簿（一人親方団体控）'!S74)","v":""},{"$f":"IF('保険料申告内訳名簿（一人親方団体控）'!T74=\"\",\"\",'保険料申告内訳名簿（一人親方団体控）'!T74)","v":""},null,null,null,"年 度 確 定 ","令 和",null,null,{"$f":"IF('保険料申告内訳名簿（一人親方団体控）'!AB74=\"\",\"\",'保険料申告内訳名簿（一人親方団体控）'!AB74)","v":""},{"$f":"IF('保険料申告内訳名簿（一人親方団体控）'!AC74=\"\",\"\",'保険料申告内訳名簿（一人親方団体控）'!AC74)","v":""},{"$f":"IF('保険料申告内訳名簿（一人親方団体控）'!AD74=\"\",\"\",'保険料申告内訳名簿（一人親方団体控）'!AD74)","v":""},null,null,null,"年 度 概 算 "]
[null,null,null,null,null,null,null,"③　\n給付基礎日額",null,null,null,"④年度中途加入・脱退",null,null,null,null,null,null,"⑤\n保険料算定基礎額",null,null,null,null,null,"⑥\n給付基礎日額",null,null,null,"⑦\n保険料算定基礎額"]
[null,null,null,null,null,null,null,null,null,null,null,"加入・脱退年月日",null,null,null,null,"加入月数"]
[null,{"$f":"IF('保険料申告内訳名簿（一人親方団体控）'!B77=\"\",\"\",'保険料申告内訳名簿（一人親方団体控）'!B77)","v":""},{"$f":"IF('保険料申告内訳名簿（一人親方団体控）'!C77=\"\",\"\",'保険料申告内訳名簿（一人親方団体控）'!C77)","v":""},{"$f":"IF('保険料申告内訳名簿（一人親方団体控）'!D77=\"\",\"\",'保険料申告内訳名簿（一人親方団体控）'!D77)","v":""},{"$f":"IF('保険料申告内訳名簿（一人親方団体控）'!E77=\"\",\"\",'保険料申告内訳名簿（一人親方団体控）'!E77)","v":""},{"$f":"IF('保険料申告内訳名簿（一人親方団体控）'!F77=\"\",\"\",'保険料申告内訳名簿（一人親方団体控）'!F77)","v":""},{"$f":"IF('保険料申告内訳名簿（一人親方団体控）'!G77=\"\",\"\",'保険料申告内訳名簿（一人親方団体控）'!G77)","v":""},{"$f":"IF('保険料申告内訳名簿（一人親方団体控）'!H77=\"\",\"\",'保険料申告内訳名簿（一人親方団体控）'!H77)","v":""},{"$f":"IF('保険料申告内訳名簿（一人親方団体控）'!I77=\"\",\"\",'保険料申告内訳名簿（一人親方団体控）'!I77)","v":""},{"$f":"IF('保険料申告内訳名簿（一人親方団体控）'!J77=\"\",\"\",'保険料申告内訳名簿（一人親方団体控）'!J77)","v":""},{"$f":"IF('保険料申告内訳名簿（一人親方団体控）'!K77=\"\",\"\",'保険料申告内訳名簿（一人親方団体控）'!K77)","v":""},{"$f":"IF('保険料申告内訳名簿（一人親方団体控）'!L77=\"\",\"\",'保険料申告内訳名簿（一人親方団体控）'!L77)","v":""},{"$f":"IF('保険料申告内訳名簿（一人親方団体控）'!M77=\"\",\"\",'保険料申告内訳名簿（一人親方団体控）'!M77)","v":""},{"$f":"IF('保険料申告内訳名簿（一人親方団体控）'!N77=\"\",\"\",'保険料申告内訳名簿（一人親方団体控）'!N77)","v":""},{"$f":"IF('保険料申告内訳名簿（一人親方団体控）'!O77=\"\",\"\",'保険料申告内訳名簿（一人親方団体控）'!O77)","v":""},{"$f":"IF('保険料申告内訳名簿（一人親方団体控）'!P77=\"\",\"\",'保険料申告内訳名簿（一人親方団体控）'!P77)","v":""},{"$f":"IF('保険料申告内訳名簿（一人親方団体控）'!Q77=\"\",\"\",'保険料申告内訳名簿（一人親方団体控）'!Q77)","v":""},{"$f":"IF('保険料申告内訳名簿（一人親方団体控）'!R77=\"\",\"\",'保険料申告内訳名簿（一人親方団体控）'!R77)","v":""},{"$f":"IF('保険料申告内訳名簿（一人親方団体控）'!S77=\"\",\"\",'保険料申告内訳名簿（一人親方団体控）'!S77)","v":0},{"$f":"IF('保険料申告内訳名簿（一人親方団体控）'!T77=\"\",\"\",'保険料申告内訳名簿（一人親方団体控）'!T77)","v":""},{"$f":"IF('保険料申告内訳名簿（一人親方団体控）'!U77=\"\",\"\",'保険料申告内訳名簿（一人親方団体控）'!U77)","v":""},{"$f":"IF('保険料申告内訳名簿（一人親方団体控）'!V77=\"\",\"\",'保険料申告内訳名簿（一人親方団体控）'!V77)","v":""},{"$f":"IF('保険料申告内訳名簿（一人親方団体控）'!W77=\"\",\"\",'保険料申告内訳名簿（一人親方団体控）'!W77)","v":""},{"$f":"IF('保険料申告内訳名簿（一人親方団体控）'!X77=\"\",\"\",'保険料申告内訳名簿（一人親方団体控）'!X77)","v":""},{"$f":"IF('保険料申告内訳名簿（一人親方団体控）'!Y77=\"\",\"\",'保険料申告内訳名簿（一人親方団体控）'!Y77)","v":""},{"$f":"IF('保険料申告内訳名簿（一人親方団体控）'!Z77=\"\",\"\",'保険料申告内訳名簿（一人親方団体控）'!Z77)","v":""},{"$f":"IF('保険料申告内訳名簿（一人親方団体控）'!AA77=\"\",\"\",'保険料申告内訳名簿（一人親方団体控）'!AA77)","v":""},{"$f":"IF('保険料申告内訳名簿（一人親方団体控）'!AB77=\"\",\"\",'保険料申告内訳名簿（一人親方団体控）'!AB77)","v":""},{"$f":"IF('保険料申告内訳名簿（一人親方団体控）'!AC77=\"\",\"\",'保険料申告内訳名簿（一人親方団体控）'!AC77)","v":0},{"$f":"IF('保険料申告内訳名簿（一人親方団体控）'!AD77=\"\",\"\",'保険料申告内訳名簿（一人親方団体控）'!AD77)","v":""},{"$f":"IF('保険料申告内訳名簿（一人親方団体控）'!AE77=\"\",\"\",'保険料申告内訳名簿（一人親方団体控）'!AE77)","v":""},{"$f":"IF('保険料申告内訳名簿（一人親方団体控）'!AF77=\"\",\"\",'保険料申告内訳名簿（一人親方団体控）'!AF77)","v":""},{"$f":"IF('保険料申告内訳名簿（一人親方団体控）'!AG77=\"\",\"\",'保険料申告内訳名簿（一人親方団体控）'!AG77)","v":""},{"$f":"IF('保険料申告内訳名簿（一人親方団体控）'!AH77=\"\",\"\",'保険料申告内訳名簿（一人親方団体控）'!AH77)","v":""}]
[null,{"$f":"IF('保険料申告内訳名簿（一人親方団体控）'!B78=\"\",\"\",'保険料申告内訳名簿（一人親方団体控）'!B78)","v":""},{"$f":"IF('保険料申告内訳名簿（一人親方団体控）'!C78=\"\",\"\",'保険料申告内訳名簿（一人親方団体控）'!C78)","v":""},{"$f":"IF('保険料申告内訳名簿（一人親方団体控）'!D78=\"\",\"\",'保険料申告内訳名簿（一人親方団体控）'!D78)","v":""},{"$f":"IF('保険料申告内訳名簿（一人親方団体控）'!E78=\"\",\"\",'保険料申告内訳名簿（一人親方団体控）'!E78)","v":""},{"$f":"IF('保険料申告内訳名簿（一人親方団体控）'!F78=\"\",\"\",'保険料申告内訳名簿（一人親方団体控）'!F78)","v":""},{"$f":"IF('保険料申告内訳名簿（一人親方団体控）'!G78=\"\",\"\",'保険料申告内訳名簿（一人親方団体控）'!G78)","v":""},{"$f":"IF('保険料申告内訳名簿（一人親方団体控）'!H78=\"\",\"\",'保険料申告内訳名簿（一人親方団体控）'!H78)","v":""},{"$f":"IF('保険料申告内訳名簿（一人親方団体控）'!I78=\"\",\"\",'保険料申告内訳名簿（一人親方団体控）'!I78)","v":""},{"$f":"IF('保険料申告内訳名簿（一人親方団体控）'!J78=\"\",\"\",'保険料申告内訳名簿（一人親方団体控）'!J78)","v":""},{"$f":"IF('保険料申告内訳名簿（一人親方団体控）'!K78=\"\",\"\",'保険料申告内訳名簿（一人親方団体控）'!K78)","v":""},{"$f":"IF('保険料申告内訳名簿（一人親方団体控）'!L78=\"\",\"\",'保険料申告内訳名簿（一人親方団体控）'!L78)","v":""},{"$f":"IF('保険料申告内訳名簿（一人親方団体控）'!M78=\"\",\"\",'保険料申告内訳名簿（一人親方団体控）'!M78)","v":""},{"$f":"IF('保険料申告内訳名簿（一人親方団体控）'!N78=\"\",\"\",'保険料申告内訳名簿（一人親方団体控）'!N78)","v":""},{"$f":"IF('保険料申告内訳名簿（一人親方団体控）'!O78=\"\",\"\",'保険料申告内訳名簿（一人親方団体控）'!O78)","v":""},{"$f":"IF('保険料申告内訳名簿（一人親方団体控）'!P78=\"\",\"\",'保険料申告内訳名簿（一人親方団体控）'!P78)","v":""},{"$f":"IF('保険料申告内訳名簿（一人親方団体控）'!Q78=\"\",\"\",'保険料申告内訳名簿（一人親方団体控）'!Q78)","v":""},{"$f":"IF('保険料申告内訳名簿（一人親方団体控）'!R78=\"\",\"\",'保険料申告内訳名簿（一人親方団体控）'!R78)","v":""},{"$f":"IF('保険料申告内訳名簿（一人親方団体控）'!S78=\"\",\"\",'保険料申告内訳名簿（一人親方団体控）'!S78)","v":0},{"$f":"IF('保険料申告内訳名簿（一人親方団体控）'!T78=\"\",\"\",'保険料申告内訳名簿（一人親方団体控）'!T78)","v":""},{"$f":"IF('保険料申告内訳名簿（一人親方団体控）'!U78=\"\",\"\",'保険料申告内訳名簿（一人親方団体控）'!U78)","v":""},{"$f":"IF('保険料申告内訳名簿（一人親方団体控）'!V78=\"\",\"\",'保険料申告内訳名簿（一人親方団体控）'!V78)","v":""},{"$f":"IF('保険料申告内訳名簿（一人親方団体控）'!W78=\"\",\"\",'保険料申告内訳名簿（一人親方団体控）'!W78)","v":""},{"$f":"IF('保険料申告内訳名簿（一人親方団体控）'!X78=\"\",\"\",'保険料申告内訳名簿（一人親方団体控）'!X78)","v":""},{"$f":"IF('保険料申告内訳名簿（一人親方団体控）'!Y78=\"\",\"\",'保険料申告内訳名簿（一人親方団体控）'!Y78)","v":""},{"$f":"IF('保険料申告内訳名簿（一人親方団体控）'!Z78=\"\",\"\",'保険料申告内訳名簿（一人親方団体控）'!Z78)","v":""},{"$f":"IF('保険料申告内訳名簿（一人親方団体控）'!AA78=\"\",\"\",'保険料申告内訳名簿（一人親方団体控）'!AA78)","v":""},{"$f":"IF('保険料申告内訳名簿（一人親方団体控）'!AB78=\"\",\"\",'保険料申告内訳名簿（一人親方団体控）'!AB78)","v":""},{"$f":"IF('保険料申告内訳名簿（一人親方団体控）'!AC78=\"\",\"\",'保険料申告内訳名簿（一人親方団体控）'!AC78)","v":0},{"$f":"IF('保険料申告内訳名簿（一人親方団体控）'!AD78=\"\",\"\",'保険料申告内訳名簿（一人親方団体控）'!AD78)","v":""},{"$f":"IF('保険料申告内訳名簿（一人親方団体控）'!AE78=\"\",\"\",'保険料申告内訳名簿（一人親方団体控）'!AE78)","v":""},{"$f":"IF('保険料申告内訳名簿（一人親方団体控）'!AF78=\"\",\"\",'保険料申告内訳名簿（一人親方団体控）'!AF78)","v":""},{"$f":"IF('保険料申告内訳名簿（一人親方団体控）'!AG78=\"\",\"\",'保険料申告内訳名簿（一人親方団体控）'!AG78)","v":""},{"$f":"IF('保険料申告内訳名簿（一人親方団体控）'!AH78=\"\",\"\",'保険料申告内訳名簿（一人親方団体控）'!AH78)","v":""}]
[null,{"$f":"IF('保険料申告内訳名簿（一人親方団体控）'!B79=\"\",\"\",'保険料申告内訳名簿（一人親方団体控）'!B79)","v":""},{"$f":"IF('保険料申告内訳名簿（一人親方団体控）'!C79=\"\",\"\",'保険料申告内訳名簿（一人親方団体控）'!C79)","v":""},{"$f":"IF('保険料申告内訳名簿（一人親方団体控）'!D79=\"\",\"\",'保険料申告内訳名簿（一人親方団体控）'!D79)","v":""},{"$f":"IF('保険料申告内訳名簿（一人親方団体控）'!E79=\"\",\"\",'保険料申告内訳名簿（一人親方団体控）'!E79)","v":""},{"$f":"IF('保険料申告内訳名簿（一人親方団体控）'!F79=\"\",\"\",'保険料申告内訳名簿（一人親方団体控）'!F79)","v":""},{"$f":"IF('保険料申告内訳名簿（一人親方団体控）'!G79=\"\",\"\",'保険料申告内訳名簿（一人親方団体控）'!G79)","v":""},{"$f":"IF('保険料申告内訳名簿（一人親方団体控）'!H79=\"\",\"\",'保険料申告内訳名簿（一人親方団体控）'!H79)","v":""},{"$f":"IF('保険料申告内訳名簿（一人親方団体控）'!I79=\"\",\"\",'保険料申告内訳名簿（一人親方団体控）'!I79)","v":""},{"$f":"IF('保険料申告内訳名簿（一人親方団体控）'!J79=\"\",\"\",'保険料申告内訳名簿（一人親方団体控）'!J79)","v":""},{"$f":"IF('保険料申告内訳名簿（一人親方団体控）'!K79=\"\",\"\",'保険料申告内訳名簿（一人親方団体控）'!K79)","v":""},{"$f":"IF('保険料申告内訳名簿（一人親方団体控）'!L79=\"\",\"\",'保険料申告内訳名簿（一人親方団体控）'!L79)","v":""},{"$f":"IF('保険料申告内訳名簿（一人親方団体控）'!M79=\"\",\"\",'保険料申告内訳名簿（一人親方団体控）'!M79)","v":""},{"$f":"IF('保険料申告内訳名簿（一人親方団体控）'!N79=\"\",\"\",'保険料申告内訳名簿（一人親方団体控）'!N79)","v":""},{"$f":"IF('保険料申告内訳名簿（一人親方団体控）'!O79=\"\",\"\",'保険料申告内訳名簿（一人親方団体控）'!O79)","v":""},{"$f":"IF('保険料申告内訳名簿（一人親方団体控）'!P79=\"\",\"\",'保険料申告内訳名簿（一人親方団体控）'!P79)","v":""},{"$f":"IF('保険料申告内訳名簿（一人親方団体控）'!Q79=\"\",\"\",'保険料申告内訳名簿（一人親方団体控）'!Q79)","v":""},{"$f":"IF('保険料申告内訳名簿（一人親方団体控）'!R79=\"\",\"\",'保険料申告内訳名簿（一人親方団体控）'!R79)","v":""},{"$f":"IF('保険料申告内訳名簿（一人親方団体控）'!S79=\"\",\"\",'保険料申告内訳名簿（一人親方団体控）'!S79)","v":0},{"$f":"IF('保険料申告内訳名簿（一人親方団体控）'!T79=\"\",\"\",'保険料申告内訳名簿（一人親方団体控）'!T79)","v":""},{"$f":"IF('保険料申告内訳名簿（一人親方団体控）'!U79=\"\",\"\",'保険料申告内訳名簿（一人親方団体控）'!U79)","v":""},{"$f":"IF('保険料申告内訳名簿（一人親方団体控）'!V79=\"\",\"\",'保険料申告内訳名簿（一人親方団体控）'!V79)","v":""},{"$f":"IF('保険料申告内訳名簿（一人親方団体控）'!W79=\"\",\"\",'保険料申告内訳名簿（一人親方団体控）'!W79)","v":""},{"$f":"IF('保険料申告内訳名簿（一人親方団体控）'!X79=\"\",\"\",'保険料申告内訳名簿（一人親方団体控）'!X79)","v":""},{"$f":"IF('保険料申告内訳名簿（一人親方団体控）'!Y79=\"\",\"\",'保険料申告内訳名簿（一人親方団体控）'!Y79)","v":""},{"$f":"IF('保険料申告内訳名簿（一人親方団体控）'!Z79=\"\",\"\",'保険料申告内訳名簿（一人親方団体控）'!Z79)","v":""},{"$f":"IF('保険料申告内訳名簿（一人親方団体控）'!AA79=\"\",\"\",'保険料申告内訳名簿（一人親方団体控）'!AA79)","v":""},{"$f":"IF('保険料申告内訳名簿（一人親方団体控）'!AB79=\"\",\"\",'保険料申告内訳名簿（一人親方団体控）'!AB79)","v":""},{"$f":"IF('保険料申告内訳名簿（一人親方団体控）'!AC79=\"\",\"\",'保険料申告内訳名簿（一人親方団体控）'!AC79)","v":0},{"$f":"IF('保険料申告内訳名簿（一人親方団体控）'!AD79=\"\",\"\",'保険料申告内訳名簿（一人親方団体控）'!AD79)","v":""},{"$f":"IF('保険料申告内訳名簿（一人親方団体控）'!AE79=\"\",\"\",'保険料申告内訳名簿（一人親方団体控）'!AE79)","v":""},{"$f":"IF('保険料申告内訳名簿（一人親方団体控）'!AF79=\"\",\"\",'保険料申告内訳名簿（一人親方団体控）'!AF79)","v":""},{"$f":"IF('保険料申告内訳名簿（一人親方団体控）'!AG79=\"\",\"\",'保険料申告内訳名簿（一人親方団体控）'!AG79)","v":""},{"$f":"IF('保険料申告内訳名簿（一人親方団体控）'!AH79=\"\",\"\",'保険料申告内訳名簿（一人親方団体控）'!AH79)","v":""}]
[null,{"$f":"IF('保険料申告内訳名簿（一人親方団体控）'!B80=\"\",\"\",'保険料申告内訳名簿（一人親方団体控）'!B80)","v":""},{"$f":"IF('保険料申告内訳名簿（一人親方団体控）'!C80=\"\",\"\",'保険料申告内訳名簿（一人親方団体控）'!C80)","v":""},{"$f":"IF('保険料申告内訳名簿（一人親方団体控）'!D80=\"\",\"\",'保険料申告内訳名簿（一人親方団体控）'!D80)","v":""},{"$f":"IF('保険料申告内訳名簿（一人親方団体控）'!E80=\"\",\"\",'保険料申告内訳名簿（一人親方団体控）'!E80)","v":""},{"$f":"IF('保険料申告内訳名簿（一人親方団体控）'!F80=\"\",\"\",'保険料申告内訳名簿（一人親方団体控）'!F80)","v":""},{"$f":"IF('保険料申告内訳名簿（一人親方団体控）'!G80=\"\",\"\",'保険料申告内訳名簿（一人親方団体控）'!G80)","v":""},{"$f":"IF('保険料申告内訳名簿（一人親方団体控）'!H80=\"\",\"\",'保険料申告内訳名簿（一人親方団体控）'!H80)","v":""},{"$f":"IF('保険料申告内訳名簿（一人親方団体控）'!I80=\"\",\"\",'保険料申告内訳名簿（一人親方団体控）'!I80)","v":""},{"$f":"IF('保険料申告内訳名簿（一人親方団体控）'!J80=\"\",\"\",'保険料申告内訳名簿（一人親方団体控）'!J80)","v":""},{"$f":"IF('保険料申告内訳名簿（一人親方団体控）'!K80=\"\",\"\",'保険料申告内訳名簿（一人親方団体控）'!K80)","v":""},{"$f":"IF('保険料申告内訳名簿（一人親方団体控）'!L80=\"\",\"\",'保険料申告内訳名簿（一人親方団体控）'!L80)","v":""},{"$f":"IF('保険料申告内訳名簿（一人親方団体控）'!M80=\"\",\"\",'保険料申告内訳名簿（一人親方団体控）'!M80)","v":""},{"$f":"IF('保険料申告内訳名簿（一人親方団体控）'!N80=\"\",\"\",'保険料申告内訳名簿（一人親方団体控）'!N80)","v":""},{"$f":"IF('保険料申告内訳名簿（一人親方団体控）'!O80=\"\",\"\",'保険料申告内訳名簿（一人親方団体控）'!O80)","v":""},{"$f":"IF('保険料申告内訳名簿（一人親方団体控）'!P80=\"\",\"\",'保険料申告内訳名簿（一人親方団体控）'!P80)","v":""},{"$f":"IF('保険料申告内訳名簿（一人親方団体控）'!Q80=\"\",\"\",'保険料申告内訳名簿（一人親方団体控）'!Q80)","v":""},{"$f":"IF('保険料申告内訳名簿（一人親方団体控）'!R80=\"\",\"\",'保険料申告内訳名簿（一人親方団体控）'!R80)","v":""},{"$f":"IF('保険料申告内訳名簿（一人親方団体控）'!S80=\"\",\"\",'保険料申告内訳名簿（一人親方団体控）'!S80)","v":0},{"$f":"IF('保険料申告内訳名簿（一人親方団体控）'!T80=\"\",\"\",'保険料申告内訳名簿（一人親方団体控）'!T80)","v":""},{"$f":"IF('保険料申告内訳名簿（一人親方団体控）'!U80=\"\",\"\",'保険料申告内訳名簿（一人親方団体控）'!U80)","v":""},{"$f":"IF('保険料申告内訳名簿（一人親方団体控）'!V80=\"\",\"\",'保険料申告内訳名簿（一人親方団体控）'!V80)","v":""},{"$f":"IF('保険料申告内訳名簿（一人親方団体控）'!W80=\"\",\"\",'保険料申告内訳名簿（一人親方団体控）'!W80)","v":""},{"$f":"IF('保険料申告内訳名簿（一人親方団体控）'!X80=\"\",\"\",'保険料申告内訳名簿（一人親方団体控）'!X80)","v":""},{"$f":"IF('保険料申告内訳名簿（一人親方団体控）'!Y80=\"\",\"\",'保険料申告内訳名簿（一人親方団体控）'!Y80)","v":""},{"$f":"IF('保険料申告内訳名簿（一人親方団体控）'!Z80=\"\",\"\",'保険料申告内訳名簿（一人親方団体控）'!Z80)","v":""},{"$f":"IF('保険料申告内訳名簿（一人親方団体控）'!AA80=\"\",\"\",'保険料申告内訳名簿（一人親方団体控）'!AA80)","v":""},{"$f":"IF('保険料申告内訳名簿（一人親方団体控）'!AB80=\"\",\"\",'保険料申告内訳名簿（一人親方団体控）'!AB80)","v":""},{"$f":"IF('保険料申告内訳名簿（一人親方団体控）'!AC80=\"\",\"\",'保険料申告内訳名簿（一人親方団体控）'!AC80)","v":0},{"$f":"IF('保険料申告内訳名簿（一人親方団体控）'!AD80=\"\",\"\",'保険料申告内訳名簿（一人親方団体控）'!AD80)","v":""},{"$f":"IF('保険料申告内訳名簿（一人親方団体控）'!AE80=\"\",\"\",'保険料申告内訳名簿（一人親方団体控）'!AE80)","v":""},{"$f":"IF('保険料申告内訳名簿（一人親方団体控）'!AF80=\"\",\"\",'保険料申告内訳名簿（一人親方団体控）'!AF80)","v":""},{"$f":"IF('保険料申告内訳名簿（一人親方団体控）'!AG80=\"\",\"\",'保険料申告内訳名簿（一人親方団体控）'!AG80)","v":""},{"$f":"IF('保険料申告内訳名簿（一人親方団体控）'!AH80=\"\",\"\",'保険料申告内訳名簿（一人親方団体控）'!AH80)","v":""}]
[null,{"$f":"IF('保険料申告内訳名簿（一人親方団体控）'!B81=\"\",\"\",'保険料申告内訳名簿（一人親方団体控）'!B81)","v":""},{"$f":"IF('保険料申告内訳名簿（一人親方団体控）'!C81=\"\",\"\",'保険料申告内訳名簿（一人親方団体控）'!C81)","v":""},{"$f":"IF('保険料申告内訳名簿（一人親方団体控）'!D81=\"\",\"\",'保険料申告内訳名簿（一人親方団体控）'!D81)","v":""},{"$f":"IF('保険料申告内訳名簿（一人親方団体控）'!E81=\"\",\"\",'保険料申告内訳名簿（一人親方団体控）'!E81)","v":""},{"$f":"IF('保険料申告内訳名簿（一人親方団体控）'!F81=\"\",\"\",'保険料申告内訳名簿（一人親方団体控）'!F81)","v":""},{"$f":"IF('保険料申告内訳名簿（一人親方団体控）'!G81=\"\",\"\",'保険料申告内訳名簿（一人親方団体控）'!G81)","v":""},{"$f":"IF('保険料申告内訳名簿（一人親方団体控）'!H81=\"\",\"\",'保険料申告内訳名簿（一人親方団体控）'!H81)","v":""},{"$f":"IF('保険料申告内訳名簿（一人親方団体控）'!I81=\"\",\"\",'保険料申告内訳名簿（一人親方団体控）'!I81)","v":""},{"$f":"IF('保険料申告内訳名簿（一人親方団体控）'!J81=\"\",\"\",'保険料申告内訳名簿（一人親方団体控）'!J81)","v":""},{"$f":"IF('保険料申告内訳名簿（一人親方団体控）'!K81=\"\",\"\",'保険料申告内訳名簿（一人親方団体控）'!K81)","v":""},{"$f":"IF('保険料申告内訳名簿（一人親方団体控）'!L81=\"\",\"\",'保険料申告内訳名簿（一人親方団体控）'!L81)","v":""},{"$f":"IF('保険料申告内訳名簿（一人親方団体控）'!M81=\"\",\"\",'保険料申告内訳名簿（一人親方団体控）'!M81)","v":""},{"$f":"IF('保険料申告内訳名簿（一人親方団体控）'!N81=\"\",\"\",'保険料申告内訳名簿（一人親方団体控）'!N81)","v":""},{"$f":"IF('保険料申告内訳名簿（一人親方団体控）'!O81=\"\",\"\",'保険料申告内訳名簿（一人親方団体控）'!O81)","v":""},{"$f":"IF('保険料申告内訳名簿（一人親方団体控）'!P81=\"\",\"\",'保険料申告内訳名簿（一人親方団体控）'!P81)","v":""},{"$f":"IF('保険料申告内訳名簿（一人親方団体控）'!Q81=\"\",\"\",'保険料申告内訳名簿（一人親方団体控）'!Q81)","v":""},{"$f":"IF('保険料申告内訳名簿（一人親方団体控）'!R81=\"\",\"\",'保険料申告内訳名簿（一人親方団体控）'!R81)","v":""},{"$f":"IF('保険料申告内訳名簿（一人親方団体控）'!S81=\"\",\"\",'保険料申告内訳名簿（一人親方団体控）'!S81)","v":0},{"$f":"IF('保険料申告内訳名簿（一人親方団体控）'!T81=\"\",\"\",'保険料申告内訳名簿（一人親方団体控）'!T81)","v":""},{"$f":"IF('保険料申告内訳名簿（一人親方団体控）'!U81=\"\",\"\",'保険料申告内訳名簿（一人親方団体控）'!U81)","v":""},{"$f":"IF('保険料申告内訳名簿（一人親方団体控）'!V81=\"\",\"\",'保険料申告内訳名簿（一人親方団体控）'!V81)","v":""},{"$f":"IF('保険料申告内訳名簿（一人親方団体控）'!W81=\"\",\"\",'保険料申告内訳名簿（一人親方団体控）'!W81)","v":""},{"$f":"IF('保険料申告内訳名簿（一人親方団体控）'!X81=\"\",\"\",'保険料申告内訳名簿（一人親方団体控）'!X81)","v":""},{"$f":"IF('保険料申告内訳名簿（一人親方団体控）'!Y81=\"\",\"\",'保険料申告内訳名簿（一人親方団体控）'!Y81)","v":""},{"$f":"IF('保険料申告内訳名簿（一人親方団体控）'!Z81=\"\",\"\",'保険料申告内訳名簿（一人親方団体控）'!Z81)","v":""},{"$f":"IF('保険料申告内訳名簿（一人親方団体控）'!AA81=\"\",\"\",'保険料申告内訳名簿（一人親方団体控）'!AA81)","v":""},{"$f":"IF('保険料申告内訳名簿（一人親方団体控）'!AB81=\"\",\"\",'保険料申告内訳名簿（一人親方団体控）'!AB81)","v":""},{"$f":"IF('保険料申告内訳名簿（一人親方団体控）'!AC81=\"\",\"\",'保険料申告内訳名簿（一人親方団体控）'!AC81)","v":0},{"$f":"IF('保険料申告内訳名簿（一人親方団体控）'!AD81=\"\",\"\",'保険料申告内訳名簿（一人親方団体控）'!AD81)","v":""},{"$f":"IF('保険料申告内訳名簿（一人親方団体控）'!AE81=\"\",\"\",'保険料申告内訳名簿（一人親方団体控）'!AE81)","v":""},{"$f":"IF('保険料申告内訳名簿（一人親方団体控）'!AF81=\"\",\"\",'保険料申告内訳名簿（一人親方団体控）'!AF81)","v":""},{"$f":"IF('保険料申告内訳名簿（一人親方団体控）'!AG81=\"\",\"\",'保険料申告内訳名簿（一人親方団体控）'!AG81)","v":""},{"$f":"IF('保険料申告内訳名簿（一人親方団体控）'!AH81=\"\",\"\",'保険料申告内訳名簿（一人親方団体控）'!AH81)","v":""}]
[null,{"$f":"IF('保険料申告内訳名簿（一人親方団体控）'!B82=\"\",\"\",'保険料申告内訳名簿（一人親方団体控）'!B82)","v":""},{"$f":"IF('保険料申告内訳名簿（一人親方団体控）'!C82=\"\",\"\",'保険料申告内訳名簿（一人親方団体控）'!C82)","v":""},{"$f":"IF('保険料申告内訳名簿（一人親方団体控）'!D82=\"\",\"\",'保険料申告内訳名簿（一人親方団体控）'!D82)","v":""},{"$f":"IF('保険料申告内訳名簿（一人親方団体控）'!E82=\"\",\"\",'保険料申告内訳名簿（一人親方団体控）'!E82)","v":""},{"$f":"IF('保険料申告内訳名簿（一人親方団体控）'!F82=\"\",\"\",'保険料申告内訳名簿（一人親方団体控）'!F82)","v":""},{"$f":"IF('保険料申告内訳名簿（一人親方団体控）'!G82=\"\",\"\",'保険料申告内訳名簿（一人親方団体控）'!G82)","v":""},{"$f":"IF('保険料申告内訳名簿（一人親方団体控）'!H82=\"\",\"\",'保険料申告内訳名簿（一人親方団体控）'!H82)","v":""},{"$f":"IF('保険料申告内訳名簿（一人親方団体控）'!I82=\"\",\"\",'保険料申告内訳名簿（一人親方団体控）'!I82)","v":""},{"$f":"IF('保険料申告内訳名簿（一人親方団体控）'!J82=\"\",\"\",'保険料申告内訳名簿（一人親方団体控）'!J82)","v":""},{"$f":"IF('保険料申告内訳名簿（一人親方団体控）'!K82=\"\",\"\",'保険料申告内訳名簿（一人親方団体控）'!K82)","v":""},{"$f":"IF('保険料申告内訳名簿（一人親方団体控）'!L82=\"\",\"\",'保険料申告内訳名簿（一人親方団体控）'!L82)","v":""},{"$f":"IF('保険料申告内訳名簿（一人親方団体控）'!M82=\"\",\"\",'保険料申告内訳名簿（一人親方団体控）'!M82)","v":""},{"$f":"IF('保険料申告内訳名簿（一人親方団体控）'!N82=\"\",\"\",'保険料申告内訳名簿（一人親方団体控）'!N82)","v":""},{"$f":"IF('保険料申告内訳名簿（一人親方団体控）'!O82=\"\",\"\",'保険料申告内訳名簿（一人親方団体控）'!O82)","v":""},{"$f":"IF('保険料申告内訳名簿（一人親方団体控）'!P82=\"\",\"\",'保険料申告内訳名簿（一人親方団体控）'!P82)","v":""},{"$f":"IF('保険料申告内訳名簿（一人親方団体控）'!Q82=\"\",\"\",'保険料申告内訳名簿（一人親方団体控）'!Q82)","v":""},{"$f":"IF('保険料申告内訳名簿（一人親方団体控）'!R82=\"\",\"\",'保険料申告内訳名簿（一人親方団体控）'!R82)","v":""},{"$f":"IF('保険料申告内訳名簿（一人親方団体控）'!S82=\"\",\"\",'保険料申告内訳名簿（一人親方団体控）'!S82)","v":0},{"$f":"IF('保険料申告内訳名簿（一人親方団体控）'!T82=\"\",\"\",'保険料申告内訳名簿（一人親方団体控）'!T82)","v":""},{"$f":"IF('保険料申告内訳名簿（一人親方団体控）'!U82=\"\",\"\",'保険料申告内訳名簿（一人親方団体控）'!U82)","v":""},{"$f":"IF('保険料申告内訳名簿（一人親方団体控）'!V82=\"\",\"\",'保険料申告内訳名簿（一人親方団体控）'!V82)","v":""},{"$f":"IF('保険料申告内訳名簿（一人親方団体控）'!W82=\"\",\"\",'保険料申告内訳名簿（一人親方団体控）'!W82)","v":""},{"$f":"IF('保険料申告内訳名簿（一人親方団体控）'!X82=\"\",\"\",'保険料申告内訳名簿（一人親方団体控）'!X82)","v":""},{"$f":"IF('保険料申告内訳名簿（一人親方団体控）'!Y82=\"\",\"\",'保険料申告内訳名簿（一人親方団体控）'!Y82)","v":""},{"$f":"IF('保険料申告内訳名簿（一人親方団体控）'!Z82=\"\",\"\",'保険料申告内訳名簿（一人親方団体控）'!Z82)","v":""},{"$f":"IF('保険料申告内訳名簿（一人親方団体控）'!AA82=\"\",\"\",'保険料申告内訳名簿（一人親方団体控）'!AA82)","v":""},{"$f":"IF('保険料申告内訳名簿（一人親方団体控）'!AB82=\"\",\"\",'保険料申告内訳名簿（一人親方団体控）'!AB82)","v":""},{"$f":"IF('保険料申告内訳名簿（一人親方団体控）'!AC82=\"\",\"\",'保険料申告内訳名簿（一人親方団体控）'!AC82)","v":0},{"$f":"IF('保険料申告内訳名簿（一人親方団体控）'!AD82=\"\",\"\",'保険料申告内訳名簿（一人親方団体控）'!AD82)","v":""},{"$f":"IF('保険料申告内訳名簿（一人親方団体控）'!AE82=\"\",\"\",'保険料申告内訳名簿（一人親方団体控）'!AE82)","v":""},{"$f":"IF('保険料申告内訳名簿（一人親方団体控）'!AF82=\"\",\"\",'保険料申告内訳名簿（一人親方団体控）'!AF82)","v":""},{"$f":"IF('保険料申告内訳名簿（一人親方団体控）'!AG82=\"\",\"\",'保険料申告内訳名簿（一人親方団体控）'!AG82)","v":""},{"$f":"IF('保険料申告内訳名簿（一人親方団体控）'!AH82=\"\",\"\",'保険料申告内訳名簿（一人親方団体控）'!AH82)","v":""}]
[null,{"$f":"IF('保険料申告内訳名簿（一人親方団体控）'!B83=\"\",\"\",'保険料申告内訳名簿（一人親方団体控）'!B83)","v":""},{"$f":"IF('保険料申告内訳名簿（一人親方団体控）'!C83=\"\",\"\",'保険料申告内訳名簿（一人親方団体控）'!C83)","v":""},{"$f":"IF('保険料申告内訳名簿（一人親方団体控）'!D83=\"\",\"\",'保険料申告内訳名簿（一人親方団体控）'!D83)","v":""},{"$f":"IF('保険料申告内訳名簿（一人親方団体控）'!E83=\"\",\"\",'保険料申告内訳名簿（一人親方団体控）'!E83)","v":""},{"$f":"IF('保険料申告内訳名簿（一人親方団体控）'!F83=\"\",\"\",'保険料申告内訳名簿（一人親方団体控）'!F83)","v":""},{"$f":"IF('保険料申告内訳名簿（一人親方団体控）'!G83=\"\",\"\",'保険料申告内訳名簿（一人親方団体控）'!G83)","v":""},{"$f":"IF('保険料申告内訳名簿（一人親方団体控）'!H83=\"\",\"\",'保険料申告内訳名簿（一人親方団体控）'!H83)","v":""},{"$f":"IF('保険料申告内訳名簿（一人親方団体控）'!I83=\"\",\"\",'保険料申告内訳名簿（一人親方団体控）'!I83)","v":""},{"$f":"IF('保険料申告内訳名簿（一人親方団体控）'!J83=\"\",\"\",'保険料申告内訳名簿（一人親方団体控）'!J83)","v":""},{"$f":"IF('保険料申告内訳名簿（一人親方団体控）'!K83=\"\",\"\",'保険料申告内訳名簿（一人親方団体控）'!K83)","v":""},{"$f":"IF('保険料申告内訳名簿（一人親方団体控）'!L83=\"\",\"\",'保険料申告内訳名簿（一人親方団体控）'!L83)","v":""},{"$f":"IF('保険料申告内訳名簿（一人親方団体控）'!M83=\"\",\"\",'保険料申告内訳名簿（一人親方団体控）'!M83)","v":""},{"$f":"IF('保険料申告内訳名簿（一人親方団体控）'!N83=\"\",\"\",'保険料申告内訳名簿（一人親方団体控）'!N83)","v":""},{"$f":"IF('保険料申告内訳名簿（一人親方団体控）'!O83=\"\",\"\",'保険料申告内訳名簿（一人親方団体控）'!O83)","v":""},{"$f":"IF('保険料申告内訳名簿（一人親方団体控）'!P83=\"\",\"\",'保険料申告内訳名簿（一人親方団体控）'!P83)","v":""},{"$f":"IF('保険料申告内訳名簿（一人親方団体控）'!Q83=\"\",\"\",'保険料申告内訳名簿（一人親方団体控）'!Q83)","v":""},{"$f":"IF('保険料申告内訳名簿（一人親方団体控）'!R83=\"\",\"\",'保険料申告内訳名簿（一人親方団体控）'!R83)","v":""},{"$f":"IF('保険料申告内訳名簿（一人親方団体控）'!S83=\"\",\"\",'保険料申告内訳名簿（一人親方団体控）'!S83)","v":0},{"$f":"IF('保険料申告内訳名簿（一人親方団体控）'!T83=\"\",\"\",'保険料申告内訳名簿（一人親方団体控）'!T83)","v":""},{"$f":"IF('保険料申告内訳名簿（一人親方団体控）'!U83=\"\",\"\",'保険料申告内訳名簿（一人親方団体控）'!U83)","v":""},{"$f":"IF('保険料申告内訳名簿（一人親方団体控）'!V83=\"\",\"\",'保険料申告内訳名簿（一人親方団体控）'!V83)","v":""},{"$f":"IF('保険料申告内訳名簿（一人親方団体控）'!W83=\"\",\"\",'保険料申告内訳名簿（一人親方団体控）'!W83)","v":""},{"$f":"IF('保険料申告内訳名簿（一人親方団体控）'!X83=\"\",\"\",'保険料申告内訳名簿（一人親方団体控）'!X83)","v":""},{"$f":"IF('保険料申告内訳名簿（一人親方団体控）'!Y83=\"\",\"\",'保険料申告内訳名簿（一人親方団体控）'!Y83)","v":""},{"$f":"IF('保険料申告内訳名簿（一人親方団体控）'!Z83=\"\",\"\",'保険料申告内訳名簿（一人親方団体控）'!Z83)","v":""},{"$f":"IF('保険料申告内訳名簿（一人親方団体控）'!AA83=\"\",\"\",'保険料申告内訳名簿（一人親方団体控）'!AA83)","v":""},{"$f":"IF('保険料申告内訳名簿（一人親方団体控）'!AB83=\"\",\"\",'保険料申告内訳名簿（一人親方団体控）'!AB83)","v":""},{"$f":"IF('保険料申告内訳名簿（一人親方団体控）'!AC83=\"\",\"\",'保険料申告内訳名簿（一人親方団体控）'!AC83)","v":0},{"$f":"IF('保険料申告内訳名簿（一人親方団体控）'!AD83=\"\",\"\",'保険料申告内訳名簿（一人親方団体控）'!AD83)","v":""},{"$f":"IF('保険料申告内訳名簿（一人親方団体控）'!AE83=\"\",\"\",'保険料申告内訳名簿（一人親方団体控）'!AE83)","v":""},{"$f":"IF('保険料申告内訳名簿（一人親方団体控）'!AF83=\"\",\"\",'保険料申告内訳名簿（一人親方団体控）'!AF83)","v":""},{"$f":"IF('保険料申告内訳名簿（一人親方団体控）'!AG83=\"\",\"\",'保険料申告内訳名簿（一人親方団体控）'!AG83)","v":""},{"$f":"IF('保険料申告内訳名簿（一人親方団体控）'!AH83=\"\",\"\",'保険料申告内訳名簿（一人親方団体控）'!AH83)","v":""}]
[null,{"$f":"IF('保険料申告内訳名簿（一人親方団体控）'!B84=\"\",\"\",'保険料申告内訳名簿（一人親方団体控）'!B84)","v":""},{"$f":"IF('保険料申告内訳名簿（一人親方団体控）'!C84=\"\",\"\",'保険料申告内訳名簿（一人親方団体控）'!C84)","v":""},{"$f":"IF('保険料申告内訳名簿（一人親方団体控）'!D84=\"\",\"\",'保険料申告内訳名簿（一人親方団体控）'!D84)","v":""},{"$f":"IF('保険料申告内訳名簿（一人親方団体控）'!E84=\"\",\"\",'保険料申告内訳名簿（一人親方団体控）'!E84)","v":""},{"$f":"IF('保険料申告内訳名簿（一人親方団体控）'!F84=\"\",\"\",'保険料申告内訳名簿（一人親方団体控）'!F84)","v":""},{"$f":"IF('保険料申告内訳名簿（一人親方団体控）'!G84=\"\",\"\",'保険料申告内訳名簿（一人親方団体控）'!G84)","v":""},{"$f":"IF('保険料申告内訳名簿（一人親方団体控）'!H84=\"\",\"\",'保険料申告内訳名簿（一人親方団体控）'!H84)","v":""},{"$f":"IF('保険料申告内訳名簿（一人親方団体控）'!I84=\"\",\"\",'保険料申告内訳名簿（一人親方団体控）'!I84)","v":""},{"$f":"IF('保険料申告内訳名簿（一人親方団体控）'!J84=\"\",\"\",'保険料申告内訳名簿（一人親方団体控）'!J84)","v":""},{"$f":"IF('保険料申告内訳名簿（一人親方団体控）'!K84=\"\",\"\",'保険料申告内訳名簿（一人親方団体控）'!K84)","v":""},{"$f":"IF('保険料申告内訳名簿（一人親方団体控）'!L84=\"\",\"\",'保険料申告内訳名簿（一人親方団体控）'!L84)","v":""},{"$f":"IF('保険料申告内訳名簿（一人親方団体控）'!M84=\"\",\"\",'保険料申告内訳名簿（一人親方団体控）'!M84)","v":""},{"$f":"IF('保険料申告内訳名簿（一人親方団体控）'!N84=\"\",\"\",'保険料申告内訳名簿（一人親方団体控）'!N84)","v":""},{"$f":"IF('保険料申告内訳名簿（一人親方団体控）'!O84=\"\",\"\",'保険料申告内訳名簿（一人親方団体控）'!O84)","v":""},{"$f":"IF('保険料申告内訳名簿（一人親方団体控）'!P84=\"\",\"\",'保険料申告内訳名簿（一人親方団体控）'!P84)","v":""},{"$f":"IF('保険料申告内訳名簿（一人親方団体控）'!Q84=\"\",\"\",'保険料申告内訳名簿（一人親方団体控）'!Q84)","v":""},{"$f":"IF('保険料申告内訳名簿（一人親方団体控）'!R84=\"\",\"\",'保険料申告内訳名簿（一人親方団体控）'!R84)","v":""},{"$f":"IF('保険料申告内訳名簿（一人親方団体控）'!S84=\"\",\"\",'保険料申告内訳名簿（一人親方団体控）'!S84)","v":0},{"$f":"IF('保険料申告内訳名簿（一人親方団体控）'!T84=\"\",\"\",'保険料申告内訳名簿（一人親方団体控）'!T84)","v":""},{"$f":"IF('保険料申告内訳名簿（一人親方団体控）'!U84=\"\",\"\",'保険料申告内訳名簿（一人親方団体控）'!U84)","v":""},{"$f":"IF('保険料申告内訳名簿（一人親方団体控）'!V84=\"\",\"\",'保険料申告内訳名簿（一人親方団体控）'!V84)","v":""},{"$f":"IF('保険料申告内訳名簿（一人親方団体控）'!W84=\"\",\"\",'保険料申告内訳名簿（一人親方団体控）'!W84)","v":""},{"$f":"IF('保険料申告内訳名簿（一人親方団体控）'!X84=\"\",\"\",'保険料申告内訳名簿（一人親方団体控）'!X84)","v":""},{"$f":"IF('保険料申告内訳名簿（一人親方団体控）'!Y84=\"\",\"\",'保険料申告内訳名簿（一人親方団体控）'!Y84)","v":""},{"$f":"IF('保険料申告内訳名簿（一人親方団体控）'!Z84=\"\",\"\",'保険料申告内訳名簿（一人親方団体控）'!Z84)","v":""},{"$f":"IF('保険料申告内訳名簿（一人親方団体控）'!AA84=\"\",\"\",'保険料申告内訳名簿（一人親方団体控）'!AA84)","v":""},{"$f":"IF('保険料申告内訳名簿（一人親方団体控）'!AB84=\"\",\"\",'保険料申告内訳名簿（一人親方団体控）'!AB84)","v":""},{"$f":"IF('保険料申告内訳名簿（一人親方団体控）'!AC84=\"\",\"\",'保険料申告内訳名簿（一人親方団体控）'!AC84)","v":0},{"$f":"IF('保険料申告内訳名簿（一人親方団体控）'!AD84=\"\",\"\",'保険料申告内訳名簿（一人親方団体控）'!AD84)","v":""},{"$f":"IF('保険料申告内訳名簿（一人親方団体控）'!AE84=\"\",\"\",'保険料申告内訳名簿（一人親方団体控）'!AE84)","v":""},{"$f":"IF('保険料申告内訳名簿（一人親方団体控）'!AF84=\"\",\"\",'保険料申告内訳名簿（一人親方団体控）'!AF84)","v":""},{"$f":"IF('保険料申告内訳名簿（一人親方団体控）'!AG84=\"\",\"\",'保険料申告内訳名簿（一人親方団体控）'!AG84)","v":""},{"$f":"IF('保険料申告内訳名簿（一人親方団体控）'!AH84=\"\",\"\",'保険料申告内訳名簿（一人親方団体控）'!AH84)","v":""}]
[null,{"$f":"IF('保険料申告内訳名簿（一人親方団体控）'!B85=\"\",\"\",'保険料申告内訳名簿（一人親方団体控）'!B85)","v":""},{"$f":"IF('保険料申告内訳名簿（一人親方団体控）'!C85=\"\",\"\",'保険料申告内訳名簿（一人親方団体控）'!C85)","v":""},{"$f":"IF('保険料申告内訳名簿（一人親方団体控）'!D85=\"\",\"\",'保険料申告内訳名簿（一人親方団体控）'!D85)","v":""},{"$f":"IF('保険料申告内訳名簿（一人親方団体控）'!E85=\"\",\"\",'保険料申告内訳名簿（一人親方団体控）'!E85)","v":""},{"$f":"IF('保険料申告内訳名簿（一人親方団体控）'!F85=\"\",\"\",'保険料申告内訳名簿（一人親方団体控）'!F85)","v":""},{"$f":"IF('保険料申告内訳名簿（一人親方団体控）'!G85=\"\",\"\",'保険料申告内訳名簿（一人親方団体控）'!G85)","v":""},{"$f":"IF('保険料申告内訳名簿（一人親方団体控）'!H85=\"\",\"\",'保険料申告内訳名簿（一人親方団体控）'!H85)","v":""},{"$f":"IF('保険料申告内訳名簿（一人親方団体控）'!I85=\"\",\"\",'保険料申告内訳名簿（一人親方団体控）'!I85)","v":""},{"$f":"IF('保険料申告内訳名簿（一人親方団体控）'!J85=\"\",\"\",'保険料申告内訳名簿（一人親方団体控）'!J85)","v":""},{"$f":"IF('保険料申告内訳名簿（一人親方団体控）'!K85=\"\",\"\",'保険料申告内訳名簿（一人親方団体控）'!K85)","v":""},{"$f":"IF('保険料申告内訳名簿（一人親方団体控）'!L85=\"\",\"\",'保険料申告内訳名簿（一人親方団体控）'!L85)","v":""},{"$f":"IF('保険料申告内訳名簿（一人親方団体控）'!M85=\"\",\"\",'保険料申告内訳名簿（一人親方団体控）'!M85)","v":""},{"$f":"IF('保険料申告内訳名簿（一人親方団体控）'!N85=\"\",\"\",'保険料申告内訳名簿（一人親方団体控）'!N85)","v":""},{"$f":"IF('保険料申告内訳名簿（一人親方団体控）'!O85=\"\",\"\",'保険料申告内訳名簿（一人親方団体控）'!O85)","v":""},{"$f":"IF('保険料申告内訳名簿（一人親方団体控）'!P85=\"\",\"\",'保険料申告内訳名簿（一人親方団体控）'!P85)","v":""},{"$f":"IF('保険料申告内訳名簿（一人親方団体控）'!Q85=\"\",\"\",'保険料申告内訳名簿（一人親方団体控）'!Q85)","v":""},{"$f":"IF('保険料申告内訳名簿（一人親方団体控）'!R85=\"\",\"\",'保険料申告内訳名簿（一人親方団体控）'!R85)","v":""},{"$f":"IF('保険料申告内訳名簿（一人親方団体控）'!S85=\"\",\"\",'保険料申告内訳名簿（一人親方団体控）'!S85)","v":0},{"$f":"IF('保険料申告内訳名簿（一人親方団体控）'!T85=\"\",\"\",'保険料申告内訳名簿（一人親方団体控）'!T85)","v":""},{"$f":"IF('保険料申告内訳名簿（一人親方団体控）'!U85=\"\",\"\",'保険料申告内訳名簿（一人親方団体控）'!U85)","v":""},{"$f":"IF('保険料申告内訳名簿（一人親方団体控）'!V85=\"\",\"\",'保険料申告内訳名簿（一人親方団体控）'!V85)","v":""},{"$f":"IF('保険料申告内訳名簿（一人親方団体控）'!W85=\"\",\"\",'保険料申告内訳名簿（一人親方団体控）'!W85)","v":""},{"$f":"IF('保険料申告内訳名簿（一人親方団体控）'!X85=\"\",\"\",'保険料申告内訳名簿（一人親方団体控）'!X85)","v":""},{"$f":"IF('保険料申告内訳名簿（一人親方団体控）'!Y85=\"\",\"\",'保険料申告内訳名簿（一人親方団体控）'!Y85)","v":""},{"$f":"IF('保険料申告内訳名簿（一人親方団体控）'!Z85=\"\",\"\",'保険料申告内訳名簿（一人親方団体控）'!Z85)","v":""},{"$f":"IF('保険料申告内訳名簿（一人親方団体控）'!AA85=\"\",\"\",'保険料申告内訳名簿（一人親方団体控）'!AA85)","v":""},{"$f":"IF('保険料申告内訳名簿（一人親方団体控）'!AB85=\"\",\"\",'保険料申告内訳名簿（一人親方団体控）'!AB85)","v":""},{"$f":"IF('保険料申告内訳名簿（一人親方団体控）'!AC85=\"\",\"\",'保険料申告内訳名簿（一人親方団体控）'!AC85)","v":0},{"$f":"IF('保険料申告内訳名簿（一人親方団体控）'!AD85=\"\",\"\",'保険料申告内訳名簿（一人親方団体控）'!AD85)","v":""},{"$f":"IF('保険料申告内訳名簿（一人親方団体控）'!AE85=\"\",\"\",'保険料申告内訳名簿（一人親方団体控）'!AE85)","v":""},{"$f":"IF('保険料申告内訳名簿（一人親方団体控）'!AF85=\"\",\"\",'保険料申告内訳名簿（一人親方団体控）'!AF85)","v":""},{"$f":"IF('保険料申告内訳名簿（一人親方団体控）'!AG85=\"\",\"\",'保険料申告内訳名簿（一人親方団体控）'!AG85)","v":""},{"$f":"IF('保険料申告内訳名簿（一人親方団体控）'!AH85=\"\",\"\",'保険料申告内訳名簿（一人親方団体控）'!AH85)","v":""}]
[null,{"$f":"IF('保険料申告内訳名簿（一人親方団体控）'!B86=\"\",\"\",'保険料申告内訳名簿（一人親方団体控）'!B86)","v":""},{"$f":"IF('保険料申告内訳名簿（一人親方団体控）'!C86=\"\",\"\",'保険料申告内訳名簿（一人親方団体控）'!C86)","v":""},{"$f":"IF('保険料申告内訳名簿（一人親方団体控）'!D86=\"\",\"\",'保険料申告内訳名簿（一人親方団体控）'!D86)","v":""},{"$f":"IF('保険料申告内訳名簿（一人親方団体控）'!E86=\"\",\"\",'保険料申告内訳名簿（一人親方団体控）'!E86)","v":""},{"$f":"IF('保険料申告内訳名簿（一人親方団体控）'!F86=\"\",\"\",'保険料申告内訳名簿（一人親方団体控）'!F86)","v":""},{"$f":"IF('保険料申告内訳名簿（一人親方団体控）'!G86=\"\",\"\",'保険料申告内訳名簿（一人親方団体控）'!G86)","v":""},{"$f":"IF('保険料申告内訳名簿（一人親方団体控）'!H86=\"\",\"\",'保険料申告内訳名簿（一人親方団体控）'!H86)","v":""},{"$f":"IF('保険料申告内訳名簿（一人親方団体控）'!I86=\"\",\"\",'保険料申告内訳名簿（一人親方団体控）'!I86)","v":""},{"$f":"IF('保険料申告内訳名簿（一人親方団体控）'!J86=\"\",\"\",'保険料申告内訳名簿（一人親方団体控）'!J86)","v":""},{"$f":"IF('保険料申告内訳名簿（一人親方団体控）'!K86=\"\",\"\",'保険料申告内訳名簿（一人親方団体控）'!K86)","v":""},{"$f":"IF('保険料申告内訳名簿（一人親方団体控）'!L86=\"\",\"\",'保険料申告内訳名簿（一人親方団体控）'!L86)","v":""},{"$f":"IF('保険料申告内訳名簿（一人親方団体控）'!M86=\"\",\"\",'保険料申告内訳名簿（一人親方団体控）'!M86)","v":""},{"$f":"IF('保険料申告内訳名簿（一人親方団体控）'!N86=\"\",\"\",'保険料申告内訳名簿（一人親方団体控）'!N86)","v":""},{"$f":"IF('保険料申告内訳名簿（一人親方団体控）'!O86=\"\",\"\",'保険料申告内訳名簿（一人親方団体控）'!O86)","v":""},{"$f":"IF('保険料申告内訳名簿（一人親方団体控）'!P86=\"\",\"\",'保険料申告内訳名簿（一人親方団体控）'!P86)","v":""},{"$f":"IF('保険料申告内訳名簿（一人親方団体控）'!Q86=\"\",\"\",'保険料申告内訳名簿（一人親方団体控）'!Q86)","v":""},{"$f":"IF('保険料申告内訳名簿（一人親方団体控）'!R86=\"\",\"\",'保険料申告内訳名簿（一人親方団体控）'!R86)","v":""},{"$f":"IF('保険料申告内訳名簿（一人親方団体控）'!S86=\"\",\"\",'保険料申告内訳名簿（一人親方団体控）'!S86)","v":0},{"$f":"IF('保険料申告内訳名簿（一人親方団体控）'!T86=\"\",\"\",'保険料申告内訳名簿（一人親方団体控）'!T86)","v":""},{"$f":"IF('保険料申告内訳名簿（一人親方団体控）'!U86=\"\",\"\",'保険料申告内訳名簿（一人親方団体控）'!U86)","v":""},{"$f":"IF('保険料申告内訳名簿（一人親方団体控）'!V86=\"\",\"\",'保険料申告内訳名簿（一人親方団体控）'!V86)","v":""},{"$f":"IF('保険料申告内訳名簿（一人親方団体控）'!W86=\"\",\"\",'保険料申告内訳名簿（一人親方団体控）'!W86)","v":""},{"$f":"IF('保険料申告内訳名簿（一人親方団体控）'!X86=\"\",\"\",'保険料申告内訳名簿（一人親方団体控）'!X86)","v":""},{"$f":"IF('保険料申告内訳名簿（一人親方団体控）'!Y86=\"\",\"\",'保険料申告内訳名簿（一人親方団体控）'!Y86)","v":""},{"$f":"IF('保険料申告内訳名簿（一人親方団体控）'!Z86=\"\",\"\",'保険料申告内訳名簿（一人親方団体控）'!Z86)","v":""},{"$f":"IF('保険料申告内訳名簿（一人親方団体控）'!AA86=\"\",\"\",'保険料申告内訳名簿（一人親方団体控）'!AA86)","v":""},{"$f":"IF('保険料申告内訳名簿（一人親方団体控）'!AB86=\"\",\"\",'保険料申告内訳名簿（一人親方団体控）'!AB86)","v":""},{"$f":"IF('保険料申告内訳名簿（一人親方団体控）'!AC86=\"\",\"\",'保険料申告内訳名簿（一人親方団体控）'!AC86)","v":0},{"$f":"IF('保険料申告内訳名簿（一人親方団体控）'!AD86=\"\",\"\",'保険料申告内訳名簿（一人親方団体控）'!AD86)","v":""},{"$f":"IF('保険料申告内訳名簿（一人親方団体控）'!AE86=\"\",\"\",'保険料申告内訳名簿（一人親方団体控）'!AE86)","v":""},{"$f":"IF('保険料申告内訳名簿（一人親方団体控）'!AF86=\"\",\"\",'保険料申告内訳名簿（一人親方団体控）'!AF86)","v":""},{"$f":"IF('保険料申告内訳名簿（一人親方団体控）'!AG86=\"\",\"\",'保険料申告内訳名簿（一人親方団体控）'!AG86)","v":""},{"$f":"IF('保険料申告内訳名簿（一人親方団体控）'!AH86=\"\",\"\",'保険料申告内訳名簿（一人親方団体控）'!AH86)","v":""}]
[null,{"$f":"IF('保険料申告内訳名簿（一人親方団体控）'!B87=\"\",\"\",'保険料申告内訳名簿（一人親方団体控）'!B87)","v":""},{"$f":"IF('保険料申告内訳名簿（一人親方団体控）'!C87=\"\",\"\",'保険料申告内訳名簿（一人親方団体控）'!C87)","v":""},{"$f":"IF('保険料申告内訳名簿（一人親方団体控）'!D87=\"\",\"\",'保険料申告内訳名簿（一人親方団体控）'!D87)","v":""},{"$f":"IF('保険料申告内訳名簿（一人親方団体控）'!E87=\"\",\"\",'保険料申告内訳名簿（一人親方団体控）'!E87)","v":""},{"$f":"IF('保険料申告内訳名簿（一人親方団体控）'!F87=\"\",\"\",'保険料申告内訳名簿（一人親方団体控）'!F87)","v":""},{"$f":"IF('保険料申告内訳名簿（一人親方団体控）'!G87=\"\",\"\",'保険料申告内訳名簿（一人親方団体控）'!G87)","v":""},{"$f":"IF('保険料申告内訳名簿（一人親方団体控）'!H87=\"\",\"\",'保険料申告内訳名簿（一人親方団体控）'!H87)","v":""},{"$f":"IF('保険料申告内訳名簿（一人親方団体控）'!I87=\"\",\"\",'保険料申告内訳名簿（一人親方団体控）'!I87)","v":""},{"$f":"IF('保険料申告内訳名簿（一人親方団体控）'!J87=\"\",\"\",'保険料申告内訳名簿（一人親方団体控）'!J87)","v":""},{"$f":"IF('保険料申告内訳名簿（一人親方団体控）'!K87=\"\",\"\",'保険料申告内訳名簿（一人親方団体控）'!K87)","v":""},{"$f":"IF('保険料申告内訳名簿（一人親方団体控）'!L87=\"\",\"\",'保険料申告内訳名簿（一人親方団体控）'!L87)","v":""},{"$f":"IF('保険料申告内訳名簿（一人親方団体控）'!M87=\"\",\"\",'保険料申告内訳名簿（一人親方団体控）'!M87)","v":""},{"$f":"IF('保険料申告内訳名簿（一人親方団体控）'!N87=\"\",\"\",'保険料申告内訳名簿（一人親方団体控）'!N87)","v":""},{"$f":"IF('保険料申告内訳名簿（一人親方団体控）'!O87=\"\",\"\",'保険料申告内訳名簿（一人親方団体控）'!O87)","v":""},{"$f":"IF('保険料申告内訳名簿（一人親方団体控）'!P87=\"\",\"\",'保険料申告内訳名簿（一人親方団体控）'!P87)","v":""},{"$f":"IF('保険料申告内訳名簿（一人親方団体控）'!Q87=\"\",\"\",'保険料申告内訳名簿（一人親方団体控）'!Q87)","v":""},{"$f":"IF('保険料申告内訳名簿（一人親方団体控）'!R87=\"\",\"\",'保険料申告内訳名簿（一人親方団体控）'!R87)","v":""},{"$f":"IF('保険料申告内訳名簿（一人親方団体控）'!S87=\"\",\"\",'保険料申告内訳名簿（一人親方団体控）'!S87)","v":0},{"$f":"IF('保険料申告内訳名簿（一人親方団体控）'!T87=\"\",\"\",'保険料申告内訳名簿（一人親方団体控）'!T87)","v":""},{"$f":"IF('保険料申告内訳名簿（一人親方団体控）'!U87=\"\",\"\",'保険料申告内訳名簿（一人親方団体控）'!U87)","v":""},{"$f":"IF('保険料申告内訳名簿（一人親方団体控）'!V87=\"\",\"\",'保険料申告内訳名簿（一人親方団体控）'!V87)","v":""},{"$f":"IF('保険料申告内訳名簿（一人親方団体控）'!W87=\"\",\"\",'保険料申告内訳名簿（一人親方団体控）'!W87)","v":""},{"$f":"IF('保険料申告内訳名簿（一人親方団体控）'!X87=\"\",\"\",'保険料申告内訳名簿（一人親方団体控）'!X87)","v":""},{"$f":"IF('保険料申告内訳名簿（一人親方団体控）'!Y87=\"\",\"\",'保険料申告内訳名簿（一人親方団体控）'!Y87)","v":""},{"$f":"IF('保険料申告内訳名簿（一人親方団体控）'!Z87=\"\",\"\",'保険料申告内訳名簿（一人親方団体控）'!Z87)","v":""},{"$f":"IF('保険料申告内訳名簿（一人親方団体控）'!AA87=\"\",\"\",'保険料申告内訳名簿（一人親方団体控）'!AA87)","v":""},{"$f":"IF('保険料申告内訳名簿（一人親方団体控）'!AB87=\"\",\"\",'保険料申告内訳名簿（一人親方団体控）'!AB87)","v":""},{"$f":"IF('保険料申告内訳名簿（一人親方団体控）'!AC87=\"\",\"\",'保険料申告内訳名簿（一人親方団体控）'!AC87)","v":0},{"$f":"IF('保険料申告内訳名簿（一人親方団体控）'!AD87=\"\",\"\",'保険料申告内訳名簿（一人親方団体控）'!AD87)","v":""},{"$f":"IF('保険料申告内訳名簿（一人親方団体控）'!AE87=\"\",\"\",'保険料申告内訳名簿（一人親方団体控）'!AE87)","v":""},{"$f":"IF('保険料申告内訳名簿（一人親方団体控）'!AF87=\"\",\"\",'保険料申告内訳名簿（一人親方団体控）'!AF87)","v":""},{"$f":"IF('保険料申告内訳名簿（一人親方団体控）'!AG87=\"\",\"\",'保険料申告内訳名簿（一人親方団体控）'!AG87)","v":""},{"$f":"IF('保険料申告内訳名簿（一人親方団体控）'!AH87=\"\",\"\",'保険料申告内訳名簿（一人親方団体控）'!AH87)","v":""}]
[null,{"$f":"IF('保険料申告内訳名簿（一人親方団体控）'!B88=\"\",\"\",'保険料申告内訳名簿（一人親方団体控）'!B88)","v":""},{"$f":"IF('保険料申告内訳名簿（一人親方団体控）'!C88=\"\",\"\",'保険料申告内訳名簿（一人親方団体控）'!C88)","v":""},{"$f":"IF('保険料申告内訳名簿（一人親方団体控）'!D88=\"\",\"\",'保険料申告内訳名簿（一人親方団体控）'!D88)","v":""},{"$f":"IF('保険料申告内訳名簿（一人親方団体控）'!E88=\"\",\"\",'保険料申告内訳名簿（一人親方団体控）'!E88)","v":""},{"$f":"IF('保険料申告内訳名簿（一人親方団体控）'!F88=\"\",\"\",'保険料申告内訳名簿（一人親方団体控）'!F88)","v":""},{"$f":"IF('保険料申告内訳名簿（一人親方団体控）'!G88=\"\",\"\",'保険料申告内訳名簿（一人親方団体控）'!G88)","v":""},{"$f":"IF('保険料申告内訳名簿（一人親方団体控）'!H88=\"\",\"\",'保険料申告内訳名簿（一人親方団体控）'!H88)","v":""},{"$f":"IF('保険料申告内訳名簿（一人親方団体控）'!I88=\"\",\"\",'保険料申告内訳名簿（一人親方団体控）'!I88)","v":""},{"$f":"IF('保険料申告内訳名簿（一人親方団体控）'!J88=\"\",\"\",'保険料申告内訳名簿（一人親方団体控）'!J88)","v":""},{"$f":"IF('保険料申告内訳名簿（一人親方団体控）'!K88=\"\",\"\",'保険料申告内訳名簿（一人親方団体控）'!K88)","v":""},{"$f":"IF('保険料申告内訳名簿（一人親方団体控）'!L88=\"\",\"\",'保険料申告内訳名簿（一人親方団体控）'!L88)","v":""},{"$f":"IF('保険料申告内訳名簿（一人親方団体控）'!M88=\"\",\"\",'保険料申告内訳名簿（一人親方団体控）'!M88)","v":""},{"$f":"IF('保険料申告内訳名簿（一人親方団体控）'!N88=\"\",\"\",'保険料申告内訳名簿（一人親方団体控）'!N88)","v":""},{"$f":"IF('保険料申告内訳名簿（一人親方団体控）'!O88=\"\",\"\",'保険料申告内訳名簿（一人親方団体控）'!O88)","v":""},{"$f":"IF('保険料申告内訳名簿（一人親方団体控）'!P88=\"\",\"\",'保険料申告内訳名簿（一人親方団体控）'!P88)","v":""},{"$f":"IF('保険料申告内訳名簿（一人親方団体控）'!Q88=\"\",\"\",'保険料申告内訳名簿（一人親方団体控）'!Q88)","v":""},{"$f":"IF('保険料申告内訳名簿（一人親方団体控）'!R88=\"\",\"\",'保険料申告内訳名簿（一人親方団体控）'!R88)","v":""},{"$f":"IF('保険料申告内訳名簿（一人親方団体控）'!S88=\"\",\"\",'保険料申告内訳名簿（一人親方団体控）'!S88)","v":0},{"$f":"IF('保険料申告内訳名簿（一人親方団体控）'!T88=\"\",\"\",'保険料申告内訳名簿（一人親方団体控）'!T88)","v":""},{"$f":"IF('保険料申告内訳名簿（一人親方団体控）'!U88=\"\",\"\",'保険料申告内訳名簿（一人親方団体控）'!U88)","v":""},{"$f":"IF('保険料申告内訳名簿（一人親方団体控）'!V88=\"\",\"\",'保険料申告内訳名簿（一人親方団体控）'!V88)","v":""},{"$f":"IF('保険料申告内訳名簿（一人親方団体控）'!W88=\"\",\"\",'保険料申告内訳名簿（一人親方団体控）'!W88)","v":""},{"$f":"IF('保険料申告内訳名簿（一人親方団体控）'!X88=\"\",\"\",'保険料申告内訳名簿（一人親方団体控）'!X88)","v":""},{"$f":"IF('保険料申告内訳名簿（一人親方団体控）'!Y88=\"\",\"\",'保険料申告内訳名簿（一人親方団体控）'!Y88)","v":""},{"$f":"IF('保険料申告内訳名簿（一人親方団体控）'!Z88=\"\",\"\",'保険料申告内訳名簿（一人親方団体控）'!Z88)","v":""},{"$f":"IF('保険料申告内訳名簿（一人親方団体控）'!AA88=\"\",\"\",'保険料申告内訳名簿（一人親方団体控）'!AA88)","v":""},{"$f":"IF('保険料申告内訳名簿（一人親方団体控）'!AB88=\"\",\"\",'保険料申告内訳名簿（一人親方団体控）'!AB88)","v":""},{"$f":"IF('保険料申告内訳名簿（一人親方団体控）'!AC88=\"\",\"\",'保険料申告内訳名簿（一人親方団体控）'!AC88)","v":0},{"$f":"IF('保険料申告内訳名簿（一人親方団体控）'!AD88=\"\",\"\",'保険料申告内訳名簿（一人親方団体控）'!AD88)","v":""},{"$f":"IF('保険料申告内訳名簿（一人親方団体控）'!AE88=\"\",\"\",'保険料申告内訳名簿（一人親方団体控）'!AE88)","v":""},{"$f":"IF('保険料申告内訳名簿（一人親方団体控）'!AF88=\"\",\"\",'保険料申告内訳名簿（一人親方団体控）'!AF88)","v":""},{"$f":"IF('保険料申告内訳名簿（一人親方団体控）'!AG88=\"\",\"\",'保険料申告内訳名簿（一人親方団体控）'!AG88)","v":""},{"$f":"IF('保険料申告内訳名簿（一人親方団体控）'!AH88=\"\",\"\",'保険料申告内訳名簿（一人親方団体控）'!AH88)","v":""}]
[null,{"$f":"IF('保険料申告内訳名簿（一人親方団体控）'!B89=\"\",\"\",'保険料申告内訳名簿（一人親方団体控）'!B89)","v":""},{"$f":"IF('保険料申告内訳名簿（一人親方団体控）'!C89=\"\",\"\",'保険料申告内訳名簿（一人親方団体控）'!C89)","v":""},{"$f":"IF('保険料申告内訳名簿（一人親方団体控）'!D89=\"\",\"\",'保険料申告内訳名簿（一人親方団体控）'!D89)","v":""},{"$f":"IF('保険料申告内訳名簿（一人親方団体控）'!E89=\"\",\"\",'保険料申告内訳名簿（一人親方団体控）'!E89)","v":""},{"$f":"IF('保険料申告内訳名簿（一人親方団体控）'!F89=\"\",\"\",'保険料申告内訳名簿（一人親方団体控）'!F89)","v":""},{"$f":"IF('保険料申告内訳名簿（一人親方団体控）'!G89=\"\",\"\",'保険料申告内訳名簿（一人親方団体控）'!G89)","v":""},{"$f":"IF('保険料申告内訳名簿（一人親方団体控）'!H89=\"\",\"\",'保険料申告内訳名簿（一人親方団体控）'!H89)","v":""},{"$f":"IF('保険料申告内訳名簿（一人親方団体控）'!I89=\"\",\"\",'保険料申告内訳名簿（一人親方団体控）'!I89)","v":""},{"$f":"IF('保険料申告内訳名簿（一人親方団体控）'!J89=\"\",\"\",'保険料申告内訳名簿（一人親方団体控）'!J89)","v":""},{"$f":"IF('保険料申告内訳名簿（一人親方団体控）'!K89=\"\",\"\",'保険料申告内訳名簿（一人親方団体控）'!K89)","v":""},{"$f":"IF('保険料申告内訳名簿（一人親方団体控）'!L89=\"\",\"\",'保険料申告内訳名簿（一人親方団体控）'!L89)","v":""},{"$f":"IF('保険料申告内訳名簿（一人親方団体控）'!M89=\"\",\"\",'保険料申告内訳名簿（一人親方団体控）'!M89)","v":""},{"$f":"IF('保険料申告内訳名簿（一人親方団体控）'!N89=\"\",\"\",'保険料申告内訳名簿（一人親方団体控）'!N89)","v":""},{"$f":"IF('保険料申告内訳名簿（一人親方団体控）'!O89=\"\",\"\",'保険料申告内訳名簿（一人親方団体控）'!O89)","v":""},{"$f":"IF('保険料申告内訳名簿（一人親方団体控）'!P89=\"\",\"\",'保険料申告内訳名簿（一人親方団体控）'!P89)","v":""},{"$f":"IF('保険料申告内訳名簿（一人親方団体控）'!Q89=\"\",\"\",'保険料申告内訳名簿（一人親方団体控）'!Q89)","v":""},{"$f":"IF('保険料申告内訳名簿（一人親方団体控）'!R89=\"\",\"\",'保険料申告内訳名簿（一人親方団体控）'!R89)","v":""},{"$f":"IF('保険料申告内訳名簿（一人親方団体控）'!S89=\"\",\"\",'保険料申告内訳名簿（一人親方団体控）'!S89)","v":0},{"$f":"IF('保険料申告内訳名簿（一人親方団体控）'!T89=\"\",\"\",'保険料申告内訳名簿（一人親方団体控）'!T89)","v":""},{"$f":"IF('保険料申告内訳名簿（一人親方団体控）'!U89=\"\",\"\",'保険料申告内訳名簿（一人親方団体控）'!U89)","v":""},{"$f":"IF('保険料申告内訳名簿（一人親方団体控）'!V89=\"\",\"\",'保険料申告内訳名簿（一人親方団体控）'!V89)","v":""},{"$f":"IF('保険料申告内訳名簿（一人親方団体控）'!W89=\"\",\"\",'保険料申告内訳名簿（一人親方団体控）'!W89)","v":""},{"$f":"IF('保険料申告内訳名簿（一人親方団体控）'!X89=\"\",\"\",'保険料申告内訳名簿（一人親方団体控）'!X89)","v":""},{"$f":"IF('保険料申告内訳名簿（一人親方団体控）'!Y89=\"\",\"\",'保険料申告内訳名簿（一人親方団体控）'!Y89)","v":""},{"$f":"IF('保険料申告内訳名簿（一人親方団体控）'!Z89=\"\",\"\",'保険料申告内訳名簿（一人親方団体控）'!Z89)","v":""},{"$f":"IF('保険料申告内訳名簿（一人親方団体控）'!AA89=\"\",\"\",'保険料申告内訳名簿（一人親方団体控）'!AA89)","v":""},{"$f":"IF('保険料申告内訳名簿（一人親方団体控）'!AB89=\"\",\"\",'保険料申告内訳名簿（一人親方団体控）'!AB89)","v":""},{"$f":"IF('保険料申告内訳名簿（一人親方団体控）'!AC89=\"\",\"\",'保険料申告内訳名簿（一人親方団体控）'!AC89)","v":0},{"$f":"IF('保険料申告内訳名簿（一人親方団体控）'!AD89=\"\",\"\",'保険料申告内訳名簿（一人親方団体控）'!AD89)","v":""},{"$f":"IF('保険料申告内訳名簿（一人親方団体控）'!AE89=\"\",\"\",'保険料申告内訳名簿（一人親方団体控）'!AE89)","v":""},{"$f":"IF('保険料申告内訳名簿（一人親方団体控）'!AF89=\"\",\"\",'保険料申告内訳名簿（一人親方団体控）'!AF89)","v":""},{"$f":"IF('保険料申告内訳名簿（一人親方団体控）'!AG89=\"\",\"\",'保険料申告内訳名簿（一人親方団体控）'!AG89)","v":""},{"$f":"IF('保険料申告内訳名簿（一人親方団体控）'!AH89=\"\",\"\",'保険料申告内訳名簿（一人親方団体控）'!AH89)","v":""}]
[null,{"$f":"IF('保険料申告内訳名簿（一人親方団体控）'!B90=\"\",\"\",'保険料申告内訳名簿（一人親方団体控）'!B90)","v":""},{"$f":"IF('保険料申告内訳名簿（一人親方団体控）'!C90=\"\",\"\",'保険料申告内訳名簿（一人親方団体控）'!C90)","v":""},{"$f":"IF('保険料申告内訳名簿（一人親方団体控）'!D90=\"\",\"\",'保険料申告内訳名簿（一人親方団体控）'!D90)","v":""},{"$f":"IF('保険料申告内訳名簿（一人親方団体控）'!E90=\"\",\"\",'保険料申告内訳名簿（一人親方団体控）'!E90)","v":""},{"$f":"IF('保険料申告内訳名簿（一人親方団体控）'!F90=\"\",\"\",'保険料申告内訳名簿（一人親方団体控）'!F90)","v":""},{"$f":"IF('保険料申告内訳名簿（一人親方団体控）'!G90=\"\",\"\",'保険料申告内訳名簿（一人親方団体控）'!G90)","v":""},{"$f":"IF('保険料申告内訳名簿（一人親方団体控）'!H90=\"\",\"\",'保険料申告内訳名簿（一人親方団体控）'!H90)","v":""},{"$f":"IF('保険料申告内訳名簿（一人親方団体控）'!I90=\"\",\"\",'保険料申告内訳名簿（一人親方団体控）'!I90)","v":""},{"$f":"IF('保険料申告内訳名簿（一人親方団体控）'!J90=\"\",\"\",'保険料申告内訳名簿（一人親方団体控）'!J90)","v":""},{"$f":"IF('保険料申告内訳名簿（一人親方団体控）'!K90=\"\",\"\",'保険料申告内訳名簿（一人親方団体控）'!K90)","v":""},{"$f":"IF('保険料申告内訳名簿（一人親方団体控）'!L90=\"\",\"\",'保険料申告内訳名簿（一人親方団体控）'!L90)","v":""},{"$f":"IF('保険料申告内訳名簿（一人親方団体控）'!M90=\"\",\"\",'保険料申告内訳名簿（一人親方団体控）'!M90)","v":""},{"$f":"IF('保険料申告内訳名簿（一人親方団体控）'!N90=\"\",\"\",'保険料申告内訳名簿（一人親方団体控）'!N90)","v":""},{"$f":"IF('保険料申告内訳名簿（一人親方団体控）'!O90=\"\",\"\",'保険料申告内訳名簿（一人親方団体控）'!O90)","v":""},{"$f":"IF('保険料申告内訳名簿（一人親方団体控）'!P90=\"\",\"\",'保険料申告内訳名簿（一人親方団体控）'!P90)","v":""},{"$f":"IF('保険料申告内訳名簿（一人親方団体控）'!Q90=\"\",\"\",'保険料申告内訳名簿（一人親方団体控）'!Q90)","v":""},{"$f":"IF('保険料申告内訳名簿（一人親方団体控）'!R90=\"\",\"\",'保険料申告内訳名簿（一人親方団体控）'!R90)","v":""},{"$f":"IF('保険料申告内訳名簿（一人親方団体控）'!S90=\"\",\"\",'保険料申告内訳名簿（一人親方団体控）'!S90)","v":0},{"$f":"IF('保険料申告内訳名簿（一人親方団体控）'!T90=\"\",\"\",'保険料申告内訳名簿（一人親方団体控）'!T90)","v":""},{"$f":"IF('保険料申告内訳名簿（一人親方団体控）'!U90=\"\",\"\",'保険料申告内訳名簿（一人親方団体控）'!U90)","v":""},{"$f":"IF('保険料申告内訳名簿（一人親方団体控）'!V90=\"\",\"\",'保険料申告内訳名簿（一人親方団体控）'!V90)","v":""},{"$f":"IF('保険料申告内訳名簿（一人親方団体控）'!W90=\"\",\"\",'保険料申告内訳名簿（一人親方団体控）'!W90)","v":""},{"$f":"IF('保険料申告内訳名簿（一人親方団体控）'!X90=\"\",\"\",'保険料申告内訳名簿（一人親方団体控）'!X90)","v":""},{"$f":"IF('保険料申告内訳名簿（一人親方団体控）'!Y90=\"\",\"\",'保険料申告内訳名簿（一人親方団体控）'!Y90)","v":""},{"$f":"IF('保険料申告内訳名簿（一人親方団体控）'!Z90=\"\",\"\",'保険料申告内訳名簿（一人親方団体控）'!Z90)","v":""},{"$f":"IF('保険料申告内訳名簿（一人親方団体控）'!AA90=\"\",\"\",'保険料申告内訳名簿（一人親方団体控）'!AA90)","v":""},{"$f":"IF('保険料申告内訳名簿（一人親方団体控）'!AB90=\"\",\"\",'保険料申告内訳名簿（一人親方団体控）'!AB90)","v":""},{"$f":"IF('保険料申告内訳名簿（一人親方団体控）'!AC90=\"\",\"\",'保険料申告内訳名簿（一人親方団体控）'!AC90)","v":0},{"$f":"IF('保険料申告内訳名簿（一人親方団体控）'!AD90=\"\",\"\",'保険料申告内訳名簿（一人親方団体控）'!AD90)","v":""},{"$f":"IF('保険料申告内訳名簿（一人親方団体控）'!AE90=\"\",\"\",'保険料申告内訳名簿（一人親方団体控）'!AE90)","v":""},{"$f":"IF('保険料申告内訳名簿（一人親方団体控）'!AF90=\"\",\"\",'保険料申告内訳名簿（一人親方団体控）'!AF90)","v":""},{"$f":"IF('保険料申告内訳名簿（一人親方団体控）'!AG90=\"\",\"\",'保険料申告内訳名簿（一人親方団体控）'!AG90)","v":""},{"$f":"IF('保険料申告内訳名簿（一人親方団体控）'!AH90=\"\",\"\",'保険料申告内訳名簿（一人親方団体控）'!AH90)","v":""}]
[null,{"$f":"IF('保険料申告内訳名簿（一人親方団体控）'!B91=\"\",\"\",'保険料申告内訳名簿（一人親方団体控）'!B91)","v":""},{"$f":"IF('保険料申告内訳名簿（一人親方団体控）'!C91=\"\",\"\",'保険料申告内訳名簿（一人親方団体控）'!C91)","v":""},{"$f":"IF('保険料申告内訳名簿（一人親方団体控）'!D91=\"\",\"\",'保険料申告内訳名簿（一人親方団体控）'!D91)","v":""},{"$f":"IF('保険料申告内訳名簿（一人親方団体控）'!E91=\"\",\"\",'保険料申告内訳名簿（一人親方団体控）'!E91)","v":""},{"$f":"IF('保険料申告内訳名簿（一人親方団体控）'!F91=\"\",\"\",'保険料申告内訳名簿（一人親方団体控）'!F91)","v":""},{"$f":"IF('保険料申告内訳名簿（一人親方団体控）'!G91=\"\",\"\",'保険料申告内訳名簿（一人親方団体控）'!G91)","v":""},{"$f":"IF('保険料申告内訳名簿（一人親方団体控）'!H91=\"\",\"\",'保険料申告内訳名簿（一人親方団体控）'!H91)","v":""},{"$f":"IF('保険料申告内訳名簿（一人親方団体控）'!I91=\"\",\"\",'保険料申告内訳名簿（一人親方団体控）'!I91)","v":""},{"$f":"IF('保険料申告内訳名簿（一人親方団体控）'!J91=\"\",\"\",'保険料申告内訳名簿（一人親方団体控）'!J91)","v":""},{"$f":"IF('保険料申告内訳名簿（一人親方団体控）'!K91=\"\",\"\",'保険料申告内訳名簿（一人親方団体控）'!K91)","v":""},{"$f":"IF('保険料申告内訳名簿（一人親方団体控）'!L91=\"\",\"\",'保険料申告内訳名簿（一人親方団体控）'!L91)","v":""},{"$f":"IF('保険料申告内訳名簿（一人親方団体控）'!M91=\"\",\"\",'保険料申告内訳名簿（一人親方団体控）'!M91)","v":""},{"$f":"IF('保険料申告内訳名簿（一人親方団体控）'!N91=\"\",\"\",'保険料申告内訳名簿（一人親方団体控）'!N91)","v":""},{"$f":"IF('保険料申告内訳名簿（一人親方団体控）'!O91=\"\",\"\",'保険料申告内訳名簿（一人親方団体控）'!O91)","v":""},{"$f":"IF('保険料申告内訳名簿（一人親方団体控）'!P91=\"\",\"\",'保険料申告内訳名簿（一人親方団体控）'!P91)","v":""},{"$f":"IF('保険料申告内訳名簿（一人親方団体控）'!Q91=\"\",\"\",'保険料申告内訳名簿（一人親方団体控）'!Q91)","v":""},{"$f":"IF('保険料申告内訳名簿（一人親方団体控）'!R91=\"\",\"\",'保険料申告内訳名簿（一人親方団体控）'!R91)","v":""},{"$f":"IF('保険料申告内訳名簿（一人親方団体控）'!S91=\"\",\"\",'保険料申告内訳名簿（一人親方団体控）'!S91)","v":0},{"$f":"IF('保険料申告内訳名簿（一人親方団体控）'!T91=\"\",\"\",'保険料申告内訳名簿（一人親方団体控）'!T91)","v":""},{"$f":"IF('保険料申告内訳名簿（一人親方団体控）'!U91=\"\",\"\",'保険料申告内訳名簿（一人親方団体控）'!U91)","v":""},{"$f":"IF('保険料申告内訳名簿（一人親方団体控）'!V91=\"\",\"\",'保険料申告内訳名簿（一人親方団体控）'!V91)","v":""},{"$f":"IF('保険料申告内訳名簿（一人親方団体控）'!W91=\"\",\"\",'保険料申告内訳名簿（一人親方団体控）'!W91)","v":""},{"$f":"IF('保険料申告内訳名簿（一人親方団体控）'!X91=\"\",\"\",'保険料申告内訳名簿（一人親方団体控）'!X91)","v":""},{"$f":"IF('保険料申告内訳名簿（一人親方団体控）'!Y91=\"\",\"\",'保険料申告内訳名簿（一人親方団体控）'!Y91)","v":""},{"$f":"IF('保険料申告内訳名簿（一人親方団体控）'!Z91=\"\",\"\",'保険料申告内訳名簿（一人親方団体控）'!Z91)","v":""},{"$f":"IF('保険料申告内訳名簿（一人親方団体控）'!AA91=\"\",\"\",'保険料申告内訳名簿（一人親方団体控）'!AA91)","v":""},{"$f":"IF('保険料申告内訳名簿（一人親方団体控）'!AB91=\"\",\"\",'保険料申告内訳名簿（一人親方団体控）'!AB91)","v":""},{"$f":"IF('保険料申告内訳名簿（一人親方団体控）'!AC91=\"\",\"\",'保険料申告内訳名簿（一人親方団体控）'!AC91)","v":0},{"$f":"IF('保険料申告内訳名簿（一人親方団体控）'!AD91=\"\",\"\",'保険料申告内訳名簿（一人親方団体控）'!AD91)","v":""},{"$f":"IF('保険料申告内訳名簿（一人親方団体控）'!AE91=\"\",\"\",'保険料申告内訳名簿（一人親方団体控）'!AE91)","v":""},{"$f":"IF('保険料申告内訳名簿（一人親方団体控）'!AF91=\"\",\"\",'保険料申告内訳名簿（一人親方団体控）'!AF91)","v":""},{"$f":"IF('保険料申告内訳名簿（一人親方団体控）'!AG91=\"\",\"\",'保険料申告内訳名簿（一人親方団体控）'!AG91)","v":""},{"$f":"IF('保険料申告内訳名簿（一人親方団体控）'!AH91=\"\",\"\",'保険料申告内訳名簿（一人親方団体控）'!AH91)","v":""}]
[null,null,null,null,null,null,null,null,null,null,null,null,null,null,null,null,null,null,{"$f":"IF('保険料申告内訳名簿（一人親方団体控）'!S92=\"\",\"\",'保険料申告内訳名簿（一人親方団体控）'!S92)","v":0},{"$f":"IF('保険料申告内訳名簿（一人親方団体控）'!T92=\"\",\"\",'保険料申告内訳名簿（一人親方団体控）'!T92)","v":""},{"$f":"IF('保険料申告内訳名簿（一人親方団体控）'!U92=\"\",\"\",'保険料申告内訳名簿（一人親方団体控）'!U92)","v":""},{"$f":"IF('保険料申告内訳名簿（一人親方団体控）'!V92=\"\",\"\",'保険料申告内訳名簿（一人親方団体控）'!V92)","v":""},{"$f":"IF('保険料申告内訳名簿（一人親方団体控）'!W92=\"\",\"\",'保険料申告内訳名簿（一人親方団体控）'!W92)","v":""},{"$f":"IF('保険料申告内訳名簿（一人親方団体控）'!X92=\"\",\"\",'保険料申告内訳名簿（一人親方団体控）'!X92)","v":""},null,null,null,null,{"$f":"IF('保険料申告内訳名簿（一人親方団体控）'!AC92=\"\",\"\",'保険料申告内訳名簿（一人親方団体控）'!AC92)","v":0},{"$f":"IF('保険料申告内訳名簿（一人親方団体控）'!AD92=\"\",\"\",'保険料申告内訳名簿（一人親方団体控）'!AD92)","v":""},{"$f":"IF('保険料申告内訳名簿（一人親方団体控）'!AE92=\"\",\"\",'保険料申告内訳名簿（一人親方団体控）'!AE92)","v":""},{"$f":"IF('保険料申告内訳名簿（一人親方団体控）'!AF92=\"\",\"\",'保険料申告内訳名簿（一人親方団体控）'!AF92)","v":""},{"$f":"IF('保険料申告内訳名簿（一人親方団体控）'!AG92=\"\",\"\",'保険料申告内訳名簿（一人親方団体控）'!AG92)","v":""},{"$f":"IF('保険料申告内訳名簿（一人親方団体控）'!AH92=\"\",\"\",'保険料申告内訳名簿（一人親方団体控）'!AH92)","v":""}]
[]
[null,"（注）"]
[null,null,"１）　④欄は月割の対象となる方のみ記入して下さい。"]
[null,null,"２）　月割の対象となる場合の⑤保険料算定基礎額の算定方法"]
[null,null,"２）　月割の対象となる場合の③（給付基礎日額×365÷12）（円未満を切り上げてから）×加入月数"]
[]
[]
[null,"【島根局版】",null,null,null,null,null,null,null,null,null,null,null,null,null,null,null,null,null,null,null,null,null,null,null,null,"監督署用"]
[null,"第２種特別加入保険料申告内訳名簿"]
[null,"（一人親方等）"]
[null,null,null,null,null,null,null,null,null,null,null,null,null,null,null,null,null,null,null,null,null,null,null,null,"（",{"$f":"IF('保険料申告内訳名簿（一人親方団体控）'!Z103=\"\",\"\",'保険料申告内訳名簿（一人親方団体控）'!Z103)","v":0},{"$f":"IF('保険料申告内訳名簿（一人親方団体控）'!AA103=\"\",\"\",'保険料申告内訳名簿（一人親方団体控）'!AA103)","v":""},"枚のうち",null,{"$f":"IF('保険料申告内訳名簿（一人親方団体控）'!AD103=\"\",\"\",'保険料申告内訳名簿（一人親方団体控）'!AD103)","v":4},{"$f":"IF('保険料申告内訳名簿（一人親方団体控）'!AE103=\"\",\"\",'保険料申告内訳名簿（一人親方団体控）'!AE103)","v":""},"枚目",null,"）"]
[]
[null,"労働保険\n番　　　号",null,null,null,null,"府県",null,"所掌","管轄",null,"基幹番号",null,null,null,null,null,"枝番号",null,null,"事業場の\n所在地",null,null,{"$f":"IF('保険料申告内訳名簿（一人親方団体控）'!X105=\"\",\"\",'保険料申告内訳名簿（一人親方団体控）'!X105)","v":""},{"$f":"IF('保険料申告内訳名簿（一人親方団体控）'!Y105=\"\",\"\",'保険料申告内訳名簿（一人親方団体控）'!Y105)","v":""},{"$f":"IF('保険料申告内訳名簿（一人親方団体控）'!Z105=\"\",\"\",'保険料申告内訳名簿（一人親方団体控）'!Z105)","v":""},{"$f":"IF('保険料申告内訳名簿（一人親方団体控）'!AA105=\"\",\"\",'保険料申告内訳名簿（一人親方団体控）'!AA105)","v":""},{"$f":"IF('保険料申告内訳名簿（一人親方団体控）'!AB105=\"\",\"\",'保険料申告内訳名簿（一人親方団体控）'!AB105)","v":""},{"$f":"IF('保険料申告内訳名簿（一人親方団体控）'!AC105=\"\",\"\",'保険料申告内訳名簿（一人親方団体控）'!AC105)","v":""},{"$f":"IF('保険料申告内訳名簿（一人親方団体控）'!AD105=\"\",\"\",'保険料申告内訳名簿（一人親方団体控）'!AD105)","v":""},{"$f":"IF('保険料申告内訳名簿（一人親方団体控）'!AE105=\"\",\"\",'保険料申告内訳名簿（一人親方団体控）'!AE105)","v":""},{"$f":"IF('保険料申告内訳名簿（一人親方団体控）'!AF105=\"\",\"\",'保険料申告内訳名簿（一人親方団体控）'!AF105)","v":""},{"$f":"IF('保険料申告内訳名簿（一人親方団体控）'!AG105=\"\",\"\",'保険料申告内訳名簿（一人親方団体控）'!AG105)","v":""},{"$f":"IF('保険料申告内訳名簿（一人親方団体控）'!AH105=\"\",\"\",'保険料申告内訳名簿（一人親方団体控）'!AH105)","v":""}]
[null,null,null,null,null,null,"3","2",{"$f":"IF('保険料申告内訳名簿（一人親方団体控）'!I106=\"\",\"\",'保険料申告内訳名簿（一人親方団体控）'!I106)","v":""},{"$f":"IF('保険料申告内訳名簿（一人親方団体控）'!J106=\"\",\"\",'保険料申告内訳名簿（一人親方団体控）'!J106)","v":""},{"$f":"IF('保険料申告内訳名簿（一人親方団体控）'!K106=\"\",\"\",'保険料申告内訳名簿（一人親方団体控）'!K106)","v":""},{"$f":"IF('保険料申告内訳名簿（一人親方団体控）'!L106=\"\",\"\",'保険料申告内訳名簿（一人親方団体控）'!L106)","v":""},{"$f":"IF('保険料申告内訳名簿（一人親方団体控）'!M106=\"\",\"\",'保険料申告内訳名簿（一人親方団体控）'!M106)","v":""},{"$f":"IF('保険料申告内訳名簿（一人親方団体控）'!N106=\"\",\"\",'保険料申告内訳名簿（一人親方団体控）'!N106)","v":""},{"$f":"IF('保険料申告内訳名簿（一人親方団体控）'!O106=\"\",\"\",'保険料申告内訳名簿（一人親方団体控）'!O106)","v":""},{"$f":"IF('保険料申告内訳名簿（一人親方団体控）'!P106=\"\",\"\",'保険料申告内訳名簿（一人親方団体控）'!P106)","v":""},{"$f":"IF('保険料申告内訳名簿（一人親方団体控）'!Q106=\"\",\"\",'保険料申告内訳名簿（一人親方団体控）'!Q106)","v":""},{"$f":"IF('保険料申告内訳名簿（一人親方団体控）'!R106=\"\",\"\",'保険料申告内訳名簿（一人親方団体控）'!R106)","v":""},{"$f":"IF('保険料申告内訳名簿（一人親方団体控）'!S106=\"\",\"\",'保険料申告内訳名簿（一人親方団体控）'!S106)","v":""},{"$f":"IF('保険料申告内訳名簿（一人親方団体控）'!T106=\"\",\"\",'保険料申告内訳名簿（一人親方団体控）'!T106)","v":""},"事業場の\n名称",null,null,{"$f":"IF('保険料申告内訳名簿（一人親方団体控）'!X106=\"\",\"\",'保険料申告内訳名簿（一人親方団体控）'!X106)","v":""},{"$f":"IF('保険料申告内訳名簿（一人親方団体控）'!Y106=\"\",\"\",'保険料申告内訳名簿（一人親方団体控）'!Y106)","v":""},{"$f":"IF('保険料申告内訳名簿（一人親方団体控）'!Z106=\"\",\"\",'保険料申告内訳名簿（一人親方団体控）'!Z106)","v":""},{"$f":"IF('保険料申告内訳名簿（一人親方団体控）'!AA106=\"\",\"\",'保険料申告内訳名簿（一人親方団体控）'!AA106)","v":""},{"$f":"IF('保険料申告内訳名簿（一人親方団体控）'!AB106=\"\",\"\",'保険料申告内訳名簿（一人親方団体控）'!AB106)","v":""},{"$f":"IF('保険料申告内訳名簿（一人親方団体控）'!AC106=\"\",\"\",'保険料申告内訳名簿（一人親方団体控）'!AC106)","v":""},{"$f":"IF('保険料申告内訳名簿（一人親方団体控）'!AD106=\"\",\"\",'保険料申告内訳名簿（一人親方団体控）'!AD106)","v":""},{"$f":"IF('保険料申告内訳名簿（一人親方団体控）'!AE106=\"\",\"\",'保険料申告内訳名簿（一人親方団体控）'!AE106)","v":""},{"$f":"IF('保険料申告内訳名簿（一人親方団体控）'!AF106=\"\",\"\",'保険料申告内訳名簿（一人親方団体控）'!AF106)","v":""},{"$f":"IF('保険料申告内訳名簿（一人親方団体控）'!AG106=\"\",\"\",'保険料申告内訳名簿（一人親方団体控）'!AG106)","v":""},{"$f":"IF('保険料申告内訳名簿（一人親方団体控）'!AH106=\"\",\"\",'保険料申告内訳名簿（一人親方団体控）'!AH106)","v":""}]
[null,"①\n整理\n番号",null,"②\n氏名",null,null,null,null,null,null,null,null,null,null,"令 和",null,null,{"$f":"IF('保険料申告内訳名簿（一人親方団体控）'!R107=\"\",\"\",'保険料申告内訳名簿（一人親方団体控）'!R107)","v":""},{"$f":"IF('保険料申告内訳名簿（一人親方団体控）'!S107=\"\",\"\",'保険料申告内訳名簿（一人親方団体控）'!S107)","v":""},{"$f":"IF('保険料申告内訳名簿（一人親方団体控）'!T107=\"\",\"\",'保険料申告内訳名簿（一人親方団体控）'!T107)","v":""},null,null,null,"年 度 確 定 ","令 和",null,null,{"$f":"IF('保険料申告内訳名簿（一人親方団体控）'!AB107=\"\",\"\",'保険料申告内訳名簿（一人親方団体控）'!AB107)","v":""},{"$f":"IF('保険料申告内訳名簿（一人親方団体控）'!AC107=\"\",\"\",'保険料申告内訳名簿（一人親方団体控）'!AC107)","v":""},{"$f":"IF('保険料申告内訳名簿（一人親方団体控）'!AD107=\"\",\"\",'保険料申告内訳名簿（一人親方団体控）'!AD107)","v":""},null,null,null,"年 度 概 算 "]
[null,null,null,null,null,null,null,"③　\n給付基礎日額",null,null,null,"④年度中途加入・脱退",null,null,null,null,null,null,"⑤\n保険料算定基礎額",null,null,null,null,null,"⑥\n給付基礎日額",null,null,null,"⑦\n保険料算定基礎額"]
[null,null,null,null,null,null,null,null,null,null,null,"加入・脱退年月日",null,null,null,null,"加入月数"]
[null,{"$f":"IF('保険料申告内訳名簿（一人親方団体控）'!B110=\"\",\"\",'保険料申告内訳名簿（一人親方団体控）'!B110)","v":""},{"$f":"IF('保険料申告内訳名簿（一人親方団体控）'!C110=\"\",\"\",'保険料申告内訳名簿（一人親方団体控）'!C110)","v":""},{"$f":"IF('保険料申告内訳名簿（一人親方団体控）'!D110=\"\",\"\",'保険料申告内訳名簿（一人親方団体控）'!D110)","v":""},{"$f":"IF('保険料申告内訳名簿（一人親方団体控）'!E110=\"\",\"\",'保険料申告内訳名簿（一人親方団体控）'!E110)","v":""},{"$f":"IF('保険料申告内訳名簿（一人親方団体控）'!F110=\"\",\"\",'保険料申告内訳名簿（一人親方団体控）'!F110)","v":""},{"$f":"IF('保険料申告内訳名簿（一人親方団体控）'!G110=\"\",\"\",'保険料申告内訳名簿（一人親方団体控）'!G110)","v":""},{"$f":"IF('保険料申告内訳名簿（一人親方団体控）'!H110=\"\",\"\",'保険料申告内訳名簿（一人親方団体控）'!H110)","v":""},{"$f":"IF('保険料申告内訳名簿（一人親方団体控）'!I110=\"\",\"\",'保険料申告内訳名簿（一人親方団体控）'!I110)","v":""},{"$f":"IF('保険料申告内訳名簿（一人親方団体控）'!J110=\"\",\"\",'保険料申告内訳名簿（一人親方団体控）'!J110)","v":""},{"$f":"IF('保険料申告内訳名簿（一人親方団体控）'!K110=\"\",\"\",'保険料申告内訳名簿（一人親方団体控）'!K110)","v":""},{"$f":"IF('保険料申告内訳名簿（一人親方団体控）'!L110=\"\",\"\",'保険料申告内訳名簿（一人親方団体控）'!L110)","v":""},{"$f":"IF('保険料申告内訳名簿（一人親方団体控）'!M110=\"\",\"\",'保険料申告内訳名簿（一人親方団体控）'!M110)","v":""},{"$f":"IF('保険料申告内訳名簿（一人親方団体控）'!N110=\"\",\"\",'保険料申告内訳名簿（一人親方団体控）'!N110)","v":""},{"$f":"IF('保険料申告内訳名簿（一人親方団体控）'!O110=\"\",\"\",'保険料申告内訳名簿（一人親方団体控）'!O110)","v":""},{"$f":"IF('保険料申告内訳名簿（一人親方団体控）'!P110=\"\",\"\",'保険料申告内訳名簿（一人親方団体控）'!P110)","v":""},{"$f":"IF('保険料申告内訳名簿（一人親方団体控）'!Q110=\"\",\"\",'保険料申告内訳名簿（一人親方団体控）'!Q110)","v":""},{"$f":"IF('保険料申告内訳名簿（一人親方団体控）'!R110=\"\",\"\",'保険料申告内訳名簿（一人親方団体控）'!R110)","v":""},{"$f":"IF('保険料申告内訳名簿（一人親方団体控）'!S110=\"\",\"\",'保険料申告内訳名簿（一人親方団体控）'!S110)","v":0},{"$f":"IF('保険料申告内訳名簿（一人親方団体控）'!T110=\"\",\"\",'保険料申告内訳名簿（一人親方団体控）'!T110)","v":""},{"$f":"IF('保険料申告内訳名簿（一人親方団体控）'!U110=\"\",\"\",'保険料申告内訳名簿（一人親方団体控）'!U110)","v":""},{"$f":"IF('保険料申告内訳名簿（一人親方団体控）'!V110=\"\",\"\",'保険料申告内訳名簿（一人親方団体控）'!V110)","v":""},{"$f":"IF('保険料申告内訳名簿（一人親方団体控）'!W110=\"\",\"\",'保険料申告内訳名簿（一人親方団体控）'!W110)","v":""},{"$f":"IF('保険料申告内訳名簿（一人親方団体控）'!X110=\"\",\"\",'保険料申告内訳名簿（一人親方団体控）'!X110)","v":""},{"$f":"IF('保険料申告内訳名簿（一人親方団体控）'!Y110=\"\",\"\",'保険料申告内訳名簿（一人親方団体控）'!Y110)","v":""},{"$f":"IF('保険料申告内訳名簿（一人親方団体控）'!Z110=\"\",\"\",'保険料申告内訳名簿（一人親方団体控）'!Z110)","v":""},{"$f":"IF('保険料申告内訳名簿（一人親方団体控）'!AA110=\"\",\"\",'保険料申告内訳名簿（一人親方団体控）'!AA110)","v":""},{"$f":"IF('保険料申告内訳名簿（一人親方団体控）'!AB110=\"\",\"\",'保険料申告内訳名簿（一人親方団体控）'!AB110)","v":""},{"$f":"IF('保険料申告内訳名簿（一人親方団体控）'!AC110=\"\",\"\",'保険料申告内訳名簿（一人親方団体控）'!AC110)","v":0},{"$f":"IF('保険料申告内訳名簿（一人親方団体控）'!AD110=\"\",\"\",'保険料申告内訳名簿（一人親方団体控）'!AD110)","v":""},{"$f":"IF('保険料申告内訳名簿（一人親方団体控）'!AE110=\"\",\"\",'保険料申告内訳名簿（一人親方団体控）'!AE110)","v":""},{"$f":"IF('保険料申告内訳名簿（一人親方団体控）'!AF110=\"\",\"\",'保険料申告内訳名簿（一人親方団体控）'!AF110)","v":""},{"$f":"IF('保険料申告内訳名簿（一人親方団体控）'!AG110=\"\",\"\",'保険料申告内訳名簿（一人親方団体控）'!AG110)","v":""},{"$f":"IF('保険料申告内訳名簿（一人親方団体控）'!AH110=\"\",\"\",'保険料申告内訳名簿（一人親方団体控）'!AH110)","v":""}]
[null,{"$f":"IF('保険料申告内訳名簿（一人親方団体控）'!B111=\"\",\"\",'保険料申告内訳名簿（一人親方団体控）'!B111)","v":""},{"$f":"IF('保険料申告内訳名簿（一人親方団体控）'!C111=\"\",\"\",'保険料申告内訳名簿（一人親方団体控）'!C111)","v":""},{"$f":"IF('保険料申告内訳名簿（一人親方団体控）'!D111=\"\",\"\",'保険料申告内訳名簿（一人親方団体控）'!D111)","v":""},{"$f":"IF('保険料申告内訳名簿（一人親方団体控）'!E111=\"\",\"\",'保険料申告内訳名簿（一人親方団体控）'!E111)","v":""},{"$f":"IF('保険料申告内訳名簿（一人親方団体控）'!F111=\"\",\"\",'保険料申告内訳名簿（一人親方団体控）'!F111)","v":""},{"$f":"IF('保険料申告内訳名簿（一人親方団体控）'!G111=\"\",\"\",'保険料申告内訳名簿（一人親方団体控）'!G111)","v":""},{"$f":"IF('保険料申告内訳名簿（一人親方団体控）'!H111=\"\",\"\",'保険料申告内訳名簿（一人親方団体控）'!H111)","v":""},{"$f":"IF('保険料申告内訳名簿（一人親方団体控）'!I111=\"\",\"\",'保険料申告内訳名簿（一人親方団体控）'!I111)","v":""},{"$f":"IF('保険料申告内訳名簿（一人親方団体控）'!J111=\"\",\"\",'保険料申告内訳名簿（一人親方団体控）'!J111)","v":""},{"$f":"IF('保険料申告内訳名簿（一人親方団体控）'!K111=\"\",\"\",'保険料申告内訳名簿（一人親方団体控）'!K111)","v":""},{"$f":"IF('保険料申告内訳名簿（一人親方団体控）'!L111=\"\",\"\",'保険料申告内訳名簿（一人親方団体控）'!L111)","v":""},{"$f":"IF('保険料申告内訳名簿（一人親方団体控）'!M111=\"\",\"\",'保険料申告内訳名簿（一人親方団体控）'!M111)","v":""},{"$f":"IF('保険料申告内訳名簿（一人親方団体控）'!N111=\"\",\"\",'保険料申告内訳名簿（一人親方団体控）'!N111)","v":""},{"$f":"IF('保険料申告内訳名簿（一人親方団体控）'!O111=\"\",\"\",'保険料申告内訳名簿（一人親方団体控）'!O111)","v":""},{"$f":"IF('保険料申告内訳名簿（一人親方団体控）'!P111=\"\",\"\",'保険料申告内訳名簿（一人親方団体控）'!P111)","v":""},{"$f":"IF('保険料申告内訳名簿（一人親方団体控）'!Q111=\"\",\"\",'保険料申告内訳名簿（一人親方団体控）'!Q111)","v":""},{"$f":"IF('保険料申告内訳名簿（一人親方団体控）'!R111=\"\",\"\",'保険料申告内訳名簿（一人親方団体控）'!R111)","v":""},{"$f":"IF('保険料申告内訳名簿（一人親方団体控）'!S111=\"\",\"\",'保険料申告内訳名簿（一人親方団体控）'!S111)","v":0},{"$f":"IF('保険料申告内訳名簿（一人親方団体控）'!T111=\"\",\"\",'保険料申告内訳名簿（一人親方団体控）'!T111)","v":""},{"$f":"IF('保険料申告内訳名簿（一人親方団体控）'!U111=\"\",\"\",'保険料申告内訳名簿（一人親方団体控）'!U111)","v":""},{"$f":"IF('保険料申告内訳名簿（一人親方団体控）'!V111=\"\",\"\",'保険料申告内訳名簿（一人親方団体控）'!V111)","v":""},{"$f":"IF('保険料申告内訳名簿（一人親方団体控）'!W111=\"\",\"\",'保険料申告内訳名簿（一人親方団体控）'!W111)","v":""},{"$f":"IF('保険料申告内訳名簿（一人親方団体控）'!X111=\"\",\"\",'保険料申告内訳名簿（一人親方団体控）'!X111)","v":""},{"$f":"IF('保険料申告内訳名簿（一人親方団体控）'!Y111=\"\",\"\",'保険料申告内訳名簿（一人親方団体控）'!Y111)","v":""},{"$f":"IF('保険料申告内訳名簿（一人親方団体控）'!Z111=\"\",\"\",'保険料申告内訳名簿（一人親方団体控）'!Z111)","v":""},{"$f":"IF('保険料申告内訳名簿（一人親方団体控）'!AA111=\"\",\"\",'保険料申告内訳名簿（一人親方団体控）'!AA111)","v":""},{"$f":"IF('保険料申告内訳名簿（一人親方団体控）'!AB111=\"\",\"\",'保険料申告内訳名簿（一人親方団体控）'!AB111)","v":""},{"$f":"IF('保険料申告内訳名簿（一人親方団体控）'!AC111=\"\",\"\",'保険料申告内訳名簿（一人親方団体控）'!AC111)","v":0},{"$f":"IF('保険料申告内訳名簿（一人親方団体控）'!AD111=\"\",\"\",'保険料申告内訳名簿（一人親方団体控）'!AD111)","v":""},{"$f":"IF('保険料申告内訳名簿（一人親方団体控）'!AE111=\"\",\"\",'保険料申告内訳名簿（一人親方団体控）'!AE111)","v":""},{"$f":"IF('保険料申告内訳名簿（一人親方団体控）'!AF111=\"\",\"\",'保険料申告内訳名簿（一人親方団体控）'!AF111)","v":""},{"$f":"IF('保険料申告内訳名簿（一人親方団体控）'!AG111=\"\",\"\",'保険料申告内訳名簿（一人親方団体控）'!AG111)","v":""},{"$f":"IF('保険料申告内訳名簿（一人親方団体控）'!AH111=\"\",\"\",'保険料申告内訳名簿（一人親方団体控）'!AH111)","v":""}]
[null,{"$f":"IF('保険料申告内訳名簿（一人親方団体控）'!B112=\"\",\"\",'保険料申告内訳名簿（一人親方団体控）'!B112)","v":""},{"$f":"IF('保険料申告内訳名簿（一人親方団体控）'!C112=\"\",\"\",'保険料申告内訳名簿（一人親方団体控）'!C112)","v":""},{"$f":"IF('保険料申告内訳名簿（一人親方団体控）'!D112=\"\",\"\",'保険料申告内訳名簿（一人親方団体控）'!D112)","v":""},{"$f":"IF('保険料申告内訳名簿（一人親方団体控）'!E112=\"\",\"\",'保険料申告内訳名簿（一人親方団体控）'!E112)","v":""},{"$f":"IF('保険料申告内訳名簿（一人親方団体控）'!F112=\"\",\"\",'保険料申告内訳名簿（一人親方団体控）'!F112)","v":""},{"$f":"IF('保険料申告内訳名簿（一人親方団体控）'!G112=\"\",\"\",'保険料申告内訳名簿（一人親方団体控）'!G112)","v":""},{"$f":"IF('保険料申告内訳名簿（一人親方団体控）'!H112=\"\",\"\",'保険料申告内訳名簿（一人親方団体控）'!H112)","v":""},{"$f":"IF('保険料申告内訳名簿（一人親方団体控）'!I112=\"\",\"\",'保険料申告内訳名簿（一人親方団体控）'!I112)","v":""},{"$f":"IF('保険料申告内訳名簿（一人親方団体控）'!J112=\"\",\"\",'保険料申告内訳名簿（一人親方団体控）'!J112)","v":""},{"$f":"IF('保険料申告内訳名簿（一人親方団体控）'!K112=\"\",\"\",'保険料申告内訳名簿（一人親方団体控）'!K112)","v":""},{"$f":"IF('保険料申告内訳名簿（一人親方団体控）'!L112=\"\",\"\",'保険料申告内訳名簿（一人親方団体控）'!L112)","v":""},{"$f":"IF('保険料申告内訳名簿（一人親方団体控）'!M112=\"\",\"\",'保険料申告内訳名簿（一人親方団体控）'!M112)","v":""},{"$f":"IF('保険料申告内訳名簿（一人親方団体控）'!N112=\"\",\"\",'保険料申告内訳名簿（一人親方団体控）'!N112)","v":""},{"$f":"IF('保険料申告内訳名簿（一人親方団体控）'!O112=\"\",\"\",'保険料申告内訳名簿（一人親方団体控）'!O112)","v":""},{"$f":"IF('保険料申告内訳名簿（一人親方団体控）'!P112=\"\",\"\",'保険料申告内訳名簿（一人親方団体控）'!P112)","v":""},{"$f":"IF('保険料申告内訳名簿（一人親方団体控）'!Q112=\"\",\"\",'保険料申告内訳名簿（一人親方団体控）'!Q112)","v":""},{"$f":"IF('保険料申告内訳名簿（一人親方団体控）'!R112=\"\",\"\",'保険料申告内訳名簿（一人親方団体控）'!R112)","v":""},{"$f":"IF('保険料申告内訳名簿（一人親方団体控）'!S112=\"\",\"\",'保険料申告内訳名簿（一人親方団体控）'!S112)","v":0},{"$f":"IF('保険料申告内訳名簿（一人親方団体控）'!T112=\"\",\"\",'保険料申告内訳名簿（一人親方団体控）'!T112)","v":""},{"$f":"IF('保険料申告内訳名簿（一人親方団体控）'!U112=\"\",\"\",'保険料申告内訳名簿（一人親方団体控）'!U112)","v":""},{"$f":"IF('保険料申告内訳名簿（一人親方団体控）'!V112=\"\",\"\",'保険料申告内訳名簿（一人親方団体控）'!V112)","v":""},{"$f":"IF('保険料申告内訳名簿（一人親方団体控）'!W112=\"\",\"\",'保険料申告内訳名簿（一人親方団体控）'!W112)","v":""},{"$f":"IF('保険料申告内訳名簿（一人親方団体控）'!X112=\"\",\"\",'保険料申告内訳名簿（一人親方団体控）'!X112)","v":""},{"$f":"IF('保険料申告内訳名簿（一人親方団体控）'!Y112=\"\",\"\",'保険料申告内訳名簿（一人親方団体控）'!Y112)","v":""},{"$f":"IF('保険料申告内訳名簿（一人親方団体控）'!Z112=\"\",\"\",'保険料申告内訳名簿（一人親方団体控）'!Z112)","v":""},{"$f":"IF('保険料申告内訳名簿（一人親方団体控）'!AA112=\"\",\"\",'保険料申告内訳名簿（一人親方団体控）'!AA112)","v":""},{"$f":"IF('保険料申告内訳名簿（一人親方団体控）'!AB112=\"\",\"\",'保険料申告内訳名簿（一人親方団体控）'!AB112)","v":""},{"$f":"IF('保険料申告内訳名簿（一人親方団体控）'!AC112=\"\",\"\",'保険料申告内訳名簿（一人親方団体控）'!AC112)","v":0},{"$f":"IF('保険料申告内訳名簿（一人親方団体控）'!AD112=\"\",\"\",'保険料申告内訳名簿（一人親方団体控）'!AD112)","v":""},{"$f":"IF('保険料申告内訳名簿（一人親方団体控）'!AE112=\"\",\"\",'保険料申告内訳名簿（一人親方団体控）'!AE112)","v":""},{"$f":"IF('保険料申告内訳名簿（一人親方団体控）'!AF112=\"\",\"\",'保険料申告内訳名簿（一人親方団体控）'!AF112)","v":""},{"$f":"IF('保険料申告内訳名簿（一人親方団体控）'!AG112=\"\",\"\",'保険料申告内訳名簿（一人親方団体控）'!AG112)","v":""},{"$f":"IF('保険料申告内訳名簿（一人親方団体控）'!AH112=\"\",\"\",'保険料申告内訳名簿（一人親方団体控）'!AH112)","v":""}]
[null,{"$f":"IF('保険料申告内訳名簿（一人親方団体控）'!B113=\"\",\"\",'保険料申告内訳名簿（一人親方団体控）'!B113)","v":""},{"$f":"IF('保険料申告内訳名簿（一人親方団体控）'!C113=\"\",\"\",'保険料申告内訳名簿（一人親方団体控）'!C113)","v":""},{"$f":"IF('保険料申告内訳名簿（一人親方団体控）'!D113=\"\",\"\",'保険料申告内訳名簿（一人親方団体控）'!D113)","v":""},{"$f":"IF('保険料申告内訳名簿（一人親方団体控）'!E113=\"\",\"\",'保険料申告内訳名簿（一人親方団体控）'!E113)","v":""},{"$f":"IF('保険料申告内訳名簿（一人親方団体控）'!F113=\"\",\"\",'保険料申告内訳名簿（一人親方団体控）'!F113)","v":""},{"$f":"IF('保険料申告内訳名簿（一人親方団体控）'!G113=\"\",\"\",'保険料申告内訳名簿（一人親方団体控）'!G113)","v":""},{"$f":"IF('保険料申告内訳名簿（一人親方団体控）'!H113=\"\",\"\",'保険料申告内訳名簿（一人親方団体控）'!H113)","v":""},{"$f":"IF('保険料申告内訳名簿（一人親方団体控）'!I113=\"\",\"\",'保険料申告内訳名簿（一人親方団体控）'!I113)","v":""},{"$f":"IF('保険料申告内訳名簿（一人親方団体控）'!J113=\"\",\"\",'保険料申告内訳名簿（一人親方団体控）'!J113)","v":""},{"$f":"IF('保険料申告内訳名簿（一人親方団体控）'!K113=\"\",\"\",'保険料申告内訳名簿（一人親方団体控）'!K113)","v":""},{"$f":"IF('保険料申告内訳名簿（一人親方団体控）'!L113=\"\",\"\",'保険料申告内訳名簿（一人親方団体控）'!L113)","v":""},{"$f":"IF('保険料申告内訳名簿（一人親方団体控）'!M113=\"\",\"\",'保険料申告内訳名簿（一人親方団体控）'!M113)","v":""},{"$f":"IF('保険料申告内訳名簿（一人親方団体控）'!N113=\"\",\"\",'保険料申告内訳名簿（一人親方団体控）'!N113)","v":""},{"$f":"IF('保険料申告内訳名簿（一人親方団体控）'!O113=\"\",\"\",'保険料申告内訳名簿（一人親方団体控）'!O113)","v":""},{"$f":"IF('保険料申告内訳名簿（一人親方団体控）'!P113=\"\",\"\",'保険料申告内訳名簿（一人親方団体控）'!P113)","v":""},{"$f":"IF('保険料申告内訳名簿（一人親方団体控）'!Q113=\"\",\"\",'保険料申告内訳名簿（一人親方団体控）'!Q113)","v":""},{"$f":"IF('保険料申告内訳名簿（一人親方団体控）'!R113=\"\",\"\",'保険料申告内訳名簿（一人親方団体控）'!R113)","v":""},{"$f":"IF('保険料申告内訳名簿（一人親方団体控）'!S113=\"\",\"\",'保険料申告内訳名簿（一人親方団体控）'!S113)","v":0},{"$f":"IF('保険料申告内訳名簿（一人親方団体控）'!T113=\"\",\"\",'保険料申告内訳名簿（一人親方団体控）'!T113)","v":""},{"$f":"IF('保険料申告内訳名簿（一人親方団体控）'!U113=\"\",\"\",'保険料申告内訳名簿（一人親方団体控）'!U113)","v":""},{"$f":"IF('保険料申告内訳名簿（一人親方団体控）'!V113=\"\",\"\",'保険料申告内訳名簿（一人親方団体控）'!V113)","v":""},{"$f":"IF('保険料申告内訳名簿（一人親方団体控）'!W113=\"\",\"\",'保険料申告内訳名簿（一人親方団体控）'!W113)","v":""},{"$f":"IF('保険料申告内訳名簿（一人親方団体控）'!X113=\"\",\"\",'保険料申告内訳名簿（一人親方団体控）'!X113)","v":""},{"$f":"IF('保険料申告内訳名簿（一人親方団体控）'!Y113=\"\",\"\",'保険料申告内訳名簿（一人親方団体控）'!Y113)","v":""},{"$f":"IF('保険料申告内訳名簿（一人親方団体控）'!Z113=\"\",\"\",'保険料申告内訳名簿（一人親方団体控）'!Z113)","v":""},{"$f":"IF('保険料申告内訳名簿（一人親方団体控）'!AA113=\"\",\"\",'保険料申告内訳名簿（一人親方団体控）'!AA113)","v":""},{"$f":"IF('保険料申告内訳名簿（一人親方団体控）'!AB113=\"\",\"\",'保険料申告内訳名簿（一人親方団体控）'!AB113)","v":""},{"$f":"IF('保険料申告内訳名簿（一人親方団体控）'!AC113=\"\",\"\",'保険料申告内訳名簿（一人親方団体控）'!AC113)","v":0},{"$f":"IF('保険料申告内訳名簿（一人親方団体控）'!AD113=\"\",\"\",'保険料申告内訳名簿（一人親方団体控）'!AD113)","v":""},{"$f":"IF('保険料申告内訳名簿（一人親方団体控）'!AE113=\"\",\"\",'保険料申告内訳名簿（一人親方団体控）'!AE113)","v":""},{"$f":"IF('保険料申告内訳名簿（一人親方団体控）'!AF113=\"\",\"\",'保険料申告内訳名簿（一人親方団体控）'!AF113)","v":""},{"$f":"IF('保険料申告内訳名簿（一人親方団体控）'!AG113=\"\",\"\",'保険料申告内訳名簿（一人親方団体控）'!AG113)","v":""},{"$f":"IF('保険料申告内訳名簿（一人親方団体控）'!AH113=\"\",\"\",'保険料申告内訳名簿（一人親方団体控）'!AH113)","v":""}]
[null,{"$f":"IF('保険料申告内訳名簿（一人親方団体控）'!B114=\"\",\"\",'保険料申告内訳名簿（一人親方団体控）'!B114)","v":""},{"$f":"IF('保険料申告内訳名簿（一人親方団体控）'!C114=\"\",\"\",'保険料申告内訳名簿（一人親方団体控）'!C114)","v":""},{"$f":"IF('保険料申告内訳名簿（一人親方団体控）'!D114=\"\",\"\",'保険料申告内訳名簿（一人親方団体控）'!D114)","v":""},{"$f":"IF('保険料申告内訳名簿（一人親方団体控）'!E114=\"\",\"\",'保険料申告内訳名簿（一人親方団体控）'!E114)","v":""},{"$f":"IF('保険料申告内訳名簿（一人親方団体控）'!F114=\"\",\"\",'保険料申告内訳名簿（一人親方団体控）'!F114)","v":""},{"$f":"IF('保険料申告内訳名簿（一人親方団体控）'!G114=\"\",\"\",'保険料申告内訳名簿（一人親方団体控）'!G114)","v":""},{"$f":"IF('保険料申告内訳名簿（一人親方団体控）'!H114=\"\",\"\",'保険料申告内訳名簿（一人親方団体控）'!H114)","v":""},{"$f":"IF('保険料申告内訳名簿（一人親方団体控）'!I114=\"\",\"\",'保険料申告内訳名簿（一人親方団体控）'!I114)","v":""},{"$f":"IF('保険料申告内訳名簿（一人親方団体控）'!J114=\"\",\"\",'保険料申告内訳名簿（一人親方団体控）'!J114)","v":""},{"$f":"IF('保険料申告内訳名簿（一人親方団体控）'!K114=\"\",\"\",'保険料申告内訳名簿（一人親方団体控）'!K114)","v":""},{"$f":"IF('保険料申告内訳名簿（一人親方団体控）'!L114=\"\",\"\",'保険料申告内訳名簿（一人親方団体控）'!L114)","v":""},{"$f":"IF('保険料申告内訳名簿（一人親方団体控）'!M114=\"\",\"\",'保険料申告内訳名簿（一人親方団体控）'!M114)","v":""},{"$f":"IF('保険料申告内訳名簿（一人親方団体控）'!N114=\"\",\"\",'保険料申告内訳名簿（一人親方団体控）'!N114)","v":""},{"$f":"IF('保険料申告内訳名簿（一人親方団体控）'!O114=\"\",\"\",'保険料申告内訳名簿（一人親方団体控）'!O114)","v":""},{"$f":"IF('保険料申告内訳名簿（一人親方団体控）'!P114=\"\",\"\",'保険料申告内訳名簿（一人親方団体控）'!P114)","v":""},{"$f":"IF('保険料申告内訳名簿（一人親方団体控）'!Q114=\"\",\"\",'保険料申告内訳名簿（一人親方団体控）'!Q114)","v":""},{"$f":"IF('保険料申告内訳名簿（一人親方団体控）'!R114=\"\",\"\",'保険料申告内訳名簿（一人親方団体控）'!R114)","v":""},{"$f":"IF('保険料申告内訳名簿（一人親方団体控）'!S114=\"\",\"\",'保険料申告内訳名簿（一人親方団体控）'!S114)","v":0},{"$f":"IF('保険料申告内訳名簿（一人親方団体控）'!T114=\"\",\"\",'保険料申告内訳名簿（一人親方団体控）'!T114)","v":""},{"$f":"IF('保険料申告内訳名簿（一人親方団体控）'!U114=\"\",\"\",'保険料申告内訳名簿（一人親方団体控）'!U114)","v":""},{"$f":"IF('保険料申告内訳名簿（一人親方団体控）'!V114=\"\",\"\",'保険料申告内訳名簿（一人親方団体控）'!V114)","v":""},{"$f":"IF('保険料申告内訳名簿（一人親方団体控）'!W114=\"\",\"\",'保険料申告内訳名簿（一人親方団体控）'!W114)","v":""},{"$f":"IF('保険料申告内訳名簿（一人親方団体控）'!X114=\"\",\"\",'保険料申告内訳名簿（一人親方団体控）'!X114)","v":""},{"$f":"IF('保険料申告内訳名簿（一人親方団体控）'!Y114=\"\",\"\",'保険料申告内訳名簿（一人親方団体控）'!Y114)","v":""},{"$f":"IF('保険料申告内訳名簿（一人親方団体控）'!Z114=\"\",\"\",'保険料申告内訳名簿（一人親方団体控）'!Z114)","v":""},{"$f":"IF('保険料申告内訳名簿（一人親方団体控）'!AA114=\"\",\"\",'保険料申告内訳名簿（一人親方団体控）'!AA114)","v":""},{"$f":"IF('保険料申告内訳名簿（一人親方団体控）'!AB114=\"\",\"\",'保険料申告内訳名簿（一人親方団体控）'!AB114)","v":""},{"$f":"IF('保険料申告内訳名簿（一人親方団体控）'!AC114=\"\",\"\",'保険料申告内訳名簿（一人親方団体控）'!AC114)","v":0},{"$f":"IF('保険料申告内訳名簿（一人親方団体控）'!AD114=\"\",\"\",'保険料申告内訳名簿（一人親方団体控）'!AD114)","v":""},{"$f":"IF('保険料申告内訳名簿（一人親方団体控）'!AE114=\"\",\"\",'保険料申告内訳名簿（一人親方団体控）'!AE114)","v":""},{"$f":"IF('保険料申告内訳名簿（一人親方団体控）'!AF114=\"\",\"\",'保険料申告内訳名簿（一人親方団体控）'!AF114)","v":""},{"$f":"IF('保険料申告内訳名簿（一人親方団体控）'!AG114=\"\",\"\",'保険料申告内訳名簿（一人親方団体控）'!AG114)","v":""},{"$f":"IF('保険料申告内訳名簿（一人親方団体控）'!AH114=\"\",\"\",'保険料申告内訳名簿（一人親方団体控）'!AH114)","v":""}]
[null,{"$f":"IF('保険料申告内訳名簿（一人親方団体控）'!B115=\"\",\"\",'保険料申告内訳名簿（一人親方団体控）'!B115)","v":""},{"$f":"IF('保険料申告内訳名簿（一人親方団体控）'!C115=\"\",\"\",'保険料申告内訳名簿（一人親方団体控）'!C115)","v":""},{"$f":"IF('保険料申告内訳名簿（一人親方団体控）'!D115=\"\",\"\",'保険料申告内訳名簿（一人親方団体控）'!D115)","v":""},{"$f":"IF('保険料申告内訳名簿（一人親方団体控）'!E115=\"\",\"\",'保険料申告内訳名簿（一人親方団体控）'!E115)","v":""},{"$f":"IF('保険料申告内訳名簿（一人親方団体控）'!F115=\"\",\"\",'保険料申告内訳名簿（一人親方団体控）'!F115)","v":""},{"$f":"IF('保険料申告内訳名簿（一人親方団体控）'!G115=\"\",\"\",'保険料申告内訳名簿（一人親方団体控）'!G115)","v":""},{"$f":"IF('保険料申告内訳名簿（一人親方団体控）'!H115=\"\",\"\",'保険料申告内訳名簿（一人親方団体控）'!H115)","v":""},{"$f":"IF('保険料申告内訳名簿（一人親方団体控）'!I115=\"\",\"\",'保険料申告内訳名簿（一人親方団体控）'!I115)","v":""},{"$f":"IF('保険料申告内訳名簿（一人親方団体控）'!J115=\"\",\"\",'保険料申告内訳名簿（一人親方団体控）'!J115)","v":""},{"$f":"IF('保険料申告内訳名簿（一人親方団体控）'!K115=\"\",\"\",'保険料申告内訳名簿（一人親方団体控）'!K115)","v":""},{"$f":"IF('保険料申告内訳名簿（一人親方団体控）'!L115=\"\",\"\",'保険料申告内訳名簿（一人親方団体控）'!L115)","v":""},{"$f":"IF('保険料申告内訳名簿（一人親方団体控）'!M115=\"\",\"\",'保険料申告内訳名簿（一人親方団体控）'!M115)","v":""},{"$f":"IF('保険料申告内訳名簿（一人親方団体控）'!N115=\"\",\"\",'保険料申告内訳名簿（一人親方団体控）'!N115)","v":""},{"$f":"IF('保険料申告内訳名簿（一人親方団体控）'!O115=\"\",\"\",'保険料申告内訳名簿（一人親方団体控）'!O115)","v":""},{"$f":"IF('保険料申告内訳名簿（一人親方団体控）'!P115=\"\",\"\",'保険料申告内訳名簿（一人親方団体控）'!P115)","v":""},{"$f":"IF('保険料申告内訳名簿（一人親方団体控）'!Q115=\"\",\"\",'保険料申告内訳名簿（一人親方団体控）'!Q115)","v":""},{"$f":"IF('保険料申告内訳名簿（一人親方団体控）'!R115=\"\",\"\",'保険料申告内訳名簿（一人親方団体控）'!R115)","v":""},{"$f":"IF('保険料申告内訳名簿（一人親方団体控）'!S115=\"\",\"\",'保険料申告内訳名簿（一人親方団体控）'!S115)","v":0},{"$f":"IF('保険料申告内訳名簿（一人親方団体控）'!T115=\"\",\"\",'保険料申告内訳名簿（一人親方団体控）'!T115)","v":""},{"$f":"IF('保険料申告内訳名簿（一人親方団体控）'!U115=\"\",\"\",'保険料申告内訳名簿（一人親方団体控）'!U115)","v":""},{"$f":"IF('保険料申告内訳名簿（一人親方団体控）'!V115=\"\",\"\",'保険料申告内訳名簿（一人親方団体控）'!V115)","v":""},{"$f":"IF('保険料申告内訳名簿（一人親方団体控）'!W115=\"\",\"\",'保険料申告内訳名簿（一人親方団体控）'!W115)","v":""},{"$f":"IF('保険料申告内訳名簿（一人親方団体控）'!X115=\"\",\"\",'保険料申告内訳名簿（一人親方団体控）'!X115)","v":""},{"$f":"IF('保険料申告内訳名簿（一人親方団体控）'!Y115=\"\",\"\",'保険料申告内訳名簿（一人親方団体控）'!Y115)","v":""},{"$f":"IF('保険料申告内訳名簿（一人親方団体控）'!Z115=\"\",\"\",'保険料申告内訳名簿（一人親方団体控）'!Z115)","v":""},{"$f":"IF('保険料申告内訳名簿（一人親方団体控）'!AA115=\"\",\"\",'保険料申告内訳名簿（一人親方団体控）'!AA115)","v":""},{"$f":"IF('保険料申告内訳名簿（一人親方団体控）'!AB115=\"\",\"\",'保険料申告内訳名簿（一人親方団体控）'!AB115)","v":""},{"$f":"IF('保険料申告内訳名簿（一人親方団体控）'!AC115=\"\",\"\",'保険料申告内訳名簿（一人親方団体控）'!AC115)","v":0},{"$f":"IF('保険料申告内訳名簿（一人親方団体控）'!AD115=\"\",\"\",'保険料申告内訳名簿（一人親方団体控）'!AD115)","v":""},{"$f":"IF('保険料申告内訳名簿（一人親方団体控）'!AE115=\"\",\"\",'保険料申告内訳名簿（一人親方団体控）'!AE115)","v":""},{"$f":"IF('保険料申告内訳名簿（一人親方団体控）'!AF115=\"\",\"\",'保険料申告内訳名簿（一人親方団体控）'!AF115)","v":""},{"$f":"IF('保険料申告内訳名簿（一人親方団体控）'!AG115=\"\",\"\",'保険料申告内訳名簿（一人親方団体控）'!AG115)","v":""},{"$f":"IF('保険料申告内訳名簿（一人親方団体控）'!AH115=\"\",\"\",'保険料申告内訳名簿（一人親方団体控）'!AH115)","v":""}]
[null,{"$f":"IF('保険料申告内訳名簿（一人親方団体控）'!B116=\"\",\"\",'保険料申告内訳名簿（一人親方団体控）'!B116)","v":""},{"$f":"IF('保険料申告内訳名簿（一人親方団体控）'!C116=\"\",\"\",'保険料申告内訳名簿（一人親方団体控）'!C116)","v":""},{"$f":"IF('保険料申告内訳名簿（一人親方団体控）'!D116=\"\",\"\",'保険料申告内訳名簿（一人親方団体控）'!D116)","v":""},{"$f":"IF('保険料申告内訳名簿（一人親方団体控）'!E116=\"\",\"\",'保険料申告内訳名簿（一人親方団体控）'!E116)","v":""},{"$f":"IF('保険料申告内訳名簿（一人親方団体控）'!F116=\"\",\"\",'保険料申告内訳名簿（一人親方団体控）'!F116)","v":""},{"$f":"IF('保険料申告内訳名簿（一人親方団体控）'!G116=\"\",\"\",'保険料申告内訳名簿（一人親方団体控）'!G116)","v":""},{"$f":"IF('保険料申告内訳名簿（一人親方団体控）'!H116=\"\",\"\",'保険料申告内訳名簿（一人親方団体控）'!H116)","v":""},{"$f":"IF('保険料申告内訳名簿（一人親方団体控）'!I116=\"\",\"\",'保険料申告内訳名簿（一人親方団体控）'!I116)","v":""},{"$f":"IF('保険料申告内訳名簿（一人親方団体控）'!J116=\"\",\"\",'保険料申告内訳名簿（一人親方団体控）'!J116)","v":""},{"$f":"IF('保険料申告内訳名簿（一人親方団体控）'!K116=\"\",\"\",'保険料申告内訳名簿（一人親方団体控）'!K116)","v":""},{"$f":"IF('保険料申告内訳名簿（一人親方団体控）'!L116=\"\",\"\",'保険料申告内訳名簿（一人親方団体控）'!L116)","v":""},{"$f":"IF('保険料申告内訳名簿（一人親方団体控）'!M116=\"\",\"\",'保険料申告内訳名簿（一人親方団体控）'!M116)","v":""},{"$f":"IF('保険料申告内訳名簿（一人親方団体控）'!N116=\"\",\"\",'保険料申告内訳名簿（一人親方団体控）'!N116)","v":""},{"$f":"IF('保険料申告内訳名簿（一人親方団体控）'!O116=\"\",\"\",'保険料申告内訳名簿（一人親方団体控）'!O116)","v":""},{"$f":"IF('保険料申告内訳名簿（一人親方団体控）'!P116=\"\",\"\",'保険料申告内訳名簿（一人親方団体控）'!P116)","v":""},{"$f":"IF('保険料申告内訳名簿（一人親方団体控）'!Q116=\"\",\"\",'保険料申告内訳名簿（一人親方団体控）'!Q116)","v":""},{"$f":"IF('保険料申告内訳名簿（一人親方団体控）'!R116=\"\",\"\",'保険料申告内訳名簿（一人親方団体控）'!R116)","v":""},{"$f":"IF('保険料申告内訳名簿（一人親方団体控）'!S116=\"\",\"\",'保険料申告内訳名簿（一人親方団体控）'!S116)","v":0},{"$f":"IF('保険料申告内訳名簿（一人親方団体控）'!T116=\"\",\"\",'保険料申告内訳名簿（一人親方団体控）'!T116)","v":""},{"$f":"IF('保険料申告内訳名簿（一人親方団体控）'!U116=\"\",\"\",'保険料申告内訳名簿（一人親方団体控）'!U116)","v":""},{"$f":"IF('保険料申告内訳名簿（一人親方団体控）'!V116=\"\",\"\",'保険料申告内訳名簿（一人親方団体控）'!V116)","v":""},{"$f":"IF('保険料申告内訳名簿（一人親方団体控）'!W116=\"\",\"\",'保険料申告内訳名簿（一人親方団体控）'!W116)","v":""},{"$f":"IF('保険料申告内訳名簿（一人親方団体控）'!X116=\"\",\"\",'保険料申告内訳名簿（一人親方団体控）'!X116)","v":""},{"$f":"IF('保険料申告内訳名簿（一人親方団体控）'!Y116=\"\",\"\",'保険料申告内訳名簿（一人親方団体控）'!Y116)","v":""},{"$f":"IF('保険料申告内訳名簿（一人親方団体控）'!Z116=\"\",\"\",'保険料申告内訳名簿（一人親方団体控）'!Z116)","v":""},{"$f":"IF('保険料申告内訳名簿（一人親方団体控）'!AA116=\"\",\"\",'保険料申告内訳名簿（一人親方団体控）'!AA116)","v":""},{"$f":"IF('保険料申告内訳名簿（一人親方団体控）'!AB116=\"\",\"\",'保険料申告内訳名簿（一人親方団体控）'!AB116)","v":""},{"$f":"IF('保険料申告内訳名簿（一人親方団体控）'!AC116=\"\",\"\",'保険料申告内訳名簿（一人親方団体控）'!AC116)","v":0},{"$f":"IF('保険料申告内訳名簿（一人親方団体控）'!AD116=\"\",\"\",'保険料申告内訳名簿（一人親方団体控）'!AD116)","v":""},{"$f":"IF('保険料申告内訳名簿（一人親方団体控）'!AE116=\"\",\"\",'保険料申告内訳名簿（一人親方団体控）'!AE116)","v":""},{"$f":"IF('保険料申告内訳名簿（一人親方団体控）'!AF116=\"\",\"\",'保険料申告内訳名簿（一人親方団体控）'!AF116)","v":""},{"$f":"IF('保険料申告内訳名簿（一人親方団体控）'!AG116=\"\",\"\",'保険料申告内訳名簿（一人親方団体控）'!AG116)","v":""},{"$f":"IF('保険料申告内訳名簿（一人親方団体控）'!AH116=\"\",\"\",'保険料申告内訳名簿（一人親方団体控）'!AH116)","v":""}]
[null,{"$f":"IF('保険料申告内訳名簿（一人親方団体控）'!B117=\"\",\"\",'保険料申告内訳名簿（一人親方団体控）'!B117)","v":""},{"$f":"IF('保険料申告内訳名簿（一人親方団体控）'!C117=\"\",\"\",'保険料申告内訳名簿（一人親方団体控）'!C117)","v":""},{"$f":"IF('保険料申告内訳名簿（一人親方団体控）'!D117=\"\",\"\",'保険料申告内訳名簿（一人親方団体控）'!D117)","v":""},{"$f":"IF('保険料申告内訳名簿（一人親方団体控）'!E117=\"\",\"\",'保険料申告内訳名簿（一人親方団体控）'!E117)","v":""},{"$f":"IF('保険料申告内訳名簿（一人親方団体控）'!F117=\"\",\"\",'保険料申告内訳名簿（一人親方団体控）'!F117)","v":""},{"$f":"IF('保険料申告内訳名簿（一人親方団体控）'!G117=\"\",\"\",'保険料申告内訳名簿（一人親方団体控）'!G117)","v":""},{"$f":"IF('保険料申告内訳名簿（一人親方団体控）'!H117=\"\",\"\",'保険料申告内訳名簿（一人親方団体控）'!H117)","v":""},{"$f":"IF('保険料申告内訳名簿（一人親方団体控）'!I117=\"\",\"\",'保険料申告内訳名簿（一人親方団体控）'!I117)","v":""},{"$f":"IF('保険料申告内訳名簿（一人親方団体控）'!J117=\"\",\"\",'保険料申告内訳名簿（一人親方団体控）'!J117)","v":""},{"$f":"IF('保険料申告内訳名簿（一人親方団体控）'!K117=\"\",\"\",'保険料申告内訳名簿（一人親方団体控）'!K117)","v":""},{"$f":"IF('保険料申告内訳名簿（一人親方団体控）'!L117=\"\",\"\",'保険料申告内訳名簿（一人親方団体控）'!L117)","v":""},{"$f":"IF('保険料申告内訳名簿（一人親方団体控）'!M117=\"\",\"\",'保険料申告内訳名簿（一人親方団体控）'!M117)","v":""},{"$f":"IF('保険料申告内訳名簿（一人親方団体控）'!N117=\"\",\"\",'保険料申告内訳名簿（一人親方団体控）'!N117)","v":""},{"$f":"IF('保険料申告内訳名簿（一人親方団体控）'!O117=\"\",\"\",'保険料申告内訳名簿（一人親方団体控）'!O117)","v":""},{"$f":"IF('保険料申告内訳名簿（一人親方団体控）'!P117=\"\",\"\",'保険料申告内訳名簿（一人親方団体控）'!P117)","v":""},{"$f":"IF('保険料申告内訳名簿（一人親方団体控）'!Q117=\"\",\"\",'保険料申告内訳名簿（一人親方団体控）'!Q117)","v":""},{"$f":"IF('保険料申告内訳名簿（一人親方団体控）'!R117=\"\",\"\",'保険料申告内訳名簿（一人親方団体控）'!R117)","v":""},{"$f":"IF('保険料申告内訳名簿（一人親方団体控）'!S117=\"\",\"\",'保険料申告内訳名簿（一人親方団体控）'!S117)","v":0},{"$f":"IF('保険料申告内訳名簿（一人親方団体控）'!T117=\"\",\"\",'保険料申告内訳名簿（一人親方団体控）'!T117)","v":""},{"$f":"IF('保険料申告内訳名簿（一人親方団体控）'!U117=\"\",\"\",'保険料申告内訳名簿（一人親方団体控）'!U117)","v":""},{"$f":"IF('保険料申告内訳名簿（一人親方団体控）'!V117=\"\",\"\",'保険料申告内訳名簿（一人親方団体控）'!V117)","v":""},{"$f":"IF('保険料申告内訳名簿（一人親方団体控）'!W117=\"\",\"\",'保険料申告内訳名簿（一人親方団体控）'!W117)","v":""},{"$f":"IF('保険料申告内訳名簿（一人親方団体控）'!X117=\"\",\"\",'保険料申告内訳名簿（一人親方団体控）'!X117)","v":""},{"$f":"IF('保険料申告内訳名簿（一人親方団体控）'!Y117=\"\",\"\",'保険料申告内訳名簿（一人親方団体控）'!Y117)","v":""},{"$f":"IF('保険料申告内訳名簿（一人親方団体控）'!Z117=\"\",\"\",'保険料申告内訳名簿（一人親方団体控）'!Z117)","v":""},{"$f":"IF('保険料申告内訳名簿（一人親方団体控）'!AA117=\"\",\"\",'保険料申告内訳名簿（一人親方団体控）'!AA117)","v":""},{"$f":"IF('保険料申告内訳名簿（一人親方団体控）'!AB117=\"\",\"\",'保険料申告内訳名簿（一人親方団体控）'!AB117)","v":""},{"$f":"IF('保険料申告内訳名簿（一人親方団体控）'!AC117=\"\",\"\",'保険料申告内訳名簿（一人親方団体控）'!AC117)","v":0},{"$f":"IF('保険料申告内訳名簿（一人親方団体控）'!AD117=\"\",\"\",'保険料申告内訳名簿（一人親方団体控）'!AD117)","v":""},{"$f":"IF('保険料申告内訳名簿（一人親方団体控）'!AE117=\"\",\"\",'保険料申告内訳名簿（一人親方団体控）'!AE117)","v":""},{"$f":"IF('保険料申告内訳名簿（一人親方団体控）'!AF117=\"\",\"\",'保険料申告内訳名簿（一人親方団体控）'!AF117)","v":""},{"$f":"IF('保険料申告内訳名簿（一人親方団体控）'!AG117=\"\",\"\",'保険料申告内訳名簿（一人親方団体控）'!AG117)","v":""},{"$f":"IF('保険料申告内訳名簿（一人親方団体控）'!AH117=\"\",\"\",'保険料申告内訳名簿（一人親方団体控）'!AH117)","v":""}]
[null,{"$f":"IF('保険料申告内訳名簿（一人親方団体控）'!B118=\"\",\"\",'保険料申告内訳名簿（一人親方団体控）'!B118)","v":""},{"$f":"IF('保険料申告内訳名簿（一人親方団体控）'!C118=\"\",\"\",'保険料申告内訳名簿（一人親方団体控）'!C118)","v":""},{"$f":"IF('保険料申告内訳名簿（一人親方団体控）'!D118=\"\",\"\",'保険料申告内訳名簿（一人親方団体控）'!D118)","v":""},{"$f":"IF('保険料申告内訳名簿（一人親方団体控）'!E118=\"\",\"\",'保険料申告内訳名簿（一人親方団体控）'!E118)","v":""},{"$f":"IF('保険料申告内訳名簿（一人親方団体控）'!F118=\"\",\"\",'保険料申告内訳名簿（一人親方団体控）'!F118)","v":""},{"$f":"IF('保険料申告内訳名簿（一人親方団体控）'!G118=\"\",\"\",'保険料申告内訳名簿（一人親方団体控）'!G118)","v":""},{"$f":"IF('保険料申告内訳名簿（一人親方団体控）'!H118=\"\",\"\",'保険料申告内訳名簿（一人親方団体控）'!H118)","v":""},{"$f":"IF('保険料申告内訳名簿（一人親方団体控）'!I118=\"\",\"\",'保険料申告内訳名簿（一人親方団体控）'!I118)","v":""},{"$f":"IF('保険料申告内訳名簿（一人親方団体控）'!J118=\"\",\"\",'保険料申告内訳名簿（一人親方団体控）'!J118)","v":""},{"$f":"IF('保険料申告内訳名簿（一人親方団体控）'!K118=\"\",\"\",'保険料申告内訳名簿（一人親方団体控）'!K118)","v":""},{"$f":"IF('保険料申告内訳名簿（一人親方団体控）'!L118=\"\",\"\",'保険料申告内訳名簿（一人親方団体控）'!L118)","v":""},{"$f":"IF('保険料申告内訳名簿（一人親方団体控）'!M118=\"\",\"\",'保険料申告内訳名簿（一人親方団体控）'!M118)","v":""},{"$f":"IF('保険料申告内訳名簿（一人親方団体控）'!N118=\"\",\"\",'保険料申告内訳名簿（一人親方団体控）'!N118)","v":""},{"$f":"IF('保険料申告内訳名簿（一人親方団体控）'!O118=\"\",\"\",'保険料申告内訳名簿（一人親方団体控）'!O118)","v":""},{"$f":"IF('保険料申告内訳名簿（一人親方団体控）'!P118=\"\",\"\",'保険料申告内訳名簿（一人親方団体控）'!P118)","v":""},{"$f":"IF('保険料申告内訳名簿（一人親方団体控）'!Q118=\"\",\"\",'保険料申告内訳名簿（一人親方団体控）'!Q118)","v":""},{"$f":"IF('保険料申告内訳名簿（一人親方団体控）'!R118=\"\",\"\",'保険料申告内訳名簿（一人親方団体控）'!R118)","v":""},{"$f":"IF('保険料申告内訳名簿（一人親方団体控）'!S118=\"\",\"\",'保険料申告内訳名簿（一人親方団体控）'!S118)","v":0},{"$f":"IF('保険料申告内訳名簿（一人親方団体控）'!T118=\"\",\"\",'保険料申告内訳名簿（一人親方団体控）'!T118)","v":""},{"$f":"IF('保険料申告内訳名簿（一人親方団体控）'!U118=\"\",\"\",'保険料申告内訳名簿（一人親方団体控）'!U118)","v":""},{"$f":"IF('保険料申告内訳名簿（一人親方団体控）'!V118=\"\",\"\",'保険料申告内訳名簿（一人親方団体控）'!V118)","v":""},{"$f":"IF('保険料申告内訳名簿（一人親方団体控）'!W118=\"\",\"\",'保険料申告内訳名簿（一人親方団体控）'!W118)","v":""},{"$f":"IF('保険料申告内訳名簿（一人親方団体控）'!X118=\"\",\"\",'保険料申告内訳名簿（一人親方団体控）'!X118)","v":""},{"$f":"IF('保険料申告内訳名簿（一人親方団体控）'!Y118=\"\",\"\",'保険料申告内訳名簿（一人親方団体控）'!Y118)","v":""},{"$f":"IF('保険料申告内訳名簿（一人親方団体控）'!Z118=\"\",\"\",'保険料申告内訳名簿（一人親方団体控）'!Z118)","v":""},{"$f":"IF('保険料申告内訳名簿（一人親方団体控）'!AA118=\"\",\"\",'保険料申告内訳名簿（一人親方団体控）'!AA118)","v":""},{"$f":"IF('保険料申告内訳名簿（一人親方団体控）'!AB118=\"\",\"\",'保険料申告内訳名簿（一人親方団体控）'!AB118)","v":""},{"$f":"IF('保険料申告内訳名簿（一人親方団体控）'!AC118=\"\",\"\",'保険料申告内訳名簿（一人親方団体控）'!AC118)","v":0},{"$f":"IF('保険料申告内訳名簿（一人親方団体控）'!AD118=\"\",\"\",'保険料申告内訳名簿（一人親方団体控）'!AD118)","v":""},{"$f":"IF('保険料申告内訳名簿（一人親方団体控）'!AE118=\"\",\"\",'保険料申告内訳名簿（一人親方団体控）'!AE118)","v":""},{"$f":"IF('保険料申告内訳名簿（一人親方団体控）'!AF118=\"\",\"\",'保険料申告内訳名簿（一人親方団体控）'!AF118)","v":""},{"$f":"IF('保険料申告内訳名簿（一人親方団体控）'!AG118=\"\",\"\",'保険料申告内訳名簿（一人親方団体控）'!AG118)","v":""},{"$f":"IF('保険料申告内訳名簿（一人親方団体控）'!AH118=\"\",\"\",'保険料申告内訳名簿（一人親方団体控）'!AH118)","v":""}]
[null,{"$f":"IF('保険料申告内訳名簿（一人親方団体控）'!B119=\"\",\"\",'保険料申告内訳名簿（一人親方団体控）'!B119)","v":""},{"$f":"IF('保険料申告内訳名簿（一人親方団体控）'!C119=\"\",\"\",'保険料申告内訳名簿（一人親方団体控）'!C119)","v":""},{"$f":"IF('保険料申告内訳名簿（一人親方団体控）'!D119=\"\",\"\",'保険料申告内訳名簿（一人親方団体控）'!D119)","v":""},{"$f":"IF('保険料申告内訳名簿（一人親方団体控）'!E119=\"\",\"\",'保険料申告内訳名簿（一人親方団体控）'!E119)","v":""},{"$f":"IF('保険料申告内訳名簿（一人親方団体控）'!F119=\"\",\"\",'保険料申告内訳名簿（一人親方団体控）'!F119)","v":""},{"$f":"IF('保険料申告内訳名簿（一人親方団体控）'!G119=\"\",\"\",'保険料申告内訳名簿（一人親方団体控）'!G119)","v":""},{"$f":"IF('保険料申告内訳名簿（一人親方団体控）'!H119=\"\",\"\",'保険料申告内訳名簿（一人親方団体控）'!H119)","v":""},{"$f":"IF('保険料申告内訳名簿（一人親方団体控）'!I119=\"\",\"\",'保険料申告内訳名簿（一人親方団体控）'!I119)","v":""},{"$f":"IF('保険料申告内訳名簿（一人親方団体控）'!J119=\"\",\"\",'保険料申告内訳名簿（一人親方団体控）'!J119)","v":""},{"$f":"IF('保険料申告内訳名簿（一人親方団体控）'!K119=\"\",\"\",'保険料申告内訳名簿（一人親方団体控）'!K119)","v":""},{"$f":"IF('保険料申告内訳名簿（一人親方団体控）'!L119=\"\",\"\",'保険料申告内訳名簿（一人親方団体控）'!L119)","v":""},{"$f":"IF('保険料申告内訳名簿（一人親方団体控）'!M119=\"\",\"\",'保険料申告内訳名簿（一人親方団体控）'!M119)","v":""},{"$f":"IF('保険料申告内訳名簿（一人親方団体控）'!N119=\"\",\"\",'保険料申告内訳名簿（一人親方団体控）'!N119)","v":""},{"$f":"IF('保険料申告内訳名簿（一人親方団体控）'!O119=\"\",\"\",'保険料申告内訳名簿（一人親方団体控）'!O119)","v":""},{"$f":"IF('保険料申告内訳名簿（一人親方団体控）'!P119=\"\",\"\",'保険料申告内訳名簿（一人親方団体控）'!P119)","v":""},{"$f":"IF('保険料申告内訳名簿（一人親方団体控）'!Q119=\"\",\"\",'保険料申告内訳名簿（一人親方団体控）'!Q119)","v":""},{"$f":"IF('保険料申告内訳名簿（一人親方団体控）'!R119=\"\",\"\",'保険料申告内訳名簿（一人親方団体控）'!R119)","v":""},{"$f":"IF('保険料申告内訳名簿（一人親方団体控）'!S119=\"\",\"\",'保険料申告内訳名簿（一人親方団体控）'!S119)","v":0},{"$f":"IF('保険料申告内訳名簿（一人親方団体控）'!T119=\"\",\"\",'保険料申告内訳名簿（一人親方団体控）'!T119)","v":""},{"$f":"IF('保険料申告内訳名簿（一人親方団体控）'!U119=\"\",\"\",'保険料申告内訳名簿（一人親方団体控）'!U119)","v":""},{"$f":"IF('保険料申告内訳名簿（一人親方団体控）'!V119=\"\",\"\",'保険料申告内訳名簿（一人親方団体控）'!V119)","v":""},{"$f":"IF('保険料申告内訳名簿（一人親方団体控）'!W119=\"\",\"\",'保険料申告内訳名簿（一人親方団体控）'!W119)","v":""},{"$f":"IF('保険料申告内訳名簿（一人親方団体控）'!X119=\"\",\"\",'保険料申告内訳名簿（一人親方団体控）'!X119)","v":""},{"$f":"IF('保険料申告内訳名簿（一人親方団体控）'!Y119=\"\",\"\",'保険料申告内訳名簿（一人親方団体控）'!Y119)","v":""},{"$f":"IF('保険料申告内訳名簿（一人親方団体控）'!Z119=\"\",\"\",'保険料申告内訳名簿（一人親方団体控）'!Z119)","v":""},{"$f":"IF('保険料申告内訳名簿（一人親方団体控）'!AA119=\"\",\"\",'保険料申告内訳名簿（一人親方団体控）'!AA119)","v":""},{"$f":"IF('保険料申告内訳名簿（一人親方団体控）'!AB119=\"\",\"\",'保険料申告内訳名簿（一人親方団体控）'!AB119)","v":""},{"$f":"IF('保険料申告内訳名簿（一人親方団体控）'!AC119=\"\",\"\",'保険料申告内訳名簿（一人親方団体控）'!AC119)","v":0},{"$f":"IF('保険料申告内訳名簿（一人親方団体控）'!AD119=\"\",\"\",'保険料申告内訳名簿（一人親方団体控）'!AD119)","v":""},{"$f":"IF('保険料申告内訳名簿（一人親方団体控）'!AE119=\"\",\"\",'保険料申告内訳名簿（一人親方団体控）'!AE119)","v":""},{"$f":"IF('保険料申告内訳名簿（一人親方団体控）'!AF119=\"\",\"\",'保険料申告内訳名簿（一人親方団体控）'!AF119)","v":""},{"$f":"IF('保険料申告内訳名簿（一人親方団体控）'!AG119=\"\",\"\",'保険料申告内訳名簿（一人親方団体控）'!AG119)","v":""},{"$f":"IF('保険料申告内訳名簿（一人親方団体控）'!AH119=\"\",\"\",'保険料申告内訳名簿（一人親方団体控）'!AH119)","v":""}]
[null,{"$f":"IF('保険料申告内訳名簿（一人親方団体控）'!B120=\"\",\"\",'保険料申告内訳名簿（一人親方団体控）'!B120)","v":""},{"$f":"IF('保険料申告内訳名簿（一人親方団体控）'!C120=\"\",\"\",'保険料申告内訳名簿（一人親方団体控）'!C120)","v":""},{"$f":"IF('保険料申告内訳名簿（一人親方団体控）'!D120=\"\",\"\",'保険料申告内訳名簿（一人親方団体控）'!D120)","v":""},{"$f":"IF('保険料申告内訳名簿（一人親方団体控）'!E120=\"\",\"\",'保険料申告内訳名簿（一人親方団体控）'!E120)","v":""},{"$f":"IF('保険料申告内訳名簿（一人親方団体控）'!F120=\"\",\"\",'保険料申告内訳名簿（一人親方団体控）'!F120)","v":""},{"$f":"IF('保険料申告内訳名簿（一人親方団体控）'!G120=\"\",\"\",'保険料申告内訳名簿（一人親方団体控）'!G120)","v":""},{"$f":"IF('保険料申告内訳名簿（一人親方団体控）'!H120=\"\",\"\",'保険料申告内訳名簿（一人親方団体控）'!H120)","v":""},{"$f":"IF('保険料申告内訳名簿（一人親方団体控）'!I120=\"\",\"\",'保険料申告内訳名簿（一人親方団体控）'!I120)","v":""},{"$f":"IF('保険料申告内訳名簿（一人親方団体控）'!J120=\"\",\"\",'保険料申告内訳名簿（一人親方団体控）'!J120)","v":""},{"$f":"IF('保険料申告内訳名簿（一人親方団体控）'!K120=\"\",\"\",'保険料申告内訳名簿（一人親方団体控）'!K120)","v":""},{"$f":"IF('保険料申告内訳名簿（一人親方団体控）'!L120=\"\",\"\",'保険料申告内訳名簿（一人親方団体控）'!L120)","v":""},{"$f":"IF('保険料申告内訳名簿（一人親方団体控）'!M120=\"\",\"\",'保険料申告内訳名簿（一人親方団体控）'!M120)","v":""},{"$f":"IF('保険料申告内訳名簿（一人親方団体控）'!N120=\"\",\"\",'保険料申告内訳名簿（一人親方団体控）'!N120)","v":""},{"$f":"IF('保険料申告内訳名簿（一人親方団体控）'!O120=\"\",\"\",'保険料申告内訳名簿（一人親方団体控）'!O120)","v":""},{"$f":"IF('保険料申告内訳名簿（一人親方団体控）'!P120=\"\",\"\",'保険料申告内訳名簿（一人親方団体控）'!P120)","v":""},{"$f":"IF('保険料申告内訳名簿（一人親方団体控）'!Q120=\"\",\"\",'保険料申告内訳名簿（一人親方団体控）'!Q120)","v":""},{"$f":"IF('保険料申告内訳名簿（一人親方団体控）'!R120=\"\",\"\",'保険料申告内訳名簿（一人親方団体控）'!R120)","v":""},{"$f":"IF('保険料申告内訳名簿（一人親方団体控）'!S120=\"\",\"\",'保険料申告内訳名簿（一人親方団体控）'!S120)","v":0},{"$f":"IF('保険料申告内訳名簿（一人親方団体控）'!T120=\"\",\"\",'保険料申告内訳名簿（一人親方団体控）'!T120)","v":""},{"$f":"IF('保険料申告内訳名簿（一人親方団体控）'!U120=\"\",\"\",'保険料申告内訳名簿（一人親方団体控）'!U120)","v":""},{"$f":"IF('保険料申告内訳名簿（一人親方団体控）'!V120=\"\",\"\",'保険料申告内訳名簿（一人親方団体控）'!V120)","v":""},{"$f":"IF('保険料申告内訳名簿（一人親方団体控）'!W120=\"\",\"\",'保険料申告内訳名簿（一人親方団体控）'!W120)","v":""},{"$f":"IF('保険料申告内訳名簿（一人親方団体控）'!X120=\"\",\"\",'保険料申告内訳名簿（一人親方団体控）'!X120)","v":""},{"$f":"IF('保険料申告内訳名簿（一人親方団体控）'!Y120=\"\",\"\",'保険料申告内訳名簿（一人親方団体控）'!Y120)","v":""},{"$f":"IF('保険料申告内訳名簿（一人親方団体控）'!Z120=\"\",\"\",'保険料申告内訳名簿（一人親方団体控）'!Z120)","v":""},{"$f":"IF('保険料申告内訳名簿（一人親方団体控）'!AA120=\"\",\"\",'保険料申告内訳名簿（一人親方団体控）'!AA120)","v":""},{"$f":"IF('保険料申告内訳名簿（一人親方団体控）'!AB120=\"\",\"\",'保険料申告内訳名簿（一人親方団体控）'!AB120)","v":""},{"$f":"IF('保険料申告内訳名簿（一人親方団体控）'!AC120=\"\",\"\",'保険料申告内訳名簿（一人親方団体控）'!AC120)","v":0},{"$f":"IF('保険料申告内訳名簿（一人親方団体控）'!AD120=\"\",\"\",'保険料申告内訳名簿（一人親方団体控）'!AD120)","v":""},{"$f":"IF('保険料申告内訳名簿（一人親方団体控）'!AE120=\"\",\"\",'保険料申告内訳名簿（一人親方団体控）'!AE120)","v":""},{"$f":"IF('保険料申告内訳名簿（一人親方団体控）'!AF120=\"\",\"\",'保険料申告内訳名簿（一人親方団体控）'!AF120)","v":""},{"$f":"IF('保険料申告内訳名簿（一人親方団体控）'!AG120=\"\",\"\",'保険料申告内訳名簿（一人親方団体控）'!AG120)","v":""},{"$f":"IF('保険料申告内訳名簿（一人親方団体控）'!AH120=\"\",\"\",'保険料申告内訳名簿（一人親方団体控）'!AH120)","v":""}]
[null,{"$f":"IF('保険料申告内訳名簿（一人親方団体控）'!B121=\"\",\"\",'保険料申告内訳名簿（一人親方団体控）'!B121)","v":""},{"$f":"IF('保険料申告内訳名簿（一人親方団体控）'!C121=\"\",\"\",'保険料申告内訳名簿（一人親方団体控）'!C121)","v":""},{"$f":"IF('保険料申告内訳名簿（一人親方団体控）'!D121=\"\",\"\",'保険料申告内訳名簿（一人親方団体控）'!D121)","v":""},{"$f":"IF('保険料申告内訳名簿（一人親方団体控）'!E121=\"\",\"\",'保険料申告内訳名簿（一人親方団体控）'!E121)","v":""},{"$f":"IF('保険料申告内訳名簿（一人親方団体控）'!F121=\"\",\"\",'保険料申告内訳名簿（一人親方団体控）'!F121)","v":""},{"$f":"IF('保険料申告内訳名簿（一人親方団体控）'!G121=\"\",\"\",'保険料申告内訳名簿（一人親方団体控）'!G121)","v":""},{"$f":"IF('保険料申告内訳名簿（一人親方団体控）'!H121=\"\",\"\",'保険料申告内訳名簿（一人親方団体控）'!H121)","v":""},{"$f":"IF('保険料申告内訳名簿（一人親方団体控）'!I121=\"\",\"\",'保険料申告内訳名簿（一人親方団体控）'!I121)","v":""},{"$f":"IF('保険料申告内訳名簿（一人親方団体控）'!J121=\"\",\"\",'保険料申告内訳名簿（一人親方団体控）'!J121)","v":""},{"$f":"IF('保険料申告内訳名簿（一人親方団体控）'!K121=\"\",\"\",'保険料申告内訳名簿（一人親方団体控）'!K121)","v":""},{"$f":"IF('保険料申告内訳名簿（一人親方団体控）'!L121=\"\",\"\",'保険料申告内訳名簿（一人親方団体控）'!L121)","v":""},{"$f":"IF('保険料申告内訳名簿（一人親方団体控）'!M121=\"\",\"\",'保険料申告内訳名簿（一人親方団体控）'!M121)","v":""},{"$f":"IF('保険料申告内訳名簿（一人親方団体控）'!N121=\"\",\"\",'保険料申告内訳名簿（一人親方団体控）'!N121)","v":""},{"$f":"IF('保険料申告内訳名簿（一人親方団体控）'!O121=\"\",\"\",'保険料申告内訳名簿（一人親方団体控）'!O121)","v":""},{"$f":"IF('保険料申告内訳名簿（一人親方団体控）'!P121=\"\",\"\",'保険料申告内訳名簿（一人親方団体控）'!P121)","v":""},{"$f":"IF('保険料申告内訳名簿（一人親方団体控）'!Q121=\"\",\"\",'保険料申告内訳名簿（一人親方団体控）'!Q121)","v":""},{"$f":"IF('保険料申告内訳名簿（一人親方団体控）'!R121=\"\",\"\",'保険料申告内訳名簿（一人親方団体控）'!R121)","v":""},{"$f":"IF('保険料申告内訳名簿（一人親方団体控）'!S121=\"\",\"\",'保険料申告内訳名簿（一人親方団体控）'!S121)","v":0},{"$f":"IF('保険料申告内訳名簿（一人親方団体控）'!T121=\"\",\"\",'保険料申告内訳名簿（一人親方団体控）'!T121)","v":""},{"$f":"IF('保険料申告内訳名簿（一人親方団体控）'!U121=\"\",\"\",'保険料申告内訳名簿（一人親方団体控）'!U121)","v":""},{"$f":"IF('保険料申告内訳名簿（一人親方団体控）'!V121=\"\",\"\",'保険料申告内訳名簿（一人親方団体控）'!V121)","v":""},{"$f":"IF('保険料申告内訳名簿（一人親方団体控）'!W121=\"\",\"\",'保険料申告内訳名簿（一人親方団体控）'!W121)","v":""},{"$f":"IF('保険料申告内訳名簿（一人親方団体控）'!X121=\"\",\"\",'保険料申告内訳名簿（一人親方団体控）'!X121)","v":""},{"$f":"IF('保険料申告内訳名簿（一人親方団体控）'!Y121=\"\",\"\",'保険料申告内訳名簿（一人親方団体控）'!Y121)","v":""},{"$f":"IF('保険料申告内訳名簿（一人親方団体控）'!Z121=\"\",\"\",'保険料申告内訳名簿（一人親方団体控）'!Z121)","v":""},{"$f":"IF('保険料申告内訳名簿（一人親方団体控）'!AA121=\"\",\"\",'保険料申告内訳名簿（一人親方団体控）'!AA121)","v":""},{"$f":"IF('保険料申告内訳名簿（一人親方団体控）'!AB121=\"\",\"\",'保険料申告内訳名簿（一人親方団体控）'!AB121)","v":""},{"$f":"IF('保険料申告内訳名簿（一人親方団体控）'!AC121=\"\",\"\",'保険料申告内訳名簿（一人親方団体控）'!AC121)","v":0},{"$f":"IF('保険料申告内訳名簿（一人親方団体控）'!AD121=\"\",\"\",'保険料申告内訳名簿（一人親方団体控）'!AD121)","v":""},{"$f":"IF('保険料申告内訳名簿（一人親方団体控）'!AE121=\"\",\"\",'保険料申告内訳名簿（一人親方団体控）'!AE121)","v":""},{"$f":"IF('保険料申告内訳名簿（一人親方団体控）'!AF121=\"\",\"\",'保険料申告内訳名簿（一人親方団体控）'!AF121)","v":""},{"$f":"IF('保険料申告内訳名簿（一人親方団体控）'!AG121=\"\",\"\",'保険料申告内訳名簿（一人親方団体控）'!AG121)","v":""},{"$f":"IF('保険料申告内訳名簿（一人親方団体控）'!AH121=\"\",\"\",'保険料申告内訳名簿（一人親方団体控）'!AH121)","v":""}]
[null,{"$f":"IF('保険料申告内訳名簿（一人親方団体控）'!B122=\"\",\"\",'保険料申告内訳名簿（一人親方団体控）'!B122)","v":""},{"$f":"IF('保険料申告内訳名簿（一人親方団体控）'!C122=\"\",\"\",'保険料申告内訳名簿（一人親方団体控）'!C122)","v":""},{"$f":"IF('保険料申告内訳名簿（一人親方団体控）'!D122=\"\",\"\",'保険料申告内訳名簿（一人親方団体控）'!D122)","v":""},{"$f":"IF('保険料申告内訳名簿（一人親方団体控）'!E122=\"\",\"\",'保険料申告内訳名簿（一人親方団体控）'!E122)","v":""},{"$f":"IF('保険料申告内訳名簿（一人親方団体控）'!F122=\"\",\"\",'保険料申告内訳名簿（一人親方団体控）'!F122)","v":""},{"$f":"IF('保険料申告内訳名簿（一人親方団体控）'!G122=\"\",\"\",'保険料申告内訳名簿（一人親方団体控）'!G122)","v":""},{"$f":"IF('保険料申告内訳名簿（一人親方団体控）'!H122=\"\",\"\",'保険料申告内訳名簿（一人親方団体控）'!H122)","v":""},{"$f":"IF('保険料申告内訳名簿（一人親方団体控）'!I122=\"\",\"\",'保険料申告内訳名簿（一人親方団体控）'!I122)","v":""},{"$f":"IF('保険料申告内訳名簿（一人親方団体控）'!J122=\"\",\"\",'保険料申告内訳名簿（一人親方団体控）'!J122)","v":""},{"$f":"IF('保険料申告内訳名簿（一人親方団体控）'!K122=\"\",\"\",'保険料申告内訳名簿（一人親方団体控）'!K122)","v":""},{"$f":"IF('保険料申告内訳名簿（一人親方団体控）'!L122=\"\",\"\",'保険料申告内訳名簿（一人親方団体控）'!L122)","v":""},{"$f":"IF('保険料申告内訳名簿（一人親方団体控）'!M122=\"\",\"\",'保険料申告内訳名簿（一人親方団体控）'!M122)","v":""},{"$f":"IF('保険料申告内訳名簿（一人親方団体控）'!N122=\"\",\"\",'保険料申告内訳名簿（一人親方団体控）'!N122)","v":""},{"$f":"IF('保険料申告内訳名簿（一人親方団体控）'!O122=\"\",\"\",'保険料申告内訳名簿（一人親方団体控）'!O122)","v":""},{"$f":"IF('保険料申告内訳名簿（一人親方団体控）'!P122=\"\",\"\",'保険料申告内訳名簿（一人親方団体控）'!P122)","v":""},{"$f":"IF('保険料申告内訳名簿（一人親方団体控）'!Q122=\"\",\"\",'保険料申告内訳名簿（一人親方団体控）'!Q122)","v":""},{"$f":"IF('保険料申告内訳名簿（一人親方団体控）'!R122=\"\",\"\",'保険料申告内訳名簿（一人親方団体控）'!R122)","v":""},{"$f":"IF('保険料申告内訳名簿（一人親方団体控）'!S122=\"\",\"\",'保険料申告内訳名簿（一人親方団体控）'!S122)","v":0},{"$f":"IF('保険料申告内訳名簿（一人親方団体控）'!T122=\"\",\"\",'保険料申告内訳名簿（一人親方団体控）'!T122)","v":""},{"$f":"IF('保険料申告内訳名簿（一人親方団体控）'!U122=\"\",\"\",'保険料申告内訳名簿（一人親方団体控）'!U122)","v":""},{"$f":"IF('保険料申告内訳名簿（一人親方団体控）'!V122=\"\",\"\",'保険料申告内訳名簿（一人親方団体控）'!V122)","v":""},{"$f":"IF('保険料申告内訳名簿（一人親方団体控）'!W122=\"\",\"\",'保険料申告内訳名簿（一人親方団体控）'!W122)","v":""},{"$f":"IF('保険料申告内訳名簿（一人親方団体控）'!X122=\"\",\"\",'保険料申告内訳名簿（一人親方団体控）'!X122)","v":""},{"$f":"IF('保険料申告内訳名簿（一人親方団体控）'!Y122=\"\",\"\",'保険料申告内訳名簿（一人親方団体控）'!Y122)","v":""},{"$f":"IF('保険料申告内訳名簿（一人親方団体控）'!Z122=\"\",\"\",'保険料申告内訳名簿（一人親方団体控）'!Z122)","v":""},{"$f":"IF('保険料申告内訳名簿（一人親方団体控）'!AA122=\"\",\"\",'保険料申告内訳名簿（一人親方団体控）'!AA122)","v":""},{"$f":"IF('保険料申告内訳名簿（一人親方団体控）'!AB122=\"\",\"\",'保険料申告内訳名簿（一人親方団体控）'!AB122)","v":""},{"$f":"IF('保険料申告内訳名簿（一人親方団体控）'!AC122=\"\",\"\",'保険料申告内訳名簿（一人親方団体控）'!AC122)","v":0},{"$f":"IF('保険料申告内訳名簿（一人親方団体控）'!AD122=\"\",\"\",'保険料申告内訳名簿（一人親方団体控）'!AD122)","v":""},{"$f":"IF('保険料申告内訳名簿（一人親方団体控）'!AE122=\"\",\"\",'保険料申告内訳名簿（一人親方団体控）'!AE122)","v":""},{"$f":"IF('保険料申告内訳名簿（一人親方団体控）'!AF122=\"\",\"\",'保険料申告内訳名簿（一人親方団体控）'!AF122)","v":""},{"$f":"IF('保険料申告内訳名簿（一人親方団体控）'!AG122=\"\",\"\",'保険料申告内訳名簿（一人親方団体控）'!AG122)","v":""},{"$f":"IF('保険料申告内訳名簿（一人親方団体控）'!AH122=\"\",\"\",'保険料申告内訳名簿（一人親方団体控）'!AH122)","v":""}]
[null,{"$f":"IF('保険料申告内訳名簿（一人親方団体控）'!B123=\"\",\"\",'保険料申告内訳名簿（一人親方団体控）'!B123)","v":""},{"$f":"IF('保険料申告内訳名簿（一人親方団体控）'!C123=\"\",\"\",'保険料申告内訳名簿（一人親方団体控）'!C123)","v":""},{"$f":"IF('保険料申告内訳名簿（一人親方団体控）'!D123=\"\",\"\",'保険料申告内訳名簿（一人親方団体控）'!D123)","v":""},{"$f":"IF('保険料申告内訳名簿（一人親方団体控）'!E123=\"\",\"\",'保険料申告内訳名簿（一人親方団体控）'!E123)","v":""},{"$f":"IF('保険料申告内訳名簿（一人親方団体控）'!F123=\"\",\"\",'保険料申告内訳名簿（一人親方団体控）'!F123)","v":""},{"$f":"IF('保険料申告内訳名簿（一人親方団体控）'!G123=\"\",\"\",'保険料申告内訳名簿（一人親方団体控）'!G123)","v":""},{"$f":"IF('保険料申告内訳名簿（一人親方団体控）'!H123=\"\",\"\",'保険料申告内訳名簿（一人親方団体控）'!H123)","v":""},{"$f":"IF('保険料申告内訳名簿（一人親方団体控）'!I123=\"\",\"\",'保険料申告内訳名簿（一人親方団体控）'!I123)","v":""},{"$f":"IF('保険料申告内訳名簿（一人親方団体控）'!J123=\"\",\"\",'保険料申告内訳名簿（一人親方団体控）'!J123)","v":""},{"$f":"IF('保険料申告内訳名簿（一人親方団体控）'!K123=\"\",\"\",'保険料申告内訳名簿（一人親方団体控）'!K123)","v":""},{"$f":"IF('保険料申告内訳名簿（一人親方団体控）'!L123=\"\",\"\",'保険料申告内訳名簿（一人親方団体控）'!L123)","v":""},{"$f":"IF('保険料申告内訳名簿（一人親方団体控）'!M123=\"\",\"\",'保険料申告内訳名簿（一人親方団体控）'!M123)","v":""},{"$f":"IF('保険料申告内訳名簿（一人親方団体控）'!N123=\"\",\"\",'保険料申告内訳名簿（一人親方団体控）'!N123)","v":""},{"$f":"IF('保険料申告内訳名簿（一人親方団体控）'!O123=\"\",\"\",'保険料申告内訳名簿（一人親方団体控）'!O123)","v":""},{"$f":"IF('保険料申告内訳名簿（一人親方団体控）'!P123=\"\",\"\",'保険料申告内訳名簿（一人親方団体控）'!P123)","v":""},{"$f":"IF('保険料申告内訳名簿（一人親方団体控）'!Q123=\"\",\"\",'保険料申告内訳名簿（一人親方団体控）'!Q123)","v":""},{"$f":"IF('保険料申告内訳名簿（一人親方団体控）'!R123=\"\",\"\",'保険料申告内訳名簿（一人親方団体控）'!R123)","v":""},{"$f":"IF('保険料申告内訳名簿（一人親方団体控）'!S123=\"\",\"\",'保険料申告内訳名簿（一人親方団体控）'!S123)","v":0},{"$f":"IF('保険料申告内訳名簿（一人親方団体控）'!T123=\"\",\"\",'保険料申告内訳名簿（一人親方団体控）'!T123)","v":""},{"$f":"IF('保険料申告内訳名簿（一人親方団体控）'!U123=\"\",\"\",'保険料申告内訳名簿（一人親方団体控）'!U123)","v":""},{"$f":"IF('保険料申告内訳名簿（一人親方団体控）'!V123=\"\",\"\",'保険料申告内訳名簿（一人親方団体控）'!V123)","v":""},{"$f":"IF('保険料申告内訳名簿（一人親方団体控）'!W123=\"\",\"\",'保険料申告内訳名簿（一人親方団体控）'!W123)","v":""},{"$f":"IF('保険料申告内訳名簿（一人親方団体控）'!X123=\"\",\"\",'保険料申告内訳名簿（一人親方団体控）'!X123)","v":""},{"$f":"IF('保険料申告内訳名簿（一人親方団体控）'!Y123=\"\",\"\",'保険料申告内訳名簿（一人親方団体控）'!Y123)","v":""},{"$f":"IF('保険料申告内訳名簿（一人親方団体控）'!Z123=\"\",\"\",'保険料申告内訳名簿（一人親方団体控）'!Z123)","v":""},{"$f":"IF('保険料申告内訳名簿（一人親方団体控）'!AA123=\"\",\"\",'保険料申告内訳名簿（一人親方団体控）'!AA123)","v":""},{"$f":"IF('保険料申告内訳名簿（一人親方団体控）'!AB123=\"\",\"\",'保険料申告内訳名簿（一人親方団体控）'!AB123)","v":""},{"$f":"IF('保険料申告内訳名簿（一人親方団体控）'!AC123=\"\",\"\",'保険料申告内訳名簿（一人親方団体控）'!AC123)","v":0},{"$f":"IF('保険料申告内訳名簿（一人親方団体控）'!AD123=\"\",\"\",'保険料申告内訳名簿（一人親方団体控）'!AD123)","v":""},{"$f":"IF('保険料申告内訳名簿（一人親方団体控）'!AE123=\"\",\"\",'保険料申告内訳名簿（一人親方団体控）'!AE123)","v":""},{"$f":"IF('保険料申告内訳名簿（一人親方団体控）'!AF123=\"\",\"\",'保険料申告内訳名簿（一人親方団体控）'!AF123)","v":""},{"$f":"IF('保険料申告内訳名簿（一人親方団体控）'!AG123=\"\",\"\",'保険料申告内訳名簿（一人親方団体控）'!AG123)","v":""},{"$f":"IF('保険料申告内訳名簿（一人親方団体控）'!AH123=\"\",\"\",'保険料申告内訳名簿（一人親方団体控）'!AH123)","v":""}]
[null,{"$f":"IF('保険料申告内訳名簿（一人親方団体控）'!B124=\"\",\"\",'保険料申告内訳名簿（一人親方団体控）'!B124)","v":""},{"$f":"IF('保険料申告内訳名簿（一人親方団体控）'!C124=\"\",\"\",'保険料申告内訳名簿（一人親方団体控）'!C124)","v":""},{"$f":"IF('保険料申告内訳名簿（一人親方団体控）'!D124=\"\",\"\",'保険料申告内訳名簿（一人親方団体控）'!D124)","v":""},{"$f":"IF('保険料申告内訳名簿（一人親方団体控）'!E124=\"\",\"\",'保険料申告内訳名簿（一人親方団体控）'!E124)","v":""},{"$f":"IF('保険料申告内訳名簿（一人親方団体控）'!F124=\"\",\"\",'保険料申告内訳名簿（一人親方団体控）'!F124)","v":""},{"$f":"IF('保険料申告内訳名簿（一人親方団体控）'!G124=\"\",\"\",'保険料申告内訳名簿（一人親方団体控）'!G124)","v":""},{"$f":"IF('保険料申告内訳名簿（一人親方団体控）'!H124=\"\",\"\",'保険料申告内訳名簿（一人親方団体控）'!H124)","v":""},{"$f":"IF('保険料申告内訳名簿（一人親方団体控）'!I124=\"\",\"\",'保険料申告内訳名簿（一人親方団体控）'!I124)","v":""},{"$f":"IF('保険料申告内訳名簿（一人親方団体控）'!J124=\"\",\"\",'保険料申告内訳名簿（一人親方団体控）'!J124)","v":""},{"$f":"IF('保険料申告内訳名簿（一人親方団体控）'!K124=\"\",\"\",'保険料申告内訳名簿（一人親方団体控）'!K124)","v":""},{"$f":"IF('保険料申告内訳名簿（一人親方団体控）'!L124=\"\",\"\",'保険料申告内訳名簿（一人親方団体控）'!L124)","v":""},{"$f":"IF('保険料申告内訳名簿（一人親方団体控）'!M124=\"\",\"\",'保険料申告内訳名簿（一人親方団体控）'!M124)","v":""},{"$f":"IF('保険料申告内訳名簿（一人親方団体控）'!N124=\"\",\"\",'保険料申告内訳名簿（一人親方団体控）'!N124)","v":""},{"$f":"IF('保険料申告内訳名簿（一人親方団体控）'!O124=\"\",\"\",'保険料申告内訳名簿（一人親方団体控）'!O124)","v":""},{"$f":"IF('保険料申告内訳名簿（一人親方団体控）'!P124=\"\",\"\",'保険料申告内訳名簿（一人親方団体控）'!P124)","v":""},{"$f":"IF('保険料申告内訳名簿（一人親方団体控）'!Q124=\"\",\"\",'保険料申告内訳名簿（一人親方団体控）'!Q124)","v":""},{"$f":"IF('保険料申告内訳名簿（一人親方団体控）'!R124=\"\",\"\",'保険料申告内訳名簿（一人親方団体控）'!R124)","v":""},{"$f":"IF('保険料申告内訳名簿（一人親方団体控）'!S124=\"\",\"\",'保険料申告内訳名簿（一人親方団体控）'!S124)","v":0},{"$f":"IF('保険料申告内訳名簿（一人親方団体控）'!T124=\"\",\"\",'保険料申告内訳名簿（一人親方団体控）'!T124)","v":""},{"$f":"IF('保険料申告内訳名簿（一人親方団体控）'!U124=\"\",\"\",'保険料申告内訳名簿（一人親方団体控）'!U124)","v":""},{"$f":"IF('保険料申告内訳名簿（一人親方団体控）'!V124=\"\",\"\",'保険料申告内訳名簿（一人親方団体控）'!V124)","v":""},{"$f":"IF('保険料申告内訳名簿（一人親方団体控）'!W124=\"\",\"\",'保険料申告内訳名簿（一人親方団体控）'!W124)","v":""},{"$f":"IF('保険料申告内訳名簿（一人親方団体控）'!X124=\"\",\"\",'保険料申告内訳名簿（一人親方団体控）'!X124)","v":""},{"$f":"IF('保険料申告内訳名簿（一人親方団体控）'!Y124=\"\",\"\",'保険料申告内訳名簿（一人親方団体控）'!Y124)","v":""},{"$f":"IF('保険料申告内訳名簿（一人親方団体控）'!Z124=\"\",\"\",'保険料申告内訳名簿（一人親方団体控）'!Z124)","v":""},{"$f":"IF('保険料申告内訳名簿（一人親方団体控）'!AA124=\"\",\"\",'保険料申告内訳名簿（一人親方団体控）'!AA124)","v":""},{"$f":"IF('保険料申告内訳名簿（一人親方団体控）'!AB124=\"\",\"\",'保険料申告内訳名簿（一人親方団体控）'!AB124)","v":""},{"$f":"IF('保険料申告内訳名簿（一人親方団体控）'!AC124=\"\",\"\",'保険料申告内訳名簿（一人親方団体控）'!AC124)","v":0},{"$f":"IF('保険料申告内訳名簿（一人親方団体控）'!AD124=\"\",\"\",'保険料申告内訳名簿（一人親方団体控）'!AD124)","v":""},{"$f":"IF('保険料申告内訳名簿（一人親方団体控）'!AE124=\"\",\"\",'保険料申告内訳名簿（一人親方団体控）'!AE124)","v":""},{"$f":"IF('保険料申告内訳名簿（一人親方団体控）'!AF124=\"\",\"\",'保険料申告内訳名簿（一人親方団体控）'!AF124)","v":""},{"$f":"IF('保険料申告内訳名簿（一人親方団体控）'!AG124=\"\",\"\",'保険料申告内訳名簿（一人親方団体控）'!AG124)","v":""},{"$f":"IF('保険料申告内訳名簿（一人親方団体控）'!AH124=\"\",\"\",'保険料申告内訳名簿（一人親方団体控）'!AH124)","v":""}]
[null,null,null,null,null,null,null,null,null,null,null,null,null,null,null,null,null,null,{"$f":"IF('保険料申告内訳名簿（一人親方団体控）'!S125=\"\",\"\",'保険料申告内訳名簿（一人親方団体控）'!S125)","v":0},{"$f":"IF('保険料申告内訳名簿（一人親方団体控）'!T125=\"\",\"\",'保険料申告内訳名簿（一人親方団体控）'!T125)","v":""},{"$f":"IF('保険料申告内訳名簿（一人親方団体控）'!U125=\"\",\"\",'保険料申告内訳名簿（一人親方団体控）'!U125)","v":""},{"$f":"IF('保険料申告内訳名簿（一人親方団体控）'!V125=\"\",\"\",'保険料申告内訳名簿（一人親方団体控）'!V125)","v":""},{"$f":"IF('保険料申告内訳名簿（一人親方団体控）'!W125=\"\",\"\",'保険料申告内訳名簿（一人親方団体控）'!W125)","v":""},{"$f":"IF('保険料申告内訳名簿（一人親方団体控）'!X125=\"\",\"\",'保険料申告内訳名簿（一人親方団体控）'!X125)","v":""},null,null,null,null,{"$f":"IF('保険料申告内訳名簿（一人親方団体控）'!AC125=\"\",\"\",'保険料申告内訳名簿（一人親方団体控）'!AC125)","v":0},{"$f":"IF('保険料申告内訳名簿（一人親方団体控）'!AD125=\"\",\"\",'保険料申告内訳名簿（一人親方団体控）'!AD125)","v":""},{"$f":"IF('保険料申告内訳名簿（一人親方団体控）'!AE125=\"\",\"\",'保険料申告内訳名簿（一人親方団体控）'!AE125)","v":""},{"$f":"IF('保険料申告内訳名簿（一人親方団体控）'!AF125=\"\",\"\",'保険料申告内訳名簿（一人親方団体控）'!AF125)","v":""},{"$f":"IF('保険料申告内訳名簿（一人親方団体控）'!AG125=\"\",\"\",'保険料申告内訳名簿（一人親方団体控）'!AG125)","v":""},{"$f":"IF('保険料申告内訳名簿（一人親方団体控）'!AH125=\"\",\"\",'保険料申告内訳名簿（一人親方団体控）'!AH125)","v":""}]
[]
[null,"（注）"]
[null,null,"１）　④欄は月割の対象となる方のみ記入して下さい。"]
[null,null,"２）　月割の対象となる場合の⑤保険料算定基礎額の算定方法"]
[null,null,"２）　月割の対象となる場合の③（給付基礎日額×365÷12）（円未満を切り上げてから）×加入月数"]
[]
[]
[null,"【島根局版】",null,null,null,null,null,null,null,null,null,null,null,null,null,null,null,null,null,null,null,null,null,null,null,null,"監督署用"]
[null,"第２種特別加入保険料申告内訳名簿"]
[null,"（一人親方等）"]
[null,null,null,null,null,null,null,null,null,null,null,null,null,null,null,null,null,null,null,null,null,null,null,null,"（",{"$f":"IF('保険料申告内訳名簿（一人親方団体控）'!Z136=\"\",\"\",'保険料申告内訳名簿（一人親方団体控）'!Z136)","v":0},{"$f":"IF('保険料申告内訳名簿（一人親方団体控）'!AA136=\"\",\"\",'保険料申告内訳名簿（一人親方団体控）'!AA136)","v":""},"枚のうち",null,{"$f":"IF('保険料申告内訳名簿（一人親方団体控）'!AD136=\"\",\"\",'保険料申告内訳名簿（一人親方団体控）'!AD136)","v":5},{"$f":"IF('保険料申告内訳名簿（一人親方団体控）'!AE136=\"\",\"\",'保険料申告内訳名簿（一人親方団体控）'!AE136)","v":""},"枚目",null,"）"]
[]
[null,"労働保険\n番　　　号",null,null,null,null,"府県",null,"所掌","管轄",null,"基幹番号",null,null,null,null,null,"枝番号",null,null,"事業場の\n所在地",null,null,{"$f":"IF('保険料申告内訳名簿（一人親方団体控）'!X138=\"\",\"\",'保険料申告内訳名簿（一人親方団体控）'!X138)","v":""},{"$f":"IF('保険料申告内訳名簿（一人親方団体控）'!Y138=\"\",\"\",'保険料申告内訳名簿（一人親方団体控）'!Y138)","v":""},{"$f":"IF('保険料申告内訳名簿（一人親方団体控）'!Z138=\"\",\"\",'保険料申告内訳名簿（一人親方団体控）'!Z138)","v":""},{"$f":"IF('保険料申告内訳名簿（一人親方団体控）'!AA138=\"\",\"\",'保険料申告内訳名簿（一人親方団体控）'!AA138)","v":""},{"$f":"IF('保険料申告内訳名簿（一人親方団体控）'!AB138=\"\",\"\",'保険料申告内訳名簿（一人親方団体控）'!AB138)","v":""},{"$f":"IF('保険料申告内訳名簿（一人親方団体控）'!AC138=\"\",\"\",'保険料申告内訳名簿（一人親方団体控）'!AC138)","v":""},{"$f":"IF('保険料申告内訳名簿（一人親方団体控）'!AD138=\"\",\"\",'保険料申告内訳名簿（一人親方団体控）'!AD138)","v":""},{"$f":"IF('保険料申告内訳名簿（一人親方団体控）'!AE138=\"\",\"\",'保険料申告内訳名簿（一人親方団体控）'!AE138)","v":""},{"$f":"IF('保険料申告内訳名簿（一人親方団体控）'!AF138=\"\",\"\",'保険料申告内訳名簿（一人親方団体控）'!AF138)","v":""},{"$f":"IF('保険料申告内訳名簿（一人親方団体控）'!AG138=\"\",\"\",'保険料申告内訳名簿（一人親方団体控）'!AG138)","v":""},{"$f":"IF('保険料申告内訳名簿（一人親方団体控）'!AH138=\"\",\"\",'保険料申告内訳名簿（一人親方団体控）'!AH138)","v":""}]
[null,null,null,null,null,null,"3","2",{"$f":"IF('保険料申告内訳名簿（一人親方団体控）'!I139=\"\",\"\",'保険料申告内訳名簿（一人親方団体控）'!I139)","v":""},{"$f":"IF('保険料申告内訳名簿（一人親方団体控）'!J139=\"\",\"\",'保険料申告内訳名簿（一人親方団体控）'!J139)","v":""},{"$f":"IF('保険料申告内訳名簿（一人親方団体控）'!K139=\"\",\"\",'保険料申告内訳名簿（一人親方団体控）'!K139)","v":""},{"$f":"IF('保険料申告内訳名簿（一人親方団体控）'!L139=\"\",\"\",'保険料申告内訳名簿（一人親方団体控）'!L139)","v":""},{"$f":"IF('保険料申告内訳名簿（一人親方団体控）'!M139=\"\",\"\",'保険料申告内訳名簿（一人親方団体控）'!M139)","v":""},{"$f":"IF('保険料申告内訳名簿（一人親方団体控）'!N139=\"\",\"\",'保険料申告内訳名簿（一人親方団体控）'!N139)","v":""},{"$f":"IF('保険料申告内訳名簿（一人親方団体控）'!O139=\"\",\"\",'保険料申告内訳名簿（一人親方団体控）'!O139)","v":""},{"$f":"IF('保険料申告内訳名簿（一人親方団体控）'!P139=\"\",\"\",'保険料申告内訳名簿（一人親方団体控）'!P139)","v":""},{"$f":"IF('保険料申告内訳名簿（一人親方団体控）'!Q139=\"\",\"\",'保険料申告内訳名簿（一人親方団体控）'!Q139)","v":""},{"$f":"IF('保険料申告内訳名簿（一人親方団体控）'!R139=\"\",\"\",'保険料申告内訳名簿（一人親方団体控）'!R139)","v":""},{"$f":"IF('保険料申告内訳名簿（一人親方団体控）'!S139=\"\",\"\",'保険料申告内訳名簿（一人親方団体控）'!S139)","v":""},{"$f":"IF('保険料申告内訳名簿（一人親方団体控）'!T139=\"\",\"\",'保険料申告内訳名簿（一人親方団体控）'!T139)","v":""},"事業場の\n名称",null,null,{"$f":"IF('保険料申告内訳名簿（一人親方団体控）'!X139=\"\",\"\",'保険料申告内訳名簿（一人親方団体控）'!X139)","v":""},{"$f":"IF('保険料申告内訳名簿（一人親方団体控）'!Y139=\"\",\"\",'保険料申告内訳名簿（一人親方団体控）'!Y139)","v":""},{"$f":"IF('保険料申告内訳名簿（一人親方団体控）'!Z139=\"\",\"\",'保険料申告内訳名簿（一人親方団体控）'!Z139)","v":""},{"$f":"IF('保険料申告内訳名簿（一人親方団体控）'!AA139=\"\",\"\",'保険料申告内訳名簿（一人親方団体控）'!AA139)","v":""},{"$f":"IF('保険料申告内訳名簿（一人親方団体控）'!AB139=\"\",\"\",'保険料申告内訳名簿（一人親方団体控）'!AB139)","v":""},{"$f":"IF('保険料申告内訳名簿（一人親方団体控）'!AC139=\"\",\"\",'保険料申告内訳名簿（一人親方団体控）'!AC139)","v":""},{"$f":"IF('保険料申告内訳名簿（一人親方団体控）'!AD139=\"\",\"\",'保険料申告内訳名簿（一人親方団体控）'!AD139)","v":""},{"$f":"IF('保険料申告内訳名簿（一人親方団体控）'!AE139=\"\",\"\",'保険料申告内訳名簿（一人親方団体控）'!AE139)","v":""},{"$f":"IF('保険料申告内訳名簿（一人親方団体控）'!AF139=\"\",\"\",'保険料申告内訳名簿（一人親方団体控）'!AF139)","v":""},{"$f":"IF('保険料申告内訳名簿（一人親方団体控）'!AG139=\"\",\"\",'保険料申告内訳名簿（一人親方団体控）'!AG139)","v":""},{"$f":"IF('保険料申告内訳名簿（一人親方団体控）'!AH139=\"\",\"\",'保険料申告内訳名簿（一人親方団体控）'!AH139)","v":""}]
[null,"①\n整理\n番号",null,"②\n氏名",null,null,null,null,null,null,null,null,null,null,"令 和",null,null,{"$f":"IF('保険料申告内訳名簿（一人親方団体控）'!R140=\"\",\"\",'保険料申告内訳名簿（一人親方団体控）'!R140)","v":""},{"$f":"IF('保険料申告内訳名簿（一人親方団体控）'!S140=\"\",\"\",'保険料申告内訳名簿（一人親方団体控）'!S140)","v":""},{"$f":"IF('保険料申告内訳名簿（一人親方団体控）'!T140=\"\",\"\",'保険料申告内訳名簿（一人親方団体控）'!T140)","v":""},null,null,null,"年 度 確 定 ","令 和",null,null,{"$f":"IF('保険料申告内訳名簿（一人親方団体控）'!AB140=\"\",\"\",'保険料申告内訳名簿（一人親方団体控）'!AB140)","v":""},{"$f":"IF('保険料申告内訳名簿（一人親方団体控）'!AC140=\"\",\"\",'保険料申告内訳名簿（一人親方団体控）'!AC140)","v":""},{"$f":"IF('保険料申告内訳名簿（一人親方団体控）'!AD140=\"\",\"\",'保険料申告内訳名簿（一人親方団体控）'!AD140)","v":""},null,null,null,"年 度 概 算 "]
[null,null,null,null,null,null,null,"③　\n給付基礎日額",null,null,null,"④年度中途加入・脱退",null,null,null,null,null,null,"⑤\n保険料算定基礎額",null,null,null,null,null,"⑥\n給付基礎日額",null,null,null,"⑦\n保険料算定基礎額"]
[null,null,null,null,null,null,null,null,null,null,null,"加入・脱退年月日",null,null,null,null,"加入月数"]
[null,{"$f":"IF('保険料申告内訳名簿（一人親方団体控）'!B143=\"\",\"\",'保険料申告内訳名簿（一人親方団体控）'!B143)","v":""},{"$f":"IF('保険料申告内訳名簿（一人親方団体控）'!C143=\"\",\"\",'保険料申告内訳名簿（一人親方団体控）'!C143)","v":""},{"$f":"IF('保険料申告内訳名簿（一人親方団体控）'!D143=\"\",\"\",'保険料申告内訳名簿（一人親方団体控）'!D143)","v":""},{"$f":"IF('保険料申告内訳名簿（一人親方団体控）'!E143=\"\",\"\",'保険料申告内訳名簿（一人親方団体控）'!E143)","v":""},{"$f":"IF('保険料申告内訳名簿（一人親方団体控）'!F143=\"\",\"\",'保険料申告内訳名簿（一人親方団体控）'!F143)","v":""},{"$f":"IF('保険料申告内訳名簿（一人親方団体控）'!G143=\"\",\"\",'保険料申告内訳名簿（一人親方団体控）'!G143)","v":""},{"$f":"IF('保険料申告内訳名簿（一人親方団体控）'!H143=\"\",\"\",'保険料申告内訳名簿（一人親方団体控）'!H143)","v":""},{"$f":"IF('保険料申告内訳名簿（一人親方団体控）'!I143=\"\",\"\",'保険料申告内訳名簿（一人親方団体控）'!I143)","v":""},{"$f":"IF('保険料申告内訳名簿（一人親方団体控）'!J143=\"\",\"\",'保険料申告内訳名簿（一人親方団体控）'!J143)","v":""},{"$f":"IF('保険料申告内訳名簿（一人親方団体控）'!K143=\"\",\"\",'保険料申告内訳名簿（一人親方団体控）'!K143)","v":""},{"$f":"IF('保険料申告内訳名簿（一人親方団体控）'!L143=\"\",\"\",'保険料申告内訳名簿（一人親方団体控）'!L143)","v":""},{"$f":"IF('保険料申告内訳名簿（一人親方団体控）'!M143=\"\",\"\",'保険料申告内訳名簿（一人親方団体控）'!M143)","v":""},{"$f":"IF('保険料申告内訳名簿（一人親方団体控）'!N143=\"\",\"\",'保険料申告内訳名簿（一人親方団体控）'!N143)","v":""},{"$f":"IF('保険料申告内訳名簿（一人親方団体控）'!O143=\"\",\"\",'保険料申告内訳名簿（一人親方団体控）'!O143)","v":""},{"$f":"IF('保険料申告内訳名簿（一人親方団体控）'!P143=\"\",\"\",'保険料申告内訳名簿（一人親方団体控）'!P143)","v":""},{"$f":"IF('保険料申告内訳名簿（一人親方団体控）'!Q143=\"\",\"\",'保険料申告内訳名簿（一人親方団体控）'!Q143)","v":""},{"$f":"IF('保険料申告内訳名簿（一人親方団体控）'!R143=\"\",\"\",'保険料申告内訳名簿（一人親方団体控）'!R143)","v":""},{"$f":"IF('保険料申告内訳名簿（一人親方団体控）'!S143=\"\",\"\",'保険料申告内訳名簿（一人親方団体控）'!S143)","v":0},{"$f":"IF('保険料申告内訳名簿（一人親方団体控）'!T143=\"\",\"\",'保険料申告内訳名簿（一人親方団体控）'!T143)","v":""},{"$f":"IF('保険料申告内訳名簿（一人親方団体控）'!U143=\"\",\"\",'保険料申告内訳名簿（一人親方団体控）'!U143)","v":""},{"$f":"IF('保険料申告内訳名簿（一人親方団体控）'!V143=\"\",\"\",'保険料申告内訳名簿（一人親方団体控）'!V143)","v":""},{"$f":"IF('保険料申告内訳名簿（一人親方団体控）'!W143=\"\",\"\",'保険料申告内訳名簿（一人親方団体控）'!W143)","v":""},{"$f":"IF('保険料申告内訳名簿（一人親方団体控）'!X143=\"\",\"\",'保険料申告内訳名簿（一人親方団体控）'!X143)","v":""},{"$f":"IF('保険料申告内訳名簿（一人親方団体控）'!Y143=\"\",\"\",'保険料申告内訳名簿（一人親方団体控）'!Y143)","v":""},{"$f":"IF('保険料申告内訳名簿（一人親方団体控）'!Z143=\"\",\"\",'保険料申告内訳名簿（一人親方団体控）'!Z143)","v":""},{"$f":"IF('保険料申告内訳名簿（一人親方団体控）'!AA143=\"\",\"\",'保険料申告内訳名簿（一人親方団体控）'!AA143)","v":""},{"$f":"IF('保険料申告内訳名簿（一人親方団体控）'!AB143=\"\",\"\",'保険料申告内訳名簿（一人親方団体控）'!AB143)","v":""},{"$f":"IF('保険料申告内訳名簿（一人親方団体控）'!AC143=\"\",\"\",'保険料申告内訳名簿（一人親方団体控）'!AC143)","v":0},{"$f":"IF('保険料申告内訳名簿（一人親方団体控）'!AD143=\"\",\"\",'保険料申告内訳名簿（一人親方団体控）'!AD143)","v":""},{"$f":"IF('保険料申告内訳名簿（一人親方団体控）'!AE143=\"\",\"\",'保険料申告内訳名簿（一人親方団体控）'!AE143)","v":""},{"$f":"IF('保険料申告内訳名簿（一人親方団体控）'!AF143=\"\",\"\",'保険料申告内訳名簿（一人親方団体控）'!AF143)","v":""},{"$f":"IF('保険料申告内訳名簿（一人親方団体控）'!AG143=\"\",\"\",'保険料申告内訳名簿（一人親方団体控）'!AG143)","v":""},{"$f":"IF('保険料申告内訳名簿（一人親方団体控）'!AH143=\"\",\"\",'保険料申告内訳名簿（一人親方団体控）'!AH143)","v":""}]
[null,{"$f":"IF('保険料申告内訳名簿（一人親方団体控）'!B144=\"\",\"\",'保険料申告内訳名簿（一人親方団体控）'!B144)","v":""},{"$f":"IF('保険料申告内訳名簿（一人親方団体控）'!C144=\"\",\"\",'保険料申告内訳名簿（一人親方団体控）'!C144)","v":""},{"$f":"IF('保険料申告内訳名簿（一人親方団体控）'!D144=\"\",\"\",'保険料申告内訳名簿（一人親方団体控）'!D144)","v":""},{"$f":"IF('保険料申告内訳名簿（一人親方団体控）'!E144=\"\",\"\",'保険料申告内訳名簿（一人親方団体控）'!E144)","v":""},{"$f":"IF('保険料申告内訳名簿（一人親方団体控）'!F144=\"\",\"\",'保険料申告内訳名簿（一人親方団体控）'!F144)","v":""},{"$f":"IF('保険料申告内訳名簿（一人親方団体控）'!G144=\"\",\"\",'保険料申告内訳名簿（一人親方団体控）'!G144)","v":""},{"$f":"IF('保険料申告内訳名簿（一人親方団体控）'!H144=\"\",\"\",'保険料申告内訳名簿（一人親方団体控）'!H144)","v":""},{"$f":"IF('保険料申告内訳名簿（一人親方団体控）'!I144=\"\",\"\",'保険料申告内訳名簿（一人親方団体控）'!I144)","v":""},{"$f":"IF('保険料申告内訳名簿（一人親方団体控）'!J144=\"\",\"\",'保険料申告内訳名簿（一人親方団体控）'!J144)","v":""},{"$f":"IF('保険料申告内訳名簿（一人親方団体控）'!K144=\"\",\"\",'保険料申告内訳名簿（一人親方団体控）'!K144)","v":""},{"$f":"IF('保険料申告内訳名簿（一人親方団体控）'!L144=\"\",\"\",'保険料申告内訳名簿（一人親方団体控）'!L144)","v":""},{"$f":"IF('保険料申告内訳名簿（一人親方団体控）'!M144=\"\",\"\",'保険料申告内訳名簿（一人親方団体控）'!M144)","v":""},{"$f":"IF('保険料申告内訳名簿（一人親方団体控）'!N144=\"\",\"\",'保険料申告内訳名簿（一人親方団体控）'!N144)","v":""},{"$f":"IF('保険料申告内訳名簿（一人親方団体控）'!O144=\"\",\"\",'保険料申告内訳名簿（一人親方団体控）'!O144)","v":""},{"$f":"IF('保険料申告内訳名簿（一人親方団体控）'!P144=\"\",\"\",'保険料申告内訳名簿（一人親方団体控）'!P144)","v":""},{"$f":"IF('保険料申告内訳名簿（一人親方団体控）'!Q144=\"\",\"\",'保険料申告内訳名簿（一人親方団体控）'!Q144)","v":""},{"$f":"IF('保険料申告内訳名簿（一人親方団体控）'!R144=\"\",\"\",'保険料申告内訳名簿（一人親方団体控）'!R144)","v":""},{"$f":"IF('保険料申告内訳名簿（一人親方団体控）'!S144=\"\",\"\",'保険料申告内訳名簿（一人親方団体控）'!S144)","v":0},{"$f":"IF('保険料申告内訳名簿（一人親方団体控）'!T144=\"\",\"\",'保険料申告内訳名簿（一人親方団体控）'!T144)","v":""},{"$f":"IF('保険料申告内訳名簿（一人親方団体控）'!U144=\"\",\"\",'保険料申告内訳名簿（一人親方団体控）'!U144)","v":""},{"$f":"IF('保険料申告内訳名簿（一人親方団体控）'!V144=\"\",\"\",'保険料申告内訳名簿（一人親方団体控）'!V144)","v":""},{"$f":"IF('保険料申告内訳名簿（一人親方団体控）'!W144=\"\",\"\",'保険料申告内訳名簿（一人親方団体控）'!W144)","v":""},{"$f":"IF('保険料申告内訳名簿（一人親方団体控）'!X144=\"\",\"\",'保険料申告内訳名簿（一人親方団体控）'!X144)","v":""},{"$f":"IF('保険料申告内訳名簿（一人親方団体控）'!Y144=\"\",\"\",'保険料申告内訳名簿（一人親方団体控）'!Y144)","v":""},{"$f":"IF('保険料申告内訳名簿（一人親方団体控）'!Z144=\"\",\"\",'保険料申告内訳名簿（一人親方団体控）'!Z144)","v":""},{"$f":"IF('保険料申告内訳名簿（一人親方団体控）'!AA144=\"\",\"\",'保険料申告内訳名簿（一人親方団体控）'!AA144)","v":""},{"$f":"IF('保険料申告内訳名簿（一人親方団体控）'!AB144=\"\",\"\",'保険料申告内訳名簿（一人親方団体控）'!AB144)","v":""},{"$f":"IF('保険料申告内訳名簿（一人親方団体控）'!AC144=\"\",\"\",'保険料申告内訳名簿（一人親方団体控）'!AC144)","v":0},{"$f":"IF('保険料申告内訳名簿（一人親方団体控）'!AD144=\"\",\"\",'保険料申告内訳名簿（一人親方団体控）'!AD144)","v":""},{"$f":"IF('保険料申告内訳名簿（一人親方団体控）'!AE144=\"\",\"\",'保険料申告内訳名簿（一人親方団体控）'!AE144)","v":""},{"$f":"IF('保険料申告内訳名簿（一人親方団体控）'!AF144=\"\",\"\",'保険料申告内訳名簿（一人親方団体控）'!AF144)","v":""},{"$f":"IF('保険料申告内訳名簿（一人親方団体控）'!AG144=\"\",\"\",'保険料申告内訳名簿（一人親方団体控）'!AG144)","v":""},{"$f":"IF('保険料申告内訳名簿（一人親方団体控）'!AH144=\"\",\"\",'保険料申告内訳名簿（一人親方団体控）'!AH144)","v":""}]
[null,{"$f":"IF('保険料申告内訳名簿（一人親方団体控）'!B145=\"\",\"\",'保険料申告内訳名簿（一人親方団体控）'!B145)","v":""},{"$f":"IF('保険料申告内訳名簿（一人親方団体控）'!C145=\"\",\"\",'保険料申告内訳名簿（一人親方団体控）'!C145)","v":""},{"$f":"IF('保険料申告内訳名簿（一人親方団体控）'!D145=\"\",\"\",'保険料申告内訳名簿（一人親方団体控）'!D145)","v":""},{"$f":"IF('保険料申告内訳名簿（一人親方団体控）'!E145=\"\",\"\",'保険料申告内訳名簿（一人親方団体控）'!E145)","v":""},{"$f":"IF('保険料申告内訳名簿（一人親方団体控）'!F145=\"\",\"\",'保険料申告内訳名簿（一人親方団体控）'!F145)","v":""},{"$f":"IF('保険料申告内訳名簿（一人親方団体控）'!G145=\"\",\"\",'保険料申告内訳名簿（一人親方団体控）'!G145)","v":""},{"$f":"IF('保険料申告内訳名簿（一人親方団体控）'!H145=\"\",\"\",'保険料申告内訳名簿（一人親方団体控）'!H145)","v":""},{"$f":"IF('保険料申告内訳名簿（一人親方団体控）'!I145=\"\",\"\",'保険料申告内訳名簿（一人親方団体控）'!I145)","v":""},{"$f":"IF('保険料申告内訳名簿（一人親方団体控）'!J145=\"\",\"\",'保険料申告内訳名簿（一人親方団体控）'!J145)","v":""},{"$f":"IF('保険料申告内訳名簿（一人親方団体控）'!K145=\"\",\"\",'保険料申告内訳名簿（一人親方団体控）'!K145)","v":""},{"$f":"IF('保険料申告内訳名簿（一人親方団体控）'!L145=\"\",\"\",'保険料申告内訳名簿（一人親方団体控）'!L145)","v":""},{"$f":"IF('保険料申告内訳名簿（一人親方団体控）'!M145=\"\",\"\",'保険料申告内訳名簿（一人親方団体控）'!M145)","v":""},{"$f":"IF('保険料申告内訳名簿（一人親方団体控）'!N145=\"\",\"\",'保険料申告内訳名簿（一人親方団体控）'!N145)","v":""},{"$f":"IF('保険料申告内訳名簿（一人親方団体控）'!O145=\"\",\"\",'保険料申告内訳名簿（一人親方団体控）'!O145)","v":""},{"$f":"IF('保険料申告内訳名簿（一人親方団体控）'!P145=\"\",\"\",'保険料申告内訳名簿（一人親方団体控）'!P145)","v":""},{"$f":"IF('保険料申告内訳名簿（一人親方団体控）'!Q145=\"\",\"\",'保険料申告内訳名簿（一人親方団体控）'!Q145)","v":""},{"$f":"IF('保険料申告内訳名簿（一人親方団体控）'!R145=\"\",\"\",'保険料申告内訳名簿（一人親方団体控）'!R145)","v":""},{"$f":"IF('保険料申告内訳名簿（一人親方団体控）'!S145=\"\",\"\",'保険料申告内訳名簿（一人親方団体控）'!S145)","v":0},{"$f":"IF('保険料申告内訳名簿（一人親方団体控）'!T145=\"\",\"\",'保険料申告内訳名簿（一人親方団体控）'!T145)","v":""},{"$f":"IF('保険料申告内訳名簿（一人親方団体控）'!U145=\"\",\"\",'保険料申告内訳名簿（一人親方団体控）'!U145)","v":""},{"$f":"IF('保険料申告内訳名簿（一人親方団体控）'!V145=\"\",\"\",'保険料申告内訳名簿（一人親方団体控）'!V145)","v":""},{"$f":"IF('保険料申告内訳名簿（一人親方団体控）'!W145=\"\",\"\",'保険料申告内訳名簿（一人親方団体控）'!W145)","v":""},{"$f":"IF('保険料申告内訳名簿（一人親方団体控）'!X145=\"\",\"\",'保険料申告内訳名簿（一人親方団体控）'!X145)","v":""},{"$f":"IF('保険料申告内訳名簿（一人親方団体控）'!Y145=\"\",\"\",'保険料申告内訳名簿（一人親方団体控）'!Y145)","v":""},{"$f":"IF('保険料申告内訳名簿（一人親方団体控）'!Z145=\"\",\"\",'保険料申告内訳名簿（一人親方団体控）'!Z145)","v":""},{"$f":"IF('保険料申告内訳名簿（一人親方団体控）'!AA145=\"\",\"\",'保険料申告内訳名簿（一人親方団体控）'!AA145)","v":""},{"$f":"IF('保険料申告内訳名簿（一人親方団体控）'!AB145=\"\",\"\",'保険料申告内訳名簿（一人親方団体控）'!AB145)","v":""},{"$f":"IF('保険料申告内訳名簿（一人親方団体控）'!AC145=\"\",\"\",'保険料申告内訳名簿（一人親方団体控）'!AC145)","v":0},{"$f":"IF('保険料申告内訳名簿（一人親方団体控）'!AD145=\"\",\"\",'保険料申告内訳名簿（一人親方団体控）'!AD145)","v":""},{"$f":"IF('保険料申告内訳名簿（一人親方団体控）'!AE145=\"\",\"\",'保険料申告内訳名簿（一人親方団体控）'!AE145)","v":""},{"$f":"IF('保険料申告内訳名簿（一人親方団体控）'!AF145=\"\",\"\",'保険料申告内訳名簿（一人親方団体控）'!AF145)","v":""},{"$f":"IF('保険料申告内訳名簿（一人親方団体控）'!AG145=\"\",\"\",'保険料申告内訳名簿（一人親方団体控）'!AG145)","v":""},{"$f":"IF('保険料申告内訳名簿（一人親方団体控）'!AH145=\"\",\"\",'保険料申告内訳名簿（一人親方団体控）'!AH145)","v":""}]
[null,{"$f":"IF('保険料申告内訳名簿（一人親方団体控）'!B146=\"\",\"\",'保険料申告内訳名簿（一人親方団体控）'!B146)","v":""},{"$f":"IF('保険料申告内訳名簿（一人親方団体控）'!C146=\"\",\"\",'保険料申告内訳名簿（一人親方団体控）'!C146)","v":""},{"$f":"IF('保険料申告内訳名簿（一人親方団体控）'!D146=\"\",\"\",'保険料申告内訳名簿（一人親方団体控）'!D146)","v":""},{"$f":"IF('保険料申告内訳名簿（一人親方団体控）'!E146=\"\",\"\",'保険料申告内訳名簿（一人親方団体控）'!E146)","v":""},{"$f":"IF('保険料申告内訳名簿（一人親方団体控）'!F146=\"\",\"\",'保険料申告内訳名簿（一人親方団体控）'!F146)","v":""},{"$f":"IF('保険料申告内訳名簿（一人親方団体控）'!G146=\"\",\"\",'保険料申告内訳名簿（一人親方団体控）'!G146)","v":""},{"$f":"IF('保険料申告内訳名簿（一人親方団体控）'!H146=\"\",\"\",'保険料申告内訳名簿（一人親方団体控）'!H146)","v":""},{"$f":"IF('保険料申告内訳名簿（一人親方団体控）'!I146=\"\",\"\",'保険料申告内訳名簿（一人親方団体控）'!I146)","v":""},{"$f":"IF('保険料申告内訳名簿（一人親方団体控）'!J146=\"\",\"\",'保険料申告内訳名簿（一人親方団体控）'!J146)","v":""},{"$f":"IF('保険料申告内訳名簿（一人親方団体控）'!K146=\"\",\"\",'保険料申告内訳名簿（一人親方団体控）'!K146)","v":""},{"$f":"IF('保険料申告内訳名簿（一人親方団体控）'!L146=\"\",\"\",'保険料申告内訳名簿（一人親方団体控）'!L146)","v":""},{"$f":"IF('保険料申告内訳名簿（一人親方団体控）'!M146=\"\",\"\",'保険料申告内訳名簿（一人親方団体控）'!M146)","v":""},{"$f":"IF('保険料申告内訳名簿（一人親方団体控）'!N146=\"\",\"\",'保険料申告内訳名簿（一人親方団体控）'!N146)","v":""},{"$f":"IF('保険料申告内訳名簿（一人親方団体控）'!O146=\"\",\"\",'保険料申告内訳名簿（一人親方団体控）'!O146)","v":""},{"$f":"IF('保険料申告内訳名簿（一人親方団体控）'!P146=\"\",\"\",'保険料申告内訳名簿（一人親方団体控）'!P146)","v":""},{"$f":"IF('保険料申告内訳名簿（一人親方団体控）'!Q146=\"\",\"\",'保険料申告内訳名簿（一人親方団体控）'!Q146)","v":""},{"$f":"IF('保険料申告内訳名簿（一人親方団体控）'!R146=\"\",\"\",'保険料申告内訳名簿（一人親方団体控）'!R146)","v":""},{"$f":"IF('保険料申告内訳名簿（一人親方団体控）'!S146=\"\",\"\",'保険料申告内訳名簿（一人親方団体控）'!S146)","v":0},{"$f":"IF('保険料申告内訳名簿（一人親方団体控）'!T146=\"\",\"\",'保険料申告内訳名簿（一人親方団体控）'!T146)","v":""},{"$f":"IF('保険料申告内訳名簿（一人親方団体控）'!U146=\"\",\"\",'保険料申告内訳名簿（一人親方団体控）'!U146)","v":""},{"$f":"IF('保険料申告内訳名簿（一人親方団体控）'!V146=\"\",\"\",'保険料申告内訳名簿（一人親方団体控）'!V146)","v":""},{"$f":"IF('保険料申告内訳名簿（一人親方団体控）'!W146=\"\",\"\",'保険料申告内訳名簿（一人親方団体控）'!W146)","v":""},{"$f":"IF('保険料申告内訳名簿（一人親方団体控）'!X146=\"\",\"\",'保険料申告内訳名簿（一人親方団体控）'!X146)","v":""},{"$f":"IF('保険料申告内訳名簿（一人親方団体控）'!Y146=\"\",\"\",'保険料申告内訳名簿（一人親方団体控）'!Y146)","v":""},{"$f":"IF('保険料申告内訳名簿（一人親方団体控）'!Z146=\"\",\"\",'保険料申告内訳名簿（一人親方団体控）'!Z146)","v":""},{"$f":"IF('保険料申告内訳名簿（一人親方団体控）'!AA146=\"\",\"\",'保険料申告内訳名簿（一人親方団体控）'!AA146)","v":""},{"$f":"IF('保険料申告内訳名簿（一人親方団体控）'!AB146=\"\",\"\",'保険料申告内訳名簿（一人親方団体控）'!AB146)","v":""},{"$f":"IF('保険料申告内訳名簿（一人親方団体控）'!AC146=\"\",\"\",'保険料申告内訳名簿（一人親方団体控）'!AC146)","v":0},{"$f":"IF('保険料申告内訳名簿（一人親方団体控）'!AD146=\"\",\"\",'保険料申告内訳名簿（一人親方団体控）'!AD146)","v":""},{"$f":"IF('保険料申告内訳名簿（一人親方団体控）'!AE146=\"\",\"\",'保険料申告内訳名簿（一人親方団体控）'!AE146)","v":""},{"$f":"IF('保険料申告内訳名簿（一人親方団体控）'!AF146=\"\",\"\",'保険料申告内訳名簿（一人親方団体控）'!AF146)","v":""},{"$f":"IF('保険料申告内訳名簿（一人親方団体控）'!AG146=\"\",\"\",'保険料申告内訳名簿（一人親方団体控）'!AG146)","v":""},{"$f":"IF('保険料申告内訳名簿（一人親方団体控）'!AH146=\"\",\"\",'保険料申告内訳名簿（一人親方団体控）'!AH146)","v":""}]
[null,{"$f":"IF('保険料申告内訳名簿（一人親方団体控）'!B147=\"\",\"\",'保険料申告内訳名簿（一人親方団体控）'!B147)","v":""},{"$f":"IF('保険料申告内訳名簿（一人親方団体控）'!C147=\"\",\"\",'保険料申告内訳名簿（一人親方団体控）'!C147)","v":""},{"$f":"IF('保険料申告内訳名簿（一人親方団体控）'!D147=\"\",\"\",'保険料申告内訳名簿（一人親方団体控）'!D147)","v":""},{"$f":"IF('保険料申告内訳名簿（一人親方団体控）'!E147=\"\",\"\",'保険料申告内訳名簿（一人親方団体控）'!E147)","v":""},{"$f":"IF('保険料申告内訳名簿（一人親方団体控）'!F147=\"\",\"\",'保険料申告内訳名簿（一人親方団体控）'!F147)","v":""},{"$f":"IF('保険料申告内訳名簿（一人親方団体控）'!G147=\"\",\"\",'保険料申告内訳名簿（一人親方団体控）'!G147)","v":""},{"$f":"IF('保険料申告内訳名簿（一人親方団体控）'!H147=\"\",\"\",'保険料申告内訳名簿（一人親方団体控）'!H147)","v":""},{"$f":"IF('保険料申告内訳名簿（一人親方団体控）'!I147=\"\",\"\",'保険料申告内訳名簿（一人親方団体控）'!I147)","v":""},{"$f":"IF('保険料申告内訳名簿（一人親方団体控）'!J147=\"\",\"\",'保険料申告内訳名簿（一人親方団体控）'!J147)","v":""},{"$f":"IF('保険料申告内訳名簿（一人親方団体控）'!K147=\"\",\"\",'保険料申告内訳名簿（一人親方団体控）'!K147)","v":""},{"$f":"IF('保険料申告内訳名簿（一人親方団体控）'!L147=\"\",\"\",'保険料申告内訳名簿（一人親方団体控）'!L147)","v":""},{"$f":"IF('保険料申告内訳名簿（一人親方団体控）'!M147=\"\",\"\",'保険料申告内訳名簿（一人親方団体控）'!M147)","v":""},{"$f":"IF('保険料申告内訳名簿（一人親方団体控）'!N147=\"\",\"\",'保険料申告内訳名簿（一人親方団体控）'!N147)","v":""},{"$f":"IF('保険料申告内訳名簿（一人親方団体控）'!O147=\"\",\"\",'保険料申告内訳名簿（一人親方団体控）'!O147)","v":""},{"$f":"IF('保険料申告内訳名簿（一人親方団体控）'!P147=\"\",\"\",'保険料申告内訳名簿（一人親方団体控）'!P147)","v":""},{"$f":"IF('保険料申告内訳名簿（一人親方団体控）'!Q147=\"\",\"\",'保険料申告内訳名簿（一人親方団体控）'!Q147)","v":""},{"$f":"IF('保険料申告内訳名簿（一人親方団体控）'!R147=\"\",\"\",'保険料申告内訳名簿（一人親方団体控）'!R147)","v":""},{"$f":"IF('保険料申告内訳名簿（一人親方団体控）'!S147=\"\",\"\",'保険料申告内訳名簿（一人親方団体控）'!S147)","v":0},{"$f":"IF('保険料申告内訳名簿（一人親方団体控）'!T147=\"\",\"\",'保険料申告内訳名簿（一人親方団体控）'!T147)","v":""},{"$f":"IF('保険料申告内訳名簿（一人親方団体控）'!U147=\"\",\"\",'保険料申告内訳名簿（一人親方団体控）'!U147)","v":""},{"$f":"IF('保険料申告内訳名簿（一人親方団体控）'!V147=\"\",\"\",'保険料申告内訳名簿（一人親方団体控）'!V147)","v":""},{"$f":"IF('保険料申告内訳名簿（一人親方団体控）'!W147=\"\",\"\",'保険料申告内訳名簿（一人親方団体控）'!W147)","v":""},{"$f":"IF('保険料申告内訳名簿（一人親方団体控）'!X147=\"\",\"\",'保険料申告内訳名簿（一人親方団体控）'!X147)","v":""},{"$f":"IF('保険料申告内訳名簿（一人親方団体控）'!Y147=\"\",\"\",'保険料申告内訳名簿（一人親方団体控）'!Y147)","v":""},{"$f":"IF('保険料申告内訳名簿（一人親方団体控）'!Z147=\"\",\"\",'保険料申告内訳名簿（一人親方団体控）'!Z147)","v":""},{"$f":"IF('保険料申告内訳名簿（一人親方団体控）'!AA147=\"\",\"\",'保険料申告内訳名簿（一人親方団体控）'!AA147)","v":""},{"$f":"IF('保険料申告内訳名簿（一人親方団体控）'!AB147=\"\",\"\",'保険料申告内訳名簿（一人親方団体控）'!AB147)","v":""},{"$f":"IF('保険料申告内訳名簿（一人親方団体控）'!AC147=\"\",\"\",'保険料申告内訳名簿（一人親方団体控）'!AC147)","v":0},{"$f":"IF('保険料申告内訳名簿（一人親方団体控）'!AD147=\"\",\"\",'保険料申告内訳名簿（一人親方団体控）'!AD147)","v":""},{"$f":"IF('保険料申告内訳名簿（一人親方団体控）'!AE147=\"\",\"\",'保険料申告内訳名簿（一人親方団体控）'!AE147)","v":""},{"$f":"IF('保険料申告内訳名簿（一人親方団体控）'!AF147=\"\",\"\",'保険料申告内訳名簿（一人親方団体控）'!AF147)","v":""},{"$f":"IF('保険料申告内訳名簿（一人親方団体控）'!AG147=\"\",\"\",'保険料申告内訳名簿（一人親方団体控）'!AG147)","v":""},{"$f":"IF('保険料申告内訳名簿（一人親方団体控）'!AH147=\"\",\"\",'保険料申告内訳名簿（一人親方団体控）'!AH147)","v":""}]
[null,{"$f":"IF('保険料申告内訳名簿（一人親方団体控）'!B148=\"\",\"\",'保険料申告内訳名簿（一人親方団体控）'!B148)","v":""},{"$f":"IF('保険料申告内訳名簿（一人親方団体控）'!C148=\"\",\"\",'保険料申告内訳名簿（一人親方団体控）'!C148)","v":""},{"$f":"IF('保険料申告内訳名簿（一人親方団体控）'!D148=\"\",\"\",'保険料申告内訳名簿（一人親方団体控）'!D148)","v":""},{"$f":"IF('保険料申告内訳名簿（一人親方団体控）'!E148=\"\",\"\",'保険料申告内訳名簿（一人親方団体控）'!E148)","v":""},{"$f":"IF('保険料申告内訳名簿（一人親方団体控）'!F148=\"\",\"\",'保険料申告内訳名簿（一人親方団体控）'!F148)","v":""},{"$f":"IF('保険料申告内訳名簿（一人親方団体控）'!G148=\"\",\"\",'保険料申告内訳名簿（一人親方団体控）'!G148)","v":""},{"$f":"IF('保険料申告内訳名簿（一人親方団体控）'!H148=\"\",\"\",'保険料申告内訳名簿（一人親方団体控）'!H148)","v":""},{"$f":"IF('保険料申告内訳名簿（一人親方団体控）'!I148=\"\",\"\",'保険料申告内訳名簿（一人親方団体控）'!I148)","v":""},{"$f":"IF('保険料申告内訳名簿（一人親方団体控）'!J148=\"\",\"\",'保険料申告内訳名簿（一人親方団体控）'!J148)","v":""},{"$f":"IF('保険料申告内訳名簿（一人親方団体控）'!K148=\"\",\"\",'保険料申告内訳名簿（一人親方団体控）'!K148)","v":""},{"$f":"IF('保険料申告内訳名簿（一人親方団体控）'!L148=\"\",\"\",'保険料申告内訳名簿（一人親方団体控）'!L148)","v":""},{"$f":"IF('保険料申告内訳名簿（一人親方団体控）'!M148=\"\",\"\",'保険料申告内訳名簿（一人親方団体控）'!M148)","v":""},{"$f":"IF('保険料申告内訳名簿（一人親方団体控）'!N148=\"\",\"\",'保険料申告内訳名簿（一人親方団体控）'!N148)","v":""},{"$f":"IF('保険料申告内訳名簿（一人親方団体控）'!O148=\"\",\"\",'保険料申告内訳名簿（一人親方団体控）'!O148)","v":""},{"$f":"IF('保険料申告内訳名簿（一人親方団体控）'!P148=\"\",\"\",'保険料申告内訳名簿（一人親方団体控）'!P148)","v":""},{"$f":"IF('保険料申告内訳名簿（一人親方団体控）'!Q148=\"\",\"\",'保険料申告内訳名簿（一人親方団体控）'!Q148)","v":""},{"$f":"IF('保険料申告内訳名簿（一人親方団体控）'!R148=\"\",\"\",'保険料申告内訳名簿（一人親方団体控）'!R148)","v":""},{"$f":"IF('保険料申告内訳名簿（一人親方団体控）'!S148=\"\",\"\",'保険料申告内訳名簿（一人親方団体控）'!S148)","v":0},{"$f":"IF('保険料申告内訳名簿（一人親方団体控）'!T148=\"\",\"\",'保険料申告内訳名簿（一人親方団体控）'!T148)","v":""},{"$f":"IF('保険料申告内訳名簿（一人親方団体控）'!U148=\"\",\"\",'保険料申告内訳名簿（一人親方団体控）'!U148)","v":""},{"$f":"IF('保険料申告内訳名簿（一人親方団体控）'!V148=\"\",\"\",'保険料申告内訳名簿（一人親方団体控）'!V148)","v":""},{"$f":"IF('保険料申告内訳名簿（一人親方団体控）'!W148=\"\",\"\",'保険料申告内訳名簿（一人親方団体控）'!W148)","v":""},{"$f":"IF('保険料申告内訳名簿（一人親方団体控）'!X148=\"\",\"\",'保険料申告内訳名簿（一人親方団体控）'!X148)","v":""},{"$f":"IF('保険料申告内訳名簿（一人親方団体控）'!Y148=\"\",\"\",'保険料申告内訳名簿（一人親方団体控）'!Y148)","v":""},{"$f":"IF('保険料申告内訳名簿（一人親方団体控）'!Z148=\"\",\"\",'保険料申告内訳名簿（一人親方団体控）'!Z148)","v":""},{"$f":"IF('保険料申告内訳名簿（一人親方団体控）'!AA148=\"\",\"\",'保険料申告内訳名簿（一人親方団体控）'!AA148)","v":""},{"$f":"IF('保険料申告内訳名簿（一人親方団体控）'!AB148=\"\",\"\",'保険料申告内訳名簿（一人親方団体控）'!AB148)","v":""},{"$f":"IF('保険料申告内訳名簿（一人親方団体控）'!AC148=\"\",\"\",'保険料申告内訳名簿（一人親方団体控）'!AC148)","v":0},{"$f":"IF('保険料申告内訳名簿（一人親方団体控）'!AD148=\"\",\"\",'保険料申告内訳名簿（一人親方団体控）'!AD148)","v":""},{"$f":"IF('保険料申告内訳名簿（一人親方団体控）'!AE148=\"\",\"\",'保険料申告内訳名簿（一人親方団体控）'!AE148)","v":""},{"$f":"IF('保険料申告内訳名簿（一人親方団体控）'!AF148=\"\",\"\",'保険料申告内訳名簿（一人親方団体控）'!AF148)","v":""},{"$f":"IF('保険料申告内訳名簿（一人親方団体控）'!AG148=\"\",\"\",'保険料申告内訳名簿（一人親方団体控）'!AG148)","v":""},{"$f":"IF('保険料申告内訳名簿（一人親方団体控）'!AH148=\"\",\"\",'保険料申告内訳名簿（一人親方団体控）'!AH148)","v":""}]
[null,{"$f":"IF('保険料申告内訳名簿（一人親方団体控）'!B149=\"\",\"\",'保険料申告内訳名簿（一人親方団体控）'!B149)","v":""},{"$f":"IF('保険料申告内訳名簿（一人親方団体控）'!C149=\"\",\"\",'保険料申告内訳名簿（一人親方団体控）'!C149)","v":""},{"$f":"IF('保険料申告内訳名簿（一人親方団体控）'!D149=\"\",\"\",'保険料申告内訳名簿（一人親方団体控）'!D149)","v":""},{"$f":"IF('保険料申告内訳名簿（一人親方団体控）'!E149=\"\",\"\",'保険料申告内訳名簿（一人親方団体控）'!E149)","v":""},{"$f":"IF('保険料申告内訳名簿（一人親方団体控）'!F149=\"\",\"\",'保険料申告内訳名簿（一人親方団体控）'!F149)","v":""},{"$f":"IF('保険料申告内訳名簿（一人親方団体控）'!G149=\"\",\"\",'保険料申告内訳名簿（一人親方団体控）'!G149)","v":""},{"$f":"IF('保険料申告内訳名簿（一人親方団体控）'!H149=\"\",\"\",'保険料申告内訳名簿（一人親方団体控）'!H149)","v":""},{"$f":"IF('保険料申告内訳名簿（一人親方団体控）'!I149=\"\",\"\",'保険料申告内訳名簿（一人親方団体控）'!I149)","v":""},{"$f":"IF('保険料申告内訳名簿（一人親方団体控）'!J149=\"\",\"\",'保険料申告内訳名簿（一人親方団体控）'!J149)","v":""},{"$f":"IF('保険料申告内訳名簿（一人親方団体控）'!K149=\"\",\"\",'保険料申告内訳名簿（一人親方団体控）'!K149)","v":""},{"$f":"IF('保険料申告内訳名簿（一人親方団体控）'!L149=\"\",\"\",'保険料申告内訳名簿（一人親方団体控）'!L149)","v":""},{"$f":"IF('保険料申告内訳名簿（一人親方団体控）'!M149=\"\",\"\",'保険料申告内訳名簿（一人親方団体控）'!M149)","v":""},{"$f":"IF('保険料申告内訳名簿（一人親方団体控）'!N149=\"\",\"\",'保険料申告内訳名簿（一人親方団体控）'!N149)","v":""},{"$f":"IF('保険料申告内訳名簿（一人親方団体控）'!O149=\"\",\"\",'保険料申告内訳名簿（一人親方団体控）'!O149)","v":""},{"$f":"IF('保険料申告内訳名簿（一人親方団体控）'!P149=\"\",\"\",'保険料申告内訳名簿（一人親方団体控）'!P149)","v":""},{"$f":"IF('保険料申告内訳名簿（一人親方団体控）'!Q149=\"\",\"\",'保険料申告内訳名簿（一人親方団体控）'!Q149)","v":""},{"$f":"IF('保険料申告内訳名簿（一人親方団体控）'!R149=\"\",\"\",'保険料申告内訳名簿（一人親方団体控）'!R149)","v":""},{"$f":"IF('保険料申告内訳名簿（一人親方団体控）'!S149=\"\",\"\",'保険料申告内訳名簿（一人親方団体控）'!S149)","v":0},{"$f":"IF('保険料申告内訳名簿（一人親方団体控）'!T149=\"\",\"\",'保険料申告内訳名簿（一人親方団体控）'!T149)","v":""},{"$f":"IF('保険料申告内訳名簿（一人親方団体控）'!U149=\"\",\"\",'保険料申告内訳名簿（一人親方団体控）'!U149)","v":""},{"$f":"IF('保険料申告内訳名簿（一人親方団体控）'!V149=\"\",\"\",'保険料申告内訳名簿（一人親方団体控）'!V149)","v":""},{"$f":"IF('保険料申告内訳名簿（一人親方団体控）'!W149=\"\",\"\",'保険料申告内訳名簿（一人親方団体控）'!W149)","v":""},{"$f":"IF('保険料申告内訳名簿（一人親方団体控）'!X149=\"\",\"\",'保険料申告内訳名簿（一人親方団体控）'!X149)","v":""},{"$f":"IF('保険料申告内訳名簿（一人親方団体控）'!Y149=\"\",\"\",'保険料申告内訳名簿（一人親方団体控）'!Y149)","v":""},{"$f":"IF('保険料申告内訳名簿（一人親方団体控）'!Z149=\"\",\"\",'保険料申告内訳名簿（一人親方団体控）'!Z149)","v":""},{"$f":"IF('保険料申告内訳名簿（一人親方団体控）'!AA149=\"\",\"\",'保険料申告内訳名簿（一人親方団体控）'!AA149)","v":""},{"$f":"IF('保険料申告内訳名簿（一人親方団体控）'!AB149=\"\",\"\",'保険料申告内訳名簿（一人親方団体控）'!AB149)","v":""},{"$f":"IF('保険料申告内訳名簿（一人親方団体控）'!AC149=\"\",\"\",'保険料申告内訳名簿（一人親方団体控）'!AC149)","v":0},{"$f":"IF('保険料申告内訳名簿（一人親方団体控）'!AD149=\"\",\"\",'保険料申告内訳名簿（一人親方団体控）'!AD149)","v":""},{"$f":"IF('保険料申告内訳名簿（一人親方団体控）'!AE149=\"\",\"\",'保険料申告内訳名簿（一人親方団体控）'!AE149)","v":""},{"$f":"IF('保険料申告内訳名簿（一人親方団体控）'!AF149=\"\",\"\",'保険料申告内訳名簿（一人親方団体控）'!AF149)","v":""},{"$f":"IF('保険料申告内訳名簿（一人親方団体控）'!AG149=\"\",\"\",'保険料申告内訳名簿（一人親方団体控）'!AG149)","v":""},{"$f":"IF('保険料申告内訳名簿（一人親方団体控）'!AH149=\"\",\"\",'保険料申告内訳名簿（一人親方団体控）'!AH149)","v":""}]
[null,{"$f":"IF('保険料申告内訳名簿（一人親方団体控）'!B150=\"\",\"\",'保険料申告内訳名簿（一人親方団体控）'!B150)","v":""},{"$f":"IF('保険料申告内訳名簿（一人親方団体控）'!C150=\"\",\"\",'保険料申告内訳名簿（一人親方団体控）'!C150)","v":""},{"$f":"IF('保険料申告内訳名簿（一人親方団体控）'!D150=\"\",\"\",'保険料申告内訳名簿（一人親方団体控）'!D150)","v":""},{"$f":"IF('保険料申告内訳名簿（一人親方団体控）'!E150=\"\",\"\",'保険料申告内訳名簿（一人親方団体控）'!E150)","v":""},{"$f":"IF('保険料申告内訳名簿（一人親方団体控）'!F150=\"\",\"\",'保険料申告内訳名簿（一人親方団体控）'!F150)","v":""},{"$f":"IF('保険料申告内訳名簿（一人親方団体控）'!G150=\"\",\"\",'保険料申告内訳名簿（一人親方団体控）'!G150)","v":""},{"$f":"IF('保険料申告内訳名簿（一人親方団体控）'!H150=\"\",\"\",'保険料申告内訳名簿（一人親方団体控）'!H150)","v":""},{"$f":"IF('保険料申告内訳名簿（一人親方団体控）'!I150=\"\",\"\",'保険料申告内訳名簿（一人親方団体控）'!I150)","v":""},{"$f":"IF('保険料申告内訳名簿（一人親方団体控）'!J150=\"\",\"\",'保険料申告内訳名簿（一人親方団体控）'!J150)","v":""},{"$f":"IF('保険料申告内訳名簿（一人親方団体控）'!K150=\"\",\"\",'保険料申告内訳名簿（一人親方団体控）'!K150)","v":""},{"$f":"IF('保険料申告内訳名簿（一人親方団体控）'!L150=\"\",\"\",'保険料申告内訳名簿（一人親方団体控）'!L150)","v":""},{"$f":"IF('保険料申告内訳名簿（一人親方団体控）'!M150=\"\",\"\",'保険料申告内訳名簿（一人親方団体控）'!M150)","v":""},{"$f":"IF('保険料申告内訳名簿（一人親方団体控）'!N150=\"\",\"\",'保険料申告内訳名簿（一人親方団体控）'!N150)","v":""},{"$f":"IF('保険料申告内訳名簿（一人親方団体控）'!O150=\"\",\"\",'保険料申告内訳名簿（一人親方団体控）'!O150)","v":""},{"$f":"IF('保険料申告内訳名簿（一人親方団体控）'!P150=\"\",\"\",'保険料申告内訳名簿（一人親方団体控）'!P150)","v":""},{"$f":"IF('保険料申告内訳名簿（一人親方団体控）'!Q150=\"\",\"\",'保険料申告内訳名簿（一人親方団体控）'!Q150)","v":""},{"$f":"IF('保険料申告内訳名簿（一人親方団体控）'!R150=\"\",\"\",'保険料申告内訳名簿（一人親方団体控）'!R150)","v":""},{"$f":"IF('保険料申告内訳名簿（一人親方団体控）'!S150=\"\",\"\",'保険料申告内訳名簿（一人親方団体控）'!S150)","v":0},{"$f":"IF('保険料申告内訳名簿（一人親方団体控）'!T150=\"\",\"\",'保険料申告内訳名簿（一人親方団体控）'!T150)","v":""},{"$f":"IF('保険料申告内訳名簿（一人親方団体控）'!U150=\"\",\"\",'保険料申告内訳名簿（一人親方団体控）'!U150)","v":""},{"$f":"IF('保険料申告内訳名簿（一人親方団体控）'!V150=\"\",\"\",'保険料申告内訳名簿（一人親方団体控）'!V150)","v":""},{"$f":"IF('保険料申告内訳名簿（一人親方団体控）'!W150=\"\",\"\",'保険料申告内訳名簿（一人親方団体控）'!W150)","v":""},{"$f":"IF('保険料申告内訳名簿（一人親方団体控）'!X150=\"\",\"\",'保険料申告内訳名簿（一人親方団体控）'!X150)","v":""},{"$f":"IF('保険料申告内訳名簿（一人親方団体控）'!Y150=\"\",\"\",'保険料申告内訳名簿（一人親方団体控）'!Y150)","v":""},{"$f":"IF('保険料申告内訳名簿（一人親方団体控）'!Z150=\"\",\"\",'保険料申告内訳名簿（一人親方団体控）'!Z150)","v":""},{"$f":"IF('保険料申告内訳名簿（一人親方団体控）'!AA150=\"\",\"\",'保険料申告内訳名簿（一人親方団体控）'!AA150)","v":""},{"$f":"IF('保険料申告内訳名簿（一人親方団体控）'!AB150=\"\",\"\",'保険料申告内訳名簿（一人親方団体控）'!AB150)","v":""},{"$f":"IF('保険料申告内訳名簿（一人親方団体控）'!AC150=\"\",\"\",'保険料申告内訳名簿（一人親方団体控）'!AC150)","v":0},{"$f":"IF('保険料申告内訳名簿（一人親方団体控）'!AD150=\"\",\"\",'保険料申告内訳名簿（一人親方団体控）'!AD150)","v":""},{"$f":"IF('保険料申告内訳名簿（一人親方団体控）'!AE150=\"\",\"\",'保険料申告内訳名簿（一人親方団体控）'!AE150)","v":""},{"$f":"IF('保険料申告内訳名簿（一人親方団体控）'!AF150=\"\",\"\",'保険料申告内訳名簿（一人親方団体控）'!AF150)","v":""},{"$f":"IF('保険料申告内訳名簿（一人親方団体控）'!AG150=\"\",\"\",'保険料申告内訳名簿（一人親方団体控）'!AG150)","v":""},{"$f":"IF('保険料申告内訳名簿（一人親方団体控）'!AH150=\"\",\"\",'保険料申告内訳名簿（一人親方団体控）'!AH150)","v":""}]
[null,{"$f":"IF('保険料申告内訳名簿（一人親方団体控）'!B151=\"\",\"\",'保険料申告内訳名簿（一人親方団体控）'!B151)","v":""},{"$f":"IF('保険料申告内訳名簿（一人親方団体控）'!C151=\"\",\"\",'保険料申告内訳名簿（一人親方団体控）'!C151)","v":""},{"$f":"IF('保険料申告内訳名簿（一人親方団体控）'!D151=\"\",\"\",'保険料申告内訳名簿（一人親方団体控）'!D151)","v":""},{"$f":"IF('保険料申告内訳名簿（一人親方団体控）'!E151=\"\",\"\",'保険料申告内訳名簿（一人親方団体控）'!E151)","v":""},{"$f":"IF('保険料申告内訳名簿（一人親方団体控）'!F151=\"\",\"\",'保険料申告内訳名簿（一人親方団体控）'!F151)","v":""},{"$f":"IF('保険料申告内訳名簿（一人親方団体控）'!G151=\"\",\"\",'保険料申告内訳名簿（一人親方団体控）'!G151)","v":""},{"$f":"IF('保険料申告内訳名簿（一人親方団体控）'!H151=\"\",\"\",'保険料申告内訳名簿（一人親方団体控）'!H151)","v":""},{"$f":"IF('保険料申告内訳名簿（一人親方団体控）'!I151=\"\",\"\",'保険料申告内訳名簿（一人親方団体控）'!I151)","v":""},{"$f":"IF('保険料申告内訳名簿（一人親方団体控）'!J151=\"\",\"\",'保険料申告内訳名簿（一人親方団体控）'!J151)","v":""},{"$f":"IF('保険料申告内訳名簿（一人親方団体控）'!K151=\"\",\"\",'保険料申告内訳名簿（一人親方団体控）'!K151)","v":""},{"$f":"IF('保険料申告内訳名簿（一人親方団体控）'!L151=\"\",\"\",'保険料申告内訳名簿（一人親方団体控）'!L151)","v":""},{"$f":"IF('保険料申告内訳名簿（一人親方団体控）'!M151=\"\",\"\",'保険料申告内訳名簿（一人親方団体控）'!M151)","v":""},{"$f":"IF('保険料申告内訳名簿（一人親方団体控）'!N151=\"\",\"\",'保険料申告内訳名簿（一人親方団体控）'!N151)","v":""},{"$f":"IF('保険料申告内訳名簿（一人親方団体控）'!O151=\"\",\"\",'保険料申告内訳名簿（一人親方団体控）'!O151)","v":""},{"$f":"IF('保険料申告内訳名簿（一人親方団体控）'!P151=\"\",\"\",'保険料申告内訳名簿（一人親方団体控）'!P151)","v":""},{"$f":"IF('保険料申告内訳名簿（一人親方団体控）'!Q151=\"\",\"\",'保険料申告内訳名簿（一人親方団体控）'!Q151)","v":""},{"$f":"IF('保険料申告内訳名簿（一人親方団体控）'!R151=\"\",\"\",'保険料申告内訳名簿（一人親方団体控）'!R151)","v":""},{"$f":"IF('保険料申告内訳名簿（一人親方団体控）'!S151=\"\",\"\",'保険料申告内訳名簿（一人親方団体控）'!S151)","v":0},{"$f":"IF('保険料申告内訳名簿（一人親方団体控）'!T151=\"\",\"\",'保険料申告内訳名簿（一人親方団体控）'!T151)","v":""},{"$f":"IF('保険料申告内訳名簿（一人親方団体控）'!U151=\"\",\"\",'保険料申告内訳名簿（一人親方団体控）'!U151)","v":""},{"$f":"IF('保険料申告内訳名簿（一人親方団体控）'!V151=\"\",\"\",'保険料申告内訳名簿（一人親方団体控）'!V151)","v":""},{"$f":"IF('保険料申告内訳名簿（一人親方団体控）'!W151=\"\",\"\",'保険料申告内訳名簿（一人親方団体控）'!W151)","v":""},{"$f":"IF('保険料申告内訳名簿（一人親方団体控）'!X151=\"\",\"\",'保険料申告内訳名簿（一人親方団体控）'!X151)","v":""},{"$f":"IF('保険料申告内訳名簿（一人親方団体控）'!Y151=\"\",\"\",'保険料申告内訳名簿（一人親方団体控）'!Y151)","v":""},{"$f":"IF('保険料申告内訳名簿（一人親方団体控）'!Z151=\"\",\"\",'保険料申告内訳名簿（一人親方団体控）'!Z151)","v":""},{"$f":"IF('保険料申告内訳名簿（一人親方団体控）'!AA151=\"\",\"\",'保険料申告内訳名簿（一人親方団体控）'!AA151)","v":""},{"$f":"IF('保険料申告内訳名簿（一人親方団体控）'!AB151=\"\",\"\",'保険料申告内訳名簿（一人親方団体控）'!AB151)","v":""},{"$f":"IF('保険料申告内訳名簿（一人親方団体控）'!AC151=\"\",\"\",'保険料申告内訳名簿（一人親方団体控）'!AC151)","v":0},{"$f":"IF('保険料申告内訳名簿（一人親方団体控）'!AD151=\"\",\"\",'保険料申告内訳名簿（一人親方団体控）'!AD151)","v":""},{"$f":"IF('保険料申告内訳名簿（一人親方団体控）'!AE151=\"\",\"\",'保険料申告内訳名簿（一人親方団体控）'!AE151)","v":""},{"$f":"IF('保険料申告内訳名簿（一人親方団体控）'!AF151=\"\",\"\",'保険料申告内訳名簿（一人親方団体控）'!AF151)","v":""},{"$f":"IF('保険料申告内訳名簿（一人親方団体控）'!AG151=\"\",\"\",'保険料申告内訳名簿（一人親方団体控）'!AG151)","v":""},{"$f":"IF('保険料申告内訳名簿（一人親方団体控）'!AH151=\"\",\"\",'保険料申告内訳名簿（一人親方団体控）'!AH151)","v":""}]
[null,{"$f":"IF('保険料申告内訳名簿（一人親方団体控）'!B152=\"\",\"\",'保険料申告内訳名簿（一人親方団体控）'!B152)","v":""},{"$f":"IF('保険料申告内訳名簿（一人親方団体控）'!C152=\"\",\"\",'保険料申告内訳名簿（一人親方団体控）'!C152)","v":""},{"$f":"IF('保険料申告内訳名簿（一人親方団体控）'!D152=\"\",\"\",'保険料申告内訳名簿（一人親方団体控）'!D152)","v":""},{"$f":"IF('保険料申告内訳名簿（一人親方団体控）'!E152=\"\",\"\",'保険料申告内訳名簿（一人親方団体控）'!E152)","v":""},{"$f":"IF('保険料申告内訳名簿（一人親方団体控）'!F152=\"\",\"\",'保険料申告内訳名簿（一人親方団体控）'!F152)","v":""},{"$f":"IF('保険料申告内訳名簿（一人親方団体控）'!G152=\"\",\"\",'保険料申告内訳名簿（一人親方団体控）'!G152)","v":""},{"$f":"IF('保険料申告内訳名簿（一人親方団体控）'!H152=\"\",\"\",'保険料申告内訳名簿（一人親方団体控）'!H152)","v":""},{"$f":"IF('保険料申告内訳名簿（一人親方団体控）'!I152=\"\",\"\",'保険料申告内訳名簿（一人親方団体控）'!I152)","v":""},{"$f":"IF('保険料申告内訳名簿（一人親方団体控）'!J152=\"\",\"\",'保険料申告内訳名簿（一人親方団体控）'!J152)","v":""},{"$f":"IF('保険料申告内訳名簿（一人親方団体控）'!K152=\"\",\"\",'保険料申告内訳名簿（一人親方団体控）'!K152)","v":""},{"$f":"IF('保険料申告内訳名簿（一人親方団体控）'!L152=\"\",\"\",'保険料申告内訳名簿（一人親方団体控）'!L152)","v":""},{"$f":"IF('保険料申告内訳名簿（一人親方団体控）'!M152=\"\",\"\",'保険料申告内訳名簿（一人親方団体控）'!M152)","v":""},{"$f":"IF('保険料申告内訳名簿（一人親方団体控）'!N152=\"\",\"\",'保険料申告内訳名簿（一人親方団体控）'!N152)","v":""},{"$f":"IF('保険料申告内訳名簿（一人親方団体控）'!O152=\"\",\"\",'保険料申告内訳名簿（一人親方団体控）'!O152)","v":""},{"$f":"IF('保険料申告内訳名簿（一人親方団体控）'!P152=\"\",\"\",'保険料申告内訳名簿（一人親方団体控）'!P152)","v":""},{"$f":"IF('保険料申告内訳名簿（一人親方団体控）'!Q152=\"\",\"\",'保険料申告内訳名簿（一人親方団体控）'!Q152)","v":""},{"$f":"IF('保険料申告内訳名簿（一人親方団体控）'!R152=\"\",\"\",'保険料申告内訳名簿（一人親方団体控）'!R152)","v":""},{"$f":"IF('保険料申告内訳名簿（一人親方団体控）'!S152=\"\",\"\",'保険料申告内訳名簿（一人親方団体控）'!S152)","v":0},{"$f":"IF('保険料申告内訳名簿（一人親方団体控）'!T152=\"\",\"\",'保険料申告内訳名簿（一人親方団体控）'!T152)","v":""},{"$f":"IF('保険料申告内訳名簿（一人親方団体控）'!U152=\"\",\"\",'保険料申告内訳名簿（一人親方団体控）'!U152)","v":""},{"$f":"IF('保険料申告内訳名簿（一人親方団体控）'!V152=\"\",\"\",'保険料申告内訳名簿（一人親方団体控）'!V152)","v":""},{"$f":"IF('保険料申告内訳名簿（一人親方団体控）'!W152=\"\",\"\",'保険料申告内訳名簿（一人親方団体控）'!W152)","v":""},{"$f":"IF('保険料申告内訳名簿（一人親方団体控）'!X152=\"\",\"\",'保険料申告内訳名簿（一人親方団体控）'!X152)","v":""},{"$f":"IF('保険料申告内訳名簿（一人親方団体控）'!Y152=\"\",\"\",'保険料申告内訳名簿（一人親方団体控）'!Y152)","v":""},{"$f":"IF('保険料申告内訳名簿（一人親方団体控）'!Z152=\"\",\"\",'保険料申告内訳名簿（一人親方団体控）'!Z152)","v":""},{"$f":"IF('保険料申告内訳名簿（一人親方団体控）'!AA152=\"\",\"\",'保険料申告内訳名簿（一人親方団体控）'!AA152)","v":""},{"$f":"IF('保険料申告内訳名簿（一人親方団体控）'!AB152=\"\",\"\",'保険料申告内訳名簿（一人親方団体控）'!AB152)","v":""},{"$f":"IF('保険料申告内訳名簿（一人親方団体控）'!AC152=\"\",\"\",'保険料申告内訳名簿（一人親方団体控）'!AC152)","v":0},{"$f":"IF('保険料申告内訳名簿（一人親方団体控）'!AD152=\"\",\"\",'保険料申告内訳名簿（一人親方団体控）'!AD152)","v":""},{"$f":"IF('保険料申告内訳名簿（一人親方団体控）'!AE152=\"\",\"\",'保険料申告内訳名簿（一人親方団体控）'!AE152)","v":""},{"$f":"IF('保険料申告内訳名簿（一人親方団体控）'!AF152=\"\",\"\",'保険料申告内訳名簿（一人親方団体控）'!AF152)","v":""},{"$f":"IF('保険料申告内訳名簿（一人親方団体控）'!AG152=\"\",\"\",'保険料申告内訳名簿（一人親方団体控）'!AG152)","v":""},{"$f":"IF('保険料申告内訳名簿（一人親方団体控）'!AH152=\"\",\"\",'保険料申告内訳名簿（一人親方団体控）'!AH152)","v":""}]
[null,{"$f":"IF('保険料申告内訳名簿（一人親方団体控）'!B153=\"\",\"\",'保険料申告内訳名簿（一人親方団体控）'!B153)","v":""},{"$f":"IF('保険料申告内訳名簿（一人親方団体控）'!C153=\"\",\"\",'保険料申告内訳名簿（一人親方団体控）'!C153)","v":""},{"$f":"IF('保険料申告内訳名簿（一人親方団体控）'!D153=\"\",\"\",'保険料申告内訳名簿（一人親方団体控）'!D153)","v":""},{"$f":"IF('保険料申告内訳名簿（一人親方団体控）'!E153=\"\",\"\",'保険料申告内訳名簿（一人親方団体控）'!E153)","v":""},{"$f":"IF('保険料申告内訳名簿（一人親方団体控）'!F153=\"\",\"\",'保険料申告内訳名簿（一人親方団体控）'!F153)","v":""},{"$f":"IF('保険料申告内訳名簿（一人親方団体控）'!G153=\"\",\"\",'保険料申告内訳名簿（一人親方団体控）'!G153)","v":""},{"$f":"IF('保険料申告内訳名簿（一人親方団体控）'!H153=\"\",\"\",'保険料申告内訳名簿（一人親方団体控）'!H153)","v":""},{"$f":"IF('保険料申告内訳名簿（一人親方団体控）'!I153=\"\",\"\",'保険料申告内訳名簿（一人親方団体控）'!I153)","v":""},{"$f":"IF('保険料申告内訳名簿（一人親方団体控）'!J153=\"\",\"\",'保険料申告内訳名簿（一人親方団体控）'!J153)","v":""},{"$f":"IF('保険料申告内訳名簿（一人親方団体控）'!K153=\"\",\"\",'保険料申告内訳名簿（一人親方団体控）'!K153)","v":""},{"$f":"IF('保険料申告内訳名簿（一人親方団体控）'!L153=\"\",\"\",'保険料申告内訳名簿（一人親方団体控）'!L153)","v":""},{"$f":"IF('保険料申告内訳名簿（一人親方団体控）'!M153=\"\",\"\",'保険料申告内訳名簿（一人親方団体控）'!M153)","v":""},{"$f":"IF('保険料申告内訳名簿（一人親方団体控）'!N153=\"\",\"\",'保険料申告内訳名簿（一人親方団体控）'!N153)","v":""},{"$f":"IF('保険料申告内訳名簿（一人親方団体控）'!O153=\"\",\"\",'保険料申告内訳名簿（一人親方団体控）'!O153)","v":""},{"$f":"IF('保険料申告内訳名簿（一人親方団体控）'!P153=\"\",\"\",'保険料申告内訳名簿（一人親方団体控）'!P153)","v":""},{"$f":"IF('保険料申告内訳名簿（一人親方団体控）'!Q153=\"\",\"\",'保険料申告内訳名簿（一人親方団体控）'!Q153)","v":""},{"$f":"IF('保険料申告内訳名簿（一人親方団体控）'!R153=\"\",\"\",'保険料申告内訳名簿（一人親方団体控）'!R153)","v":""},{"$f":"IF('保険料申告内訳名簿（一人親方団体控）'!S153=\"\",\"\",'保険料申告内訳名簿（一人親方団体控）'!S153)","v":0},{"$f":"IF('保険料申告内訳名簿（一人親方団体控）'!T153=\"\",\"\",'保険料申告内訳名簿（一人親方団体控）'!T153)","v":""},{"$f":"IF('保険料申告内訳名簿（一人親方団体控）'!U153=\"\",\"\",'保険料申告内訳名簿（一人親方団体控）'!U153)","v":""},{"$f":"IF('保険料申告内訳名簿（一人親方団体控）'!V153=\"\",\"\",'保険料申告内訳名簿（一人親方団体控）'!V153)","v":""},{"$f":"IF('保険料申告内訳名簿（一人親方団体控）'!W153=\"\",\"\",'保険料申告内訳名簿（一人親方団体控）'!W153)","v":""},{"$f":"IF('保険料申告内訳名簿（一人親方団体控）'!X153=\"\",\"\",'保険料申告内訳名簿（一人親方団体控）'!X153)","v":""},{"$f":"IF('保険料申告内訳名簿（一人親方団体控）'!Y153=\"\",\"\",'保険料申告内訳名簿（一人親方団体控）'!Y153)","v":""},{"$f":"IF('保険料申告内訳名簿（一人親方団体控）'!Z153=\"\",\"\",'保険料申告内訳名簿（一人親方団体控）'!Z153)","v":""},{"$f":"IF('保険料申告内訳名簿（一人親方団体控）'!AA153=\"\",\"\",'保険料申告内訳名簿（一人親方団体控）'!AA153)","v":""},{"$f":"IF('保険料申告内訳名簿（一人親方団体控）'!AB153=\"\",\"\",'保険料申告内訳名簿（一人親方団体控）'!AB153)","v":""},{"$f":"IF('保険料申告内訳名簿（一人親方団体控）'!AC153=\"\",\"\",'保険料申告内訳名簿（一人親方団体控）'!AC153)","v":0},{"$f":"IF('保険料申告内訳名簿（一人親方団体控）'!AD153=\"\",\"\",'保険料申告内訳名簿（一人親方団体控）'!AD153)","v":""},{"$f":"IF('保険料申告内訳名簿（一人親方団体控）'!AE153=\"\",\"\",'保険料申告内訳名簿（一人親方団体控）'!AE153)","v":""},{"$f":"IF('保険料申告内訳名簿（一人親方団体控）'!AF153=\"\",\"\",'保険料申告内訳名簿（一人親方団体控）'!AF153)","v":""},{"$f":"IF('保険料申告内訳名簿（一人親方団体控）'!AG153=\"\",\"\",'保険料申告内訳名簿（一人親方団体控）'!AG153)","v":""},{"$f":"IF('保険料申告内訳名簿（一人親方団体控）'!AH153=\"\",\"\",'保険料申告内訳名簿（一人親方団体控）'!AH153)","v":""}]
[null,{"$f":"IF('保険料申告内訳名簿（一人親方団体控）'!B154=\"\",\"\",'保険料申告内訳名簿（一人親方団体控）'!B154)","v":""},{"$f":"IF('保険料申告内訳名簿（一人親方団体控）'!C154=\"\",\"\",'保険料申告内訳名簿（一人親方団体控）'!C154)","v":""},{"$f":"IF('保険料申告内訳名簿（一人親方団体控）'!D154=\"\",\"\",'保険料申告内訳名簿（一人親方団体控）'!D154)","v":""},{"$f":"IF('保険料申告内訳名簿（一人親方団体控）'!E154=\"\",\"\",'保険料申告内訳名簿（一人親方団体控）'!E154)","v":""},{"$f":"IF('保険料申告内訳名簿（一人親方団体控）'!F154=\"\",\"\",'保険料申告内訳名簿（一人親方団体控）'!F154)","v":""},{"$f":"IF('保険料申告内訳名簿（一人親方団体控）'!G154=\"\",\"\",'保険料申告内訳名簿（一人親方団体控）'!G154)","v":""},{"$f":"IF('保険料申告内訳名簿（一人親方団体控）'!H154=\"\",\"\",'保険料申告内訳名簿（一人親方団体控）'!H154)","v":""},{"$f":"IF('保険料申告内訳名簿（一人親方団体控）'!I154=\"\",\"\",'保険料申告内訳名簿（一人親方団体控）'!I154)","v":""},{"$f":"IF('保険料申告内訳名簿（一人親方団体控）'!J154=\"\",\"\",'保険料申告内訳名簿（一人親方団体控）'!J154)","v":""},{"$f":"IF('保険料申告内訳名簿（一人親方団体控）'!K154=\"\",\"\",'保険料申告内訳名簿（一人親方団体控）'!K154)","v":""},{"$f":"IF('保険料申告内訳名簿（一人親方団体控）'!L154=\"\",\"\",'保険料申告内訳名簿（一人親方団体控）'!L154)","v":""},{"$f":"IF('保険料申告内訳名簿（一人親方団体控）'!M154=\"\",\"\",'保険料申告内訳名簿（一人親方団体控）'!M154)","v":""},{"$f":"IF('保険料申告内訳名簿（一人親方団体控）'!N154=\"\",\"\",'保険料申告内訳名簿（一人親方団体控）'!N154)","v":""},{"$f":"IF('保険料申告内訳名簿（一人親方団体控）'!O154=\"\",\"\",'保険料申告内訳名簿（一人親方団体控）'!O154)","v":""},{"$f":"IF('保険料申告内訳名簿（一人親方団体控）'!P154=\"\",\"\",'保険料申告内訳名簿（一人親方団体控）'!P154)","v":""},{"$f":"IF('保険料申告内訳名簿（一人親方団体控）'!Q154=\"\",\"\",'保険料申告内訳名簿（一人親方団体控）'!Q154)","v":""},{"$f":"IF('保険料申告内訳名簿（一人親方団体控）'!R154=\"\",\"\",'保険料申告内訳名簿（一人親方団体控）'!R154)","v":""},{"$f":"IF('保険料申告内訳名簿（一人親方団体控）'!S154=\"\",\"\",'保険料申告内訳名簿（一人親方団体控）'!S154)","v":0},{"$f":"IF('保険料申告内訳名簿（一人親方団体控）'!T154=\"\",\"\",'保険料申告内訳名簿（一人親方団体控）'!T154)","v":""},{"$f":"IF('保険料申告内訳名簿（一人親方団体控）'!U154=\"\",\"\",'保険料申告内訳名簿（一人親方団体控）'!U154)","v":""},{"$f":"IF('保険料申告内訳名簿（一人親方団体控）'!V154=\"\",\"\",'保険料申告内訳名簿（一人親方団体控）'!V154)","v":""},{"$f":"IF('保険料申告内訳名簿（一人親方団体控）'!W154=\"\",\"\",'保険料申告内訳名簿（一人親方団体控）'!W154)","v":""},{"$f":"IF('保険料申告内訳名簿（一人親方団体控）'!X154=\"\",\"\",'保険料申告内訳名簿（一人親方団体控）'!X154)","v":""},{"$f":"IF('保険料申告内訳名簿（一人親方団体控）'!Y154=\"\",\"\",'保険料申告内訳名簿（一人親方団体控）'!Y154)","v":""},{"$f":"IF('保険料申告内訳名簿（一人親方団体控）'!Z154=\"\",\"\",'保険料申告内訳名簿（一人親方団体控）'!Z154)","v":""},{"$f":"IF('保険料申告内訳名簿（一人親方団体控）'!AA154=\"\",\"\",'保険料申告内訳名簿（一人親方団体控）'!AA154)","v":""},{"$f":"IF('保険料申告内訳名簿（一人親方団体控）'!AB154=\"\",\"\",'保険料申告内訳名簿（一人親方団体控）'!AB154)","v":""},{"$f":"IF('保険料申告内訳名簿（一人親方団体控）'!AC154=\"\",\"\",'保険料申告内訳名簿（一人親方団体控）'!AC154)","v":0},{"$f":"IF('保険料申告内訳名簿（一人親方団体控）'!AD154=\"\",\"\",'保険料申告内訳名簿（一人親方団体控）'!AD154)","v":""},{"$f":"IF('保険料申告内訳名簿（一人親方団体控）'!AE154=\"\",\"\",'保険料申告内訳名簿（一人親方団体控）'!AE154)","v":""},{"$f":"IF('保険料申告内訳名簿（一人親方団体控）'!AF154=\"\",\"\",'保険料申告内訳名簿（一人親方団体控）'!AF154)","v":""},{"$f":"IF('保険料申告内訳名簿（一人親方団体控）'!AG154=\"\",\"\",'保険料申告内訳名簿（一人親方団体控）'!AG154)","v":""},{"$f":"IF('保険料申告内訳名簿（一人親方団体控）'!AH154=\"\",\"\",'保険料申告内訳名簿（一人親方団体控）'!AH154)","v":""}]
[null,{"$f":"IF('保険料申告内訳名簿（一人親方団体控）'!B155=\"\",\"\",'保険料申告内訳名簿（一人親方団体控）'!B155)","v":""},{"$f":"IF('保険料申告内訳名簿（一人親方団体控）'!C155=\"\",\"\",'保険料申告内訳名簿（一人親方団体控）'!C155)","v":""},{"$f":"IF('保険料申告内訳名簿（一人親方団体控）'!D155=\"\",\"\",'保険料申告内訳名簿（一人親方団体控）'!D155)","v":""},{"$f":"IF('保険料申告内訳名簿（一人親方団体控）'!E155=\"\",\"\",'保険料申告内訳名簿（一人親方団体控）'!E155)","v":""},{"$f":"IF('保険料申告内訳名簿（一人親方団体控）'!F155=\"\",\"\",'保険料申告内訳名簿（一人親方団体控）'!F155)","v":""},{"$f":"IF('保険料申告内訳名簿（一人親方団体控）'!G155=\"\",\"\",'保険料申告内訳名簿（一人親方団体控）'!G155)","v":""},{"$f":"IF('保険料申告内訳名簿（一人親方団体控）'!H155=\"\",\"\",'保険料申告内訳名簿（一人親方団体控）'!H155)","v":""},{"$f":"IF('保険料申告内訳名簿（一人親方団体控）'!I155=\"\",\"\",'保険料申告内訳名簿（一人親方団体控）'!I155)","v":""},{"$f":"IF('保険料申告内訳名簿（一人親方団体控）'!J155=\"\",\"\",'保険料申告内訳名簿（一人親方団体控）'!J155)","v":""},{"$f":"IF('保険料申告内訳名簿（一人親方団体控）'!K155=\"\",\"\",'保険料申告内訳名簿（一人親方団体控）'!K155)","v":""},{"$f":"IF('保険料申告内訳名簿（一人親方団体控）'!L155=\"\",\"\",'保険料申告内訳名簿（一人親方団体控）'!L155)","v":""},{"$f":"IF('保険料申告内訳名簿（一人親方団体控）'!M155=\"\",\"\",'保険料申告内訳名簿（一人親方団体控）'!M155)","v":""},{"$f":"IF('保険料申告内訳名簿（一人親方団体控）'!N155=\"\",\"\",'保険料申告内訳名簿（一人親方団体控）'!N155)","v":""},{"$f":"IF('保険料申告内訳名簿（一人親方団体控）'!O155=\"\",\"\",'保険料申告内訳名簿（一人親方団体控）'!O155)","v":""},{"$f":"IF('保険料申告内訳名簿（一人親方団体控）'!P155=\"\",\"\",'保険料申告内訳名簿（一人親方団体控）'!P155)","v":""},{"$f":"IF('保険料申告内訳名簿（一人親方団体控）'!Q155=\"\",\"\",'保険料申告内訳名簿（一人親方団体控）'!Q155)","v":""},{"$f":"IF('保険料申告内訳名簿（一人親方団体控）'!R155=\"\",\"\",'保険料申告内訳名簿（一人親方団体控）'!R155)","v":""},{"$f":"IF('保険料申告内訳名簿（一人親方団体控）'!S155=\"\",\"\",'保険料申告内訳名簿（一人親方団体控）'!S155)","v":0},{"$f":"IF('保険料申告内訳名簿（一人親方団体控）'!T155=\"\",\"\",'保険料申告内訳名簿（一人親方団体控）'!T155)","v":""},{"$f":"IF('保険料申告内訳名簿（一人親方団体控）'!U155=\"\",\"\",'保険料申告内訳名簿（一人親方団体控）'!U155)","v":""},{"$f":"IF('保険料申告内訳名簿（一人親方団体控）'!V155=\"\",\"\",'保険料申告内訳名簿（一人親方団体控）'!V155)","v":""},{"$f":"IF('保険料申告内訳名簿（一人親方団体控）'!W155=\"\",\"\",'保険料申告内訳名簿（一人親方団体控）'!W155)","v":""},{"$f":"IF('保険料申告内訳名簿（一人親方団体控）'!X155=\"\",\"\",'保険料申告内訳名簿（一人親方団体控）'!X155)","v":""},{"$f":"IF('保険料申告内訳名簿（一人親方団体控）'!Y155=\"\",\"\",'保険料申告内訳名簿（一人親方団体控）'!Y155)","v":""},{"$f":"IF('保険料申告内訳名簿（一人親方団体控）'!Z155=\"\",\"\",'保険料申告内訳名簿（一人親方団体控）'!Z155)","v":""},{"$f":"IF('保険料申告内訳名簿（一人親方団体控）'!AA155=\"\",\"\",'保険料申告内訳名簿（一人親方団体控）'!AA155)","v":""},{"$f":"IF('保険料申告内訳名簿（一人親方団体控）'!AB155=\"\",\"\",'保険料申告内訳名簿（一人親方団体控）'!AB155)","v":""},{"$f":"IF('保険料申告内訳名簿（一人親方団体控）'!AC155=\"\",\"\",'保険料申告内訳名簿（一人親方団体控）'!AC155)","v":0},{"$f":"IF('保険料申告内訳名簿（一人親方団体控）'!AD155=\"\",\"\",'保険料申告内訳名簿（一人親方団体控）'!AD155)","v":""},{"$f":"IF('保険料申告内訳名簿（一人親方団体控）'!AE155=\"\",\"\",'保険料申告内訳名簿（一人親方団体控）'!AE155)","v":""},{"$f":"IF('保険料申告内訳名簿（一人親方団体控）'!AF155=\"\",\"\",'保険料申告内訳名簿（一人親方団体控）'!AF155)","v":""},{"$f":"IF('保険料申告内訳名簿（一人親方団体控）'!AG155=\"\",\"\",'保険料申告内訳名簿（一人親方団体控）'!AG155)","v":""},{"$f":"IF('保険料申告内訳名簿（一人親方団体控）'!AH155=\"\",\"\",'保険料申告内訳名簿（一人親方団体控）'!AH155)","v":""}]
[null,{"$f":"IF('保険料申告内訳名簿（一人親方団体控）'!B156=\"\",\"\",'保険料申告内訳名簿（一人親方団体控）'!B156)","v":""},{"$f":"IF('保険料申告内訳名簿（一人親方団体控）'!C156=\"\",\"\",'保険料申告内訳名簿（一人親方団体控）'!C156)","v":""},{"$f":"IF('保険料申告内訳名簿（一人親方団体控）'!D156=\"\",\"\",'保険料申告内訳名簿（一人親方団体控）'!D156)","v":""},{"$f":"IF('保険料申告内訳名簿（一人親方団体控）'!E156=\"\",\"\",'保険料申告内訳名簿（一人親方団体控）'!E156)","v":""},{"$f":"IF('保険料申告内訳名簿（一人親方団体控）'!F156=\"\",\"\",'保険料申告内訳名簿（一人親方団体控）'!F156)","v":""},{"$f":"IF('保険料申告内訳名簿（一人親方団体控）'!G156=\"\",\"\",'保険料申告内訳名簿（一人親方団体控）'!G156)","v":""},{"$f":"IF('保険料申告内訳名簿（一人親方団体控）'!H156=\"\",\"\",'保険料申告内訳名簿（一人親方団体控）'!H156)","v":""},{"$f":"IF('保険料申告内訳名簿（一人親方団体控）'!I156=\"\",\"\",'保険料申告内訳名簿（一人親方団体控）'!I156)","v":""},{"$f":"IF('保険料申告内訳名簿（一人親方団体控）'!J156=\"\",\"\",'保険料申告内訳名簿（一人親方団体控）'!J156)","v":""},{"$f":"IF('保険料申告内訳名簿（一人親方団体控）'!K156=\"\",\"\",'保険料申告内訳名簿（一人親方団体控）'!K156)","v":""},{"$f":"IF('保険料申告内訳名簿（一人親方団体控）'!L156=\"\",\"\",'保険料申告内訳名簿（一人親方団体控）'!L156)","v":""},{"$f":"IF('保険料申告内訳名簿（一人親方団体控）'!M156=\"\",\"\",'保険料申告内訳名簿（一人親方団体控）'!M156)","v":""},{"$f":"IF('保険料申告内訳名簿（一人親方団体控）'!N156=\"\",\"\",'保険料申告内訳名簿（一人親方団体控）'!N156)","v":""},{"$f":"IF('保険料申告内訳名簿（一人親方団体控）'!O156=\"\",\"\",'保険料申告内訳名簿（一人親方団体控）'!O156)","v":""},{"$f":"IF('保険料申告内訳名簿（一人親方団体控）'!P156=\"\",\"\",'保険料申告内訳名簿（一人親方団体控）'!P156)","v":""},{"$f":"IF('保険料申告内訳名簿（一人親方団体控）'!Q156=\"\",\"\",'保険料申告内訳名簿（一人親方団体控）'!Q156)","v":""},{"$f":"IF('保険料申告内訳名簿（一人親方団体控）'!R156=\"\",\"\",'保険料申告内訳名簿（一人親方団体控）'!R156)","v":""},{"$f":"IF('保険料申告内訳名簿（一人親方団体控）'!S156=\"\",\"\",'保険料申告内訳名簿（一人親方団体控）'!S156)","v":0},{"$f":"IF('保険料申告内訳名簿（一人親方団体控）'!T156=\"\",\"\",'保険料申告内訳名簿（一人親方団体控）'!T156)","v":""},{"$f":"IF('保険料申告内訳名簿（一人親方団体控）'!U156=\"\",\"\",'保険料申告内訳名簿（一人親方団体控）'!U156)","v":""},{"$f":"IF('保険料申告内訳名簿（一人親方団体控）'!V156=\"\",\"\",'保険料申告内訳名簿（一人親方団体控）'!V156)","v":""},{"$f":"IF('保険料申告内訳名簿（一人親方団体控）'!W156=\"\",\"\",'保険料申告内訳名簿（一人親方団体控）'!W156)","v":""},{"$f":"IF('保険料申告内訳名簿（一人親方団体控）'!X156=\"\",\"\",'保険料申告内訳名簿（一人親方団体控）'!X156)","v":""},{"$f":"IF('保険料申告内訳名簿（一人親方団体控）'!Y156=\"\",\"\",'保険料申告内訳名簿（一人親方団体控）'!Y156)","v":""},{"$f":"IF('保険料申告内訳名簿（一人親方団体控）'!Z156=\"\",\"\",'保険料申告内訳名簿（一人親方団体控）'!Z156)","v":""},{"$f":"IF('保険料申告内訳名簿（一人親方団体控）'!AA156=\"\",\"\",'保険料申告内訳名簿（一人親方団体控）'!AA156)","v":""},{"$f":"IF('保険料申告内訳名簿（一人親方団体控）'!AB156=\"\",\"\",'保険料申告内訳名簿（一人親方団体控）'!AB156)","v":""},{"$f":"IF('保険料申告内訳名簿（一人親方団体控）'!AC156=\"\",\"\",'保険料申告内訳名簿（一人親方団体控）'!AC156)","v":0},{"$f":"IF('保険料申告内訳名簿（一人親方団体控）'!AD156=\"\",\"\",'保険料申告内訳名簿（一人親方団体控）'!AD156)","v":""},{"$f":"IF('保険料申告内訳名簿（一人親方団体控）'!AE156=\"\",\"\",'保険料申告内訳名簿（一人親方団体控）'!AE156)","v":""},{"$f":"IF('保険料申告内訳名簿（一人親方団体控）'!AF156=\"\",\"\",'保険料申告内訳名簿（一人親方団体控）'!AF156)","v":""},{"$f":"IF('保険料申告内訳名簿（一人親方団体控）'!AG156=\"\",\"\",'保険料申告内訳名簿（一人親方団体控）'!AG156)","v":""},{"$f":"IF('保険料申告内訳名簿（一人親方団体控）'!AH156=\"\",\"\",'保険料申告内訳名簿（一人親方団体控）'!AH156)","v":""}]
[null,{"$f":"IF('保険料申告内訳名簿（一人親方団体控）'!B157=\"\",\"\",'保険料申告内訳名簿（一人親方団体控）'!B157)","v":""},{"$f":"IF('保険料申告内訳名簿（一人親方団体控）'!C157=\"\",\"\",'保険料申告内訳名簿（一人親方団体控）'!C157)","v":""},{"$f":"IF('保険料申告内訳名簿（一人親方団体控）'!D157=\"\",\"\",'保険料申告内訳名簿（一人親方団体控）'!D157)","v":""},{"$f":"IF('保険料申告内訳名簿（一人親方団体控）'!E157=\"\",\"\",'保険料申告内訳名簿（一人親方団体控）'!E157)","v":""},{"$f":"IF('保険料申告内訳名簿（一人親方団体控）'!F157=\"\",\"\",'保険料申告内訳名簿（一人親方団体控）'!F157)","v":""},{"$f":"IF('保険料申告内訳名簿（一人親方団体控）'!G157=\"\",\"\",'保険料申告内訳名簿（一人親方団体控）'!G157)","v":""},{"$f":"IF('保険料申告内訳名簿（一人親方団体控）'!H157=\"\",\"\",'保険料申告内訳名簿（一人親方団体控）'!H157)","v":""},{"$f":"IF('保険料申告内訳名簿（一人親方団体控）'!I157=\"\",\"\",'保険料申告内訳名簿（一人親方団体控）'!I157)","v":""},{"$f":"IF('保険料申告内訳名簿（一人親方団体控）'!J157=\"\",\"\",'保険料申告内訳名簿（一人親方団体控）'!J157)","v":""},{"$f":"IF('保険料申告内訳名簿（一人親方団体控）'!K157=\"\",\"\",'保険料申告内訳名簿（一人親方団体控）'!K157)","v":""},{"$f":"IF('保険料申告内訳名簿（一人親方団体控）'!L157=\"\",\"\",'保険料申告内訳名簿（一人親方団体控）'!L157)","v":""},{"$f":"IF('保険料申告内訳名簿（一人親方団体控）'!M157=\"\",\"\",'保険料申告内訳名簿（一人親方団体控）'!M157)","v":""},{"$f":"IF('保険料申告内訳名簿（一人親方団体控）'!N157=\"\",\"\",'保険料申告内訳名簿（一人親方団体控）'!N157)","v":""},{"$f":"IF('保険料申告内訳名簿（一人親方団体控）'!O157=\"\",\"\",'保険料申告内訳名簿（一人親方団体控）'!O157)","v":""},{"$f":"IF('保険料申告内訳名簿（一人親方団体控）'!P157=\"\",\"\",'保険料申告内訳名簿（一人親方団体控）'!P157)","v":""},{"$f":"IF('保険料申告内訳名簿（一人親方団体控）'!Q157=\"\",\"\",'保険料申告内訳名簿（一人親方団体控）'!Q157)","v":""},{"$f":"IF('保険料申告内訳名簿（一人親方団体控）'!R157=\"\",\"\",'保険料申告内訳名簿（一人親方団体控）'!R157)","v":""},{"$f":"IF('保険料申告内訳名簿（一人親方団体控）'!S157=\"\",\"\",'保険料申告内訳名簿（一人親方団体控）'!S157)","v":0},{"$f":"IF('保険料申告内訳名簿（一人親方団体控）'!T157=\"\",\"\",'保険料申告内訳名簿（一人親方団体控）'!T157)","v":""},{"$f":"IF('保険料申告内訳名簿（一人親方団体控）'!U157=\"\",\"\",'保険料申告内訳名簿（一人親方団体控）'!U157)","v":""},{"$f":"IF('保険料申告内訳名簿（一人親方団体控）'!V157=\"\",\"\",'保険料申告内訳名簿（一人親方団体控）'!V157)","v":""},{"$f":"IF('保険料申告内訳名簿（一人親方団体控）'!W157=\"\",\"\",'保険料申告内訳名簿（一人親方団体控）'!W157)","v":""},{"$f":"IF('保険料申告内訳名簿（一人親方団体控）'!X157=\"\",\"\",'保険料申告内訳名簿（一人親方団体控）'!X157)","v":""},{"$f":"IF('保険料申告内訳名簿（一人親方団体控）'!Y157=\"\",\"\",'保険料申告内訳名簿（一人親方団体控）'!Y157)","v":""},{"$f":"IF('保険料申告内訳名簿（一人親方団体控）'!Z157=\"\",\"\",'保険料申告内訳名簿（一人親方団体控）'!Z157)","v":""},{"$f":"IF('保険料申告内訳名簿（一人親方団体控）'!AA157=\"\",\"\",'保険料申告内訳名簿（一人親方団体控）'!AA157)","v":""},{"$f":"IF('保険料申告内訳名簿（一人親方団体控）'!AB157=\"\",\"\",'保険料申告内訳名簿（一人親方団体控）'!AB157)","v":""},{"$f":"IF('保険料申告内訳名簿（一人親方団体控）'!AC157=\"\",\"\",'保険料申告内訳名簿（一人親方団体控）'!AC157)","v":0},{"$f":"IF('保険料申告内訳名簿（一人親方団体控）'!AD157=\"\",\"\",'保険料申告内訳名簿（一人親方団体控）'!AD157)","v":""},{"$f":"IF('保険料申告内訳名簿（一人親方団体控）'!AE157=\"\",\"\",'保険料申告内訳名簿（一人親方団体控）'!AE157)","v":""},{"$f":"IF('保険料申告内訳名簿（一人親方団体控）'!AF157=\"\",\"\",'保険料申告内訳名簿（一人親方団体控）'!AF157)","v":""},{"$f":"IF('保険料申告内訳名簿（一人親方団体控）'!AG157=\"\",\"\",'保険料申告内訳名簿（一人親方団体控）'!AG157)","v":""},{"$f":"IF('保険料申告内訳名簿（一人親方団体控）'!AH157=\"\",\"\",'保険料申告内訳名簿（一人親方団体控）'!AH157)","v":""}]
[null,null,null,null,null,null,null,null,null,null,null,null,null,null,null,null,null,null,{"$f":"IF('保険料申告内訳名簿（一人親方団体控）'!S158=\"\",\"\",'保険料申告内訳名簿（一人親方団体控）'!S158)","v":0},{"$f":"IF('保険料申告内訳名簿（一人親方団体控）'!T158=\"\",\"\",'保険料申告内訳名簿（一人親方団体控）'!T158)","v":""},{"$f":"IF('保険料申告内訳名簿（一人親方団体控）'!U158=\"\",\"\",'保険料申告内訳名簿（一人親方団体控）'!U158)","v":""},{"$f":"IF('保険料申告内訳名簿（一人親方団体控）'!V158=\"\",\"\",'保険料申告内訳名簿（一人親方団体控）'!V158)","v":""},{"$f":"IF('保険料申告内訳名簿（一人親方団体控）'!W158=\"\",\"\",'保険料申告内訳名簿（一人親方団体控）'!W158)","v":""},{"$f":"IF('保険料申告内訳名簿（一人親方団体控）'!X158=\"\",\"\",'保険料申告内訳名簿（一人親方団体控）'!X158)","v":""},null,null,null,null,{"$f":"IF('保険料申告内訳名簿（一人親方団体控）'!AC158=\"\",\"\",'保険料申告内訳名簿（一人親方団体控）'!AC158)","v":0},{"$f":"IF('保険料申告内訳名簿（一人親方団体控）'!AD158=\"\",\"\",'保険料申告内訳名簿（一人親方団体控）'!AD158)","v":""},{"$f":"IF('保険料申告内訳名簿（一人親方団体控）'!AE158=\"\",\"\",'保険料申告内訳名簿（一人親方団体控）'!AE158)","v":""},{"$f":"IF('保険料申告内訳名簿（一人親方団体控）'!AF158=\"\",\"\",'保険料申告内訳名簿（一人親方団体控）'!AF158)","v":""},{"$f":"IF('保険料申告内訳名簿（一人親方団体控）'!AG158=\"\",\"\",'保険料申告内訳名簿（一人親方団体控）'!AG158)","v":""},{"$f":"IF('保険料申告内訳名簿（一人親方団体控）'!AH158=\"\",\"\",'保険料申告内訳名簿（一人親方団体控）'!AH158)","v":""}]
[]
[null,"（注）"]
[null,null,"１）　④欄は月割の対象となる方のみ記入して下さい。"]
[null,null,"２）　月割の対象となる場合の⑤保険料算定基礎額の算定方法"]
[null,null,"２）　月割の対象となる場合の③（給付基礎日額×365÷12）（円未満を切り上げてから）×加入月数"]
[]
[]
[null,"【島根局版】",null,null,null,null,null,null,null,null,null,null,null,null,null,null,null,null,null,null,null,null,null,null,null,null,"監督署用"]
[null,"第２種特別加入保険料申告内訳名簿"]
[null,"（一人親方等）"]
[null,null,null,null,null,null,null,null,null,null,null,null,null,null,null,null,null,null,null,null,null,null,null,null,"（",{"$f":"IF('保険料申告内訳名簿（一人親方団体控）'!Z169=\"\",\"\",'保険料申告内訳名簿（一人親方団体控）'!Z169)","v":0},{"$f":"IF('保険料申告内訳名簿（一人親方団体控）'!AA169=\"\",\"\",'保険料申告内訳名簿（一人親方団体控）'!AA169)","v":""},"枚のうち",null,{"$f":"IF('保険料申告内訳名簿（一人親方団体控）'!AD169=\"\",\"\",'保険料申告内訳名簿（一人親方団体控）'!AD169)","v":6},{"$f":"IF('保険料申告内訳名簿（一人親方団体控）'!AE169=\"\",\"\",'保険料申告内訳名簿（一人親方団体控）'!AE169)","v":""},"枚目",null,"）"]
[]
[null,"労働保険\n番　　　号",null,null,null,null,"府県",null,"所掌","管轄",null,"基幹番号",null,null,null,null,null,"枝番号",null,null,"事業場の\n所在地",null,null,{"$f":"IF('保険料申告内訳名簿（一人親方団体控）'!X171=\"\",\"\",'保険料申告内訳名簿（一人親方団体控）'!X171)","v":""},{"$f":"IF('保険料申告内訳名簿（一人親方団体控）'!Y171=\"\",\"\",'保険料申告内訳名簿（一人親方団体控）'!Y171)","v":""},{"$f":"IF('保険料申告内訳名簿（一人親方団体控）'!Z171=\"\",\"\",'保険料申告内訳名簿（一人親方団体控）'!Z171)","v":""},{"$f":"IF('保険料申告内訳名簿（一人親方団体控）'!AA171=\"\",\"\",'保険料申告内訳名簿（一人親方団体控）'!AA171)","v":""},{"$f":"IF('保険料申告内訳名簿（一人親方団体控）'!AB171=\"\",\"\",'保険料申告内訳名簿（一人親方団体控）'!AB171)","v":""},{"$f":"IF('保険料申告内訳名簿（一人親方団体控）'!AC171=\"\",\"\",'保険料申告内訳名簿（一人親方団体控）'!AC171)","v":""},{"$f":"IF('保険料申告内訳名簿（一人親方団体控）'!AD171=\"\",\"\",'保険料申告内訳名簿（一人親方団体控）'!AD171)","v":""},{"$f":"IF('保険料申告内訳名簿（一人親方団体控）'!AE171=\"\",\"\",'保険料申告内訳名簿（一人親方団体控）'!AE171)","v":""},{"$f":"IF('保険料申告内訳名簿（一人親方団体控）'!AF171=\"\",\"\",'保険料申告内訳名簿（一人親方団体控）'!AF171)","v":""},{"$f":"IF('保険料申告内訳名簿（一人親方団体控）'!AG171=\"\",\"\",'保険料申告内訳名簿（一人親方団体控）'!AG171)","v":""},{"$f":"IF('保険料申告内訳名簿（一人親方団体控）'!AH171=\"\",\"\",'保険料申告内訳名簿（一人親方団体控）'!AH171)","v":""}]
[null,null,null,null,null,null,"3","2",{"$f":"IF('保険料申告内訳名簿（一人親方団体控）'!I172=\"\",\"\",'保険料申告内訳名簿（一人親方団体控）'!I172)","v":""},{"$f":"IF('保険料申告内訳名簿（一人親方団体控）'!J172=\"\",\"\",'保険料申告内訳名簿（一人親方団体控）'!J172)","v":""},{"$f":"IF('保険料申告内訳名簿（一人親方団体控）'!K172=\"\",\"\",'保険料申告内訳名簿（一人親方団体控）'!K172)","v":""},{"$f":"IF('保険料申告内訳名簿（一人親方団体控）'!L172=\"\",\"\",'保険料申告内訳名簿（一人親方団体控）'!L172)","v":""},{"$f":"IF('保険料申告内訳名簿（一人親方団体控）'!M172=\"\",\"\",'保険料申告内訳名簿（一人親方団体控）'!M172)","v":""},{"$f":"IF('保険料申告内訳名簿（一人親方団体控）'!N172=\"\",\"\",'保険料申告内訳名簿（一人親方団体控）'!N172)","v":""},{"$f":"IF('保険料申告内訳名簿（一人親方団体控）'!O172=\"\",\"\",'保険料申告内訳名簿（一人親方団体控）'!O172)","v":""},{"$f":"IF('保険料申告内訳名簿（一人親方団体控）'!P172=\"\",\"\",'保険料申告内訳名簿（一人親方団体控）'!P172)","v":""},{"$f":"IF('保険料申告内訳名簿（一人親方団体控）'!Q172=\"\",\"\",'保険料申告内訳名簿（一人親方団体控）'!Q172)","v":""},{"$f":"IF('保険料申告内訳名簿（一人親方団体控）'!R172=\"\",\"\",'保険料申告内訳名簿（一人親方団体控）'!R172)","v":""},{"$f":"IF('保険料申告内訳名簿（一人親方団体控）'!S172=\"\",\"\",'保険料申告内訳名簿（一人親方団体控）'!S172)","v":""},{"$f":"IF('保険料申告内訳名簿（一人親方団体控）'!T172=\"\",\"\",'保険料申告内訳名簿（一人親方団体控）'!T172)","v":""},"事業場の\n名称",null,null,{"$f":"IF('保険料申告内訳名簿（一人親方団体控）'!X172=\"\",\"\",'保険料申告内訳名簿（一人親方団体控）'!X172)","v":""},{"$f":"IF('保険料申告内訳名簿（一人親方団体控）'!Y172=\"\",\"\",'保険料申告内訳名簿（一人親方団体控）'!Y172)","v":""},{"$f":"IF('保険料申告内訳名簿（一人親方団体控）'!Z172=\"\",\"\",'保険料申告内訳名簿（一人親方団体控）'!Z172)","v":""},{"$f":"IF('保険料申告内訳名簿（一人親方団体控）'!AA172=\"\",\"\",'保険料申告内訳名簿（一人親方団体控）'!AA172)","v":""},{"$f":"IF('保険料申告内訳名簿（一人親方団体控）'!AB172=\"\",\"\",'保険料申告内訳名簿（一人親方団体控）'!AB172)","v":""},{"$f":"IF('保険料申告内訳名簿（一人親方団体控）'!AC172=\"\",\"\",'保険料申告内訳名簿（一人親方団体控）'!AC172)","v":""},{"$f":"IF('保険料申告内訳名簿（一人親方団体控）'!AD172=\"\",\"\",'保険料申告内訳名簿（一人親方団体控）'!AD172)","v":""},{"$f":"IF('保険料申告内訳名簿（一人親方団体控）'!AE172=\"\",\"\",'保険料申告内訳名簿（一人親方団体控）'!AE172)","v":""},{"$f":"IF('保険料申告内訳名簿（一人親方団体控）'!AF172=\"\",\"\",'保険料申告内訳名簿（一人親方団体控）'!AF172)","v":""},{"$f":"IF('保険料申告内訳名簿（一人親方団体控）'!AG172=\"\",\"\",'保険料申告内訳名簿（一人親方団体控）'!AG172)","v":""},{"$f":"IF('保険料申告内訳名簿（一人親方団体控）'!AH172=\"\",\"\",'保険料申告内訳名簿（一人親方団体控）'!AH172)","v":""}]
[null,"①\n整理\n番号",null,"②\n氏名",null,null,null,null,null,null,null,null,null,null,"令 和",null,null,{"$f":"IF('保険料申告内訳名簿（一人親方団体控）'!R173=\"\",\"\",'保険料申告内訳名簿（一人親方団体控）'!R173)","v":""},{"$f":"IF('保険料申告内訳名簿（一人親方団体控）'!S173=\"\",\"\",'保険料申告内訳名簿（一人親方団体控）'!S173)","v":""},{"$f":"IF('保険料申告内訳名簿（一人親方団体控）'!T173=\"\",\"\",'保険料申告内訳名簿（一人親方団体控）'!T173)","v":""},null,null,null,"年 度 確 定 ","令 和",null,null,{"$f":"IF('保険料申告内訳名簿（一人親方団体控）'!AB173=\"\",\"\",'保険料申告内訳名簿（一人親方団体控）'!AB173)","v":""},{"$f":"IF('保険料申告内訳名簿（一人親方団体控）'!AC173=\"\",\"\",'保険料申告内訳名簿（一人親方団体控）'!AC173)","v":""},{"$f":"IF('保険料申告内訳名簿（一人親方団体控）'!AD173=\"\",\"\",'保険料申告内訳名簿（一人親方団体控）'!AD173)","v":""},null,null,null,"年 度 概 算 "]
[null,null,null,null,null,null,null,"③　\n給付基礎日額",null,null,null,"④年度中途加入・脱退",null,null,null,null,null,null,"⑤\n保険料算定基礎額",null,null,null,null,null,"⑥\n給付基礎日額",null,null,null,"⑦\n保険料算定基礎額"]
[null,null,null,null,null,null,null,null,null,null,null,"加入・脱退年月日",null,null,null,null,"加入月数"]
[null,{"$f":"IF('保険料申告内訳名簿（一人親方団体控）'!B176=\"\",\"\",'保険料申告内訳名簿（一人親方団体控）'!B176)","v":""},{"$f":"IF('保険料申告内訳名簿（一人親方団体控）'!C176=\"\",\"\",'保険料申告内訳名簿（一人親方団体控）'!C176)","v":""},{"$f":"IF('保険料申告内訳名簿（一人親方団体控）'!D176=\"\",\"\",'保険料申告内訳名簿（一人親方団体控）'!D176)","v":""},{"$f":"IF('保険料申告内訳名簿（一人親方団体控）'!E176=\"\",\"\",'保険料申告内訳名簿（一人親方団体控）'!E176)","v":""},{"$f":"IF('保険料申告内訳名簿（一人親方団体控）'!F176=\"\",\"\",'保険料申告内訳名簿（一人親方団体控）'!F176)","v":""},{"$f":"IF('保険料申告内訳名簿（一人親方団体控）'!G176=\"\",\"\",'保険料申告内訳名簿（一人親方団体控）'!G176)","v":""},{"$f":"IF('保険料申告内訳名簿（一人親方団体控）'!H176=\"\",\"\",'保険料申告内訳名簿（一人親方団体控）'!H176)","v":""},{"$f":"IF('保険料申告内訳名簿（一人親方団体控）'!I176=\"\",\"\",'保険料申告内訳名簿（一人親方団体控）'!I176)","v":""},{"$f":"IF('保険料申告内訳名簿（一人親方団体控）'!J176=\"\",\"\",'保険料申告内訳名簿（一人親方団体控）'!J176)","v":""},{"$f":"IF('保険料申告内訳名簿（一人親方団体控）'!K176=\"\",\"\",'保険料申告内訳名簿（一人親方団体控）'!K176)","v":""},{"$f":"IF('保険料申告内訳名簿（一人親方団体控）'!L176=\"\",\"\",'保険料申告内訳名簿（一人親方団体控）'!L176)","v":""},{"$f":"IF('保険料申告内訳名簿（一人親方団体控）'!M176=\"\",\"\",'保険料申告内訳名簿（一人親方団体控）'!M176)","v":""},{"$f":"IF('保険料申告内訳名簿（一人親方団体控）'!N176=\"\",\"\",'保険料申告内訳名簿（一人親方団体控）'!N176)","v":""},{"$f":"IF('保険料申告内訳名簿（一人親方団体控）'!O176=\"\",\"\",'保険料申告内訳名簿（一人親方団体控）'!O176)","v":""},{"$f":"IF('保険料申告内訳名簿（一人親方団体控）'!P176=\"\",\"\",'保険料申告内訳名簿（一人親方団体控）'!P176)","v":""},{"$f":"IF('保険料申告内訳名簿（一人親方団体控）'!Q176=\"\",\"\",'保険料申告内訳名簿（一人親方団体控）'!Q176)","v":""},{"$f":"IF('保険料申告内訳名簿（一人親方団体控）'!R176=\"\",\"\",'保険料申告内訳名簿（一人親方団体控）'!R176)","v":""},{"$f":"IF('保険料申告内訳名簿（一人親方団体控）'!S176=\"\",\"\",'保険料申告内訳名簿（一人親方団体控）'!S176)","v":0},{"$f":"IF('保険料申告内訳名簿（一人親方団体控）'!T176=\"\",\"\",'保険料申告内訳名簿（一人親方団体控）'!T176)","v":""},{"$f":"IF('保険料申告内訳名簿（一人親方団体控）'!U176=\"\",\"\",'保険料申告内訳名簿（一人親方団体控）'!U176)","v":""},{"$f":"IF('保険料申告内訳名簿（一人親方団体控）'!V176=\"\",\"\",'保険料申告内訳名簿（一人親方団体控）'!V176)","v":""},{"$f":"IF('保険料申告内訳名簿（一人親方団体控）'!W176=\"\",\"\",'保険料申告内訳名簿（一人親方団体控）'!W176)","v":""},{"$f":"IF('保険料申告内訳名簿（一人親方団体控）'!X176=\"\",\"\",'保険料申告内訳名簿（一人親方団体控）'!X176)","v":""},{"$f":"IF('保険料申告内訳名簿（一人親方団体控）'!Y176=\"\",\"\",'保険料申告内訳名簿（一人親方団体控）'!Y176)","v":""},{"$f":"IF('保険料申告内訳名簿（一人親方団体控）'!Z176=\"\",\"\",'保険料申告内訳名簿（一人親方団体控）'!Z176)","v":""},{"$f":"IF('保険料申告内訳名簿（一人親方団体控）'!AA176=\"\",\"\",'保険料申告内訳名簿（一人親方団体控）'!AA176)","v":""},{"$f":"IF('保険料申告内訳名簿（一人親方団体控）'!AB176=\"\",\"\",'保険料申告内訳名簿（一人親方団体控）'!AB176)","v":""},{"$f":"IF('保険料申告内訳名簿（一人親方団体控）'!AC176=\"\",\"\",'保険料申告内訳名簿（一人親方団体控）'!AC176)","v":0},{"$f":"IF('保険料申告内訳名簿（一人親方団体控）'!AD176=\"\",\"\",'保険料申告内訳名簿（一人親方団体控）'!AD176)","v":""},{"$f":"IF('保険料申告内訳名簿（一人親方団体控）'!AE176=\"\",\"\",'保険料申告内訳名簿（一人親方団体控）'!AE176)","v":""},{"$f":"IF('保険料申告内訳名簿（一人親方団体控）'!AF176=\"\",\"\",'保険料申告内訳名簿（一人親方団体控）'!AF176)","v":""},{"$f":"IF('保険料申告内訳名簿（一人親方団体控）'!AG176=\"\",\"\",'保険料申告内訳名簿（一人親方団体控）'!AG176)","v":""},{"$f":"IF('保険料申告内訳名簿（一人親方団体控）'!AH176=\"\",\"\",'保険料申告内訳名簿（一人親方団体控）'!AH176)","v":""}]
[null,{"$f":"IF('保険料申告内訳名簿（一人親方団体控）'!B177=\"\",\"\",'保険料申告内訳名簿（一人親方団体控）'!B177)","v":""},{"$f":"IF('保険料申告内訳名簿（一人親方団体控）'!C177=\"\",\"\",'保険料申告内訳名簿（一人親方団体控）'!C177)","v":""},{"$f":"IF('保険料申告内訳名簿（一人親方団体控）'!D177=\"\",\"\",'保険料申告内訳名簿（一人親方団体控）'!D177)","v":""},{"$f":"IF('保険料申告内訳名簿（一人親方団体控）'!E177=\"\",\"\",'保険料申告内訳名簿（一人親方団体控）'!E177)","v":""},{"$f":"IF('保険料申告内訳名簿（一人親方団体控）'!F177=\"\",\"\",'保険料申告内訳名簿（一人親方団体控）'!F177)","v":""},{"$f":"IF('保険料申告内訳名簿（一人親方団体控）'!G177=\"\",\"\",'保険料申告内訳名簿（一人親方団体控）'!G177)","v":""},{"$f":"IF('保険料申告内訳名簿（一人親方団体控）'!H177=\"\",\"\",'保険料申告内訳名簿（一人親方団体控）'!H177)","v":""},{"$f":"IF('保険料申告内訳名簿（一人親方団体控）'!I177=\"\",\"\",'保険料申告内訳名簿（一人親方団体控）'!I177)","v":""},{"$f":"IF('保険料申告内訳名簿（一人親方団体控）'!J177=\"\",\"\",'保険料申告内訳名簿（一人親方団体控）'!J177)","v":""},{"$f":"IF('保険料申告内訳名簿（一人親方団体控）'!K177=\"\",\"\",'保険料申告内訳名簿（一人親方団体控）'!K177)","v":""},{"$f":"IF('保険料申告内訳名簿（一人親方団体控）'!L177=\"\",\"\",'保険料申告内訳名簿（一人親方団体控）'!L177)","v":""},{"$f":"IF('保険料申告内訳名簿（一人親方団体控）'!M177=\"\",\"\",'保険料申告内訳名簿（一人親方団体控）'!M177)","v":""},{"$f":"IF('保険料申告内訳名簿（一人親方団体控）'!N177=\"\",\"\",'保険料申告内訳名簿（一人親方団体控）'!N177)","v":""},{"$f":"IF('保険料申告内訳名簿（一人親方団体控）'!O177=\"\",\"\",'保険料申告内訳名簿（一人親方団体控）'!O177)","v":""},{"$f":"IF('保険料申告内訳名簿（一人親方団体控）'!P177=\"\",\"\",'保険料申告内訳名簿（一人親方団体控）'!P177)","v":""},{"$f":"IF('保険料申告内訳名簿（一人親方団体控）'!Q177=\"\",\"\",'保険料申告内訳名簿（一人親方団体控）'!Q177)","v":""},{"$f":"IF('保険料申告内訳名簿（一人親方団体控）'!R177=\"\",\"\",'保険料申告内訳名簿（一人親方団体控）'!R177)","v":""},{"$f":"IF('保険料申告内訳名簿（一人親方団体控）'!S177=\"\",\"\",'保険料申告内訳名簿（一人親方団体控）'!S177)","v":0},{"$f":"IF('保険料申告内訳名簿（一人親方団体控）'!T177=\"\",\"\",'保険料申告内訳名簿（一人親方団体控）'!T177)","v":""},{"$f":"IF('保険料申告内訳名簿（一人親方団体控）'!U177=\"\",\"\",'保険料申告内訳名簿（一人親方団体控）'!U177)","v":""},{"$f":"IF('保険料申告内訳名簿（一人親方団体控）'!V177=\"\",\"\",'保険料申告内訳名簿（一人親方団体控）'!V177)","v":""},{"$f":"IF('保険料申告内訳名簿（一人親方団体控）'!W177=\"\",\"\",'保険料申告内訳名簿（一人親方団体控）'!W177)","v":""},{"$f":"IF('保険料申告内訳名簿（一人親方団体控）'!X177=\"\",\"\",'保険料申告内訳名簿（一人親方団体控）'!X177)","v":""},{"$f":"IF('保険料申告内訳名簿（一人親方団体控）'!Y177=\"\",\"\",'保険料申告内訳名簿（一人親方団体控）'!Y177)","v":""},{"$f":"IF('保険料申告内訳名簿（一人親方団体控）'!Z177=\"\",\"\",'保険料申告内訳名簿（一人親方団体控）'!Z177)","v":""},{"$f":"IF('保険料申告内訳名簿（一人親方団体控）'!AA177=\"\",\"\",'保険料申告内訳名簿（一人親方団体控）'!AA177)","v":""},{"$f":"IF('保険料申告内訳名簿（一人親方団体控）'!AB177=\"\",\"\",'保険料申告内訳名簿（一人親方団体控）'!AB177)","v":""},{"$f":"IF('保険料申告内訳名簿（一人親方団体控）'!AC177=\"\",\"\",'保険料申告内訳名簿（一人親方団体控）'!AC177)","v":0},{"$f":"IF('保険料申告内訳名簿（一人親方団体控）'!AD177=\"\",\"\",'保険料申告内訳名簿（一人親方団体控）'!AD177)","v":""},{"$f":"IF('保険料申告内訳名簿（一人親方団体控）'!AE177=\"\",\"\",'保険料申告内訳名簿（一人親方団体控）'!AE177)","v":""},{"$f":"IF('保険料申告内訳名簿（一人親方団体控）'!AF177=\"\",\"\",'保険料申告内訳名簿（一人親方団体控）'!AF177)","v":""},{"$f":"IF('保険料申告内訳名簿（一人親方団体控）'!AG177=\"\",\"\",'保険料申告内訳名簿（一人親方団体控）'!AG177)","v":""},{"$f":"IF('保険料申告内訳名簿（一人親方団体控）'!AH177=\"\",\"\",'保険料申告内訳名簿（一人親方団体控）'!AH177)","v":""}]
[null,{"$f":"IF('保険料申告内訳名簿（一人親方団体控）'!B178=\"\",\"\",'保険料申告内訳名簿（一人親方団体控）'!B178)","v":""},{"$f":"IF('保険料申告内訳名簿（一人親方団体控）'!C178=\"\",\"\",'保険料申告内訳名簿（一人親方団体控）'!C178)","v":""},{"$f":"IF('保険料申告内訳名簿（一人親方団体控）'!D178=\"\",\"\",'保険料申告内訳名簿（一人親方団体控）'!D178)","v":""},{"$f":"IF('保険料申告内訳名簿（一人親方団体控）'!E178=\"\",\"\",'保険料申告内訳名簿（一人親方団体控）'!E178)","v":""},{"$f":"IF('保険料申告内訳名簿（一人親方団体控）'!F178=\"\",\"\",'保険料申告内訳名簿（一人親方団体控）'!F178)","v":""},{"$f":"IF('保険料申告内訳名簿（一人親方団体控）'!G178=\"\",\"\",'保険料申告内訳名簿（一人親方団体控）'!G178)","v":""},{"$f":"IF('保険料申告内訳名簿（一人親方団体控）'!H178=\"\",\"\",'保険料申告内訳名簿（一人親方団体控）'!H178)","v":""},{"$f":"IF('保険料申告内訳名簿（一人親方団体控）'!I178=\"\",\"\",'保険料申告内訳名簿（一人親方団体控）'!I178)","v":""},{"$f":"IF('保険料申告内訳名簿（一人親方団体控）'!J178=\"\",\"\",'保険料申告内訳名簿（一人親方団体控）'!J178)","v":""},{"$f":"IF('保険料申告内訳名簿（一人親方団体控）'!K178=\"\",\"\",'保険料申告内訳名簿（一人親方団体控）'!K178)","v":""},{"$f":"IF('保険料申告内訳名簿（一人親方団体控）'!L178=\"\",\"\",'保険料申告内訳名簿（一人親方団体控）'!L178)","v":""},{"$f":"IF('保険料申告内訳名簿（一人親方団体控）'!M178=\"\",\"\",'保険料申告内訳名簿（一人親方団体控）'!M178)","v":""},{"$f":"IF('保険料申告内訳名簿（一人親方団体控）'!N178=\"\",\"\",'保険料申告内訳名簿（一人親方団体控）'!N178)","v":""},{"$f":"IF('保険料申告内訳名簿（一人親方団体控）'!O178=\"\",\"\",'保険料申告内訳名簿（一人親方団体控）'!O178)","v":""},{"$f":"IF('保険料申告内訳名簿（一人親方団体控）'!P178=\"\",\"\",'保険料申告内訳名簿（一人親方団体控）'!P178)","v":""},{"$f":"IF('保険料申告内訳名簿（一人親方団体控）'!Q178=\"\",\"\",'保険料申告内訳名簿（一人親方団体控）'!Q178)","v":""},{"$f":"IF('保険料申告内訳名簿（一人親方団体控）'!R178=\"\",\"\",'保険料申告内訳名簿（一人親方団体控）'!R178)","v":""},{"$f":"IF('保険料申告内訳名簿（一人親方団体控）'!S178=\"\",\"\",'保険料申告内訳名簿（一人親方団体控）'!S178)","v":0},{"$f":"IF('保険料申告内訳名簿（一人親方団体控）'!T178=\"\",\"\",'保険料申告内訳名簿（一人親方団体控）'!T178)","v":""},{"$f":"IF('保険料申告内訳名簿（一人親方団体控）'!U178=\"\",\"\",'保険料申告内訳名簿（一人親方団体控）'!U178)","v":""},{"$f":"IF('保険料申告内訳名簿（一人親方団体控）'!V178=\"\",\"\",'保険料申告内訳名簿（一人親方団体控）'!V178)","v":""},{"$f":"IF('保険料申告内訳名簿（一人親方団体控）'!W178=\"\",\"\",'保険料申告内訳名簿（一人親方団体控）'!W178)","v":""},{"$f":"IF('保険料申告内訳名簿（一人親方団体控）'!X178=\"\",\"\",'保険料申告内訳名簿（一人親方団体控）'!X178)","v":""},{"$f":"IF('保険料申告内訳名簿（一人親方団体控）'!Y178=\"\",\"\",'保険料申告内訳名簿（一人親方団体控）'!Y178)","v":""},{"$f":"IF('保険料申告内訳名簿（一人親方団体控）'!Z178=\"\",\"\",'保険料申告内訳名簿（一人親方団体控）'!Z178)","v":""},{"$f":"IF('保険料申告内訳名簿（一人親方団体控）'!AA178=\"\",\"\",'保険料申告内訳名簿（一人親方団体控）'!AA178)","v":""},{"$f":"IF('保険料申告内訳名簿（一人親方団体控）'!AB178=\"\",\"\",'保険料申告内訳名簿（一人親方団体控）'!AB178)","v":""},{"$f":"IF('保険料申告内訳名簿（一人親方団体控）'!AC178=\"\",\"\",'保険料申告内訳名簿（一人親方団体控）'!AC178)","v":0},{"$f":"IF('保険料申告内訳名簿（一人親方団体控）'!AD178=\"\",\"\",'保険料申告内訳名簿（一人親方団体控）'!AD178)","v":""},{"$f":"IF('保険料申告内訳名簿（一人親方団体控）'!AE178=\"\",\"\",'保険料申告内訳名簿（一人親方団体控）'!AE178)","v":""},{"$f":"IF('保険料申告内訳名簿（一人親方団体控）'!AF178=\"\",\"\",'保険料申告内訳名簿（一人親方団体控）'!AF178)","v":""},{"$f":"IF('保険料申告内訳名簿（一人親方団体控）'!AG178=\"\",\"\",'保険料申告内訳名簿（一人親方団体控）'!AG178)","v":""},{"$f":"IF('保険料申告内訳名簿（一人親方団体控）'!AH178=\"\",\"\",'保険料申告内訳名簿（一人親方団体控）'!AH178)","v":""}]
[null,{"$f":"IF('保険料申告内訳名簿（一人親方団体控）'!B179=\"\",\"\",'保険料申告内訳名簿（一人親方団体控）'!B179)","v":""},{"$f":"IF('保険料申告内訳名簿（一人親方団体控）'!C179=\"\",\"\",'保険料申告内訳名簿（一人親方団体控）'!C179)","v":""},{"$f":"IF('保険料申告内訳名簿（一人親方団体控）'!D179=\"\",\"\",'保険料申告内訳名簿（一人親方団体控）'!D179)","v":""},{"$f":"IF('保険料申告内訳名簿（一人親方団体控）'!E179=\"\",\"\",'保険料申告内訳名簿（一人親方団体控）'!E179)","v":""},{"$f":"IF('保険料申告内訳名簿（一人親方団体控）'!F179=\"\",\"\",'保険料申告内訳名簿（一人親方団体控）'!F179)","v":""},{"$f":"IF('保険料申告内訳名簿（一人親方団体控）'!G179=\"\",\"\",'保険料申告内訳名簿（一人親方団体控）'!G179)","v":""},{"$f":"IF('保険料申告内訳名簿（一人親方団体控）'!H179=\"\",\"\",'保険料申告内訳名簿（一人親方団体控）'!H179)","v":""},{"$f":"IF('保険料申告内訳名簿（一人親方団体控）'!I179=\"\",\"\",'保険料申告内訳名簿（一人親方団体控）'!I179)","v":""},{"$f":"IF('保険料申告内訳名簿（一人親方団体控）'!J179=\"\",\"\",'保険料申告内訳名簿（一人親方団体控）'!J179)","v":""},{"$f":"IF('保険料申告内訳名簿（一人親方団体控）'!K179=\"\",\"\",'保険料申告内訳名簿（一人親方団体控）'!K179)","v":""},{"$f":"IF('保険料申告内訳名簿（一人親方団体控）'!L179=\"\",\"\",'保険料申告内訳名簿（一人親方団体控）'!L179)","v":""},{"$f":"IF('保険料申告内訳名簿（一人親方団体控）'!M179=\"\",\"\",'保険料申告内訳名簿（一人親方団体控）'!M179)","v":""},{"$f":"IF('保険料申告内訳名簿（一人親方団体控）'!N179=\"\",\"\",'保険料申告内訳名簿（一人親方団体控）'!N179)","v":""},{"$f":"IF('保険料申告内訳名簿（一人親方団体控）'!O179=\"\",\"\",'保険料申告内訳名簿（一人親方団体控）'!O179)","v":""},{"$f":"IF('保険料申告内訳名簿（一人親方団体控）'!P179=\"\",\"\",'保険料申告内訳名簿（一人親方団体控）'!P179)","v":""},{"$f":"IF('保険料申告内訳名簿（一人親方団体控）'!Q179=\"\",\"\",'保険料申告内訳名簿（一人親方団体控）'!Q179)","v":""},{"$f":"IF('保険料申告内訳名簿（一人親方団体控）'!R179=\"\",\"\",'保険料申告内訳名簿（一人親方団体控）'!R179)","v":""},{"$f":"IF('保険料申告内訳名簿（一人親方団体控）'!S179=\"\",\"\",'保険料申告内訳名簿（一人親方団体控）'!S179)","v":0},{"$f":"IF('保険料申告内訳名簿（一人親方団体控）'!T179=\"\",\"\",'保険料申告内訳名簿（一人親方団体控）'!T179)","v":""},{"$f":"IF('保険料申告内訳名簿（一人親方団体控）'!U179=\"\",\"\",'保険料申告内訳名簿（一人親方団体控）'!U179)","v":""},{"$f":"IF('保険料申告内訳名簿（一人親方団体控）'!V179=\"\",\"\",'保険料申告内訳名簿（一人親方団体控）'!V179)","v":""},{"$f":"IF('保険料申告内訳名簿（一人親方団体控）'!W179=\"\",\"\",'保険料申告内訳名簿（一人親方団体控）'!W179)","v":""},{"$f":"IF('保険料申告内訳名簿（一人親方団体控）'!X179=\"\",\"\",'保険料申告内訳名簿（一人親方団体控）'!X179)","v":""},{"$f":"IF('保険料申告内訳名簿（一人親方団体控）'!Y179=\"\",\"\",'保険料申告内訳名簿（一人親方団体控）'!Y179)","v":""},{"$f":"IF('保険料申告内訳名簿（一人親方団体控）'!Z179=\"\",\"\",'保険料申告内訳名簿（一人親方団体控）'!Z179)","v":""},{"$f":"IF('保険料申告内訳名簿（一人親方団体控）'!AA179=\"\",\"\",'保険料申告内訳名簿（一人親方団体控）'!AA179)","v":""},{"$f":"IF('保険料申告内訳名簿（一人親方団体控）'!AB179=\"\",\"\",'保険料申告内訳名簿（一人親方団体控）'!AB179)","v":""},{"$f":"IF('保険料申告内訳名簿（一人親方団体控）'!AC179=\"\",\"\",'保険料申告内訳名簿（一人親方団体控）'!AC179)","v":0},{"$f":"IF('保険料申告内訳名簿（一人親方団体控）'!AD179=\"\",\"\",'保険料申告内訳名簿（一人親方団体控）'!AD179)","v":""},{"$f":"IF('保険料申告内訳名簿（一人親方団体控）'!AE179=\"\",\"\",'保険料申告内訳名簿（一人親方団体控）'!AE179)","v":""},{"$f":"IF('保険料申告内訳名簿（一人親方団体控）'!AF179=\"\",\"\",'保険料申告内訳名簿（一人親方団体控）'!AF179)","v":""},{"$f":"IF('保険料申告内訳名簿（一人親方団体控）'!AG179=\"\",\"\",'保険料申告内訳名簿（一人親方団体控）'!AG179)","v":""},{"$f":"IF('保険料申告内訳名簿（一人親方団体控）'!AH179=\"\",\"\",'保険料申告内訳名簿（一人親方団体控）'!AH179)","v":""}]
[null,{"$f":"IF('保険料申告内訳名簿（一人親方団体控）'!B180=\"\",\"\",'保険料申告内訳名簿（一人親方団体控）'!B180)","v":""},{"$f":"IF('保険料申告内訳名簿（一人親方団体控）'!C180=\"\",\"\",'保険料申告内訳名簿（一人親方団体控）'!C180)","v":""},{"$f":"IF('保険料申告内訳名簿（一人親方団体控）'!D180=\"\",\"\",'保険料申告内訳名簿（一人親方団体控）'!D180)","v":""},{"$f":"IF('保険料申告内訳名簿（一人親方団体控）'!E180=\"\",\"\",'保険料申告内訳名簿（一人親方団体控）'!E180)","v":""},{"$f":"IF('保険料申告内訳名簿（一人親方団体控）'!F180=\"\",\"\",'保険料申告内訳名簿（一人親方団体控）'!F180)","v":""},{"$f":"IF('保険料申告内訳名簿（一人親方団体控）'!G180=\"\",\"\",'保険料申告内訳名簿（一人親方団体控）'!G180)","v":""},{"$f":"IF('保険料申告内訳名簿（一人親方団体控）'!H180=\"\",\"\",'保険料申告内訳名簿（一人親方団体控）'!H180)","v":""},{"$f":"IF('保険料申告内訳名簿（一人親方団体控）'!I180=\"\",\"\",'保険料申告内訳名簿（一人親方団体控）'!I180)","v":""},{"$f":"IF('保険料申告内訳名簿（一人親方団体控）'!J180=\"\",\"\",'保険料申告内訳名簿（一人親方団体控）'!J180)","v":""},{"$f":"IF('保険料申告内訳名簿（一人親方団体控）'!K180=\"\",\"\",'保険料申告内訳名簿（一人親方団体控）'!K180)","v":""},{"$f":"IF('保険料申告内訳名簿（一人親方団体控）'!L180=\"\",\"\",'保険料申告内訳名簿（一人親方団体控）'!L180)","v":""},{"$f":"IF('保険料申告内訳名簿（一人親方団体控）'!M180=\"\",\"\",'保険料申告内訳名簿（一人親方団体控）'!M180)","v":""},{"$f":"IF('保険料申告内訳名簿（一人親方団体控）'!N180=\"\",\"\",'保険料申告内訳名簿（一人親方団体控）'!N180)","v":""},{"$f":"IF('保険料申告内訳名簿（一人親方団体控）'!O180=\"\",\"\",'保険料申告内訳名簿（一人親方団体控）'!O180)","v":""},{"$f":"IF('保険料申告内訳名簿（一人親方団体控）'!P180=\"\",\"\",'保険料申告内訳名簿（一人親方団体控）'!P180)","v":""},{"$f":"IF('保険料申告内訳名簿（一人親方団体控）'!Q180=\"\",\"\",'保険料申告内訳名簿（一人親方団体控）'!Q180)","v":""},{"$f":"IF('保険料申告内訳名簿（一人親方団体控）'!R180=\"\",\"\",'保険料申告内訳名簿（一人親方団体控）'!R180)","v":""},{"$f":"IF('保険料申告内訳名簿（一人親方団体控）'!S180=\"\",\"\",'保険料申告内訳名簿（一人親方団体控）'!S180)","v":0},{"$f":"IF('保険料申告内訳名簿（一人親方団体控）'!T180=\"\",\"\",'保険料申告内訳名簿（一人親方団体控）'!T180)","v":""},{"$f":"IF('保険料申告内訳名簿（一人親方団体控）'!U180=\"\",\"\",'保険料申告内訳名簿（一人親方団体控）'!U180)","v":""},{"$f":"IF('保険料申告内訳名簿（一人親方団体控）'!V180=\"\",\"\",'保険料申告内訳名簿（一人親方団体控）'!V180)","v":""},{"$f":"IF('保険料申告内訳名簿（一人親方団体控）'!W180=\"\",\"\",'保険料申告内訳名簿（一人親方団体控）'!W180)","v":""},{"$f":"IF('保険料申告内訳名簿（一人親方団体控）'!X180=\"\",\"\",'保険料申告内訳名簿（一人親方団体控）'!X180)","v":""},{"$f":"IF('保険料申告内訳名簿（一人親方団体控）'!Y180=\"\",\"\",'保険料申告内訳名簿（一人親方団体控）'!Y180)","v":""},{"$f":"IF('保険料申告内訳名簿（一人親方団体控）'!Z180=\"\",\"\",'保険料申告内訳名簿（一人親方団体控）'!Z180)","v":""},{"$f":"IF('保険料申告内訳名簿（一人親方団体控）'!AA180=\"\",\"\",'保険料申告内訳名簿（一人親方団体控）'!AA180)","v":""},{"$f":"IF('保険料申告内訳名簿（一人親方団体控）'!AB180=\"\",\"\",'保険料申告内訳名簿（一人親方団体控）'!AB180)","v":""},{"$f":"IF('保険料申告内訳名簿（一人親方団体控）'!AC180=\"\",\"\",'保険料申告内訳名簿（一人親方団体控）'!AC180)","v":0},{"$f":"IF('保険料申告内訳名簿（一人親方団体控）'!AD180=\"\",\"\",'保険料申告内訳名簿（一人親方団体控）'!AD180)","v":""},{"$f":"IF('保険料申告内訳名簿（一人親方団体控）'!AE180=\"\",\"\",'保険料申告内訳名簿（一人親方団体控）'!AE180)","v":""},{"$f":"IF('保険料申告内訳名簿（一人親方団体控）'!AF180=\"\",\"\",'保険料申告内訳名簿（一人親方団体控）'!AF180)","v":""},{"$f":"IF('保険料申告内訳名簿（一人親方団体控）'!AG180=\"\",\"\",'保険料申告内訳名簿（一人親方団体控）'!AG180)","v":""},{"$f":"IF('保険料申告内訳名簿（一人親方団体控）'!AH180=\"\",\"\",'保険料申告内訳名簿（一人親方団体控）'!AH180)","v":""}]
[null,{"$f":"IF('保険料申告内訳名簿（一人親方団体控）'!B181=\"\",\"\",'保険料申告内訳名簿（一人親方団体控）'!B181)","v":""},{"$f":"IF('保険料申告内訳名簿（一人親方団体控）'!C181=\"\",\"\",'保険料申告内訳名簿（一人親方団体控）'!C181)","v":""},{"$f":"IF('保険料申告内訳名簿（一人親方団体控）'!D181=\"\",\"\",'保険料申告内訳名簿（一人親方団体控）'!D181)","v":""},{"$f":"IF('保険料申告内訳名簿（一人親方団体控）'!E181=\"\",\"\",'保険料申告内訳名簿（一人親方団体控）'!E181)","v":""},{"$f":"IF('保険料申告内訳名簿（一人親方団体控）'!F181=\"\",\"\",'保険料申告内訳名簿（一人親方団体控）'!F181)","v":""},{"$f":"IF('保険料申告内訳名簿（一人親方団体控）'!G181=\"\",\"\",'保険料申告内訳名簿（一人親方団体控）'!G181)","v":""},{"$f":"IF('保険料申告内訳名簿（一人親方団体控）'!H181=\"\",\"\",'保険料申告内訳名簿（一人親方団体控）'!H181)","v":""},{"$f":"IF('保険料申告内訳名簿（一人親方団体控）'!I181=\"\",\"\",'保険料申告内訳名簿（一人親方団体控）'!I181)","v":""},{"$f":"IF('保険料申告内訳名簿（一人親方団体控）'!J181=\"\",\"\",'保険料申告内訳名簿（一人親方団体控）'!J181)","v":""},{"$f":"IF('保険料申告内訳名簿（一人親方団体控）'!K181=\"\",\"\",'保険料申告内訳名簿（一人親方団体控）'!K181)","v":""},{"$f":"IF('保険料申告内訳名簿（一人親方団体控）'!L181=\"\",\"\",'保険料申告内訳名簿（一人親方団体控）'!L181)","v":""},{"$f":"IF('保険料申告内訳名簿（一人親方団体控）'!M181=\"\",\"\",'保険料申告内訳名簿（一人親方団体控）'!M181)","v":""},{"$f":"IF('保険料申告内訳名簿（一人親方団体控）'!N181=\"\",\"\",'保険料申告内訳名簿（一人親方団体控）'!N181)","v":""},{"$f":"IF('保険料申告内訳名簿（一人親方団体控）'!O181=\"\",\"\",'保険料申告内訳名簿（一人親方団体控）'!O181)","v":""},{"$f":"IF('保険料申告内訳名簿（一人親方団体控）'!P181=\"\",\"\",'保険料申告内訳名簿（一人親方団体控）'!P181)","v":""},{"$f":"IF('保険料申告内訳名簿（一人親方団体控）'!Q181=\"\",\"\",'保険料申告内訳名簿（一人親方団体控）'!Q181)","v":""},{"$f":"IF('保険料申告内訳名簿（一人親方団体控）'!R181=\"\",\"\",'保険料申告内訳名簿（一人親方団体控）'!R181)","v":""},{"$f":"IF('保険料申告内訳名簿（一人親方団体控）'!S181=\"\",\"\",'保険料申告内訳名簿（一人親方団体控）'!S181)","v":0},{"$f":"IF('保険料申告内訳名簿（一人親方団体控）'!T181=\"\",\"\",'保険料申告内訳名簿（一人親方団体控）'!T181)","v":""},{"$f":"IF('保険料申告内訳名簿（一人親方団体控）'!U181=\"\",\"\",'保険料申告内訳名簿（一人親方団体控）'!U181)","v":""},{"$f":"IF('保険料申告内訳名簿（一人親方団体控）'!V181=\"\",\"\",'保険料申告内訳名簿（一人親方団体控）'!V181)","v":""},{"$f":"IF('保険料申告内訳名簿（一人親方団体控）'!W181=\"\",\"\",'保険料申告内訳名簿（一人親方団体控）'!W181)","v":""},{"$f":"IF('保険料申告内訳名簿（一人親方団体控）'!X181=\"\",\"\",'保険料申告内訳名簿（一人親方団体控）'!X181)","v":""},{"$f":"IF('保険料申告内訳名簿（一人親方団体控）'!Y181=\"\",\"\",'保険料申告内訳名簿（一人親方団体控）'!Y181)","v":""},{"$f":"IF('保険料申告内訳名簿（一人親方団体控）'!Z181=\"\",\"\",'保険料申告内訳名簿（一人親方団体控）'!Z181)","v":""},{"$f":"IF('保険料申告内訳名簿（一人親方団体控）'!AA181=\"\",\"\",'保険料申告内訳名簿（一人親方団体控）'!AA181)","v":""},{"$f":"IF('保険料申告内訳名簿（一人親方団体控）'!AB181=\"\",\"\",'保険料申告内訳名簿（一人親方団体控）'!AB181)","v":""},{"$f":"IF('保険料申告内訳名簿（一人親方団体控）'!AC181=\"\",\"\",'保険料申告内訳名簿（一人親方団体控）'!AC181)","v":0},{"$f":"IF('保険料申告内訳名簿（一人親方団体控）'!AD181=\"\",\"\",'保険料申告内訳名簿（一人親方団体控）'!AD181)","v":""},{"$f":"IF('保険料申告内訳名簿（一人親方団体控）'!AE181=\"\",\"\",'保険料申告内訳名簿（一人親方団体控）'!AE181)","v":""},{"$f":"IF('保険料申告内訳名簿（一人親方団体控）'!AF181=\"\",\"\",'保険料申告内訳名簿（一人親方団体控）'!AF181)","v":""},{"$f":"IF('保険料申告内訳名簿（一人親方団体控）'!AG181=\"\",\"\",'保険料申告内訳名簿（一人親方団体控）'!AG181)","v":""},{"$f":"IF('保険料申告内訳名簿（一人親方団体控）'!AH181=\"\",\"\",'保険料申告内訳名簿（一人親方団体控）'!AH181)","v":""}]
[null,{"$f":"IF('保険料申告内訳名簿（一人親方団体控）'!B182=\"\",\"\",'保険料申告内訳名簿（一人親方団体控）'!B182)","v":""},{"$f":"IF('保険料申告内訳名簿（一人親方団体控）'!C182=\"\",\"\",'保険料申告内訳名簿（一人親方団体控）'!C182)","v":""},{"$f":"IF('保険料申告内訳名簿（一人親方団体控）'!D182=\"\",\"\",'保険料申告内訳名簿（一人親方団体控）'!D182)","v":""},{"$f":"IF('保険料申告内訳名簿（一人親方団体控）'!E182=\"\",\"\",'保険料申告内訳名簿（一人親方団体控）'!E182)","v":""},{"$f":"IF('保険料申告内訳名簿（一人親方団体控）'!F182=\"\",\"\",'保険料申告内訳名簿（一人親方団体控）'!F182)","v":""},{"$f":"IF('保険料申告内訳名簿（一人親方団体控）'!G182=\"\",\"\",'保険料申告内訳名簿（一人親方団体控）'!G182)","v":""},{"$f":"IF('保険料申告内訳名簿（一人親方団体控）'!H182=\"\",\"\",'保険料申告内訳名簿（一人親方団体控）'!H182)","v":""},{"$f":"IF('保険料申告内訳名簿（一人親方団体控）'!I182=\"\",\"\",'保険料申告内訳名簿（一人親方団体控）'!I182)","v":""},{"$f":"IF('保険料申告内訳名簿（一人親方団体控）'!J182=\"\",\"\",'保険料申告内訳名簿（一人親方団体控）'!J182)","v":""},{"$f":"IF('保険料申告内訳名簿（一人親方団体控）'!K182=\"\",\"\",'保険料申告内訳名簿（一人親方団体控）'!K182)","v":""},{"$f":"IF('保険料申告内訳名簿（一人親方団体控）'!L182=\"\",\"\",'保険料申告内訳名簿（一人親方団体控）'!L182)","v":""},{"$f":"IF('保険料申告内訳名簿（一人親方団体控）'!M182=\"\",\"\",'保険料申告内訳名簿（一人親方団体控）'!M182)","v":""},{"$f":"IF('保険料申告内訳名簿（一人親方団体控）'!N182=\"\",\"\",'保険料申告内訳名簿（一人親方団体控）'!N182)","v":""},{"$f":"IF('保険料申告内訳名簿（一人親方団体控）'!O182=\"\",\"\",'保険料申告内訳名簿（一人親方団体控）'!O182)","v":""},{"$f":"IF('保険料申告内訳名簿（一人親方団体控）'!P182=\"\",\"\",'保険料申告内訳名簿（一人親方団体控）'!P182)","v":""},{"$f":"IF('保険料申告内訳名簿（一人親方団体控）'!Q182=\"\",\"\",'保険料申告内訳名簿（一人親方団体控）'!Q182)","v":""},{"$f":"IF('保険料申告内訳名簿（一人親方団体控）'!R182=\"\",\"\",'保険料申告内訳名簿（一人親方団体控）'!R182)","v":""},{"$f":"IF('保険料申告内訳名簿（一人親方団体控）'!S182=\"\",\"\",'保険料申告内訳名簿（一人親方団体控）'!S182)","v":0},{"$f":"IF('保険料申告内訳名簿（一人親方団体控）'!T182=\"\",\"\",'保険料申告内訳名簿（一人親方団体控）'!T182)","v":""},{"$f":"IF('保険料申告内訳名簿（一人親方団体控）'!U182=\"\",\"\",'保険料申告内訳名簿（一人親方団体控）'!U182)","v":""},{"$f":"IF('保険料申告内訳名簿（一人親方団体控）'!V182=\"\",\"\",'保険料申告内訳名簿（一人親方団体控）'!V182)","v":""},{"$f":"IF('保険料申告内訳名簿（一人親方団体控）'!W182=\"\",\"\",'保険料申告内訳名簿（一人親方団体控）'!W182)","v":""},{"$f":"IF('保険料申告内訳名簿（一人親方団体控）'!X182=\"\",\"\",'保険料申告内訳名簿（一人親方団体控）'!X182)","v":""},{"$f":"IF('保険料申告内訳名簿（一人親方団体控）'!Y182=\"\",\"\",'保険料申告内訳名簿（一人親方団体控）'!Y182)","v":""},{"$f":"IF('保険料申告内訳名簿（一人親方団体控）'!Z182=\"\",\"\",'保険料申告内訳名簿（一人親方団体控）'!Z182)","v":""},{"$f":"IF('保険料申告内訳名簿（一人親方団体控）'!AA182=\"\",\"\",'保険料申告内訳名簿（一人親方団体控）'!AA182)","v":""},{"$f":"IF('保険料申告内訳名簿（一人親方団体控）'!AB182=\"\",\"\",'保険料申告内訳名簿（一人親方団体控）'!AB182)","v":""},{"$f":"IF('保険料申告内訳名簿（一人親方団体控）'!AC182=\"\",\"\",'保険料申告内訳名簿（一人親方団体控）'!AC182)","v":0},{"$f":"IF('保険料申告内訳名簿（一人親方団体控）'!AD182=\"\",\"\",'保険料申告内訳名簿（一人親方団体控）'!AD182)","v":""},{"$f":"IF('保険料申告内訳名簿（一人親方団体控）'!AE182=\"\",\"\",'保険料申告内訳名簿（一人親方団体控）'!AE182)","v":""},{"$f":"IF('保険料申告内訳名簿（一人親方団体控）'!AF182=\"\",\"\",'保険料申告内訳名簿（一人親方団体控）'!AF182)","v":""},{"$f":"IF('保険料申告内訳名簿（一人親方団体控）'!AG182=\"\",\"\",'保険料申告内訳名簿（一人親方団体控）'!AG182)","v":""},{"$f":"IF('保険料申告内訳名簿（一人親方団体控）'!AH182=\"\",\"\",'保険料申告内訳名簿（一人親方団体控）'!AH182)","v":""}]
[null,{"$f":"IF('保険料申告内訳名簿（一人親方団体控）'!B183=\"\",\"\",'保険料申告内訳名簿（一人親方団体控）'!B183)","v":""},{"$f":"IF('保険料申告内訳名簿（一人親方団体控）'!C183=\"\",\"\",'保険料申告内訳名簿（一人親方団体控）'!C183)","v":""},{"$f":"IF('保険料申告内訳名簿（一人親方団体控）'!D183=\"\",\"\",'保険料申告内訳名簿（一人親方団体控）'!D183)","v":""},{"$f":"IF('保険料申告内訳名簿（一人親方団体控）'!E183=\"\",\"\",'保険料申告内訳名簿（一人親方団体控）'!E183)","v":""},{"$f":"IF('保険料申告内訳名簿（一人親方団体控）'!F183=\"\",\"\",'保険料申告内訳名簿（一人親方団体控）'!F183)","v":""},{"$f":"IF('保険料申告内訳名簿（一人親方団体控）'!G183=\"\",\"\",'保険料申告内訳名簿（一人親方団体控）'!G183)","v":""},{"$f":"IF('保険料申告内訳名簿（一人親方団体控）'!H183=\"\",\"\",'保険料申告内訳名簿（一人親方団体控）'!H183)","v":""},{"$f":"IF('保険料申告内訳名簿（一人親方団体控）'!I183=\"\",\"\",'保険料申告内訳名簿（一人親方団体控）'!I183)","v":""},{"$f":"IF('保険料申告内訳名簿（一人親方団体控）'!J183=\"\",\"\",'保険料申告内訳名簿（一人親方団体控）'!J183)","v":""},{"$f":"IF('保険料申告内訳名簿（一人親方団体控）'!K183=\"\",\"\",'保険料申告内訳名簿（一人親方団体控）'!K183)","v":""},{"$f":"IF('保険料申告内訳名簿（一人親方団体控）'!L183=\"\",\"\",'保険料申告内訳名簿（一人親方団体控）'!L183)","v":""},{"$f":"IF('保険料申告内訳名簿（一人親方団体控）'!M183=\"\",\"\",'保険料申告内訳名簿（一人親方団体控）'!M183)","v":""},{"$f":"IF('保険料申告内訳名簿（一人親方団体控）'!N183=\"\",\"\",'保険料申告内訳名簿（一人親方団体控）'!N183)","v":""},{"$f":"IF('保険料申告内訳名簿（一人親方団体控）'!O183=\"\",\"\",'保険料申告内訳名簿（一人親方団体控）'!O183)","v":""},{"$f":"IF('保険料申告内訳名簿（一人親方団体控）'!P183=\"\",\"\",'保険料申告内訳名簿（一人親方団体控）'!P183)","v":""},{"$f":"IF('保険料申告内訳名簿（一人親方団体控）'!Q183=\"\",\"\",'保険料申告内訳名簿（一人親方団体控）'!Q183)","v":""},{"$f":"IF('保険料申告内訳名簿（一人親方団体控）'!R183=\"\",\"\",'保険料申告内訳名簿（一人親方団体控）'!R183)","v":""},{"$f":"IF('保険料申告内訳名簿（一人親方団体控）'!S183=\"\",\"\",'保険料申告内訳名簿（一人親方団体控）'!S183)","v":0},{"$f":"IF('保険料申告内訳名簿（一人親方団体控）'!T183=\"\",\"\",'保険料申告内訳名簿（一人親方団体控）'!T183)","v":""},{"$f":"IF('保険料申告内訳名簿（一人親方団体控）'!U183=\"\",\"\",'保険料申告内訳名簿（一人親方団体控）'!U183)","v":""},{"$f":"IF('保険料申告内訳名簿（一人親方団体控）'!V183=\"\",\"\",'保険料申告内訳名簿（一人親方団体控）'!V183)","v":""},{"$f":"IF('保険料申告内訳名簿（一人親方団体控）'!W183=\"\",\"\",'保険料申告内訳名簿（一人親方団体控）'!W183)","v":""},{"$f":"IF('保険料申告内訳名簿（一人親方団体控）'!X183=\"\",\"\",'保険料申告内訳名簿（一人親方団体控）'!X183)","v":""},{"$f":"IF('保険料申告内訳名簿（一人親方団体控）'!Y183=\"\",\"\",'保険料申告内訳名簿（一人親方団体控）'!Y183)","v":""},{"$f":"IF('保険料申告内訳名簿（一人親方団体控）'!Z183=\"\",\"\",'保険料申告内訳名簿（一人親方団体控）'!Z183)","v":""},{"$f":"IF('保険料申告内訳名簿（一人親方団体控）'!AA183=\"\",\"\",'保険料申告内訳名簿（一人親方団体控）'!AA183)","v":""},{"$f":"IF('保険料申告内訳名簿（一人親方団体控）'!AB183=\"\",\"\",'保険料申告内訳名簿（一人親方団体控）'!AB183)","v":""},{"$f":"IF('保険料申告内訳名簿（一人親方団体控）'!AC183=\"\",\"\",'保険料申告内訳名簿（一人親方団体控）'!AC183)","v":0},{"$f":"IF('保険料申告内訳名簿（一人親方団体控）'!AD183=\"\",\"\",'保険料申告内訳名簿（一人親方団体控）'!AD183)","v":""},{"$f":"IF('保険料申告内訳名簿（一人親方団体控）'!AE183=\"\",\"\",'保険料申告内訳名簿（一人親方団体控）'!AE183)","v":""},{"$f":"IF('保険料申告内訳名簿（一人親方団体控）'!AF183=\"\",\"\",'保険料申告内訳名簿（一人親方団体控）'!AF183)","v":""},{"$f":"IF('保険料申告内訳名簿（一人親方団体控）'!AG183=\"\",\"\",'保険料申告内訳名簿（一人親方団体控）'!AG183)","v":""},{"$f":"IF('保険料申告内訳名簿（一人親方団体控）'!AH183=\"\",\"\",'保険料申告内訳名簿（一人親方団体控）'!AH183)","v":""}]
[null,{"$f":"IF('保険料申告内訳名簿（一人親方団体控）'!B184=\"\",\"\",'保険料申告内訳名簿（一人親方団体控）'!B184)","v":""},{"$f":"IF('保険料申告内訳名簿（一人親方団体控）'!C184=\"\",\"\",'保険料申告内訳名簿（一人親方団体控）'!C184)","v":""},{"$f":"IF('保険料申告内訳名簿（一人親方団体控）'!D184=\"\",\"\",'保険料申告内訳名簿（一人親方団体控）'!D184)","v":""},{"$f":"IF('保険料申告内訳名簿（一人親方団体控）'!E184=\"\",\"\",'保険料申告内訳名簿（一人親方団体控）'!E184)","v":""},{"$f":"IF('保険料申告内訳名簿（一人親方団体控）'!F184=\"\",\"\",'保険料申告内訳名簿（一人親方団体控）'!F184)","v":""},{"$f":"IF('保険料申告内訳名簿（一人親方団体控）'!G184=\"\",\"\",'保険料申告内訳名簿（一人親方団体控）'!G184)","v":""},{"$f":"IF('保険料申告内訳名簿（一人親方団体控）'!H184=\"\",\"\",'保険料申告内訳名簿（一人親方団体控）'!H184)","v":""},{"$f":"IF('保険料申告内訳名簿（一人親方団体控）'!I184=\"\",\"\",'保険料申告内訳名簿（一人親方団体控）'!I184)","v":""},{"$f":"IF('保険料申告内訳名簿（一人親方団体控）'!J184=\"\",\"\",'保険料申告内訳名簿（一人親方団体控）'!J184)","v":""},{"$f":"IF('保険料申告内訳名簿（一人親方団体控）'!K184=\"\",\"\",'保険料申告内訳名簿（一人親方団体控）'!K184)","v":""},{"$f":"IF('保険料申告内訳名簿（一人親方団体控）'!L184=\"\",\"\",'保険料申告内訳名簿（一人親方団体控）'!L184)","v":""},{"$f":"IF('保険料申告内訳名簿（一人親方団体控）'!M184=\"\",\"\",'保険料申告内訳名簿（一人親方団体控）'!M184)","v":""},{"$f":"IF('保険料申告内訳名簿（一人親方団体控）'!N184=\"\",\"\",'保険料申告内訳名簿（一人親方団体控）'!N184)","v":""},{"$f":"IF('保険料申告内訳名簿（一人親方団体控）'!O184=\"\",\"\",'保険料申告内訳名簿（一人親方団体控）'!O184)","v":""},{"$f":"IF('保険料申告内訳名簿（一人親方団体控）'!P184=\"\",\"\",'保険料申告内訳名簿（一人親方団体控）'!P184)","v":""},{"$f":"IF('保険料申告内訳名簿（一人親方団体控）'!Q184=\"\",\"\",'保険料申告内訳名簿（一人親方団体控）'!Q184)","v":""},{"$f":"IF('保険料申告内訳名簿（一人親方団体控）'!R184=\"\",\"\",'保険料申告内訳名簿（一人親方団体控）'!R184)","v":""},{"$f":"IF('保険料申告内訳名簿（一人親方団体控）'!S184=\"\",\"\",'保険料申告内訳名簿（一人親方団体控）'!S184)","v":0},{"$f":"IF('保険料申告内訳名簿（一人親方団体控）'!T184=\"\",\"\",'保険料申告内訳名簿（一人親方団体控）'!T184)","v":""},{"$f":"IF('保険料申告内訳名簿（一人親方団体控）'!U184=\"\",\"\",'保険料申告内訳名簿（一人親方団体控）'!U184)","v":""},{"$f":"IF('保険料申告内訳名簿（一人親方団体控）'!V184=\"\",\"\",'保険料申告内訳名簿（一人親方団体控）'!V184)","v":""},{"$f":"IF('保険料申告内訳名簿（一人親方団体控）'!W184=\"\",\"\",'保険料申告内訳名簿（一人親方団体控）'!W184)","v":""},{"$f":"IF('保険料申告内訳名簿（一人親方団体控）'!X184=\"\",\"\",'保険料申告内訳名簿（一人親方団体控）'!X184)","v":""},{"$f":"IF('保険料申告内訳名簿（一人親方団体控）'!Y184=\"\",\"\",'保険料申告内訳名簿（一人親方団体控）'!Y184)","v":""},{"$f":"IF('保険料申告内訳名簿（一人親方団体控）'!Z184=\"\",\"\",'保険料申告内訳名簿（一人親方団体控）'!Z184)","v":""},{"$f":"IF('保険料申告内訳名簿（一人親方団体控）'!AA184=\"\",\"\",'保険料申告内訳名簿（一人親方団体控）'!AA184)","v":""},{"$f":"IF('保険料申告内訳名簿（一人親方団体控）'!AB184=\"\",\"\",'保険料申告内訳名簿（一人親方団体控）'!AB184)","v":""},{"$f":"IF('保険料申告内訳名簿（一人親方団体控）'!AC184=\"\",\"\",'保険料申告内訳名簿（一人親方団体控）'!AC184)","v":0},{"$f":"IF('保険料申告内訳名簿（一人親方団体控）'!AD184=\"\",\"\",'保険料申告内訳名簿（一人親方団体控）'!AD184)","v":""},{"$f":"IF('保険料申告内訳名簿（一人親方団体控）'!AE184=\"\",\"\",'保険料申告内訳名簿（一人親方団体控）'!AE184)","v":""},{"$f":"IF('保険料申告内訳名簿（一人親方団体控）'!AF184=\"\",\"\",'保険料申告内訳名簿（一人親方団体控）'!AF184)","v":""},{"$f":"IF('保険料申告内訳名簿（一人親方団体控）'!AG184=\"\",\"\",'保険料申告内訳名簿（一人親方団体控）'!AG184)","v":""},{"$f":"IF('保険料申告内訳名簿（一人親方団体控）'!AH184=\"\",\"\",'保険料申告内訳名簿（一人親方団体控）'!AH184)","v":""}]
[null,{"$f":"IF('保険料申告内訳名簿（一人親方団体控）'!B185=\"\",\"\",'保険料申告内訳名簿（一人親方団体控）'!B185)","v":""},{"$f":"IF('保険料申告内訳名簿（一人親方団体控）'!C185=\"\",\"\",'保険料申告内訳名簿（一人親方団体控）'!C185)","v":""},{"$f":"IF('保険料申告内訳名簿（一人親方団体控）'!D185=\"\",\"\",'保険料申告内訳名簿（一人親方団体控）'!D185)","v":""},{"$f":"IF('保険料申告内訳名簿（一人親方団体控）'!E185=\"\",\"\",'保険料申告内訳名簿（一人親方団体控）'!E185)","v":""},{"$f":"IF('保険料申告内訳名簿（一人親方団体控）'!F185=\"\",\"\",'保険料申告内訳名簿（一人親方団体控）'!F185)","v":""},{"$f":"IF('保険料申告内訳名簿（一人親方団体控）'!G185=\"\",\"\",'保険料申告内訳名簿（一人親方団体控）'!G185)","v":""},{"$f":"IF('保険料申告内訳名簿（一人親方団体控）'!H185=\"\",\"\",'保険料申告内訳名簿（一人親方団体控）'!H185)","v":""},{"$f":"IF('保険料申告内訳名簿（一人親方団体控）'!I185=\"\",\"\",'保険料申告内訳名簿（一人親方団体控）'!I185)","v":""},{"$f":"IF('保険料申告内訳名簿（一人親方団体控）'!J185=\"\",\"\",'保険料申告内訳名簿（一人親方団体控）'!J185)","v":""},{"$f":"IF('保険料申告内訳名簿（一人親方団体控）'!K185=\"\",\"\",'保険料申告内訳名簿（一人親方団体控）'!K185)","v":""},{"$f":"IF('保険料申告内訳名簿（一人親方団体控）'!L185=\"\",\"\",'保険料申告内訳名簿（一人親方団体控）'!L185)","v":""},{"$f":"IF('保険料申告内訳名簿（一人親方団体控）'!M185=\"\",\"\",'保険料申告内訳名簿（一人親方団体控）'!M185)","v":""},{"$f":"IF('保険料申告内訳名簿（一人親方団体控）'!N185=\"\",\"\",'保険料申告内訳名簿（一人親方団体控）'!N185)","v":""},{"$f":"IF('保険料申告内訳名簿（一人親方団体控）'!O185=\"\",\"\",'保険料申告内訳名簿（一人親方団体控）'!O185)","v":""},{"$f":"IF('保険料申告内訳名簿（一人親方団体控）'!P185=\"\",\"\",'保険料申告内訳名簿（一人親方団体控）'!P185)","v":""},{"$f":"IF('保険料申告内訳名簿（一人親方団体控）'!Q185=\"\",\"\",'保険料申告内訳名簿（一人親方団体控）'!Q185)","v":""},{"$f":"IF('保険料申告内訳名簿（一人親方団体控）'!R185=\"\",\"\",'保険料申告内訳名簿（一人親方団体控）'!R185)","v":""},{"$f":"IF('保険料申告内訳名簿（一人親方団体控）'!S185=\"\",\"\",'保険料申告内訳名簿（一人親方団体控）'!S185)","v":0},{"$f":"IF('保険料申告内訳名簿（一人親方団体控）'!T185=\"\",\"\",'保険料申告内訳名簿（一人親方団体控）'!T185)","v":""},{"$f":"IF('保険料申告内訳名簿（一人親方団体控）'!U185=\"\",\"\",'保険料申告内訳名簿（一人親方団体控）'!U185)","v":""},{"$f":"IF('保険料申告内訳名簿（一人親方団体控）'!V185=\"\",\"\",'保険料申告内訳名簿（一人親方団体控）'!V185)","v":""},{"$f":"IF('保険料申告内訳名簿（一人親方団体控）'!W185=\"\",\"\",'保険料申告内訳名簿（一人親方団体控）'!W185)","v":""},{"$f":"IF('保険料申告内訳名簿（一人親方団体控）'!X185=\"\",\"\",'保険料申告内訳名簿（一人親方団体控）'!X185)","v":""},{"$f":"IF('保険料申告内訳名簿（一人親方団体控）'!Y185=\"\",\"\",'保険料申告内訳名簿（一人親方団体控）'!Y185)","v":""},{"$f":"IF('保険料申告内訳名簿（一人親方団体控）'!Z185=\"\",\"\",'保険料申告内訳名簿（一人親方団体控）'!Z185)","v":""},{"$f":"IF('保険料申告内訳名簿（一人親方団体控）'!AA185=\"\",\"\",'保険料申告内訳名簿（一人親方団体控）'!AA185)","v":""},{"$f":"IF('保険料申告内訳名簿（一人親方団体控）'!AB185=\"\",\"\",'保険料申告内訳名簿（一人親方団体控）'!AB185)","v":""},{"$f":"IF('保険料申告内訳名簿（一人親方団体控）'!AC185=\"\",\"\",'保険料申告内訳名簿（一人親方団体控）'!AC185)","v":0},{"$f":"IF('保険料申告内訳名簿（一人親方団体控）'!AD185=\"\",\"\",'保険料申告内訳名簿（一人親方団体控）'!AD185)","v":""},{"$f":"IF('保険料申告内訳名簿（一人親方団体控）'!AE185=\"\",\"\",'保険料申告内訳名簿（一人親方団体控）'!AE185)","v":""},{"$f":"IF('保険料申告内訳名簿（一人親方団体控）'!AF185=\"\",\"\",'保険料申告内訳名簿（一人親方団体控）'!AF185)","v":""},{"$f":"IF('保険料申告内訳名簿（一人親方団体控）'!AG185=\"\",\"\",'保険料申告内訳名簿（一人親方団体控）'!AG185)","v":""},{"$f":"IF('保険料申告内訳名簿（一人親方団体控）'!AH185=\"\",\"\",'保険料申告内訳名簿（一人親方団体控）'!AH185)","v":""}]
[null,{"$f":"IF('保険料申告内訳名簿（一人親方団体控）'!B186=\"\",\"\",'保険料申告内訳名簿（一人親方団体控）'!B186)","v":""},{"$f":"IF('保険料申告内訳名簿（一人親方団体控）'!C186=\"\",\"\",'保険料申告内訳名簿（一人親方団体控）'!C186)","v":""},{"$f":"IF('保険料申告内訳名簿（一人親方団体控）'!D186=\"\",\"\",'保険料申告内訳名簿（一人親方団体控）'!D186)","v":""},{"$f":"IF('保険料申告内訳名簿（一人親方団体控）'!E186=\"\",\"\",'保険料申告内訳名簿（一人親方団体控）'!E186)","v":""},{"$f":"IF('保険料申告内訳名簿（一人親方団体控）'!F186=\"\",\"\",'保険料申告内訳名簿（一人親方団体控）'!F186)","v":""},{"$f":"IF('保険料申告内訳名簿（一人親方団体控）'!G186=\"\",\"\",'保険料申告内訳名簿（一人親方団体控）'!G186)","v":""},{"$f":"IF('保険料申告内訳名簿（一人親方団体控）'!H186=\"\",\"\",'保険料申告内訳名簿（一人親方団体控）'!H186)","v":""},{"$f":"IF('保険料申告内訳名簿（一人親方団体控）'!I186=\"\",\"\",'保険料申告内訳名簿（一人親方団体控）'!I186)","v":""},{"$f":"IF('保険料申告内訳名簿（一人親方団体控）'!J186=\"\",\"\",'保険料申告内訳名簿（一人親方団体控）'!J186)","v":""},{"$f":"IF('保険料申告内訳名簿（一人親方団体控）'!K186=\"\",\"\",'保険料申告内訳名簿（一人親方団体控）'!K186)","v":""},{"$f":"IF('保険料申告内訳名簿（一人親方団体控）'!L186=\"\",\"\",'保険料申告内訳名簿（一人親方団体控）'!L186)","v":""},{"$f":"IF('保険料申告内訳名簿（一人親方団体控）'!M186=\"\",\"\",'保険料申告内訳名簿（一人親方団体控）'!M186)","v":""},{"$f":"IF('保険料申告内訳名簿（一人親方団体控）'!N186=\"\",\"\",'保険料申告内訳名簿（一人親方団体控）'!N186)","v":""},{"$f":"IF('保険料申告内訳名簿（一人親方団体控）'!O186=\"\",\"\",'保険料申告内訳名簿（一人親方団体控）'!O186)","v":""},{"$f":"IF('保険料申告内訳名簿（一人親方団体控）'!P186=\"\",\"\",'保険料申告内訳名簿（一人親方団体控）'!P186)","v":""},{"$f":"IF('保険料申告内訳名簿（一人親方団体控）'!Q186=\"\",\"\",'保険料申告内訳名簿（一人親方団体控）'!Q186)","v":""},{"$f":"IF('保険料申告内訳名簿（一人親方団体控）'!R186=\"\",\"\",'保険料申告内訳名簿（一人親方団体控）'!R186)","v":""},{"$f":"IF('保険料申告内訳名簿（一人親方団体控）'!S186=\"\",\"\",'保険料申告内訳名簿（一人親方団体控）'!S186)","v":0},{"$f":"IF('保険料申告内訳名簿（一人親方団体控）'!T186=\"\",\"\",'保険料申告内訳名簿（一人親方団体控）'!T186)","v":""},{"$f":"IF('保険料申告内訳名簿（一人親方団体控）'!U186=\"\",\"\",'保険料申告内訳名簿（一人親方団体控）'!U186)","v":""},{"$f":"IF('保険料申告内訳名簿（一人親方団体控）'!V186=\"\",\"\",'保険料申告内訳名簿（一人親方団体控）'!V186)","v":""},{"$f":"IF('保険料申告内訳名簿（一人親方団体控）'!W186=\"\",\"\",'保険料申告内訳名簿（一人親方団体控）'!W186)","v":""},{"$f":"IF('保険料申告内訳名簿（一人親方団体控）'!X186=\"\",\"\",'保険料申告内訳名簿（一人親方団体控）'!X186)","v":""},{"$f":"IF('保険料申告内訳名簿（一人親方団体控）'!Y186=\"\",\"\",'保険料申告内訳名簿（一人親方団体控）'!Y186)","v":""},{"$f":"IF('保険料申告内訳名簿（一人親方団体控）'!Z186=\"\",\"\",'保険料申告内訳名簿（一人親方団体控）'!Z186)","v":""},{"$f":"IF('保険料申告内訳名簿（一人親方団体控）'!AA186=\"\",\"\",'保険料申告内訳名簿（一人親方団体控）'!AA186)","v":""},{"$f":"IF('保険料申告内訳名簿（一人親方団体控）'!AB186=\"\",\"\",'保険料申告内訳名簿（一人親方団体控）'!AB186)","v":""},{"$f":"IF('保険料申告内訳名簿（一人親方団体控）'!AC186=\"\",\"\",'保険料申告内訳名簿（一人親方団体控）'!AC186)","v":0},{"$f":"IF('保険料申告内訳名簿（一人親方団体控）'!AD186=\"\",\"\",'保険料申告内訳名簿（一人親方団体控）'!AD186)","v":""},{"$f":"IF('保険料申告内訳名簿（一人親方団体控）'!AE186=\"\",\"\",'保険料申告内訳名簿（一人親方団体控）'!AE186)","v":""},{"$f":"IF('保険料申告内訳名簿（一人親方団体控）'!AF186=\"\",\"\",'保険料申告内訳名簿（一人親方団体控）'!AF186)","v":""},{"$f":"IF('保険料申告内訳名簿（一人親方団体控）'!AG186=\"\",\"\",'保険料申告内訳名簿（一人親方団体控）'!AG186)","v":""},{"$f":"IF('保険料申告内訳名簿（一人親方団体控）'!AH186=\"\",\"\",'保険料申告内訳名簿（一人親方団体控）'!AH186)","v":""}]
[null,{"$f":"IF('保険料申告内訳名簿（一人親方団体控）'!B187=\"\",\"\",'保険料申告内訳名簿（一人親方団体控）'!B187)","v":""},{"$f":"IF('保険料申告内訳名簿（一人親方団体控）'!C187=\"\",\"\",'保険料申告内訳名簿（一人親方団体控）'!C187)","v":""},{"$f":"IF('保険料申告内訳名簿（一人親方団体控）'!D187=\"\",\"\",'保険料申告内訳名簿（一人親方団体控）'!D187)","v":""},{"$f":"IF('保険料申告内訳名簿（一人親方団体控）'!E187=\"\",\"\",'保険料申告内訳名簿（一人親方団体控）'!E187)","v":""},{"$f":"IF('保険料申告内訳名簿（一人親方団体控）'!F187=\"\",\"\",'保険料申告内訳名簿（一人親方団体控）'!F187)","v":""},{"$f":"IF('保険料申告内訳名簿（一人親方団体控）'!G187=\"\",\"\",'保険料申告内訳名簿（一人親方団体控）'!G187)","v":""},{"$f":"IF('保険料申告内訳名簿（一人親方団体控）'!H187=\"\",\"\",'保険料申告内訳名簿（一人親方団体控）'!H187)","v":""},{"$f":"IF('保険料申告内訳名簿（一人親方団体控）'!I187=\"\",\"\",'保険料申告内訳名簿（一人親方団体控）'!I187)","v":""},{"$f":"IF('保険料申告内訳名簿（一人親方団体控）'!J187=\"\",\"\",'保険料申告内訳名簿（一人親方団体控）'!J187)","v":""},{"$f":"IF('保険料申告内訳名簿（一人親方団体控）'!K187=\"\",\"\",'保険料申告内訳名簿（一人親方団体控）'!K187)","v":""},{"$f":"IF('保険料申告内訳名簿（一人親方団体控）'!L187=\"\",\"\",'保険料申告内訳名簿（一人親方団体控）'!L187)","v":""},{"$f":"IF('保険料申告内訳名簿（一人親方団体控）'!M187=\"\",\"\",'保険料申告内訳名簿（一人親方団体控）'!M187)","v":""},{"$f":"IF('保険料申告内訳名簿（一人親方団体控）'!N187=\"\",\"\",'保険料申告内訳名簿（一人親方団体控）'!N187)","v":""},{"$f":"IF('保険料申告内訳名簿（一人親方団体控）'!O187=\"\",\"\",'保険料申告内訳名簿（一人親方団体控）'!O187)","v":""},{"$f":"IF('保険料申告内訳名簿（一人親方団体控）'!P187=\"\",\"\",'保険料申告内訳名簿（一人親方団体控）'!P187)","v":""},{"$f":"IF('保険料申告内訳名簿（一人親方団体控）'!Q187=\"\",\"\",'保険料申告内訳名簿（一人親方団体控）'!Q187)","v":""},{"$f":"IF('保険料申告内訳名簿（一人親方団体控）'!R187=\"\",\"\",'保険料申告内訳名簿（一人親方団体控）'!R187)","v":""},{"$f":"IF('保険料申告内訳名簿（一人親方団体控）'!S187=\"\",\"\",'保険料申告内訳名簿（一人親方団体控）'!S187)","v":0},{"$f":"IF('保険料申告内訳名簿（一人親方団体控）'!T187=\"\",\"\",'保険料申告内訳名簿（一人親方団体控）'!T187)","v":""},{"$f":"IF('保険料申告内訳名簿（一人親方団体控）'!U187=\"\",\"\",'保険料申告内訳名簿（一人親方団体控）'!U187)","v":""},{"$f":"IF('保険料申告内訳名簿（一人親方団体控）'!V187=\"\",\"\",'保険料申告内訳名簿（一人親方団体控）'!V187)","v":""},{"$f":"IF('保険料申告内訳名簿（一人親方団体控）'!W187=\"\",\"\",'保険料申告内訳名簿（一人親方団体控）'!W187)","v":""},{"$f":"IF('保険料申告内訳名簿（一人親方団体控）'!X187=\"\",\"\",'保険料申告内訳名簿（一人親方団体控）'!X187)","v":""},{"$f":"IF('保険料申告内訳名簿（一人親方団体控）'!Y187=\"\",\"\",'保険料申告内訳名簿（一人親方団体控）'!Y187)","v":""},{"$f":"IF('保険料申告内訳名簿（一人親方団体控）'!Z187=\"\",\"\",'保険料申告内訳名簿（一人親方団体控）'!Z187)","v":""},{"$f":"IF('保険料申告内訳名簿（一人親方団体控）'!AA187=\"\",\"\",'保険料申告内訳名簿（一人親方団体控）'!AA187)","v":""},{"$f":"IF('保険料申告内訳名簿（一人親方団体控）'!AB187=\"\",\"\",'保険料申告内訳名簿（一人親方団体控）'!AB187)","v":""},{"$f":"IF('保険料申告内訳名簿（一人親方団体控）'!AC187=\"\",\"\",'保険料申告内訳名簿（一人親方団体控）'!AC187)","v":0},{"$f":"IF('保険料申告内訳名簿（一人親方団体控）'!AD187=\"\",\"\",'保険料申告内訳名簿（一人親方団体控）'!AD187)","v":""},{"$f":"IF('保険料申告内訳名簿（一人親方団体控）'!AE187=\"\",\"\",'保険料申告内訳名簿（一人親方団体控）'!AE187)","v":""},{"$f":"IF('保険料申告内訳名簿（一人親方団体控）'!AF187=\"\",\"\",'保険料申告内訳名簿（一人親方団体控）'!AF187)","v":""},{"$f":"IF('保険料申告内訳名簿（一人親方団体控）'!AG187=\"\",\"\",'保険料申告内訳名簿（一人親方団体控）'!AG187)","v":""},{"$f":"IF('保険料申告内訳名簿（一人親方団体控）'!AH187=\"\",\"\",'保険料申告内訳名簿（一人親方団体控）'!AH187)","v":""}]
[null,{"$f":"IF('保険料申告内訳名簿（一人親方団体控）'!B188=\"\",\"\",'保険料申告内訳名簿（一人親方団体控）'!B188)","v":""},{"$f":"IF('保険料申告内訳名簿（一人親方団体控）'!C188=\"\",\"\",'保険料申告内訳名簿（一人親方団体控）'!C188)","v":""},{"$f":"IF('保険料申告内訳名簿（一人親方団体控）'!D188=\"\",\"\",'保険料申告内訳名簿（一人親方団体控）'!D188)","v":""},{"$f":"IF('保険料申告内訳名簿（一人親方団体控）'!E188=\"\",\"\",'保険料申告内訳名簿（一人親方団体控）'!E188)","v":""},{"$f":"IF('保険料申告内訳名簿（一人親方団体控）'!F188=\"\",\"\",'保険料申告内訳名簿（一人親方団体控）'!F188)","v":""},{"$f":"IF('保険料申告内訳名簿（一人親方団体控）'!G188=\"\",\"\",'保険料申告内訳名簿（一人親方団体控）'!G188)","v":""},{"$f":"IF('保険料申告内訳名簿（一人親方団体控）'!H188=\"\",\"\",'保険料申告内訳名簿（一人親方団体控）'!H188)","v":""},{"$f":"IF('保険料申告内訳名簿（一人親方団体控）'!I188=\"\",\"\",'保険料申告内訳名簿（一人親方団体控）'!I188)","v":""},{"$f":"IF('保険料申告内訳名簿（一人親方団体控）'!J188=\"\",\"\",'保険料申告内訳名簿（一人親方団体控）'!J188)","v":""},{"$f":"IF('保険料申告内訳名簿（一人親方団体控）'!K188=\"\",\"\",'保険料申告内訳名簿（一人親方団体控）'!K188)","v":""},{"$f":"IF('保険料申告内訳名簿（一人親方団体控）'!L188=\"\",\"\",'保険料申告内訳名簿（一人親方団体控）'!L188)","v":""},{"$f":"IF('保険料申告内訳名簿（一人親方団体控）'!M188=\"\",\"\",'保険料申告内訳名簿（一人親方団体控）'!M188)","v":""},{"$f":"IF('保険料申告内訳名簿（一人親方団体控）'!N188=\"\",\"\",'保険料申告内訳名簿（一人親方団体控）'!N188)","v":""},{"$f":"IF('保険料申告内訳名簿（一人親方団体控）'!O188=\"\",\"\",'保険料申告内訳名簿（一人親方団体控）'!O188)","v":""},{"$f":"IF('保険料申告内訳名簿（一人親方団体控）'!P188=\"\",\"\",'保険料申告内訳名簿（一人親方団体控）'!P188)","v":""},{"$f":"IF('保険料申告内訳名簿（一人親方団体控）'!Q188=\"\",\"\",'保険料申告内訳名簿（一人親方団体控）'!Q188)","v":""},{"$f":"IF('保険料申告内訳名簿（一人親方団体控）'!R188=\"\",\"\",'保険料申告内訳名簿（一人親方団体控）'!R188)","v":""},{"$f":"IF('保険料申告内訳名簿（一人親方団体控）'!S188=\"\",\"\",'保険料申告内訳名簿（一人親方団体控）'!S188)","v":0},{"$f":"IF('保険料申告内訳名簿（一人親方団体控）'!T188=\"\",\"\",'保険料申告内訳名簿（一人親方団体控）'!T188)","v":""},{"$f":"IF('保険料申告内訳名簿（一人親方団体控）'!U188=\"\",\"\",'保険料申告内訳名簿（一人親方団体控）'!U188)","v":""},{"$f":"IF('保険料申告内訳名簿（一人親方団体控）'!V188=\"\",\"\",'保険料申告内訳名簿（一人親方団体控）'!V188)","v":""},{"$f":"IF('保険料申告内訳名簿（一人親方団体控）'!W188=\"\",\"\",'保険料申告内訳名簿（一人親方団体控）'!W188)","v":""},{"$f":"IF('保険料申告内訳名簿（一人親方団体控）'!X188=\"\",\"\",'保険料申告内訳名簿（一人親方団体控）'!X188)","v":""},{"$f":"IF('保険料申告内訳名簿（一人親方団体控）'!Y188=\"\",\"\",'保険料申告内訳名簿（一人親方団体控）'!Y188)","v":""},{"$f":"IF('保険料申告内訳名簿（一人親方団体控）'!Z188=\"\",\"\",'保険料申告内訳名簿（一人親方団体控）'!Z188)","v":""},{"$f":"IF('保険料申告内訳名簿（一人親方団体控）'!AA188=\"\",\"\",'保険料申告内訳名簿（一人親方団体控）'!AA188)","v":""},{"$f":"IF('保険料申告内訳名簿（一人親方団体控）'!AB188=\"\",\"\",'保険料申告内訳名簿（一人親方団体控）'!AB188)","v":""},{"$f":"IF('保険料申告内訳名簿（一人親方団体控）'!AC188=\"\",\"\",'保険料申告内訳名簿（一人親方団体控）'!AC188)","v":0},{"$f":"IF('保険料申告内訳名簿（一人親方団体控）'!AD188=\"\",\"\",'保険料申告内訳名簿（一人親方団体控）'!AD188)","v":""},{"$f":"IF('保険料申告内訳名簿（一人親方団体控）'!AE188=\"\",\"\",'保険料申告内訳名簿（一人親方団体控）'!AE188)","v":""},{"$f":"IF('保険料申告内訳名簿（一人親方団体控）'!AF188=\"\",\"\",'保険料申告内訳名簿（一人親方団体控）'!AF188)","v":""},{"$f":"IF('保険料申告内訳名簿（一人親方団体控）'!AG188=\"\",\"\",'保険料申告内訳名簿（一人親方団体控）'!AG188)","v":""},{"$f":"IF('保険料申告内訳名簿（一人親方団体控）'!AH188=\"\",\"\",'保険料申告内訳名簿（一人親方団体控）'!AH188)","v":""}]
[null,{"$f":"IF('保険料申告内訳名簿（一人親方団体控）'!B189=\"\",\"\",'保険料申告内訳名簿（一人親方団体控）'!B189)","v":""},{"$f":"IF('保険料申告内訳名簿（一人親方団体控）'!C189=\"\",\"\",'保険料申告内訳名簿（一人親方団体控）'!C189)","v":""},{"$f":"IF('保険料申告内訳名簿（一人親方団体控）'!D189=\"\",\"\",'保険料申告内訳名簿（一人親方団体控）'!D189)","v":""},{"$f":"IF('保険料申告内訳名簿（一人親方団体控）'!E189=\"\",\"\",'保険料申告内訳名簿（一人親方団体控）'!E189)","v":""},{"$f":"IF('保険料申告内訳名簿（一人親方団体控）'!F189=\"\",\"\",'保険料申告内訳名簿（一人親方団体控）'!F189)","v":""},{"$f":"IF('保険料申告内訳名簿（一人親方団体控）'!G189=\"\",\"\",'保険料申告内訳名簿（一人親方団体控）'!G189)","v":""},{"$f":"IF('保険料申告内訳名簿（一人親方団体控）'!H189=\"\",\"\",'保険料申告内訳名簿（一人親方団体控）'!H189)","v":""},{"$f":"IF('保険料申告内訳名簿（一人親方団体控）'!I189=\"\",\"\",'保険料申告内訳名簿（一人親方団体控）'!I189)","v":""},{"$f":"IF('保険料申告内訳名簿（一人親方団体控）'!J189=\"\",\"\",'保険料申告内訳名簿（一人親方団体控）'!J189)","v":""},{"$f":"IF('保険料申告内訳名簿（一人親方団体控）'!K189=\"\",\"\",'保険料申告内訳名簿（一人親方団体控）'!K189)","v":""},{"$f":"IF('保険料申告内訳名簿（一人親方団体控）'!L189=\"\",\"\",'保険料申告内訳名簿（一人親方団体控）'!L189)","v":""},{"$f":"IF('保険料申告内訳名簿（一人親方団体控）'!M189=\"\",\"\",'保険料申告内訳名簿（一人親方団体控）'!M189)","v":""},{"$f":"IF('保険料申告内訳名簿（一人親方団体控）'!N189=\"\",\"\",'保険料申告内訳名簿（一人親方団体控）'!N189)","v":""},{"$f":"IF('保険料申告内訳名簿（一人親方団体控）'!O189=\"\",\"\",'保険料申告内訳名簿（一人親方団体控）'!O189)","v":""},{"$f":"IF('保険料申告内訳名簿（一人親方団体控）'!P189=\"\",\"\",'保険料申告内訳名簿（一人親方団体控）'!P189)","v":""},{"$f":"IF('保険料申告内訳名簿（一人親方団体控）'!Q189=\"\",\"\",'保険料申告内訳名簿（一人親方団体控）'!Q189)","v":""},{"$f":"IF('保険料申告内訳名簿（一人親方団体控）'!R189=\"\",\"\",'保険料申告内訳名簿（一人親方団体控）'!R189)","v":""},{"$f":"IF('保険料申告内訳名簿（一人親方団体控）'!S189=\"\",\"\",'保険料申告内訳名簿（一人親方団体控）'!S189)","v":0},{"$f":"IF('保険料申告内訳名簿（一人親方団体控）'!T189=\"\",\"\",'保険料申告内訳名簿（一人親方団体控）'!T189)","v":""},{"$f":"IF('保険料申告内訳名簿（一人親方団体控）'!U189=\"\",\"\",'保険料申告内訳名簿（一人親方団体控）'!U189)","v":""},{"$f":"IF('保険料申告内訳名簿（一人親方団体控）'!V189=\"\",\"\",'保険料申告内訳名簿（一人親方団体控）'!V189)","v":""},{"$f":"IF('保険料申告内訳名簿（一人親方団体控）'!W189=\"\",\"\",'保険料申告内訳名簿（一人親方団体控）'!W189)","v":""},{"$f":"IF('保険料申告内訳名簿（一人親方団体控）'!X189=\"\",\"\",'保険料申告内訳名簿（一人親方団体控）'!X189)","v":""},{"$f":"IF('保険料申告内訳名簿（一人親方団体控）'!Y189=\"\",\"\",'保険料申告内訳名簿（一人親方団体控）'!Y189)","v":""},{"$f":"IF('保険料申告内訳名簿（一人親方団体控）'!Z189=\"\",\"\",'保険料申告内訳名簿（一人親方団体控）'!Z189)","v":""},{"$f":"IF('保険料申告内訳名簿（一人親方団体控）'!AA189=\"\",\"\",'保険料申告内訳名簿（一人親方団体控）'!AA189)","v":""},{"$f":"IF('保険料申告内訳名簿（一人親方団体控）'!AB189=\"\",\"\",'保険料申告内訳名簿（一人親方団体控）'!AB189)","v":""},{"$f":"IF('保険料申告内訳名簿（一人親方団体控）'!AC189=\"\",\"\",'保険料申告内訳名簿（一人親方団体控）'!AC189)","v":0},{"$f":"IF('保険料申告内訳名簿（一人親方団体控）'!AD189=\"\",\"\",'保険料申告内訳名簿（一人親方団体控）'!AD189)","v":""},{"$f":"IF('保険料申告内訳名簿（一人親方団体控）'!AE189=\"\",\"\",'保険料申告内訳名簿（一人親方団体控）'!AE189)","v":""},{"$f":"IF('保険料申告内訳名簿（一人親方団体控）'!AF189=\"\",\"\",'保険料申告内訳名簿（一人親方団体控）'!AF189)","v":""},{"$f":"IF('保険料申告内訳名簿（一人親方団体控）'!AG189=\"\",\"\",'保険料申告内訳名簿（一人親方団体控）'!AG189)","v":""},{"$f":"IF('保険料申告内訳名簿（一人親方団体控）'!AH189=\"\",\"\",'保険料申告内訳名簿（一人親方団体控）'!AH189)","v":""}]
[null,{"$f":"IF('保険料申告内訳名簿（一人親方団体控）'!B190=\"\",\"\",'保険料申告内訳名簿（一人親方団体控）'!B190)","v":""},{"$f":"IF('保険料申告内訳名簿（一人親方団体控）'!C190=\"\",\"\",'保険料申告内訳名簿（一人親方団体控）'!C190)","v":""},{"$f":"IF('保険料申告内訳名簿（一人親方団体控）'!D190=\"\",\"\",'保険料申告内訳名簿（一人親方団体控）'!D190)","v":""},{"$f":"IF('保険料申告内訳名簿（一人親方団体控）'!E190=\"\",\"\",'保険料申告内訳名簿（一人親方団体控）'!E190)","v":""},{"$f":"IF('保険料申告内訳名簿（一人親方団体控）'!F190=\"\",\"\",'保険料申告内訳名簿（一人親方団体控）'!F190)","v":""},{"$f":"IF('保険料申告内訳名簿（一人親方団体控）'!G190=\"\",\"\",'保険料申告内訳名簿（一人親方団体控）'!G190)","v":""},{"$f":"IF('保険料申告内訳名簿（一人親方団体控）'!H190=\"\",\"\",'保険料申告内訳名簿（一人親方団体控）'!H190)","v":""},{"$f":"IF('保険料申告内訳名簿（一人親方団体控）'!I190=\"\",\"\",'保険料申告内訳名簿（一人親方団体控）'!I190)","v":""},{"$f":"IF('保険料申告内訳名簿（一人親方団体控）'!J190=\"\",\"\",'保険料申告内訳名簿（一人親方団体控）'!J190)","v":""},{"$f":"IF('保険料申告内訳名簿（一人親方団体控）'!K190=\"\",\"\",'保険料申告内訳名簿（一人親方団体控）'!K190)","v":""},{"$f":"IF('保険料申告内訳名簿（一人親方団体控）'!L190=\"\",\"\",'保険料申告内訳名簿（一人親方団体控）'!L190)","v":""},{"$f":"IF('保険料申告内訳名簿（一人親方団体控）'!M190=\"\",\"\",'保険料申告内訳名簿（一人親方団体控）'!M190)","v":""},{"$f":"IF('保険料申告内訳名簿（一人親方団体控）'!N190=\"\",\"\",'保険料申告内訳名簿（一人親方団体控）'!N190)","v":""},{"$f":"IF('保険料申告内訳名簿（一人親方団体控）'!O190=\"\",\"\",'保険料申告内訳名簿（一人親方団体控）'!O190)","v":""},{"$f":"IF('保険料申告内訳名簿（一人親方団体控）'!P190=\"\",\"\",'保険料申告内訳名簿（一人親方団体控）'!P190)","v":""},{"$f":"IF('保険料申告内訳名簿（一人親方団体控）'!Q190=\"\",\"\",'保険料申告内訳名簿（一人親方団体控）'!Q190)","v":""},{"$f":"IF('保険料申告内訳名簿（一人親方団体控）'!R190=\"\",\"\",'保険料申告内訳名簿（一人親方団体控）'!R190)","v":""},{"$f":"IF('保険料申告内訳名簿（一人親方団体控）'!S190=\"\",\"\",'保険料申告内訳名簿（一人親方団体控）'!S190)","v":0},{"$f":"IF('保険料申告内訳名簿（一人親方団体控）'!T190=\"\",\"\",'保険料申告内訳名簿（一人親方団体控）'!T190)","v":""},{"$f":"IF('保険料申告内訳名簿（一人親方団体控）'!U190=\"\",\"\",'保険料申告内訳名簿（一人親方団体控）'!U190)","v":""},{"$f":"IF('保険料申告内訳名簿（一人親方団体控）'!V190=\"\",\"\",'保険料申告内訳名簿（一人親方団体控）'!V190)","v":""},{"$f":"IF('保険料申告内訳名簿（一人親方団体控）'!W190=\"\",\"\",'保険料申告内訳名簿（一人親方団体控）'!W190)","v":""},{"$f":"IF('保険料申告内訳名簿（一人親方団体控）'!X190=\"\",\"\",'保険料申告内訳名簿（一人親方団体控）'!X190)","v":""},{"$f":"IF('保険料申告内訳名簿（一人親方団体控）'!Y190=\"\",\"\",'保険料申告内訳名簿（一人親方団体控）'!Y190)","v":""},{"$f":"IF('保険料申告内訳名簿（一人親方団体控）'!Z190=\"\",\"\",'保険料申告内訳名簿（一人親方団体控）'!Z190)","v":""},{"$f":"IF('保険料申告内訳名簿（一人親方団体控）'!AA190=\"\",\"\",'保険料申告内訳名簿（一人親方団体控）'!AA190)","v":""},{"$f":"IF('保険料申告内訳名簿（一人親方団体控）'!AB190=\"\",\"\",'保険料申告内訳名簿（一人親方団体控）'!AB190)","v":""},{"$f":"IF('保険料申告内訳名簿（一人親方団体控）'!AC190=\"\",\"\",'保険料申告内訳名簿（一人親方団体控）'!AC190)","v":0},{"$f":"IF('保険料申告内訳名簿（一人親方団体控）'!AD190=\"\",\"\",'保険料申告内訳名簿（一人親方団体控）'!AD190)","v":""},{"$f":"IF('保険料申告内訳名簿（一人親方団体控）'!AE190=\"\",\"\",'保険料申告内訳名簿（一人親方団体控）'!AE190)","v":""},{"$f":"IF('保険料申告内訳名簿（一人親方団体控）'!AF190=\"\",\"\",'保険料申告内訳名簿（一人親方団体控）'!AF190)","v":""},{"$f":"IF('保険料申告内訳名簿（一人親方団体控）'!AG190=\"\",\"\",'保険料申告内訳名簿（一人親方団体控）'!AG190)","v":""},{"$f":"IF('保険料申告内訳名簿（一人親方団体控）'!AH190=\"\",\"\",'保険料申告内訳名簿（一人親方団体控）'!AH190)","v":""}]
[null,null,null,null,null,null,null,null,null,null,null,null,null,null,null,null,null,null,{"$f":"IF('保険料申告内訳名簿（一人親方団体控）'!S191=\"\",\"\",'保険料申告内訳名簿（一人親方団体控）'!S191)","v":0},{"$f":"IF('保険料申告内訳名簿（一人親方団体控）'!T191=\"\",\"\",'保険料申告内訳名簿（一人親方団体控）'!T191)","v":""},{"$f":"IF('保険料申告内訳名簿（一人親方団体控）'!U191=\"\",\"\",'保険料申告内訳名簿（一人親方団体控）'!U191)","v":""},{"$f":"IF('保険料申告内訳名簿（一人親方団体控）'!V191=\"\",\"\",'保険料申告内訳名簿（一人親方団体控）'!V191)","v":""},{"$f":"IF('保険料申告内訳名簿（一人親方団体控）'!W191=\"\",\"\",'保険料申告内訳名簿（一人親方団体控）'!W191)","v":""},{"$f":"IF('保険料申告内訳名簿（一人親方団体控）'!X191=\"\",\"\",'保険料申告内訳名簿（一人親方団体控）'!X191)","v":""},null,null,null,null,{"$f":"IF('保険料申告内訳名簿（一人親方団体控）'!AC191=\"\",\"\",'保険料申告内訳名簿（一人親方団体控）'!AC191)","v":0},{"$f":"IF('保険料申告内訳名簿（一人親方団体控）'!AD191=\"\",\"\",'保険料申告内訳名簿（一人親方団体控）'!AD191)","v":""},{"$f":"IF('保険料申告内訳名簿（一人親方団体控）'!AE191=\"\",\"\",'保険料申告内訳名簿（一人親方団体控）'!AE191)","v":""},{"$f":"IF('保険料申告内訳名簿（一人親方団体控）'!AF191=\"\",\"\",'保険料申告内訳名簿（一人親方団体控）'!AF191)","v":""},{"$f":"IF('保険料申告内訳名簿（一人親方団体控）'!AG191=\"\",\"\",'保険料申告内訳名簿（一人親方団体控）'!AG191)","v":""},{"$f":"IF('保険料申告内訳名簿（一人親方団体控）'!AH191=\"\",\"\",'保険料申告内訳名簿（一人親方団体控）'!AH191)","v":""}]
[]
[null,"（注）"]
[null,null,"１）　④欄は月割の対象となる方のみ記入して下さい。"]
[null,null,"２）　月割の対象となる場合の⑤保険料算定基礎額の算定方法"]
[null,null,"２）　月割の対象となる場合の③（給付基礎日額×365÷12）（円未満を切り上げてから）×加入月数"]
[]
[]
[null,"【島根局版】",null,null,null,null,null,null,null,null,null,null,null,null,null,null,null,null,null,null,null,null,null,null,null,null,"監督署用"]
[null,"第２種特別加入保険料申告内訳名簿"]
[null,"（一人親方等）"]
[null,null,null,null,null,null,null,null,null,null,null,null,null,null,null,null,null,null,null,null,null,null,null,null,"（",{"$f":"IF('保険料申告内訳名簿（一人親方団体控）'!Z202=\"\",\"\",'保険料申告内訳名簿（一人親方団体控）'!Z202)","v":0},{"$f":"IF('保険料申告内訳名簿（一人親方団体控）'!AA202=\"\",\"\",'保険料申告内訳名簿（一人親方団体控）'!AA202)","v":""},"枚のうち",null,{"$f":"IF('保険料申告内訳名簿（一人親方団体控）'!AD202=\"\",\"\",'保険料申告内訳名簿（一人親方団体控）'!AD202)","v":7},{"$f":"IF('保険料申告内訳名簿（一人親方団体控）'!AE202=\"\",\"\",'保険料申告内訳名簿（一人親方団体控）'!AE202)","v":""},"枚目",null,"）"]
[]
[null,"労働保険\n番　　　号",null,null,null,null,"府県",null,"所掌","管轄",null,"基幹番号",null,null,null,null,null,"枝番号",null,null,"事業場の\n所在地",null,null,{"$f":"IF('保険料申告内訳名簿（一人親方団体控）'!X204=\"\",\"\",'保険料申告内訳名簿（一人親方団体控）'!X204)","v":""},{"$f":"IF('保険料申告内訳名簿（一人親方団体控）'!Y204=\"\",\"\",'保険料申告内訳名簿（一人親方団体控）'!Y204)","v":""},{"$f":"IF('保険料申告内訳名簿（一人親方団体控）'!Z204=\"\",\"\",'保険料申告内訳名簿（一人親方団体控）'!Z204)","v":""},{"$f":"IF('保険料申告内訳名簿（一人親方団体控）'!AA204=\"\",\"\",'保険料申告内訳名簿（一人親方団体控）'!AA204)","v":""},{"$f":"IF('保険料申告内訳名簿（一人親方団体控）'!AB204=\"\",\"\",'保険料申告内訳名簿（一人親方団体控）'!AB204)","v":""},{"$f":"IF('保険料申告内訳名簿（一人親方団体控）'!AC204=\"\",\"\",'保険料申告内訳名簿（一人親方団体控）'!AC204)","v":""},{"$f":"IF('保険料申告内訳名簿（一人親方団体控）'!AD204=\"\",\"\",'保険料申告内訳名簿（一人親方団体控）'!AD204)","v":""},{"$f":"IF('保険料申告内訳名簿（一人親方団体控）'!AE204=\"\",\"\",'保険料申告内訳名簿（一人親方団体控）'!AE204)","v":""},{"$f":"IF('保険料申告内訳名簿（一人親方団体控）'!AF204=\"\",\"\",'保険料申告内訳名簿（一人親方団体控）'!AF204)","v":""},{"$f":"IF('保険料申告内訳名簿（一人親方団体控）'!AG204=\"\",\"\",'保険料申告内訳名簿（一人親方団体控）'!AG204)","v":""},{"$f":"IF('保険料申告内訳名簿（一人親方団体控）'!AH204=\"\",\"\",'保険料申告内訳名簿（一人親方団体控）'!AH204)","v":""}]
[null,null,null,null,null,null,"3","2",{"$f":"IF('保険料申告内訳名簿（一人親方団体控）'!I205=\"\",\"\",'保険料申告内訳名簿（一人親方団体控）'!I205)","v":""},{"$f":"IF('保険料申告内訳名簿（一人親方団体控）'!J205=\"\",\"\",'保険料申告内訳名簿（一人親方団体控）'!J205)","v":""},{"$f":"IF('保険料申告内訳名簿（一人親方団体控）'!K205=\"\",\"\",'保険料申告内訳名簿（一人親方団体控）'!K205)","v":""},{"$f":"IF('保険料申告内訳名簿（一人親方団体控）'!L205=\"\",\"\",'保険料申告内訳名簿（一人親方団体控）'!L205)","v":""},{"$f":"IF('保険料申告内訳名簿（一人親方団体控）'!M205=\"\",\"\",'保険料申告内訳名簿（一人親方団体控）'!M205)","v":""},{"$f":"IF('保険料申告内訳名簿（一人親方団体控）'!N205=\"\",\"\",'保険料申告内訳名簿（一人親方団体控）'!N205)","v":""},{"$f":"IF('保険料申告内訳名簿（一人親方団体控）'!O205=\"\",\"\",'保険料申告内訳名簿（一人親方団体控）'!O205)","v":""},{"$f":"IF('保険料申告内訳名簿（一人親方団体控）'!P205=\"\",\"\",'保険料申告内訳名簿（一人親方団体控）'!P205)","v":""},{"$f":"IF('保険料申告内訳名簿（一人親方団体控）'!Q205=\"\",\"\",'保険料申告内訳名簿（一人親方団体控）'!Q205)","v":""},{"$f":"IF('保険料申告内訳名簿（一人親方団体控）'!R205=\"\",\"\",'保険料申告内訳名簿（一人親方団体控）'!R205)","v":""},{"$f":"IF('保険料申告内訳名簿（一人親方団体控）'!S205=\"\",\"\",'保険料申告内訳名簿（一人親方団体控）'!S205)","v":""},{"$f":"IF('保険料申告内訳名簿（一人親方団体控）'!T205=\"\",\"\",'保険料申告内訳名簿（一人親方団体控）'!T205)","v":""},"事業場の\n名称",null,null,{"$f":"IF('保険料申告内訳名簿（一人親方団体控）'!X205=\"\",\"\",'保険料申告内訳名簿（一人親方団体控）'!X205)","v":""},{"$f":"IF('保険料申告内訳名簿（一人親方団体控）'!Y205=\"\",\"\",'保険料申告内訳名簿（一人親方団体控）'!Y205)","v":""},{"$f":"IF('保険料申告内訳名簿（一人親方団体控）'!Z205=\"\",\"\",'保険料申告内訳名簿（一人親方団体控）'!Z205)","v":""},{"$f":"IF('保険料申告内訳名簿（一人親方団体控）'!AA205=\"\",\"\",'保険料申告内訳名簿（一人親方団体控）'!AA205)","v":""},{"$f":"IF('保険料申告内訳名簿（一人親方団体控）'!AB205=\"\",\"\",'保険料申告内訳名簿（一人親方団体控）'!AB205)","v":""},{"$f":"IF('保険料申告内訳名簿（一人親方団体控）'!AC205=\"\",\"\",'保険料申告内訳名簿（一人親方団体控）'!AC205)","v":""},{"$f":"IF('保険料申告内訳名簿（一人親方団体控）'!AD205=\"\",\"\",'保険料申告内訳名簿（一人親方団体控）'!AD205)","v":""},{"$f":"IF('保険料申告内訳名簿（一人親方団体控）'!AE205=\"\",\"\",'保険料申告内訳名簿（一人親方団体控）'!AE205)","v":""},{"$f":"IF('保険料申告内訳名簿（一人親方団体控）'!AF205=\"\",\"\",'保険料申告内訳名簿（一人親方団体控）'!AF205)","v":""},{"$f":"IF('保険料申告内訳名簿（一人親方団体控）'!AG205=\"\",\"\",'保険料申告内訳名簿（一人親方団体控）'!AG205)","v":""},{"$f":"IF('保険料申告内訳名簿（一人親方団体控）'!AH205=\"\",\"\",'保険料申告内訳名簿（一人親方団体控）'!AH205)","v":""}]
[null,"①\n整理\n番号",null,"②\n氏名",null,null,null,null,null,null,null,null,null,null,"令 和",null,null,{"$f":"IF('保険料申告内訳名簿（一人親方団体控）'!R206=\"\",\"\",'保険料申告内訳名簿（一人親方団体控）'!R206)","v":""},{"$f":"IF('保険料申告内訳名簿（一人親方団体控）'!S206=\"\",\"\",'保険料申告内訳名簿（一人親方団体控）'!S206)","v":""},{"$f":"IF('保険料申告内訳名簿（一人親方団体控）'!T206=\"\",\"\",'保険料申告内訳名簿（一人親方団体控）'!T206)","v":""},null,null,null,"年 度 確 定 ","令 和",null,null,{"$f":"IF('保険料申告内訳名簿（一人親方団体控）'!AB206=\"\",\"\",'保険料申告内訳名簿（一人親方団体控）'!AB206)","v":""},{"$f":"IF('保険料申告内訳名簿（一人親方団体控）'!AC206=\"\",\"\",'保険料申告内訳名簿（一人親方団体控）'!AC206)","v":""},{"$f":"IF('保険料申告内訳名簿（一人親方団体控）'!AD206=\"\",\"\",'保険料申告内訳名簿（一人親方団体控）'!AD206)","v":""},null,null,null,"年 度 概 算 "]
[null,null,null,null,null,null,null,"③　\n給付基礎日額",null,null,null,"④年度中途加入・脱退",null,null,null,null,null,null,"⑤\n保険料算定基礎額",null,null,null,null,null,"⑥\n給付基礎日額",null,null,null,"⑦\n保険料算定基礎額"]
[null,null,null,null,null,null,null,null,null,null,null,"加入・脱退年月日",null,null,null,null,"加入月数"]
[null,{"$f":"IF('保険料申告内訳名簿（一人親方団体控）'!B209=\"\",\"\",'保険料申告内訳名簿（一人親方団体控）'!B209)","v":""},{"$f":"IF('保険料申告内訳名簿（一人親方団体控）'!C209=\"\",\"\",'保険料申告内訳名簿（一人親方団体控）'!C209)","v":""},{"$f":"IF('保険料申告内訳名簿（一人親方団体控）'!D209=\"\",\"\",'保険料申告内訳名簿（一人親方団体控）'!D209)","v":""},{"$f":"IF('保険料申告内訳名簿（一人親方団体控）'!E209=\"\",\"\",'保険料申告内訳名簿（一人親方団体控）'!E209)","v":""},{"$f":"IF('保険料申告内訳名簿（一人親方団体控）'!F209=\"\",\"\",'保険料申告内訳名簿（一人親方団体控）'!F209)","v":""},{"$f":"IF('保険料申告内訳名簿（一人親方団体控）'!G209=\"\",\"\",'保険料申告内訳名簿（一人親方団体控）'!G209)","v":""},{"$f":"IF('保険料申告内訳名簿（一人親方団体控）'!H209=\"\",\"\",'保険料申告内訳名簿（一人親方団体控）'!H209)","v":""},{"$f":"IF('保険料申告内訳名簿（一人親方団体控）'!I209=\"\",\"\",'保険料申告内訳名簿（一人親方団体控）'!I209)","v":""},{"$f":"IF('保険料申告内訳名簿（一人親方団体控）'!J209=\"\",\"\",'保険料申告内訳名簿（一人親方団体控）'!J209)","v":""},{"$f":"IF('保険料申告内訳名簿（一人親方団体控）'!K209=\"\",\"\",'保険料申告内訳名簿（一人親方団体控）'!K209)","v":""},{"$f":"IF('保険料申告内訳名簿（一人親方団体控）'!L209=\"\",\"\",'保険料申告内訳名簿（一人親方団体控）'!L209)","v":""},{"$f":"IF('保険料申告内訳名簿（一人親方団体控）'!M209=\"\",\"\",'保険料申告内訳名簿（一人親方団体控）'!M209)","v":""},{"$f":"IF('保険料申告内訳名簿（一人親方団体控）'!N209=\"\",\"\",'保険料申告内訳名簿（一人親方団体控）'!N209)","v":""},{"$f":"IF('保険料申告内訳名簿（一人親方団体控）'!O209=\"\",\"\",'保険料申告内訳名簿（一人親方団体控）'!O209)","v":""},{"$f":"IF('保険料申告内訳名簿（一人親方団体控）'!P209=\"\",\"\",'保険料申告内訳名簿（一人親方団体控）'!P209)","v":""},{"$f":"IF('保険料申告内訳名簿（一人親方団体控）'!Q209=\"\",\"\",'保険料申告内訳名簿（一人親方団体控）'!Q209)","v":""},{"$f":"IF('保険料申告内訳名簿（一人親方団体控）'!R209=\"\",\"\",'保険料申告内訳名簿（一人親方団体控）'!R209)","v":""},{"$f":"IF('保険料申告内訳名簿（一人親方団体控）'!S209=\"\",\"\",'保険料申告内訳名簿（一人親方団体控）'!S209)","v":0},{"$f":"IF('保険料申告内訳名簿（一人親方団体控）'!T209=\"\",\"\",'保険料申告内訳名簿（一人親方団体控）'!T209)","v":""},{"$f":"IF('保険料申告内訳名簿（一人親方団体控）'!U209=\"\",\"\",'保険料申告内訳名簿（一人親方団体控）'!U209)","v":""},{"$f":"IF('保険料申告内訳名簿（一人親方団体控）'!V209=\"\",\"\",'保険料申告内訳名簿（一人親方団体控）'!V209)","v":""},{"$f":"IF('保険料申告内訳名簿（一人親方団体控）'!W209=\"\",\"\",'保険料申告内訳名簿（一人親方団体控）'!W209)","v":""},{"$f":"IF('保険料申告内訳名簿（一人親方団体控）'!X209=\"\",\"\",'保険料申告内訳名簿（一人親方団体控）'!X209)","v":""},{"$f":"IF('保険料申告内訳名簿（一人親方団体控）'!Y209=\"\",\"\",'保険料申告内訳名簿（一人親方団体控）'!Y209)","v":""},{"$f":"IF('保険料申告内訳名簿（一人親方団体控）'!Z209=\"\",\"\",'保険料申告内訳名簿（一人親方団体控）'!Z209)","v":""},{"$f":"IF('保険料申告内訳名簿（一人親方団体控）'!AA209=\"\",\"\",'保険料申告内訳名簿（一人親方団体控）'!AA209)","v":""},{"$f":"IF('保険料申告内訳名簿（一人親方団体控）'!AB209=\"\",\"\",'保険料申告内訳名簿（一人親方団体控）'!AB209)","v":""},{"$f":"IF('保険料申告内訳名簿（一人親方団体控）'!AC209=\"\",\"\",'保険料申告内訳名簿（一人親方団体控）'!AC209)","v":0},{"$f":"IF('保険料申告内訳名簿（一人親方団体控）'!AD209=\"\",\"\",'保険料申告内訳名簿（一人親方団体控）'!AD209)","v":""},{"$f":"IF('保険料申告内訳名簿（一人親方団体控）'!AE209=\"\",\"\",'保険料申告内訳名簿（一人親方団体控）'!AE209)","v":""},{"$f":"IF('保険料申告内訳名簿（一人親方団体控）'!AF209=\"\",\"\",'保険料申告内訳名簿（一人親方団体控）'!AF209)","v":""},{"$f":"IF('保険料申告内訳名簿（一人親方団体控）'!AG209=\"\",\"\",'保険料申告内訳名簿（一人親方団体控）'!AG209)","v":""},{"$f":"IF('保険料申告内訳名簿（一人親方団体控）'!AH209=\"\",\"\",'保険料申告内訳名簿（一人親方団体控）'!AH209)","v":""}]
[null,{"$f":"IF('保険料申告内訳名簿（一人親方団体控）'!B210=\"\",\"\",'保険料申告内訳名簿（一人親方団体控）'!B210)","v":""},{"$f":"IF('保険料申告内訳名簿（一人親方団体控）'!C210=\"\",\"\",'保険料申告内訳名簿（一人親方団体控）'!C210)","v":""},{"$f":"IF('保険料申告内訳名簿（一人親方団体控）'!D210=\"\",\"\",'保険料申告内訳名簿（一人親方団体控）'!D210)","v":""},{"$f":"IF('保険料申告内訳名簿（一人親方団体控）'!E210=\"\",\"\",'保険料申告内訳名簿（一人親方団体控）'!E210)","v":""},{"$f":"IF('保険料申告内訳名簿（一人親方団体控）'!F210=\"\",\"\",'保険料申告内訳名簿（一人親方団体控）'!F210)","v":""},{"$f":"IF('保険料申告内訳名簿（一人親方団体控）'!G210=\"\",\"\",'保険料申告内訳名簿（一人親方団体控）'!G210)","v":""},{"$f":"IF('保険料申告内訳名簿（一人親方団体控）'!H210=\"\",\"\",'保険料申告内訳名簿（一人親方団体控）'!H210)","v":""},{"$f":"IF('保険料申告内訳名簿（一人親方団体控）'!I210=\"\",\"\",'保険料申告内訳名簿（一人親方団体控）'!I210)","v":""},{"$f":"IF('保険料申告内訳名簿（一人親方団体控）'!J210=\"\",\"\",'保険料申告内訳名簿（一人親方団体控）'!J210)","v":""},{"$f":"IF('保険料申告内訳名簿（一人親方団体控）'!K210=\"\",\"\",'保険料申告内訳名簿（一人親方団体控）'!K210)","v":""},{"$f":"IF('保険料申告内訳名簿（一人親方団体控）'!L210=\"\",\"\",'保険料申告内訳名簿（一人親方団体控）'!L210)","v":""},{"$f":"IF('保険料申告内訳名簿（一人親方団体控）'!M210=\"\",\"\",'保険料申告内訳名簿（一人親方団体控）'!M210)","v":""},{"$f":"IF('保険料申告内訳名簿（一人親方団体控）'!N210=\"\",\"\",'保険料申告内訳名簿（一人親方団体控）'!N210)","v":""},{"$f":"IF('保険料申告内訳名簿（一人親方団体控）'!O210=\"\",\"\",'保険料申告内訳名簿（一人親方団体控）'!O210)","v":""},{"$f":"IF('保険料申告内訳名簿（一人親方団体控）'!P210=\"\",\"\",'保険料申告内訳名簿（一人親方団体控）'!P210)","v":""},{"$f":"IF('保険料申告内訳名簿（一人親方団体控）'!Q210=\"\",\"\",'保険料申告内訳名簿（一人親方団体控）'!Q210)","v":""},{"$f":"IF('保険料申告内訳名簿（一人親方団体控）'!R210=\"\",\"\",'保険料申告内訳名簿（一人親方団体控）'!R210)","v":""},{"$f":"IF('保険料申告内訳名簿（一人親方団体控）'!S210=\"\",\"\",'保険料申告内訳名簿（一人親方団体控）'!S210)","v":0},{"$f":"IF('保険料申告内訳名簿（一人親方団体控）'!T210=\"\",\"\",'保険料申告内訳名簿（一人親方団体控）'!T210)","v":""},{"$f":"IF('保険料申告内訳名簿（一人親方団体控）'!U210=\"\",\"\",'保険料申告内訳名簿（一人親方団体控）'!U210)","v":""},{"$f":"IF('保険料申告内訳名簿（一人親方団体控）'!V210=\"\",\"\",'保険料申告内訳名簿（一人親方団体控）'!V210)","v":""},{"$f":"IF('保険料申告内訳名簿（一人親方団体控）'!W210=\"\",\"\",'保険料申告内訳名簿（一人親方団体控）'!W210)","v":""},{"$f":"IF('保険料申告内訳名簿（一人親方団体控）'!X210=\"\",\"\",'保険料申告内訳名簿（一人親方団体控）'!X210)","v":""},{"$f":"IF('保険料申告内訳名簿（一人親方団体控）'!Y210=\"\",\"\",'保険料申告内訳名簿（一人親方団体控）'!Y210)","v":""},{"$f":"IF('保険料申告内訳名簿（一人親方団体控）'!Z210=\"\",\"\",'保険料申告内訳名簿（一人親方団体控）'!Z210)","v":""},{"$f":"IF('保険料申告内訳名簿（一人親方団体控）'!AA210=\"\",\"\",'保険料申告内訳名簿（一人親方団体控）'!AA210)","v":""},{"$f":"IF('保険料申告内訳名簿（一人親方団体控）'!AB210=\"\",\"\",'保険料申告内訳名簿（一人親方団体控）'!AB210)","v":""},{"$f":"IF('保険料申告内訳名簿（一人親方団体控）'!AC210=\"\",\"\",'保険料申告内訳名簿（一人親方団体控）'!AC210)","v":0},{"$f":"IF('保険料申告内訳名簿（一人親方団体控）'!AD210=\"\",\"\",'保険料申告内訳名簿（一人親方団体控）'!AD210)","v":""},{"$f":"IF('保険料申告内訳名簿（一人親方団体控）'!AE210=\"\",\"\",'保険料申告内訳名簿（一人親方団体控）'!AE210)","v":""},{"$f":"IF('保険料申告内訳名簿（一人親方団体控）'!AF210=\"\",\"\",'保険料申告内訳名簿（一人親方団体控）'!AF210)","v":""},{"$f":"IF('保険料申告内訳名簿（一人親方団体控）'!AG210=\"\",\"\",'保険料申告内訳名簿（一人親方団体控）'!AG210)","v":""},{"$f":"IF('保険料申告内訳名簿（一人親方団体控）'!AH210=\"\",\"\",'保険料申告内訳名簿（一人親方団体控）'!AH210)","v":""}]
[null,{"$f":"IF('保険料申告内訳名簿（一人親方団体控）'!B211=\"\",\"\",'保険料申告内訳名簿（一人親方団体控）'!B211)","v":""},{"$f":"IF('保険料申告内訳名簿（一人親方団体控）'!C211=\"\",\"\",'保険料申告内訳名簿（一人親方団体控）'!C211)","v":""},{"$f":"IF('保険料申告内訳名簿（一人親方団体控）'!D211=\"\",\"\",'保険料申告内訳名簿（一人親方団体控）'!D211)","v":""},{"$f":"IF('保険料申告内訳名簿（一人親方団体控）'!E211=\"\",\"\",'保険料申告内訳名簿（一人親方団体控）'!E211)","v":""},{"$f":"IF('保険料申告内訳名簿（一人親方団体控）'!F211=\"\",\"\",'保険料申告内訳名簿（一人親方団体控）'!F211)","v":""},{"$f":"IF('保険料申告内訳名簿（一人親方団体控）'!G211=\"\",\"\",'保険料申告内訳名簿（一人親方団体控）'!G211)","v":""},{"$f":"IF('保険料申告内訳名簿（一人親方団体控）'!H211=\"\",\"\",'保険料申告内訳名簿（一人親方団体控）'!H211)","v":""},{"$f":"IF('保険料申告内訳名簿（一人親方団体控）'!I211=\"\",\"\",'保険料申告内訳名簿（一人親方団体控）'!I211)","v":""},{"$f":"IF('保険料申告内訳名簿（一人親方団体控）'!J211=\"\",\"\",'保険料申告内訳名簿（一人親方団体控）'!J211)","v":""},{"$f":"IF('保険料申告内訳名簿（一人親方団体控）'!K211=\"\",\"\",'保険料申告内訳名簿（一人親方団体控）'!K211)","v":""},{"$f":"IF('保険料申告内訳名簿（一人親方団体控）'!L211=\"\",\"\",'保険料申告内訳名簿（一人親方団体控）'!L211)","v":""},{"$f":"IF('保険料申告内訳名簿（一人親方団体控）'!M211=\"\",\"\",'保険料申告内訳名簿（一人親方団体控）'!M211)","v":""},{"$f":"IF('保険料申告内訳名簿（一人親方団体控）'!N211=\"\",\"\",'保険料申告内訳名簿（一人親方団体控）'!N211)","v":""},{"$f":"IF('保険料申告内訳名簿（一人親方団体控）'!O211=\"\",\"\",'保険料申告内訳名簿（一人親方団体控）'!O211)","v":""},{"$f":"IF('保険料申告内訳名簿（一人親方団体控）'!P211=\"\",\"\",'保険料申告内訳名簿（一人親方団体控）'!P211)","v":""},{"$f":"IF('保険料申告内訳名簿（一人親方団体控）'!Q211=\"\",\"\",'保険料申告内訳名簿（一人親方団体控）'!Q211)","v":""},{"$f":"IF('保険料申告内訳名簿（一人親方団体控）'!R211=\"\",\"\",'保険料申告内訳名簿（一人親方団体控）'!R211)","v":""},{"$f":"IF('保険料申告内訳名簿（一人親方団体控）'!S211=\"\",\"\",'保険料申告内訳名簿（一人親方団体控）'!S211)","v":0},{"$f":"IF('保険料申告内訳名簿（一人親方団体控）'!T211=\"\",\"\",'保険料申告内訳名簿（一人親方団体控）'!T211)","v":""},{"$f":"IF('保険料申告内訳名簿（一人親方団体控）'!U211=\"\",\"\",'保険料申告内訳名簿（一人親方団体控）'!U211)","v":""},{"$f":"IF('保険料申告内訳名簿（一人親方団体控）'!V211=\"\",\"\",'保険料申告内訳名簿（一人親方団体控）'!V211)","v":""},{"$f":"IF('保険料申告内訳名簿（一人親方団体控）'!W211=\"\",\"\",'保険料申告内訳名簿（一人親方団体控）'!W211)","v":""},{"$f":"IF('保険料申告内訳名簿（一人親方団体控）'!X211=\"\",\"\",'保険料申告内訳名簿（一人親方団体控）'!X211)","v":""},{"$f":"IF('保険料申告内訳名簿（一人親方団体控）'!Y211=\"\",\"\",'保険料申告内訳名簿（一人親方団体控）'!Y211)","v":""},{"$f":"IF('保険料申告内訳名簿（一人親方団体控）'!Z211=\"\",\"\",'保険料申告内訳名簿（一人親方団体控）'!Z211)","v":""},{"$f":"IF('保険料申告内訳名簿（一人親方団体控）'!AA211=\"\",\"\",'保険料申告内訳名簿（一人親方団体控）'!AA211)","v":""},{"$f":"IF('保険料申告内訳名簿（一人親方団体控）'!AB211=\"\",\"\",'保険料申告内訳名簿（一人親方団体控）'!AB211)","v":""},{"$f":"IF('保険料申告内訳名簿（一人親方団体控）'!AC211=\"\",\"\",'保険料申告内訳名簿（一人親方団体控）'!AC211)","v":0},{"$f":"IF('保険料申告内訳名簿（一人親方団体控）'!AD211=\"\",\"\",'保険料申告内訳名簿（一人親方団体控）'!AD211)","v":""},{"$f":"IF('保険料申告内訳名簿（一人親方団体控）'!AE211=\"\",\"\",'保険料申告内訳名簿（一人親方団体控）'!AE211)","v":""},{"$f":"IF('保険料申告内訳名簿（一人親方団体控）'!AF211=\"\",\"\",'保険料申告内訳名簿（一人親方団体控）'!AF211)","v":""},{"$f":"IF('保険料申告内訳名簿（一人親方団体控）'!AG211=\"\",\"\",'保険料申告内訳名簿（一人親方団体控）'!AG211)","v":""},{"$f":"IF('保険料申告内訳名簿（一人親方団体控）'!AH211=\"\",\"\",'保険料申告内訳名簿（一人親方団体控）'!AH211)","v":""}]
[null,{"$f":"IF('保険料申告内訳名簿（一人親方団体控）'!B212=\"\",\"\",'保険料申告内訳名簿（一人親方団体控）'!B212)","v":""},{"$f":"IF('保険料申告内訳名簿（一人親方団体控）'!C212=\"\",\"\",'保険料申告内訳名簿（一人親方団体控）'!C212)","v":""},{"$f":"IF('保険料申告内訳名簿（一人親方団体控）'!D212=\"\",\"\",'保険料申告内訳名簿（一人親方団体控）'!D212)","v":""},{"$f":"IF('保険料申告内訳名簿（一人親方団体控）'!E212=\"\",\"\",'保険料申告内訳名簿（一人親方団体控）'!E212)","v":""},{"$f":"IF('保険料申告内訳名簿（一人親方団体控）'!F212=\"\",\"\",'保険料申告内訳名簿（一人親方団体控）'!F212)","v":""},{"$f":"IF('保険料申告内訳名簿（一人親方団体控）'!G212=\"\",\"\",'保険料申告内訳名簿（一人親方団体控）'!G212)","v":""},{"$f":"IF('保険料申告内訳名簿（一人親方団体控）'!H212=\"\",\"\",'保険料申告内訳名簿（一人親方団体控）'!H212)","v":""},{"$f":"IF('保険料申告内訳名簿（一人親方団体控）'!I212=\"\",\"\",'保険料申告内訳名簿（一人親方団体控）'!I212)","v":""},{"$f":"IF('保険料申告内訳名簿（一人親方団体控）'!J212=\"\",\"\",'保険料申告内訳名簿（一人親方団体控）'!J212)","v":""},{"$f":"IF('保険料申告内訳名簿（一人親方団体控）'!K212=\"\",\"\",'保険料申告内訳名簿（一人親方団体控）'!K212)","v":""},{"$f":"IF('保険料申告内訳名簿（一人親方団体控）'!L212=\"\",\"\",'保険料申告内訳名簿（一人親方団体控）'!L212)","v":""},{"$f":"IF('保険料申告内訳名簿（一人親方団体控）'!M212=\"\",\"\",'保険料申告内訳名簿（一人親方団体控）'!M212)","v":""},{"$f":"IF('保険料申告内訳名簿（一人親方団体控）'!N212=\"\",\"\",'保険料申告内訳名簿（一人親方団体控）'!N212)","v":""},{"$f":"IF('保険料申告内訳名簿（一人親方団体控）'!O212=\"\",\"\",'保険料申告内訳名簿（一人親方団体控）'!O212)","v":""},{"$f":"IF('保険料申告内訳名簿（一人親方団体控）'!P212=\"\",\"\",'保険料申告内訳名簿（一人親方団体控）'!P212)","v":""},{"$f":"IF('保険料申告内訳名簿（一人親方団体控）'!Q212=\"\",\"\",'保険料申告内訳名簿（一人親方団体控）'!Q212)","v":""},{"$f":"IF('保険料申告内訳名簿（一人親方団体控）'!R212=\"\",\"\",'保険料申告内訳名簿（一人親方団体控）'!R212)","v":""},{"$f":"IF('保険料申告内訳名簿（一人親方団体控）'!S212=\"\",\"\",'保険料申告内訳名簿（一人親方団体控）'!S212)","v":0},{"$f":"IF('保険料申告内訳名簿（一人親方団体控）'!T212=\"\",\"\",'保険料申告内訳名簿（一人親方団体控）'!T212)","v":""},{"$f":"IF('保険料申告内訳名簿（一人親方団体控）'!U212=\"\",\"\",'保険料申告内訳名簿（一人親方団体控）'!U212)","v":""},{"$f":"IF('保険料申告内訳名簿（一人親方団体控）'!V212=\"\",\"\",'保険料申告内訳名簿（一人親方団体控）'!V212)","v":""},{"$f":"IF('保険料申告内訳名簿（一人親方団体控）'!W212=\"\",\"\",'保険料申告内訳名簿（一人親方団体控）'!W212)","v":""},{"$f":"IF('保険料申告内訳名簿（一人親方団体控）'!X212=\"\",\"\",'保険料申告内訳名簿（一人親方団体控）'!X212)","v":""},{"$f":"IF('保険料申告内訳名簿（一人親方団体控）'!Y212=\"\",\"\",'保険料申告内訳名簿（一人親方団体控）'!Y212)","v":""},{"$f":"IF('保険料申告内訳名簿（一人親方団体控）'!Z212=\"\",\"\",'保険料申告内訳名簿（一人親方団体控）'!Z212)","v":""},{"$f":"IF('保険料申告内訳名簿（一人親方団体控）'!AA212=\"\",\"\",'保険料申告内訳名簿（一人親方団体控）'!AA212)","v":""},{"$f":"IF('保険料申告内訳名簿（一人親方団体控）'!AB212=\"\",\"\",'保険料申告内訳名簿（一人親方団体控）'!AB212)","v":""},{"$f":"IF('保険料申告内訳名簿（一人親方団体控）'!AC212=\"\",\"\",'保険料申告内訳名簿（一人親方団体控）'!AC212)","v":0},{"$f":"IF('保険料申告内訳名簿（一人親方団体控）'!AD212=\"\",\"\",'保険料申告内訳名簿（一人親方団体控）'!AD212)","v":""},{"$f":"IF('保険料申告内訳名簿（一人親方団体控）'!AE212=\"\",\"\",'保険料申告内訳名簿（一人親方団体控）'!AE212)","v":""},{"$f":"IF('保険料申告内訳名簿（一人親方団体控）'!AF212=\"\",\"\",'保険料申告内訳名簿（一人親方団体控）'!AF212)","v":""},{"$f":"IF('保険料申告内訳名簿（一人親方団体控）'!AG212=\"\",\"\",'保険料申告内訳名簿（一人親方団体控）'!AG212)","v":""},{"$f":"IF('保険料申告内訳名簿（一人親方団体控）'!AH212=\"\",\"\",'保険料申告内訳名簿（一人親方団体控）'!AH212)","v":""}]
[null,{"$f":"IF('保険料申告内訳名簿（一人親方団体控）'!B213=\"\",\"\",'保険料申告内訳名簿（一人親方団体控）'!B213)","v":""},{"$f":"IF('保険料申告内訳名簿（一人親方団体控）'!C213=\"\",\"\",'保険料申告内訳名簿（一人親方団体控）'!C213)","v":""},{"$f":"IF('保険料申告内訳名簿（一人親方団体控）'!D213=\"\",\"\",'保険料申告内訳名簿（一人親方団体控）'!D213)","v":""},{"$f":"IF('保険料申告内訳名簿（一人親方団体控）'!E213=\"\",\"\",'保険料申告内訳名簿（一人親方団体控）'!E213)","v":""},{"$f":"IF('保険料申告内訳名簿（一人親方団体控）'!F213=\"\",\"\",'保険料申告内訳名簿（一人親方団体控）'!F213)","v":""},{"$f":"IF('保険料申告内訳名簿（一人親方団体控）'!G213=\"\",\"\",'保険料申告内訳名簿（一人親方団体控）'!G213)","v":""},{"$f":"IF('保険料申告内訳名簿（一人親方団体控）'!H213=\"\",\"\",'保険料申告内訳名簿（一人親方団体控）'!H213)","v":""},{"$f":"IF('保険料申告内訳名簿（一人親方団体控）'!I213=\"\",\"\",'保険料申告内訳名簿（一人親方団体控）'!I213)","v":""},{"$f":"IF('保険料申告内訳名簿（一人親方団体控）'!J213=\"\",\"\",'保険料申告内訳名簿（一人親方団体控）'!J213)","v":""},{"$f":"IF('保険料申告内訳名簿（一人親方団体控）'!K213=\"\",\"\",'保険料申告内訳名簿（一人親方団体控）'!K213)","v":""},{"$f":"IF('保険料申告内訳名簿（一人親方団体控）'!L213=\"\",\"\",'保険料申告内訳名簿（一人親方団体控）'!L213)","v":""},{"$f":"IF('保険料申告内訳名簿（一人親方団体控）'!M213=\"\",\"\",'保険料申告内訳名簿（一人親方団体控）'!M213)","v":""},{"$f":"IF('保険料申告内訳名簿（一人親方団体控）'!N213=\"\",\"\",'保険料申告内訳名簿（一人親方団体控）'!N213)","v":""},{"$f":"IF('保険料申告内訳名簿（一人親方団体控）'!O213=\"\",\"\",'保険料申告内訳名簿（一人親方団体控）'!O213)","v":""},{"$f":"IF('保険料申告内訳名簿（一人親方団体控）'!P213=\"\",\"\",'保険料申告内訳名簿（一人親方団体控）'!P213)","v":""},{"$f":"IF('保険料申告内訳名簿（一人親方団体控）'!Q213=\"\",\"\",'保険料申告内訳名簿（一人親方団体控）'!Q213)","v":""},{"$f":"IF('保険料申告内訳名簿（一人親方団体控）'!R213=\"\",\"\",'保険料申告内訳名簿（一人親方団体控）'!R213)","v":""},{"$f":"IF('保険料申告内訳名簿（一人親方団体控）'!S213=\"\",\"\",'保険料申告内訳名簿（一人親方団体控）'!S213)","v":0},{"$f":"IF('保険料申告内訳名簿（一人親方団体控）'!T213=\"\",\"\",'保険料申告内訳名簿（一人親方団体控）'!T213)","v":""},{"$f":"IF('保険料申告内訳名簿（一人親方団体控）'!U213=\"\",\"\",'保険料申告内訳名簿（一人親方団体控）'!U213)","v":""},{"$f":"IF('保険料申告内訳名簿（一人親方団体控）'!V213=\"\",\"\",'保険料申告内訳名簿（一人親方団体控）'!V213)","v":""},{"$f":"IF('保険料申告内訳名簿（一人親方団体控）'!W213=\"\",\"\",'保険料申告内訳名簿（一人親方団体控）'!W213)","v":""},{"$f":"IF('保険料申告内訳名簿（一人親方団体控）'!X213=\"\",\"\",'保険料申告内訳名簿（一人親方団体控）'!X213)","v":""},{"$f":"IF('保険料申告内訳名簿（一人親方団体控）'!Y213=\"\",\"\",'保険料申告内訳名簿（一人親方団体控）'!Y213)","v":""},{"$f":"IF('保険料申告内訳名簿（一人親方団体控）'!Z213=\"\",\"\",'保険料申告内訳名簿（一人親方団体控）'!Z213)","v":""},{"$f":"IF('保険料申告内訳名簿（一人親方団体控）'!AA213=\"\",\"\",'保険料申告内訳名簿（一人親方団体控）'!AA213)","v":""},{"$f":"IF('保険料申告内訳名簿（一人親方団体控）'!AB213=\"\",\"\",'保険料申告内訳名簿（一人親方団体控）'!AB213)","v":""},{"$f":"IF('保険料申告内訳名簿（一人親方団体控）'!AC213=\"\",\"\",'保険料申告内訳名簿（一人親方団体控）'!AC213)","v":0},{"$f":"IF('保険料申告内訳名簿（一人親方団体控）'!AD213=\"\",\"\",'保険料申告内訳名簿（一人親方団体控）'!AD213)","v":""},{"$f":"IF('保険料申告内訳名簿（一人親方団体控）'!AE213=\"\",\"\",'保険料申告内訳名簿（一人親方団体控）'!AE213)","v":""},{"$f":"IF('保険料申告内訳名簿（一人親方団体控）'!AF213=\"\",\"\",'保険料申告内訳名簿（一人親方団体控）'!AF213)","v":""},{"$f":"IF('保険料申告内訳名簿（一人親方団体控）'!AG213=\"\",\"\",'保険料申告内訳名簿（一人親方団体控）'!AG213)","v":""},{"$f":"IF('保険料申告内訳名簿（一人親方団体控）'!AH213=\"\",\"\",'保険料申告内訳名簿（一人親方団体控）'!AH213)","v":""}]
[null,{"$f":"IF('保険料申告内訳名簿（一人親方団体控）'!B214=\"\",\"\",'保険料申告内訳名簿（一人親方団体控）'!B214)","v":""},{"$f":"IF('保険料申告内訳名簿（一人親方団体控）'!C214=\"\",\"\",'保険料申告内訳名簿（一人親方団体控）'!C214)","v":""},{"$f":"IF('保険料申告内訳名簿（一人親方団体控）'!D214=\"\",\"\",'保険料申告内訳名簿（一人親方団体控）'!D214)","v":""},{"$f":"IF('保険料申告内訳名簿（一人親方団体控）'!E214=\"\",\"\",'保険料申告内訳名簿（一人親方団体控）'!E214)","v":""},{"$f":"IF('保険料申告内訳名簿（一人親方団体控）'!F214=\"\",\"\",'保険料申告内訳名簿（一人親方団体控）'!F214)","v":""},{"$f":"IF('保険料申告内訳名簿（一人親方団体控）'!G214=\"\",\"\",'保険料申告内訳名簿（一人親方団体控）'!G214)","v":""},{"$f":"IF('保険料申告内訳名簿（一人親方団体控）'!H214=\"\",\"\",'保険料申告内訳名簿（一人親方団体控）'!H214)","v":""},{"$f":"IF('保険料申告内訳名簿（一人親方団体控）'!I214=\"\",\"\",'保険料申告内訳名簿（一人親方団体控）'!I214)","v":""},{"$f":"IF('保険料申告内訳名簿（一人親方団体控）'!J214=\"\",\"\",'保険料申告内訳名簿（一人親方団体控）'!J214)","v":""},{"$f":"IF('保険料申告内訳名簿（一人親方団体控）'!K214=\"\",\"\",'保険料申告内訳名簿（一人親方団体控）'!K214)","v":""},{"$f":"IF('保険料申告内訳名簿（一人親方団体控）'!L214=\"\",\"\",'保険料申告内訳名簿（一人親方団体控）'!L214)","v":""},{"$f":"IF('保険料申告内訳名簿（一人親方団体控）'!M214=\"\",\"\",'保険料申告内訳名簿（一人親方団体控）'!M214)","v":""},{"$f":"IF('保険料申告内訳名簿（一人親方団体控）'!N214=\"\",\"\",'保険料申告内訳名簿（一人親方団体控）'!N214)","v":""},{"$f":"IF('保険料申告内訳名簿（一人親方団体控）'!O214=\"\",\"\",'保険料申告内訳名簿（一人親方団体控）'!O214)","v":""},{"$f":"IF('保険料申告内訳名簿（一人親方団体控）'!P214=\"\",\"\",'保険料申告内訳名簿（一人親方団体控）'!P214)","v":""},{"$f":"IF('保険料申告内訳名簿（一人親方団体控）'!Q214=\"\",\"\",'保険料申告内訳名簿（一人親方団体控）'!Q214)","v":""},{"$f":"IF('保険料申告内訳名簿（一人親方団体控）'!R214=\"\",\"\",'保険料申告内訳名簿（一人親方団体控）'!R214)","v":""},{"$f":"IF('保険料申告内訳名簿（一人親方団体控）'!S214=\"\",\"\",'保険料申告内訳名簿（一人親方団体控）'!S214)","v":0},{"$f":"IF('保険料申告内訳名簿（一人親方団体控）'!T214=\"\",\"\",'保険料申告内訳名簿（一人親方団体控）'!T214)","v":""},{"$f":"IF('保険料申告内訳名簿（一人親方団体控）'!U214=\"\",\"\",'保険料申告内訳名簿（一人親方団体控）'!U214)","v":""},{"$f":"IF('保険料申告内訳名簿（一人親方団体控）'!V214=\"\",\"\",'保険料申告内訳名簿（一人親方団体控）'!V214)","v":""},{"$f":"IF('保険料申告内訳名簿（一人親方団体控）'!W214=\"\",\"\",'保険料申告内訳名簿（一人親方団体控）'!W214)","v":""},{"$f":"IF('保険料申告内訳名簿（一人親方団体控）'!X214=\"\",\"\",'保険料申告内訳名簿（一人親方団体控）'!X214)","v":""},{"$f":"IF('保険料申告内訳名簿（一人親方団体控）'!Y214=\"\",\"\",'保険料申告内訳名簿（一人親方団体控）'!Y214)","v":""},{"$f":"IF('保険料申告内訳名簿（一人親方団体控）'!Z214=\"\",\"\",'保険料申告内訳名簿（一人親方団体控）'!Z214)","v":""},{"$f":"IF('保険料申告内訳名簿（一人親方団体控）'!AA214=\"\",\"\",'保険料申告内訳名簿（一人親方団体控）'!AA214)","v":""},{"$f":"IF('保険料申告内訳名簿（一人親方団体控）'!AB214=\"\",\"\",'保険料申告内訳名簿（一人親方団体控）'!AB214)","v":""},{"$f":"IF('保険料申告内訳名簿（一人親方団体控）'!AC214=\"\",\"\",'保険料申告内訳名簿（一人親方団体控）'!AC214)","v":0},{"$f":"IF('保険料申告内訳名簿（一人親方団体控）'!AD214=\"\",\"\",'保険料申告内訳名簿（一人親方団体控）'!AD214)","v":""},{"$f":"IF('保険料申告内訳名簿（一人親方団体控）'!AE214=\"\",\"\",'保険料申告内訳名簿（一人親方団体控）'!AE214)","v":""},{"$f":"IF('保険料申告内訳名簿（一人親方団体控）'!AF214=\"\",\"\",'保険料申告内訳名簿（一人親方団体控）'!AF214)","v":""},{"$f":"IF('保険料申告内訳名簿（一人親方団体控）'!AG214=\"\",\"\",'保険料申告内訳名簿（一人親方団体控）'!AG214)","v":""},{"$f":"IF('保険料申告内訳名簿（一人親方団体控）'!AH214=\"\",\"\",'保険料申告内訳名簿（一人親方団体控）'!AH214)","v":""}]
[null,{"$f":"IF('保険料申告内訳名簿（一人親方団体控）'!B215=\"\",\"\",'保険料申告内訳名簿（一人親方団体控）'!B215)","v":""},{"$f":"IF('保険料申告内訳名簿（一人親方団体控）'!C215=\"\",\"\",'保険料申告内訳名簿（一人親方団体控）'!C215)","v":""},{"$f":"IF('保険料申告内訳名簿（一人親方団体控）'!D215=\"\",\"\",'保険料申告内訳名簿（一人親方団体控）'!D215)","v":""},{"$f":"IF('保険料申告内訳名簿（一人親方団体控）'!E215=\"\",\"\",'保険料申告内訳名簿（一人親方団体控）'!E215)","v":""},{"$f":"IF('保険料申告内訳名簿（一人親方団体控）'!F215=\"\",\"\",'保険料申告内訳名簿（一人親方団体控）'!F215)","v":""},{"$f":"IF('保険料申告内訳名簿（一人親方団体控）'!G215=\"\",\"\",'保険料申告内訳名簿（一人親方団体控）'!G215)","v":""},{"$f":"IF('保険料申告内訳名簿（一人親方団体控）'!H215=\"\",\"\",'保険料申告内訳名簿（一人親方団体控）'!H215)","v":""},{"$f":"IF('保険料申告内訳名簿（一人親方団体控）'!I215=\"\",\"\",'保険料申告内訳名簿（一人親方団体控）'!I215)","v":""},{"$f":"IF('保険料申告内訳名簿（一人親方団体控）'!J215=\"\",\"\",'保険料申告内訳名簿（一人親方団体控）'!J215)","v":""},{"$f":"IF('保険料申告内訳名簿（一人親方団体控）'!K215=\"\",\"\",'保険料申告内訳名簿（一人親方団体控）'!K215)","v":""},{"$f":"IF('保険料申告内訳名簿（一人親方団体控）'!L215=\"\",\"\",'保険料申告内訳名簿（一人親方団体控）'!L215)","v":""},{"$f":"IF('保険料申告内訳名簿（一人親方団体控）'!M215=\"\",\"\",'保険料申告内訳名簿（一人親方団体控）'!M215)","v":""},{"$f":"IF('保険料申告内訳名簿（一人親方団体控）'!N215=\"\",\"\",'保険料申告内訳名簿（一人親方団体控）'!N215)","v":""},{"$f":"IF('保険料申告内訳名簿（一人親方団体控）'!O215=\"\",\"\",'保険料申告内訳名簿（一人親方団体控）'!O215)","v":""},{"$f":"IF('保険料申告内訳名簿（一人親方団体控）'!P215=\"\",\"\",'保険料申告内訳名簿（一人親方団体控）'!P215)","v":""},{"$f":"IF('保険料申告内訳名簿（一人親方団体控）'!Q215=\"\",\"\",'保険料申告内訳名簿（一人親方団体控）'!Q215)","v":""},{"$f":"IF('保険料申告内訳名簿（一人親方団体控）'!R215=\"\",\"\",'保険料申告内訳名簿（一人親方団体控）'!R215)","v":""},{"$f":"IF('保険料申告内訳名簿（一人親方団体控）'!S215=\"\",\"\",'保険料申告内訳名簿（一人親方団体控）'!S215)","v":0},{"$f":"IF('保険料申告内訳名簿（一人親方団体控）'!T215=\"\",\"\",'保険料申告内訳名簿（一人親方団体控）'!T215)","v":""},{"$f":"IF('保険料申告内訳名簿（一人親方団体控）'!U215=\"\",\"\",'保険料申告内訳名簿（一人親方団体控）'!U215)","v":""},{"$f":"IF('保険料申告内訳名簿（一人親方団体控）'!V215=\"\",\"\",'保険料申告内訳名簿（一人親方団体控）'!V215)","v":""},{"$f":"IF('保険料申告内訳名簿（一人親方団体控）'!W215=\"\",\"\",'保険料申告内訳名簿（一人親方団体控）'!W215)","v":""},{"$f":"IF('保険料申告内訳名簿（一人親方団体控）'!X215=\"\",\"\",'保険料申告内訳名簿（一人親方団体控）'!X215)","v":""},{"$f":"IF('保険料申告内訳名簿（一人親方団体控）'!Y215=\"\",\"\",'保険料申告内訳名簿（一人親方団体控）'!Y215)","v":""},{"$f":"IF('保険料申告内訳名簿（一人親方団体控）'!Z215=\"\",\"\",'保険料申告内訳名簿（一人親方団体控）'!Z215)","v":""},{"$f":"IF('保険料申告内訳名簿（一人親方団体控）'!AA215=\"\",\"\",'保険料申告内訳名簿（一人親方団体控）'!AA215)","v":""},{"$f":"IF('保険料申告内訳名簿（一人親方団体控）'!AB215=\"\",\"\",'保険料申告内訳名簿（一人親方団体控）'!AB215)","v":""},{"$f":"IF('保険料申告内訳名簿（一人親方団体控）'!AC215=\"\",\"\",'保険料申告内訳名簿（一人親方団体控）'!AC215)","v":0},{"$f":"IF('保険料申告内訳名簿（一人親方団体控）'!AD215=\"\",\"\",'保険料申告内訳名簿（一人親方団体控）'!AD215)","v":""},{"$f":"IF('保険料申告内訳名簿（一人親方団体控）'!AE215=\"\",\"\",'保険料申告内訳名簿（一人親方団体控）'!AE215)","v":""},{"$f":"IF('保険料申告内訳名簿（一人親方団体控）'!AF215=\"\",\"\",'保険料申告内訳名簿（一人親方団体控）'!AF215)","v":""},{"$f":"IF('保険料申告内訳名簿（一人親方団体控）'!AG215=\"\",\"\",'保険料申告内訳名簿（一人親方団体控）'!AG215)","v":""},{"$f":"IF('保険料申告内訳名簿（一人親方団体控）'!AH215=\"\",\"\",'保険料申告内訳名簿（一人親方団体控）'!AH215)","v":""}]
[null,{"$f":"IF('保険料申告内訳名簿（一人親方団体控）'!B216=\"\",\"\",'保険料申告内訳名簿（一人親方団体控）'!B216)","v":""},{"$f":"IF('保険料申告内訳名簿（一人親方団体控）'!C216=\"\",\"\",'保険料申告内訳名簿（一人親方団体控）'!C216)","v":""},{"$f":"IF('保険料申告内訳名簿（一人親方団体控）'!D216=\"\",\"\",'保険料申告内訳名簿（一人親方団体控）'!D216)","v":""},{"$f":"IF('保険料申告内訳名簿（一人親方団体控）'!E216=\"\",\"\",'保険料申告内訳名簿（一人親方団体控）'!E216)","v":""},{"$f":"IF('保険料申告内訳名簿（一人親方団体控）'!F216=\"\",\"\",'保険料申告内訳名簿（一人親方団体控）'!F216)","v":""},{"$f":"IF('保険料申告内訳名簿（一人親方団体控）'!G216=\"\",\"\",'保険料申告内訳名簿（一人親方団体控）'!G216)","v":""},{"$f":"IF('保険料申告内訳名簿（一人親方団体控）'!H216=\"\",\"\",'保険料申告内訳名簿（一人親方団体控）'!H216)","v":""},{"$f":"IF('保険料申告内訳名簿（一人親方団体控）'!I216=\"\",\"\",'保険料申告内訳名簿（一人親方団体控）'!I216)","v":""},{"$f":"IF('保険料申告内訳名簿（一人親方団体控）'!J216=\"\",\"\",'保険料申告内訳名簿（一人親方団体控）'!J216)","v":""},{"$f":"IF('保険料申告内訳名簿（一人親方団体控）'!K216=\"\",\"\",'保険料申告内訳名簿（一人親方団体控）'!K216)","v":""},{"$f":"IF('保険料申告内訳名簿（一人親方団体控）'!L216=\"\",\"\",'保険料申告内訳名簿（一人親方団体控）'!L216)","v":""},{"$f":"IF('保険料申告内訳名簿（一人親方団体控）'!M216=\"\",\"\",'保険料申告内訳名簿（一人親方団体控）'!M216)","v":""},{"$f":"IF('保険料申告内訳名簿（一人親方団体控）'!N216=\"\",\"\",'保険料申告内訳名簿（一人親方団体控）'!N216)","v":""},{"$f":"IF('保険料申告内訳名簿（一人親方団体控）'!O216=\"\",\"\",'保険料申告内訳名簿（一人親方団体控）'!O216)","v":""},{"$f":"IF('保険料申告内訳名簿（一人親方団体控）'!P216=\"\",\"\",'保険料申告内訳名簿（一人親方団体控）'!P216)","v":""},{"$f":"IF('保険料申告内訳名簿（一人親方団体控）'!Q216=\"\",\"\",'保険料申告内訳名簿（一人親方団体控）'!Q216)","v":""},{"$f":"IF('保険料申告内訳名簿（一人親方団体控）'!R216=\"\",\"\",'保険料申告内訳名簿（一人親方団体控）'!R216)","v":""},{"$f":"IF('保険料申告内訳名簿（一人親方団体控）'!S216=\"\",\"\",'保険料申告内訳名簿（一人親方団体控）'!S216)","v":0},{"$f":"IF('保険料申告内訳名簿（一人親方団体控）'!T216=\"\",\"\",'保険料申告内訳名簿（一人親方団体控）'!T216)","v":""},{"$f":"IF('保険料申告内訳名簿（一人親方団体控）'!U216=\"\",\"\",'保険料申告内訳名簿（一人親方団体控）'!U216)","v":""},{"$f":"IF('保険料申告内訳名簿（一人親方団体控）'!V216=\"\",\"\",'保険料申告内訳名簿（一人親方団体控）'!V216)","v":""},{"$f":"IF('保険料申告内訳名簿（一人親方団体控）'!W216=\"\",\"\",'保険料申告内訳名簿（一人親方団体控）'!W216)","v":""},{"$f":"IF('保険料申告内訳名簿（一人親方団体控）'!X216=\"\",\"\",'保険料申告内訳名簿（一人親方団体控）'!X216)","v":""},{"$f":"IF('保険料申告内訳名簿（一人親方団体控）'!Y216=\"\",\"\",'保険料申告内訳名簿（一人親方団体控）'!Y216)","v":""},{"$f":"IF('保険料申告内訳名簿（一人親方団体控）'!Z216=\"\",\"\",'保険料申告内訳名簿（一人親方団体控）'!Z216)","v":""},{"$f":"IF('保険料申告内訳名簿（一人親方団体控）'!AA216=\"\",\"\",'保険料申告内訳名簿（一人親方団体控）'!AA216)","v":""},{"$f":"IF('保険料申告内訳名簿（一人親方団体控）'!AB216=\"\",\"\",'保険料申告内訳名簿（一人親方団体控）'!AB216)","v":""},{"$f":"IF('保険料申告内訳名簿（一人親方団体控）'!AC216=\"\",\"\",'保険料申告内訳名簿（一人親方団体控）'!AC216)","v":0},{"$f":"IF('保険料申告内訳名簿（一人親方団体控）'!AD216=\"\",\"\",'保険料申告内訳名簿（一人親方団体控）'!AD216)","v":""},{"$f":"IF('保険料申告内訳名簿（一人親方団体控）'!AE216=\"\",\"\",'保険料申告内訳名簿（一人親方団体控）'!AE216)","v":""},{"$f":"IF('保険料申告内訳名簿（一人親方団体控）'!AF216=\"\",\"\",'保険料申告内訳名簿（一人親方団体控）'!AF216)","v":""},{"$f":"IF('保険料申告内訳名簿（一人親方団体控）'!AG216=\"\",\"\",'保険料申告内訳名簿（一人親方団体控）'!AG216)","v":""},{"$f":"IF('保険料申告内訳名簿（一人親方団体控）'!AH216=\"\",\"\",'保険料申告内訳名簿（一人親方団体控）'!AH216)","v":""}]
[null,{"$f":"IF('保険料申告内訳名簿（一人親方団体控）'!B217=\"\",\"\",'保険料申告内訳名簿（一人親方団体控）'!B217)","v":""},{"$f":"IF('保険料申告内訳名簿（一人親方団体控）'!C217=\"\",\"\",'保険料申告内訳名簿（一人親方団体控）'!C217)","v":""},{"$f":"IF('保険料申告内訳名簿（一人親方団体控）'!D217=\"\",\"\",'保険料申告内訳名簿（一人親方団体控）'!D217)","v":""},{"$f":"IF('保険料申告内訳名簿（一人親方団体控）'!E217=\"\",\"\",'保険料申告内訳名簿（一人親方団体控）'!E217)","v":""},{"$f":"IF('保険料申告内訳名簿（一人親方団体控）'!F217=\"\",\"\",'保険料申告内訳名簿（一人親方団体控）'!F217)","v":""},{"$f":"IF('保険料申告内訳名簿（一人親方団体控）'!G217=\"\",\"\",'保険料申告内訳名簿（一人親方団体控）'!G217)","v":""},{"$f":"IF('保険料申告内訳名簿（一人親方団体控）'!H217=\"\",\"\",'保険料申告内訳名簿（一人親方団体控）'!H217)","v":""},{"$f":"IF('保険料申告内訳名簿（一人親方団体控）'!I217=\"\",\"\",'保険料申告内訳名簿（一人親方団体控）'!I217)","v":""},{"$f":"IF('保険料申告内訳名簿（一人親方団体控）'!J217=\"\",\"\",'保険料申告内訳名簿（一人親方団体控）'!J217)","v":""},{"$f":"IF('保険料申告内訳名簿（一人親方団体控）'!K217=\"\",\"\",'保険料申告内訳名簿（一人親方団体控）'!K217)","v":""},{"$f":"IF('保険料申告内訳名簿（一人親方団体控）'!L217=\"\",\"\",'保険料申告内訳名簿（一人親方団体控）'!L217)","v":""},{"$f":"IF('保険料申告内訳名簿（一人親方団体控）'!M217=\"\",\"\",'保険料申告内訳名簿（一人親方団体控）'!M217)","v":""},{"$f":"IF('保険料申告内訳名簿（一人親方団体控）'!N217=\"\",\"\",'保険料申告内訳名簿（一人親方団体控）'!N217)","v":""},{"$f":"IF('保険料申告内訳名簿（一人親方団体控）'!O217=\"\",\"\",'保険料申告内訳名簿（一人親方団体控）'!O217)","v":""},{"$f":"IF('保険料申告内訳名簿（一人親方団体控）'!P217=\"\",\"\",'保険料申告内訳名簿（一人親方団体控）'!P217)","v":""},{"$f":"IF('保険料申告内訳名簿（一人親方団体控）'!Q217=\"\",\"\",'保険料申告内訳名簿（一人親方団体控）'!Q217)","v":""},{"$f":"IF('保険料申告内訳名簿（一人親方団体控）'!R217=\"\",\"\",'保険料申告内訳名簿（一人親方団体控）'!R217)","v":""},{"$f":"IF('保険料申告内訳名簿（一人親方団体控）'!S217=\"\",\"\",'保険料申告内訳名簿（一人親方団体控）'!S217)","v":0},{"$f":"IF('保険料申告内訳名簿（一人親方団体控）'!T217=\"\",\"\",'保険料申告内訳名簿（一人親方団体控）'!T217)","v":""},{"$f":"IF('保険料申告内訳名簿（一人親方団体控）'!U217=\"\",\"\",'保険料申告内訳名簿（一人親方団体控）'!U217)","v":""},{"$f":"IF('保険料申告内訳名簿（一人親方団体控）'!V217=\"\",\"\",'保険料申告内訳名簿（一人親方団体控）'!V217)","v":""},{"$f":"IF('保険料申告内訳名簿（一人親方団体控）'!W217=\"\",\"\",'保険料申告内訳名簿（一人親方団体控）'!W217)","v":""},{"$f":"IF('保険料申告内訳名簿（一人親方団体控）'!X217=\"\",\"\",'保険料申告内訳名簿（一人親方団体控）'!X217)","v":""},{"$f":"IF('保険料申告内訳名簿（一人親方団体控）'!Y217=\"\",\"\",'保険料申告内訳名簿（一人親方団体控）'!Y217)","v":""},{"$f":"IF('保険料申告内訳名簿（一人親方団体控）'!Z217=\"\",\"\",'保険料申告内訳名簿（一人親方団体控）'!Z217)","v":""},{"$f":"IF('保険料申告内訳名簿（一人親方団体控）'!AA217=\"\",\"\",'保険料申告内訳名簿（一人親方団体控）'!AA217)","v":""},{"$f":"IF('保険料申告内訳名簿（一人親方団体控）'!AB217=\"\",\"\",'保険料申告内訳名簿（一人親方団体控）'!AB217)","v":""},{"$f":"IF('保険料申告内訳名簿（一人親方団体控）'!AC217=\"\",\"\",'保険料申告内訳名簿（一人親方団体控）'!AC217)","v":0},{"$f":"IF('保険料申告内訳名簿（一人親方団体控）'!AD217=\"\",\"\",'保険料申告内訳名簿（一人親方団体控）'!AD217)","v":""},{"$f":"IF('保険料申告内訳名簿（一人親方団体控）'!AE217=\"\",\"\",'保険料申告内訳名簿（一人親方団体控）'!AE217)","v":""},{"$f":"IF('保険料申告内訳名簿（一人親方団体控）'!AF217=\"\",\"\",'保険料申告内訳名簿（一人親方団体控）'!AF217)","v":""},{"$f":"IF('保険料申告内訳名簿（一人親方団体控）'!AG217=\"\",\"\",'保険料申告内訳名簿（一人親方団体控）'!AG217)","v":""},{"$f":"IF('保険料申告内訳名簿（一人親方団体控）'!AH217=\"\",\"\",'保険料申告内訳名簿（一人親方団体控）'!AH217)","v":""}]
[null,{"$f":"IF('保険料申告内訳名簿（一人親方団体控）'!B218=\"\",\"\",'保険料申告内訳名簿（一人親方団体控）'!B218)","v":""},{"$f":"IF('保険料申告内訳名簿（一人親方団体控）'!C218=\"\",\"\",'保険料申告内訳名簿（一人親方団体控）'!C218)","v":""},{"$f":"IF('保険料申告内訳名簿（一人親方団体控）'!D218=\"\",\"\",'保険料申告内訳名簿（一人親方団体控）'!D218)","v":""},{"$f":"IF('保険料申告内訳名簿（一人親方団体控）'!E218=\"\",\"\",'保険料申告内訳名簿（一人親方団体控）'!E218)","v":""},{"$f":"IF('保険料申告内訳名簿（一人親方団体控）'!F218=\"\",\"\",'保険料申告内訳名簿（一人親方団体控）'!F218)","v":""},{"$f":"IF('保険料申告内訳名簿（一人親方団体控）'!G218=\"\",\"\",'保険料申告内訳名簿（一人親方団体控）'!G218)","v":""},{"$f":"IF('保険料申告内訳名簿（一人親方団体控）'!H218=\"\",\"\",'保険料申告内訳名簿（一人親方団体控）'!H218)","v":""},{"$f":"IF('保険料申告内訳名簿（一人親方団体控）'!I218=\"\",\"\",'保険料申告内訳名簿（一人親方団体控）'!I218)","v":""},{"$f":"IF('保険料申告内訳名簿（一人親方団体控）'!J218=\"\",\"\",'保険料申告内訳名簿（一人親方団体控）'!J218)","v":""},{"$f":"IF('保険料申告内訳名簿（一人親方団体控）'!K218=\"\",\"\",'保険料申告内訳名簿（一人親方団体控）'!K218)","v":""},{"$f":"IF('保険料申告内訳名簿（一人親方団体控）'!L218=\"\",\"\",'保険料申告内訳名簿（一人親方団体控）'!L218)","v":""},{"$f":"IF('保険料申告内訳名簿（一人親方団体控）'!M218=\"\",\"\",'保険料申告内訳名簿（一人親方団体控）'!M218)","v":""},{"$f":"IF('保険料申告内訳名簿（一人親方団体控）'!N218=\"\",\"\",'保険料申告内訳名簿（一人親方団体控）'!N218)","v":""},{"$f":"IF('保険料申告内訳名簿（一人親方団体控）'!O218=\"\",\"\",'保険料申告内訳名簿（一人親方団体控）'!O218)","v":""},{"$f":"IF('保険料申告内訳名簿（一人親方団体控）'!P218=\"\",\"\",'保険料申告内訳名簿（一人親方団体控）'!P218)","v":""},{"$f":"IF('保険料申告内訳名簿（一人親方団体控）'!Q218=\"\",\"\",'保険料申告内訳名簿（一人親方団体控）'!Q218)","v":""},{"$f":"IF('保険料申告内訳名簿（一人親方団体控）'!R218=\"\",\"\",'保険料申告内訳名簿（一人親方団体控）'!R218)","v":""},{"$f":"IF('保険料申告内訳名簿（一人親方団体控）'!S218=\"\",\"\",'保険料申告内訳名簿（一人親方団体控）'!S218)","v":0},{"$f":"IF('保険料申告内訳名簿（一人親方団体控）'!T218=\"\",\"\",'保険料申告内訳名簿（一人親方団体控）'!T218)","v":""},{"$f":"IF('保険料申告内訳名簿（一人親方団体控）'!U218=\"\",\"\",'保険料申告内訳名簿（一人親方団体控）'!U218)","v":""},{"$f":"IF('保険料申告内訳名簿（一人親方団体控）'!V218=\"\",\"\",'保険料申告内訳名簿（一人親方団体控）'!V218)","v":""},{"$f":"IF('保険料申告内訳名簿（一人親方団体控）'!W218=\"\",\"\",'保険料申告内訳名簿（一人親方団体控）'!W218)","v":""},{"$f":"IF('保険料申告内訳名簿（一人親方団体控）'!X218=\"\",\"\",'保険料申告内訳名簿（一人親方団体控）'!X218)","v":""},{"$f":"IF('保険料申告内訳名簿（一人親方団体控）'!Y218=\"\",\"\",'保険料申告内訳名簿（一人親方団体控）'!Y218)","v":""},{"$f":"IF('保険料申告内訳名簿（一人親方団体控）'!Z218=\"\",\"\",'保険料申告内訳名簿（一人親方団体控）'!Z218)","v":""},{"$f":"IF('保険料申告内訳名簿（一人親方団体控）'!AA218=\"\",\"\",'保険料申告内訳名簿（一人親方団体控）'!AA218)","v":""},{"$f":"IF('保険料申告内訳名簿（一人親方団体控）'!AB218=\"\",\"\",'保険料申告内訳名簿（一人親方団体控）'!AB218)","v":""},{"$f":"IF('保険料申告内訳名簿（一人親方団体控）'!AC218=\"\",\"\",'保険料申告内訳名簿（一人親方団体控）'!AC218)","v":0},{"$f":"IF('保険料申告内訳名簿（一人親方団体控）'!AD218=\"\",\"\",'保険料申告内訳名簿（一人親方団体控）'!AD218)","v":""},{"$f":"IF('保険料申告内訳名簿（一人親方団体控）'!AE218=\"\",\"\",'保険料申告内訳名簿（一人親方団体控）'!AE218)","v":""},{"$f":"IF('保険料申告内訳名簿（一人親方団体控）'!AF218=\"\",\"\",'保険料申告内訳名簿（一人親方団体控）'!AF218)","v":""},{"$f":"IF('保険料申告内訳名簿（一人親方団体控）'!AG218=\"\",\"\",'保険料申告内訳名簿（一人親方団体控）'!AG218)","v":""},{"$f":"IF('保険料申告内訳名簿（一人親方団体控）'!AH218=\"\",\"\",'保険料申告内訳名簿（一人親方団体控）'!AH218)","v":""}]
[null,{"$f":"IF('保険料申告内訳名簿（一人親方団体控）'!B219=\"\",\"\",'保険料申告内訳名簿（一人親方団体控）'!B219)","v":""},{"$f":"IF('保険料申告内訳名簿（一人親方団体控）'!C219=\"\",\"\",'保険料申告内訳名簿（一人親方団体控）'!C219)","v":""},{"$f":"IF('保険料申告内訳名簿（一人親方団体控）'!D219=\"\",\"\",'保険料申告内訳名簿（一人親方団体控）'!D219)","v":""},{"$f":"IF('保険料申告内訳名簿（一人親方団体控）'!E219=\"\",\"\",'保険料申告内訳名簿（一人親方団体控）'!E219)","v":""},{"$f":"IF('保険料申告内訳名簿（一人親方団体控）'!F219=\"\",\"\",'保険料申告内訳名簿（一人親方団体控）'!F219)","v":""},{"$f":"IF('保険料申告内訳名簿（一人親方団体控）'!G219=\"\",\"\",'保険料申告内訳名簿（一人親方団体控）'!G219)","v":""},{"$f":"IF('保険料申告内訳名簿（一人親方団体控）'!H219=\"\",\"\",'保険料申告内訳名簿（一人親方団体控）'!H219)","v":""},{"$f":"IF('保険料申告内訳名簿（一人親方団体控）'!I219=\"\",\"\",'保険料申告内訳名簿（一人親方団体控）'!I219)","v":""},{"$f":"IF('保険料申告内訳名簿（一人親方団体控）'!J219=\"\",\"\",'保険料申告内訳名簿（一人親方団体控）'!J219)","v":""},{"$f":"IF('保険料申告内訳名簿（一人親方団体控）'!K219=\"\",\"\",'保険料申告内訳名簿（一人親方団体控）'!K219)","v":""},{"$f":"IF('保険料申告内訳名簿（一人親方団体控）'!L219=\"\",\"\",'保険料申告内訳名簿（一人親方団体控）'!L219)","v":""},{"$f":"IF('保険料申告内訳名簿（一人親方団体控）'!M219=\"\",\"\",'保険料申告内訳名簿（一人親方団体控）'!M219)","v":""},{"$f":"IF('保険料申告内訳名簿（一人親方団体控）'!N219=\"\",\"\",'保険料申告内訳名簿（一人親方団体控）'!N219)","v":""},{"$f":"IF('保険料申告内訳名簿（一人親方団体控）'!O219=\"\",\"\",'保険料申告内訳名簿（一人親方団体控）'!O219)","v":""},{"$f":"IF('保険料申告内訳名簿（一人親方団体控）'!P219=\"\",\"\",'保険料申告内訳名簿（一人親方団体控）'!P219)","v":""},{"$f":"IF('保険料申告内訳名簿（一人親方団体控）'!Q219=\"\",\"\",'保険料申告内訳名簿（一人親方団体控）'!Q219)","v":""},{"$f":"IF('保険料申告内訳名簿（一人親方団体控）'!R219=\"\",\"\",'保険料申告内訳名簿（一人親方団体控）'!R219)","v":""},{"$f":"IF('保険料申告内訳名簿（一人親方団体控）'!S219=\"\",\"\",'保険料申告内訳名簿（一人親方団体控）'!S219)","v":0},{"$f":"IF('保険料申告内訳名簿（一人親方団体控）'!T219=\"\",\"\",'保険料申告内訳名簿（一人親方団体控）'!T219)","v":""},{"$f":"IF('保険料申告内訳名簿（一人親方団体控）'!U219=\"\",\"\",'保険料申告内訳名簿（一人親方団体控）'!U219)","v":""},{"$f":"IF('保険料申告内訳名簿（一人親方団体控）'!V219=\"\",\"\",'保険料申告内訳名簿（一人親方団体控）'!V219)","v":""},{"$f":"IF('保険料申告内訳名簿（一人親方団体控）'!W219=\"\",\"\",'保険料申告内訳名簿（一人親方団体控）'!W219)","v":""},{"$f":"IF('保険料申告内訳名簿（一人親方団体控）'!X219=\"\",\"\",'保険料申告内訳名簿（一人親方団体控）'!X219)","v":""},{"$f":"IF('保険料申告内訳名簿（一人親方団体控）'!Y219=\"\",\"\",'保険料申告内訳名簿（一人親方団体控）'!Y219)","v":""},{"$f":"IF('保険料申告内訳名簿（一人親方団体控）'!Z219=\"\",\"\",'保険料申告内訳名簿（一人親方団体控）'!Z219)","v":""},{"$f":"IF('保険料申告内訳名簿（一人親方団体控）'!AA219=\"\",\"\",'保険料申告内訳名簿（一人親方団体控）'!AA219)","v":""},{"$f":"IF('保険料申告内訳名簿（一人親方団体控）'!AB219=\"\",\"\",'保険料申告内訳名簿（一人親方団体控）'!AB219)","v":""},{"$f":"IF('保険料申告内訳名簿（一人親方団体控）'!AC219=\"\",\"\",'保険料申告内訳名簿（一人親方団体控）'!AC219)","v":0},{"$f":"IF('保険料申告内訳名簿（一人親方団体控）'!AD219=\"\",\"\",'保険料申告内訳名簿（一人親方団体控）'!AD219)","v":""},{"$f":"IF('保険料申告内訳名簿（一人親方団体控）'!AE219=\"\",\"\",'保険料申告内訳名簿（一人親方団体控）'!AE219)","v":""},{"$f":"IF('保険料申告内訳名簿（一人親方団体控）'!AF219=\"\",\"\",'保険料申告内訳名簿（一人親方団体控）'!AF219)","v":""},{"$f":"IF('保険料申告内訳名簿（一人親方団体控）'!AG219=\"\",\"\",'保険料申告内訳名簿（一人親方団体控）'!AG219)","v":""},{"$f":"IF('保険料申告内訳名簿（一人親方団体控）'!AH219=\"\",\"\",'保険料申告内訳名簿（一人親方団体控）'!AH219)","v":""}]
[null,{"$f":"IF('保険料申告内訳名簿（一人親方団体控）'!B220=\"\",\"\",'保険料申告内訳名簿（一人親方団体控）'!B220)","v":""},{"$f":"IF('保険料申告内訳名簿（一人親方団体控）'!C220=\"\",\"\",'保険料申告内訳名簿（一人親方団体控）'!C220)","v":""},{"$f":"IF('保険料申告内訳名簿（一人親方団体控）'!D220=\"\",\"\",'保険料申告内訳名簿（一人親方団体控）'!D220)","v":""},{"$f":"IF('保険料申告内訳名簿（一人親方団体控）'!E220=\"\",\"\",'保険料申告内訳名簿（一人親方団体控）'!E220)","v":""},{"$f":"IF('保険料申告内訳名簿（一人親方団体控）'!F220=\"\",\"\",'保険料申告内訳名簿（一人親方団体控）'!F220)","v":""},{"$f":"IF('保険料申告内訳名簿（一人親方団体控）'!G220=\"\",\"\",'保険料申告内訳名簿（一人親方団体控）'!G220)","v":""},{"$f":"IF('保険料申告内訳名簿（一人親方団体控）'!H220=\"\",\"\",'保険料申告内訳名簿（一人親方団体控）'!H220)","v":""},{"$f":"IF('保険料申告内訳名簿（一人親方団体控）'!I220=\"\",\"\",'保険料申告内訳名簿（一人親方団体控）'!I220)","v":""},{"$f":"IF('保険料申告内訳名簿（一人親方団体控）'!J220=\"\",\"\",'保険料申告内訳名簿（一人親方団体控）'!J220)","v":""},{"$f":"IF('保険料申告内訳名簿（一人親方団体控）'!K220=\"\",\"\",'保険料申告内訳名簿（一人親方団体控）'!K220)","v":""},{"$f":"IF('保険料申告内訳名簿（一人親方団体控）'!L220=\"\",\"\",'保険料申告内訳名簿（一人親方団体控）'!L220)","v":""},{"$f":"IF('保険料申告内訳名簿（一人親方団体控）'!M220=\"\",\"\",'保険料申告内訳名簿（一人親方団体控）'!M220)","v":""},{"$f":"IF('保険料申告内訳名簿（一人親方団体控）'!N220=\"\",\"\",'保険料申告内訳名簿（一人親方団体控）'!N220)","v":""},{"$f":"IF('保険料申告内訳名簿（一人親方団体控）'!O220=\"\",\"\",'保険料申告内訳名簿（一人親方団体控）'!O220)","v":""},{"$f":"IF('保険料申告内訳名簿（一人親方団体控）'!P220=\"\",\"\",'保険料申告内訳名簿（一人親方団体控）'!P220)","v":""},{"$f":"IF('保険料申告内訳名簿（一人親方団体控）'!Q220=\"\",\"\",'保険料申告内訳名簿（一人親方団体控）'!Q220)","v":""},{"$f":"IF('保険料申告内訳名簿（一人親方団体控）'!R220=\"\",\"\",'保険料申告内訳名簿（一人親方団体控）'!R220)","v":""},{"$f":"IF('保険料申告内訳名簿（一人親方団体控）'!S220=\"\",\"\",'保険料申告内訳名簿（一人親方団体控）'!S220)","v":0},{"$f":"IF('保険料申告内訳名簿（一人親方団体控）'!T220=\"\",\"\",'保険料申告内訳名簿（一人親方団体控）'!T220)","v":""},{"$f":"IF('保険料申告内訳名簿（一人親方団体控）'!U220=\"\",\"\",'保険料申告内訳名簿（一人親方団体控）'!U220)","v":""},{"$f":"IF('保険料申告内訳名簿（一人親方団体控）'!V220=\"\",\"\",'保険料申告内訳名簿（一人親方団体控）'!V220)","v":""},{"$f":"IF('保険料申告内訳名簿（一人親方団体控）'!W220=\"\",\"\",'保険料申告内訳名簿（一人親方団体控）'!W220)","v":""},{"$f":"IF('保険料申告内訳名簿（一人親方団体控）'!X220=\"\",\"\",'保険料申告内訳名簿（一人親方団体控）'!X220)","v":""},{"$f":"IF('保険料申告内訳名簿（一人親方団体控）'!Y220=\"\",\"\",'保険料申告内訳名簿（一人親方団体控）'!Y220)","v":""},{"$f":"IF('保険料申告内訳名簿（一人親方団体控）'!Z220=\"\",\"\",'保険料申告内訳名簿（一人親方団体控）'!Z220)","v":""},{"$f":"IF('保険料申告内訳名簿（一人親方団体控）'!AA220=\"\",\"\",'保険料申告内訳名簿（一人親方団体控）'!AA220)","v":""},{"$f":"IF('保険料申告内訳名簿（一人親方団体控）'!AB220=\"\",\"\",'保険料申告内訳名簿（一人親方団体控）'!AB220)","v":""},{"$f":"IF('保険料申告内訳名簿（一人親方団体控）'!AC220=\"\",\"\",'保険料申告内訳名簿（一人親方団体控）'!AC220)","v":0},{"$f":"IF('保険料申告内訳名簿（一人親方団体控）'!AD220=\"\",\"\",'保険料申告内訳名簿（一人親方団体控）'!AD220)","v":""},{"$f":"IF('保険料申告内訳名簿（一人親方団体控）'!AE220=\"\",\"\",'保険料申告内訳名簿（一人親方団体控）'!AE220)","v":""},{"$f":"IF('保険料申告内訳名簿（一人親方団体控）'!AF220=\"\",\"\",'保険料申告内訳名簿（一人親方団体控）'!AF220)","v":""},{"$f":"IF('保険料申告内訳名簿（一人親方団体控）'!AG220=\"\",\"\",'保険料申告内訳名簿（一人親方団体控）'!AG220)","v":""},{"$f":"IF('保険料申告内訳名簿（一人親方団体控）'!AH220=\"\",\"\",'保険料申告内訳名簿（一人親方団体控）'!AH220)","v":""}]
[null,{"$f":"IF('保険料申告内訳名簿（一人親方団体控）'!B221=\"\",\"\",'保険料申告内訳名簿（一人親方団体控）'!B221)","v":""},{"$f":"IF('保険料申告内訳名簿（一人親方団体控）'!C221=\"\",\"\",'保険料申告内訳名簿（一人親方団体控）'!C221)","v":""},{"$f":"IF('保険料申告内訳名簿（一人親方団体控）'!D221=\"\",\"\",'保険料申告内訳名簿（一人親方団体控）'!D221)","v":""},{"$f":"IF('保険料申告内訳名簿（一人親方団体控）'!E221=\"\",\"\",'保険料申告内訳名簿（一人親方団体控）'!E221)","v":""},{"$f":"IF('保険料申告内訳名簿（一人親方団体控）'!F221=\"\",\"\",'保険料申告内訳名簿（一人親方団体控）'!F221)","v":""},{"$f":"IF('保険料申告内訳名簿（一人親方団体控）'!G221=\"\",\"\",'保険料申告内訳名簿（一人親方団体控）'!G221)","v":""},{"$f":"IF('保険料申告内訳名簿（一人親方団体控）'!H221=\"\",\"\",'保険料申告内訳名簿（一人親方団体控）'!H221)","v":""},{"$f":"IF('保険料申告内訳名簿（一人親方団体控）'!I221=\"\",\"\",'保険料申告内訳名簿（一人親方団体控）'!I221)","v":""},{"$f":"IF('保険料申告内訳名簿（一人親方団体控）'!J221=\"\",\"\",'保険料申告内訳名簿（一人親方団体控）'!J221)","v":""},{"$f":"IF('保険料申告内訳名簿（一人親方団体控）'!K221=\"\",\"\",'保険料申告内訳名簿（一人親方団体控）'!K221)","v":""},{"$f":"IF('保険料申告内訳名簿（一人親方団体控）'!L221=\"\",\"\",'保険料申告内訳名簿（一人親方団体控）'!L221)","v":""},{"$f":"IF('保険料申告内訳名簿（一人親方団体控）'!M221=\"\",\"\",'保険料申告内訳名簿（一人親方団体控）'!M221)","v":""},{"$f":"IF('保険料申告内訳名簿（一人親方団体控）'!N221=\"\",\"\",'保険料申告内訳名簿（一人親方団体控）'!N221)","v":""},{"$f":"IF('保険料申告内訳名簿（一人親方団体控）'!O221=\"\",\"\",'保険料申告内訳名簿（一人親方団体控）'!O221)","v":""},{"$f":"IF('保険料申告内訳名簿（一人親方団体控）'!P221=\"\",\"\",'保険料申告内訳名簿（一人親方団体控）'!P221)","v":""},{"$f":"IF('保険料申告内訳名簿（一人親方団体控）'!Q221=\"\",\"\",'保険料申告内訳名簿（一人親方団体控）'!Q221)","v":""},{"$f":"IF('保険料申告内訳名簿（一人親方団体控）'!R221=\"\",\"\",'保険料申告内訳名簿（一人親方団体控）'!R221)","v":""},{"$f":"IF('保険料申告内訳名簿（一人親方団体控）'!S221=\"\",\"\",'保険料申告内訳名簿（一人親方団体控）'!S221)","v":0},{"$f":"IF('保険料申告内訳名簿（一人親方団体控）'!T221=\"\",\"\",'保険料申告内訳名簿（一人親方団体控）'!T221)","v":""},{"$f":"IF('保険料申告内訳名簿（一人親方団体控）'!U221=\"\",\"\",'保険料申告内訳名簿（一人親方団体控）'!U221)","v":""},{"$f":"IF('保険料申告内訳名簿（一人親方団体控）'!V221=\"\",\"\",'保険料申告内訳名簿（一人親方団体控）'!V221)","v":""},{"$f":"IF('保険料申告内訳名簿（一人親方団体控）'!W221=\"\",\"\",'保険料申告内訳名簿（一人親方団体控）'!W221)","v":""},{"$f":"IF('保険料申告内訳名簿（一人親方団体控）'!X221=\"\",\"\",'保険料申告内訳名簿（一人親方団体控）'!X221)","v":""},{"$f":"IF('保険料申告内訳名簿（一人親方団体控）'!Y221=\"\",\"\",'保険料申告内訳名簿（一人親方団体控）'!Y221)","v":""},{"$f":"IF('保険料申告内訳名簿（一人親方団体控）'!Z221=\"\",\"\",'保険料申告内訳名簿（一人親方団体控）'!Z221)","v":""},{"$f":"IF('保険料申告内訳名簿（一人親方団体控）'!AA221=\"\",\"\",'保険料申告内訳名簿（一人親方団体控）'!AA221)","v":""},{"$f":"IF('保険料申告内訳名簿（一人親方団体控）'!AB221=\"\",\"\",'保険料申告内訳名簿（一人親方団体控）'!AB221)","v":""},{"$f":"IF('保険料申告内訳名簿（一人親方団体控）'!AC221=\"\",\"\",'保険料申告内訳名簿（一人親方団体控）'!AC221)","v":0},{"$f":"IF('保険料申告内訳名簿（一人親方団体控）'!AD221=\"\",\"\",'保険料申告内訳名簿（一人親方団体控）'!AD221)","v":""},{"$f":"IF('保険料申告内訳名簿（一人親方団体控）'!AE221=\"\",\"\",'保険料申告内訳名簿（一人親方団体控）'!AE221)","v":""},{"$f":"IF('保険料申告内訳名簿（一人親方団体控）'!AF221=\"\",\"\",'保険料申告内訳名簿（一人親方団体控）'!AF221)","v":""},{"$f":"IF('保険料申告内訳名簿（一人親方団体控）'!AG221=\"\",\"\",'保険料申告内訳名簿（一人親方団体控）'!AG221)","v":""},{"$f":"IF('保険料申告内訳名簿（一人親方団体控）'!AH221=\"\",\"\",'保険料申告内訳名簿（一人親方団体控）'!AH221)","v":""}]
[null,{"$f":"IF('保険料申告内訳名簿（一人親方団体控）'!B222=\"\",\"\",'保険料申告内訳名簿（一人親方団体控）'!B222)","v":""},{"$f":"IF('保険料申告内訳名簿（一人親方団体控）'!C222=\"\",\"\",'保険料申告内訳名簿（一人親方団体控）'!C222)","v":""},{"$f":"IF('保険料申告内訳名簿（一人親方団体控）'!D222=\"\",\"\",'保険料申告内訳名簿（一人親方団体控）'!D222)","v":""},{"$f":"IF('保険料申告内訳名簿（一人親方団体控）'!E222=\"\",\"\",'保険料申告内訳名簿（一人親方団体控）'!E222)","v":""},{"$f":"IF('保険料申告内訳名簿（一人親方団体控）'!F222=\"\",\"\",'保険料申告内訳名簿（一人親方団体控）'!F222)","v":""},{"$f":"IF('保険料申告内訳名簿（一人親方団体控）'!G222=\"\",\"\",'保険料申告内訳名簿（一人親方団体控）'!G222)","v":""},{"$f":"IF('保険料申告内訳名簿（一人親方団体控）'!H222=\"\",\"\",'保険料申告内訳名簿（一人親方団体控）'!H222)","v":""},{"$f":"IF('保険料申告内訳名簿（一人親方団体控）'!I222=\"\",\"\",'保険料申告内訳名簿（一人親方団体控）'!I222)","v":""},{"$f":"IF('保険料申告内訳名簿（一人親方団体控）'!J222=\"\",\"\",'保険料申告内訳名簿（一人親方団体控）'!J222)","v":""},{"$f":"IF('保険料申告内訳名簿（一人親方団体控）'!K222=\"\",\"\",'保険料申告内訳名簿（一人親方団体控）'!K222)","v":""},{"$f":"IF('保険料申告内訳名簿（一人親方団体控）'!L222=\"\",\"\",'保険料申告内訳名簿（一人親方団体控）'!L222)","v":""},{"$f":"IF('保険料申告内訳名簿（一人親方団体控）'!M222=\"\",\"\",'保険料申告内訳名簿（一人親方団体控）'!M222)","v":""},{"$f":"IF('保険料申告内訳名簿（一人親方団体控）'!N222=\"\",\"\",'保険料申告内訳名簿（一人親方団体控）'!N222)","v":""},{"$f":"IF('保険料申告内訳名簿（一人親方団体控）'!O222=\"\",\"\",'保険料申告内訳名簿（一人親方団体控）'!O222)","v":""},{"$f":"IF('保険料申告内訳名簿（一人親方団体控）'!P222=\"\",\"\",'保険料申告内訳名簿（一人親方団体控）'!P222)","v":""},{"$f":"IF('保険料申告内訳名簿（一人親方団体控）'!Q222=\"\",\"\",'保険料申告内訳名簿（一人親方団体控）'!Q222)","v":""},{"$f":"IF('保険料申告内訳名簿（一人親方団体控）'!R222=\"\",\"\",'保険料申告内訳名簿（一人親方団体控）'!R222)","v":""},{"$f":"IF('保険料申告内訳名簿（一人親方団体控）'!S222=\"\",\"\",'保険料申告内訳名簿（一人親方団体控）'!S222)","v":0},{"$f":"IF('保険料申告内訳名簿（一人親方団体控）'!T222=\"\",\"\",'保険料申告内訳名簿（一人親方団体控）'!T222)","v":""},{"$f":"IF('保険料申告内訳名簿（一人親方団体控）'!U222=\"\",\"\",'保険料申告内訳名簿（一人親方団体控）'!U222)","v":""},{"$f":"IF('保険料申告内訳名簿（一人親方団体控）'!V222=\"\",\"\",'保険料申告内訳名簿（一人親方団体控）'!V222)","v":""},{"$f":"IF('保険料申告内訳名簿（一人親方団体控）'!W222=\"\",\"\",'保険料申告内訳名簿（一人親方団体控）'!W222)","v":""},{"$f":"IF('保険料申告内訳名簿（一人親方団体控）'!X222=\"\",\"\",'保険料申告内訳名簿（一人親方団体控）'!X222)","v":""},{"$f":"IF('保険料申告内訳名簿（一人親方団体控）'!Y222=\"\",\"\",'保険料申告内訳名簿（一人親方団体控）'!Y222)","v":""},{"$f":"IF('保険料申告内訳名簿（一人親方団体控）'!Z222=\"\",\"\",'保険料申告内訳名簿（一人親方団体控）'!Z222)","v":""},{"$f":"IF('保険料申告内訳名簿（一人親方団体控）'!AA222=\"\",\"\",'保険料申告内訳名簿（一人親方団体控）'!AA222)","v":""},{"$f":"IF('保険料申告内訳名簿（一人親方団体控）'!AB222=\"\",\"\",'保険料申告内訳名簿（一人親方団体控）'!AB222)","v":""},{"$f":"IF('保険料申告内訳名簿（一人親方団体控）'!AC222=\"\",\"\",'保険料申告内訳名簿（一人親方団体控）'!AC222)","v":0},{"$f":"IF('保険料申告内訳名簿（一人親方団体控）'!AD222=\"\",\"\",'保険料申告内訳名簿（一人親方団体控）'!AD222)","v":""},{"$f":"IF('保険料申告内訳名簿（一人親方団体控）'!AE222=\"\",\"\",'保険料申告内訳名簿（一人親方団体控）'!AE222)","v":""},{"$f":"IF('保険料申告内訳名簿（一人親方団体控）'!AF222=\"\",\"\",'保険料申告内訳名簿（一人親方団体控）'!AF222)","v":""},{"$f":"IF('保険料申告内訳名簿（一人親方団体控）'!AG222=\"\",\"\",'保険料申告内訳名簿（一人親方団体控）'!AG222)","v":""},{"$f":"IF('保険料申告内訳名簿（一人親方団体控）'!AH222=\"\",\"\",'保険料申告内訳名簿（一人親方団体控）'!AH222)","v":""}]
[null,{"$f":"IF('保険料申告内訳名簿（一人親方団体控）'!B223=\"\",\"\",'保険料申告内訳名簿（一人親方団体控）'!B223)","v":""},{"$f":"IF('保険料申告内訳名簿（一人親方団体控）'!C223=\"\",\"\",'保険料申告内訳名簿（一人親方団体控）'!C223)","v":""},{"$f":"IF('保険料申告内訳名簿（一人親方団体控）'!D223=\"\",\"\",'保険料申告内訳名簿（一人親方団体控）'!D223)","v":""},{"$f":"IF('保険料申告内訳名簿（一人親方団体控）'!E223=\"\",\"\",'保険料申告内訳名簿（一人親方団体控）'!E223)","v":""},{"$f":"IF('保険料申告内訳名簿（一人親方団体控）'!F223=\"\",\"\",'保険料申告内訳名簿（一人親方団体控）'!F223)","v":""},{"$f":"IF('保険料申告内訳名簿（一人親方団体控）'!G223=\"\",\"\",'保険料申告内訳名簿（一人親方団体控）'!G223)","v":""},{"$f":"IF('保険料申告内訳名簿（一人親方団体控）'!H223=\"\",\"\",'保険料申告内訳名簿（一人親方団体控）'!H223)","v":""},{"$f":"IF('保険料申告内訳名簿（一人親方団体控）'!I223=\"\",\"\",'保険料申告内訳名簿（一人親方団体控）'!I223)","v":""},{"$f":"IF('保険料申告内訳名簿（一人親方団体控）'!J223=\"\",\"\",'保険料申告内訳名簿（一人親方団体控）'!J223)","v":""},{"$f":"IF('保険料申告内訳名簿（一人親方団体控）'!K223=\"\",\"\",'保険料申告内訳名簿（一人親方団体控）'!K223)","v":""},{"$f":"IF('保険料申告内訳名簿（一人親方団体控）'!L223=\"\",\"\",'保険料申告内訳名簿（一人親方団体控）'!L223)","v":""},{"$f":"IF('保険料申告内訳名簿（一人親方団体控）'!M223=\"\",\"\",'保険料申告内訳名簿（一人親方団体控）'!M223)","v":""},{"$f":"IF('保険料申告内訳名簿（一人親方団体控）'!N223=\"\",\"\",'保険料申告内訳名簿（一人親方団体控）'!N223)","v":""},{"$f":"IF('保険料申告内訳名簿（一人親方団体控）'!O223=\"\",\"\",'保険料申告内訳名簿（一人親方団体控）'!O223)","v":""},{"$f":"IF('保険料申告内訳名簿（一人親方団体控）'!P223=\"\",\"\",'保険料申告内訳名簿（一人親方団体控）'!P223)","v":""},{"$f":"IF('保険料申告内訳名簿（一人親方団体控）'!Q223=\"\",\"\",'保険料申告内訳名簿（一人親方団体控）'!Q223)","v":""},{"$f":"IF('保険料申告内訳名簿（一人親方団体控）'!R223=\"\",\"\",'保険料申告内訳名簿（一人親方団体控）'!R223)","v":""},{"$f":"IF('保険料申告内訳名簿（一人親方団体控）'!S223=\"\",\"\",'保険料申告内訳名簿（一人親方団体控）'!S223)","v":0},{"$f":"IF('保険料申告内訳名簿（一人親方団体控）'!T223=\"\",\"\",'保険料申告内訳名簿（一人親方団体控）'!T223)","v":""},{"$f":"IF('保険料申告内訳名簿（一人親方団体控）'!U223=\"\",\"\",'保険料申告内訳名簿（一人親方団体控）'!U223)","v":""},{"$f":"IF('保険料申告内訳名簿（一人親方団体控）'!V223=\"\",\"\",'保険料申告内訳名簿（一人親方団体控）'!V223)","v":""},{"$f":"IF('保険料申告内訳名簿（一人親方団体控）'!W223=\"\",\"\",'保険料申告内訳名簿（一人親方団体控）'!W223)","v":""},{"$f":"IF('保険料申告内訳名簿（一人親方団体控）'!X223=\"\",\"\",'保険料申告内訳名簿（一人親方団体控）'!X223)","v":""},{"$f":"IF('保険料申告内訳名簿（一人親方団体控）'!Y223=\"\",\"\",'保険料申告内訳名簿（一人親方団体控）'!Y223)","v":""},{"$f":"IF('保険料申告内訳名簿（一人親方団体控）'!Z223=\"\",\"\",'保険料申告内訳名簿（一人親方団体控）'!Z223)","v":""},{"$f":"IF('保険料申告内訳名簿（一人親方団体控）'!AA223=\"\",\"\",'保険料申告内訳名簿（一人親方団体控）'!AA223)","v":""},{"$f":"IF('保険料申告内訳名簿（一人親方団体控）'!AB223=\"\",\"\",'保険料申告内訳名簿（一人親方団体控）'!AB223)","v":""},{"$f":"IF('保険料申告内訳名簿（一人親方団体控）'!AC223=\"\",\"\",'保険料申告内訳名簿（一人親方団体控）'!AC223)","v":0},{"$f":"IF('保険料申告内訳名簿（一人親方団体控）'!AD223=\"\",\"\",'保険料申告内訳名簿（一人親方団体控）'!AD223)","v":""},{"$f":"IF('保険料申告内訳名簿（一人親方団体控）'!AE223=\"\",\"\",'保険料申告内訳名簿（一人親方団体控）'!AE223)","v":""},{"$f":"IF('保険料申告内訳名簿（一人親方団体控）'!AF223=\"\",\"\",'保険料申告内訳名簿（一人親方団体控）'!AF223)","v":""},{"$f":"IF('保険料申告内訳名簿（一人親方団体控）'!AG223=\"\",\"\",'保険料申告内訳名簿（一人親方団体控）'!AG223)","v":""},{"$f":"IF('保険料申告内訳名簿（一人親方団体控）'!AH223=\"\",\"\",'保険料申告内訳名簿（一人親方団体控）'!AH223)","v":""}]
[null,null,null,null,null,null,null,null,null,null,null,null,null,null,null,null,null,null,{"$f":"IF('保険料申告内訳名簿（一人親方団体控）'!S224=\"\",\"\",'保険料申告内訳名簿（一人親方団体控）'!S224)","v":0},{"$f":"IF('保険料申告内訳名簿（一人親方団体控）'!T224=\"\",\"\",'保険料申告内訳名簿（一人親方団体控）'!T224)","v":""},{"$f":"IF('保険料申告内訳名簿（一人親方団体控）'!U224=\"\",\"\",'保険料申告内訳名簿（一人親方団体控）'!U224)","v":""},{"$f":"IF('保険料申告内訳名簿（一人親方団体控）'!V224=\"\",\"\",'保険料申告内訳名簿（一人親方団体控）'!V224)","v":""},{"$f":"IF('保険料申告内訳名簿（一人親方団体控）'!W224=\"\",\"\",'保険料申告内訳名簿（一人親方団体控）'!W224)","v":""},{"$f":"IF('保険料申告内訳名簿（一人親方団体控）'!X224=\"\",\"\",'保険料申告内訳名簿（一人親方団体控）'!X224)","v":""},null,null,null,null,{"$f":"IF('保険料申告内訳名簿（一人親方団体控）'!AC224=\"\",\"\",'保険料申告内訳名簿（一人親方団体控）'!AC224)","v":0},{"$f":"IF('保険料申告内訳名簿（一人親方団体控）'!AD224=\"\",\"\",'保険料申告内訳名簿（一人親方団体控）'!AD224)","v":""},{"$f":"IF('保険料申告内訳名簿（一人親方団体控）'!AE224=\"\",\"\",'保険料申告内訳名簿（一人親方団体控）'!AE224)","v":""},{"$f":"IF('保険料申告内訳名簿（一人親方団体控）'!AF224=\"\",\"\",'保険料申告内訳名簿（一人親方団体控）'!AF224)","v":""},{"$f":"IF('保険料申告内訳名簿（一人親方団体控）'!AG224=\"\",\"\",'保険料申告内訳名簿（一人親方団体控）'!AG224)","v":""},{"$f":"IF('保険料申告内訳名簿（一人親方団体控）'!AH224=\"\",\"\",'保険料申告内訳名簿（一人親方団体控）'!AH224)","v":""}]
[]
[null,"（注）"]
[null,null,"１）　④欄は月割の対象となる方のみ記入して下さい。"]
[null,null,"２）　月割の対象となる場合の⑤保険料算定基礎額の算定方法"]
[null,null,"２）　月割の対象となる場合の③（給付基礎日額×365÷12）（円未満を切り上げてから）×加入月数"]
[]
[]
[null,"【島根局版】",null,null,null,null,null,null,null,null,null,null,null,null,null,null,null,null,null,null,null,null,null,null,null,null,"監督署用"]
[null,"第２種特別加入保険料申告内訳名簿"]
[null,"（一人親方等）"]
[null,null,null,null,null,null,null,null,null,null,null,null,null,null,null,null,null,null,null,null,null,null,null,null,"（",{"$f":"IF('保険料申告内訳名簿（一人親方団体控）'!Z235=\"\",\"\",'保険料申告内訳名簿（一人親方団体控）'!Z235)","v":0},{"$f":"IF('保険料申告内訳名簿（一人親方団体控）'!AA235=\"\",\"\",'保険料申告内訳名簿（一人親方団体控）'!AA235)","v":""},"枚のうち",null,{"$f":"IF('保険料申告内訳名簿（一人親方団体控）'!AD235=\"\",\"\",'保険料申告内訳名簿（一人親方団体控）'!AD235)","v":8},{"$f":"IF('保険料申告内訳名簿（一人親方団体控）'!AE235=\"\",\"\",'保険料申告内訳名簿（一人親方団体控）'!AE235)","v":""},"枚目",null,"）"]
[]
[null,"労働保険\n番　　　号",null,null,null,null,"府県",null,"所掌","管轄",null,"基幹番号",null,null,null,null,null,"枝番号",null,null,"事業場の\n所在地",null,null,{"$f":"IF('保険料申告内訳名簿（一人親方団体控）'!X237=\"\",\"\",'保険料申告内訳名簿（一人親方団体控）'!X237)","v":""},{"$f":"IF('保険料申告内訳名簿（一人親方団体控）'!Y237=\"\",\"\",'保険料申告内訳名簿（一人親方団体控）'!Y237)","v":""},{"$f":"IF('保険料申告内訳名簿（一人親方団体控）'!Z237=\"\",\"\",'保険料申告内訳名簿（一人親方団体控）'!Z237)","v":""},{"$f":"IF('保険料申告内訳名簿（一人親方団体控）'!AA237=\"\",\"\",'保険料申告内訳名簿（一人親方団体控）'!AA237)","v":""},{"$f":"IF('保険料申告内訳名簿（一人親方団体控）'!AB237=\"\",\"\",'保険料申告内訳名簿（一人親方団体控）'!AB237)","v":""},{"$f":"IF('保険料申告内訳名簿（一人親方団体控）'!AC237=\"\",\"\",'保険料申告内訳名簿（一人親方団体控）'!AC237)","v":""},{"$f":"IF('保険料申告内訳名簿（一人親方団体控）'!AD237=\"\",\"\",'保険料申告内訳名簿（一人親方団体控）'!AD237)","v":""},{"$f":"IF('保険料申告内訳名簿（一人親方団体控）'!AE237=\"\",\"\",'保険料申告内訳名簿（一人親方団体控）'!AE237)","v":""},{"$f":"IF('保険料申告内訳名簿（一人親方団体控）'!AF237=\"\",\"\",'保険料申告内訳名簿（一人親方団体控）'!AF237)","v":""},{"$f":"IF('保険料申告内訳名簿（一人親方団体控）'!AG237=\"\",\"\",'保険料申告内訳名簿（一人親方団体控）'!AG237)","v":""},{"$f":"IF('保険料申告内訳名簿（一人親方団体控）'!AH237=\"\",\"\",'保険料申告内訳名簿（一人親方団体控）'!AH237)","v":""}]
[null,null,null,null,null,null,"3","2",{"$f":"IF('保険料申告内訳名簿（一人親方団体控）'!I238=\"\",\"\",'保険料申告内訳名簿（一人親方団体控）'!I238)","v":""},{"$f":"IF('保険料申告内訳名簿（一人親方団体控）'!J238=\"\",\"\",'保険料申告内訳名簿（一人親方団体控）'!J238)","v":""},{"$f":"IF('保険料申告内訳名簿（一人親方団体控）'!K238=\"\",\"\",'保険料申告内訳名簿（一人親方団体控）'!K238)","v":""},{"$f":"IF('保険料申告内訳名簿（一人親方団体控）'!L238=\"\",\"\",'保険料申告内訳名簿（一人親方団体控）'!L238)","v":""},{"$f":"IF('保険料申告内訳名簿（一人親方団体控）'!M238=\"\",\"\",'保険料申告内訳名簿（一人親方団体控）'!M238)","v":""},{"$f":"IF('保険料申告内訳名簿（一人親方団体控）'!N238=\"\",\"\",'保険料申告内訳名簿（一人親方団体控）'!N238)","v":""},{"$f":"IF('保険料申告内訳名簿（一人親方団体控）'!O238=\"\",\"\",'保険料申告内訳名簿（一人親方団体控）'!O238)","v":""},{"$f":"IF('保険料申告内訳名簿（一人親方団体控）'!P238=\"\",\"\",'保険料申告内訳名簿（一人親方団体控）'!P238)","v":""},{"$f":"IF('保険料申告内訳名簿（一人親方団体控）'!Q238=\"\",\"\",'保険料申告内訳名簿（一人親方団体控）'!Q238)","v":""},{"$f":"IF('保険料申告内訳名簿（一人親方団体控）'!R238=\"\",\"\",'保険料申告内訳名簿（一人親方団体控）'!R238)","v":""},{"$f":"IF('保険料申告内訳名簿（一人親方団体控）'!S238=\"\",\"\",'保険料申告内訳名簿（一人親方団体控）'!S238)","v":""},{"$f":"IF('保険料申告内訳名簿（一人親方団体控）'!T238=\"\",\"\",'保険料申告内訳名簿（一人親方団体控）'!T238)","v":""},"事業場の\n名称",null,null,{"$f":"IF('保険料申告内訳名簿（一人親方団体控）'!X238=\"\",\"\",'保険料申告内訳名簿（一人親方団体控）'!X238)","v":""},{"$f":"IF('保険料申告内訳名簿（一人親方団体控）'!Y238=\"\",\"\",'保険料申告内訳名簿（一人親方団体控）'!Y238)","v":""},{"$f":"IF('保険料申告内訳名簿（一人親方団体控）'!Z238=\"\",\"\",'保険料申告内訳名簿（一人親方団体控）'!Z238)","v":""},{"$f":"IF('保険料申告内訳名簿（一人親方団体控）'!AA238=\"\",\"\",'保険料申告内訳名簿（一人親方団体控）'!AA238)","v":""},{"$f":"IF('保険料申告内訳名簿（一人親方団体控）'!AB238=\"\",\"\",'保険料申告内訳名簿（一人親方団体控）'!AB238)","v":""},{"$f":"IF('保険料申告内訳名簿（一人親方団体控）'!AC238=\"\",\"\",'保険料申告内訳名簿（一人親方団体控）'!AC238)","v":""},{"$f":"IF('保険料申告内訳名簿（一人親方団体控）'!AD238=\"\",\"\",'保険料申告内訳名簿（一人親方団体控）'!AD238)","v":""},{"$f":"IF('保険料申告内訳名簿（一人親方団体控）'!AE238=\"\",\"\",'保険料申告内訳名簿（一人親方団体控）'!AE238)","v":""},{"$f":"IF('保険料申告内訳名簿（一人親方団体控）'!AF238=\"\",\"\",'保険料申告内訳名簿（一人親方団体控）'!AF238)","v":""},{"$f":"IF('保険料申告内訳名簿（一人親方団体控）'!AG238=\"\",\"\",'保険料申告内訳名簿（一人親方団体控）'!AG238)","v":""},{"$f":"IF('保険料申告内訳名簿（一人親方団体控）'!AH238=\"\",\"\",'保険料申告内訳名簿（一人親方団体控）'!AH238)","v":""}]
[null,"①\n整理\n番号",null,"②\n氏名",null,null,null,null,null,null,null,null,null,null,"令 和",null,null,{"$f":"IF('保険料申告内訳名簿（一人親方団体控）'!R239=\"\",\"\",'保険料申告内訳名簿（一人親方団体控）'!R239)","v":""},{"$f":"IF('保険料申告内訳名簿（一人親方団体控）'!S239=\"\",\"\",'保険料申告内訳名簿（一人親方団体控）'!S239)","v":""},{"$f":"IF('保険料申告内訳名簿（一人親方団体控）'!T239=\"\",\"\",'保険料申告内訳名簿（一人親方団体控）'!T239)","v":""},null,null,null,"年 度 確 定 ","令 和",null,null,{"$f":"IF('保険料申告内訳名簿（一人親方団体控）'!AB239=\"\",\"\",'保険料申告内訳名簿（一人親方団体控）'!AB239)","v":""},{"$f":"IF('保険料申告内訳名簿（一人親方団体控）'!AC239=\"\",\"\",'保険料申告内訳名簿（一人親方団体控）'!AC239)","v":""},{"$f":"IF('保険料申告内訳名簿（一人親方団体控）'!AD239=\"\",\"\",'保険料申告内訳名簿（一人親方団体控）'!AD239)","v":""},null,null,null,"年 度 概 算 "]
[null,null,null,null,null,null,null,"③　\n給付基礎日額",null,null,null,"④年度中途加入・脱退",null,null,null,null,null,null,"⑤\n保険料算定基礎額",null,null,null,null,null,"⑥\n給付基礎日額",null,null,null,"⑦\n保険料算定基礎額"]
[null,null,null,null,null,null,null,null,null,null,null,"加入・脱退年月日",null,null,null,null,"加入月数"]
[null,{"$f":"IF('保険料申告内訳名簿（一人親方団体控）'!B242=\"\",\"\",'保険料申告内訳名簿（一人親方団体控）'!B242)","v":""},{"$f":"IF('保険料申告内訳名簿（一人親方団体控）'!C242=\"\",\"\",'保険料申告内訳名簿（一人親方団体控）'!C242)","v":""},{"$f":"IF('保険料申告内訳名簿（一人親方団体控）'!D242=\"\",\"\",'保険料申告内訳名簿（一人親方団体控）'!D242)","v":""},{"$f":"IF('保険料申告内訳名簿（一人親方団体控）'!E242=\"\",\"\",'保険料申告内訳名簿（一人親方団体控）'!E242)","v":""},{"$f":"IF('保険料申告内訳名簿（一人親方団体控）'!F242=\"\",\"\",'保険料申告内訳名簿（一人親方団体控）'!F242)","v":""},{"$f":"IF('保険料申告内訳名簿（一人親方団体控）'!G242=\"\",\"\",'保険料申告内訳名簿（一人親方団体控）'!G242)","v":""},{"$f":"IF('保険料申告内訳名簿（一人親方団体控）'!H242=\"\",\"\",'保険料申告内訳名簿（一人親方団体控）'!H242)","v":""},{"$f":"IF('保険料申告内訳名簿（一人親方団体控）'!I242=\"\",\"\",'保険料申告内訳名簿（一人親方団体控）'!I242)","v":""},{"$f":"IF('保険料申告内訳名簿（一人親方団体控）'!J242=\"\",\"\",'保険料申告内訳名簿（一人親方団体控）'!J242)","v":""},{"$f":"IF('保険料申告内訳名簿（一人親方団体控）'!K242=\"\",\"\",'保険料申告内訳名簿（一人親方団体控）'!K242)","v":""},{"$f":"IF('保険料申告内訳名簿（一人親方団体控）'!L242=\"\",\"\",'保険料申告内訳名簿（一人親方団体控）'!L242)","v":""},{"$f":"IF('保険料申告内訳名簿（一人親方団体控）'!M242=\"\",\"\",'保険料申告内訳名簿（一人親方団体控）'!M242)","v":""},{"$f":"IF('保険料申告内訳名簿（一人親方団体控）'!N242=\"\",\"\",'保険料申告内訳名簿（一人親方団体控）'!N242)","v":""},{"$f":"IF('保険料申告内訳名簿（一人親方団体控）'!O242=\"\",\"\",'保険料申告内訳名簿（一人親方団体控）'!O242)","v":""},{"$f":"IF('保険料申告内訳名簿（一人親方団体控）'!P242=\"\",\"\",'保険料申告内訳名簿（一人親方団体控）'!P242)","v":""},{"$f":"IF('保険料申告内訳名簿（一人親方団体控）'!Q242=\"\",\"\",'保険料申告内訳名簿（一人親方団体控）'!Q242)","v":""},{"$f":"IF('保険料申告内訳名簿（一人親方団体控）'!R242=\"\",\"\",'保険料申告内訳名簿（一人親方団体控）'!R242)","v":""},{"$f":"IF('保険料申告内訳名簿（一人親方団体控）'!S242=\"\",\"\",'保険料申告内訳名簿（一人親方団体控）'!S242)","v":0},{"$f":"IF('保険料申告内訳名簿（一人親方団体控）'!T242=\"\",\"\",'保険料申告内訳名簿（一人親方団体控）'!T242)","v":""},{"$f":"IF('保険料申告内訳名簿（一人親方団体控）'!U242=\"\",\"\",'保険料申告内訳名簿（一人親方団体控）'!U242)","v":""},{"$f":"IF('保険料申告内訳名簿（一人親方団体控）'!V242=\"\",\"\",'保険料申告内訳名簿（一人親方団体控）'!V242)","v":""},{"$f":"IF('保険料申告内訳名簿（一人親方団体控）'!W242=\"\",\"\",'保険料申告内訳名簿（一人親方団体控）'!W242)","v":""},{"$f":"IF('保険料申告内訳名簿（一人親方団体控）'!X242=\"\",\"\",'保険料申告内訳名簿（一人親方団体控）'!X242)","v":""},{"$f":"IF('保険料申告内訳名簿（一人親方団体控）'!Y242=\"\",\"\",'保険料申告内訳名簿（一人親方団体控）'!Y242)","v":""},{"$f":"IF('保険料申告内訳名簿（一人親方団体控）'!Z242=\"\",\"\",'保険料申告内訳名簿（一人親方団体控）'!Z242)","v":""},{"$f":"IF('保険料申告内訳名簿（一人親方団体控）'!AA242=\"\",\"\",'保険料申告内訳名簿（一人親方団体控）'!AA242)","v":""},{"$f":"IF('保険料申告内訳名簿（一人親方団体控）'!AB242=\"\",\"\",'保険料申告内訳名簿（一人親方団体控）'!AB242)","v":""},{"$f":"IF('保険料申告内訳名簿（一人親方団体控）'!AC242=\"\",\"\",'保険料申告内訳名簿（一人親方団体控）'!AC242)","v":0},{"$f":"IF('保険料申告内訳名簿（一人親方団体控）'!AD242=\"\",\"\",'保険料申告内訳名簿（一人親方団体控）'!AD242)","v":""},{"$f":"IF('保険料申告内訳名簿（一人親方団体控）'!AE242=\"\",\"\",'保険料申告内訳名簿（一人親方団体控）'!AE242)","v":""},{"$f":"IF('保険料申告内訳名簿（一人親方団体控）'!AF242=\"\",\"\",'保険料申告内訳名簿（一人親方団体控）'!AF242)","v":""},{"$f":"IF('保険料申告内訳名簿（一人親方団体控）'!AG242=\"\",\"\",'保険料申告内訳名簿（一人親方団体控）'!AG242)","v":""},{"$f":"IF('保険料申告内訳名簿（一人親方団体控）'!AH242=\"\",\"\",'保険料申告内訳名簿（一人親方団体控）'!AH242)","v":""}]
[null,{"$f":"IF('保険料申告内訳名簿（一人親方団体控）'!B243=\"\",\"\",'保険料申告内訳名簿（一人親方団体控）'!B243)","v":""},{"$f":"IF('保険料申告内訳名簿（一人親方団体控）'!C243=\"\",\"\",'保険料申告内訳名簿（一人親方団体控）'!C243)","v":""},{"$f":"IF('保険料申告内訳名簿（一人親方団体控）'!D243=\"\",\"\",'保険料申告内訳名簿（一人親方団体控）'!D243)","v":""},{"$f":"IF('保険料申告内訳名簿（一人親方団体控）'!E243=\"\",\"\",'保険料申告内訳名簿（一人親方団体控）'!E243)","v":""},{"$f":"IF('保険料申告内訳名簿（一人親方団体控）'!F243=\"\",\"\",'保険料申告内訳名簿（一人親方団体控）'!F243)","v":""},{"$f":"IF('保険料申告内訳名簿（一人親方団体控）'!G243=\"\",\"\",'保険料申告内訳名簿（一人親方団体控）'!G243)","v":""},{"$f":"IF('保険料申告内訳名簿（一人親方団体控）'!H243=\"\",\"\",'保険料申告内訳名簿（一人親方団体控）'!H243)","v":""},{"$f":"IF('保険料申告内訳名簿（一人親方団体控）'!I243=\"\",\"\",'保険料申告内訳名簿（一人親方団体控）'!I243)","v":""},{"$f":"IF('保険料申告内訳名簿（一人親方団体控）'!J243=\"\",\"\",'保険料申告内訳名簿（一人親方団体控）'!J243)","v":""},{"$f":"IF('保険料申告内訳名簿（一人親方団体控）'!K243=\"\",\"\",'保険料申告内訳名簿（一人親方団体控）'!K243)","v":""},{"$f":"IF('保険料申告内訳名簿（一人親方団体控）'!L243=\"\",\"\",'保険料申告内訳名簿（一人親方団体控）'!L243)","v":""},{"$f":"IF('保険料申告内訳名簿（一人親方団体控）'!M243=\"\",\"\",'保険料申告内訳名簿（一人親方団体控）'!M243)","v":""},{"$f":"IF('保険料申告内訳名簿（一人親方団体控）'!N243=\"\",\"\",'保険料申告内訳名簿（一人親方団体控）'!N243)","v":""},{"$f":"IF('保険料申告内訳名簿（一人親方団体控）'!O243=\"\",\"\",'保険料申告内訳名簿（一人親方団体控）'!O243)","v":""},{"$f":"IF('保険料申告内訳名簿（一人親方団体控）'!P243=\"\",\"\",'保険料申告内訳名簿（一人親方団体控）'!P243)","v":""},{"$f":"IF('保険料申告内訳名簿（一人親方団体控）'!Q243=\"\",\"\",'保険料申告内訳名簿（一人親方団体控）'!Q243)","v":""},{"$f":"IF('保険料申告内訳名簿（一人親方団体控）'!R243=\"\",\"\",'保険料申告内訳名簿（一人親方団体控）'!R243)","v":""},{"$f":"IF('保険料申告内訳名簿（一人親方団体控）'!S243=\"\",\"\",'保険料申告内訳名簿（一人親方団体控）'!S243)","v":0},{"$f":"IF('保険料申告内訳名簿（一人親方団体控）'!T243=\"\",\"\",'保険料申告内訳名簿（一人親方団体控）'!T243)","v":""},{"$f":"IF('保険料申告内訳名簿（一人親方団体控）'!U243=\"\",\"\",'保険料申告内訳名簿（一人親方団体控）'!U243)","v":""},{"$f":"IF('保険料申告内訳名簿（一人親方団体控）'!V243=\"\",\"\",'保険料申告内訳名簿（一人親方団体控）'!V243)","v":""},{"$f":"IF('保険料申告内訳名簿（一人親方団体控）'!W243=\"\",\"\",'保険料申告内訳名簿（一人親方団体控）'!W243)","v":""},{"$f":"IF('保険料申告内訳名簿（一人親方団体控）'!X243=\"\",\"\",'保険料申告内訳名簿（一人親方団体控）'!X243)","v":""},{"$f":"IF('保険料申告内訳名簿（一人親方団体控）'!Y243=\"\",\"\",'保険料申告内訳名簿（一人親方団体控）'!Y243)","v":""},{"$f":"IF('保険料申告内訳名簿（一人親方団体控）'!Z243=\"\",\"\",'保険料申告内訳名簿（一人親方団体控）'!Z243)","v":""},{"$f":"IF('保険料申告内訳名簿（一人親方団体控）'!AA243=\"\",\"\",'保険料申告内訳名簿（一人親方団体控）'!AA243)","v":""},{"$f":"IF('保険料申告内訳名簿（一人親方団体控）'!AB243=\"\",\"\",'保険料申告内訳名簿（一人親方団体控）'!AB243)","v":""},{"$f":"IF('保険料申告内訳名簿（一人親方団体控）'!AC243=\"\",\"\",'保険料申告内訳名簿（一人親方団体控）'!AC243)","v":0},{"$f":"IF('保険料申告内訳名簿（一人親方団体控）'!AD243=\"\",\"\",'保険料申告内訳名簿（一人親方団体控）'!AD243)","v":""},{"$f":"IF('保険料申告内訳名簿（一人親方団体控）'!AE243=\"\",\"\",'保険料申告内訳名簿（一人親方団体控）'!AE243)","v":""},{"$f":"IF('保険料申告内訳名簿（一人親方団体控）'!AF243=\"\",\"\",'保険料申告内訳名簿（一人親方団体控）'!AF243)","v":""},{"$f":"IF('保険料申告内訳名簿（一人親方団体控）'!AG243=\"\",\"\",'保険料申告内訳名簿（一人親方団体控）'!AG243)","v":""},{"$f":"IF('保険料申告内訳名簿（一人親方団体控）'!AH243=\"\",\"\",'保険料申告内訳名簿（一人親方団体控）'!AH243)","v":""}]
[null,{"$f":"IF('保険料申告内訳名簿（一人親方団体控）'!B244=\"\",\"\",'保険料申告内訳名簿（一人親方団体控）'!B244)","v":""},{"$f":"IF('保険料申告内訳名簿（一人親方団体控）'!C244=\"\",\"\",'保険料申告内訳名簿（一人親方団体控）'!C244)","v":""},{"$f":"IF('保険料申告内訳名簿（一人親方団体控）'!D244=\"\",\"\",'保険料申告内訳名簿（一人親方団体控）'!D244)","v":""},{"$f":"IF('保険料申告内訳名簿（一人親方団体控）'!E244=\"\",\"\",'保険料申告内訳名簿（一人親方団体控）'!E244)","v":""},{"$f":"IF('保険料申告内訳名簿（一人親方団体控）'!F244=\"\",\"\",'保険料申告内訳名簿（一人親方団体控）'!F244)","v":""},{"$f":"IF('保険料申告内訳名簿（一人親方団体控）'!G244=\"\",\"\",'保険料申告内訳名簿（一人親方団体控）'!G244)","v":""},{"$f":"IF('保険料申告内訳名簿（一人親方団体控）'!H244=\"\",\"\",'保険料申告内訳名簿（一人親方団体控）'!H244)","v":""},{"$f":"IF('保険料申告内訳名簿（一人親方団体控）'!I244=\"\",\"\",'保険料申告内訳名簿（一人親方団体控）'!I244)","v":""},{"$f":"IF('保険料申告内訳名簿（一人親方団体控）'!J244=\"\",\"\",'保険料申告内訳名簿（一人親方団体控）'!J244)","v":""},{"$f":"IF('保険料申告内訳名簿（一人親方団体控）'!K244=\"\",\"\",'保険料申告内訳名簿（一人親方団体控）'!K244)","v":""},{"$f":"IF('保険料申告内訳名簿（一人親方団体控）'!L244=\"\",\"\",'保険料申告内訳名簿（一人親方団体控）'!L244)","v":""},{"$f":"IF('保険料申告内訳名簿（一人親方団体控）'!M244=\"\",\"\",'保険料申告内訳名簿（一人親方団体控）'!M244)","v":""},{"$f":"IF('保険料申告内訳名簿（一人親方団体控）'!N244=\"\",\"\",'保険料申告内訳名簿（一人親方団体控）'!N244)","v":""},{"$f":"IF('保険料申告内訳名簿（一人親方団体控）'!O244=\"\",\"\",'保険料申告内訳名簿（一人親方団体控）'!O244)","v":""},{"$f":"IF('保険料申告内訳名簿（一人親方団体控）'!P244=\"\",\"\",'保険料申告内訳名簿（一人親方団体控）'!P244)","v":""},{"$f":"IF('保険料申告内訳名簿（一人親方団体控）'!Q244=\"\",\"\",'保険料申告内訳名簿（一人親方団体控）'!Q244)","v":""},{"$f":"IF('保険料申告内訳名簿（一人親方団体控）'!R244=\"\",\"\",'保険料申告内訳名簿（一人親方団体控）'!R244)","v":""},{"$f":"IF('保険料申告内訳名簿（一人親方団体控）'!S244=\"\",\"\",'保険料申告内訳名簿（一人親方団体控）'!S244)","v":0},{"$f":"IF('保険料申告内訳名簿（一人親方団体控）'!T244=\"\",\"\",'保険料申告内訳名簿（一人親方団体控）'!T244)","v":""},{"$f":"IF('保険料申告内訳名簿（一人親方団体控）'!U244=\"\",\"\",'保険料申告内訳名簿（一人親方団体控）'!U244)","v":""},{"$f":"IF('保険料申告内訳名簿（一人親方団体控）'!V244=\"\",\"\",'保険料申告内訳名簿（一人親方団体控）'!V244)","v":""},{"$f":"IF('保険料申告内訳名簿（一人親方団体控）'!W244=\"\",\"\",'保険料申告内訳名簿（一人親方団体控）'!W244)","v":""},{"$f":"IF('保険料申告内訳名簿（一人親方団体控）'!X244=\"\",\"\",'保険料申告内訳名簿（一人親方団体控）'!X244)","v":""},{"$f":"IF('保険料申告内訳名簿（一人親方団体控）'!Y244=\"\",\"\",'保険料申告内訳名簿（一人親方団体控）'!Y244)","v":""},{"$f":"IF('保険料申告内訳名簿（一人親方団体控）'!Z244=\"\",\"\",'保険料申告内訳名簿（一人親方団体控）'!Z244)","v":""},{"$f":"IF('保険料申告内訳名簿（一人親方団体控）'!AA244=\"\",\"\",'保険料申告内訳名簿（一人親方団体控）'!AA244)","v":""},{"$f":"IF('保険料申告内訳名簿（一人親方団体控）'!AB244=\"\",\"\",'保険料申告内訳名簿（一人親方団体控）'!AB244)","v":""},{"$f":"IF('保険料申告内訳名簿（一人親方団体控）'!AC244=\"\",\"\",'保険料申告内訳名簿（一人親方団体控）'!AC244)","v":0},{"$f":"IF('保険料申告内訳名簿（一人親方団体控）'!AD244=\"\",\"\",'保険料申告内訳名簿（一人親方団体控）'!AD244)","v":""},{"$f":"IF('保険料申告内訳名簿（一人親方団体控）'!AE244=\"\",\"\",'保険料申告内訳名簿（一人親方団体控）'!AE244)","v":""},{"$f":"IF('保険料申告内訳名簿（一人親方団体控）'!AF244=\"\",\"\",'保険料申告内訳名簿（一人親方団体控）'!AF244)","v":""},{"$f":"IF('保険料申告内訳名簿（一人親方団体控）'!AG244=\"\",\"\",'保険料申告内訳名簿（一人親方団体控）'!AG244)","v":""},{"$f":"IF('保険料申告内訳名簿（一人親方団体控）'!AH244=\"\",\"\",'保険料申告内訳名簿（一人親方団体控）'!AH244)","v":""}]
[null,{"$f":"IF('保険料申告内訳名簿（一人親方団体控）'!B245=\"\",\"\",'保険料申告内訳名簿（一人親方団体控）'!B245)","v":""},{"$f":"IF('保険料申告内訳名簿（一人親方団体控）'!C245=\"\",\"\",'保険料申告内訳名簿（一人親方団体控）'!C245)","v":""},{"$f":"IF('保険料申告内訳名簿（一人親方団体控）'!D245=\"\",\"\",'保険料申告内訳名簿（一人親方団体控）'!D245)","v":""},{"$f":"IF('保険料申告内訳名簿（一人親方団体控）'!E245=\"\",\"\",'保険料申告内訳名簿（一人親方団体控）'!E245)","v":""},{"$f":"IF('保険料申告内訳名簿（一人親方団体控）'!F245=\"\",\"\",'保険料申告内訳名簿（一人親方団体控）'!F245)","v":""},{"$f":"IF('保険料申告内訳名簿（一人親方団体控）'!G245=\"\",\"\",'保険料申告内訳名簿（一人親方団体控）'!G245)","v":""},{"$f":"IF('保険料申告内訳名簿（一人親方団体控）'!H245=\"\",\"\",'保険料申告内訳名簿（一人親方団体控）'!H245)","v":""},{"$f":"IF('保険料申告内訳名簿（一人親方団体控）'!I245=\"\",\"\",'保険料申告内訳名簿（一人親方団体控）'!I245)","v":""},{"$f":"IF('保険料申告内訳名簿（一人親方団体控）'!J245=\"\",\"\",'保険料申告内訳名簿（一人親方団体控）'!J245)","v":""},{"$f":"IF('保険料申告内訳名簿（一人親方団体控）'!K245=\"\",\"\",'保険料申告内訳名簿（一人親方団体控）'!K245)","v":""},{"$f":"IF('保険料申告内訳名簿（一人親方団体控）'!L245=\"\",\"\",'保険料申告内訳名簿（一人親方団体控）'!L245)","v":""},{"$f":"IF('保険料申告内訳名簿（一人親方団体控）'!M245=\"\",\"\",'保険料申告内訳名簿（一人親方団体控）'!M245)","v":""},{"$f":"IF('保険料申告内訳名簿（一人親方団体控）'!N245=\"\",\"\",'保険料申告内訳名簿（一人親方団体控）'!N245)","v":""},{"$f":"IF('保険料申告内訳名簿（一人親方団体控）'!O245=\"\",\"\",'保険料申告内訳名簿（一人親方団体控）'!O245)","v":""},{"$f":"IF('保険料申告内訳名簿（一人親方団体控）'!P245=\"\",\"\",'保険料申告内訳名簿（一人親方団体控）'!P245)","v":""},{"$f":"IF('保険料申告内訳名簿（一人親方団体控）'!Q245=\"\",\"\",'保険料申告内訳名簿（一人親方団体控）'!Q245)","v":""},{"$f":"IF('保険料申告内訳名簿（一人親方団体控）'!R245=\"\",\"\",'保険料申告内訳名簿（一人親方団体控）'!R245)","v":""},{"$f":"IF('保険料申告内訳名簿（一人親方団体控）'!S245=\"\",\"\",'保険料申告内訳名簿（一人親方団体控）'!S245)","v":0},{"$f":"IF('保険料申告内訳名簿（一人親方団体控）'!T245=\"\",\"\",'保険料申告内訳名簿（一人親方団体控）'!T245)","v":""},{"$f":"IF('保険料申告内訳名簿（一人親方団体控）'!U245=\"\",\"\",'保険料申告内訳名簿（一人親方団体控）'!U245)","v":""},{"$f":"IF('保険料申告内訳名簿（一人親方団体控）'!V245=\"\",\"\",'保険料申告内訳名簿（一人親方団体控）'!V245)","v":""},{"$f":"IF('保険料申告内訳名簿（一人親方団体控）'!W245=\"\",\"\",'保険料申告内訳名簿（一人親方団体控）'!W245)","v":""},{"$f":"IF('保険料申告内訳名簿（一人親方団体控）'!X245=\"\",\"\",'保険料申告内訳名簿（一人親方団体控）'!X245)","v":""},{"$f":"IF('保険料申告内訳名簿（一人親方団体控）'!Y245=\"\",\"\",'保険料申告内訳名簿（一人親方団体控）'!Y245)","v":""},{"$f":"IF('保険料申告内訳名簿（一人親方団体控）'!Z245=\"\",\"\",'保険料申告内訳名簿（一人親方団体控）'!Z245)","v":""},{"$f":"IF('保険料申告内訳名簿（一人親方団体控）'!AA245=\"\",\"\",'保険料申告内訳名簿（一人親方団体控）'!AA245)","v":""},{"$f":"IF('保険料申告内訳名簿（一人親方団体控）'!AB245=\"\",\"\",'保険料申告内訳名簿（一人親方団体控）'!AB245)","v":""},{"$f":"IF('保険料申告内訳名簿（一人親方団体控）'!AC245=\"\",\"\",'保険料申告内訳名簿（一人親方団体控）'!AC245)","v":0},{"$f":"IF('保険料申告内訳名簿（一人親方団体控）'!AD245=\"\",\"\",'保険料申告内訳名簿（一人親方団体控）'!AD245)","v":""},{"$f":"IF('保険料申告内訳名簿（一人親方団体控）'!AE245=\"\",\"\",'保険料申告内訳名簿（一人親方団体控）'!AE245)","v":""},{"$f":"IF('保険料申告内訳名簿（一人親方団体控）'!AF245=\"\",\"\",'保険料申告内訳名簿（一人親方団体控）'!AF245)","v":""},{"$f":"IF('保険料申告内訳名簿（一人親方団体控）'!AG245=\"\",\"\",'保険料申告内訳名簿（一人親方団体控）'!AG245)","v":""},{"$f":"IF('保険料申告内訳名簿（一人親方団体控）'!AH245=\"\",\"\",'保険料申告内訳名簿（一人親方団体控）'!AH245)","v":""}]
[null,{"$f":"IF('保険料申告内訳名簿（一人親方団体控）'!B246=\"\",\"\",'保険料申告内訳名簿（一人親方団体控）'!B246)","v":""},{"$f":"IF('保険料申告内訳名簿（一人親方団体控）'!C246=\"\",\"\",'保険料申告内訳名簿（一人親方団体控）'!C246)","v":""},{"$f":"IF('保険料申告内訳名簿（一人親方団体控）'!D246=\"\",\"\",'保険料申告内訳名簿（一人親方団体控）'!D246)","v":""},{"$f":"IF('保険料申告内訳名簿（一人親方団体控）'!E246=\"\",\"\",'保険料申告内訳名簿（一人親方団体控）'!E246)","v":""},{"$f":"IF('保険料申告内訳名簿（一人親方団体控）'!F246=\"\",\"\",'保険料申告内訳名簿（一人親方団体控）'!F246)","v":""},{"$f":"IF('保険料申告内訳名簿（一人親方団体控）'!G246=\"\",\"\",'保険料申告内訳名簿（一人親方団体控）'!G246)","v":""},{"$f":"IF('保険料申告内訳名簿（一人親方団体控）'!H246=\"\",\"\",'保険料申告内訳名簿（一人親方団体控）'!H246)","v":""},{"$f":"IF('保険料申告内訳名簿（一人親方団体控）'!I246=\"\",\"\",'保険料申告内訳名簿（一人親方団体控）'!I246)","v":""},{"$f":"IF('保険料申告内訳名簿（一人親方団体控）'!J246=\"\",\"\",'保険料申告内訳名簿（一人親方団体控）'!J246)","v":""},{"$f":"IF('保険料申告内訳名簿（一人親方団体控）'!K246=\"\",\"\",'保険料申告内訳名簿（一人親方団体控）'!K246)","v":""},{"$f":"IF('保険料申告内訳名簿（一人親方団体控）'!L246=\"\",\"\",'保険料申告内訳名簿（一人親方団体控）'!L246)","v":""},{"$f":"IF('保険料申告内訳名簿（一人親方団体控）'!M246=\"\",\"\",'保険料申告内訳名簿（一人親方団体控）'!M246)","v":""},{"$f":"IF('保険料申告内訳名簿（一人親方団体控）'!N246=\"\",\"\",'保険料申告内訳名簿（一人親方団体控）'!N246)","v":""},{"$f":"IF('保険料申告内訳名簿（一人親方団体控）'!O246=\"\",\"\",'保険料申告内訳名簿（一人親方団体控）'!O246)","v":""},{"$f":"IF('保険料申告内訳名簿（一人親方団体控）'!P246=\"\",\"\",'保険料申告内訳名簿（一人親方団体控）'!P246)","v":""},{"$f":"IF('保険料申告内訳名簿（一人親方団体控）'!Q246=\"\",\"\",'保険料申告内訳名簿（一人親方団体控）'!Q246)","v":""},{"$f":"IF('保険料申告内訳名簿（一人親方団体控）'!R246=\"\",\"\",'保険料申告内訳名簿（一人親方団体控）'!R246)","v":""},{"$f":"IF('保険料申告内訳名簿（一人親方団体控）'!S246=\"\",\"\",'保険料申告内訳名簿（一人親方団体控）'!S246)","v":0},{"$f":"IF('保険料申告内訳名簿（一人親方団体控）'!T246=\"\",\"\",'保険料申告内訳名簿（一人親方団体控）'!T246)","v":""},{"$f":"IF('保険料申告内訳名簿（一人親方団体控）'!U246=\"\",\"\",'保険料申告内訳名簿（一人親方団体控）'!U246)","v":""},{"$f":"IF('保険料申告内訳名簿（一人親方団体控）'!V246=\"\",\"\",'保険料申告内訳名簿（一人親方団体控）'!V246)","v":""},{"$f":"IF('保険料申告内訳名簿（一人親方団体控）'!W246=\"\",\"\",'保険料申告内訳名簿（一人親方団体控）'!W246)","v":""},{"$f":"IF('保険料申告内訳名簿（一人親方団体控）'!X246=\"\",\"\",'保険料申告内訳名簿（一人親方団体控）'!X246)","v":""},{"$f":"IF('保険料申告内訳名簿（一人親方団体控）'!Y246=\"\",\"\",'保険料申告内訳名簿（一人親方団体控）'!Y246)","v":""},{"$f":"IF('保険料申告内訳名簿（一人親方団体控）'!Z246=\"\",\"\",'保険料申告内訳名簿（一人親方団体控）'!Z246)","v":""},{"$f":"IF('保険料申告内訳名簿（一人親方団体控）'!AA246=\"\",\"\",'保険料申告内訳名簿（一人親方団体控）'!AA246)","v":""},{"$f":"IF('保険料申告内訳名簿（一人親方団体控）'!AB246=\"\",\"\",'保険料申告内訳名簿（一人親方団体控）'!AB246)","v":""},{"$f":"IF('保険料申告内訳名簿（一人親方団体控）'!AC246=\"\",\"\",'保険料申告内訳名簿（一人親方団体控）'!AC246)","v":0},{"$f":"IF('保険料申告内訳名簿（一人親方団体控）'!AD246=\"\",\"\",'保険料申告内訳名簿（一人親方団体控）'!AD246)","v":""},{"$f":"IF('保険料申告内訳名簿（一人親方団体控）'!AE246=\"\",\"\",'保険料申告内訳名簿（一人親方団体控）'!AE246)","v":""},{"$f":"IF('保険料申告内訳名簿（一人親方団体控）'!AF246=\"\",\"\",'保険料申告内訳名簿（一人親方団体控）'!AF246)","v":""},{"$f":"IF('保険料申告内訳名簿（一人親方団体控）'!AG246=\"\",\"\",'保険料申告内訳名簿（一人親方団体控）'!AG246)","v":""},{"$f":"IF('保険料申告内訳名簿（一人親方団体控）'!AH246=\"\",\"\",'保険料申告内訳名簿（一人親方団体控）'!AH246)","v":""}]
[null,{"$f":"IF('保険料申告内訳名簿（一人親方団体控）'!B247=\"\",\"\",'保険料申告内訳名簿（一人親方団体控）'!B247)","v":""},{"$f":"IF('保険料申告内訳名簿（一人親方団体控）'!C247=\"\",\"\",'保険料申告内訳名簿（一人親方団体控）'!C247)","v":""},{"$f":"IF('保険料申告内訳名簿（一人親方団体控）'!D247=\"\",\"\",'保険料申告内訳名簿（一人親方団体控）'!D247)","v":""},{"$f":"IF('保険料申告内訳名簿（一人親方団体控）'!E247=\"\",\"\",'保険料申告内訳名簿（一人親方団体控）'!E247)","v":""},{"$f":"IF('保険料申告内訳名簿（一人親方団体控）'!F247=\"\",\"\",'保険料申告内訳名簿（一人親方団体控）'!F247)","v":""},{"$f":"IF('保険料申告内訳名簿（一人親方団体控）'!G247=\"\",\"\",'保険料申告内訳名簿（一人親方団体控）'!G247)","v":""},{"$f":"IF('保険料申告内訳名簿（一人親方団体控）'!H247=\"\",\"\",'保険料申告内訳名簿（一人親方団体控）'!H247)","v":""},{"$f":"IF('保険料申告内訳名簿（一人親方団体控）'!I247=\"\",\"\",'保険料申告内訳名簿（一人親方団体控）'!I247)","v":""},{"$f":"IF('保険料申告内訳名簿（一人親方団体控）'!J247=\"\",\"\",'保険料申告内訳名簿（一人親方団体控）'!J247)","v":""},{"$f":"IF('保険料申告内訳名簿（一人親方団体控）'!K247=\"\",\"\",'保険料申告内訳名簿（一人親方団体控）'!K247)","v":""},{"$f":"IF('保険料申告内訳名簿（一人親方団体控）'!L247=\"\",\"\",'保険料申告内訳名簿（一人親方団体控）'!L247)","v":""},{"$f":"IF('保険料申告内訳名簿（一人親方団体控）'!M247=\"\",\"\",'保険料申告内訳名簿（一人親方団体控）'!M247)","v":""},{"$f":"IF('保険料申告内訳名簿（一人親方団体控）'!N247=\"\",\"\",'保険料申告内訳名簿（一人親方団体控）'!N247)","v":""},{"$f":"IF('保険料申告内訳名簿（一人親方団体控）'!O247=\"\",\"\",'保険料申告内訳名簿（一人親方団体控）'!O247)","v":""},{"$f":"IF('保険料申告内訳名簿（一人親方団体控）'!P247=\"\",\"\",'保険料申告内訳名簿（一人親方団体控）'!P247)","v":""},{"$f":"IF('保険料申告内訳名簿（一人親方団体控）'!Q247=\"\",\"\",'保険料申告内訳名簿（一人親方団体控）'!Q247)","v":""},{"$f":"IF('保険料申告内訳名簿（一人親方団体控）'!R247=\"\",\"\",'保険料申告内訳名簿（一人親方団体控）'!R247)","v":""},{"$f":"IF('保険料申告内訳名簿（一人親方団体控）'!S247=\"\",\"\",'保険料申告内訳名簿（一人親方団体控）'!S247)","v":0},{"$f":"IF('保険料申告内訳名簿（一人親方団体控）'!T247=\"\",\"\",'保険料申告内訳名簿（一人親方団体控）'!T247)","v":""},{"$f":"IF('保険料申告内訳名簿（一人親方団体控）'!U247=\"\",\"\",'保険料申告内訳名簿（一人親方団体控）'!U247)","v":""},{"$f":"IF('保険料申告内訳名簿（一人親方団体控）'!V247=\"\",\"\",'保険料申告内訳名簿（一人親方団体控）'!V247)","v":""},{"$f":"IF('保険料申告内訳名簿（一人親方団体控）'!W247=\"\",\"\",'保険料申告内訳名簿（一人親方団体控）'!W247)","v":""},{"$f":"IF('保険料申告内訳名簿（一人親方団体控）'!X247=\"\",\"\",'保険料申告内訳名簿（一人親方団体控）'!X247)","v":""},{"$f":"IF('保険料申告内訳名簿（一人親方団体控）'!Y247=\"\",\"\",'保険料申告内訳名簿（一人親方団体控）'!Y247)","v":""},{"$f":"IF('保険料申告内訳名簿（一人親方団体控）'!Z247=\"\",\"\",'保険料申告内訳名簿（一人親方団体控）'!Z247)","v":""},{"$f":"IF('保険料申告内訳名簿（一人親方団体控）'!AA247=\"\",\"\",'保険料申告内訳名簿（一人親方団体控）'!AA247)","v":""},{"$f":"IF('保険料申告内訳名簿（一人親方団体控）'!AB247=\"\",\"\",'保険料申告内訳名簿（一人親方団体控）'!AB247)","v":""},{"$f":"IF('保険料申告内訳名簿（一人親方団体控）'!AC247=\"\",\"\",'保険料申告内訳名簿（一人親方団体控）'!AC247)","v":0},{"$f":"IF('保険料申告内訳名簿（一人親方団体控）'!AD247=\"\",\"\",'保険料申告内訳名簿（一人親方団体控）'!AD247)","v":""},{"$f":"IF('保険料申告内訳名簿（一人親方団体控）'!AE247=\"\",\"\",'保険料申告内訳名簿（一人親方団体控）'!AE247)","v":""},{"$f":"IF('保険料申告内訳名簿（一人親方団体控）'!AF247=\"\",\"\",'保険料申告内訳名簿（一人親方団体控）'!AF247)","v":""},{"$f":"IF('保険料申告内訳名簿（一人親方団体控）'!AG247=\"\",\"\",'保険料申告内訳名簿（一人親方団体控）'!AG247)","v":""},{"$f":"IF('保険料申告内訳名簿（一人親方団体控）'!AH247=\"\",\"\",'保険料申告内訳名簿（一人親方団体控）'!AH247)","v":""}]
[null,{"$f":"IF('保険料申告内訳名簿（一人親方団体控）'!B248=\"\",\"\",'保険料申告内訳名簿（一人親方団体控）'!B248)","v":""},{"$f":"IF('保険料申告内訳名簿（一人親方団体控）'!C248=\"\",\"\",'保険料申告内訳名簿（一人親方団体控）'!C248)","v":""},{"$f":"IF('保険料申告内訳名簿（一人親方団体控）'!D248=\"\",\"\",'保険料申告内訳名簿（一人親方団体控）'!D248)","v":""},{"$f":"IF('保険料申告内訳名簿（一人親方団体控）'!E248=\"\",\"\",'保険料申告内訳名簿（一人親方団体控）'!E248)","v":""},{"$f":"IF('保険料申告内訳名簿（一人親方団体控）'!F248=\"\",\"\",'保険料申告内訳名簿（一人親方団体控）'!F248)","v":""},{"$f":"IF('保険料申告内訳名簿（一人親方団体控）'!G248=\"\",\"\",'保険料申告内訳名簿（一人親方団体控）'!G248)","v":""},{"$f":"IF('保険料申告内訳名簿（一人親方団体控）'!H248=\"\",\"\",'保険料申告内訳名簿（一人親方団体控）'!H248)","v":""},{"$f":"IF('保険料申告内訳名簿（一人親方団体控）'!I248=\"\",\"\",'保険料申告内訳名簿（一人親方団体控）'!I248)","v":""},{"$f":"IF('保険料申告内訳名簿（一人親方団体控）'!J248=\"\",\"\",'保険料申告内訳名簿（一人親方団体控）'!J248)","v":""},{"$f":"IF('保険料申告内訳名簿（一人親方団体控）'!K248=\"\",\"\",'保険料申告内訳名簿（一人親方団体控）'!K248)","v":""},{"$f":"IF('保険料申告内訳名簿（一人親方団体控）'!L248=\"\",\"\",'保険料申告内訳名簿（一人親方団体控）'!L248)","v":""},{"$f":"IF('保険料申告内訳名簿（一人親方団体控）'!M248=\"\",\"\",'保険料申告内訳名簿（一人親方団体控）'!M248)","v":""},{"$f":"IF('保険料申告内訳名簿（一人親方団体控）'!N248=\"\",\"\",'保険料申告内訳名簿（一人親方団体控）'!N248)","v":""},{"$f":"IF('保険料申告内訳名簿（一人親方団体控）'!O248=\"\",\"\",'保険料申告内訳名簿（一人親方団体控）'!O248)","v":""},{"$f":"IF('保険料申告内訳名簿（一人親方団体控）'!P248=\"\",\"\",'保険料申告内訳名簿（一人親方団体控）'!P248)","v":""},{"$f":"IF('保険料申告内訳名簿（一人親方団体控）'!Q248=\"\",\"\",'保険料申告内訳名簿（一人親方団体控）'!Q248)","v":""},{"$f":"IF('保険料申告内訳名簿（一人親方団体控）'!R248=\"\",\"\",'保険料申告内訳名簿（一人親方団体控）'!R248)","v":""},{"$f":"IF('保険料申告内訳名簿（一人親方団体控）'!S248=\"\",\"\",'保険料申告内訳名簿（一人親方団体控）'!S248)","v":0},{"$f":"IF('保険料申告内訳名簿（一人親方団体控）'!T248=\"\",\"\",'保険料申告内訳名簿（一人親方団体控）'!T248)","v":""},{"$f":"IF('保険料申告内訳名簿（一人親方団体控）'!U248=\"\",\"\",'保険料申告内訳名簿（一人親方団体控）'!U248)","v":""},{"$f":"IF('保険料申告内訳名簿（一人親方団体控）'!V248=\"\",\"\",'保険料申告内訳名簿（一人親方団体控）'!V248)","v":""},{"$f":"IF('保険料申告内訳名簿（一人親方団体控）'!W248=\"\",\"\",'保険料申告内訳名簿（一人親方団体控）'!W248)","v":""},{"$f":"IF('保険料申告内訳名簿（一人親方団体控）'!X248=\"\",\"\",'保険料申告内訳名簿（一人親方団体控）'!X248)","v":""},{"$f":"IF('保険料申告内訳名簿（一人親方団体控）'!Y248=\"\",\"\",'保険料申告内訳名簿（一人親方団体控）'!Y248)","v":""},{"$f":"IF('保険料申告内訳名簿（一人親方団体控）'!Z248=\"\",\"\",'保険料申告内訳名簿（一人親方団体控）'!Z248)","v":""},{"$f":"IF('保険料申告内訳名簿（一人親方団体控）'!AA248=\"\",\"\",'保険料申告内訳名簿（一人親方団体控）'!AA248)","v":""},{"$f":"IF('保険料申告内訳名簿（一人親方団体控）'!AB248=\"\",\"\",'保険料申告内訳名簿（一人親方団体控）'!AB248)","v":""},{"$f":"IF('保険料申告内訳名簿（一人親方団体控）'!AC248=\"\",\"\",'保険料申告内訳名簿（一人親方団体控）'!AC248)","v":0},{"$f":"IF('保険料申告内訳名簿（一人親方団体控）'!AD248=\"\",\"\",'保険料申告内訳名簿（一人親方団体控）'!AD248)","v":""},{"$f":"IF('保険料申告内訳名簿（一人親方団体控）'!AE248=\"\",\"\",'保険料申告内訳名簿（一人親方団体控）'!AE248)","v":""},{"$f":"IF('保険料申告内訳名簿（一人親方団体控）'!AF248=\"\",\"\",'保険料申告内訳名簿（一人親方団体控）'!AF248)","v":""},{"$f":"IF('保険料申告内訳名簿（一人親方団体控）'!AG248=\"\",\"\",'保険料申告内訳名簿（一人親方団体控）'!AG248)","v":""},{"$f":"IF('保険料申告内訳名簿（一人親方団体控）'!AH248=\"\",\"\",'保険料申告内訳名簿（一人親方団体控）'!AH248)","v":""}]
[null,{"$f":"IF('保険料申告内訳名簿（一人親方団体控）'!B249=\"\",\"\",'保険料申告内訳名簿（一人親方団体控）'!B249)","v":""},{"$f":"IF('保険料申告内訳名簿（一人親方団体控）'!C249=\"\",\"\",'保険料申告内訳名簿（一人親方団体控）'!C249)","v":""},{"$f":"IF('保険料申告内訳名簿（一人親方団体控）'!D249=\"\",\"\",'保険料申告内訳名簿（一人親方団体控）'!D249)","v":""},{"$f":"IF('保険料申告内訳名簿（一人親方団体控）'!E249=\"\",\"\",'保険料申告内訳名簿（一人親方団体控）'!E249)","v":""},{"$f":"IF('保険料申告内訳名簿（一人親方団体控）'!F249=\"\",\"\",'保険料申告内訳名簿（一人親方団体控）'!F249)","v":""},{"$f":"IF('保険料申告内訳名簿（一人親方団体控）'!G249=\"\",\"\",'保険料申告内訳名簿（一人親方団体控）'!G249)","v":""},{"$f":"IF('保険料申告内訳名簿（一人親方団体控）'!H249=\"\",\"\",'保険料申告内訳名簿（一人親方団体控）'!H249)","v":""},{"$f":"IF('保険料申告内訳名簿（一人親方団体控）'!I249=\"\",\"\",'保険料申告内訳名簿（一人親方団体控）'!I249)","v":""},{"$f":"IF('保険料申告内訳名簿（一人親方団体控）'!J249=\"\",\"\",'保険料申告内訳名簿（一人親方団体控）'!J249)","v":""},{"$f":"IF('保険料申告内訳名簿（一人親方団体控）'!K249=\"\",\"\",'保険料申告内訳名簿（一人親方団体控）'!K249)","v":""},{"$f":"IF('保険料申告内訳名簿（一人親方団体控）'!L249=\"\",\"\",'保険料申告内訳名簿（一人親方団体控）'!L249)","v":""},{"$f":"IF('保険料申告内訳名簿（一人親方団体控）'!M249=\"\",\"\",'保険料申告内訳名簿（一人親方団体控）'!M249)","v":""},{"$f":"IF('保険料申告内訳名簿（一人親方団体控）'!N249=\"\",\"\",'保険料申告内訳名簿（一人親方団体控）'!N249)","v":""},{"$f":"IF('保険料申告内訳名簿（一人親方団体控）'!O249=\"\",\"\",'保険料申告内訳名簿（一人親方団体控）'!O249)","v":""},{"$f":"IF('保険料申告内訳名簿（一人親方団体控）'!P249=\"\",\"\",'保険料申告内訳名簿（一人親方団体控）'!P249)","v":""},{"$f":"IF('保険料申告内訳名簿（一人親方団体控）'!Q249=\"\",\"\",'保険料申告内訳名簿（一人親方団体控）'!Q249)","v":""},{"$f":"IF('保険料申告内訳名簿（一人親方団体控）'!R249=\"\",\"\",'保険料申告内訳名簿（一人親方団体控）'!R249)","v":""},{"$f":"IF('保険料申告内訳名簿（一人親方団体控）'!S249=\"\",\"\",'保険料申告内訳名簿（一人親方団体控）'!S249)","v":0},{"$f":"IF('保険料申告内訳名簿（一人親方団体控）'!T249=\"\",\"\",'保険料申告内訳名簿（一人親方団体控）'!T249)","v":""},{"$f":"IF('保険料申告内訳名簿（一人親方団体控）'!U249=\"\",\"\",'保険料申告内訳名簿（一人親方団体控）'!U249)","v":""},{"$f":"IF('保険料申告内訳名簿（一人親方団体控）'!V249=\"\",\"\",'保険料申告内訳名簿（一人親方団体控）'!V249)","v":""},{"$f":"IF('保険料申告内訳名簿（一人親方団体控）'!W249=\"\",\"\",'保険料申告内訳名簿（一人親方団体控）'!W249)","v":""},{"$f":"IF('保険料申告内訳名簿（一人親方団体控）'!X249=\"\",\"\",'保険料申告内訳名簿（一人親方団体控）'!X249)","v":""},{"$f":"IF('保険料申告内訳名簿（一人親方団体控）'!Y249=\"\",\"\",'保険料申告内訳名簿（一人親方団体控）'!Y249)","v":""},{"$f":"IF('保険料申告内訳名簿（一人親方団体控）'!Z249=\"\",\"\",'保険料申告内訳名簿（一人親方団体控）'!Z249)","v":""},{"$f":"IF('保険料申告内訳名簿（一人親方団体控）'!AA249=\"\",\"\",'保険料申告内訳名簿（一人親方団体控）'!AA249)","v":""},{"$f":"IF('保険料申告内訳名簿（一人親方団体控）'!AB249=\"\",\"\",'保険料申告内訳名簿（一人親方団体控）'!AB249)","v":""},{"$f":"IF('保険料申告内訳名簿（一人親方団体控）'!AC249=\"\",\"\",'保険料申告内訳名簿（一人親方団体控）'!AC249)","v":0},{"$f":"IF('保険料申告内訳名簿（一人親方団体控）'!AD249=\"\",\"\",'保険料申告内訳名簿（一人親方団体控）'!AD249)","v":""},{"$f":"IF('保険料申告内訳名簿（一人親方団体控）'!AE249=\"\",\"\",'保険料申告内訳名簿（一人親方団体控）'!AE249)","v":""},{"$f":"IF('保険料申告内訳名簿（一人親方団体控）'!AF249=\"\",\"\",'保険料申告内訳名簿（一人親方団体控）'!AF249)","v":""},{"$f":"IF('保険料申告内訳名簿（一人親方団体控）'!AG249=\"\",\"\",'保険料申告内訳名簿（一人親方団体控）'!AG249)","v":""},{"$f":"IF('保険料申告内訳名簿（一人親方団体控）'!AH249=\"\",\"\",'保険料申告内訳名簿（一人親方団体控）'!AH249)","v":""}]
[null,{"$f":"IF('保険料申告内訳名簿（一人親方団体控）'!B250=\"\",\"\",'保険料申告内訳名簿（一人親方団体控）'!B250)","v":""},{"$f":"IF('保険料申告内訳名簿（一人親方団体控）'!C250=\"\",\"\",'保険料申告内訳名簿（一人親方団体控）'!C250)","v":""},{"$f":"IF('保険料申告内訳名簿（一人親方団体控）'!D250=\"\",\"\",'保険料申告内訳名簿（一人親方団体控）'!D250)","v":""},{"$f":"IF('保険料申告内訳名簿（一人親方団体控）'!E250=\"\",\"\",'保険料申告内訳名簿（一人親方団体控）'!E250)","v":""},{"$f":"IF('保険料申告内訳名簿（一人親方団体控）'!F250=\"\",\"\",'保険料申告内訳名簿（一人親方団体控）'!F250)","v":""},{"$f":"IF('保険料申告内訳名簿（一人親方団体控）'!G250=\"\",\"\",'保険料申告内訳名簿（一人親方団体控）'!G250)","v":""},{"$f":"IF('保険料申告内訳名簿（一人親方団体控）'!H250=\"\",\"\",'保険料申告内訳名簿（一人親方団体控）'!H250)","v":""},{"$f":"IF('保険料申告内訳名簿（一人親方団体控）'!I250=\"\",\"\",'保険料申告内訳名簿（一人親方団体控）'!I250)","v":""},{"$f":"IF('保険料申告内訳名簿（一人親方団体控）'!J250=\"\",\"\",'保険料申告内訳名簿（一人親方団体控）'!J250)","v":""},{"$f":"IF('保険料申告内訳名簿（一人親方団体控）'!K250=\"\",\"\",'保険料申告内訳名簿（一人親方団体控）'!K250)","v":""},{"$f":"IF('保険料申告内訳名簿（一人親方団体控）'!L250=\"\",\"\",'保険料申告内訳名簿（一人親方団体控）'!L250)","v":""},{"$f":"IF('保険料申告内訳名簿（一人親方団体控）'!M250=\"\",\"\",'保険料申告内訳名簿（一人親方団体控）'!M250)","v":""},{"$f":"IF('保険料申告内訳名簿（一人親方団体控）'!N250=\"\",\"\",'保険料申告内訳名簿（一人親方団体控）'!N250)","v":""},{"$f":"IF('保険料申告内訳名簿（一人親方団体控）'!O250=\"\",\"\",'保険料申告内訳名簿（一人親方団体控）'!O250)","v":""},{"$f":"IF('保険料申告内訳名簿（一人親方団体控）'!P250=\"\",\"\",'保険料申告内訳名簿（一人親方団体控）'!P250)","v":""},{"$f":"IF('保険料申告内訳名簿（一人親方団体控）'!Q250=\"\",\"\",'保険料申告内訳名簿（一人親方団体控）'!Q250)","v":""},{"$f":"IF('保険料申告内訳名簿（一人親方団体控）'!R250=\"\",\"\",'保険料申告内訳名簿（一人親方団体控）'!R250)","v":""},{"$f":"IF('保険料申告内訳名簿（一人親方団体控）'!S250=\"\",\"\",'保険料申告内訳名簿（一人親方団体控）'!S250)","v":0},{"$f":"IF('保険料申告内訳名簿（一人親方団体控）'!T250=\"\",\"\",'保険料申告内訳名簿（一人親方団体控）'!T250)","v":""},{"$f":"IF('保険料申告内訳名簿（一人親方団体控）'!U250=\"\",\"\",'保険料申告内訳名簿（一人親方団体控）'!U250)","v":""},{"$f":"IF('保険料申告内訳名簿（一人親方団体控）'!V250=\"\",\"\",'保険料申告内訳名簿（一人親方団体控）'!V250)","v":""},{"$f":"IF('保険料申告内訳名簿（一人親方団体控）'!W250=\"\",\"\",'保険料申告内訳名簿（一人親方団体控）'!W250)","v":""},{"$f":"IF('保険料申告内訳名簿（一人親方団体控）'!X250=\"\",\"\",'保険料申告内訳名簿（一人親方団体控）'!X250)","v":""},{"$f":"IF('保険料申告内訳名簿（一人親方団体控）'!Y250=\"\",\"\",'保険料申告内訳名簿（一人親方団体控）'!Y250)","v":""},{"$f":"IF('保険料申告内訳名簿（一人親方団体控）'!Z250=\"\",\"\",'保険料申告内訳名簿（一人親方団体控）'!Z250)","v":""},{"$f":"IF('保険料申告内訳名簿（一人親方団体控）'!AA250=\"\",\"\",'保険料申告内訳名簿（一人親方団体控）'!AA250)","v":""},{"$f":"IF('保険料申告内訳名簿（一人親方団体控）'!AB250=\"\",\"\",'保険料申告内訳名簿（一人親方団体控）'!AB250)","v":""},{"$f":"IF('保険料申告内訳名簿（一人親方団体控）'!AC250=\"\",\"\",'保険料申告内訳名簿（一人親方団体控）'!AC250)","v":0},{"$f":"IF('保険料申告内訳名簿（一人親方団体控）'!AD250=\"\",\"\",'保険料申告内訳名簿（一人親方団体控）'!AD250)","v":""},{"$f":"IF('保険料申告内訳名簿（一人親方団体控）'!AE250=\"\",\"\",'保険料申告内訳名簿（一人親方団体控）'!AE250)","v":""},{"$f":"IF('保険料申告内訳名簿（一人親方団体控）'!AF250=\"\",\"\",'保険料申告内訳名簿（一人親方団体控）'!AF250)","v":""},{"$f":"IF('保険料申告内訳名簿（一人親方団体控）'!AG250=\"\",\"\",'保険料申告内訳名簿（一人親方団体控）'!AG250)","v":""},{"$f":"IF('保険料申告内訳名簿（一人親方団体控）'!AH250=\"\",\"\",'保険料申告内訳名簿（一人親方団体控）'!AH250)","v":""}]
[null,{"$f":"IF('保険料申告内訳名簿（一人親方団体控）'!B251=\"\",\"\",'保険料申告内訳名簿（一人親方団体控）'!B251)","v":""},{"$f":"IF('保険料申告内訳名簿（一人親方団体控）'!C251=\"\",\"\",'保険料申告内訳名簿（一人親方団体控）'!C251)","v":""},{"$f":"IF('保険料申告内訳名簿（一人親方団体控）'!D251=\"\",\"\",'保険料申告内訳名簿（一人親方団体控）'!D251)","v":""},{"$f":"IF('保険料申告内訳名簿（一人親方団体控）'!E251=\"\",\"\",'保険料申告内訳名簿（一人親方団体控）'!E251)","v":""},{"$f":"IF('保険料申告内訳名簿（一人親方団体控）'!F251=\"\",\"\",'保険料申告内訳名簿（一人親方団体控）'!F251)","v":""},{"$f":"IF('保険料申告内訳名簿（一人親方団体控）'!G251=\"\",\"\",'保険料申告内訳名簿（一人親方団体控）'!G251)","v":""},{"$f":"IF('保険料申告内訳名簿（一人親方団体控）'!H251=\"\",\"\",'保険料申告内訳名簿（一人親方団体控）'!H251)","v":""},{"$f":"IF('保険料申告内訳名簿（一人親方団体控）'!I251=\"\",\"\",'保険料申告内訳名簿（一人親方団体控）'!I251)","v":""},{"$f":"IF('保険料申告内訳名簿（一人親方団体控）'!J251=\"\",\"\",'保険料申告内訳名簿（一人親方団体控）'!J251)","v":""},{"$f":"IF('保険料申告内訳名簿（一人親方団体控）'!K251=\"\",\"\",'保険料申告内訳名簿（一人親方団体控）'!K251)","v":""},{"$f":"IF('保険料申告内訳名簿（一人親方団体控）'!L251=\"\",\"\",'保険料申告内訳名簿（一人親方団体控）'!L251)","v":""},{"$f":"IF('保険料申告内訳名簿（一人親方団体控）'!M251=\"\",\"\",'保険料申告内訳名簿（一人親方団体控）'!M251)","v":""},{"$f":"IF('保険料申告内訳名簿（一人親方団体控）'!N251=\"\",\"\",'保険料申告内訳名簿（一人親方団体控）'!N251)","v":""},{"$f":"IF('保険料申告内訳名簿（一人親方団体控）'!O251=\"\",\"\",'保険料申告内訳名簿（一人親方団体控）'!O251)","v":""},{"$f":"IF('保険料申告内訳名簿（一人親方団体控）'!P251=\"\",\"\",'保険料申告内訳名簿（一人親方団体控）'!P251)","v":""},{"$f":"IF('保険料申告内訳名簿（一人親方団体控）'!Q251=\"\",\"\",'保険料申告内訳名簿（一人親方団体控）'!Q251)","v":""},{"$f":"IF('保険料申告内訳名簿（一人親方団体控）'!R251=\"\",\"\",'保険料申告内訳名簿（一人親方団体控）'!R251)","v":""},{"$f":"IF('保険料申告内訳名簿（一人親方団体控）'!S251=\"\",\"\",'保険料申告内訳名簿（一人親方団体控）'!S251)","v":0},{"$f":"IF('保険料申告内訳名簿（一人親方団体控）'!T251=\"\",\"\",'保険料申告内訳名簿（一人親方団体控）'!T251)","v":""},{"$f":"IF('保険料申告内訳名簿（一人親方団体控）'!U251=\"\",\"\",'保険料申告内訳名簿（一人親方団体控）'!U251)","v":""},{"$f":"IF('保険料申告内訳名簿（一人親方団体控）'!V251=\"\",\"\",'保険料申告内訳名簿（一人親方団体控）'!V251)","v":""},{"$f":"IF('保険料申告内訳名簿（一人親方団体控）'!W251=\"\",\"\",'保険料申告内訳名簿（一人親方団体控）'!W251)","v":""},{"$f":"IF('保険料申告内訳名簿（一人親方団体控）'!X251=\"\",\"\",'保険料申告内訳名簿（一人親方団体控）'!X251)","v":""},{"$f":"IF('保険料申告内訳名簿（一人親方団体控）'!Y251=\"\",\"\",'保険料申告内訳名簿（一人親方団体控）'!Y251)","v":""},{"$f":"IF('保険料申告内訳名簿（一人親方団体控）'!Z251=\"\",\"\",'保険料申告内訳名簿（一人親方団体控）'!Z251)","v":""},{"$f":"IF('保険料申告内訳名簿（一人親方団体控）'!AA251=\"\",\"\",'保険料申告内訳名簿（一人親方団体控）'!AA251)","v":""},{"$f":"IF('保険料申告内訳名簿（一人親方団体控）'!AB251=\"\",\"\",'保険料申告内訳名簿（一人親方団体控）'!AB251)","v":""},{"$f":"IF('保険料申告内訳名簿（一人親方団体控）'!AC251=\"\",\"\",'保険料申告内訳名簿（一人親方団体控）'!AC251)","v":0},{"$f":"IF('保険料申告内訳名簿（一人親方団体控）'!AD251=\"\",\"\",'保険料申告内訳名簿（一人親方団体控）'!AD251)","v":""},{"$f":"IF('保険料申告内訳名簿（一人親方団体控）'!AE251=\"\",\"\",'保険料申告内訳名簿（一人親方団体控）'!AE251)","v":""},{"$f":"IF('保険料申告内訳名簿（一人親方団体控）'!AF251=\"\",\"\",'保険料申告内訳名簿（一人親方団体控）'!AF251)","v":""},{"$f":"IF('保険料申告内訳名簿（一人親方団体控）'!AG251=\"\",\"\",'保険料申告内訳名簿（一人親方団体控）'!AG251)","v":""},{"$f":"IF('保険料申告内訳名簿（一人親方団体控）'!AH251=\"\",\"\",'保険料申告内訳名簿（一人親方団体控）'!AH251)","v":""}]
[null,{"$f":"IF('保険料申告内訳名簿（一人親方団体控）'!B252=\"\",\"\",'保険料申告内訳名簿（一人親方団体控）'!B252)","v":""},{"$f":"IF('保険料申告内訳名簿（一人親方団体控）'!C252=\"\",\"\",'保険料申告内訳名簿（一人親方団体控）'!C252)","v":""},{"$f":"IF('保険料申告内訳名簿（一人親方団体控）'!D252=\"\",\"\",'保険料申告内訳名簿（一人親方団体控）'!D252)","v":""},{"$f":"IF('保険料申告内訳名簿（一人親方団体控）'!E252=\"\",\"\",'保険料申告内訳名簿（一人親方団体控）'!E252)","v":""},{"$f":"IF('保険料申告内訳名簿（一人親方団体控）'!F252=\"\",\"\",'保険料申告内訳名簿（一人親方団体控）'!F252)","v":""},{"$f":"IF('保険料申告内訳名簿（一人親方団体控）'!G252=\"\",\"\",'保険料申告内訳名簿（一人親方団体控）'!G252)","v":""},{"$f":"IF('保険料申告内訳名簿（一人親方団体控）'!H252=\"\",\"\",'保険料申告内訳名簿（一人親方団体控）'!H252)","v":""},{"$f":"IF('保険料申告内訳名簿（一人親方団体控）'!I252=\"\",\"\",'保険料申告内訳名簿（一人親方団体控）'!I252)","v":""},{"$f":"IF('保険料申告内訳名簿（一人親方団体控）'!J252=\"\",\"\",'保険料申告内訳名簿（一人親方団体控）'!J252)","v":""},{"$f":"IF('保険料申告内訳名簿（一人親方団体控）'!K252=\"\",\"\",'保険料申告内訳名簿（一人親方団体控）'!K252)","v":""},{"$f":"IF('保険料申告内訳名簿（一人親方団体控）'!L252=\"\",\"\",'保険料申告内訳名簿（一人親方団体控）'!L252)","v":""},{"$f":"IF('保険料申告内訳名簿（一人親方団体控）'!M252=\"\",\"\",'保険料申告内訳名簿（一人親方団体控）'!M252)","v":""},{"$f":"IF('保険料申告内訳名簿（一人親方団体控）'!N252=\"\",\"\",'保険料申告内訳名簿（一人親方団体控）'!N252)","v":""},{"$f":"IF('保険料申告内訳名簿（一人親方団体控）'!O252=\"\",\"\",'保険料申告内訳名簿（一人親方団体控）'!O252)","v":""},{"$f":"IF('保険料申告内訳名簿（一人親方団体控）'!P252=\"\",\"\",'保険料申告内訳名簿（一人親方団体控）'!P252)","v":""},{"$f":"IF('保険料申告内訳名簿（一人親方団体控）'!Q252=\"\",\"\",'保険料申告内訳名簿（一人親方団体控）'!Q252)","v":""},{"$f":"IF('保険料申告内訳名簿（一人親方団体控）'!R252=\"\",\"\",'保険料申告内訳名簿（一人親方団体控）'!R252)","v":""},{"$f":"IF('保険料申告内訳名簿（一人親方団体控）'!S252=\"\",\"\",'保険料申告内訳名簿（一人親方団体控）'!S252)","v":0},{"$f":"IF('保険料申告内訳名簿（一人親方団体控）'!T252=\"\",\"\",'保険料申告内訳名簿（一人親方団体控）'!T252)","v":""},{"$f":"IF('保険料申告内訳名簿（一人親方団体控）'!U252=\"\",\"\",'保険料申告内訳名簿（一人親方団体控）'!U252)","v":""},{"$f":"IF('保険料申告内訳名簿（一人親方団体控）'!V252=\"\",\"\",'保険料申告内訳名簿（一人親方団体控）'!V252)","v":""},{"$f":"IF('保険料申告内訳名簿（一人親方団体控）'!W252=\"\",\"\",'保険料申告内訳名簿（一人親方団体控）'!W252)","v":""},{"$f":"IF('保険料申告内訳名簿（一人親方団体控）'!X252=\"\",\"\",'保険料申告内訳名簿（一人親方団体控）'!X252)","v":""},{"$f":"IF('保険料申告内訳名簿（一人親方団体控）'!Y252=\"\",\"\",'保険料申告内訳名簿（一人親方団体控）'!Y252)","v":""},{"$f":"IF('保険料申告内訳名簿（一人親方団体控）'!Z252=\"\",\"\",'保険料申告内訳名簿（一人親方団体控）'!Z252)","v":""},{"$f":"IF('保険料申告内訳名簿（一人親方団体控）'!AA252=\"\",\"\",'保険料申告内訳名簿（一人親方団体控）'!AA252)","v":""},{"$f":"IF('保険料申告内訳名簿（一人親方団体控）'!AB252=\"\",\"\",'保険料申告内訳名簿（一人親方団体控）'!AB252)","v":""},{"$f":"IF('保険料申告内訳名簿（一人親方団体控）'!AC252=\"\",\"\",'保険料申告内訳名簿（一人親方団体控）'!AC252)","v":0},{"$f":"IF('保険料申告内訳名簿（一人親方団体控）'!AD252=\"\",\"\",'保険料申告内訳名簿（一人親方団体控）'!AD252)","v":""},{"$f":"IF('保険料申告内訳名簿（一人親方団体控）'!AE252=\"\",\"\",'保険料申告内訳名簿（一人親方団体控）'!AE252)","v":""},{"$f":"IF('保険料申告内訳名簿（一人親方団体控）'!AF252=\"\",\"\",'保険料申告内訳名簿（一人親方団体控）'!AF252)","v":""},{"$f":"IF('保険料申告内訳名簿（一人親方団体控）'!AG252=\"\",\"\",'保険料申告内訳名簿（一人親方団体控）'!AG252)","v":""},{"$f":"IF('保険料申告内訳名簿（一人親方団体控）'!AH252=\"\",\"\",'保険料申告内訳名簿（一人親方団体控）'!AH252)","v":""}]
[null,{"$f":"IF('保険料申告内訳名簿（一人親方団体控）'!B253=\"\",\"\",'保険料申告内訳名簿（一人親方団体控）'!B253)","v":""},{"$f":"IF('保険料申告内訳名簿（一人親方団体控）'!C253=\"\",\"\",'保険料申告内訳名簿（一人親方団体控）'!C253)","v":""},{"$f":"IF('保険料申告内訳名簿（一人親方団体控）'!D253=\"\",\"\",'保険料申告内訳名簿（一人親方団体控）'!D253)","v":""},{"$f":"IF('保険料申告内訳名簿（一人親方団体控）'!E253=\"\",\"\",'保険料申告内訳名簿（一人親方団体控）'!E253)","v":""},{"$f":"IF('保険料申告内訳名簿（一人親方団体控）'!F253=\"\",\"\",'保険料申告内訳名簿（一人親方団体控）'!F253)","v":""},{"$f":"IF('保険料申告内訳名簿（一人親方団体控）'!G253=\"\",\"\",'保険料申告内訳名簿（一人親方団体控）'!G253)","v":""},{"$f":"IF('保険料申告内訳名簿（一人親方団体控）'!H253=\"\",\"\",'保険料申告内訳名簿（一人親方団体控）'!H253)","v":""},{"$f":"IF('保険料申告内訳名簿（一人親方団体控）'!I253=\"\",\"\",'保険料申告内訳名簿（一人親方団体控）'!I253)","v":""},{"$f":"IF('保険料申告内訳名簿（一人親方団体控）'!J253=\"\",\"\",'保険料申告内訳名簿（一人親方団体控）'!J253)","v":""},{"$f":"IF('保険料申告内訳名簿（一人親方団体控）'!K253=\"\",\"\",'保険料申告内訳名簿（一人親方団体控）'!K253)","v":""},{"$f":"IF('保険料申告内訳名簿（一人親方団体控）'!L253=\"\",\"\",'保険料申告内訳名簿（一人親方団体控）'!L253)","v":""},{"$f":"IF('保険料申告内訳名簿（一人親方団体控）'!M253=\"\",\"\",'保険料申告内訳名簿（一人親方団体控）'!M253)","v":""},{"$f":"IF('保険料申告内訳名簿（一人親方団体控）'!N253=\"\",\"\",'保険料申告内訳名簿（一人親方団体控）'!N253)","v":""},{"$f":"IF('保険料申告内訳名簿（一人親方団体控）'!O253=\"\",\"\",'保険料申告内訳名簿（一人親方団体控）'!O253)","v":""},{"$f":"IF('保険料申告内訳名簿（一人親方団体控）'!P253=\"\",\"\",'保険料申告内訳名簿（一人親方団体控）'!P253)","v":""},{"$f":"IF('保険料申告内訳名簿（一人親方団体控）'!Q253=\"\",\"\",'保険料申告内訳名簿（一人親方団体控）'!Q253)","v":""},{"$f":"IF('保険料申告内訳名簿（一人親方団体控）'!R253=\"\",\"\",'保険料申告内訳名簿（一人親方団体控）'!R253)","v":""},{"$f":"IF('保険料申告内訳名簿（一人親方団体控）'!S253=\"\",\"\",'保険料申告内訳名簿（一人親方団体控）'!S253)","v":0},{"$f":"IF('保険料申告内訳名簿（一人親方団体控）'!T253=\"\",\"\",'保険料申告内訳名簿（一人親方団体控）'!T253)","v":""},{"$f":"IF('保険料申告内訳名簿（一人親方団体控）'!U253=\"\",\"\",'保険料申告内訳名簿（一人親方団体控）'!U253)","v":""},{"$f":"IF('保険料申告内訳名簿（一人親方団体控）'!V253=\"\",\"\",'保険料申告内訳名簿（一人親方団体控）'!V253)","v":""},{"$f":"IF('保険料申告内訳名簿（一人親方団体控）'!W253=\"\",\"\",'保険料申告内訳名簿（一人親方団体控）'!W253)","v":""},{"$f":"IF('保険料申告内訳名簿（一人親方団体控）'!X253=\"\",\"\",'保険料申告内訳名簿（一人親方団体控）'!X253)","v":""},{"$f":"IF('保険料申告内訳名簿（一人親方団体控）'!Y253=\"\",\"\",'保険料申告内訳名簿（一人親方団体控）'!Y253)","v":""},{"$f":"IF('保険料申告内訳名簿（一人親方団体控）'!Z253=\"\",\"\",'保険料申告内訳名簿（一人親方団体控）'!Z253)","v":""},{"$f":"IF('保険料申告内訳名簿（一人親方団体控）'!AA253=\"\",\"\",'保険料申告内訳名簿（一人親方団体控）'!AA253)","v":""},{"$f":"IF('保険料申告内訳名簿（一人親方団体控）'!AB253=\"\",\"\",'保険料申告内訳名簿（一人親方団体控）'!AB253)","v":""},{"$f":"IF('保険料申告内訳名簿（一人親方団体控）'!AC253=\"\",\"\",'保険料申告内訳名簿（一人親方団体控）'!AC253)","v":0},{"$f":"IF('保険料申告内訳名簿（一人親方団体控）'!AD253=\"\",\"\",'保険料申告内訳名簿（一人親方団体控）'!AD253)","v":""},{"$f":"IF('保険料申告内訳名簿（一人親方団体控）'!AE253=\"\",\"\",'保険料申告内訳名簿（一人親方団体控）'!AE253)","v":""},{"$f":"IF('保険料申告内訳名簿（一人親方団体控）'!AF253=\"\",\"\",'保険料申告内訳名簿（一人親方団体控）'!AF253)","v":""},{"$f":"IF('保険料申告内訳名簿（一人親方団体控）'!AG253=\"\",\"\",'保険料申告内訳名簿（一人親方団体控）'!AG253)","v":""},{"$f":"IF('保険料申告内訳名簿（一人親方団体控）'!AH253=\"\",\"\",'保険料申告内訳名簿（一人親方団体控）'!AH253)","v":""}]
[null,{"$f":"IF('保険料申告内訳名簿（一人親方団体控）'!B254=\"\",\"\",'保険料申告内訳名簿（一人親方団体控）'!B254)","v":""},{"$f":"IF('保険料申告内訳名簿（一人親方団体控）'!C254=\"\",\"\",'保険料申告内訳名簿（一人親方団体控）'!C254)","v":""},{"$f":"IF('保険料申告内訳名簿（一人親方団体控）'!D254=\"\",\"\",'保険料申告内訳名簿（一人親方団体控）'!D254)","v":""},{"$f":"IF('保険料申告内訳名簿（一人親方団体控）'!E254=\"\",\"\",'保険料申告内訳名簿（一人親方団体控）'!E254)","v":""},{"$f":"IF('保険料申告内訳名簿（一人親方団体控）'!F254=\"\",\"\",'保険料申告内訳名簿（一人親方団体控）'!F254)","v":""},{"$f":"IF('保険料申告内訳名簿（一人親方団体控）'!G254=\"\",\"\",'保険料申告内訳名簿（一人親方団体控）'!G254)","v":""},{"$f":"IF('保険料申告内訳名簿（一人親方団体控）'!H254=\"\",\"\",'保険料申告内訳名簿（一人親方団体控）'!H254)","v":""},{"$f":"IF('保険料申告内訳名簿（一人親方団体控）'!I254=\"\",\"\",'保険料申告内訳名簿（一人親方団体控）'!I254)","v":""},{"$f":"IF('保険料申告内訳名簿（一人親方団体控）'!J254=\"\",\"\",'保険料申告内訳名簿（一人親方団体控）'!J254)","v":""},{"$f":"IF('保険料申告内訳名簿（一人親方団体控）'!K254=\"\",\"\",'保険料申告内訳名簿（一人親方団体控）'!K254)","v":""},{"$f":"IF('保険料申告内訳名簿（一人親方団体控）'!L254=\"\",\"\",'保険料申告内訳名簿（一人親方団体控）'!L254)","v":""},{"$f":"IF('保険料申告内訳名簿（一人親方団体控）'!M254=\"\",\"\",'保険料申告内訳名簿（一人親方団体控）'!M254)","v":""},{"$f":"IF('保険料申告内訳名簿（一人親方団体控）'!N254=\"\",\"\",'保険料申告内訳名簿（一人親方団体控）'!N254)","v":""},{"$f":"IF('保険料申告内訳名簿（一人親方団体控）'!O254=\"\",\"\",'保険料申告内訳名簿（一人親方団体控）'!O254)","v":""},{"$f":"IF('保険料申告内訳名簿（一人親方団体控）'!P254=\"\",\"\",'保険料申告内訳名簿（一人親方団体控）'!P254)","v":""},{"$f":"IF('保険料申告内訳名簿（一人親方団体控）'!Q254=\"\",\"\",'保険料申告内訳名簿（一人親方団体控）'!Q254)","v":""},{"$f":"IF('保険料申告内訳名簿（一人親方団体控）'!R254=\"\",\"\",'保険料申告内訳名簿（一人親方団体控）'!R254)","v":""},{"$f":"IF('保険料申告内訳名簿（一人親方団体控）'!S254=\"\",\"\",'保険料申告内訳名簿（一人親方団体控）'!S254)","v":0},{"$f":"IF('保険料申告内訳名簿（一人親方団体控）'!T254=\"\",\"\",'保険料申告内訳名簿（一人親方団体控）'!T254)","v":""},{"$f":"IF('保険料申告内訳名簿（一人親方団体控）'!U254=\"\",\"\",'保険料申告内訳名簿（一人親方団体控）'!U254)","v":""},{"$f":"IF('保険料申告内訳名簿（一人親方団体控）'!V254=\"\",\"\",'保険料申告内訳名簿（一人親方団体控）'!V254)","v":""},{"$f":"IF('保険料申告内訳名簿（一人親方団体控）'!W254=\"\",\"\",'保険料申告内訳名簿（一人親方団体控）'!W254)","v":""},{"$f":"IF('保険料申告内訳名簿（一人親方団体控）'!X254=\"\",\"\",'保険料申告内訳名簿（一人親方団体控）'!X254)","v":""},{"$f":"IF('保険料申告内訳名簿（一人親方団体控）'!Y254=\"\",\"\",'保険料申告内訳名簿（一人親方団体控）'!Y254)","v":""},{"$f":"IF('保険料申告内訳名簿（一人親方団体控）'!Z254=\"\",\"\",'保険料申告内訳名簿（一人親方団体控）'!Z254)","v":""},{"$f":"IF('保険料申告内訳名簿（一人親方団体控）'!AA254=\"\",\"\",'保険料申告内訳名簿（一人親方団体控）'!AA254)","v":""},{"$f":"IF('保険料申告内訳名簿（一人親方団体控）'!AB254=\"\",\"\",'保険料申告内訳名簿（一人親方団体控）'!AB254)","v":""},{"$f":"IF('保険料申告内訳名簿（一人親方団体控）'!AC254=\"\",\"\",'保険料申告内訳名簿（一人親方団体控）'!AC254)","v":0},{"$f":"IF('保険料申告内訳名簿（一人親方団体控）'!AD254=\"\",\"\",'保険料申告内訳名簿（一人親方団体控）'!AD254)","v":""},{"$f":"IF('保険料申告内訳名簿（一人親方団体控）'!AE254=\"\",\"\",'保険料申告内訳名簿（一人親方団体控）'!AE254)","v":""},{"$f":"IF('保険料申告内訳名簿（一人親方団体控）'!AF254=\"\",\"\",'保険料申告内訳名簿（一人親方団体控）'!AF254)","v":""},{"$f":"IF('保険料申告内訳名簿（一人親方団体控）'!AG254=\"\",\"\",'保険料申告内訳名簿（一人親方団体控）'!AG254)","v":""},{"$f":"IF('保険料申告内訳名簿（一人親方団体控）'!AH254=\"\",\"\",'保険料申告内訳名簿（一人親方団体控）'!AH254)","v":""}]
[null,{"$f":"IF('保険料申告内訳名簿（一人親方団体控）'!B255=\"\",\"\",'保険料申告内訳名簿（一人親方団体控）'!B255)","v":""},{"$f":"IF('保険料申告内訳名簿（一人親方団体控）'!C255=\"\",\"\",'保険料申告内訳名簿（一人親方団体控）'!C255)","v":""},{"$f":"IF('保険料申告内訳名簿（一人親方団体控）'!D255=\"\",\"\",'保険料申告内訳名簿（一人親方団体控）'!D255)","v":""},{"$f":"IF('保険料申告内訳名簿（一人親方団体控）'!E255=\"\",\"\",'保険料申告内訳名簿（一人親方団体控）'!E255)","v":""},{"$f":"IF('保険料申告内訳名簿（一人親方団体控）'!F255=\"\",\"\",'保険料申告内訳名簿（一人親方団体控）'!F255)","v":""},{"$f":"IF('保険料申告内訳名簿（一人親方団体控）'!G255=\"\",\"\",'保険料申告内訳名簿（一人親方団体控）'!G255)","v":""},{"$f":"IF('保険料申告内訳名簿（一人親方団体控）'!H255=\"\",\"\",'保険料申告内訳名簿（一人親方団体控）'!H255)","v":""},{"$f":"IF('保険料申告内訳名簿（一人親方団体控）'!I255=\"\",\"\",'保険料申告内訳名簿（一人親方団体控）'!I255)","v":""},{"$f":"IF('保険料申告内訳名簿（一人親方団体控）'!J255=\"\",\"\",'保険料申告内訳名簿（一人親方団体控）'!J255)","v":""},{"$f":"IF('保険料申告内訳名簿（一人親方団体控）'!K255=\"\",\"\",'保険料申告内訳名簿（一人親方団体控）'!K255)","v":""},{"$f":"IF('保険料申告内訳名簿（一人親方団体控）'!L255=\"\",\"\",'保険料申告内訳名簿（一人親方団体控）'!L255)","v":""},{"$f":"IF('保険料申告内訳名簿（一人親方団体控）'!M255=\"\",\"\",'保険料申告内訳名簿（一人親方団体控）'!M255)","v":""},{"$f":"IF('保険料申告内訳名簿（一人親方団体控）'!N255=\"\",\"\",'保険料申告内訳名簿（一人親方団体控）'!N255)","v":""},{"$f":"IF('保険料申告内訳名簿（一人親方団体控）'!O255=\"\",\"\",'保険料申告内訳名簿（一人親方団体控）'!O255)","v":""},{"$f":"IF('保険料申告内訳名簿（一人親方団体控）'!P255=\"\",\"\",'保険料申告内訳名簿（一人親方団体控）'!P255)","v":""},{"$f":"IF('保険料申告内訳名簿（一人親方団体控）'!Q255=\"\",\"\",'保険料申告内訳名簿（一人親方団体控）'!Q255)","v":""},{"$f":"IF('保険料申告内訳名簿（一人親方団体控）'!R255=\"\",\"\",'保険料申告内訳名簿（一人親方団体控）'!R255)","v":""},{"$f":"IF('保険料申告内訳名簿（一人親方団体控）'!S255=\"\",\"\",'保険料申告内訳名簿（一人親方団体控）'!S255)","v":0},{"$f":"IF('保険料申告内訳名簿（一人親方団体控）'!T255=\"\",\"\",'保険料申告内訳名簿（一人親方団体控）'!T255)","v":""},{"$f":"IF('保険料申告内訳名簿（一人親方団体控）'!U255=\"\",\"\",'保険料申告内訳名簿（一人親方団体控）'!U255)","v":""},{"$f":"IF('保険料申告内訳名簿（一人親方団体控）'!V255=\"\",\"\",'保険料申告内訳名簿（一人親方団体控）'!V255)","v":""},{"$f":"IF('保険料申告内訳名簿（一人親方団体控）'!W255=\"\",\"\",'保険料申告内訳名簿（一人親方団体控）'!W255)","v":""},{"$f":"IF('保険料申告内訳名簿（一人親方団体控）'!X255=\"\",\"\",'保険料申告内訳名簿（一人親方団体控）'!X255)","v":""},{"$f":"IF('保険料申告内訳名簿（一人親方団体控）'!Y255=\"\",\"\",'保険料申告内訳名簿（一人親方団体控）'!Y255)","v":""},{"$f":"IF('保険料申告内訳名簿（一人親方団体控）'!Z255=\"\",\"\",'保険料申告内訳名簿（一人親方団体控）'!Z255)","v":""},{"$f":"IF('保険料申告内訳名簿（一人親方団体控）'!AA255=\"\",\"\",'保険料申告内訳名簿（一人親方団体控）'!AA255)","v":""},{"$f":"IF('保険料申告内訳名簿（一人親方団体控）'!AB255=\"\",\"\",'保険料申告内訳名簿（一人親方団体控）'!AB255)","v":""},{"$f":"IF('保険料申告内訳名簿（一人親方団体控）'!AC255=\"\",\"\",'保険料申告内訳名簿（一人親方団体控）'!AC255)","v":0},{"$f":"IF('保険料申告内訳名簿（一人親方団体控）'!AD255=\"\",\"\",'保険料申告内訳名簿（一人親方団体控）'!AD255)","v":""},{"$f":"IF('保険料申告内訳名簿（一人親方団体控）'!AE255=\"\",\"\",'保険料申告内訳名簿（一人親方団体控）'!AE255)","v":""},{"$f":"IF('保険料申告内訳名簿（一人親方団体控）'!AF255=\"\",\"\",'保険料申告内訳名簿（一人親方団体控）'!AF255)","v":""},{"$f":"IF('保険料申告内訳名簿（一人親方団体控）'!AG255=\"\",\"\",'保険料申告内訳名簿（一人親方団体控）'!AG255)","v":""},{"$f":"IF('保険料申告内訳名簿（一人親方団体控）'!AH255=\"\",\"\",'保険料申告内訳名簿（一人親方団体控）'!AH255)","v":""}]
[null,{"$f":"IF('保険料申告内訳名簿（一人親方団体控）'!B256=\"\",\"\",'保険料申告内訳名簿（一人親方団体控）'!B256)","v":""},{"$f":"IF('保険料申告内訳名簿（一人親方団体控）'!C256=\"\",\"\",'保険料申告内訳名簿（一人親方団体控）'!C256)","v":""},{"$f":"IF('保険料申告内訳名簿（一人親方団体控）'!D256=\"\",\"\",'保険料申告内訳名簿（一人親方団体控）'!D256)","v":""},{"$f":"IF('保険料申告内訳名簿（一人親方団体控）'!E256=\"\",\"\",'保険料申告内訳名簿（一人親方団体控）'!E256)","v":""},{"$f":"IF('保険料申告内訳名簿（一人親方団体控）'!F256=\"\",\"\",'保険料申告内訳名簿（一人親方団体控）'!F256)","v":""},{"$f":"IF('保険料申告内訳名簿（一人親方団体控）'!G256=\"\",\"\",'保険料申告内訳名簿（一人親方団体控）'!G256)","v":""},{"$f":"IF('保険料申告内訳名簿（一人親方団体控）'!H256=\"\",\"\",'保険料申告内訳名簿（一人親方団体控）'!H256)","v":""},{"$f":"IF('保険料申告内訳名簿（一人親方団体控）'!I256=\"\",\"\",'保険料申告内訳名簿（一人親方団体控）'!I256)","v":""},{"$f":"IF('保険料申告内訳名簿（一人親方団体控）'!J256=\"\",\"\",'保険料申告内訳名簿（一人親方団体控）'!J256)","v":""},{"$f":"IF('保険料申告内訳名簿（一人親方団体控）'!K256=\"\",\"\",'保険料申告内訳名簿（一人親方団体控）'!K256)","v":""},{"$f":"IF('保険料申告内訳名簿（一人親方団体控）'!L256=\"\",\"\",'保険料申告内訳名簿（一人親方団体控）'!L256)","v":""},{"$f":"IF('保険料申告内訳名簿（一人親方団体控）'!M256=\"\",\"\",'保険料申告内訳名簿（一人親方団体控）'!M256)","v":""},{"$f":"IF('保険料申告内訳名簿（一人親方団体控）'!N256=\"\",\"\",'保険料申告内訳名簿（一人親方団体控）'!N256)","v":""},{"$f":"IF('保険料申告内訳名簿（一人親方団体控）'!O256=\"\",\"\",'保険料申告内訳名簿（一人親方団体控）'!O256)","v":""},{"$f":"IF('保険料申告内訳名簿（一人親方団体控）'!P256=\"\",\"\",'保険料申告内訳名簿（一人親方団体控）'!P256)","v":""},{"$f":"IF('保険料申告内訳名簿（一人親方団体控）'!Q256=\"\",\"\",'保険料申告内訳名簿（一人親方団体控）'!Q256)","v":""},{"$f":"IF('保険料申告内訳名簿（一人親方団体控）'!R256=\"\",\"\",'保険料申告内訳名簿（一人親方団体控）'!R256)","v":""},{"$f":"IF('保険料申告内訳名簿（一人親方団体控）'!S256=\"\",\"\",'保険料申告内訳名簿（一人親方団体控）'!S256)","v":0},{"$f":"IF('保険料申告内訳名簿（一人親方団体控）'!T256=\"\",\"\",'保険料申告内訳名簿（一人親方団体控）'!T256)","v":""},{"$f":"IF('保険料申告内訳名簿（一人親方団体控）'!U256=\"\",\"\",'保険料申告内訳名簿（一人親方団体控）'!U256)","v":""},{"$f":"IF('保険料申告内訳名簿（一人親方団体控）'!V256=\"\",\"\",'保険料申告内訳名簿（一人親方団体控）'!V256)","v":""},{"$f":"IF('保険料申告内訳名簿（一人親方団体控）'!W256=\"\",\"\",'保険料申告内訳名簿（一人親方団体控）'!W256)","v":""},{"$f":"IF('保険料申告内訳名簿（一人親方団体控）'!X256=\"\",\"\",'保険料申告内訳名簿（一人親方団体控）'!X256)","v":""},{"$f":"IF('保険料申告内訳名簿（一人親方団体控）'!Y256=\"\",\"\",'保険料申告内訳名簿（一人親方団体控）'!Y256)","v":""},{"$f":"IF('保険料申告内訳名簿（一人親方団体控）'!Z256=\"\",\"\",'保険料申告内訳名簿（一人親方団体控）'!Z256)","v":""},{"$f":"IF('保険料申告内訳名簿（一人親方団体控）'!AA256=\"\",\"\",'保険料申告内訳名簿（一人親方団体控）'!AA256)","v":""},{"$f":"IF('保険料申告内訳名簿（一人親方団体控）'!AB256=\"\",\"\",'保険料申告内訳名簿（一人親方団体控）'!AB256)","v":""},{"$f":"IF('保険料申告内訳名簿（一人親方団体控）'!AC256=\"\",\"\",'保険料申告内訳名簿（一人親方団体控）'!AC256)","v":0},{"$f":"IF('保険料申告内訳名簿（一人親方団体控）'!AD256=\"\",\"\",'保険料申告内訳名簿（一人親方団体控）'!AD256)","v":""},{"$f":"IF('保険料申告内訳名簿（一人親方団体控）'!AE256=\"\",\"\",'保険料申告内訳名簿（一人親方団体控）'!AE256)","v":""},{"$f":"IF('保険料申告内訳名簿（一人親方団体控）'!AF256=\"\",\"\",'保険料申告内訳名簿（一人親方団体控）'!AF256)","v":""},{"$f":"IF('保険料申告内訳名簿（一人親方団体控）'!AG256=\"\",\"\",'保険料申告内訳名簿（一人親方団体控）'!AG256)","v":""},{"$f":"IF('保険料申告内訳名簿（一人親方団体控）'!AH256=\"\",\"\",'保険料申告内訳名簿（一人親方団体控）'!AH256)","v":""}]
[null,null,null,null,null,null,null,null,null,null,null,null,null,null,null,null,null,null,{"$f":"IF('保険料申告内訳名簿（一人親方団体控）'!S257=\"\",\"\",'保険料申告内訳名簿（一人親方団体控）'!S257)","v":0},{"$f":"IF('保険料申告内訳名簿（一人親方団体控）'!T257=\"\",\"\",'保険料申告内訳名簿（一人親方団体控）'!T257)","v":""},{"$f":"IF('保険料申告内訳名簿（一人親方団体控）'!U257=\"\",\"\",'保険料申告内訳名簿（一人親方団体控）'!U257)","v":""},{"$f":"IF('保険料申告内訳名簿（一人親方団体控）'!V257=\"\",\"\",'保険料申告内訳名簿（一人親方団体控）'!V257)","v":""},{"$f":"IF('保険料申告内訳名簿（一人親方団体控）'!W257=\"\",\"\",'保険料申告内訳名簿（一人親方団体控）'!W257)","v":""},{"$f":"IF('保険料申告内訳名簿（一人親方団体控）'!X257=\"\",\"\",'保険料申告内訳名簿（一人親方団体控）'!X257)","v":""},null,null,null,null,{"$f":"IF('保険料申告内訳名簿（一人親方団体控）'!AC257=\"\",\"\",'保険料申告内訳名簿（一人親方団体控）'!AC257)","v":0},{"$f":"IF('保険料申告内訳名簿（一人親方団体控）'!AD257=\"\",\"\",'保険料申告内訳名簿（一人親方団体控）'!AD257)","v":""},{"$f":"IF('保険料申告内訳名簿（一人親方団体控）'!AE257=\"\",\"\",'保険料申告内訳名簿（一人親方団体控）'!AE257)","v":""},{"$f":"IF('保険料申告内訳名簿（一人親方団体控）'!AF257=\"\",\"\",'保険料申告内訳名簿（一人親方団体控）'!AF257)","v":""},{"$f":"IF('保険料申告内訳名簿（一人親方団体控）'!AG257=\"\",\"\",'保険料申告内訳名簿（一人親方団体控）'!AG257)","v":""},{"$f":"IF('保険料申告内訳名簿（一人親方団体控）'!AH257=\"\",\"\",'保険料申告内訳名簿（一人親方団体控）'!AH257)","v":""}]
[]
[null,"（注）"]
[null,null,"１）　④欄は月割の対象となる方のみ記入して下さい。"]
[null,null,"２）　月割の対象となる場合の⑤保険料算定基礎額の算定方法"]
[null,null,"２）　月割の対象となる場合の③（給付基礎日額×365÷12）（円未満を切り上げてから）×加入月数"]
[]
[]
[null,"【島根局版】",null,null,null,null,null,null,null,null,null,null,null,null,null,null,null,null,null,null,null,null,null,null,null,null,"監督署用"]
[null,"第２種特別加入保険料申告内訳名簿"]
[null,"（一人親方等）"]
[null,null,null,null,null,null,null,null,null,null,null,null,null,null,null,null,null,null,null,null,null,null,null,null,"（",{"$f":"IF('保険料申告内訳名簿（一人親方団体控）'!Z268=\"\",\"\",'保険料申告内訳名簿（一人親方団体控）'!Z268)","v":0},{"$f":"IF('保険料申告内訳名簿（一人親方団体控）'!AA268=\"\",\"\",'保険料申告内訳名簿（一人親方団体控）'!AA268)","v":""},"枚のうち",null,{"$f":"IF('保険料申告内訳名簿（一人親方団体控）'!AD268=\"\",\"\",'保険料申告内訳名簿（一人親方団体控）'!AD268)","v":9},{"$f":"IF('保険料申告内訳名簿（一人親方団体控）'!AE268=\"\",\"\",'保険料申告内訳名簿（一人親方団体控）'!AE268)","v":""},"枚目",null,"）"]
[]
[null,"労働保険\n番　　　号",null,null,null,null,"府県",null,"所掌","管轄",null,"基幹番号",null,null,null,null,null,"枝番号",null,null,"事業場の\n所在地",null,null,{"$f":"IF('保険料申告内訳名簿（一人親方団体控）'!X270=\"\",\"\",'保険料申告内訳名簿（一人親方団体控）'!X270)","v":""},{"$f":"IF('保険料申告内訳名簿（一人親方団体控）'!Y270=\"\",\"\",'保険料申告内訳名簿（一人親方団体控）'!Y270)","v":""},{"$f":"IF('保険料申告内訳名簿（一人親方団体控）'!Z270=\"\",\"\",'保険料申告内訳名簿（一人親方団体控）'!Z270)","v":""},{"$f":"IF('保険料申告内訳名簿（一人親方団体控）'!AA270=\"\",\"\",'保険料申告内訳名簿（一人親方団体控）'!AA270)","v":""},{"$f":"IF('保険料申告内訳名簿（一人親方団体控）'!AB270=\"\",\"\",'保険料申告内訳名簿（一人親方団体控）'!AB270)","v":""},{"$f":"IF('保険料申告内訳名簿（一人親方団体控）'!AC270=\"\",\"\",'保険料申告内訳名簿（一人親方団体控）'!AC270)","v":""},{"$f":"IF('保険料申告内訳名簿（一人親方団体控）'!AD270=\"\",\"\",'保険料申告内訳名簿（一人親方団体控）'!AD270)","v":""},{"$f":"IF('保険料申告内訳名簿（一人親方団体控）'!AE270=\"\",\"\",'保険料申告内訳名簿（一人親方団体控）'!AE270)","v":""},{"$f":"IF('保険料申告内訳名簿（一人親方団体控）'!AF270=\"\",\"\",'保険料申告内訳名簿（一人親方団体控）'!AF270)","v":""},{"$f":"IF('保険料申告内訳名簿（一人親方団体控）'!AG270=\"\",\"\",'保険料申告内訳名簿（一人親方団体控）'!AG270)","v":""},{"$f":"IF('保険料申告内訳名簿（一人親方団体控）'!AH270=\"\",\"\",'保険料申告内訳名簿（一人親方団体控）'!AH270)","v":""}]
[null,null,null,null,null,null,"3","2",{"$f":"IF('保険料申告内訳名簿（一人親方団体控）'!I271=\"\",\"\",'保険料申告内訳名簿（一人親方団体控）'!I271)","v":""},{"$f":"IF('保険料申告内訳名簿（一人親方団体控）'!J271=\"\",\"\",'保険料申告内訳名簿（一人親方団体控）'!J271)","v":""},{"$f":"IF('保険料申告内訳名簿（一人親方団体控）'!K271=\"\",\"\",'保険料申告内訳名簿（一人親方団体控）'!K271)","v":""},{"$f":"IF('保険料申告内訳名簿（一人親方団体控）'!L271=\"\",\"\",'保険料申告内訳名簿（一人親方団体控）'!L271)","v":""},{"$f":"IF('保険料申告内訳名簿（一人親方団体控）'!M271=\"\",\"\",'保険料申告内訳名簿（一人親方団体控）'!M271)","v":""},{"$f":"IF('保険料申告内訳名簿（一人親方団体控）'!N271=\"\",\"\",'保険料申告内訳名簿（一人親方団体控）'!N271)","v":""},{"$f":"IF('保険料申告内訳名簿（一人親方団体控）'!O271=\"\",\"\",'保険料申告内訳名簿（一人親方団体控）'!O271)","v":""},{"$f":"IF('保険料申告内訳名簿（一人親方団体控）'!P271=\"\",\"\",'保険料申告内訳名簿（一人親方団体控）'!P271)","v":""},{"$f":"IF('保険料申告内訳名簿（一人親方団体控）'!Q271=\"\",\"\",'保険料申告内訳名簿（一人親方団体控）'!Q271)","v":""},{"$f":"IF('保険料申告内訳名簿（一人親方団体控）'!R271=\"\",\"\",'保険料申告内訳名簿（一人親方団体控）'!R271)","v":""},{"$f":"IF('保険料申告内訳名簿（一人親方団体控）'!S271=\"\",\"\",'保険料申告内訳名簿（一人親方団体控）'!S271)","v":""},{"$f":"IF('保険料申告内訳名簿（一人親方団体控）'!T271=\"\",\"\",'保険料申告内訳名簿（一人親方団体控）'!T271)","v":""},"事業場の\n名称",null,null,{"$f":"IF('保険料申告内訳名簿（一人親方団体控）'!X271=\"\",\"\",'保険料申告内訳名簿（一人親方団体控）'!X271)","v":""},{"$f":"IF('保険料申告内訳名簿（一人親方団体控）'!Y271=\"\",\"\",'保険料申告内訳名簿（一人親方団体控）'!Y271)","v":""},{"$f":"IF('保険料申告内訳名簿（一人親方団体控）'!Z271=\"\",\"\",'保険料申告内訳名簿（一人親方団体控）'!Z271)","v":""},{"$f":"IF('保険料申告内訳名簿（一人親方団体控）'!AA271=\"\",\"\",'保険料申告内訳名簿（一人親方団体控）'!AA271)","v":""},{"$f":"IF('保険料申告内訳名簿（一人親方団体控）'!AB271=\"\",\"\",'保険料申告内訳名簿（一人親方団体控）'!AB271)","v":""},{"$f":"IF('保険料申告内訳名簿（一人親方団体控）'!AC271=\"\",\"\",'保険料申告内訳名簿（一人親方団体控）'!AC271)","v":""},{"$f":"IF('保険料申告内訳名簿（一人親方団体控）'!AD271=\"\",\"\",'保険料申告内訳名簿（一人親方団体控）'!AD271)","v":""},{"$f":"IF('保険料申告内訳名簿（一人親方団体控）'!AE271=\"\",\"\",'保険料申告内訳名簿（一人親方団体控）'!AE271)","v":""},{"$f":"IF('保険料申告内訳名簿（一人親方団体控）'!AF271=\"\",\"\",'保険料申告内訳名簿（一人親方団体控）'!AF271)","v":""},{"$f":"IF('保険料申告内訳名簿（一人親方団体控）'!AG271=\"\",\"\",'保険料申告内訳名簿（一人親方団体控）'!AG271)","v":""},{"$f":"IF('保険料申告内訳名簿（一人親方団体控）'!AH271=\"\",\"\",'保険料申告内訳名簿（一人親方団体控）'!AH271)","v":""}]
[null,"①\n整理\n番号",null,"②\n氏名",null,null,null,null,null,null,null,null,null,null,"令 和",null,null,{"$f":"IF('保険料申告内訳名簿（一人親方団体控）'!R272=\"\",\"\",'保険料申告内訳名簿（一人親方団体控）'!R272)","v":""},{"$f":"IF('保険料申告内訳名簿（一人親方団体控）'!S272=\"\",\"\",'保険料申告内訳名簿（一人親方団体控）'!S272)","v":""},{"$f":"IF('保険料申告内訳名簿（一人親方団体控）'!T272=\"\",\"\",'保険料申告内訳名簿（一人親方団体控）'!T272)","v":""},null,null,null,"年 度 確 定 ","令 和",null,null,{"$f":"IF('保険料申告内訳名簿（一人親方団体控）'!AB272=\"\",\"\",'保険料申告内訳名簿（一人親方団体控）'!AB272)","v":""},{"$f":"IF('保険料申告内訳名簿（一人親方団体控）'!AC272=\"\",\"\",'保険料申告内訳名簿（一人親方団体控）'!AC272)","v":""},{"$f":"IF('保険料申告内訳名簿（一人親方団体控）'!AD272=\"\",\"\",'保険料申告内訳名簿（一人親方団体控）'!AD272)","v":""},null,null,null,"年 度 概 算 "]
[null,null,null,null,null,null,null,"③　\n給付基礎日額",null,null,null,"④年度中途加入・脱退",null,null,null,null,null,null,"⑤\n保険料算定基礎額",null,null,null,null,null,"⑥\n給付基礎日額",null,null,null,"⑦\n保険料算定基礎額"]
[null,null,null,null,null,null,null,null,null,null,null,"加入・脱退年月日",null,null,null,null,"加入月数"]
[null,{"$f":"IF('保険料申告内訳名簿（一人親方団体控）'!B275=\"\",\"\",'保険料申告内訳名簿（一人親方団体控）'!B275)","v":""},{"$f":"IF('保険料申告内訳名簿（一人親方団体控）'!C275=\"\",\"\",'保険料申告内訳名簿（一人親方団体控）'!C275)","v":""},{"$f":"IF('保険料申告内訳名簿（一人親方団体控）'!D275=\"\",\"\",'保険料申告内訳名簿（一人親方団体控）'!D275)","v":""},{"$f":"IF('保険料申告内訳名簿（一人親方団体控）'!E275=\"\",\"\",'保険料申告内訳名簿（一人親方団体控）'!E275)","v":""},{"$f":"IF('保険料申告内訳名簿（一人親方団体控）'!F275=\"\",\"\",'保険料申告内訳名簿（一人親方団体控）'!F275)","v":""},{"$f":"IF('保険料申告内訳名簿（一人親方団体控）'!G275=\"\",\"\",'保険料申告内訳名簿（一人親方団体控）'!G275)","v":""},{"$f":"IF('保険料申告内訳名簿（一人親方団体控）'!H275=\"\",\"\",'保険料申告内訳名簿（一人親方団体控）'!H275)","v":""},{"$f":"IF('保険料申告内訳名簿（一人親方団体控）'!I275=\"\",\"\",'保険料申告内訳名簿（一人親方団体控）'!I275)","v":""},{"$f":"IF('保険料申告内訳名簿（一人親方団体控）'!J275=\"\",\"\",'保険料申告内訳名簿（一人親方団体控）'!J275)","v":""},{"$f":"IF('保険料申告内訳名簿（一人親方団体控）'!K275=\"\",\"\",'保険料申告内訳名簿（一人親方団体控）'!K275)","v":""},{"$f":"IF('保険料申告内訳名簿（一人親方団体控）'!L275=\"\",\"\",'保険料申告内訳名簿（一人親方団体控）'!L275)","v":""},{"$f":"IF('保険料申告内訳名簿（一人親方団体控）'!M275=\"\",\"\",'保険料申告内訳名簿（一人親方団体控）'!M275)","v":""},{"$f":"IF('保険料申告内訳名簿（一人親方団体控）'!N275=\"\",\"\",'保険料申告内訳名簿（一人親方団体控）'!N275)","v":""},{"$f":"IF('保険料申告内訳名簿（一人親方団体控）'!O275=\"\",\"\",'保険料申告内訳名簿（一人親方団体控）'!O275)","v":""},{"$f":"IF('保険料申告内訳名簿（一人親方団体控）'!P275=\"\",\"\",'保険料申告内訳名簿（一人親方団体控）'!P275)","v":""},{"$f":"IF('保険料申告内訳名簿（一人親方団体控）'!Q275=\"\",\"\",'保険料申告内訳名簿（一人親方団体控）'!Q275)","v":""},{"$f":"IF('保険料申告内訳名簿（一人親方団体控）'!R275=\"\",\"\",'保険料申告内訳名簿（一人親方団体控）'!R275)","v":""},{"$f":"IF('保険料申告内訳名簿（一人親方団体控）'!S275=\"\",\"\",'保険料申告内訳名簿（一人親方団体控）'!S275)","v":0},{"$f":"IF('保険料申告内訳名簿（一人親方団体控）'!T275=\"\",\"\",'保険料申告内訳名簿（一人親方団体控）'!T275)","v":""},{"$f":"IF('保険料申告内訳名簿（一人親方団体控）'!U275=\"\",\"\",'保険料申告内訳名簿（一人親方団体控）'!U275)","v":""},{"$f":"IF('保険料申告内訳名簿（一人親方団体控）'!V275=\"\",\"\",'保険料申告内訳名簿（一人親方団体控）'!V275)","v":""},{"$f":"IF('保険料申告内訳名簿（一人親方団体控）'!W275=\"\",\"\",'保険料申告内訳名簿（一人親方団体控）'!W275)","v":""},{"$f":"IF('保険料申告内訳名簿（一人親方団体控）'!X275=\"\",\"\",'保険料申告内訳名簿（一人親方団体控）'!X275)","v":""},{"$f":"IF('保険料申告内訳名簿（一人親方団体控）'!Y275=\"\",\"\",'保険料申告内訳名簿（一人親方団体控）'!Y275)","v":""},{"$f":"IF('保険料申告内訳名簿（一人親方団体控）'!Z275=\"\",\"\",'保険料申告内訳名簿（一人親方団体控）'!Z275)","v":""},{"$f":"IF('保険料申告内訳名簿（一人親方団体控）'!AA275=\"\",\"\",'保険料申告内訳名簿（一人親方団体控）'!AA275)","v":""},{"$f":"IF('保険料申告内訳名簿（一人親方団体控）'!AB275=\"\",\"\",'保険料申告内訳名簿（一人親方団体控）'!AB275)","v":""},{"$f":"IF('保険料申告内訳名簿（一人親方団体控）'!AC275=\"\",\"\",'保険料申告内訳名簿（一人親方団体控）'!AC275)","v":0},{"$f":"IF('保険料申告内訳名簿（一人親方団体控）'!AD275=\"\",\"\",'保険料申告内訳名簿（一人親方団体控）'!AD275)","v":""},{"$f":"IF('保険料申告内訳名簿（一人親方団体控）'!AE275=\"\",\"\",'保険料申告内訳名簿（一人親方団体控）'!AE275)","v":""},{"$f":"IF('保険料申告内訳名簿（一人親方団体控）'!AF275=\"\",\"\",'保険料申告内訳名簿（一人親方団体控）'!AF275)","v":""},{"$f":"IF('保険料申告内訳名簿（一人親方団体控）'!AG275=\"\",\"\",'保険料申告内訳名簿（一人親方団体控）'!AG275)","v":""},{"$f":"IF('保険料申告内訳名簿（一人親方団体控）'!AH275=\"\",\"\",'保険料申告内訳名簿（一人親方団体控）'!AH275)","v":""}]
[null,{"$f":"IF('保険料申告内訳名簿（一人親方団体控）'!B276=\"\",\"\",'保険料申告内訳名簿（一人親方団体控）'!B276)","v":""},{"$f":"IF('保険料申告内訳名簿（一人親方団体控）'!C276=\"\",\"\",'保険料申告内訳名簿（一人親方団体控）'!C276)","v":""},{"$f":"IF('保険料申告内訳名簿（一人親方団体控）'!D276=\"\",\"\",'保険料申告内訳名簿（一人親方団体控）'!D276)","v":""},{"$f":"IF('保険料申告内訳名簿（一人親方団体控）'!E276=\"\",\"\",'保険料申告内訳名簿（一人親方団体控）'!E276)","v":""},{"$f":"IF('保険料申告内訳名簿（一人親方団体控）'!F276=\"\",\"\",'保険料申告内訳名簿（一人親方団体控）'!F276)","v":""},{"$f":"IF('保険料申告内訳名簿（一人親方団体控）'!G276=\"\",\"\",'保険料申告内訳名簿（一人親方団体控）'!G276)","v":""},{"$f":"IF('保険料申告内訳名簿（一人親方団体控）'!H276=\"\",\"\",'保険料申告内訳名簿（一人親方団体控）'!H276)","v":""},{"$f":"IF('保険料申告内訳名簿（一人親方団体控）'!I276=\"\",\"\",'保険料申告内訳名簿（一人親方団体控）'!I276)","v":""},{"$f":"IF('保険料申告内訳名簿（一人親方団体控）'!J276=\"\",\"\",'保険料申告内訳名簿（一人親方団体控）'!J276)","v":""},{"$f":"IF('保険料申告内訳名簿（一人親方団体控）'!K276=\"\",\"\",'保険料申告内訳名簿（一人親方団体控）'!K276)","v":""},{"$f":"IF('保険料申告内訳名簿（一人親方団体控）'!L276=\"\",\"\",'保険料申告内訳名簿（一人親方団体控）'!L276)","v":""},{"$f":"IF('保険料申告内訳名簿（一人親方団体控）'!M276=\"\",\"\",'保険料申告内訳名簿（一人親方団体控）'!M276)","v":""},{"$f":"IF('保険料申告内訳名簿（一人親方団体控）'!N276=\"\",\"\",'保険料申告内訳名簿（一人親方団体控）'!N276)","v":""},{"$f":"IF('保険料申告内訳名簿（一人親方団体控）'!O276=\"\",\"\",'保険料申告内訳名簿（一人親方団体控）'!O276)","v":""},{"$f":"IF('保険料申告内訳名簿（一人親方団体控）'!P276=\"\",\"\",'保険料申告内訳名簿（一人親方団体控）'!P276)","v":""},{"$f":"IF('保険料申告内訳名簿（一人親方団体控）'!Q276=\"\",\"\",'保険料申告内訳名簿（一人親方団体控）'!Q276)","v":""},{"$f":"IF('保険料申告内訳名簿（一人親方団体控）'!R276=\"\",\"\",'保険料申告内訳名簿（一人親方団体控）'!R276)","v":""},{"$f":"IF('保険料申告内訳名簿（一人親方団体控）'!S276=\"\",\"\",'保険料申告内訳名簿（一人親方団体控）'!S276)","v":0},{"$f":"IF('保険料申告内訳名簿（一人親方団体控）'!T276=\"\",\"\",'保険料申告内訳名簿（一人親方団体控）'!T276)","v":""},{"$f":"IF('保険料申告内訳名簿（一人親方団体控）'!U276=\"\",\"\",'保険料申告内訳名簿（一人親方団体控）'!U276)","v":""},{"$f":"IF('保険料申告内訳名簿（一人親方団体控）'!V276=\"\",\"\",'保険料申告内訳名簿（一人親方団体控）'!V276)","v":""},{"$f":"IF('保険料申告内訳名簿（一人親方団体控）'!W276=\"\",\"\",'保険料申告内訳名簿（一人親方団体控）'!W276)","v":""},{"$f":"IF('保険料申告内訳名簿（一人親方団体控）'!X276=\"\",\"\",'保険料申告内訳名簿（一人親方団体控）'!X276)","v":""},{"$f":"IF('保険料申告内訳名簿（一人親方団体控）'!Y276=\"\",\"\",'保険料申告内訳名簿（一人親方団体控）'!Y276)","v":""},{"$f":"IF('保険料申告内訳名簿（一人親方団体控）'!Z276=\"\",\"\",'保険料申告内訳名簿（一人親方団体控）'!Z276)","v":""},{"$f":"IF('保険料申告内訳名簿（一人親方団体控）'!AA276=\"\",\"\",'保険料申告内訳名簿（一人親方団体控）'!AA276)","v":""},{"$f":"IF('保険料申告内訳名簿（一人親方団体控）'!AB276=\"\",\"\",'保険料申告内訳名簿（一人親方団体控）'!AB276)","v":""},{"$f":"IF('保険料申告内訳名簿（一人親方団体控）'!AC276=\"\",\"\",'保険料申告内訳名簿（一人親方団体控）'!AC276)","v":0},{"$f":"IF('保険料申告内訳名簿（一人親方団体控）'!AD276=\"\",\"\",'保険料申告内訳名簿（一人親方団体控）'!AD276)","v":""},{"$f":"IF('保険料申告内訳名簿（一人親方団体控）'!AE276=\"\",\"\",'保険料申告内訳名簿（一人親方団体控）'!AE276)","v":""},{"$f":"IF('保険料申告内訳名簿（一人親方団体控）'!AF276=\"\",\"\",'保険料申告内訳名簿（一人親方団体控）'!AF276)","v":""},{"$f":"IF('保険料申告内訳名簿（一人親方団体控）'!AG276=\"\",\"\",'保険料申告内訳名簿（一人親方団体控）'!AG276)","v":""},{"$f":"IF('保険料申告内訳名簿（一人親方団体控）'!AH276=\"\",\"\",'保険料申告内訳名簿（一人親方団体控）'!AH276)","v":""}]
[null,{"$f":"IF('保険料申告内訳名簿（一人親方団体控）'!B277=\"\",\"\",'保険料申告内訳名簿（一人親方団体控）'!B277)","v":""},{"$f":"IF('保険料申告内訳名簿（一人親方団体控）'!C277=\"\",\"\",'保険料申告内訳名簿（一人親方団体控）'!C277)","v":""},{"$f":"IF('保険料申告内訳名簿（一人親方団体控）'!D277=\"\",\"\",'保険料申告内訳名簿（一人親方団体控）'!D277)","v":""},{"$f":"IF('保険料申告内訳名簿（一人親方団体控）'!E277=\"\",\"\",'保険料申告内訳名簿（一人親方団体控）'!E277)","v":""},{"$f":"IF('保険料申告内訳名簿（一人親方団体控）'!F277=\"\",\"\",'保険料申告内訳名簿（一人親方団体控）'!F277)","v":""},{"$f":"IF('保険料申告内訳名簿（一人親方団体控）'!G277=\"\",\"\",'保険料申告内訳名簿（一人親方団体控）'!G277)","v":""},{"$f":"IF('保険料申告内訳名簿（一人親方団体控）'!H277=\"\",\"\",'保険料申告内訳名簿（一人親方団体控）'!H277)","v":""},{"$f":"IF('保険料申告内訳名簿（一人親方団体控）'!I277=\"\",\"\",'保険料申告内訳名簿（一人親方団体控）'!I277)","v":""},{"$f":"IF('保険料申告内訳名簿（一人親方団体控）'!J277=\"\",\"\",'保険料申告内訳名簿（一人親方団体控）'!J277)","v":""},{"$f":"IF('保険料申告内訳名簿（一人親方団体控）'!K277=\"\",\"\",'保険料申告内訳名簿（一人親方団体控）'!K277)","v":""},{"$f":"IF('保険料申告内訳名簿（一人親方団体控）'!L277=\"\",\"\",'保険料申告内訳名簿（一人親方団体控）'!L277)","v":""},{"$f":"IF('保険料申告内訳名簿（一人親方団体控）'!M277=\"\",\"\",'保険料申告内訳名簿（一人親方団体控）'!M277)","v":""},{"$f":"IF('保険料申告内訳名簿（一人親方団体控）'!N277=\"\",\"\",'保険料申告内訳名簿（一人親方団体控）'!N277)","v":""},{"$f":"IF('保険料申告内訳名簿（一人親方団体控）'!O277=\"\",\"\",'保険料申告内訳名簿（一人親方団体控）'!O277)","v":""},{"$f":"IF('保険料申告内訳名簿（一人親方団体控）'!P277=\"\",\"\",'保険料申告内訳名簿（一人親方団体控）'!P277)","v":""},{"$f":"IF('保険料申告内訳名簿（一人親方団体控）'!Q277=\"\",\"\",'保険料申告内訳名簿（一人親方団体控）'!Q277)","v":""},{"$f":"IF('保険料申告内訳名簿（一人親方団体控）'!R277=\"\",\"\",'保険料申告内訳名簿（一人親方団体控）'!R277)","v":""},{"$f":"IF('保険料申告内訳名簿（一人親方団体控）'!S277=\"\",\"\",'保険料申告内訳名簿（一人親方団体控）'!S277)","v":0},{"$f":"IF('保険料申告内訳名簿（一人親方団体控）'!T277=\"\",\"\",'保険料申告内訳名簿（一人親方団体控）'!T277)","v":""},{"$f":"IF('保険料申告内訳名簿（一人親方団体控）'!U277=\"\",\"\",'保険料申告内訳名簿（一人親方団体控）'!U277)","v":""},{"$f":"IF('保険料申告内訳名簿（一人親方団体控）'!V277=\"\",\"\",'保険料申告内訳名簿（一人親方団体控）'!V277)","v":""},{"$f":"IF('保険料申告内訳名簿（一人親方団体控）'!W277=\"\",\"\",'保険料申告内訳名簿（一人親方団体控）'!W277)","v":""},{"$f":"IF('保険料申告内訳名簿（一人親方団体控）'!X277=\"\",\"\",'保険料申告内訳名簿（一人親方団体控）'!X277)","v":""},{"$f":"IF('保険料申告内訳名簿（一人親方団体控）'!Y277=\"\",\"\",'保険料申告内訳名簿（一人親方団体控）'!Y277)","v":""},{"$f":"IF('保険料申告内訳名簿（一人親方団体控）'!Z277=\"\",\"\",'保険料申告内訳名簿（一人親方団体控）'!Z277)","v":""},{"$f":"IF('保険料申告内訳名簿（一人親方団体控）'!AA277=\"\",\"\",'保険料申告内訳名簿（一人親方団体控）'!AA277)","v":""},{"$f":"IF('保険料申告内訳名簿（一人親方団体控）'!AB277=\"\",\"\",'保険料申告内訳名簿（一人親方団体控）'!AB277)","v":""},{"$f":"IF('保険料申告内訳名簿（一人親方団体控）'!AC277=\"\",\"\",'保険料申告内訳名簿（一人親方団体控）'!AC277)","v":0},{"$f":"IF('保険料申告内訳名簿（一人親方団体控）'!AD277=\"\",\"\",'保険料申告内訳名簿（一人親方団体控）'!AD277)","v":""},{"$f":"IF('保険料申告内訳名簿（一人親方団体控）'!AE277=\"\",\"\",'保険料申告内訳名簿（一人親方団体控）'!AE277)","v":""},{"$f":"IF('保険料申告内訳名簿（一人親方団体控）'!AF277=\"\",\"\",'保険料申告内訳名簿（一人親方団体控）'!AF277)","v":""},{"$f":"IF('保険料申告内訳名簿（一人親方団体控）'!AG277=\"\",\"\",'保険料申告内訳名簿（一人親方団体控）'!AG277)","v":""},{"$f":"IF('保険料申告内訳名簿（一人親方団体控）'!AH277=\"\",\"\",'保険料申告内訳名簿（一人親方団体控）'!AH277)","v":""}]
[null,{"$f":"IF('保険料申告内訳名簿（一人親方団体控）'!B278=\"\",\"\",'保険料申告内訳名簿（一人親方団体控）'!B278)","v":""},{"$f":"IF('保険料申告内訳名簿（一人親方団体控）'!C278=\"\",\"\",'保険料申告内訳名簿（一人親方団体控）'!C278)","v":""},{"$f":"IF('保険料申告内訳名簿（一人親方団体控）'!D278=\"\",\"\",'保険料申告内訳名簿（一人親方団体控）'!D278)","v":""},{"$f":"IF('保険料申告内訳名簿（一人親方団体控）'!E278=\"\",\"\",'保険料申告内訳名簿（一人親方団体控）'!E278)","v":""},{"$f":"IF('保険料申告内訳名簿（一人親方団体控）'!F278=\"\",\"\",'保険料申告内訳名簿（一人親方団体控）'!F278)","v":""},{"$f":"IF('保険料申告内訳名簿（一人親方団体控）'!G278=\"\",\"\",'保険料申告内訳名簿（一人親方団体控）'!G278)","v":""},{"$f":"IF('保険料申告内訳名簿（一人親方団体控）'!H278=\"\",\"\",'保険料申告内訳名簿（一人親方団体控）'!H278)","v":""},{"$f":"IF('保険料申告内訳名簿（一人親方団体控）'!I278=\"\",\"\",'保険料申告内訳名簿（一人親方団体控）'!I278)","v":""},{"$f":"IF('保険料申告内訳名簿（一人親方団体控）'!J278=\"\",\"\",'保険料申告内訳名簿（一人親方団体控）'!J278)","v":""},{"$f":"IF('保険料申告内訳名簿（一人親方団体控）'!K278=\"\",\"\",'保険料申告内訳名簿（一人親方団体控）'!K278)","v":""},{"$f":"IF('保険料申告内訳名簿（一人親方団体控）'!L278=\"\",\"\",'保険料申告内訳名簿（一人親方団体控）'!L278)","v":""},{"$f":"IF('保険料申告内訳名簿（一人親方団体控）'!M278=\"\",\"\",'保険料申告内訳名簿（一人親方団体控）'!M278)","v":""},{"$f":"IF('保険料申告内訳名簿（一人親方団体控）'!N278=\"\",\"\",'保険料申告内訳名簿（一人親方団体控）'!N278)","v":""},{"$f":"IF('保険料申告内訳名簿（一人親方団体控）'!O278=\"\",\"\",'保険料申告内訳名簿（一人親方団体控）'!O278)","v":""},{"$f":"IF('保険料申告内訳名簿（一人親方団体控）'!P278=\"\",\"\",'保険料申告内訳名簿（一人親方団体控）'!P278)","v":""},{"$f":"IF('保険料申告内訳名簿（一人親方団体控）'!Q278=\"\",\"\",'保険料申告内訳名簿（一人親方団体控）'!Q278)","v":""},{"$f":"IF('保険料申告内訳名簿（一人親方団体控）'!R278=\"\",\"\",'保険料申告内訳名簿（一人親方団体控）'!R278)","v":""},{"$f":"IF('保険料申告内訳名簿（一人親方団体控）'!S278=\"\",\"\",'保険料申告内訳名簿（一人親方団体控）'!S278)","v":0},{"$f":"IF('保険料申告内訳名簿（一人親方団体控）'!T278=\"\",\"\",'保険料申告内訳名簿（一人親方団体控）'!T278)","v":""},{"$f":"IF('保険料申告内訳名簿（一人親方団体控）'!U278=\"\",\"\",'保険料申告内訳名簿（一人親方団体控）'!U278)","v":""},{"$f":"IF('保険料申告内訳名簿（一人親方団体控）'!V278=\"\",\"\",'保険料申告内訳名簿（一人親方団体控）'!V278)","v":""},{"$f":"IF('保険料申告内訳名簿（一人親方団体控）'!W278=\"\",\"\",'保険料申告内訳名簿（一人親方団体控）'!W278)","v":""},{"$f":"IF('保険料申告内訳名簿（一人親方団体控）'!X278=\"\",\"\",'保険料申告内訳名簿（一人親方団体控）'!X278)","v":""},{"$f":"IF('保険料申告内訳名簿（一人親方団体控）'!Y278=\"\",\"\",'保険料申告内訳名簿（一人親方団体控）'!Y278)","v":""},{"$f":"IF('保険料申告内訳名簿（一人親方団体控）'!Z278=\"\",\"\",'保険料申告内訳名簿（一人親方団体控）'!Z278)","v":""},{"$f":"IF('保険料申告内訳名簿（一人親方団体控）'!AA278=\"\",\"\",'保険料申告内訳名簿（一人親方団体控）'!AA278)","v":""},{"$f":"IF('保険料申告内訳名簿（一人親方団体控）'!AB278=\"\",\"\",'保険料申告内訳名簿（一人親方団体控）'!AB278)","v":""},{"$f":"IF('保険料申告内訳名簿（一人親方団体控）'!AC278=\"\",\"\",'保険料申告内訳名簿（一人親方団体控）'!AC278)","v":0},{"$f":"IF('保険料申告内訳名簿（一人親方団体控）'!AD278=\"\",\"\",'保険料申告内訳名簿（一人親方団体控）'!AD278)","v":""},{"$f":"IF('保険料申告内訳名簿（一人親方団体控）'!AE278=\"\",\"\",'保険料申告内訳名簿（一人親方団体控）'!AE278)","v":""},{"$f":"IF('保険料申告内訳名簿（一人親方団体控）'!AF278=\"\",\"\",'保険料申告内訳名簿（一人親方団体控）'!AF278)","v":""},{"$f":"IF('保険料申告内訳名簿（一人親方団体控）'!AG278=\"\",\"\",'保険料申告内訳名簿（一人親方団体控）'!AG278)","v":""},{"$f":"IF('保険料申告内訳名簿（一人親方団体控）'!AH278=\"\",\"\",'保険料申告内訳名簿（一人親方団体控）'!AH278)","v":""}]
[null,{"$f":"IF('保険料申告内訳名簿（一人親方団体控）'!B279=\"\",\"\",'保険料申告内訳名簿（一人親方団体控）'!B279)","v":""},{"$f":"IF('保険料申告内訳名簿（一人親方団体控）'!C279=\"\",\"\",'保険料申告内訳名簿（一人親方団体控）'!C279)","v":""},{"$f":"IF('保険料申告内訳名簿（一人親方団体控）'!D279=\"\",\"\",'保険料申告内訳名簿（一人親方団体控）'!D279)","v":""},{"$f":"IF('保険料申告内訳名簿（一人親方団体控）'!E279=\"\",\"\",'保険料申告内訳名簿（一人親方団体控）'!E279)","v":""},{"$f":"IF('保険料申告内訳名簿（一人親方団体控）'!F279=\"\",\"\",'保険料申告内訳名簿（一人親方団体控）'!F279)","v":""},{"$f":"IF('保険料申告内訳名簿（一人親方団体控）'!G279=\"\",\"\",'保険料申告内訳名簿（一人親方団体控）'!G279)","v":""},{"$f":"IF('保険料申告内訳名簿（一人親方団体控）'!H279=\"\",\"\",'保険料申告内訳名簿（一人親方団体控）'!H279)","v":""},{"$f":"IF('保険料申告内訳名簿（一人親方団体控）'!I279=\"\",\"\",'保険料申告内訳名簿（一人親方団体控）'!I279)","v":""},{"$f":"IF('保険料申告内訳名簿（一人親方団体控）'!J279=\"\",\"\",'保険料申告内訳名簿（一人親方団体控）'!J279)","v":""},{"$f":"IF('保険料申告内訳名簿（一人親方団体控）'!K279=\"\",\"\",'保険料申告内訳名簿（一人親方団体控）'!K279)","v":""},{"$f":"IF('保険料申告内訳名簿（一人親方団体控）'!L279=\"\",\"\",'保険料申告内訳名簿（一人親方団体控）'!L279)","v":""},{"$f":"IF('保険料申告内訳名簿（一人親方団体控）'!M279=\"\",\"\",'保険料申告内訳名簿（一人親方団体控）'!M279)","v":""},{"$f":"IF('保険料申告内訳名簿（一人親方団体控）'!N279=\"\",\"\",'保険料申告内訳名簿（一人親方団体控）'!N279)","v":""},{"$f":"IF('保険料申告内訳名簿（一人親方団体控）'!O279=\"\",\"\",'保険料申告内訳名簿（一人親方団体控）'!O279)","v":""},{"$f":"IF('保険料申告内訳名簿（一人親方団体控）'!P279=\"\",\"\",'保険料申告内訳名簿（一人親方団体控）'!P279)","v":""},{"$f":"IF('保険料申告内訳名簿（一人親方団体控）'!Q279=\"\",\"\",'保険料申告内訳名簿（一人親方団体控）'!Q279)","v":""},{"$f":"IF('保険料申告内訳名簿（一人親方団体控）'!R279=\"\",\"\",'保険料申告内訳名簿（一人親方団体控）'!R279)","v":""},{"$f":"IF('保険料申告内訳名簿（一人親方団体控）'!S279=\"\",\"\",'保険料申告内訳名簿（一人親方団体控）'!S279)","v":0},{"$f":"IF('保険料申告内訳名簿（一人親方団体控）'!T279=\"\",\"\",'保険料申告内訳名簿（一人親方団体控）'!T279)","v":""},{"$f":"IF('保険料申告内訳名簿（一人親方団体控）'!U279=\"\",\"\",'保険料申告内訳名簿（一人親方団体控）'!U279)","v":""},{"$f":"IF('保険料申告内訳名簿（一人親方団体控）'!V279=\"\",\"\",'保険料申告内訳名簿（一人親方団体控）'!V279)","v":""},{"$f":"IF('保険料申告内訳名簿（一人親方団体控）'!W279=\"\",\"\",'保険料申告内訳名簿（一人親方団体控）'!W279)","v":""},{"$f":"IF('保険料申告内訳名簿（一人親方団体控）'!X279=\"\",\"\",'保険料申告内訳名簿（一人親方団体控）'!X279)","v":""},{"$f":"IF('保険料申告内訳名簿（一人親方団体控）'!Y279=\"\",\"\",'保険料申告内訳名簿（一人親方団体控）'!Y279)","v":""},{"$f":"IF('保険料申告内訳名簿（一人親方団体控）'!Z279=\"\",\"\",'保険料申告内訳名簿（一人親方団体控）'!Z279)","v":""},{"$f":"IF('保険料申告内訳名簿（一人親方団体控）'!AA279=\"\",\"\",'保険料申告内訳名簿（一人親方団体控）'!AA279)","v":""},{"$f":"IF('保険料申告内訳名簿（一人親方団体控）'!AB279=\"\",\"\",'保険料申告内訳名簿（一人親方団体控）'!AB279)","v":""},{"$f":"IF('保険料申告内訳名簿（一人親方団体控）'!AC279=\"\",\"\",'保険料申告内訳名簿（一人親方団体控）'!AC279)","v":0},{"$f":"IF('保険料申告内訳名簿（一人親方団体控）'!AD279=\"\",\"\",'保険料申告内訳名簿（一人親方団体控）'!AD279)","v":""},{"$f":"IF('保険料申告内訳名簿（一人親方団体控）'!AE279=\"\",\"\",'保険料申告内訳名簿（一人親方団体控）'!AE279)","v":""},{"$f":"IF('保険料申告内訳名簿（一人親方団体控）'!AF279=\"\",\"\",'保険料申告内訳名簿（一人親方団体控）'!AF279)","v":""},{"$f":"IF('保険料申告内訳名簿（一人親方団体控）'!AG279=\"\",\"\",'保険料申告内訳名簿（一人親方団体控）'!AG279)","v":""},{"$f":"IF('保険料申告内訳名簿（一人親方団体控）'!AH279=\"\",\"\",'保険料申告内訳名簿（一人親方団体控）'!AH279)","v":""}]
[null,{"$f":"IF('保険料申告内訳名簿（一人親方団体控）'!B280=\"\",\"\",'保険料申告内訳名簿（一人親方団体控）'!B280)","v":""},{"$f":"IF('保険料申告内訳名簿（一人親方団体控）'!C280=\"\",\"\",'保険料申告内訳名簿（一人親方団体控）'!C280)","v":""},{"$f":"IF('保険料申告内訳名簿（一人親方団体控）'!D280=\"\",\"\",'保険料申告内訳名簿（一人親方団体控）'!D280)","v":""},{"$f":"IF('保険料申告内訳名簿（一人親方団体控）'!E280=\"\",\"\",'保険料申告内訳名簿（一人親方団体控）'!E280)","v":""},{"$f":"IF('保険料申告内訳名簿（一人親方団体控）'!F280=\"\",\"\",'保険料申告内訳名簿（一人親方団体控）'!F280)","v":""},{"$f":"IF('保険料申告内訳名簿（一人親方団体控）'!G280=\"\",\"\",'保険料申告内訳名簿（一人親方団体控）'!G280)","v":""},{"$f":"IF('保険料申告内訳名簿（一人親方団体控）'!H280=\"\",\"\",'保険料申告内訳名簿（一人親方団体控）'!H280)","v":""},{"$f":"IF('保険料申告内訳名簿（一人親方団体控）'!I280=\"\",\"\",'保険料申告内訳名簿（一人親方団体控）'!I280)","v":""},{"$f":"IF('保険料申告内訳名簿（一人親方団体控）'!J280=\"\",\"\",'保険料申告内訳名簿（一人親方団体控）'!J280)","v":""},{"$f":"IF('保険料申告内訳名簿（一人親方団体控）'!K280=\"\",\"\",'保険料申告内訳名簿（一人親方団体控）'!K280)","v":""},{"$f":"IF('保険料申告内訳名簿（一人親方団体控）'!L280=\"\",\"\",'保険料申告内訳名簿（一人親方団体控）'!L280)","v":""},{"$f":"IF('保険料申告内訳名簿（一人親方団体控）'!M280=\"\",\"\",'保険料申告内訳名簿（一人親方団体控）'!M280)","v":""},{"$f":"IF('保険料申告内訳名簿（一人親方団体控）'!N280=\"\",\"\",'保険料申告内訳名簿（一人親方団体控）'!N280)","v":""},{"$f":"IF('保険料申告内訳名簿（一人親方団体控）'!O280=\"\",\"\",'保険料申告内訳名簿（一人親方団体控）'!O280)","v":""},{"$f":"IF('保険料申告内訳名簿（一人親方団体控）'!P280=\"\",\"\",'保険料申告内訳名簿（一人親方団体控）'!P280)","v":""},{"$f":"IF('保険料申告内訳名簿（一人親方団体控）'!Q280=\"\",\"\",'保険料申告内訳名簿（一人親方団体控）'!Q280)","v":""},{"$f":"IF('保険料申告内訳名簿（一人親方団体控）'!R280=\"\",\"\",'保険料申告内訳名簿（一人親方団体控）'!R280)","v":""},{"$f":"IF('保険料申告内訳名簿（一人親方団体控）'!S280=\"\",\"\",'保険料申告内訳名簿（一人親方団体控）'!S280)","v":0},{"$f":"IF('保険料申告内訳名簿（一人親方団体控）'!T280=\"\",\"\",'保険料申告内訳名簿（一人親方団体控）'!T280)","v":""},{"$f":"IF('保険料申告内訳名簿（一人親方団体控）'!U280=\"\",\"\",'保険料申告内訳名簿（一人親方団体控）'!U280)","v":""},{"$f":"IF('保険料申告内訳名簿（一人親方団体控）'!V280=\"\",\"\",'保険料申告内訳名簿（一人親方団体控）'!V280)","v":""},{"$f":"IF('保険料申告内訳名簿（一人親方団体控）'!W280=\"\",\"\",'保険料申告内訳名簿（一人親方団体控）'!W280)","v":""},{"$f":"IF('保険料申告内訳名簿（一人親方団体控）'!X280=\"\",\"\",'保険料申告内訳名簿（一人親方団体控）'!X280)","v":""},{"$f":"IF('保険料申告内訳名簿（一人親方団体控）'!Y280=\"\",\"\",'保険料申告内訳名簿（一人親方団体控）'!Y280)","v":""},{"$f":"IF('保険料申告内訳名簿（一人親方団体控）'!Z280=\"\",\"\",'保険料申告内訳名簿（一人親方団体控）'!Z280)","v":""},{"$f":"IF('保険料申告内訳名簿（一人親方団体控）'!AA280=\"\",\"\",'保険料申告内訳名簿（一人親方団体控）'!AA280)","v":""},{"$f":"IF('保険料申告内訳名簿（一人親方団体控）'!AB280=\"\",\"\",'保険料申告内訳名簿（一人親方団体控）'!AB280)","v":""},{"$f":"IF('保険料申告内訳名簿（一人親方団体控）'!AC280=\"\",\"\",'保険料申告内訳名簿（一人親方団体控）'!AC280)","v":0},{"$f":"IF('保険料申告内訳名簿（一人親方団体控）'!AD280=\"\",\"\",'保険料申告内訳名簿（一人親方団体控）'!AD280)","v":""},{"$f":"IF('保険料申告内訳名簿（一人親方団体控）'!AE280=\"\",\"\",'保険料申告内訳名簿（一人親方団体控）'!AE280)","v":""},{"$f":"IF('保険料申告内訳名簿（一人親方団体控）'!AF280=\"\",\"\",'保険料申告内訳名簿（一人親方団体控）'!AF280)","v":""},{"$f":"IF('保険料申告内訳名簿（一人親方団体控）'!AG280=\"\",\"\",'保険料申告内訳名簿（一人親方団体控）'!AG280)","v":""},{"$f":"IF('保険料申告内訳名簿（一人親方団体控）'!AH280=\"\",\"\",'保険料申告内訳名簿（一人親方団体控）'!AH280)","v":""}]
[null,{"$f":"IF('保険料申告内訳名簿（一人親方団体控）'!B281=\"\",\"\",'保険料申告内訳名簿（一人親方団体控）'!B281)","v":""},{"$f":"IF('保険料申告内訳名簿（一人親方団体控）'!C281=\"\",\"\",'保険料申告内訳名簿（一人親方団体控）'!C281)","v":""},{"$f":"IF('保険料申告内訳名簿（一人親方団体控）'!D281=\"\",\"\",'保険料申告内訳名簿（一人親方団体控）'!D281)","v":""},{"$f":"IF('保険料申告内訳名簿（一人親方団体控）'!E281=\"\",\"\",'保険料申告内訳名簿（一人親方団体控）'!E281)","v":""},{"$f":"IF('保険料申告内訳名簿（一人親方団体控）'!F281=\"\",\"\",'保険料申告内訳名簿（一人親方団体控）'!F281)","v":""},{"$f":"IF('保険料申告内訳名簿（一人親方団体控）'!G281=\"\",\"\",'保険料申告内訳名簿（一人親方団体控）'!G281)","v":""},{"$f":"IF('保険料申告内訳名簿（一人親方団体控）'!H281=\"\",\"\",'保険料申告内訳名簿（一人親方団体控）'!H281)","v":""},{"$f":"IF('保険料申告内訳名簿（一人親方団体控）'!I281=\"\",\"\",'保険料申告内訳名簿（一人親方団体控）'!I281)","v":""},{"$f":"IF('保険料申告内訳名簿（一人親方団体控）'!J281=\"\",\"\",'保険料申告内訳名簿（一人親方団体控）'!J281)","v":""},{"$f":"IF('保険料申告内訳名簿（一人親方団体控）'!K281=\"\",\"\",'保険料申告内訳名簿（一人親方団体控）'!K281)","v":""},{"$f":"IF('保険料申告内訳名簿（一人親方団体控）'!L281=\"\",\"\",'保険料申告内訳名簿（一人親方団体控）'!L281)","v":""},{"$f":"IF('保険料申告内訳名簿（一人親方団体控）'!M281=\"\",\"\",'保険料申告内訳名簿（一人親方団体控）'!M281)","v":""},{"$f":"IF('保険料申告内訳名簿（一人親方団体控）'!N281=\"\",\"\",'保険料申告内訳名簿（一人親方団体控）'!N281)","v":""},{"$f":"IF('保険料申告内訳名簿（一人親方団体控）'!O281=\"\",\"\",'保険料申告内訳名簿（一人親方団体控）'!O281)","v":""},{"$f":"IF('保険料申告内訳名簿（一人親方団体控）'!P281=\"\",\"\",'保険料申告内訳名簿（一人親方団体控）'!P281)","v":""},{"$f":"IF('保険料申告内訳名簿（一人親方団体控）'!Q281=\"\",\"\",'保険料申告内訳名簿（一人親方団体控）'!Q281)","v":""},{"$f":"IF('保険料申告内訳名簿（一人親方団体控）'!R281=\"\",\"\",'保険料申告内訳名簿（一人親方団体控）'!R281)","v":""},{"$f":"IF('保険料申告内訳名簿（一人親方団体控）'!S281=\"\",\"\",'保険料申告内訳名簿（一人親方団体控）'!S281)","v":0},{"$f":"IF('保険料申告内訳名簿（一人親方団体控）'!T281=\"\",\"\",'保険料申告内訳名簿（一人親方団体控）'!T281)","v":""},{"$f":"IF('保険料申告内訳名簿（一人親方団体控）'!U281=\"\",\"\",'保険料申告内訳名簿（一人親方団体控）'!U281)","v":""},{"$f":"IF('保険料申告内訳名簿（一人親方団体控）'!V281=\"\",\"\",'保険料申告内訳名簿（一人親方団体控）'!V281)","v":""},{"$f":"IF('保険料申告内訳名簿（一人親方団体控）'!W281=\"\",\"\",'保険料申告内訳名簿（一人親方団体控）'!W281)","v":""},{"$f":"IF('保険料申告内訳名簿（一人親方団体控）'!X281=\"\",\"\",'保険料申告内訳名簿（一人親方団体控）'!X281)","v":""},{"$f":"IF('保険料申告内訳名簿（一人親方団体控）'!Y281=\"\",\"\",'保険料申告内訳名簿（一人親方団体控）'!Y281)","v":""},{"$f":"IF('保険料申告内訳名簿（一人親方団体控）'!Z281=\"\",\"\",'保険料申告内訳名簿（一人親方団体控）'!Z281)","v":""},{"$f":"IF('保険料申告内訳名簿（一人親方団体控）'!AA281=\"\",\"\",'保険料申告内訳名簿（一人親方団体控）'!AA281)","v":""},{"$f":"IF('保険料申告内訳名簿（一人親方団体控）'!AB281=\"\",\"\",'保険料申告内訳名簿（一人親方団体控）'!AB281)","v":""},{"$f":"IF('保険料申告内訳名簿（一人親方団体控）'!AC281=\"\",\"\",'保険料申告内訳名簿（一人親方団体控）'!AC281)","v":0},{"$f":"IF('保険料申告内訳名簿（一人親方団体控）'!AD281=\"\",\"\",'保険料申告内訳名簿（一人親方団体控）'!AD281)","v":""},{"$f":"IF('保険料申告内訳名簿（一人親方団体控）'!AE281=\"\",\"\",'保険料申告内訳名簿（一人親方団体控）'!AE281)","v":""},{"$f":"IF('保険料申告内訳名簿（一人親方団体控）'!AF281=\"\",\"\",'保険料申告内訳名簿（一人親方団体控）'!AF281)","v":""},{"$f":"IF('保険料申告内訳名簿（一人親方団体控）'!AG281=\"\",\"\",'保険料申告内訳名簿（一人親方団体控）'!AG281)","v":""},{"$f":"IF('保険料申告内訳名簿（一人親方団体控）'!AH281=\"\",\"\",'保険料申告内訳名簿（一人親方団体控）'!AH281)","v":""}]
[null,{"$f":"IF('保険料申告内訳名簿（一人親方団体控）'!B282=\"\",\"\",'保険料申告内訳名簿（一人親方団体控）'!B282)","v":""},{"$f":"IF('保険料申告内訳名簿（一人親方団体控）'!C282=\"\",\"\",'保険料申告内訳名簿（一人親方団体控）'!C282)","v":""},{"$f":"IF('保険料申告内訳名簿（一人親方団体控）'!D282=\"\",\"\",'保険料申告内訳名簿（一人親方団体控）'!D282)","v":""},{"$f":"IF('保険料申告内訳名簿（一人親方団体控）'!E282=\"\",\"\",'保険料申告内訳名簿（一人親方団体控）'!E282)","v":""},{"$f":"IF('保険料申告内訳名簿（一人親方団体控）'!F282=\"\",\"\",'保険料申告内訳名簿（一人親方団体控）'!F282)","v":""},{"$f":"IF('保険料申告内訳名簿（一人親方団体控）'!G282=\"\",\"\",'保険料申告内訳名簿（一人親方団体控）'!G282)","v":""},{"$f":"IF('保険料申告内訳名簿（一人親方団体控）'!H282=\"\",\"\",'保険料申告内訳名簿（一人親方団体控）'!H282)","v":""},{"$f":"IF('保険料申告内訳名簿（一人親方団体控）'!I282=\"\",\"\",'保険料申告内訳名簿（一人親方団体控）'!I282)","v":""},{"$f":"IF('保険料申告内訳名簿（一人親方団体控）'!J282=\"\",\"\",'保険料申告内訳名簿（一人親方団体控）'!J282)","v":""},{"$f":"IF('保険料申告内訳名簿（一人親方団体控）'!K282=\"\",\"\",'保険料申告内訳名簿（一人親方団体控）'!K282)","v":""},{"$f":"IF('保険料申告内訳名簿（一人親方団体控）'!L282=\"\",\"\",'保険料申告内訳名簿（一人親方団体控）'!L282)","v":""},{"$f":"IF('保険料申告内訳名簿（一人親方団体控）'!M282=\"\",\"\",'保険料申告内訳名簿（一人親方団体控）'!M282)","v":""},{"$f":"IF('保険料申告内訳名簿（一人親方団体控）'!N282=\"\",\"\",'保険料申告内訳名簿（一人親方団体控）'!N282)","v":""},{"$f":"IF('保険料申告内訳名簿（一人親方団体控）'!O282=\"\",\"\",'保険料申告内訳名簿（一人親方団体控）'!O282)","v":""},{"$f":"IF('保険料申告内訳名簿（一人親方団体控）'!P282=\"\",\"\",'保険料申告内訳名簿（一人親方団体控）'!P282)","v":""},{"$f":"IF('保険料申告内訳名簿（一人親方団体控）'!Q282=\"\",\"\",'保険料申告内訳名簿（一人親方団体控）'!Q282)","v":""},{"$f":"IF('保険料申告内訳名簿（一人親方団体控）'!R282=\"\",\"\",'保険料申告内訳名簿（一人親方団体控）'!R282)","v":""},{"$f":"IF('保険料申告内訳名簿（一人親方団体控）'!S282=\"\",\"\",'保険料申告内訳名簿（一人親方団体控）'!S282)","v":0},{"$f":"IF('保険料申告内訳名簿（一人親方団体控）'!T282=\"\",\"\",'保険料申告内訳名簿（一人親方団体控）'!T282)","v":""},{"$f":"IF('保険料申告内訳名簿（一人親方団体控）'!U282=\"\",\"\",'保険料申告内訳名簿（一人親方団体控）'!U282)","v":""},{"$f":"IF('保険料申告内訳名簿（一人親方団体控）'!V282=\"\",\"\",'保険料申告内訳名簿（一人親方団体控）'!V282)","v":""},{"$f":"IF('保険料申告内訳名簿（一人親方団体控）'!W282=\"\",\"\",'保険料申告内訳名簿（一人親方団体控）'!W282)","v":""},{"$f":"IF('保険料申告内訳名簿（一人親方団体控）'!X282=\"\",\"\",'保険料申告内訳名簿（一人親方団体控）'!X282)","v":""},{"$f":"IF('保険料申告内訳名簿（一人親方団体控）'!Y282=\"\",\"\",'保険料申告内訳名簿（一人親方団体控）'!Y282)","v":""},{"$f":"IF('保険料申告内訳名簿（一人親方団体控）'!Z282=\"\",\"\",'保険料申告内訳名簿（一人親方団体控）'!Z282)","v":""},{"$f":"IF('保険料申告内訳名簿（一人親方団体控）'!AA282=\"\",\"\",'保険料申告内訳名簿（一人親方団体控）'!AA282)","v":""},{"$f":"IF('保険料申告内訳名簿（一人親方団体控）'!AB282=\"\",\"\",'保険料申告内訳名簿（一人親方団体控）'!AB282)","v":""},{"$f":"IF('保険料申告内訳名簿（一人親方団体控）'!AC282=\"\",\"\",'保険料申告内訳名簿（一人親方団体控）'!AC282)","v":0},{"$f":"IF('保険料申告内訳名簿（一人親方団体控）'!AD282=\"\",\"\",'保険料申告内訳名簿（一人親方団体控）'!AD282)","v":""},{"$f":"IF('保険料申告内訳名簿（一人親方団体控）'!AE282=\"\",\"\",'保険料申告内訳名簿（一人親方団体控）'!AE282)","v":""},{"$f":"IF('保険料申告内訳名簿（一人親方団体控）'!AF282=\"\",\"\",'保険料申告内訳名簿（一人親方団体控）'!AF282)","v":""},{"$f":"IF('保険料申告内訳名簿（一人親方団体控）'!AG282=\"\",\"\",'保険料申告内訳名簿（一人親方団体控）'!AG282)","v":""},{"$f":"IF('保険料申告内訳名簿（一人親方団体控）'!AH282=\"\",\"\",'保険料申告内訳名簿（一人親方団体控）'!AH282)","v":""}]
[null,{"$f":"IF('保険料申告内訳名簿（一人親方団体控）'!B283=\"\",\"\",'保険料申告内訳名簿（一人親方団体控）'!B283)","v":""},{"$f":"IF('保険料申告内訳名簿（一人親方団体控）'!C283=\"\",\"\",'保険料申告内訳名簿（一人親方団体控）'!C283)","v":""},{"$f":"IF('保険料申告内訳名簿（一人親方団体控）'!D283=\"\",\"\",'保険料申告内訳名簿（一人親方団体控）'!D283)","v":""},{"$f":"IF('保険料申告内訳名簿（一人親方団体控）'!E283=\"\",\"\",'保険料申告内訳名簿（一人親方団体控）'!E283)","v":""},{"$f":"IF('保険料申告内訳名簿（一人親方団体控）'!F283=\"\",\"\",'保険料申告内訳名簿（一人親方団体控）'!F283)","v":""},{"$f":"IF('保険料申告内訳名簿（一人親方団体控）'!G283=\"\",\"\",'保険料申告内訳名簿（一人親方団体控）'!G283)","v":""},{"$f":"IF('保険料申告内訳名簿（一人親方団体控）'!H283=\"\",\"\",'保険料申告内訳名簿（一人親方団体控）'!H283)","v":""},{"$f":"IF('保険料申告内訳名簿（一人親方団体控）'!I283=\"\",\"\",'保険料申告内訳名簿（一人親方団体控）'!I283)","v":""},{"$f":"IF('保険料申告内訳名簿（一人親方団体控）'!J283=\"\",\"\",'保険料申告内訳名簿（一人親方団体控）'!J283)","v":""},{"$f":"IF('保険料申告内訳名簿（一人親方団体控）'!K283=\"\",\"\",'保険料申告内訳名簿（一人親方団体控）'!K283)","v":""},{"$f":"IF('保険料申告内訳名簿（一人親方団体控）'!L283=\"\",\"\",'保険料申告内訳名簿（一人親方団体控）'!L283)","v":""},{"$f":"IF('保険料申告内訳名簿（一人親方団体控）'!M283=\"\",\"\",'保険料申告内訳名簿（一人親方団体控）'!M283)","v":""},{"$f":"IF('保険料申告内訳名簿（一人親方団体控）'!N283=\"\",\"\",'保険料申告内訳名簿（一人親方団体控）'!N283)","v":""},{"$f":"IF('保険料申告内訳名簿（一人親方団体控）'!O283=\"\",\"\",'保険料申告内訳名簿（一人親方団体控）'!O283)","v":""},{"$f":"IF('保険料申告内訳名簿（一人親方団体控）'!P283=\"\",\"\",'保険料申告内訳名簿（一人親方団体控）'!P283)","v":""},{"$f":"IF('保険料申告内訳名簿（一人親方団体控）'!Q283=\"\",\"\",'保険料申告内訳名簿（一人親方団体控）'!Q283)","v":""},{"$f":"IF('保険料申告内訳名簿（一人親方団体控）'!R283=\"\",\"\",'保険料申告内訳名簿（一人親方団体控）'!R283)","v":""},{"$f":"IF('保険料申告内訳名簿（一人親方団体控）'!S283=\"\",\"\",'保険料申告内訳名簿（一人親方団体控）'!S283)","v":0},{"$f":"IF('保険料申告内訳名簿（一人親方団体控）'!T283=\"\",\"\",'保険料申告内訳名簿（一人親方団体控）'!T283)","v":""},{"$f":"IF('保険料申告内訳名簿（一人親方団体控）'!U283=\"\",\"\",'保険料申告内訳名簿（一人親方団体控）'!U283)","v":""},{"$f":"IF('保険料申告内訳名簿（一人親方団体控）'!V283=\"\",\"\",'保険料申告内訳名簿（一人親方団体控）'!V283)","v":""},{"$f":"IF('保険料申告内訳名簿（一人親方団体控）'!W283=\"\",\"\",'保険料申告内訳名簿（一人親方団体控）'!W283)","v":""},{"$f":"IF('保険料申告内訳名簿（一人親方団体控）'!X283=\"\",\"\",'保険料申告内訳名簿（一人親方団体控）'!X283)","v":""},{"$f":"IF('保険料申告内訳名簿（一人親方団体控）'!Y283=\"\",\"\",'保険料申告内訳名簿（一人親方団体控）'!Y283)","v":""},{"$f":"IF('保険料申告内訳名簿（一人親方団体控）'!Z283=\"\",\"\",'保険料申告内訳名簿（一人親方団体控）'!Z283)","v":""},{"$f":"IF('保険料申告内訳名簿（一人親方団体控）'!AA283=\"\",\"\",'保険料申告内訳名簿（一人親方団体控）'!AA283)","v":""},{"$f":"IF('保険料申告内訳名簿（一人親方団体控）'!AB283=\"\",\"\",'保険料申告内訳名簿（一人親方団体控）'!AB283)","v":""},{"$f":"IF('保険料申告内訳名簿（一人親方団体控）'!AC283=\"\",\"\",'保険料申告内訳名簿（一人親方団体控）'!AC283)","v":0},{"$f":"IF('保険料申告内訳名簿（一人親方団体控）'!AD283=\"\",\"\",'保険料申告内訳名簿（一人親方団体控）'!AD283)","v":""},{"$f":"IF('保険料申告内訳名簿（一人親方団体控）'!AE283=\"\",\"\",'保険料申告内訳名簿（一人親方団体控）'!AE283)","v":""},{"$f":"IF('保険料申告内訳名簿（一人親方団体控）'!AF283=\"\",\"\",'保険料申告内訳名簿（一人親方団体控）'!AF283)","v":""},{"$f":"IF('保険料申告内訳名簿（一人親方団体控）'!AG283=\"\",\"\",'保険料申告内訳名簿（一人親方団体控）'!AG283)","v":""},{"$f":"IF('保険料申告内訳名簿（一人親方団体控）'!AH283=\"\",\"\",'保険料申告内訳名簿（一人親方団体控）'!AH283)","v":""}]
[null,{"$f":"IF('保険料申告内訳名簿（一人親方団体控）'!B284=\"\",\"\",'保険料申告内訳名簿（一人親方団体控）'!B284)","v":""},{"$f":"IF('保険料申告内訳名簿（一人親方団体控）'!C284=\"\",\"\",'保険料申告内訳名簿（一人親方団体控）'!C284)","v":""},{"$f":"IF('保険料申告内訳名簿（一人親方団体控）'!D284=\"\",\"\",'保険料申告内訳名簿（一人親方団体控）'!D284)","v":""},{"$f":"IF('保険料申告内訳名簿（一人親方団体控）'!E284=\"\",\"\",'保険料申告内訳名簿（一人親方団体控）'!E284)","v":""},{"$f":"IF('保険料申告内訳名簿（一人親方団体控）'!F284=\"\",\"\",'保険料申告内訳名簿（一人親方団体控）'!F284)","v":""},{"$f":"IF('保険料申告内訳名簿（一人親方団体控）'!G284=\"\",\"\",'保険料申告内訳名簿（一人親方団体控）'!G284)","v":""},{"$f":"IF('保険料申告内訳名簿（一人親方団体控）'!H284=\"\",\"\",'保険料申告内訳名簿（一人親方団体控）'!H284)","v":""},{"$f":"IF('保険料申告内訳名簿（一人親方団体控）'!I284=\"\",\"\",'保険料申告内訳名簿（一人親方団体控）'!I284)","v":""},{"$f":"IF('保険料申告内訳名簿（一人親方団体控）'!J284=\"\",\"\",'保険料申告内訳名簿（一人親方団体控）'!J284)","v":""},{"$f":"IF('保険料申告内訳名簿（一人親方団体控）'!K284=\"\",\"\",'保険料申告内訳名簿（一人親方団体控）'!K284)","v":""},{"$f":"IF('保険料申告内訳名簿（一人親方団体控）'!L284=\"\",\"\",'保険料申告内訳名簿（一人親方団体控）'!L284)","v":""},{"$f":"IF('保険料申告内訳名簿（一人親方団体控）'!M284=\"\",\"\",'保険料申告内訳名簿（一人親方団体控）'!M284)","v":""},{"$f":"IF('保険料申告内訳名簿（一人親方団体控）'!N284=\"\",\"\",'保険料申告内訳名簿（一人親方団体控）'!N284)","v":""},{"$f":"IF('保険料申告内訳名簿（一人親方団体控）'!O284=\"\",\"\",'保険料申告内訳名簿（一人親方団体控）'!O284)","v":""},{"$f":"IF('保険料申告内訳名簿（一人親方団体控）'!P284=\"\",\"\",'保険料申告内訳名簿（一人親方団体控）'!P284)","v":""},{"$f":"IF('保険料申告内訳名簿（一人親方団体控）'!Q284=\"\",\"\",'保険料申告内訳名簿（一人親方団体控）'!Q284)","v":""},{"$f":"IF('保険料申告内訳名簿（一人親方団体控）'!R284=\"\",\"\",'保険料申告内訳名簿（一人親方団体控）'!R284)","v":""},{"$f":"IF('保険料申告内訳名簿（一人親方団体控）'!S284=\"\",\"\",'保険料申告内訳名簿（一人親方団体控）'!S284)","v":0},{"$f":"IF('保険料申告内訳名簿（一人親方団体控）'!T284=\"\",\"\",'保険料申告内訳名簿（一人親方団体控）'!T284)","v":""},{"$f":"IF('保険料申告内訳名簿（一人親方団体控）'!U284=\"\",\"\",'保険料申告内訳名簿（一人親方団体控）'!U284)","v":""},{"$f":"IF('保険料申告内訳名簿（一人親方団体控）'!V284=\"\",\"\",'保険料申告内訳名簿（一人親方団体控）'!V284)","v":""},{"$f":"IF('保険料申告内訳名簿（一人親方団体控）'!W284=\"\",\"\",'保険料申告内訳名簿（一人親方団体控）'!W284)","v":""},{"$f":"IF('保険料申告内訳名簿（一人親方団体控）'!X284=\"\",\"\",'保険料申告内訳名簿（一人親方団体控）'!X284)","v":""},{"$f":"IF('保険料申告内訳名簿（一人親方団体控）'!Y284=\"\",\"\",'保険料申告内訳名簿（一人親方団体控）'!Y284)","v":""},{"$f":"IF('保険料申告内訳名簿（一人親方団体控）'!Z284=\"\",\"\",'保険料申告内訳名簿（一人親方団体控）'!Z284)","v":""},{"$f":"IF('保険料申告内訳名簿（一人親方団体控）'!AA284=\"\",\"\",'保険料申告内訳名簿（一人親方団体控）'!AA284)","v":""},{"$f":"IF('保険料申告内訳名簿（一人親方団体控）'!AB284=\"\",\"\",'保険料申告内訳名簿（一人親方団体控）'!AB284)","v":""},{"$f":"IF('保険料申告内訳名簿（一人親方団体控）'!AC284=\"\",\"\",'保険料申告内訳名簿（一人親方団体控）'!AC284)","v":0},{"$f":"IF('保険料申告内訳名簿（一人親方団体控）'!AD284=\"\",\"\",'保険料申告内訳名簿（一人親方団体控）'!AD284)","v":""},{"$f":"IF('保険料申告内訳名簿（一人親方団体控）'!AE284=\"\",\"\",'保険料申告内訳名簿（一人親方団体控）'!AE284)","v":""},{"$f":"IF('保険料申告内訳名簿（一人親方団体控）'!AF284=\"\",\"\",'保険料申告内訳名簿（一人親方団体控）'!AF284)","v":""},{"$f":"IF('保険料申告内訳名簿（一人親方団体控）'!AG284=\"\",\"\",'保険料申告内訳名簿（一人親方団体控）'!AG284)","v":""},{"$f":"IF('保険料申告内訳名簿（一人親方団体控）'!AH284=\"\",\"\",'保険料申告内訳名簿（一人親方団体控）'!AH284)","v":""}]
[null,{"$f":"IF('保険料申告内訳名簿（一人親方団体控）'!B285=\"\",\"\",'保険料申告内訳名簿（一人親方団体控）'!B285)","v":""},{"$f":"IF('保険料申告内訳名簿（一人親方団体控）'!C285=\"\",\"\",'保険料申告内訳名簿（一人親方団体控）'!C285)","v":""},{"$f":"IF('保険料申告内訳名簿（一人親方団体控）'!D285=\"\",\"\",'保険料申告内訳名簿（一人親方団体控）'!D285)","v":""},{"$f":"IF('保険料申告内訳名簿（一人親方団体控）'!E285=\"\",\"\",'保険料申告内訳名簿（一人親方団体控）'!E285)","v":""},{"$f":"IF('保険料申告内訳名簿（一人親方団体控）'!F285=\"\",\"\",'保険料申告内訳名簿（一人親方団体控）'!F285)","v":""},{"$f":"IF('保険料申告内訳名簿（一人親方団体控）'!G285=\"\",\"\",'保険料申告内訳名簿（一人親方団体控）'!G285)","v":""},{"$f":"IF('保険料申告内訳名簿（一人親方団体控）'!H285=\"\",\"\",'保険料申告内訳名簿（一人親方団体控）'!H285)","v":""},{"$f":"IF('保険料申告内訳名簿（一人親方団体控）'!I285=\"\",\"\",'保険料申告内訳名簿（一人親方団体控）'!I285)","v":""},{"$f":"IF('保険料申告内訳名簿（一人親方団体控）'!J285=\"\",\"\",'保険料申告内訳名簿（一人親方団体控）'!J285)","v":""},{"$f":"IF('保険料申告内訳名簿（一人親方団体控）'!K285=\"\",\"\",'保険料申告内訳名簿（一人親方団体控）'!K285)","v":""},{"$f":"IF('保険料申告内訳名簿（一人親方団体控）'!L285=\"\",\"\",'保険料申告内訳名簿（一人親方団体控）'!L285)","v":""},{"$f":"IF('保険料申告内訳名簿（一人親方団体控）'!M285=\"\",\"\",'保険料申告内訳名簿（一人親方団体控）'!M285)","v":""},{"$f":"IF('保険料申告内訳名簿（一人親方団体控）'!N285=\"\",\"\",'保険料申告内訳名簿（一人親方団体控）'!N285)","v":""},{"$f":"IF('保険料申告内訳名簿（一人親方団体控）'!O285=\"\",\"\",'保険料申告内訳名簿（一人親方団体控）'!O285)","v":""},{"$f":"IF('保険料申告内訳名簿（一人親方団体控）'!P285=\"\",\"\",'保険料申告内訳名簿（一人親方団体控）'!P285)","v":""},{"$f":"IF('保険料申告内訳名簿（一人親方団体控）'!Q285=\"\",\"\",'保険料申告内訳名簿（一人親方団体控）'!Q285)","v":""},{"$f":"IF('保険料申告内訳名簿（一人親方団体控）'!R285=\"\",\"\",'保険料申告内訳名簿（一人親方団体控）'!R285)","v":""},{"$f":"IF('保険料申告内訳名簿（一人親方団体控）'!S285=\"\",\"\",'保険料申告内訳名簿（一人親方団体控）'!S285)","v":0},{"$f":"IF('保険料申告内訳名簿（一人親方団体控）'!T285=\"\",\"\",'保険料申告内訳名簿（一人親方団体控）'!T285)","v":""},{"$f":"IF('保険料申告内訳名簿（一人親方団体控）'!U285=\"\",\"\",'保険料申告内訳名簿（一人親方団体控）'!U285)","v":""},{"$f":"IF('保険料申告内訳名簿（一人親方団体控）'!V285=\"\",\"\",'保険料申告内訳名簿（一人親方団体控）'!V285)","v":""},{"$f":"IF('保険料申告内訳名簿（一人親方団体控）'!W285=\"\",\"\",'保険料申告内訳名簿（一人親方団体控）'!W285)","v":""},{"$f":"IF('保険料申告内訳名簿（一人親方団体控）'!X285=\"\",\"\",'保険料申告内訳名簿（一人親方団体控）'!X285)","v":""},{"$f":"IF('保険料申告内訳名簿（一人親方団体控）'!Y285=\"\",\"\",'保険料申告内訳名簿（一人親方団体控）'!Y285)","v":""},{"$f":"IF('保険料申告内訳名簿（一人親方団体控）'!Z285=\"\",\"\",'保険料申告内訳名簿（一人親方団体控）'!Z285)","v":""},{"$f":"IF('保険料申告内訳名簿（一人親方団体控）'!AA285=\"\",\"\",'保険料申告内訳名簿（一人親方団体控）'!AA285)","v":""},{"$f":"IF('保険料申告内訳名簿（一人親方団体控）'!AB285=\"\",\"\",'保険料申告内訳名簿（一人親方団体控）'!AB285)","v":""},{"$f":"IF('保険料申告内訳名簿（一人親方団体控）'!AC285=\"\",\"\",'保険料申告内訳名簿（一人親方団体控）'!AC285)","v":0},{"$f":"IF('保険料申告内訳名簿（一人親方団体控）'!AD285=\"\",\"\",'保険料申告内訳名簿（一人親方団体控）'!AD285)","v":""},{"$f":"IF('保険料申告内訳名簿（一人親方団体控）'!AE285=\"\",\"\",'保険料申告内訳名簿（一人親方団体控）'!AE285)","v":""},{"$f":"IF('保険料申告内訳名簿（一人親方団体控）'!AF285=\"\",\"\",'保険料申告内訳名簿（一人親方団体控）'!AF285)","v":""},{"$f":"IF('保険料申告内訳名簿（一人親方団体控）'!AG285=\"\",\"\",'保険料申告内訳名簿（一人親方団体控）'!AG285)","v":""},{"$f":"IF('保険料申告内訳名簿（一人親方団体控）'!AH285=\"\",\"\",'保険料申告内訳名簿（一人親方団体控）'!AH285)","v":""}]
[null,{"$f":"IF('保険料申告内訳名簿（一人親方団体控）'!B286=\"\",\"\",'保険料申告内訳名簿（一人親方団体控）'!B286)","v":""},{"$f":"IF('保険料申告内訳名簿（一人親方団体控）'!C286=\"\",\"\",'保険料申告内訳名簿（一人親方団体控）'!C286)","v":""},{"$f":"IF('保険料申告内訳名簿（一人親方団体控）'!D286=\"\",\"\",'保険料申告内訳名簿（一人親方団体控）'!D286)","v":""},{"$f":"IF('保険料申告内訳名簿（一人親方団体控）'!E286=\"\",\"\",'保険料申告内訳名簿（一人親方団体控）'!E286)","v":""},{"$f":"IF('保険料申告内訳名簿（一人親方団体控）'!F286=\"\",\"\",'保険料申告内訳名簿（一人親方団体控）'!F286)","v":""},{"$f":"IF('保険料申告内訳名簿（一人親方団体控）'!G286=\"\",\"\",'保険料申告内訳名簿（一人親方団体控）'!G286)","v":""},{"$f":"IF('保険料申告内訳名簿（一人親方団体控）'!H286=\"\",\"\",'保険料申告内訳名簿（一人親方団体控）'!H286)","v":""},{"$f":"IF('保険料申告内訳名簿（一人親方団体控）'!I286=\"\",\"\",'保険料申告内訳名簿（一人親方団体控）'!I286)","v":""},{"$f":"IF('保険料申告内訳名簿（一人親方団体控）'!J286=\"\",\"\",'保険料申告内訳名簿（一人親方団体控）'!J286)","v":""},{"$f":"IF('保険料申告内訳名簿（一人親方団体控）'!K286=\"\",\"\",'保険料申告内訳名簿（一人親方団体控）'!K286)","v":""},{"$f":"IF('保険料申告内訳名簿（一人親方団体控）'!L286=\"\",\"\",'保険料申告内訳名簿（一人親方団体控）'!L286)","v":""},{"$f":"IF('保険料申告内訳名簿（一人親方団体控）'!M286=\"\",\"\",'保険料申告内訳名簿（一人親方団体控）'!M286)","v":""},{"$f":"IF('保険料申告内訳名簿（一人親方団体控）'!N286=\"\",\"\",'保険料申告内訳名簿（一人親方団体控）'!N286)","v":""},{"$f":"IF('保険料申告内訳名簿（一人親方団体控）'!O286=\"\",\"\",'保険料申告内訳名簿（一人親方団体控）'!O286)","v":""},{"$f":"IF('保険料申告内訳名簿（一人親方団体控）'!P286=\"\",\"\",'保険料申告内訳名簿（一人親方団体控）'!P286)","v":""},{"$f":"IF('保険料申告内訳名簿（一人親方団体控）'!Q286=\"\",\"\",'保険料申告内訳名簿（一人親方団体控）'!Q286)","v":""},{"$f":"IF('保険料申告内訳名簿（一人親方団体控）'!R286=\"\",\"\",'保険料申告内訳名簿（一人親方団体控）'!R286)","v":""},{"$f":"IF('保険料申告内訳名簿（一人親方団体控）'!S286=\"\",\"\",'保険料申告内訳名簿（一人親方団体控）'!S286)","v":0},{"$f":"IF('保険料申告内訳名簿（一人親方団体控）'!T286=\"\",\"\",'保険料申告内訳名簿（一人親方団体控）'!T286)","v":""},{"$f":"IF('保険料申告内訳名簿（一人親方団体控）'!U286=\"\",\"\",'保険料申告内訳名簿（一人親方団体控）'!U286)","v":""},{"$f":"IF('保険料申告内訳名簿（一人親方団体控）'!V286=\"\",\"\",'保険料申告内訳名簿（一人親方団体控）'!V286)","v":""},{"$f":"IF('保険料申告内訳名簿（一人親方団体控）'!W286=\"\",\"\",'保険料申告内訳名簿（一人親方団体控）'!W286)","v":""},{"$f":"IF('保険料申告内訳名簿（一人親方団体控）'!X286=\"\",\"\",'保険料申告内訳名簿（一人親方団体控）'!X286)","v":""},{"$f":"IF('保険料申告内訳名簿（一人親方団体控）'!Y286=\"\",\"\",'保険料申告内訳名簿（一人親方団体控）'!Y286)","v":""},{"$f":"IF('保険料申告内訳名簿（一人親方団体控）'!Z286=\"\",\"\",'保険料申告内訳名簿（一人親方団体控）'!Z286)","v":""},{"$f":"IF('保険料申告内訳名簿（一人親方団体控）'!AA286=\"\",\"\",'保険料申告内訳名簿（一人親方団体控）'!AA286)","v":""},{"$f":"IF('保険料申告内訳名簿（一人親方団体控）'!AB286=\"\",\"\",'保険料申告内訳名簿（一人親方団体控）'!AB286)","v":""},{"$f":"IF('保険料申告内訳名簿（一人親方団体控）'!AC286=\"\",\"\",'保険料申告内訳名簿（一人親方団体控）'!AC286)","v":0},{"$f":"IF('保険料申告内訳名簿（一人親方団体控）'!AD286=\"\",\"\",'保険料申告内訳名簿（一人親方団体控）'!AD286)","v":""},{"$f":"IF('保険料申告内訳名簿（一人親方団体控）'!AE286=\"\",\"\",'保険料申告内訳名簿（一人親方団体控）'!AE286)","v":""},{"$f":"IF('保険料申告内訳名簿（一人親方団体控）'!AF286=\"\",\"\",'保険料申告内訳名簿（一人親方団体控）'!AF286)","v":""},{"$f":"IF('保険料申告内訳名簿（一人親方団体控）'!AG286=\"\",\"\",'保険料申告内訳名簿（一人親方団体控）'!AG286)","v":""},{"$f":"IF('保険料申告内訳名簿（一人親方団体控）'!AH286=\"\",\"\",'保険料申告内訳名簿（一人親方団体控）'!AH286)","v":""}]
[null,{"$f":"IF('保険料申告内訳名簿（一人親方団体控）'!B287=\"\",\"\",'保険料申告内訳名簿（一人親方団体控）'!B287)","v":""},{"$f":"IF('保険料申告内訳名簿（一人親方団体控）'!C287=\"\",\"\",'保険料申告内訳名簿（一人親方団体控）'!C287)","v":""},{"$f":"IF('保険料申告内訳名簿（一人親方団体控）'!D287=\"\",\"\",'保険料申告内訳名簿（一人親方団体控）'!D287)","v":""},{"$f":"IF('保険料申告内訳名簿（一人親方団体控）'!E287=\"\",\"\",'保険料申告内訳名簿（一人親方団体控）'!E287)","v":""},{"$f":"IF('保険料申告内訳名簿（一人親方団体控）'!F287=\"\",\"\",'保険料申告内訳名簿（一人親方団体控）'!F287)","v":""},{"$f":"IF('保険料申告内訳名簿（一人親方団体控）'!G287=\"\",\"\",'保険料申告内訳名簿（一人親方団体控）'!G287)","v":""},{"$f":"IF('保険料申告内訳名簿（一人親方団体控）'!H287=\"\",\"\",'保険料申告内訳名簿（一人親方団体控）'!H287)","v":""},{"$f":"IF('保険料申告内訳名簿（一人親方団体控）'!I287=\"\",\"\",'保険料申告内訳名簿（一人親方団体控）'!I287)","v":""},{"$f":"IF('保険料申告内訳名簿（一人親方団体控）'!J287=\"\",\"\",'保険料申告内訳名簿（一人親方団体控）'!J287)","v":""},{"$f":"IF('保険料申告内訳名簿（一人親方団体控）'!K287=\"\",\"\",'保険料申告内訳名簿（一人親方団体控）'!K287)","v":""},{"$f":"IF('保険料申告内訳名簿（一人親方団体控）'!L287=\"\",\"\",'保険料申告内訳名簿（一人親方団体控）'!L287)","v":""},{"$f":"IF('保険料申告内訳名簿（一人親方団体控）'!M287=\"\",\"\",'保険料申告内訳名簿（一人親方団体控）'!M287)","v":""},{"$f":"IF('保険料申告内訳名簿（一人親方団体控）'!N287=\"\",\"\",'保険料申告内訳名簿（一人親方団体控）'!N287)","v":""},{"$f":"IF('保険料申告内訳名簿（一人親方団体控）'!O287=\"\",\"\",'保険料申告内訳名簿（一人親方団体控）'!O287)","v":""},{"$f":"IF('保険料申告内訳名簿（一人親方団体控）'!P287=\"\",\"\",'保険料申告内訳名簿（一人親方団体控）'!P287)","v":""},{"$f":"IF('保険料申告内訳名簿（一人親方団体控）'!Q287=\"\",\"\",'保険料申告内訳名簿（一人親方団体控）'!Q287)","v":""},{"$f":"IF('保険料申告内訳名簿（一人親方団体控）'!R287=\"\",\"\",'保険料申告内訳名簿（一人親方団体控）'!R287)","v":""},{"$f":"IF('保険料申告内訳名簿（一人親方団体控）'!S287=\"\",\"\",'保険料申告内訳名簿（一人親方団体控）'!S287)","v":0},{"$f":"IF('保険料申告内訳名簿（一人親方団体控）'!T287=\"\",\"\",'保険料申告内訳名簿（一人親方団体控）'!T287)","v":""},{"$f":"IF('保険料申告内訳名簿（一人親方団体控）'!U287=\"\",\"\",'保険料申告内訳名簿（一人親方団体控）'!U287)","v":""},{"$f":"IF('保険料申告内訳名簿（一人親方団体控）'!V287=\"\",\"\",'保険料申告内訳名簿（一人親方団体控）'!V287)","v":""},{"$f":"IF('保険料申告内訳名簿（一人親方団体控）'!W287=\"\",\"\",'保険料申告内訳名簿（一人親方団体控）'!W287)","v":""},{"$f":"IF('保険料申告内訳名簿（一人親方団体控）'!X287=\"\",\"\",'保険料申告内訳名簿（一人親方団体控）'!X287)","v":""},{"$f":"IF('保険料申告内訳名簿（一人親方団体控）'!Y287=\"\",\"\",'保険料申告内訳名簿（一人親方団体控）'!Y287)","v":""},{"$f":"IF('保険料申告内訳名簿（一人親方団体控）'!Z287=\"\",\"\",'保険料申告内訳名簿（一人親方団体控）'!Z287)","v":""},{"$f":"IF('保険料申告内訳名簿（一人親方団体控）'!AA287=\"\",\"\",'保険料申告内訳名簿（一人親方団体控）'!AA287)","v":""},{"$f":"IF('保険料申告内訳名簿（一人親方団体控）'!AB287=\"\",\"\",'保険料申告内訳名簿（一人親方団体控）'!AB287)","v":""},{"$f":"IF('保険料申告内訳名簿（一人親方団体控）'!AC287=\"\",\"\",'保険料申告内訳名簿（一人親方団体控）'!AC287)","v":0},{"$f":"IF('保険料申告内訳名簿（一人親方団体控）'!AD287=\"\",\"\",'保険料申告内訳名簿（一人親方団体控）'!AD287)","v":""},{"$f":"IF('保険料申告内訳名簿（一人親方団体控）'!AE287=\"\",\"\",'保険料申告内訳名簿（一人親方団体控）'!AE287)","v":""},{"$f":"IF('保険料申告内訳名簿（一人親方団体控）'!AF287=\"\",\"\",'保険料申告内訳名簿（一人親方団体控）'!AF287)","v":""},{"$f":"IF('保険料申告内訳名簿（一人親方団体控）'!AG287=\"\",\"\",'保険料申告内訳名簿（一人親方団体控）'!AG287)","v":""},{"$f":"IF('保険料申告内訳名簿（一人親方団体控）'!AH287=\"\",\"\",'保険料申告内訳名簿（一人親方団体控）'!AH287)","v":""}]
[null,{"$f":"IF('保険料申告内訳名簿（一人親方団体控）'!B288=\"\",\"\",'保険料申告内訳名簿（一人親方団体控）'!B288)","v":""},{"$f":"IF('保険料申告内訳名簿（一人親方団体控）'!C288=\"\",\"\",'保険料申告内訳名簿（一人親方団体控）'!C288)","v":""},{"$f":"IF('保険料申告内訳名簿（一人親方団体控）'!D288=\"\",\"\",'保険料申告内訳名簿（一人親方団体控）'!D288)","v":""},{"$f":"IF('保険料申告内訳名簿（一人親方団体控）'!E288=\"\",\"\",'保険料申告内訳名簿（一人親方団体控）'!E288)","v":""},{"$f":"IF('保険料申告内訳名簿（一人親方団体控）'!F288=\"\",\"\",'保険料申告内訳名簿（一人親方団体控）'!F288)","v":""},{"$f":"IF('保険料申告内訳名簿（一人親方団体控）'!G288=\"\",\"\",'保険料申告内訳名簿（一人親方団体控）'!G288)","v":""},{"$f":"IF('保険料申告内訳名簿（一人親方団体控）'!H288=\"\",\"\",'保険料申告内訳名簿（一人親方団体控）'!H288)","v":""},{"$f":"IF('保険料申告内訳名簿（一人親方団体控）'!I288=\"\",\"\",'保険料申告内訳名簿（一人親方団体控）'!I288)","v":""},{"$f":"IF('保険料申告内訳名簿（一人親方団体控）'!J288=\"\",\"\",'保険料申告内訳名簿（一人親方団体控）'!J288)","v":""},{"$f":"IF('保険料申告内訳名簿（一人親方団体控）'!K288=\"\",\"\",'保険料申告内訳名簿（一人親方団体控）'!K288)","v":""},{"$f":"IF('保険料申告内訳名簿（一人親方団体控）'!L288=\"\",\"\",'保険料申告内訳名簿（一人親方団体控）'!L288)","v":""},{"$f":"IF('保険料申告内訳名簿（一人親方団体控）'!M288=\"\",\"\",'保険料申告内訳名簿（一人親方団体控）'!M288)","v":""},{"$f":"IF('保険料申告内訳名簿（一人親方団体控）'!N288=\"\",\"\",'保険料申告内訳名簿（一人親方団体控）'!N288)","v":""},{"$f":"IF('保険料申告内訳名簿（一人親方団体控）'!O288=\"\",\"\",'保険料申告内訳名簿（一人親方団体控）'!O288)","v":""},{"$f":"IF('保険料申告内訳名簿（一人親方団体控）'!P288=\"\",\"\",'保険料申告内訳名簿（一人親方団体控）'!P288)","v":""},{"$f":"IF('保険料申告内訳名簿（一人親方団体控）'!Q288=\"\",\"\",'保険料申告内訳名簿（一人親方団体控）'!Q288)","v":""},{"$f":"IF('保険料申告内訳名簿（一人親方団体控）'!R288=\"\",\"\",'保険料申告内訳名簿（一人親方団体控）'!R288)","v":""},{"$f":"IF('保険料申告内訳名簿（一人親方団体控）'!S288=\"\",\"\",'保険料申告内訳名簿（一人親方団体控）'!S288)","v":0},{"$f":"IF('保険料申告内訳名簿（一人親方団体控）'!T288=\"\",\"\",'保険料申告内訳名簿（一人親方団体控）'!T288)","v":""},{"$f":"IF('保険料申告内訳名簿（一人親方団体控）'!U288=\"\",\"\",'保険料申告内訳名簿（一人親方団体控）'!U288)","v":""},{"$f":"IF('保険料申告内訳名簿（一人親方団体控）'!V288=\"\",\"\",'保険料申告内訳名簿（一人親方団体控）'!V288)","v":""},{"$f":"IF('保険料申告内訳名簿（一人親方団体控）'!W288=\"\",\"\",'保険料申告内訳名簿（一人親方団体控）'!W288)","v":""},{"$f":"IF('保険料申告内訳名簿（一人親方団体控）'!X288=\"\",\"\",'保険料申告内訳名簿（一人親方団体控）'!X288)","v":""},{"$f":"IF('保険料申告内訳名簿（一人親方団体控）'!Y288=\"\",\"\",'保険料申告内訳名簿（一人親方団体控）'!Y288)","v":""},{"$f":"IF('保険料申告内訳名簿（一人親方団体控）'!Z288=\"\",\"\",'保険料申告内訳名簿（一人親方団体控）'!Z288)","v":""},{"$f":"IF('保険料申告内訳名簿（一人親方団体控）'!AA288=\"\",\"\",'保険料申告内訳名簿（一人親方団体控）'!AA288)","v":""},{"$f":"IF('保険料申告内訳名簿（一人親方団体控）'!AB288=\"\",\"\",'保険料申告内訳名簿（一人親方団体控）'!AB288)","v":""},{"$f":"IF('保険料申告内訳名簿（一人親方団体控）'!AC288=\"\",\"\",'保険料申告内訳名簿（一人親方団体控）'!AC288)","v":0},{"$f":"IF('保険料申告内訳名簿（一人親方団体控）'!AD288=\"\",\"\",'保険料申告内訳名簿（一人親方団体控）'!AD288)","v":""},{"$f":"IF('保険料申告内訳名簿（一人親方団体控）'!AE288=\"\",\"\",'保険料申告内訳名簿（一人親方団体控）'!AE288)","v":""},{"$f":"IF('保険料申告内訳名簿（一人親方団体控）'!AF288=\"\",\"\",'保険料申告内訳名簿（一人親方団体控）'!AF288)","v":""},{"$f":"IF('保険料申告内訳名簿（一人親方団体控）'!AG288=\"\",\"\",'保険料申告内訳名簿（一人親方団体控）'!AG288)","v":""},{"$f":"IF('保険料申告内訳名簿（一人親方団体控）'!AH288=\"\",\"\",'保険料申告内訳名簿（一人親方団体控）'!AH288)","v":""}]
[null,{"$f":"IF('保険料申告内訳名簿（一人親方団体控）'!B289=\"\",\"\",'保険料申告内訳名簿（一人親方団体控）'!B289)","v":""},{"$f":"IF('保険料申告内訳名簿（一人親方団体控）'!C289=\"\",\"\",'保険料申告内訳名簿（一人親方団体控）'!C289)","v":""},{"$f":"IF('保険料申告内訳名簿（一人親方団体控）'!D289=\"\",\"\",'保険料申告内訳名簿（一人親方団体控）'!D289)","v":""},{"$f":"IF('保険料申告内訳名簿（一人親方団体控）'!E289=\"\",\"\",'保険料申告内訳名簿（一人親方団体控）'!E289)","v":""},{"$f":"IF('保険料申告内訳名簿（一人親方団体控）'!F289=\"\",\"\",'保険料申告内訳名簿（一人親方団体控）'!F289)","v":""},{"$f":"IF('保険料申告内訳名簿（一人親方団体控）'!G289=\"\",\"\",'保険料申告内訳名簿（一人親方団体控）'!G289)","v":""},{"$f":"IF('保険料申告内訳名簿（一人親方団体控）'!H289=\"\",\"\",'保険料申告内訳名簿（一人親方団体控）'!H289)","v":""},{"$f":"IF('保険料申告内訳名簿（一人親方団体控）'!I289=\"\",\"\",'保険料申告内訳名簿（一人親方団体控）'!I289)","v":""},{"$f":"IF('保険料申告内訳名簿（一人親方団体控）'!J289=\"\",\"\",'保険料申告内訳名簿（一人親方団体控）'!J289)","v":""},{"$f":"IF('保険料申告内訳名簿（一人親方団体控）'!K289=\"\",\"\",'保険料申告内訳名簿（一人親方団体控）'!K289)","v":""},{"$f":"IF('保険料申告内訳名簿（一人親方団体控）'!L289=\"\",\"\",'保険料申告内訳名簿（一人親方団体控）'!L289)","v":""},{"$f":"IF('保険料申告内訳名簿（一人親方団体控）'!M289=\"\",\"\",'保険料申告内訳名簿（一人親方団体控）'!M289)","v":""},{"$f":"IF('保険料申告内訳名簿（一人親方団体控）'!N289=\"\",\"\",'保険料申告内訳名簿（一人親方団体控）'!N289)","v":""},{"$f":"IF('保険料申告内訳名簿（一人親方団体控）'!O289=\"\",\"\",'保険料申告内訳名簿（一人親方団体控）'!O289)","v":""},{"$f":"IF('保険料申告内訳名簿（一人親方団体控）'!P289=\"\",\"\",'保険料申告内訳名簿（一人親方団体控）'!P289)","v":""},{"$f":"IF('保険料申告内訳名簿（一人親方団体控）'!Q289=\"\",\"\",'保険料申告内訳名簿（一人親方団体控）'!Q289)","v":""},{"$f":"IF('保険料申告内訳名簿（一人親方団体控）'!R289=\"\",\"\",'保険料申告内訳名簿（一人親方団体控）'!R289)","v":""},{"$f":"IF('保険料申告内訳名簿（一人親方団体控）'!S289=\"\",\"\",'保険料申告内訳名簿（一人親方団体控）'!S289)","v":0},{"$f":"IF('保険料申告内訳名簿（一人親方団体控）'!T289=\"\",\"\",'保険料申告内訳名簿（一人親方団体控）'!T289)","v":""},{"$f":"IF('保険料申告内訳名簿（一人親方団体控）'!U289=\"\",\"\",'保険料申告内訳名簿（一人親方団体控）'!U289)","v":""},{"$f":"IF('保険料申告内訳名簿（一人親方団体控）'!V289=\"\",\"\",'保険料申告内訳名簿（一人親方団体控）'!V289)","v":""},{"$f":"IF('保険料申告内訳名簿（一人親方団体控）'!W289=\"\",\"\",'保険料申告内訳名簿（一人親方団体控）'!W289)","v":""},{"$f":"IF('保険料申告内訳名簿（一人親方団体控）'!X289=\"\",\"\",'保険料申告内訳名簿（一人親方団体控）'!X289)","v":""},{"$f":"IF('保険料申告内訳名簿（一人親方団体控）'!Y289=\"\",\"\",'保険料申告内訳名簿（一人親方団体控）'!Y289)","v":""},{"$f":"IF('保険料申告内訳名簿（一人親方団体控）'!Z289=\"\",\"\",'保険料申告内訳名簿（一人親方団体控）'!Z289)","v":""},{"$f":"IF('保険料申告内訳名簿（一人親方団体控）'!AA289=\"\",\"\",'保険料申告内訳名簿（一人親方団体控）'!AA289)","v":""},{"$f":"IF('保険料申告内訳名簿（一人親方団体控）'!AB289=\"\",\"\",'保険料申告内訳名簿（一人親方団体控）'!AB289)","v":""},{"$f":"IF('保険料申告内訳名簿（一人親方団体控）'!AC289=\"\",\"\",'保険料申告内訳名簿（一人親方団体控）'!AC289)","v":0},{"$f":"IF('保険料申告内訳名簿（一人親方団体控）'!AD289=\"\",\"\",'保険料申告内訳名簿（一人親方団体控）'!AD289)","v":""},{"$f":"IF('保険料申告内訳名簿（一人親方団体控）'!AE289=\"\",\"\",'保険料申告内訳名簿（一人親方団体控）'!AE289)","v":""},{"$f":"IF('保険料申告内訳名簿（一人親方団体控）'!AF289=\"\",\"\",'保険料申告内訳名簿（一人親方団体控）'!AF289)","v":""},{"$f":"IF('保険料申告内訳名簿（一人親方団体控）'!AG289=\"\",\"\",'保険料申告内訳名簿（一人親方団体控）'!AG289)","v":""},{"$f":"IF('保険料申告内訳名簿（一人親方団体控）'!AH289=\"\",\"\",'保険料申告内訳名簿（一人親方団体控）'!AH289)","v":""}]
[null,null,null,null,null,null,null,null,null,null,null,null,null,null,null,null,null,null,{"$f":"IF('保険料申告内訳名簿（一人親方団体控）'!S290=\"\",\"\",'保険料申告内訳名簿（一人親方団体控）'!S290)","v":0},{"$f":"IF('保険料申告内訳名簿（一人親方団体控）'!T290=\"\",\"\",'保険料申告内訳名簿（一人親方団体控）'!T290)","v":""},{"$f":"IF('保険料申告内訳名簿（一人親方団体控）'!U290=\"\",\"\",'保険料申告内訳名簿（一人親方団体控）'!U290)","v":""},{"$f":"IF('保険料申告内訳名簿（一人親方団体控）'!V290=\"\",\"\",'保険料申告内訳名簿（一人親方団体控）'!V290)","v":""},{"$f":"IF('保険料申告内訳名簿（一人親方団体控）'!W290=\"\",\"\",'保険料申告内訳名簿（一人親方団体控）'!W290)","v":""},{"$f":"IF('保険料申告内訳名簿（一人親方団体控）'!X290=\"\",\"\",'保険料申告内訳名簿（一人親方団体控）'!X290)","v":""},null,null,null,null,{"$f":"IF('保険料申告内訳名簿（一人親方団体控）'!AC290=\"\",\"\",'保険料申告内訳名簿（一人親方団体控）'!AC290)","v":0},{"$f":"IF('保険料申告内訳名簿（一人親方団体控）'!AD290=\"\",\"\",'保険料申告内訳名簿（一人親方団体控）'!AD290)","v":""},{"$f":"IF('保険料申告内訳名簿（一人親方団体控）'!AE290=\"\",\"\",'保険料申告内訳名簿（一人親方団体控）'!AE290)","v":""},{"$f":"IF('保険料申告内訳名簿（一人親方団体控）'!AF290=\"\",\"\",'保険料申告内訳名簿（一人親方団体控）'!AF290)","v":""},{"$f":"IF('保険料申告内訳名簿（一人親方団体控）'!AG290=\"\",\"\",'保険料申告内訳名簿（一人親方団体控）'!AG290)","v":""},{"$f":"IF('保険料申告内訳名簿（一人親方団体控）'!AH290=\"\",\"\",'保険料申告内訳名簿（一人親方団体控）'!AH290)","v":""}]
[]
[null,"（注）"]
[null,null,"１）　④欄は月割の対象となる方のみ記入して下さい。"]
[null,null,"２）　月割の対象となる場合の⑤保険料算定基礎額の算定方法"]
[null,null,"２）　月割の対象となる場合の③（給付基礎日額×365÷12）（円未満を切り上げてから）×加入月数"]
[]
[]
[null,"【島根局版】",null,null,null,null,null,null,null,null,null,null,null,null,null,null,null,null,null,null,null,null,null,null,null,null,"監督署用"]
[null,"第２種特別加入保険料申告内訳名簿"]
[null,"（一人親方等）"]
[null,null,null,null,null,null,null,null,null,null,null,null,null,null,null,null,null,null,null,null,null,null,null,null,"（",{"$f":"IF('保険料申告内訳名簿（一人親方団体控）'!Z301=\"\",\"\",'保険料申告内訳名簿（一人親方団体控）'!Z301)","v":0},{"$f":"IF('保険料申告内訳名簿（一人親方団体控）'!AA301=\"\",\"\",'保険料申告内訳名簿（一人親方団体控）'!AA301)","v":""},"枚のうち",null,{"$f":"IF('保険料申告内訳名簿（一人親方団体控）'!AD301=\"\",\"\",'保険料申告内訳名簿（一人親方団体控）'!AD301)","v":10},{"$f":"IF('保険料申告内訳名簿（一人親方団体控）'!AE301=\"\",\"\",'保険料申告内訳名簿（一人親方団体控）'!AE301)","v":""},"枚目",null,"）"]
[]
[null,"労働保険\n番　　　号",null,null,null,null,"府県",null,"所掌","管轄",null,"基幹番号",null,null,null,null,null,"枝番号",null,null,"事業場の\n所在地",null,null,{"$f":"IF('保険料申告内訳名簿（一人親方団体控）'!X303=\"\",\"\",'保険料申告内訳名簿（一人親方団体控）'!X303)","v":""},{"$f":"IF('保険料申告内訳名簿（一人親方団体控）'!Y303=\"\",\"\",'保険料申告内訳名簿（一人親方団体控）'!Y303)","v":""},{"$f":"IF('保険料申告内訳名簿（一人親方団体控）'!Z303=\"\",\"\",'保険料申告内訳名簿（一人親方団体控）'!Z303)","v":""},{"$f":"IF('保険料申告内訳名簿（一人親方団体控）'!AA303=\"\",\"\",'保険料申告内訳名簿（一人親方団体控）'!AA303)","v":""},{"$f":"IF('保険料申告内訳名簿（一人親方団体控）'!AB303=\"\",\"\",'保険料申告内訳名簿（一人親方団体控）'!AB303)","v":""},{"$f":"IF('保険料申告内訳名簿（一人親方団体控）'!AC303=\"\",\"\",'保険料申告内訳名簿（一人親方団体控）'!AC303)","v":""},{"$f":"IF('保険料申告内訳名簿（一人親方団体控）'!AD303=\"\",\"\",'保険料申告内訳名簿（一人親方団体控）'!AD303)","v":""},{"$f":"IF('保険料申告内訳名簿（一人親方団体控）'!AE303=\"\",\"\",'保険料申告内訳名簿（一人親方団体控）'!AE303)","v":""},{"$f":"IF('保険料申告内訳名簿（一人親方団体控）'!AF303=\"\",\"\",'保険料申告内訳名簿（一人親方団体控）'!AF303)","v":""},{"$f":"IF('保険料申告内訳名簿（一人親方団体控）'!AG303=\"\",\"\",'保険料申告内訳名簿（一人親方団体控）'!AG303)","v":""},{"$f":"IF('保険料申告内訳名簿（一人親方団体控）'!AH303=\"\",\"\",'保険料申告内訳名簿（一人親方団体控）'!AH303)","v":""}]
[null,null,null,null,null,null,"3","2",{"$f":"IF('保険料申告内訳名簿（一人親方団体控）'!I304=\"\",\"\",'保険料申告内訳名簿（一人親方団体控）'!I304)","v":""},{"$f":"IF('保険料申告内訳名簿（一人親方団体控）'!J304=\"\",\"\",'保険料申告内訳名簿（一人親方団体控）'!J304)","v":""},{"$f":"IF('保険料申告内訳名簿（一人親方団体控）'!K304=\"\",\"\",'保険料申告内訳名簿（一人親方団体控）'!K304)","v":""},{"$f":"IF('保険料申告内訳名簿（一人親方団体控）'!L304=\"\",\"\",'保険料申告内訳名簿（一人親方団体控）'!L304)","v":""},{"$f":"IF('保険料申告内訳名簿（一人親方団体控）'!M304=\"\",\"\",'保険料申告内訳名簿（一人親方団体控）'!M304)","v":""},{"$f":"IF('保険料申告内訳名簿（一人親方団体控）'!N304=\"\",\"\",'保険料申告内訳名簿（一人親方団体控）'!N304)","v":""},{"$f":"IF('保険料申告内訳名簿（一人親方団体控）'!O304=\"\",\"\",'保険料申告内訳名簿（一人親方団体控）'!O304)","v":""},{"$f":"IF('保険料申告内訳名簿（一人親方団体控）'!P304=\"\",\"\",'保険料申告内訳名簿（一人親方団体控）'!P304)","v":""},{"$f":"IF('保険料申告内訳名簿（一人親方団体控）'!Q304=\"\",\"\",'保険料申告内訳名簿（一人親方団体控）'!Q304)","v":""},{"$f":"IF('保険料申告内訳名簿（一人親方団体控）'!R304=\"\",\"\",'保険料申告内訳名簿（一人親方団体控）'!R304)","v":""},{"$f":"IF('保険料申告内訳名簿（一人親方団体控）'!S304=\"\",\"\",'保険料申告内訳名簿（一人親方団体控）'!S304)","v":""},{"$f":"IF('保険料申告内訳名簿（一人親方団体控）'!T304=\"\",\"\",'保険料申告内訳名簿（一人親方団体控）'!T304)","v":""},"事業場の\n名称",null,null,{"$f":"IF('保険料申告内訳名簿（一人親方団体控）'!X304=\"\",\"\",'保険料申告内訳名簿（一人親方団体控）'!X304)","v":""},{"$f":"IF('保険料申告内訳名簿（一人親方団体控）'!Y304=\"\",\"\",'保険料申告内訳名簿（一人親方団体控）'!Y304)","v":""},{"$f":"IF('保険料申告内訳名簿（一人親方団体控）'!Z304=\"\",\"\",'保険料申告内訳名簿（一人親方団体控）'!Z304)","v":""},{"$f":"IF('保険料申告内訳名簿（一人親方団体控）'!AA304=\"\",\"\",'保険料申告内訳名簿（一人親方団体控）'!AA304)","v":""},{"$f":"IF('保険料申告内訳名簿（一人親方団体控）'!AB304=\"\",\"\",'保険料申告内訳名簿（一人親方団体控）'!AB304)","v":""},{"$f":"IF('保険料申告内訳名簿（一人親方団体控）'!AC304=\"\",\"\",'保険料申告内訳名簿（一人親方団体控）'!AC304)","v":""},{"$f":"IF('保険料申告内訳名簿（一人親方団体控）'!AD304=\"\",\"\",'保険料申告内訳名簿（一人親方団体控）'!AD304)","v":""},{"$f":"IF('保険料申告内訳名簿（一人親方団体控）'!AE304=\"\",\"\",'保険料申告内訳名簿（一人親方団体控）'!AE304)","v":""},{"$f":"IF('保険料申告内訳名簿（一人親方団体控）'!AF304=\"\",\"\",'保険料申告内訳名簿（一人親方団体控）'!AF304)","v":""},{"$f":"IF('保険料申告内訳名簿（一人親方団体控）'!AG304=\"\",\"\",'保険料申告内訳名簿（一人親方団体控）'!AG304)","v":""},{"$f":"IF('保険料申告内訳名簿（一人親方団体控）'!AH304=\"\",\"\",'保険料申告内訳名簿（一人親方団体控）'!AH304)","v":""}]
[null,"①\n整理\n番号",null,"②\n氏名",null,null,null,null,null,null,null,null,null,null,"令 和",null,null,{"$f":"IF('保険料申告内訳名簿（一人親方団体控）'!R305=\"\",\"\",'保険料申告内訳名簿（一人親方団体控）'!R305)","v":""},{"$f":"IF('保険料申告内訳名簿（一人親方団体控）'!S305=\"\",\"\",'保険料申告内訳名簿（一人親方団体控）'!S305)","v":""},{"$f":"IF('保険料申告内訳名簿（一人親方団体控）'!T305=\"\",\"\",'保険料申告内訳名簿（一人親方団体控）'!T305)","v":""},null,null,null,"年 度 確 定 ","令 和",null,null,{"$f":"IF('保険料申告内訳名簿（一人親方団体控）'!AB305=\"\",\"\",'保険料申告内訳名簿（一人親方団体控）'!AB305)","v":""},{"$f":"IF('保険料申告内訳名簿（一人親方団体控）'!AC305=\"\",\"\",'保険料申告内訳名簿（一人親方団体控）'!AC305)","v":""},{"$f":"IF('保険料申告内訳名簿（一人親方団体控）'!AD305=\"\",\"\",'保険料申告内訳名簿（一人親方団体控）'!AD305)","v":""},null,null,null,"年 度 概 算 "]
[null,null,null,null,null,null,null,"③　\n給付基礎日額",null,null,null,"④年度中途加入・脱退",null,null,null,null,null,null,"⑤\n保険料算定基礎額",null,null,null,null,null,"⑥\n給付基礎日額",null,null,null,"⑦\n保険料算定基礎額"]
[null,null,null,null,null,null,null,null,null,null,null,"加入・脱退年月日",null,null,null,null,"加入月数"]
[null,{"$f":"IF('保険料申告内訳名簿（一人親方団体控）'!B308=\"\",\"\",'保険料申告内訳名簿（一人親方団体控）'!B308)","v":""},{"$f":"IF('保険料申告内訳名簿（一人親方団体控）'!C308=\"\",\"\",'保険料申告内訳名簿（一人親方団体控）'!C308)","v":""},{"$f":"IF('保険料申告内訳名簿（一人親方団体控）'!D308=\"\",\"\",'保険料申告内訳名簿（一人親方団体控）'!D308)","v":""},{"$f":"IF('保険料申告内訳名簿（一人親方団体控）'!E308=\"\",\"\",'保険料申告内訳名簿（一人親方団体控）'!E308)","v":""},{"$f":"IF('保険料申告内訳名簿（一人親方団体控）'!F308=\"\",\"\",'保険料申告内訳名簿（一人親方団体控）'!F308)","v":""},{"$f":"IF('保険料申告内訳名簿（一人親方団体控）'!G308=\"\",\"\",'保険料申告内訳名簿（一人親方団体控）'!G308)","v":""},{"$f":"IF('保険料申告内訳名簿（一人親方団体控）'!H308=\"\",\"\",'保険料申告内訳名簿（一人親方団体控）'!H308)","v":""},{"$f":"IF('保険料申告内訳名簿（一人親方団体控）'!I308=\"\",\"\",'保険料申告内訳名簿（一人親方団体控）'!I308)","v":""},{"$f":"IF('保険料申告内訳名簿（一人親方団体控）'!J308=\"\",\"\",'保険料申告内訳名簿（一人親方団体控）'!J308)","v":""},{"$f":"IF('保険料申告内訳名簿（一人親方団体控）'!K308=\"\",\"\",'保険料申告内訳名簿（一人親方団体控）'!K308)","v":""},{"$f":"IF('保険料申告内訳名簿（一人親方団体控）'!L308=\"\",\"\",'保険料申告内訳名簿（一人親方団体控）'!L308)","v":""},{"$f":"IF('保険料申告内訳名簿（一人親方団体控）'!M308=\"\",\"\",'保険料申告内訳名簿（一人親方団体控）'!M308)","v":""},{"$f":"IF('保険料申告内訳名簿（一人親方団体控）'!N308=\"\",\"\",'保険料申告内訳名簿（一人親方団体控）'!N308)","v":""},{"$f":"IF('保険料申告内訳名簿（一人親方団体控）'!O308=\"\",\"\",'保険料申告内訳名簿（一人親方団体控）'!O308)","v":""},{"$f":"IF('保険料申告内訳名簿（一人親方団体控）'!P308=\"\",\"\",'保険料申告内訳名簿（一人親方団体控）'!P308)","v":""},{"$f":"IF('保険料申告内訳名簿（一人親方団体控）'!Q308=\"\",\"\",'保険料申告内訳名簿（一人親方団体控）'!Q308)","v":""},{"$f":"IF('保険料申告内訳名簿（一人親方団体控）'!R308=\"\",\"\",'保険料申告内訳名簿（一人親方団体控）'!R308)","v":""},{"$f":"IF('保険料申告内訳名簿（一人親方団体控）'!S308=\"\",\"\",'保険料申告内訳名簿（一人親方団体控）'!S308)","v":0},{"$f":"IF('保険料申告内訳名簿（一人親方団体控）'!T308=\"\",\"\",'保険料申告内訳名簿（一人親方団体控）'!T308)","v":""},{"$f":"IF('保険料申告内訳名簿（一人親方団体控）'!U308=\"\",\"\",'保険料申告内訳名簿（一人親方団体控）'!U308)","v":""},{"$f":"IF('保険料申告内訳名簿（一人親方団体控）'!V308=\"\",\"\",'保険料申告内訳名簿（一人親方団体控）'!V308)","v":""},{"$f":"IF('保険料申告内訳名簿（一人親方団体控）'!W308=\"\",\"\",'保険料申告内訳名簿（一人親方団体控）'!W308)","v":""},{"$f":"IF('保険料申告内訳名簿（一人親方団体控）'!X308=\"\",\"\",'保険料申告内訳名簿（一人親方団体控）'!X308)","v":""},{"$f":"IF('保険料申告内訳名簿（一人親方団体控）'!Y308=\"\",\"\",'保険料申告内訳名簿（一人親方団体控）'!Y308)","v":""},{"$f":"IF('保険料申告内訳名簿（一人親方団体控）'!Z308=\"\",\"\",'保険料申告内訳名簿（一人親方団体控）'!Z308)","v":""},{"$f":"IF('保険料申告内訳名簿（一人親方団体控）'!AA308=\"\",\"\",'保険料申告内訳名簿（一人親方団体控）'!AA308)","v":""},{"$f":"IF('保険料申告内訳名簿（一人親方団体控）'!AB308=\"\",\"\",'保険料申告内訳名簿（一人親方団体控）'!AB308)","v":""},{"$f":"IF('保険料申告内訳名簿（一人親方団体控）'!AC308=\"\",\"\",'保険料申告内訳名簿（一人親方団体控）'!AC308)","v":0},{"$f":"IF('保険料申告内訳名簿（一人親方団体控）'!AD308=\"\",\"\",'保険料申告内訳名簿（一人親方団体控）'!AD308)","v":""},{"$f":"IF('保険料申告内訳名簿（一人親方団体控）'!AE308=\"\",\"\",'保険料申告内訳名簿（一人親方団体控）'!AE308)","v":""},{"$f":"IF('保険料申告内訳名簿（一人親方団体控）'!AF308=\"\",\"\",'保険料申告内訳名簿（一人親方団体控）'!AF308)","v":""},{"$f":"IF('保険料申告内訳名簿（一人親方団体控）'!AG308=\"\",\"\",'保険料申告内訳名簿（一人親方団体控）'!AG308)","v":""},{"$f":"IF('保険料申告内訳名簿（一人親方団体控）'!AH308=\"\",\"\",'保険料申告内訳名簿（一人親方団体控）'!AH308)","v":""}]
[null,{"$f":"IF('保険料申告内訳名簿（一人親方団体控）'!B309=\"\",\"\",'保険料申告内訳名簿（一人親方団体控）'!B309)","v":""},{"$f":"IF('保険料申告内訳名簿（一人親方団体控）'!C309=\"\",\"\",'保険料申告内訳名簿（一人親方団体控）'!C309)","v":""},{"$f":"IF('保険料申告内訳名簿（一人親方団体控）'!D309=\"\",\"\",'保険料申告内訳名簿（一人親方団体控）'!D309)","v":""},{"$f":"IF('保険料申告内訳名簿（一人親方団体控）'!E309=\"\",\"\",'保険料申告内訳名簿（一人親方団体控）'!E309)","v":""},{"$f":"IF('保険料申告内訳名簿（一人親方団体控）'!F309=\"\",\"\",'保険料申告内訳名簿（一人親方団体控）'!F309)","v":""},{"$f":"IF('保険料申告内訳名簿（一人親方団体控）'!G309=\"\",\"\",'保険料申告内訳名簿（一人親方団体控）'!G309)","v":""},{"$f":"IF('保険料申告内訳名簿（一人親方団体控）'!H309=\"\",\"\",'保険料申告内訳名簿（一人親方団体控）'!H309)","v":""},{"$f":"IF('保険料申告内訳名簿（一人親方団体控）'!I309=\"\",\"\",'保険料申告内訳名簿（一人親方団体控）'!I309)","v":""},{"$f":"IF('保険料申告内訳名簿（一人親方団体控）'!J309=\"\",\"\",'保険料申告内訳名簿（一人親方団体控）'!J309)","v":""},{"$f":"IF('保険料申告内訳名簿（一人親方団体控）'!K309=\"\",\"\",'保険料申告内訳名簿（一人親方団体控）'!K309)","v":""},{"$f":"IF('保険料申告内訳名簿（一人親方団体控）'!L309=\"\",\"\",'保険料申告内訳名簿（一人親方団体控）'!L309)","v":""},{"$f":"IF('保険料申告内訳名簿（一人親方団体控）'!M309=\"\",\"\",'保険料申告内訳名簿（一人親方団体控）'!M309)","v":""},{"$f":"IF('保険料申告内訳名簿（一人親方団体控）'!N309=\"\",\"\",'保険料申告内訳名簿（一人親方団体控）'!N309)","v":""},{"$f":"IF('保険料申告内訳名簿（一人親方団体控）'!O309=\"\",\"\",'保険料申告内訳名簿（一人親方団体控）'!O309)","v":""},{"$f":"IF('保険料申告内訳名簿（一人親方団体控）'!P309=\"\",\"\",'保険料申告内訳名簿（一人親方団体控）'!P309)","v":""},{"$f":"IF('保険料申告内訳名簿（一人親方団体控）'!Q309=\"\",\"\",'保険料申告内訳名簿（一人親方団体控）'!Q309)","v":""},{"$f":"IF('保険料申告内訳名簿（一人親方団体控）'!R309=\"\",\"\",'保険料申告内訳名簿（一人親方団体控）'!R309)","v":""},{"$f":"IF('保険料申告内訳名簿（一人親方団体控）'!S309=\"\",\"\",'保険料申告内訳名簿（一人親方団体控）'!S309)","v":0},{"$f":"IF('保険料申告内訳名簿（一人親方団体控）'!T309=\"\",\"\",'保険料申告内訳名簿（一人親方団体控）'!T309)","v":""},{"$f":"IF('保険料申告内訳名簿（一人親方団体控）'!U309=\"\",\"\",'保険料申告内訳名簿（一人親方団体控）'!U309)","v":""},{"$f":"IF('保険料申告内訳名簿（一人親方団体控）'!V309=\"\",\"\",'保険料申告内訳名簿（一人親方団体控）'!V309)","v":""},{"$f":"IF('保険料申告内訳名簿（一人親方団体控）'!W309=\"\",\"\",'保険料申告内訳名簿（一人親方団体控）'!W309)","v":""},{"$f":"IF('保険料申告内訳名簿（一人親方団体控）'!X309=\"\",\"\",'保険料申告内訳名簿（一人親方団体控）'!X309)","v":""},{"$f":"IF('保険料申告内訳名簿（一人親方団体控）'!Y309=\"\",\"\",'保険料申告内訳名簿（一人親方団体控）'!Y309)","v":""},{"$f":"IF('保険料申告内訳名簿（一人親方団体控）'!Z309=\"\",\"\",'保険料申告内訳名簿（一人親方団体控）'!Z309)","v":""},{"$f":"IF('保険料申告内訳名簿（一人親方団体控）'!AA309=\"\",\"\",'保険料申告内訳名簿（一人親方団体控）'!AA309)","v":""},{"$f":"IF('保険料申告内訳名簿（一人親方団体控）'!AB309=\"\",\"\",'保険料申告内訳名簿（一人親方団体控）'!AB309)","v":""},{"$f":"IF('保険料申告内訳名簿（一人親方団体控）'!AC309=\"\",\"\",'保険料申告内訳名簿（一人親方団体控）'!AC309)","v":0},{"$f":"IF('保険料申告内訳名簿（一人親方団体控）'!AD309=\"\",\"\",'保険料申告内訳名簿（一人親方団体控）'!AD309)","v":""},{"$f":"IF('保険料申告内訳名簿（一人親方団体控）'!AE309=\"\",\"\",'保険料申告内訳名簿（一人親方団体控）'!AE309)","v":""},{"$f":"IF('保険料申告内訳名簿（一人親方団体控）'!AF309=\"\",\"\",'保険料申告内訳名簿（一人親方団体控）'!AF309)","v":""},{"$f":"IF('保険料申告内訳名簿（一人親方団体控）'!AG309=\"\",\"\",'保険料申告内訳名簿（一人親方団体控）'!AG309)","v":""},{"$f":"IF('保険料申告内訳名簿（一人親方団体控）'!AH309=\"\",\"\",'保険料申告内訳名簿（一人親方団体控）'!AH309)","v":""}]
[null,{"$f":"IF('保険料申告内訳名簿（一人親方団体控）'!B310=\"\",\"\",'保険料申告内訳名簿（一人親方団体控）'!B310)","v":""},{"$f":"IF('保険料申告内訳名簿（一人親方団体控）'!C310=\"\",\"\",'保険料申告内訳名簿（一人親方団体控）'!C310)","v":""},{"$f":"IF('保険料申告内訳名簿（一人親方団体控）'!D310=\"\",\"\",'保険料申告内訳名簿（一人親方団体控）'!D310)","v":""},{"$f":"IF('保険料申告内訳名簿（一人親方団体控）'!E310=\"\",\"\",'保険料申告内訳名簿（一人親方団体控）'!E310)","v":""},{"$f":"IF('保険料申告内訳名簿（一人親方団体控）'!F310=\"\",\"\",'保険料申告内訳名簿（一人親方団体控）'!F310)","v":""},{"$f":"IF('保険料申告内訳名簿（一人親方団体控）'!G310=\"\",\"\",'保険料申告内訳名簿（一人親方団体控）'!G310)","v":""},{"$f":"IF('保険料申告内訳名簿（一人親方団体控）'!H310=\"\",\"\",'保険料申告内訳名簿（一人親方団体控）'!H310)","v":""},{"$f":"IF('保険料申告内訳名簿（一人親方団体控）'!I310=\"\",\"\",'保険料申告内訳名簿（一人親方団体控）'!I310)","v":""},{"$f":"IF('保険料申告内訳名簿（一人親方団体控）'!J310=\"\",\"\",'保険料申告内訳名簿（一人親方団体控）'!J310)","v":""},{"$f":"IF('保険料申告内訳名簿（一人親方団体控）'!K310=\"\",\"\",'保険料申告内訳名簿（一人親方団体控）'!K310)","v":""},{"$f":"IF('保険料申告内訳名簿（一人親方団体控）'!L310=\"\",\"\",'保険料申告内訳名簿（一人親方団体控）'!L310)","v":""},{"$f":"IF('保険料申告内訳名簿（一人親方団体控）'!M310=\"\",\"\",'保険料申告内訳名簿（一人親方団体控）'!M310)","v":""},{"$f":"IF('保険料申告内訳名簿（一人親方団体控）'!N310=\"\",\"\",'保険料申告内訳名簿（一人親方団体控）'!N310)","v":""},{"$f":"IF('保険料申告内訳名簿（一人親方団体控）'!O310=\"\",\"\",'保険料申告内訳名簿（一人親方団体控）'!O310)","v":""},{"$f":"IF('保険料申告内訳名簿（一人親方団体控）'!P310=\"\",\"\",'保険料申告内訳名簿（一人親方団体控）'!P310)","v":""},{"$f":"IF('保険料申告内訳名簿（一人親方団体控）'!Q310=\"\",\"\",'保険料申告内訳名簿（一人親方団体控）'!Q310)","v":""},{"$f":"IF('保険料申告内訳名簿（一人親方団体控）'!R310=\"\",\"\",'保険料申告内訳名簿（一人親方団体控）'!R310)","v":""},{"$f":"IF('保険料申告内訳名簿（一人親方団体控）'!S310=\"\",\"\",'保険料申告内訳名簿（一人親方団体控）'!S310)","v":0},{"$f":"IF('保険料申告内訳名簿（一人親方団体控）'!T310=\"\",\"\",'保険料申告内訳名簿（一人親方団体控）'!T310)","v":""},{"$f":"IF('保険料申告内訳名簿（一人親方団体控）'!U310=\"\",\"\",'保険料申告内訳名簿（一人親方団体控）'!U310)","v":""},{"$f":"IF('保険料申告内訳名簿（一人親方団体控）'!V310=\"\",\"\",'保険料申告内訳名簿（一人親方団体控）'!V310)","v":""},{"$f":"IF('保険料申告内訳名簿（一人親方団体控）'!W310=\"\",\"\",'保険料申告内訳名簿（一人親方団体控）'!W310)","v":""},{"$f":"IF('保険料申告内訳名簿（一人親方団体控）'!X310=\"\",\"\",'保険料申告内訳名簿（一人親方団体控）'!X310)","v":""},{"$f":"IF('保険料申告内訳名簿（一人親方団体控）'!Y310=\"\",\"\",'保険料申告内訳名簿（一人親方団体控）'!Y310)","v":""},{"$f":"IF('保険料申告内訳名簿（一人親方団体控）'!Z310=\"\",\"\",'保険料申告内訳名簿（一人親方団体控）'!Z310)","v":""},{"$f":"IF('保険料申告内訳名簿（一人親方団体控）'!AA310=\"\",\"\",'保険料申告内訳名簿（一人親方団体控）'!AA310)","v":""},{"$f":"IF('保険料申告内訳名簿（一人親方団体控）'!AB310=\"\",\"\",'保険料申告内訳名簿（一人親方団体控）'!AB310)","v":""},{"$f":"IF('保険料申告内訳名簿（一人親方団体控）'!AC310=\"\",\"\",'保険料申告内訳名簿（一人親方団体控）'!AC310)","v":0},{"$f":"IF('保険料申告内訳名簿（一人親方団体控）'!AD310=\"\",\"\",'保険料申告内訳名簿（一人親方団体控）'!AD310)","v":""},{"$f":"IF('保険料申告内訳名簿（一人親方団体控）'!AE310=\"\",\"\",'保険料申告内訳名簿（一人親方団体控）'!AE310)","v":""},{"$f":"IF('保険料申告内訳名簿（一人親方団体控）'!AF310=\"\",\"\",'保険料申告内訳名簿（一人親方団体控）'!AF310)","v":""},{"$f":"IF('保険料申告内訳名簿（一人親方団体控）'!AG310=\"\",\"\",'保険料申告内訳名簿（一人親方団体控）'!AG310)","v":""},{"$f":"IF('保険料申告内訳名簿（一人親方団体控）'!AH310=\"\",\"\",'保険料申告内訳名簿（一人親方団体控）'!AH310)","v":""}]
[null,{"$f":"IF('保険料申告内訳名簿（一人親方団体控）'!B311=\"\",\"\",'保険料申告内訳名簿（一人親方団体控）'!B311)","v":""},{"$f":"IF('保険料申告内訳名簿（一人親方団体控）'!C311=\"\",\"\",'保険料申告内訳名簿（一人親方団体控）'!C311)","v":""},{"$f":"IF('保険料申告内訳名簿（一人親方団体控）'!D311=\"\",\"\",'保険料申告内訳名簿（一人親方団体控）'!D311)","v":""},{"$f":"IF('保険料申告内訳名簿（一人親方団体控）'!E311=\"\",\"\",'保険料申告内訳名簿（一人親方団体控）'!E311)","v":""},{"$f":"IF('保険料申告内訳名簿（一人親方団体控）'!F311=\"\",\"\",'保険料申告内訳名簿（一人親方団体控）'!F311)","v":""},{"$f":"IF('保険料申告内訳名簿（一人親方団体控）'!G311=\"\",\"\",'保険料申告内訳名簿（一人親方団体控）'!G311)","v":""},{"$f":"IF('保険料申告内訳名簿（一人親方団体控）'!H311=\"\",\"\",'保険料申告内訳名簿（一人親方団体控）'!H311)","v":""},{"$f":"IF('保険料申告内訳名簿（一人親方団体控）'!I311=\"\",\"\",'保険料申告内訳名簿（一人親方団体控）'!I311)","v":""},{"$f":"IF('保険料申告内訳名簿（一人親方団体控）'!J311=\"\",\"\",'保険料申告内訳名簿（一人親方団体控）'!J311)","v":""},{"$f":"IF('保険料申告内訳名簿（一人親方団体控）'!K311=\"\",\"\",'保険料申告内訳名簿（一人親方団体控）'!K311)","v":""},{"$f":"IF('保険料申告内訳名簿（一人親方団体控）'!L311=\"\",\"\",'保険料申告内訳名簿（一人親方団体控）'!L311)","v":""},{"$f":"IF('保険料申告内訳名簿（一人親方団体控）'!M311=\"\",\"\",'保険料申告内訳名簿（一人親方団体控）'!M311)","v":""},{"$f":"IF('保険料申告内訳名簿（一人親方団体控）'!N311=\"\",\"\",'保険料申告内訳名簿（一人親方団体控）'!N311)","v":""},{"$f":"IF('保険料申告内訳名簿（一人親方団体控）'!O311=\"\",\"\",'保険料申告内訳名簿（一人親方団体控）'!O311)","v":""},{"$f":"IF('保険料申告内訳名簿（一人親方団体控）'!P311=\"\",\"\",'保険料申告内訳名簿（一人親方団体控）'!P311)","v":""},{"$f":"IF('保険料申告内訳名簿（一人親方団体控）'!Q311=\"\",\"\",'保険料申告内訳名簿（一人親方団体控）'!Q311)","v":""},{"$f":"IF('保険料申告内訳名簿（一人親方団体控）'!R311=\"\",\"\",'保険料申告内訳名簿（一人親方団体控）'!R311)","v":""},{"$f":"IF('保険料申告内訳名簿（一人親方団体控）'!S311=\"\",\"\",'保険料申告内訳名簿（一人親方団体控）'!S311)","v":0},{"$f":"IF('保険料申告内訳名簿（一人親方団体控）'!T311=\"\",\"\",'保険料申告内訳名簿（一人親方団体控）'!T311)","v":""},{"$f":"IF('保険料申告内訳名簿（一人親方団体控）'!U311=\"\",\"\",'保険料申告内訳名簿（一人親方団体控）'!U311)","v":""},{"$f":"IF('保険料申告内訳名簿（一人親方団体控）'!V311=\"\",\"\",'保険料申告内訳名簿（一人親方団体控）'!V311)","v":""},{"$f":"IF('保険料申告内訳名簿（一人親方団体控）'!W311=\"\",\"\",'保険料申告内訳名簿（一人親方団体控）'!W311)","v":""},{"$f":"IF('保険料申告内訳名簿（一人親方団体控）'!X311=\"\",\"\",'保険料申告内訳名簿（一人親方団体控）'!X311)","v":""},{"$f":"IF('保険料申告内訳名簿（一人親方団体控）'!Y311=\"\",\"\",'保険料申告内訳名簿（一人親方団体控）'!Y311)","v":""},{"$f":"IF('保険料申告内訳名簿（一人親方団体控）'!Z311=\"\",\"\",'保険料申告内訳名簿（一人親方団体控）'!Z311)","v":""},{"$f":"IF('保険料申告内訳名簿（一人親方団体控）'!AA311=\"\",\"\",'保険料申告内訳名簿（一人親方団体控）'!AA311)","v":""},{"$f":"IF('保険料申告内訳名簿（一人親方団体控）'!AB311=\"\",\"\",'保険料申告内訳名簿（一人親方団体控）'!AB311)","v":""},{"$f":"IF('保険料申告内訳名簿（一人親方団体控）'!AC311=\"\",\"\",'保険料申告内訳名簿（一人親方団体控）'!AC311)","v":0},{"$f":"IF('保険料申告内訳名簿（一人親方団体控）'!AD311=\"\",\"\",'保険料申告内訳名簿（一人親方団体控）'!AD311)","v":""},{"$f":"IF('保険料申告内訳名簿（一人親方団体控）'!AE311=\"\",\"\",'保険料申告内訳名簿（一人親方団体控）'!AE311)","v":""},{"$f":"IF('保険料申告内訳名簿（一人親方団体控）'!AF311=\"\",\"\",'保険料申告内訳名簿（一人親方団体控）'!AF311)","v":""},{"$f":"IF('保険料申告内訳名簿（一人親方団体控）'!AG311=\"\",\"\",'保険料申告内訳名簿（一人親方団体控）'!AG311)","v":""},{"$f":"IF('保険料申告内訳名簿（一人親方団体控）'!AH311=\"\",\"\",'保険料申告内訳名簿（一人親方団体控）'!AH311)","v":""}]
[null,{"$f":"IF('保険料申告内訳名簿（一人親方団体控）'!B312=\"\",\"\",'保険料申告内訳名簿（一人親方団体控）'!B312)","v":""},{"$f":"IF('保険料申告内訳名簿（一人親方団体控）'!C312=\"\",\"\",'保険料申告内訳名簿（一人親方団体控）'!C312)","v":""},{"$f":"IF('保険料申告内訳名簿（一人親方団体控）'!D312=\"\",\"\",'保険料申告内訳名簿（一人親方団体控）'!D312)","v":""},{"$f":"IF('保険料申告内訳名簿（一人親方団体控）'!E312=\"\",\"\",'保険料申告内訳名簿（一人親方団体控）'!E312)","v":""},{"$f":"IF('保険料申告内訳名簿（一人親方団体控）'!F312=\"\",\"\",'保険料申告内訳名簿（一人親方団体控）'!F312)","v":""},{"$f":"IF('保険料申告内訳名簿（一人親方団体控）'!G312=\"\",\"\",'保険料申告内訳名簿（一人親方団体控）'!G312)","v":""},{"$f":"IF('保険料申告内訳名簿（一人親方団体控）'!H312=\"\",\"\",'保険料申告内訳名簿（一人親方団体控）'!H312)","v":""},{"$f":"IF('保険料申告内訳名簿（一人親方団体控）'!I312=\"\",\"\",'保険料申告内訳名簿（一人親方団体控）'!I312)","v":""},{"$f":"IF('保険料申告内訳名簿（一人親方団体控）'!J312=\"\",\"\",'保険料申告内訳名簿（一人親方団体控）'!J312)","v":""},{"$f":"IF('保険料申告内訳名簿（一人親方団体控）'!K312=\"\",\"\",'保険料申告内訳名簿（一人親方団体控）'!K312)","v":""},{"$f":"IF('保険料申告内訳名簿（一人親方団体控）'!L312=\"\",\"\",'保険料申告内訳名簿（一人親方団体控）'!L312)","v":""},{"$f":"IF('保険料申告内訳名簿（一人親方団体控）'!M312=\"\",\"\",'保険料申告内訳名簿（一人親方団体控）'!M312)","v":""},{"$f":"IF('保険料申告内訳名簿（一人親方団体控）'!N312=\"\",\"\",'保険料申告内訳名簿（一人親方団体控）'!N312)","v":""},{"$f":"IF('保険料申告内訳名簿（一人親方団体控）'!O312=\"\",\"\",'保険料申告内訳名簿（一人親方団体控）'!O312)","v":""},{"$f":"IF('保険料申告内訳名簿（一人親方団体控）'!P312=\"\",\"\",'保険料申告内訳名簿（一人親方団体控）'!P312)","v":""},{"$f":"IF('保険料申告内訳名簿（一人親方団体控）'!Q312=\"\",\"\",'保険料申告内訳名簿（一人親方団体控）'!Q312)","v":""},{"$f":"IF('保険料申告内訳名簿（一人親方団体控）'!R312=\"\",\"\",'保険料申告内訳名簿（一人親方団体控）'!R312)","v":""},{"$f":"IF('保険料申告内訳名簿（一人親方団体控）'!S312=\"\",\"\",'保険料申告内訳名簿（一人親方団体控）'!S312)","v":0},{"$f":"IF('保険料申告内訳名簿（一人親方団体控）'!T312=\"\",\"\",'保険料申告内訳名簿（一人親方団体控）'!T312)","v":""},{"$f":"IF('保険料申告内訳名簿（一人親方団体控）'!U312=\"\",\"\",'保険料申告内訳名簿（一人親方団体控）'!U312)","v":""},{"$f":"IF('保険料申告内訳名簿（一人親方団体控）'!V312=\"\",\"\",'保険料申告内訳名簿（一人親方団体控）'!V312)","v":""},{"$f":"IF('保険料申告内訳名簿（一人親方団体控）'!W312=\"\",\"\",'保険料申告内訳名簿（一人親方団体控）'!W312)","v":""},{"$f":"IF('保険料申告内訳名簿（一人親方団体控）'!X312=\"\",\"\",'保険料申告内訳名簿（一人親方団体控）'!X312)","v":""},{"$f":"IF('保険料申告内訳名簿（一人親方団体控）'!Y312=\"\",\"\",'保険料申告内訳名簿（一人親方団体控）'!Y312)","v":""},{"$f":"IF('保険料申告内訳名簿（一人親方団体控）'!Z312=\"\",\"\",'保険料申告内訳名簿（一人親方団体控）'!Z312)","v":""},{"$f":"IF('保険料申告内訳名簿（一人親方団体控）'!AA312=\"\",\"\",'保険料申告内訳名簿（一人親方団体控）'!AA312)","v":""},{"$f":"IF('保険料申告内訳名簿（一人親方団体控）'!AB312=\"\",\"\",'保険料申告内訳名簿（一人親方団体控）'!AB312)","v":""},{"$f":"IF('保険料申告内訳名簿（一人親方団体控）'!AC312=\"\",\"\",'保険料申告内訳名簿（一人親方団体控）'!AC312)","v":0},{"$f":"IF('保険料申告内訳名簿（一人親方団体控）'!AD312=\"\",\"\",'保険料申告内訳名簿（一人親方団体控）'!AD312)","v":""},{"$f":"IF('保険料申告内訳名簿（一人親方団体控）'!AE312=\"\",\"\",'保険料申告内訳名簿（一人親方団体控）'!AE312)","v":""},{"$f":"IF('保険料申告内訳名簿（一人親方団体控）'!AF312=\"\",\"\",'保険料申告内訳名簿（一人親方団体控）'!AF312)","v":""},{"$f":"IF('保険料申告内訳名簿（一人親方団体控）'!AG312=\"\",\"\",'保険料申告内訳名簿（一人親方団体控）'!AG312)","v":""},{"$f":"IF('保険料申告内訳名簿（一人親方団体控）'!AH312=\"\",\"\",'保険料申告内訳名簿（一人親方団体控）'!AH312)","v":""}]
[null,{"$f":"IF('保険料申告内訳名簿（一人親方団体控）'!B313=\"\",\"\",'保険料申告内訳名簿（一人親方団体控）'!B313)","v":""},{"$f":"IF('保険料申告内訳名簿（一人親方団体控）'!C313=\"\",\"\",'保険料申告内訳名簿（一人親方団体控）'!C313)","v":""},{"$f":"IF('保険料申告内訳名簿（一人親方団体控）'!D313=\"\",\"\",'保険料申告内訳名簿（一人親方団体控）'!D313)","v":""},{"$f":"IF('保険料申告内訳名簿（一人親方団体控）'!E313=\"\",\"\",'保険料申告内訳名簿（一人親方団体控）'!E313)","v":""},{"$f":"IF('保険料申告内訳名簿（一人親方団体控）'!F313=\"\",\"\",'保険料申告内訳名簿（一人親方団体控）'!F313)","v":""},{"$f":"IF('保険料申告内訳名簿（一人親方団体控）'!G313=\"\",\"\",'保険料申告内訳名簿（一人親方団体控）'!G313)","v":""},{"$f":"IF('保険料申告内訳名簿（一人親方団体控）'!H313=\"\",\"\",'保険料申告内訳名簿（一人親方団体控）'!H313)","v":""},{"$f":"IF('保険料申告内訳名簿（一人親方団体控）'!I313=\"\",\"\",'保険料申告内訳名簿（一人親方団体控）'!I313)","v":""},{"$f":"IF('保険料申告内訳名簿（一人親方団体控）'!J313=\"\",\"\",'保険料申告内訳名簿（一人親方団体控）'!J313)","v":""},{"$f":"IF('保険料申告内訳名簿（一人親方団体控）'!K313=\"\",\"\",'保険料申告内訳名簿（一人親方団体控）'!K313)","v":""},{"$f":"IF('保険料申告内訳名簿（一人親方団体控）'!L313=\"\",\"\",'保険料申告内訳名簿（一人親方団体控）'!L313)","v":""},{"$f":"IF('保険料申告内訳名簿（一人親方団体控）'!M313=\"\",\"\",'保険料申告内訳名簿（一人親方団体控）'!M313)","v":""},{"$f":"IF('保険料申告内訳名簿（一人親方団体控）'!N313=\"\",\"\",'保険料申告内訳名簿（一人親方団体控）'!N313)","v":""},{"$f":"IF('保険料申告内訳名簿（一人親方団体控）'!O313=\"\",\"\",'保険料申告内訳名簿（一人親方団体控）'!O313)","v":""},{"$f":"IF('保険料申告内訳名簿（一人親方団体控）'!P313=\"\",\"\",'保険料申告内訳名簿（一人親方団体控）'!P313)","v":""},{"$f":"IF('保険料申告内訳名簿（一人親方団体控）'!Q313=\"\",\"\",'保険料申告内訳名簿（一人親方団体控）'!Q313)","v":""},{"$f":"IF('保険料申告内訳名簿（一人親方団体控）'!R313=\"\",\"\",'保険料申告内訳名簿（一人親方団体控）'!R313)","v":""},{"$f":"IF('保険料申告内訳名簿（一人親方団体控）'!S313=\"\",\"\",'保険料申告内訳名簿（一人親方団体控）'!S313)","v":0},{"$f":"IF('保険料申告内訳名簿（一人親方団体控）'!T313=\"\",\"\",'保険料申告内訳名簿（一人親方団体控）'!T313)","v":""},{"$f":"IF('保険料申告内訳名簿（一人親方団体控）'!U313=\"\",\"\",'保険料申告内訳名簿（一人親方団体控）'!U313)","v":""},{"$f":"IF('保険料申告内訳名簿（一人親方団体控）'!V313=\"\",\"\",'保険料申告内訳名簿（一人親方団体控）'!V313)","v":""},{"$f":"IF('保険料申告内訳名簿（一人親方団体控）'!W313=\"\",\"\",'保険料申告内訳名簿（一人親方団体控）'!W313)","v":""},{"$f":"IF('保険料申告内訳名簿（一人親方団体控）'!X313=\"\",\"\",'保険料申告内訳名簿（一人親方団体控）'!X313)","v":""},{"$f":"IF('保険料申告内訳名簿（一人親方団体控）'!Y313=\"\",\"\",'保険料申告内訳名簿（一人親方団体控）'!Y313)","v":""},{"$f":"IF('保険料申告内訳名簿（一人親方団体控）'!Z313=\"\",\"\",'保険料申告内訳名簿（一人親方団体控）'!Z313)","v":""},{"$f":"IF('保険料申告内訳名簿（一人親方団体控）'!AA313=\"\",\"\",'保険料申告内訳名簿（一人親方団体控）'!AA313)","v":""},{"$f":"IF('保険料申告内訳名簿（一人親方団体控）'!AB313=\"\",\"\",'保険料申告内訳名簿（一人親方団体控）'!AB313)","v":""},{"$f":"IF('保険料申告内訳名簿（一人親方団体控）'!AC313=\"\",\"\",'保険料申告内訳名簿（一人親方団体控）'!AC313)","v":0},{"$f":"IF('保険料申告内訳名簿（一人親方団体控）'!AD313=\"\",\"\",'保険料申告内訳名簿（一人親方団体控）'!AD313)","v":""},{"$f":"IF('保険料申告内訳名簿（一人親方団体控）'!AE313=\"\",\"\",'保険料申告内訳名簿（一人親方団体控）'!AE313)","v":""},{"$f":"IF('保険料申告内訳名簿（一人親方団体控）'!AF313=\"\",\"\",'保険料申告内訳名簿（一人親方団体控）'!AF313)","v":""},{"$f":"IF('保険料申告内訳名簿（一人親方団体控）'!AG313=\"\",\"\",'保険料申告内訳名簿（一人親方団体控）'!AG313)","v":""},{"$f":"IF('保険料申告内訳名簿（一人親方団体控）'!AH313=\"\",\"\",'保険料申告内訳名簿（一人親方団体控）'!AH313)","v":""}]
[null,{"$f":"IF('保険料申告内訳名簿（一人親方団体控）'!B314=\"\",\"\",'保険料申告内訳名簿（一人親方団体控）'!B314)","v":""},{"$f":"IF('保険料申告内訳名簿（一人親方団体控）'!C314=\"\",\"\",'保険料申告内訳名簿（一人親方団体控）'!C314)","v":""},{"$f":"IF('保険料申告内訳名簿（一人親方団体控）'!D314=\"\",\"\",'保険料申告内訳名簿（一人親方団体控）'!D314)","v":""},{"$f":"IF('保険料申告内訳名簿（一人親方団体控）'!E314=\"\",\"\",'保険料申告内訳名簿（一人親方団体控）'!E314)","v":""},{"$f":"IF('保険料申告内訳名簿（一人親方団体控）'!F314=\"\",\"\",'保険料申告内訳名簿（一人親方団体控）'!F314)","v":""},{"$f":"IF('保険料申告内訳名簿（一人親方団体控）'!G314=\"\",\"\",'保険料申告内訳名簿（一人親方団体控）'!G314)","v":""},{"$f":"IF('保険料申告内訳名簿（一人親方団体控）'!H314=\"\",\"\",'保険料申告内訳名簿（一人親方団体控）'!H314)","v":""},{"$f":"IF('保険料申告内訳名簿（一人親方団体控）'!I314=\"\",\"\",'保険料申告内訳名簿（一人親方団体控）'!I314)","v":""},{"$f":"IF('保険料申告内訳名簿（一人親方団体控）'!J314=\"\",\"\",'保険料申告内訳名簿（一人親方団体控）'!J314)","v":""},{"$f":"IF('保険料申告内訳名簿（一人親方団体控）'!K314=\"\",\"\",'保険料申告内訳名簿（一人親方団体控）'!K314)","v":""},{"$f":"IF('保険料申告内訳名簿（一人親方団体控）'!L314=\"\",\"\",'保険料申告内訳名簿（一人親方団体控）'!L314)","v":""},{"$f":"IF('保険料申告内訳名簿（一人親方団体控）'!M314=\"\",\"\",'保険料申告内訳名簿（一人親方団体控）'!M314)","v":""},{"$f":"IF('保険料申告内訳名簿（一人親方団体控）'!N314=\"\",\"\",'保険料申告内訳名簿（一人親方団体控）'!N314)","v":""},{"$f":"IF('保険料申告内訳名簿（一人親方団体控）'!O314=\"\",\"\",'保険料申告内訳名簿（一人親方団体控）'!O314)","v":""},{"$f":"IF('保険料申告内訳名簿（一人親方団体控）'!P314=\"\",\"\",'保険料申告内訳名簿（一人親方団体控）'!P314)","v":""},{"$f":"IF('保険料申告内訳名簿（一人親方団体控）'!Q314=\"\",\"\",'保険料申告内訳名簿（一人親方団体控）'!Q314)","v":""},{"$f":"IF('保険料申告内訳名簿（一人親方団体控）'!R314=\"\",\"\",'保険料申告内訳名簿（一人親方団体控）'!R314)","v":""},{"$f":"IF('保険料申告内訳名簿（一人親方団体控）'!S314=\"\",\"\",'保険料申告内訳名簿（一人親方団体控）'!S314)","v":0},{"$f":"IF('保険料申告内訳名簿（一人親方団体控）'!T314=\"\",\"\",'保険料申告内訳名簿（一人親方団体控）'!T314)","v":""},{"$f":"IF('保険料申告内訳名簿（一人親方団体控）'!U314=\"\",\"\",'保険料申告内訳名簿（一人親方団体控）'!U314)","v":""},{"$f":"IF('保険料申告内訳名簿（一人親方団体控）'!V314=\"\",\"\",'保険料申告内訳名簿（一人親方団体控）'!V314)","v":""},{"$f":"IF('保険料申告内訳名簿（一人親方団体控）'!W314=\"\",\"\",'保険料申告内訳名簿（一人親方団体控）'!W314)","v":""},{"$f":"IF('保険料申告内訳名簿（一人親方団体控）'!X314=\"\",\"\",'保険料申告内訳名簿（一人親方団体控）'!X314)","v":""},{"$f":"IF('保険料申告内訳名簿（一人親方団体控）'!Y314=\"\",\"\",'保険料申告内訳名簿（一人親方団体控）'!Y314)","v":""},{"$f":"IF('保険料申告内訳名簿（一人親方団体控）'!Z314=\"\",\"\",'保険料申告内訳名簿（一人親方団体控）'!Z314)","v":""},{"$f":"IF('保険料申告内訳名簿（一人親方団体控）'!AA314=\"\",\"\",'保険料申告内訳名簿（一人親方団体控）'!AA314)","v":""},{"$f":"IF('保険料申告内訳名簿（一人親方団体控）'!AB314=\"\",\"\",'保険料申告内訳名簿（一人親方団体控）'!AB314)","v":""},{"$f":"IF('保険料申告内訳名簿（一人親方団体控）'!AC314=\"\",\"\",'保険料申告内訳名簿（一人親方団体控）'!AC314)","v":0},{"$f":"IF('保険料申告内訳名簿（一人親方団体控）'!AD314=\"\",\"\",'保険料申告内訳名簿（一人親方団体控）'!AD314)","v":""},{"$f":"IF('保険料申告内訳名簿（一人親方団体控）'!AE314=\"\",\"\",'保険料申告内訳名簿（一人親方団体控）'!AE314)","v":""},{"$f":"IF('保険料申告内訳名簿（一人親方団体控）'!AF314=\"\",\"\",'保険料申告内訳名簿（一人親方団体控）'!AF314)","v":""},{"$f":"IF('保険料申告内訳名簿（一人親方団体控）'!AG314=\"\",\"\",'保険料申告内訳名簿（一人親方団体控）'!AG314)","v":""},{"$f":"IF('保険料申告内訳名簿（一人親方団体控）'!AH314=\"\",\"\",'保険料申告内訳名簿（一人親方団体控）'!AH314)","v":""}]
[null,{"$f":"IF('保険料申告内訳名簿（一人親方団体控）'!B315=\"\",\"\",'保険料申告内訳名簿（一人親方団体控）'!B315)","v":""},{"$f":"IF('保険料申告内訳名簿（一人親方団体控）'!C315=\"\",\"\",'保険料申告内訳名簿（一人親方団体控）'!C315)","v":""},{"$f":"IF('保険料申告内訳名簿（一人親方団体控）'!D315=\"\",\"\",'保険料申告内訳名簿（一人親方団体控）'!D315)","v":""},{"$f":"IF('保険料申告内訳名簿（一人親方団体控）'!E315=\"\",\"\",'保険料申告内訳名簿（一人親方団体控）'!E315)","v":""},{"$f":"IF('保険料申告内訳名簿（一人親方団体控）'!F315=\"\",\"\",'保険料申告内訳名簿（一人親方団体控）'!F315)","v":""},{"$f":"IF('保険料申告内訳名簿（一人親方団体控）'!G315=\"\",\"\",'保険料申告内訳名簿（一人親方団体控）'!G315)","v":""},{"$f":"IF('保険料申告内訳名簿（一人親方団体控）'!H315=\"\",\"\",'保険料申告内訳名簿（一人親方団体控）'!H315)","v":""},{"$f":"IF('保険料申告内訳名簿（一人親方団体控）'!I315=\"\",\"\",'保険料申告内訳名簿（一人親方団体控）'!I315)","v":""},{"$f":"IF('保険料申告内訳名簿（一人親方団体控）'!J315=\"\",\"\",'保険料申告内訳名簿（一人親方団体控）'!J315)","v":""},{"$f":"IF('保険料申告内訳名簿（一人親方団体控）'!K315=\"\",\"\",'保険料申告内訳名簿（一人親方団体控）'!K315)","v":""},{"$f":"IF('保険料申告内訳名簿（一人親方団体控）'!L315=\"\",\"\",'保険料申告内訳名簿（一人親方団体控）'!L315)","v":""},{"$f":"IF('保険料申告内訳名簿（一人親方団体控）'!M315=\"\",\"\",'保険料申告内訳名簿（一人親方団体控）'!M315)","v":""},{"$f":"IF('保険料申告内訳名簿（一人親方団体控）'!N315=\"\",\"\",'保険料申告内訳名簿（一人親方団体控）'!N315)","v":""},{"$f":"IF('保険料申告内訳名簿（一人親方団体控）'!O315=\"\",\"\",'保険料申告内訳名簿（一人親方団体控）'!O315)","v":""},{"$f":"IF('保険料申告内訳名簿（一人親方団体控）'!P315=\"\",\"\",'保険料申告内訳名簿（一人親方団体控）'!P315)","v":""},{"$f":"IF('保険料申告内訳名簿（一人親方団体控）'!Q315=\"\",\"\",'保険料申告内訳名簿（一人親方団体控）'!Q315)","v":""},{"$f":"IF('保険料申告内訳名簿（一人親方団体控）'!R315=\"\",\"\",'保険料申告内訳名簿（一人親方団体控）'!R315)","v":""},{"$f":"IF('保険料申告内訳名簿（一人親方団体控）'!S315=\"\",\"\",'保険料申告内訳名簿（一人親方団体控）'!S315)","v":0},{"$f":"IF('保険料申告内訳名簿（一人親方団体控）'!T315=\"\",\"\",'保険料申告内訳名簿（一人親方団体控）'!T315)","v":""},{"$f":"IF('保険料申告内訳名簿（一人親方団体控）'!U315=\"\",\"\",'保険料申告内訳名簿（一人親方団体控）'!U315)","v":""},{"$f":"IF('保険料申告内訳名簿（一人親方団体控）'!V315=\"\",\"\",'保険料申告内訳名簿（一人親方団体控）'!V315)","v":""},{"$f":"IF('保険料申告内訳名簿（一人親方団体控）'!W315=\"\",\"\",'保険料申告内訳名簿（一人親方団体控）'!W315)","v":""},{"$f":"IF('保険料申告内訳名簿（一人親方団体控）'!X315=\"\",\"\",'保険料申告内訳名簿（一人親方団体控）'!X315)","v":""},{"$f":"IF('保険料申告内訳名簿（一人親方団体控）'!Y315=\"\",\"\",'保険料申告内訳名簿（一人親方団体控）'!Y315)","v":""},{"$f":"IF('保険料申告内訳名簿（一人親方団体控）'!Z315=\"\",\"\",'保険料申告内訳名簿（一人親方団体控）'!Z315)","v":""},{"$f":"IF('保険料申告内訳名簿（一人親方団体控）'!AA315=\"\",\"\",'保険料申告内訳名簿（一人親方団体控）'!AA315)","v":""},{"$f":"IF('保険料申告内訳名簿（一人親方団体控）'!AB315=\"\",\"\",'保険料申告内訳名簿（一人親方団体控）'!AB315)","v":""},{"$f":"IF('保険料申告内訳名簿（一人親方団体控）'!AC315=\"\",\"\",'保険料申告内訳名簿（一人親方団体控）'!AC315)","v":0},{"$f":"IF('保険料申告内訳名簿（一人親方団体控）'!AD315=\"\",\"\",'保険料申告内訳名簿（一人親方団体控）'!AD315)","v":""},{"$f":"IF('保険料申告内訳名簿（一人親方団体控）'!AE315=\"\",\"\",'保険料申告内訳名簿（一人親方団体控）'!AE315)","v":""},{"$f":"IF('保険料申告内訳名簿（一人親方団体控）'!AF315=\"\",\"\",'保険料申告内訳名簿（一人親方団体控）'!AF315)","v":""},{"$f":"IF('保険料申告内訳名簿（一人親方団体控）'!AG315=\"\",\"\",'保険料申告内訳名簿（一人親方団体控）'!AG315)","v":""},{"$f":"IF('保険料申告内訳名簿（一人親方団体控）'!AH315=\"\",\"\",'保険料申告内訳名簿（一人親方団体控）'!AH315)","v":""}]
[null,{"$f":"IF('保険料申告内訳名簿（一人親方団体控）'!B316=\"\",\"\",'保険料申告内訳名簿（一人親方団体控）'!B316)","v":""},{"$f":"IF('保険料申告内訳名簿（一人親方団体控）'!C316=\"\",\"\",'保険料申告内訳名簿（一人親方団体控）'!C316)","v":""},{"$f":"IF('保険料申告内訳名簿（一人親方団体控）'!D316=\"\",\"\",'保険料申告内訳名簿（一人親方団体控）'!D316)","v":""},{"$f":"IF('保険料申告内訳名簿（一人親方団体控）'!E316=\"\",\"\",'保険料申告内訳名簿（一人親方団体控）'!E316)","v":""},{"$f":"IF('保険料申告内訳名簿（一人親方団体控）'!F316=\"\",\"\",'保険料申告内訳名簿（一人親方団体控）'!F316)","v":""},{"$f":"IF('保険料申告内訳名簿（一人親方団体控）'!G316=\"\",\"\",'保険料申告内訳名簿（一人親方団体控）'!G316)","v":""},{"$f":"IF('保険料申告内訳名簿（一人親方団体控）'!H316=\"\",\"\",'保険料申告内訳名簿（一人親方団体控）'!H316)","v":""},{"$f":"IF('保険料申告内訳名簿（一人親方団体控）'!I316=\"\",\"\",'保険料申告内訳名簿（一人親方団体控）'!I316)","v":""},{"$f":"IF('保険料申告内訳名簿（一人親方団体控）'!J316=\"\",\"\",'保険料申告内訳名簿（一人親方団体控）'!J316)","v":""},{"$f":"IF('保険料申告内訳名簿（一人親方団体控）'!K316=\"\",\"\",'保険料申告内訳名簿（一人親方団体控）'!K316)","v":""},{"$f":"IF('保険料申告内訳名簿（一人親方団体控）'!L316=\"\",\"\",'保険料申告内訳名簿（一人親方団体控）'!L316)","v":""},{"$f":"IF('保険料申告内訳名簿（一人親方団体控）'!M316=\"\",\"\",'保険料申告内訳名簿（一人親方団体控）'!M316)","v":""},{"$f":"IF('保険料申告内訳名簿（一人親方団体控）'!N316=\"\",\"\",'保険料申告内訳名簿（一人親方団体控）'!N316)","v":""},{"$f":"IF('保険料申告内訳名簿（一人親方団体控）'!O316=\"\",\"\",'保険料申告内訳名簿（一人親方団体控）'!O316)","v":""},{"$f":"IF('保険料申告内訳名簿（一人親方団体控）'!P316=\"\",\"\",'保険料申告内訳名簿（一人親方団体控）'!P316)","v":""},{"$f":"IF('保険料申告内訳名簿（一人親方団体控）'!Q316=\"\",\"\",'保険料申告内訳名簿（一人親方団体控）'!Q316)","v":""},{"$f":"IF('保険料申告内訳名簿（一人親方団体控）'!R316=\"\",\"\",'保険料申告内訳名簿（一人親方団体控）'!R316)","v":""},{"$f":"IF('保険料申告内訳名簿（一人親方団体控）'!S316=\"\",\"\",'保険料申告内訳名簿（一人親方団体控）'!S316)","v":0},{"$f":"IF('保険料申告内訳名簿（一人親方団体控）'!T316=\"\",\"\",'保険料申告内訳名簿（一人親方団体控）'!T316)","v":""},{"$f":"IF('保険料申告内訳名簿（一人親方団体控）'!U316=\"\",\"\",'保険料申告内訳名簿（一人親方団体控）'!U316)","v":""},{"$f":"IF('保険料申告内訳名簿（一人親方団体控）'!V316=\"\",\"\",'保険料申告内訳名簿（一人親方団体控）'!V316)","v":""},{"$f":"IF('保険料申告内訳名簿（一人親方団体控）'!W316=\"\",\"\",'保険料申告内訳名簿（一人親方団体控）'!W316)","v":""},{"$f":"IF('保険料申告内訳名簿（一人親方団体控）'!X316=\"\",\"\",'保険料申告内訳名簿（一人親方団体控）'!X316)","v":""},{"$f":"IF('保険料申告内訳名簿（一人親方団体控）'!Y316=\"\",\"\",'保険料申告内訳名簿（一人親方団体控）'!Y316)","v":""},{"$f":"IF('保険料申告内訳名簿（一人親方団体控）'!Z316=\"\",\"\",'保険料申告内訳名簿（一人親方団体控）'!Z316)","v":""},{"$f":"IF('保険料申告内訳名簿（一人親方団体控）'!AA316=\"\",\"\",'保険料申告内訳名簿（一人親方団体控）'!AA316)","v":""},{"$f":"IF('保険料申告内訳名簿（一人親方団体控）'!AB316=\"\",\"\",'保険料申告内訳名簿（一人親方団体控）'!AB316)","v":""},{"$f":"IF('保険料申告内訳名簿（一人親方団体控）'!AC316=\"\",\"\",'保険料申告内訳名簿（一人親方団体控）'!AC316)","v":0},{"$f":"IF('保険料申告内訳名簿（一人親方団体控）'!AD316=\"\",\"\",'保険料申告内訳名簿（一人親方団体控）'!AD316)","v":""},{"$f":"IF('保険料申告内訳名簿（一人親方団体控）'!AE316=\"\",\"\",'保険料申告内訳名簿（一人親方団体控）'!AE316)","v":""},{"$f":"IF('保険料申告内訳名簿（一人親方団体控）'!AF316=\"\",\"\",'保険料申告内訳名簿（一人親方団体控）'!AF316)","v":""},{"$f":"IF('保険料申告内訳名簿（一人親方団体控）'!AG316=\"\",\"\",'保険料申告内訳名簿（一人親方団体控）'!AG316)","v":""},{"$f":"IF('保険料申告内訳名簿（一人親方団体控）'!AH316=\"\",\"\",'保険料申告内訳名簿（一人親方団体控）'!AH316)","v":""}]
[null,{"$f":"IF('保険料申告内訳名簿（一人親方団体控）'!B317=\"\",\"\",'保険料申告内訳名簿（一人親方団体控）'!B317)","v":""},{"$f":"IF('保険料申告内訳名簿（一人親方団体控）'!C317=\"\",\"\",'保険料申告内訳名簿（一人親方団体控）'!C317)","v":""},{"$f":"IF('保険料申告内訳名簿（一人親方団体控）'!D317=\"\",\"\",'保険料申告内訳名簿（一人親方団体控）'!D317)","v":""},{"$f":"IF('保険料申告内訳名簿（一人親方団体控）'!E317=\"\",\"\",'保険料申告内訳名簿（一人親方団体控）'!E317)","v":""},{"$f":"IF('保険料申告内訳名簿（一人親方団体控）'!F317=\"\",\"\",'保険料申告内訳名簿（一人親方団体控）'!F317)","v":""},{"$f":"IF('保険料申告内訳名簿（一人親方団体控）'!G317=\"\",\"\",'保険料申告内訳名簿（一人親方団体控）'!G317)","v":""},{"$f":"IF('保険料申告内訳名簿（一人親方団体控）'!H317=\"\",\"\",'保険料申告内訳名簿（一人親方団体控）'!H317)","v":""},{"$f":"IF('保険料申告内訳名簿（一人親方団体控）'!I317=\"\",\"\",'保険料申告内訳名簿（一人親方団体控）'!I317)","v":""},{"$f":"IF('保険料申告内訳名簿（一人親方団体控）'!J317=\"\",\"\",'保険料申告内訳名簿（一人親方団体控）'!J317)","v":""},{"$f":"IF('保険料申告内訳名簿（一人親方団体控）'!K317=\"\",\"\",'保険料申告内訳名簿（一人親方団体控）'!K317)","v":""},{"$f":"IF('保険料申告内訳名簿（一人親方団体控）'!L317=\"\",\"\",'保険料申告内訳名簿（一人親方団体控）'!L317)","v":""},{"$f":"IF('保険料申告内訳名簿（一人親方団体控）'!M317=\"\",\"\",'保険料申告内訳名簿（一人親方団体控）'!M317)","v":""},{"$f":"IF('保険料申告内訳名簿（一人親方団体控）'!N317=\"\",\"\",'保険料申告内訳名簿（一人親方団体控）'!N317)","v":""},{"$f":"IF('保険料申告内訳名簿（一人親方団体控）'!O317=\"\",\"\",'保険料申告内訳名簿（一人親方団体控）'!O317)","v":""},{"$f":"IF('保険料申告内訳名簿（一人親方団体控）'!P317=\"\",\"\",'保険料申告内訳名簿（一人親方団体控）'!P317)","v":""},{"$f":"IF('保険料申告内訳名簿（一人親方団体控）'!Q317=\"\",\"\",'保険料申告内訳名簿（一人親方団体控）'!Q317)","v":""},{"$f":"IF('保険料申告内訳名簿（一人親方団体控）'!R317=\"\",\"\",'保険料申告内訳名簿（一人親方団体控）'!R317)","v":""},{"$f":"IF('保険料申告内訳名簿（一人親方団体控）'!S317=\"\",\"\",'保険料申告内訳名簿（一人親方団体控）'!S317)","v":0},{"$f":"IF('保険料申告内訳名簿（一人親方団体控）'!T317=\"\",\"\",'保険料申告内訳名簿（一人親方団体控）'!T317)","v":""},{"$f":"IF('保険料申告内訳名簿（一人親方団体控）'!U317=\"\",\"\",'保険料申告内訳名簿（一人親方団体控）'!U317)","v":""},{"$f":"IF('保険料申告内訳名簿（一人親方団体控）'!V317=\"\",\"\",'保険料申告内訳名簿（一人親方団体控）'!V317)","v":""},{"$f":"IF('保険料申告内訳名簿（一人親方団体控）'!W317=\"\",\"\",'保険料申告内訳名簿（一人親方団体控）'!W317)","v":""},{"$f":"IF('保険料申告内訳名簿（一人親方団体控）'!X317=\"\",\"\",'保険料申告内訳名簿（一人親方団体控）'!X317)","v":""},{"$f":"IF('保険料申告内訳名簿（一人親方団体控）'!Y317=\"\",\"\",'保険料申告内訳名簿（一人親方団体控）'!Y317)","v":""},{"$f":"IF('保険料申告内訳名簿（一人親方団体控）'!Z317=\"\",\"\",'保険料申告内訳名簿（一人親方団体控）'!Z317)","v":""},{"$f":"IF('保険料申告内訳名簿（一人親方団体控）'!AA317=\"\",\"\",'保険料申告内訳名簿（一人親方団体控）'!AA317)","v":""},{"$f":"IF('保険料申告内訳名簿（一人親方団体控）'!AB317=\"\",\"\",'保険料申告内訳名簿（一人親方団体控）'!AB317)","v":""},{"$f":"IF('保険料申告内訳名簿（一人親方団体控）'!AC317=\"\",\"\",'保険料申告内訳名簿（一人親方団体控）'!AC317)","v":0},{"$f":"IF('保険料申告内訳名簿（一人親方団体控）'!AD317=\"\",\"\",'保険料申告内訳名簿（一人親方団体控）'!AD317)","v":""},{"$f":"IF('保険料申告内訳名簿（一人親方団体控）'!AE317=\"\",\"\",'保険料申告内訳名簿（一人親方団体控）'!AE317)","v":""},{"$f":"IF('保険料申告内訳名簿（一人親方団体控）'!AF317=\"\",\"\",'保険料申告内訳名簿（一人親方団体控）'!AF317)","v":""},{"$f":"IF('保険料申告内訳名簿（一人親方団体控）'!AG317=\"\",\"\",'保険料申告内訳名簿（一人親方団体控）'!AG317)","v":""},{"$f":"IF('保険料申告内訳名簿（一人親方団体控）'!AH317=\"\",\"\",'保険料申告内訳名簿（一人親方団体控）'!AH317)","v":""}]
[null,{"$f":"IF('保険料申告内訳名簿（一人親方団体控）'!B318=\"\",\"\",'保険料申告内訳名簿（一人親方団体控）'!B318)","v":""},{"$f":"IF('保険料申告内訳名簿（一人親方団体控）'!C318=\"\",\"\",'保険料申告内訳名簿（一人親方団体控）'!C318)","v":""},{"$f":"IF('保険料申告内訳名簿（一人親方団体控）'!D318=\"\",\"\",'保険料申告内訳名簿（一人親方団体控）'!D318)","v":""},{"$f":"IF('保険料申告内訳名簿（一人親方団体控）'!E318=\"\",\"\",'保険料申告内訳名簿（一人親方団体控）'!E318)","v":""},{"$f":"IF('保険料申告内訳名簿（一人親方団体控）'!F318=\"\",\"\",'保険料申告内訳名簿（一人親方団体控）'!F318)","v":""},{"$f":"IF('保険料申告内訳名簿（一人親方団体控）'!G318=\"\",\"\",'保険料申告内訳名簿（一人親方団体控）'!G318)","v":""},{"$f":"IF('保険料申告内訳名簿（一人親方団体控）'!H318=\"\",\"\",'保険料申告内訳名簿（一人親方団体控）'!H318)","v":""},{"$f":"IF('保険料申告内訳名簿（一人親方団体控）'!I318=\"\",\"\",'保険料申告内訳名簿（一人親方団体控）'!I318)","v":""},{"$f":"IF('保険料申告内訳名簿（一人親方団体控）'!J318=\"\",\"\",'保険料申告内訳名簿（一人親方団体控）'!J318)","v":""},{"$f":"IF('保険料申告内訳名簿（一人親方団体控）'!K318=\"\",\"\",'保険料申告内訳名簿（一人親方団体控）'!K318)","v":""},{"$f":"IF('保険料申告内訳名簿（一人親方団体控）'!L318=\"\",\"\",'保険料申告内訳名簿（一人親方団体控）'!L318)","v":""},{"$f":"IF('保険料申告内訳名簿（一人親方団体控）'!M318=\"\",\"\",'保険料申告内訳名簿（一人親方団体控）'!M318)","v":""},{"$f":"IF('保険料申告内訳名簿（一人親方団体控）'!N318=\"\",\"\",'保険料申告内訳名簿（一人親方団体控）'!N318)","v":""},{"$f":"IF('保険料申告内訳名簿（一人親方団体控）'!O318=\"\",\"\",'保険料申告内訳名簿（一人親方団体控）'!O318)","v":""},{"$f":"IF('保険料申告内訳名簿（一人親方団体控）'!P318=\"\",\"\",'保険料申告内訳名簿（一人親方団体控）'!P318)","v":""},{"$f":"IF('保険料申告内訳名簿（一人親方団体控）'!Q318=\"\",\"\",'保険料申告内訳名簿（一人親方団体控）'!Q318)","v":""},{"$f":"IF('保険料申告内訳名簿（一人親方団体控）'!R318=\"\",\"\",'保険料申告内訳名簿（一人親方団体控）'!R318)","v":""},{"$f":"IF('保険料申告内訳名簿（一人親方団体控）'!S318=\"\",\"\",'保険料申告内訳名簿（一人親方団体控）'!S318)","v":0},{"$f":"IF('保険料申告内訳名簿（一人親方団体控）'!T318=\"\",\"\",'保険料申告内訳名簿（一人親方団体控）'!T318)","v":""},{"$f":"IF('保険料申告内訳名簿（一人親方団体控）'!U318=\"\",\"\",'保険料申告内訳名簿（一人親方団体控）'!U318)","v":""},{"$f":"IF('保険料申告内訳名簿（一人親方団体控）'!V318=\"\",\"\",'保険料申告内訳名簿（一人親方団体控）'!V318)","v":""},{"$f":"IF('保険料申告内訳名簿（一人親方団体控）'!W318=\"\",\"\",'保険料申告内訳名簿（一人親方団体控）'!W318)","v":""},{"$f":"IF('保険料申告内訳名簿（一人親方団体控）'!X318=\"\",\"\",'保険料申告内訳名簿（一人親方団体控）'!X318)","v":""},{"$f":"IF('保険料申告内訳名簿（一人親方団体控）'!Y318=\"\",\"\",'保険料申告内訳名簿（一人親方団体控）'!Y318)","v":""},{"$f":"IF('保険料申告内訳名簿（一人親方団体控）'!Z318=\"\",\"\",'保険料申告内訳名簿（一人親方団体控）'!Z318)","v":""},{"$f":"IF('保険料申告内訳名簿（一人親方団体控）'!AA318=\"\",\"\",'保険料申告内訳名簿（一人親方団体控）'!AA318)","v":""},{"$f":"IF('保険料申告内訳名簿（一人親方団体控）'!AB318=\"\",\"\",'保険料申告内訳名簿（一人親方団体控）'!AB318)","v":""},{"$f":"IF('保険料申告内訳名簿（一人親方団体控）'!AC318=\"\",\"\",'保険料申告内訳名簿（一人親方団体控）'!AC318)","v":0},{"$f":"IF('保険料申告内訳名簿（一人親方団体控）'!AD318=\"\",\"\",'保険料申告内訳名簿（一人親方団体控）'!AD318)","v":""},{"$f":"IF('保険料申告内訳名簿（一人親方団体控）'!AE318=\"\",\"\",'保険料申告内訳名簿（一人親方団体控）'!AE318)","v":""},{"$f":"IF('保険料申告内訳名簿（一人親方団体控）'!AF318=\"\",\"\",'保険料申告内訳名簿（一人親方団体控）'!AF318)","v":""},{"$f":"IF('保険料申告内訳名簿（一人親方団体控）'!AG318=\"\",\"\",'保険料申告内訳名簿（一人親方団体控）'!AG318)","v":""},{"$f":"IF('保険料申告内訳名簿（一人親方団体控）'!AH318=\"\",\"\",'保険料申告内訳名簿（一人親方団体控）'!AH318)","v":""}]
[null,{"$f":"IF('保険料申告内訳名簿（一人親方団体控）'!B319=\"\",\"\",'保険料申告内訳名簿（一人親方団体控）'!B319)","v":""},{"$f":"IF('保険料申告内訳名簿（一人親方団体控）'!C319=\"\",\"\",'保険料申告内訳名簿（一人親方団体控）'!C319)","v":""},{"$f":"IF('保険料申告内訳名簿（一人親方団体控）'!D319=\"\",\"\",'保険料申告内訳名簿（一人親方団体控）'!D319)","v":""},{"$f":"IF('保険料申告内訳名簿（一人親方団体控）'!E319=\"\",\"\",'保険料申告内訳名簿（一人親方団体控）'!E319)","v":""},{"$f":"IF('保険料申告内訳名簿（一人親方団体控）'!F319=\"\",\"\",'保険料申告内訳名簿（一人親方団体控）'!F319)","v":""},{"$f":"IF('保険料申告内訳名簿（一人親方団体控）'!G319=\"\",\"\",'保険料申告内訳名簿（一人親方団体控）'!G319)","v":""},{"$f":"IF('保険料申告内訳名簿（一人親方団体控）'!H319=\"\",\"\",'保険料申告内訳名簿（一人親方団体控）'!H319)","v":""},{"$f":"IF('保険料申告内訳名簿（一人親方団体控）'!I319=\"\",\"\",'保険料申告内訳名簿（一人親方団体控）'!I319)","v":""},{"$f":"IF('保険料申告内訳名簿（一人親方団体控）'!J319=\"\",\"\",'保険料申告内訳名簿（一人親方団体控）'!J319)","v":""},{"$f":"IF('保険料申告内訳名簿（一人親方団体控）'!K319=\"\",\"\",'保険料申告内訳名簿（一人親方団体控）'!K319)","v":""},{"$f":"IF('保険料申告内訳名簿（一人親方団体控）'!L319=\"\",\"\",'保険料申告内訳名簿（一人親方団体控）'!L319)","v":""},{"$f":"IF('保険料申告内訳名簿（一人親方団体控）'!M319=\"\",\"\",'保険料申告内訳名簿（一人親方団体控）'!M319)","v":""},{"$f":"IF('保険料申告内訳名簿（一人親方団体控）'!N319=\"\",\"\",'保険料申告内訳名簿（一人親方団体控）'!N319)","v":""},{"$f":"IF('保険料申告内訳名簿（一人親方団体控）'!O319=\"\",\"\",'保険料申告内訳名簿（一人親方団体控）'!O319)","v":""},{"$f":"IF('保険料申告内訳名簿（一人親方団体控）'!P319=\"\",\"\",'保険料申告内訳名簿（一人親方団体控）'!P319)","v":""},{"$f":"IF('保険料申告内訳名簿（一人親方団体控）'!Q319=\"\",\"\",'保険料申告内訳名簿（一人親方団体控）'!Q319)","v":""},{"$f":"IF('保険料申告内訳名簿（一人親方団体控）'!R319=\"\",\"\",'保険料申告内訳名簿（一人親方団体控）'!R319)","v":""},{"$f":"IF('保険料申告内訳名簿（一人親方団体控）'!S319=\"\",\"\",'保険料申告内訳名簿（一人親方団体控）'!S319)","v":0},{"$f":"IF('保険料申告内訳名簿（一人親方団体控）'!T319=\"\",\"\",'保険料申告内訳名簿（一人親方団体控）'!T319)","v":""},{"$f":"IF('保険料申告内訳名簿（一人親方団体控）'!U319=\"\",\"\",'保険料申告内訳名簿（一人親方団体控）'!U319)","v":""},{"$f":"IF('保険料申告内訳名簿（一人親方団体控）'!V319=\"\",\"\",'保険料申告内訳名簿（一人親方団体控）'!V319)","v":""},{"$f":"IF('保険料申告内訳名簿（一人親方団体控）'!W319=\"\",\"\",'保険料申告内訳名簿（一人親方団体控）'!W319)","v":""},{"$f":"IF('保険料申告内訳名簿（一人親方団体控）'!X319=\"\",\"\",'保険料申告内訳名簿（一人親方団体控）'!X319)","v":""},{"$f":"IF('保険料申告内訳名簿（一人親方団体控）'!Y319=\"\",\"\",'保険料申告内訳名簿（一人親方団体控）'!Y319)","v":""},{"$f":"IF('保険料申告内訳名簿（一人親方団体控）'!Z319=\"\",\"\",'保険料申告内訳名簿（一人親方団体控）'!Z319)","v":""},{"$f":"IF('保険料申告内訳名簿（一人親方団体控）'!AA319=\"\",\"\",'保険料申告内訳名簿（一人親方団体控）'!AA319)","v":""},{"$f":"IF('保険料申告内訳名簿（一人親方団体控）'!AB319=\"\",\"\",'保険料申告内訳名簿（一人親方団体控）'!AB319)","v":""},{"$f":"IF('保険料申告内訳名簿（一人親方団体控）'!AC319=\"\",\"\",'保険料申告内訳名簿（一人親方団体控）'!AC319)","v":0},{"$f":"IF('保険料申告内訳名簿（一人親方団体控）'!AD319=\"\",\"\",'保険料申告内訳名簿（一人親方団体控）'!AD319)","v":""},{"$f":"IF('保険料申告内訳名簿（一人親方団体控）'!AE319=\"\",\"\",'保険料申告内訳名簿（一人親方団体控）'!AE319)","v":""},{"$f":"IF('保険料申告内訳名簿（一人親方団体控）'!AF319=\"\",\"\",'保険料申告内訳名簿（一人親方団体控）'!AF319)","v":""},{"$f":"IF('保険料申告内訳名簿（一人親方団体控）'!AG319=\"\",\"\",'保険料申告内訳名簿（一人親方団体控）'!AG319)","v":""},{"$f":"IF('保険料申告内訳名簿（一人親方団体控）'!AH319=\"\",\"\",'保険料申告内訳名簿（一人親方団体控）'!AH319)","v":""}]
[null,{"$f":"IF('保険料申告内訳名簿（一人親方団体控）'!B320=\"\",\"\",'保険料申告内訳名簿（一人親方団体控）'!B320)","v":""},{"$f":"IF('保険料申告内訳名簿（一人親方団体控）'!C320=\"\",\"\",'保険料申告内訳名簿（一人親方団体控）'!C320)","v":""},{"$f":"IF('保険料申告内訳名簿（一人親方団体控）'!D320=\"\",\"\",'保険料申告内訳名簿（一人親方団体控）'!D320)","v":""},{"$f":"IF('保険料申告内訳名簿（一人親方団体控）'!E320=\"\",\"\",'保険料申告内訳名簿（一人親方団体控）'!E320)","v":""},{"$f":"IF('保険料申告内訳名簿（一人親方団体控）'!F320=\"\",\"\",'保険料申告内訳名簿（一人親方団体控）'!F320)","v":""},{"$f":"IF('保険料申告内訳名簿（一人親方団体控）'!G320=\"\",\"\",'保険料申告内訳名簿（一人親方団体控）'!G320)","v":""},{"$f":"IF('保険料申告内訳名簿（一人親方団体控）'!H320=\"\",\"\",'保険料申告内訳名簿（一人親方団体控）'!H320)","v":""},{"$f":"IF('保険料申告内訳名簿（一人親方団体控）'!I320=\"\",\"\",'保険料申告内訳名簿（一人親方団体控）'!I320)","v":""},{"$f":"IF('保険料申告内訳名簿（一人親方団体控）'!J320=\"\",\"\",'保険料申告内訳名簿（一人親方団体控）'!J320)","v":""},{"$f":"IF('保険料申告内訳名簿（一人親方団体控）'!K320=\"\",\"\",'保険料申告内訳名簿（一人親方団体控）'!K320)","v":""},{"$f":"IF('保険料申告内訳名簿（一人親方団体控）'!L320=\"\",\"\",'保険料申告内訳名簿（一人親方団体控）'!L320)","v":""},{"$f":"IF('保険料申告内訳名簿（一人親方団体控）'!M320=\"\",\"\",'保険料申告内訳名簿（一人親方団体控）'!M320)","v":""},{"$f":"IF('保険料申告内訳名簿（一人親方団体控）'!N320=\"\",\"\",'保険料申告内訳名簿（一人親方団体控）'!N320)","v":""},{"$f":"IF('保険料申告内訳名簿（一人親方団体控）'!O320=\"\",\"\",'保険料申告内訳名簿（一人親方団体控）'!O320)","v":""},{"$f":"IF('保険料申告内訳名簿（一人親方団体控）'!P320=\"\",\"\",'保険料申告内訳名簿（一人親方団体控）'!P320)","v":""},{"$f":"IF('保険料申告内訳名簿（一人親方団体控）'!Q320=\"\",\"\",'保険料申告内訳名簿（一人親方団体控）'!Q320)","v":""},{"$f":"IF('保険料申告内訳名簿（一人親方団体控）'!R320=\"\",\"\",'保険料申告内訳名簿（一人親方団体控）'!R320)","v":""},{"$f":"IF('保険料申告内訳名簿（一人親方団体控）'!S320=\"\",\"\",'保険料申告内訳名簿（一人親方団体控）'!S320)","v":0},{"$f":"IF('保険料申告内訳名簿（一人親方団体控）'!T320=\"\",\"\",'保険料申告内訳名簿（一人親方団体控）'!T320)","v":""},{"$f":"IF('保険料申告内訳名簿（一人親方団体控）'!U320=\"\",\"\",'保険料申告内訳名簿（一人親方団体控）'!U320)","v":""},{"$f":"IF('保険料申告内訳名簿（一人親方団体控）'!V320=\"\",\"\",'保険料申告内訳名簿（一人親方団体控）'!V320)","v":""},{"$f":"IF('保険料申告内訳名簿（一人親方団体控）'!W320=\"\",\"\",'保険料申告内訳名簿（一人親方団体控）'!W320)","v":""},{"$f":"IF('保険料申告内訳名簿（一人親方団体控）'!X320=\"\",\"\",'保険料申告内訳名簿（一人親方団体控）'!X320)","v":""},{"$f":"IF('保険料申告内訳名簿（一人親方団体控）'!Y320=\"\",\"\",'保険料申告内訳名簿（一人親方団体控）'!Y320)","v":""},{"$f":"IF('保険料申告内訳名簿（一人親方団体控）'!Z320=\"\",\"\",'保険料申告内訳名簿（一人親方団体控）'!Z320)","v":""},{"$f":"IF('保険料申告内訳名簿（一人親方団体控）'!AA320=\"\",\"\",'保険料申告内訳名簿（一人親方団体控）'!AA320)","v":""},{"$f":"IF('保険料申告内訳名簿（一人親方団体控）'!AB320=\"\",\"\",'保険料申告内訳名簿（一人親方団体控）'!AB320)","v":""},{"$f":"IF('保険料申告内訳名簿（一人親方団体控）'!AC320=\"\",\"\",'保険料申告内訳名簿（一人親方団体控）'!AC320)","v":0},{"$f":"IF('保険料申告内訳名簿（一人親方団体控）'!AD320=\"\",\"\",'保険料申告内訳名簿（一人親方団体控）'!AD320)","v":""},{"$f":"IF('保険料申告内訳名簿（一人親方団体控）'!AE320=\"\",\"\",'保険料申告内訳名簿（一人親方団体控）'!AE320)","v":""},{"$f":"IF('保険料申告内訳名簿（一人親方団体控）'!AF320=\"\",\"\",'保険料申告内訳名簿（一人親方団体控）'!AF320)","v":""},{"$f":"IF('保険料申告内訳名簿（一人親方団体控）'!AG320=\"\",\"\",'保険料申告内訳名簿（一人親方団体控）'!AG320)","v":""},{"$f":"IF('保険料申告内訳名簿（一人親方団体控）'!AH320=\"\",\"\",'保険料申告内訳名簿（一人親方団体控）'!AH320)","v":""}]
[null,{"$f":"IF('保険料申告内訳名簿（一人親方団体控）'!B321=\"\",\"\",'保険料申告内訳名簿（一人親方団体控）'!B321)","v":""},{"$f":"IF('保険料申告内訳名簿（一人親方団体控）'!C321=\"\",\"\",'保険料申告内訳名簿（一人親方団体控）'!C321)","v":""},{"$f":"IF('保険料申告内訳名簿（一人親方団体控）'!D321=\"\",\"\",'保険料申告内訳名簿（一人親方団体控）'!D321)","v":""},{"$f":"IF('保険料申告内訳名簿（一人親方団体控）'!E321=\"\",\"\",'保険料申告内訳名簿（一人親方団体控）'!E321)","v":""},{"$f":"IF('保険料申告内訳名簿（一人親方団体控）'!F321=\"\",\"\",'保険料申告内訳名簿（一人親方団体控）'!F321)","v":""},{"$f":"IF('保険料申告内訳名簿（一人親方団体控）'!G321=\"\",\"\",'保険料申告内訳名簿（一人親方団体控）'!G321)","v":""},{"$f":"IF('保険料申告内訳名簿（一人親方団体控）'!H321=\"\",\"\",'保険料申告内訳名簿（一人親方団体控）'!H321)","v":""},{"$f":"IF('保険料申告内訳名簿（一人親方団体控）'!I321=\"\",\"\",'保険料申告内訳名簿（一人親方団体控）'!I321)","v":""},{"$f":"IF('保険料申告内訳名簿（一人親方団体控）'!J321=\"\",\"\",'保険料申告内訳名簿（一人親方団体控）'!J321)","v":""},{"$f":"IF('保険料申告内訳名簿（一人親方団体控）'!K321=\"\",\"\",'保険料申告内訳名簿（一人親方団体控）'!K321)","v":""},{"$f":"IF('保険料申告内訳名簿（一人親方団体控）'!L321=\"\",\"\",'保険料申告内訳名簿（一人親方団体控）'!L321)","v":""},{"$f":"IF('保険料申告内訳名簿（一人親方団体控）'!M321=\"\",\"\",'保険料申告内訳名簿（一人親方団体控）'!M321)","v":""},{"$f":"IF('保険料申告内訳名簿（一人親方団体控）'!N321=\"\",\"\",'保険料申告内訳名簿（一人親方団体控）'!N321)","v":""},{"$f":"IF('保険料申告内訳名簿（一人親方団体控）'!O321=\"\",\"\",'保険料申告内訳名簿（一人親方団体控）'!O321)","v":""},{"$f":"IF('保険料申告内訳名簿（一人親方団体控）'!P321=\"\",\"\",'保険料申告内訳名簿（一人親方団体控）'!P321)","v":""},{"$f":"IF('保険料申告内訳名簿（一人親方団体控）'!Q321=\"\",\"\",'保険料申告内訳名簿（一人親方団体控）'!Q321)","v":""},{"$f":"IF('保険料申告内訳名簿（一人親方団体控）'!R321=\"\",\"\",'保険料申告内訳名簿（一人親方団体控）'!R321)","v":""},{"$f":"IF('保険料申告内訳名簿（一人親方団体控）'!S321=\"\",\"\",'保険料申告内訳名簿（一人親方団体控）'!S321)","v":0},{"$f":"IF('保険料申告内訳名簿（一人親方団体控）'!T321=\"\",\"\",'保険料申告内訳名簿（一人親方団体控）'!T321)","v":""},{"$f":"IF('保険料申告内訳名簿（一人親方団体控）'!U321=\"\",\"\",'保険料申告内訳名簿（一人親方団体控）'!U321)","v":""},{"$f":"IF('保険料申告内訳名簿（一人親方団体控）'!V321=\"\",\"\",'保険料申告内訳名簿（一人親方団体控）'!V321)","v":""},{"$f":"IF('保険料申告内訳名簿（一人親方団体控）'!W321=\"\",\"\",'保険料申告内訳名簿（一人親方団体控）'!W321)","v":""},{"$f":"IF('保険料申告内訳名簿（一人親方団体控）'!X321=\"\",\"\",'保険料申告内訳名簿（一人親方団体控）'!X321)","v":""},{"$f":"IF('保険料申告内訳名簿（一人親方団体控）'!Y321=\"\",\"\",'保険料申告内訳名簿（一人親方団体控）'!Y321)","v":""},{"$f":"IF('保険料申告内訳名簿（一人親方団体控）'!Z321=\"\",\"\",'保険料申告内訳名簿（一人親方団体控）'!Z321)","v":""},{"$f":"IF('保険料申告内訳名簿（一人親方団体控）'!AA321=\"\",\"\",'保険料申告内訳名簿（一人親方団体控）'!AA321)","v":""},{"$f":"IF('保険料申告内訳名簿（一人親方団体控）'!AB321=\"\",\"\",'保険料申告内訳名簿（一人親方団体控）'!AB321)","v":""},{"$f":"IF('保険料申告内訳名簿（一人親方団体控）'!AC321=\"\",\"\",'保険料申告内訳名簿（一人親方団体控）'!AC321)","v":0},{"$f":"IF('保険料申告内訳名簿（一人親方団体控）'!AD321=\"\",\"\",'保険料申告内訳名簿（一人親方団体控）'!AD321)","v":""},{"$f":"IF('保険料申告内訳名簿（一人親方団体控）'!AE321=\"\",\"\",'保険料申告内訳名簿（一人親方団体控）'!AE321)","v":""},{"$f":"IF('保険料申告内訳名簿（一人親方団体控）'!AF321=\"\",\"\",'保険料申告内訳名簿（一人親方団体控）'!AF321)","v":""},{"$f":"IF('保険料申告内訳名簿（一人親方団体控）'!AG321=\"\",\"\",'保険料申告内訳名簿（一人親方団体控）'!AG321)","v":""},{"$f":"IF('保険料申告内訳名簿（一人親方団体控）'!AH321=\"\",\"\",'保険料申告内訳名簿（一人親方団体控）'!AH321)","v":""}]
[null,{"$f":"IF('保険料申告内訳名簿（一人親方団体控）'!B322=\"\",\"\",'保険料申告内訳名簿（一人親方団体控）'!B322)","v":""},{"$f":"IF('保険料申告内訳名簿（一人親方団体控）'!C322=\"\",\"\",'保険料申告内訳名簿（一人親方団体控）'!C322)","v":""},{"$f":"IF('保険料申告内訳名簿（一人親方団体控）'!D322=\"\",\"\",'保険料申告内訳名簿（一人親方団体控）'!D322)","v":""},{"$f":"IF('保険料申告内訳名簿（一人親方団体控）'!E322=\"\",\"\",'保険料申告内訳名簿（一人親方団体控）'!E322)","v":""},{"$f":"IF('保険料申告内訳名簿（一人親方団体控）'!F322=\"\",\"\",'保険料申告内訳名簿（一人親方団体控）'!F322)","v":""},{"$f":"IF('保険料申告内訳名簿（一人親方団体控）'!G322=\"\",\"\",'保険料申告内訳名簿（一人親方団体控）'!G322)","v":""},{"$f":"IF('保険料申告内訳名簿（一人親方団体控）'!H322=\"\",\"\",'保険料申告内訳名簿（一人親方団体控）'!H322)","v":""},{"$f":"IF('保険料申告内訳名簿（一人親方団体控）'!I322=\"\",\"\",'保険料申告内訳名簿（一人親方団体控）'!I322)","v":""},{"$f":"IF('保険料申告内訳名簿（一人親方団体控）'!J322=\"\",\"\",'保険料申告内訳名簿（一人親方団体控）'!J322)","v":""},{"$f":"IF('保険料申告内訳名簿（一人親方団体控）'!K322=\"\",\"\",'保険料申告内訳名簿（一人親方団体控）'!K322)","v":""},{"$f":"IF('保険料申告内訳名簿（一人親方団体控）'!L322=\"\",\"\",'保険料申告内訳名簿（一人親方団体控）'!L322)","v":""},{"$f":"IF('保険料申告内訳名簿（一人親方団体控）'!M322=\"\",\"\",'保険料申告内訳名簿（一人親方団体控）'!M322)","v":""},{"$f":"IF('保険料申告内訳名簿（一人親方団体控）'!N322=\"\",\"\",'保険料申告内訳名簿（一人親方団体控）'!N322)","v":""},{"$f":"IF('保険料申告内訳名簿（一人親方団体控）'!O322=\"\",\"\",'保険料申告内訳名簿（一人親方団体控）'!O322)","v":""},{"$f":"IF('保険料申告内訳名簿（一人親方団体控）'!P322=\"\",\"\",'保険料申告内訳名簿（一人親方団体控）'!P322)","v":""},{"$f":"IF('保険料申告内訳名簿（一人親方団体控）'!Q322=\"\",\"\",'保険料申告内訳名簿（一人親方団体控）'!Q322)","v":""},{"$f":"IF('保険料申告内訳名簿（一人親方団体控）'!R322=\"\",\"\",'保険料申告内訳名簿（一人親方団体控）'!R322)","v":""},{"$f":"IF('保険料申告内訳名簿（一人親方団体控）'!S322=\"\",\"\",'保険料申告内訳名簿（一人親方団体控）'!S322)","v":0},{"$f":"IF('保険料申告内訳名簿（一人親方団体控）'!T322=\"\",\"\",'保険料申告内訳名簿（一人親方団体控）'!T322)","v":""},{"$f":"IF('保険料申告内訳名簿（一人親方団体控）'!U322=\"\",\"\",'保険料申告内訳名簿（一人親方団体控）'!U322)","v":""},{"$f":"IF('保険料申告内訳名簿（一人親方団体控）'!V322=\"\",\"\",'保険料申告内訳名簿（一人親方団体控）'!V322)","v":""},{"$f":"IF('保険料申告内訳名簿（一人親方団体控）'!W322=\"\",\"\",'保険料申告内訳名簿（一人親方団体控）'!W322)","v":""},{"$f":"IF('保険料申告内訳名簿（一人親方団体控）'!X322=\"\",\"\",'保険料申告内訳名簿（一人親方団体控）'!X322)","v":""},{"$f":"IF('保険料申告内訳名簿（一人親方団体控）'!Y322=\"\",\"\",'保険料申告内訳名簿（一人親方団体控）'!Y322)","v":""},{"$f":"IF('保険料申告内訳名簿（一人親方団体控）'!Z322=\"\",\"\",'保険料申告内訳名簿（一人親方団体控）'!Z322)","v":""},{"$f":"IF('保険料申告内訳名簿（一人親方団体控）'!AA322=\"\",\"\",'保険料申告内訳名簿（一人親方団体控）'!AA322)","v":""},{"$f":"IF('保険料申告内訳名簿（一人親方団体控）'!AB322=\"\",\"\",'保険料申告内訳名簿（一人親方団体控）'!AB322)","v":""},{"$f":"IF('保険料申告内訳名簿（一人親方団体控）'!AC322=\"\",\"\",'保険料申告内訳名簿（一人親方団体控）'!AC322)","v":0},{"$f":"IF('保険料申告内訳名簿（一人親方団体控）'!AD322=\"\",\"\",'保険料申告内訳名簿（一人親方団体控）'!AD322)","v":""},{"$f":"IF('保険料申告内訳名簿（一人親方団体控）'!AE322=\"\",\"\",'保険料申告内訳名簿（一人親方団体控）'!AE322)","v":""},{"$f":"IF('保険料申告内訳名簿（一人親方団体控）'!AF322=\"\",\"\",'保険料申告内訳名簿（一人親方団体控）'!AF322)","v":""},{"$f":"IF('保険料申告内訳名簿（一人親方団体控）'!AG322=\"\",\"\",'保険料申告内訳名簿（一人親方団体控）'!AG322)","v":""},{"$f":"IF('保険料申告内訳名簿（一人親方団体控）'!AH322=\"\",\"\",'保険料申告内訳名簿（一人親方団体控）'!AH322)","v":""}]
[null,null,null,null,null,null,null,null,null,null,null,null,null,null,null,null,null,null,{"$f":"IF('保険料申告内訳名簿（一人親方団体控）'!S323=\"\",\"\",'保険料申告内訳名簿（一人親方団体控）'!S323)","v":0},{"$f":"IF('保険料申告内訳名簿（一人親方団体控）'!T323=\"\",\"\",'保険料申告内訳名簿（一人親方団体控）'!T323)","v":""},{"$f":"IF('保険料申告内訳名簿（一人親方団体控）'!U323=\"\",\"\",'保険料申告内訳名簿（一人親方団体控）'!U323)","v":""},{"$f":"IF('保険料申告内訳名簿（一人親方団体控）'!V323=\"\",\"\",'保険料申告内訳名簿（一人親方団体控）'!V323)","v":""},{"$f":"IF('保険料申告内訳名簿（一人親方団体控）'!W323=\"\",\"\",'保険料申告内訳名簿（一人親方団体控）'!W323)","v":""},{"$f":"IF('保険料申告内訳名簿（一人親方団体控）'!X323=\"\",\"\",'保険料申告内訳名簿（一人親方団体控）'!X323)","v":""},null,null,null,null,{"$f":"IF('保険料申告内訳名簿（一人親方団体控）'!AC323=\"\",\"\",'保険料申告内訳名簿（一人親方団体控）'!AC323)","v":0},{"$f":"IF('保険料申告内訳名簿（一人親方団体控）'!AD323=\"\",\"\",'保険料申告内訳名簿（一人親方団体控）'!AD323)","v":""},{"$f":"IF('保険料申告内訳名簿（一人親方団体控）'!AE323=\"\",\"\",'保険料申告内訳名簿（一人親方団体控）'!AE323)","v":""},{"$f":"IF('保険料申告内訳名簿（一人親方団体控）'!AF323=\"\",\"\",'保険料申告内訳名簿（一人親方団体控）'!AF323)","v":""},{"$f":"IF('保険料申告内訳名簿（一人親方団体控）'!AG323=\"\",\"\",'保険料申告内訳名簿（一人親方団体控）'!AG323)","v":""},{"$f":"IF('保険料申告内訳名簿（一人親方団体控）'!AH323=\"\",\"\",'保険料申告内訳名簿（一人親方団体控）'!AH323)","v":""}]
[]
[null,"（注）"]
[null,null,"１）　④欄は月割の対象となる方のみ記入して下さい。"]
[null,null,"２）　月割の対象となる場合の⑤保険料算定基礎額の算定方法"]
[null,null,"２）　月割の対象となる場合の③（給付基礎日額×365÷12）（円未満を切り上げてから）×加入月数"]

{"sheet":"保険料申告内訳名簿（局提出用)","index":4,"n_rows":328,"n_cols":34,"rows_kept":328,"cut":false,"hidden":false,"merged":[[5,23,5,33],[6,20,6,22],[6,23,6,33],[7,1,9,2],[7,3,9,6],[7,14,7,16],[7,17,7,19],[7,24,7,26],[7,27,7,29],[8,7,9,10],[5,1,6,5],[5,6,5,7],[5,9,5,10],[5,11,5,16],[5,17,5,19],[5,20,5,22],[0,26,0,33],[1,1,1,33],[2,1,2,33],[3,25,3,26],[3,27,3,28],[3,29,3,30],[3,31,3,32],[10,18,10,23],[10,24,10,27],[10,28,10,33],[11,1,11,2],[11,3,11,6],[11,7,11,10],[11,11,11,13],[11,14,11,15],[11,16,11,17],[11,18,11,23],[10,1,10,2],[10,3,10,6],[10,7,10,10],[10,11,10,13],[10,14,10,15],[10,16,10,17],[8,11,8,17],[8,18,9,23],[8,24,9,27],[8,28,9,33],[9,11,9,15],[9,16,9,17],[12,28,12,33],[13,1,13,2],[13,3,13,6],[13,7,13,10],[13,11,13,13],[13,14,13,15],[13,16,13,17],[13,18,13,23],[13,24,13,27],[13,28,13,33],[11,24,11,27],[11,28,11,33],[12,1,12,2],[12,3,12,6],[12,7,12,10],[12,11,12,13],[12,14,12,15],[12,16,12,17],[12,18,12,23],[12,24,12,27],[15,24,15,27],[15,28,15,33],[16,1,16,2],[16,3,16,6],[16,7,16,10],[16,11,16,13],[16,14,16,15],[16,16,16,17],[16,18,16,23],[16,24,16,27],[14,18,14,23],[14,24,14,27],[14,28,14,33],[15,1,15,2],[15,3,15,6],[15,7,15,10],[15,11,15,13],[15,14,15,15],[15,16,15,17],[15,18,15,23],[14,1,14,2],[14,3,14,6],[14,7,14,10],[14,11,14,13],[14,14,14,15],[14,16,14,17],[18,18,18,23],[18,24,18,27],[18,28,18,33],[19,1,19,2],[19,3,19,6],[19,7,19,10],[19,11,19,13],[19,14,19,15],[19,16,19,17],[19,18,19,23],[18,1,18,2],[18,3,18,6],[18,7,18,10],[18,11,18,13],[18,14,18,15],[18,16,18,17],[16,28,16,33],[17,1,17,2],[17,3,17,6],[17,7,17,10],[17,11,17,13],[17,14,17,15],[17,16,17,17],[17,18,17,23],[17,24,17,27],[17,28,17,33],[20,28,20,33],[21,1,21,2],[21,3,21,6],[21,7,21,10],[21,11,21,13],[21,14,21,15],[21,16,21,17],[21,18,21,23],[21,24,21,27],[21,28,21,33],[19,24,19,27],[19,28,19,33],[20,1,20,2],[20,3,20,6],[20,7,20,10],[20,11,20,13],[20,14,20,15],[20,16,20,17],[20,18,20,23],[20,24,20,27],[24,28,24,33],[25,1,25,17],[25,18,25,23],[25,24,25,27],[25,28,25,33],[33,26,33,33],[23,24,23,27],[23,28,23,33],[24,1,24,2],[24,3,24,6],[24,7,24,10],[24,11,24,13],[24,14,24,15],[24,16,24,17],[24,18,24,23],[24,24,24,27],[22,18,22,23],[22,24,22,27],[22,28,22,33],[23,1,23,2],[23,3,23,6],[23,7,23,10],[23,11,23,13],[23,14,23,15],[23,16,23,17],[23,18,23,23],[22,1,22,2],[22,3,22,6],[22,7,22,10],[22,11,22,13],[22,14,22,15],[22,16,22,17],[38,23,38,33],[39,20,39,22],[39,23,39,33],[40,1,42,2],[40,3,42,6],[40,14,40,16],[40,17,40,19],[40,24,40,26],[40,27,40,29],[41,7,42,10],[38,1,39,5],[38,6,38,7],[38,9,38,10],[38,11,38,16],[38,17,38,19],[38,20,38,22],[34,1,34,33],[35,1,35,33],[36,25,36,26],[36,27,36,28],[36,29,36,30],[36,31,36,32],[43,18,43,23],[43,24,43,27],[43,28,43,33],[44,1,44,2],[44,3,44,6],[44,7,44,10],[44,11,44,13],[44,14,44,15],[44,16,44,17],[44,18,44,23],[43,1,43,2],[43,3,43,6],[43,7,43,10],[43,11,43,13],[43,14,43,15],[43,16,43,17],[41,11,41,17],[41,18,42,23],[41,24,42,27],[41,28,42,33],[42,11,42,15],[42,16,42,17],[45,28,45,33],[46,1,46,2],[46,3,46,6],[46,7,46,10],[46,11,46,13],[46,14,46,15],[46,16,46,17],[46,18,46,23],[46,24,46,27],[46,28,46,33],[44,24,44,27],[44,28,44,33],[45,1,45,2],[45,3,45,6],[45,7,45,10],[45,11,45,13],[45,14,45,15],[45,16,45,17],[45,18,45,23],[45,24,45,27],[48,24,48,27],[48,28,48,33],[49,1,49,2],[49,3,49,6],[49,7,49,10],[49,11,49,13],[49,14,49,15],[49,16,49,17],[49,18,49,23],[49,24,49,27],[47,18,47,23],[47,24,47,27],[47,28,47,33],[48,1,48,2],[48,3,48,6],[48,7,48,10],[48,11,48,13],[48,14,48,15],[48,16,48,17],[48,18,48,23],[47,1,47,2],[47,3,47,6],[47,7,47,10],[47,11,47,13],[47,14,47,15],[47,16,47,17],[51,18,51,23],[51,24,51,27],[51,28,51,33],[52,1,52,2],[52,3,52,6],[52,7,52,10],[52,11,52,13],[52,14,52,15],[52,16,52,17],[52,18,52,23],[51,1,51,2],[51,3,51,6],[51,7,51,10],[51,11,51,13],[51,14,51,15],[51,16,51,17],[49,28,49,33],[50,1,50,2],[50,3,50,6],[50,7,50,10],[50,11,50,13],[50,14,50,15],[50,16,50,17],[50,18,50,23],[50,24,50,27],[50,28,50,33],[53,28,53,33],[54,1,54,2],[54,3,54,6],[54,7,54,10],[54,11,54,13],[54,14,54,15],[54,16,54,17],[54,18,54,23],[54,24,54,27],[54,28,54,33],[52,24,52,27],[52,28,52,33],[53,1,53,2],[53,3,53,6],[53,7,53,10],[53,11,53,13],[53,14,53,15],[53,16,53,17],[53,18,53,23],[53,24,53,27],[57,28,57,33],[58,1,58,17],[58,18,58,23],[58,24,58,27],[58,28,58,33],[66,26,66,33],[56,24,56,27],[56,28,56,33],[57,1,57,2],[57,3,57,6],[57,7,57,10],[57,11,57,13],[57,14,57,15],[57,16,57,17],[57,18,57,23],[57,24,57,27],[55,18,55,23],[55,24,55,27],[55,28,55,33],[56,1,56,2],[56,3,56,6],[56,7,56,10],[56,11,56,13],[56,14,56,15],[56,16,56,17],[56,18,56,23],[55,1,55,2],[55,3,55,6],[55,7,55,10],[55,11,55,13],[55,14,55,15],[55,16,55,17],[71,23,71,33],[72,20,72,22],[72,23,72,33],[73,1,75,2],[73,3,75,6],[73,14,73,16],[73,17,73,19],[73,24,73,26],[73,27,73,29],[74,7,75,10],[71,1,72,5],[71,6,71,7],[71,9,71,10],[71,11,71,16],[71,17,71,19],[71,20,71,22],[67,1,67,33],[68,1,68,33],[69,25,69,26],[69,27,69,28],[69,29,69,30],[69,31,69,32],[76,18,76,23],[76,24,76,27],[76,28,76,33],[77,1,77,2],[77,3,77,6],[77,7,77,10],[77,11,77,13],[77,14,77,15],[77,16,77,17],[77,18,77,23],[76,1,76,2],[76,3,76,6],[76,7,76,10],[76,11,76,13],[76,14,76,15],[76,16,76,17],[74,11,74,17],[74,18,75,23],[74,24,75,27],[74,28,75,33],[75,11,75,15],[75,16,75,17],[78,28,78,33],[79,1,79,2],[79,3,79,6],[79,7,79,10],[79,11,79,13],[79,14,79,15],[79,16,79,17],[79,18,79,23],[79,24,79,27],[79,28,79,33],[77,24,77,27],[77,28,77,33],[78,1,78,2],[78,3,78,6],[78,7,78,10],[78,11,78,13],[78,14,78,15],[78,16,78,17],[78,18,78,23],[78,24,78,27],[81,24,81,27],[81,28,81,33],[82,1,82,2],[82,3,82,6],[82,7,82,10],[82,11,82,13],[82,14,82,15],[82,16,82,17],[82,18,82,23],[82,24,82,27],[80,18,80,23],[80,24,80,27],[80,28,80,33],[81,1,81,2],[81,3,81,6],[81,7,81,10],[81,11,81,13],[81,14,81,15],[81,16,81,17],[81,18,81,23],[80,1,80,2],[80,3,80,6],[80,7,80,10],[80,11,80,13],[80,14,80,15],[80,16,80,17],[84,18,84,23],[84,24,84,27],[84,28,84,33],[85,1,85,2],[85,3,85,6],[85,7,85,10],[85,11,85,13],[85,14,85,15],[85,16,85,17],[85,18,85,23],[84,1,84,2],[84,3,84,6],[84,7,84,10],[84,11,84,13],[84,14,84,15],[84,16,84,17],[82,28,82,33],[83,1,83,2],[83,3,83,6],[83,7,83,10],[83,11,83,13],[83,14,83,15],[83,16,83,17],[83,18,83,23],[83,24,83,27],[83,28,83,33],[86,28,86,33],[87,1,87,2],[87,3,87,6],[87,7,87,10],[87,11,87,13],[87,14,87,15],[87,16,87,17],[87,18,87,23],[87,24,87,27],[87,28,87,33],[85,24,85,27],[85,28,85,33],[86,1,86,2],[86,3,86,6],[86,7,86,10],[86,11,86,13],[86,14,86,15],[86,16,86,17],[86,18,86,23],[86,24,86,27],[90,28,90,33],[91,1,91,17],[91,18,91,23],[91,24,91,27],[91,28,91,33],[99,26,99,33],[89,24,89,27],[89,28,89,33],[90,1,90,2],[90,3,90,6],[90,7,90,10],[90,11,90,13],[90,14,90,15],[90,16,90,17],[90,18,90,23],[90,24,90,27],[88,18,88,23],[88,24,88,27],[88,28,88,33],[89,1,89,2],[89,3,89,6],[89,7,89,10],[89,11,89,13],[89,14,89,15],[89,16,89,17],[89,18,89,23],[88,1,88,2],[88,3,88,6],[88,7,88,10],[88,11,88,13],[88,14,88,15],[88,16,88,17],[104,23,104,33],[105,20,105,22],[105,23,105,33],[106,1,108,2],[106,3,108,6],[106,14,106,16],[106,17,106,19],[106,24,106,26],[106,27,106,29],[107,7,108,10],[104,1,105,5],[104,6,104,7],[104,9,104,10],[104,11,104,16],[104,17,104,19],[104,20,104,22],[100,1,100,33],[101,1,101,33],[102,25,102,26],[102,27,102,28],[102,29,102,30],[102,31,102,32],[109,18,109,23],[109,24,109,27],[109,28,109,33],[110,1,110,2],[110,3,110,6],[110,7,110,10],[110,11,110,13],[110,14,110,15],[110,16,110,17],[110,18,110,23],[109,1,109,2],[109,3,109,6],[109,7,109,10],[109,11,109,13],[109,14,109,15],[109,16,109,17],[107,11,107,17],[107,18,108,23],[107,24,108,27],[107,28,108,33],[108,11,108,15],[108,16,108,17],[111,28,111,33],[112,1,112,2],[112,3,112,6],[112,7,112,10],[112,11,112,13],[112,14,112,15],[112,16,112,17],[112,18,112,23],[112,24,112,27],[112,28,112,33],[110,24,110,27],[110,28,110,33],[111,1,111,2],[111,3,111,6],[111,7,111,10],[111,11,111,13],[111,14,111,15],[111,16,111,17],[111,18,111,23],[111,24,111,27],[114,24,114,27],[114,28,114,33],[115,1,115,2],[115,3,115,6],[115,7,115,10],[115,11,115,13],[115,14,115,15],[115,16,115,17],[115,18,115,23],[115,24,115,27],[113,18,113,23],[113,24,113,27],[113,28,113,33],[114,1,114,2],[114,3,114,6],[114,7,114,10],[114,11,114,13],[114,14,114,15],[114,16,114,17],[114,18,114,23],[113,1,113,2],[113,3,113,6],[113,7,113,10],[113,11,113,13],[113,14,113,15],[113,16,113,17],[117,18,117,23],[117,24,117,27],[117,28,117,33],[118,1,118,2],[118,3,118,6],[118,7,118,10],[118,11,118,13],[118,14,118,15],[118,16,118,17],[118,18,118,23],[117,1,117,2],[117,3,117,6],[117,7,117,10],[117,11,117,13],[117,14,117,15],[117,16,117,17],[115,28,115,33],[116,1,116,2],[116,3,116,6],[116,7,116,10],[116,11,116,13],[116,14,116,15],[116,16,116,17],[116,18,116,23],[116,24,116,27],[116,28,116,33],[119,28,119,33],[120,1,120,2],[120,3,120,6],[120,7,120,10],[120,11,120,13],[120,14,120,15],[120,16,120,17],[120,18,120,23],[120,24,120,27],[120,28,120,33],[118,24,118,27],[118,28,118,33],[119,1,119,2],[119,3,119,6],[119,7,119,10],[119,11,119,13],[119,14,119,15],[119,16,119,17],[119,18,119,23],[119,24,119,27],[123,28,123,33],[124,1,124,17],[124,18,124,23],[124,24,124,27],[124,28,124,33],[132,26,132,33],[122,24,122,27],[122,28,122,33],[123,1,123,2],[123,3,123,6],[123,7,123,10],[123,11,123,13],[123,14,123,15],[123,16,123,17],[123,18,123,23],[123,24,123,27],[121,18,121,23],[121,24,121,27],[121,28,121,33],[122,1,122,2],[122,3,122,6],[122,7,122,10],[122,11,122,13],[122,14,122,15],[122,16,122,17],[122,18,122,23],[121,1,121,2],[121,3,121,6],[121,7,121,10],[121,11,121,13],[121,14,121,15],[121,16,121,17],[137,23,137,33],[138,20,138,22],[138,23,138,33],[139,1,141,2],[139,3,141,6],[139,14,139,16],[139,17,139,19],[139,24,139,26],[139,27,139,29],[140,7,141,10],[137,1,138,5],[137,6,137,7],[137,9,137,10],[137,11,137,16],[137,17,137,19],[137,20,137,22],[133,1,133,33],[134,1,134,33],[135,25,135,26],[135,27,135,28],[135,29,135,30],[135,31,135,32],[142,18,142,23],[142,24,142,27],[142,28,142,33],[143,1,143,2],[143,3,143,6],[143,7,143,10],[143,11,143,13],[143,14,143,15],[143,16,143,17],[143,18,143,23],[142,1,142,2],[142,3,142,6],[142,7,142,10],[142,11,142,13],[142,14,142,15],[142,16,142,17],[140,11,140,17],[140,18,141,23],[140,24,141,27],[140,28,141,33],[141,11,141,15],[141,16,141,17],[144,28,144,33],[145,1,145,2],[145,3,145,6],[145,7,145,10],[145,11,145,13],[145,14,145,15],[145,16,145,17],[145,18,145,23],[145,24,145,27],[145,28,145,33],[143,24,143,27],[143,28,143,33],[144,1,144,2],[144,3,144,6],[144,7,144,10],[144,11,144,13],[144,14,144,15],[144,16,144,17],[144,18,144,23],[144,24,144,27],[147,24,147,27],[147,28,147,33],[148,1,148,2],[148,3,148,6],[148,7,148,10],[148,11,148,13],[148,14,148,15],[148,16,148,17],[148,18,148,23],[148,24,148,27],[146,18,146,23],[146,24,146,27],[146,28,146,33],[147,1,147,2],[147,3,147,6],[147,7,147,10],[147,11,147,13],[147,14,147,15],[147,16,147,17],[147,18,147,23],[146,1,146,2],[146,3,146,6],[146,7,146,10],[146,11,146,13],[146,14,146,15],[146,16,146,17],[150,18,150,23],[150,24,150,27],[150,28,150,33],[151,1,151,2],[151,3,151,6],[151,7,151,10],[151,11,151,13],[151,14,151,15],[151,16,151,17],[151,18,151,23],[150,1,150,2],[150,3,150,6],[150,7,150,10],[150,11,150,13],[150,14,150,15],[150,16,150,17],[148,28,148,33],[149,1,149,2],[149,3,149,6],[149,7,149,10],[149,11,149,13],[149,14,149,15],[149,16,149,17],[149,18,149,23],[149,24,149,27],[149,28,149,33],[152,28,152,33],[153,1,153,2],[153,3,153,6],[153,7,153,10],[153,11,153,13],[153,14,153,15],[153,16,153,17],[153,18,153,23],[153,24,153,27],[153,28,153,33],[151,24,151,27],[151,28,151,33],[152,1,152,2],[152,3,152,6],[152,7,152,10],[152,11,152,13],[152,14,152,15],[152,16,152,17],[152,18,152,23],[152,24,152,27],[156,28,156,33],[157,1,157,17],[157,18,157,23],[157,24,157,27],[157,28,157,33],[165,26,165,33],[155,24,155,27],[155,28,155,33],[156,1,156,2],[156,3,156,6],[156,7,156,10],[156,11,156,13],[156,14,156,15],[156,16,156,17],[156,18,156,23],[156,24,156,27],[154,18,154,23],[154,24,154,27],[154,28,154,33],[155,1,155,2],[155,3,155,6],[155,7,155,10],[155,11,155,13],[155,14,155,15],[155,16,155,17],[155,18,155,23],[154,1,154,2],[154,3,154,6],[154,7,154,10],[154,11,154,13],[154,14,154,15],[154,16,154,17],[170,23,170,33],[171,20,171,22],[171,23,171,33],[172,1,174,2],[172,3,174,6],[172,14,172,16],[172,17,172,19],[172,24,172,26],[172,27,172,29],[173,7,174,10],[170,1,171,5],[170,6,170,7],[170,9,170,10],[170,11,170,16],[170,17,170,19],[170,20,170,22],[166,1,166,33],[167,1,167,33],[168,25,168,26],[168,27,168,28],[168,29,168,30],[168,31,168,32],[175,18,175,23],[175,24,175,27],[175,28,175,33],[176,1,176,2],[176,3,176,6],[176,7,176,10],[176,11,176,13],[176,14,176,15],[176,16,176,17],[176,18,176,23],[175,1,175,2],[175,3,175,6],[175,7,175,10],[175,11,175,13],[175,14,175,15],[175,16,175,17],[173,11,173,17],[173,18,174,23],[173,24,174,27],[173,28,174,33],[174,11,174,15],[174,16,174,17],[177,28,177,33],[178,1,178,2],[178,3,178,6],[178,7,178,10],[178,11,178,13],[178,14,178,15],[178,16,178,17],[178,18,178,23],[178,24,178,27],[178,28,178,33],[176,24,176,27],[176,28,176,33],[177,1,177,2],[177,3,177,6],[177,7,177,10],[177,11,177,13],[177,14,177,15],[177,16,177,17],[177,18,177,23],[177,24,177,27],[180,24,180,27],[180,28,180,33],[181,1,181,2],[181,3,181,6],[181,7,181,10],[181,11,181,13],[181,14,181,15],[181,16,181,17],[181,18,181,23],[181,24,181,27],[179,18,179,23],[179,24,179,27],[179,28,179,33],[180,1,180,2],[180,3,180,6],[180,7,180,10],[180,11,180,13],[180,14,180,15],[180,16,180,17],[180,18,180,23],[179,1,179,2],[179,3,179,6],[179,7,179,10],[179,11,179,13],[179,14,179,15],[179,16,179,17],[183,18,183,23],[183,24,183,27],[183,28,183,33],[184,1,184,2],[184,3,184,6],[184,7,184,10],[184,11,184,13],[184,14,184,15],[184,16,184,17],[184,18,184,23],[183,1,183,2],[183,3,183,6],[183,7,183,10],[183,11,183,13],[183,14,183,15],[183,16,183,17],[181,28,181,33],[182,1,182,2],[182,3,182,6],[182,7,182,10],[182,11,182,13],[182,14,182,15],[182,16,182,17],[182,18,182,23],[182,24,182,27],[182,28,182,33],[185,28,185,33],[186,1,186,2],[186,3,186,6],[186,7,186,10],[186,11,186,13],[186,14,186,15],[186,16,186,17],[186,18,186,23],[186,24,186,27],[186,28,186,33],[184,24,184,27],[184,28,184,33],[185,1,185,2],[185,3,185,6],[185,7,185,10],[185,11,185,13],[185,14,185,15],[185,16,185,17],[185,18,185,23],[185,24,185,27],[189,28,189,33],[190,1,190,17],[190,18,190,23],[190,24,190,27],[190,28,190,33],[198,26,198,33],[188,24,188,27],[188,28,188,33],[189,1,189,2],[189,3,189,6],[189,7,189,10],[189,11,189,13],[189,14,189,15],[189,16,189,17],[189,18,189,23],[189,24,189,27],[187,18,187,23],[187,24,187,27],[187,28,187,33],[188,1,188,2],[188,3,188,6],[188,7,188,10],[188,11,188,13]],"merged_total":1680,"flags":["merged_cut"]}
[null,"【島根局版】",null,null,null,null,null,null,null,null,null,null,null,null,null,null,null,null,null,null,null,null,null,null,null,null,"局用"]
[null,"第２種特別加入保険料申告内訳名簿"]
[null,"（一人親方等）"]
[null,null,null,null,null,null,null,null,null,null,null,null,null,null,null,null,null,null,null,null,null,null,null,null,"（",{"$f":"IF('保険料申告内訳名簿（一人親方団体控）'!Z4=\"\",\"\",'保険料申告内訳名簿（一人親方団体控）'!Z4)","v":0},{"$f":"IF('保険料申告内訳名簿（一人親方団体控）'!AA4=\"\",\"\",'保険料申告内訳名簿（一人親方団体控）'!AA4)","v":""},"枚のうち",null,{"$f":"IF('保険料申告内訳名簿（一人親方団体控）'!AD4=\"\",\"\",'保険料申告内訳名簿（一人親方団体控）'!AD4)","v":1},{"$f":"IF('保険料申告内訳名簿（一人親方団体控）'!AE4=\"\",\"\",'保険料申告内訳名簿（一人親方団体控）'!AE4)","v":""},"枚目",null,"）"]
[]
[null,"労働保険\n番　　　号",null,null,null,null,"府県",null,"所掌","管轄",null,"基幹番号",null,null,null,null,null,"枝番号",null,null,"事業場の\n所在地",null,null,{"$f":"IF('保険料申告内訳名簿（一人親方団体控）'!X6=\"\",\"\",'保険料申告内訳名簿（一人親方団体控）'!X6)","v":""},{"$f":"IF('保険料申告内訳名簿（一人親方団体控）'!Y6=\"\",\"\",'保険料申告内訳名簿（一人親方団体控）'!Y6)","v":""},{"$f":"IF('保険料申告内訳名簿（一人親方団体控）'!Z6=\"\",\"\",'保険料申告内訳名簿（一人親方団体控）'!Z6)","v":""},{"$f":"IF('保険料申告内訳名簿（一人親方団体控）'!AA6=\"\",\"\",'保険料申告内訳名簿（一人親方団体控）'!AA6)","v":""},{"$f":"IF('保険料申告内訳名簿（一人親方団体控）'!AB6=\"\",\"\",'保険料申告内訳名簿（一人親方団体控）'!AB6)","v":""},{"$f":"IF('保険料申告内訳名簿（一人親方団体控）'!AC6=\"\",\"\",'保険料申告内訳名簿（一人親方団体控）'!AC6)","v":""},{"$f":"IF('保険料申告内訳名簿（一人親方団体控）'!AD6=\"\",\"\",'保険料申告内訳名簿（一人親方団体控）'!AD6)","v":""},{"$f":"IF('保険料申告内訳名簿（一人親方団体控）'!AE6=\"\",\"\",'保険料申告内訳名簿（一人親方団体控）'!AE6)","v":""},{"$f":"IF('保険料申告内訳名簿（一人親方団体控）'!AF6=\"\",\"\",'保険料申告内訳名簿（一人親方団体控）'!AF6)","v":""},{"$f":"IF('保険料申告内訳名簿（一人親方団体控）'!AG6=\"\",\"\",'保険料申告内訳名簿（一人親方団体控）'!AG6)","v":""},{"$f":"IF('保険料申告内訳名簿（一人親方団体控）'!AH6=\"\",\"\",'保険料申告内訳名簿（一人親方団体控）'!AH6)","v":""}]
[null,null,null,null,null,null,"3","2",{"$f":"IF('保険料申告内訳名簿（一人親方団体控）'!I7=\"\",\"\",'保険料申告内訳名簿（一人親方団体控）'!I7)","v":""},{"$f":"IF('保険料申告内訳名簿（一人親方団体控）'!J7=\"\",\"\",'保険料申告内訳名簿（一人親方団体控）'!J7)","v":""},{"$f":"IF('保険料申告内訳名簿（一人親方団体控）'!K7=\"\",\"\",'保険料申告内訳名簿（一人親方団体控）'!K7)","v":""},{"$f":"IF('保険料申告内訳名簿（一人親方団体控）'!L7=\"\",\"\",'保険料申告内訳名簿（一人親方団体控）'!L7)","v":""},{"$f":"IF('保険料申告内訳名簿（一人親方団体控）'!M7=\"\",\"\",'保険料申告内訳名簿（一人親方団体控）'!M7)","v":""},{"$f":"IF('保険料申告内訳名簿（一人親方団体控）'!N7=\"\",\"\",'保険料申告内訳名簿（一人親方団体控）'!N7)","v":""},{"$f":"IF('保険料申告内訳名簿（一人親方団体控）'!O7=\"\",\"\",'保険料申告内訳名簿（一人親方団体控）'!O7)","v":""},{"$f":"IF('保険料申告内訳名簿（一人親方団体控）'!P7=\"\",\"\",'保険料申告内訳名簿（一人親方団体控）'!P7)","v":""},{"$f":"IF('保険料申告内訳名簿（一人親方団体控）'!Q7=\"\",\"\",'保険料申告内訳名簿（一人親方団体控）'!Q7)","v":""},{"$f":"IF('保険料申告内訳名簿（一人親方団体控）'!R7=\"\",\"\",'保険料申告内訳名簿（一人親方団体控）'!R7)","v":""},{"$f":"IF('保険料申告内訳名簿（一人親方団体控）'!S7=\"\",\"\",'保険料申告内訳名簿（一人親方団体控）'!S7)","v":""},{"$f":"IF('保険料申告内訳名簿（一人親方団体控）'!T7=\"\",\"\",'保険料申告内訳名簿（一人親方団体控）'!T7)","v":""},"事業場の\n名称",null,null,{"$f":"IF('保険料申告内訳名簿（一人親方団体控）'!X7=\"\",\"\",'保険料申告内訳名簿（一人親方団体控）'!X7)","v":""},{"$f":"IF('保険料申告内訳名簿（一人親方団体控）'!Y7=\"\",\"\",'保険料申告内訳名簿（一人親方団体控）'!Y7)","v":""},{"$f":"IF('保険料申告内訳名簿（一人親方団体控）'!Z7=\"\",\"\",'保険料申告内訳名簿（一人親方団体控）'!Z7)","v":""},{"$f":"IF('保険料申告内訳名簿（一人親方団体控）'!AA7=\"\",\"\",'保険料申告内訳名簿（一人親方団体控）'!AA7)","v":""},{"$f":"IF('保険料申告内訳名簿（一人親方団体控）'!AB7=\"\",\"\",'保険料申告内訳名簿（一人親方団体控）'!AB7)","v":""},{"$f":"IF('保険料申告内訳名簿（一人親方団体控）'!AC7=\"\",\"\",'保険料申告内訳名簿（一人親方団体控）'!AC7)","v":""},{"$f":"IF('保険料申告内訳名簿（一人親方団体控）'!AD7=\"\",\"\",'保険料申告内訳名簿（一人親方団体控）'!AD7)","v":""},{"$f":"IF('保険料申告内訳名簿（一人親方団体控）'!AE7=\"\",\"\",'保険料申告内訳名簿（一人親方団体控）'!AE7)","v":""},{"$f":"IF('保険料申告内訳名簿（一人親方団体控）'!AF7=\"\",\"\",'保険料申告内訳名簿（一人親方団体控）'!AF7)","v":""},{"$f":"IF('保険料申告内訳名簿（一人親方団体控）'!AG7=\"\",\"\",'保険料申告内訳名簿（一人親方団体控）'!AG7)","v":""},{"$f":"IF('保険料申告内訳名簿（一人親方団体控）'!AH7=\"\",\"\",'保険料申告内訳名簿（一人親方団体控）'!AH7)","v":""}]
[null,"①\n整理\n番号",null,"②\n氏名",null,null,null,null,null,null,null,null,null,null,"令 和",null,null,{"$f":"IF('保険料申告内訳名簿（一人親方団体控）'!R8=\"\",\"\",'保険料申告内訳名簿（一人親方団体控）'!R8)","v":""},{"$f":"IF('保険料申告内訳名簿（一人親方団体控）'!S8=\"\",\"\",'保険料申告内訳名簿（一人親方団体控）'!S8)","v":""},{"$f":"IF('保険料申告内訳名簿（一人親方団体控）'!T8=\"\",\"\",'保険料申告内訳名簿（一人親方団体控）'!T8)","v":""},null,null,null,"年 度 確 定 ","令 和",null,null,{"$f":"IF('保険料申告内訳名簿（一人親方団体控）'!AB8=\"\",\"\",'保険料申告内訳名簿（一人親方団体控）'!AB8)","v":""},{"$f":"IF('保険料申告内訳名簿（一人親方団体控）'!AC8=\"\",\"\",'保険料申告内訳名簿（一人親方団体控）'!AC8)","v":""},{"$f":"IF('保険料申告内訳名簿（一人親方団体控）'!AD8=\"\",\"\",'保険料申告内訳名簿（一人親方団体控）'!AD8)","v":""},null,null,null,"年 度 概 算 "]
[null,null,null,null,null,null,null,"③　\n給付基礎日額",null,null,null,"④年度中途加入・脱退",null,null,null,null,null,null,"⑤\n保険料算定基礎額",null,null,null,null,null,"⑥\n給付基礎日額",null,null,null,"⑦\n保険料算定基礎額"]
[null,null,null,null,null,null,null,null,null,null,null,"加入・脱退年月日",null,null,null,null,"加入月数"]
[null,{"$f":"IF('保険料申告内訳名簿（一人親方団体控）'!B11=\"\",\"\",'保険料申告内訳名簿（一人親方団体控）'!B11)","v":""},{"$f":"IF('保険料申告内訳名簿（一人親方団体控）'!C11=\"\",\"\",'保険料申告内訳名簿（一人親方団体控）'!C11)","v":""},{"$f":"IF('保険料申告内訳名簿（一人親方団体控）'!D11=\"\",\"\",'保険料申告内訳名簿（一人親方団体控）'!D11)","v":""},{"$f":"IF('保険料申告内訳名簿（一人親方団体控）'!E11=\"\",\"\",'保険料申告内訳名簿（一人親方団体控）'!E11)","v":""},{"$f":"IF('保険料申告内訳名簿（一人親方団体控）'!F11=\"\",\"\",'保険料申告内訳名簿（一人親方団体控）'!F11)","v":""},{"$f":"IF('保険料申告内訳名簿（一人親方団体控）'!G11=\"\",\"\",'保険料申告内訳名簿（一人親方団体控）'!G11)","v":""},{"$f":"IF('保険料申告内訳名簿（一人親方団体控）'!H11=\"\",\"\",'保険料申告内訳名簿（一人親方団体控）'!H11)","v":""},{"$f":"IF('保険料申告内訳名簿（一人親方団体控）'!I11=\"\",\"\",'保険料申告内訳名簿（一人親方団体控）'!I11)","v":""},{"$f":"IF('保険料申告内訳名簿（一人親方団体控）'!J11=\"\",\"\",'保険料申告内訳名簿（一人親方団体控）'!J11)","v":""},{"$f":"IF('保険料申告内訳名簿（一人親方団体控）'!K11=\"\",\"\",'保険料申告内訳名簿（一人親方団体控）'!K11)","v":""},{"$f":"IF('保険料申告内訳名簿（一人親方団体控）'!L11=\"\",\"\",'保険料申告内訳名簿（一人親方団体控）'!L11)","v":""},{"$f":"IF('保険料申告内訳名簿（一人親方団体控）'!M11=\"\",\"\",'保険料申告内訳名簿（一人親方団体控）'!M11)","v":""},{"$f":"IF('保険料申告内訳名簿（一人親方団体控）'!N11=\"\",\"\",'保険料申告内訳名簿（一人親方団体控）'!N11)","v":""},{"$f":"IF('保険料申告内訳名簿（一人親方団体控）'!O11=\"\",\"\",'保険料申告内訳名簿（一人親方団体控）'!O11)","v":""},{"$f":"IF('保険料申告内訳名簿（一人親方団体控）'!P11=\"\",\"\",'保険料申告内訳名簿（一人親方団体控）'!P11)","v":""},{"$f":"IF('保険料申告内訳名簿（一人親方団体控）'!Q11=\"\",\"\",'保険料申告内訳名簿（一人親方団体控）'!Q11)","v":""},{"$f":"IF('保険料申告内訳名簿（一人親方団体控）'!R11=\"\",\"\",'保険料申告内訳名簿（一人親方団体控）'!R11)","v":""},{"$f":"IF('保険料申告内訳名簿（一人親方団体控）'!S11=\"\",\"\",'保険料申告内訳名簿（一人親方団体控）'!S11)","v":0},{"$f":"IF('保険料申告内訳名簿（一人親方団体控）'!T11=\"\",\"\",'保険料申告内訳名簿（一人親方団体控）'!T11)","v":""},{"$f":"IF('保険料申告内訳名簿（一人親方団体控）'!U11=\"\",\"\",'保険料申告内訳名簿（一人親方団体控）'!U11)","v":""},{"$f":"IF('保険料申告内訳名簿（一人親方団体控）'!V11=\"\",\"\",'保険料申告内訳名簿（一人親方団体控）'!V11)","v":""},{"$f":"IF('保険料申告内訳名簿（一人親方団体控）'!W11=\"\",\"\",'保険料申告内訳名簿（一人親方団体控）'!W11)","v":""},{"$f":"IF('保険料申告内訳名簿（一人親方団体控）'!X11=\"\",\"\",'保険料申告内訳名簿（一人親方団体控）'!X11)","v":""},{"$f":"IF('保険料申告内訳名簿（一人親方団体控）'!Y11=\"\",\"\",'保険料申告内訳名簿（一人親方団体控）'!Y11)","v":""},{"$f":"IF('保険料申告内訳名簿（一人親方団体控）'!Z11=\"\",\"\",'保険料申告内訳名簿（一人親方団体控）'!Z11)","v":""},{"$f":"IF('保険料申告内訳名簿（一人親方団体控）'!AA11=\"\",\"\",'保険料申告内訳名簿（一人親方団体控）'!AA11)","v":""},{"$f":"IF('保険料申告内訳名簿（一人親方団体控）'!AB11=\"\",\"\",'保険料申告内訳名簿（一人親方団体控）'!AB11)","v":""},{"$f":"IF('保険料申告内訳名簿（一人親方団体控）'!AC11=\"\",\"\",'保険料申告内訳名簿（一人親方団体控）'!AC11)","v":0},{"$f":"IF('保険料申告内訳名簿（一人親方団体控）'!AD11=\"\",\"\",'保険料申告内訳名簿（一人親方団体控）'!AD11)","v":""},{"$f":"IF('保険料申告内訳名簿（一人親方団体控）'!AE11=\"\",\"\",'保険料申告内訳名簿（一人親方団体控）'!AE11)","v":""},{"$f":"IF('保険料申告内訳名簿（一人親方団体控）'!AF11=\"\",\"\",'保険料申告内訳名簿（一人親方団体控）'!AF11)","v":""},{"$f":"IF('保険料申告内訳名簿（一人親方団体控）'!AG11=\"\",\"\",'保険料申告内訳名簿（一人親方団体控）'!AG11)","v":""},{"$f":"IF('保険料申告内訳名簿（一人親方団体控）'!AH11=\"\",\"\",'保険料申告内訳名簿（一人親方団体控）'!AH11)","v":""}]
[null,{"$f":"IF('保険料申告内訳名簿（一人親方団体控）'!B12=\"\",\"\",'保険料申告内訳名簿（一人親方団体控）'!B12)","v":""},{"$f":"IF('保険料申告内訳名簿（一人親方団体控）'!C12=\"\",\"\",'保険料申告内訳名簿（一人親方団体控）'!C12)","v":""},{"$f":"IF('保険料申告内訳名簿（一人親方団体控）'!D12=\"\",\"\",'保険料申告内訳名簿（一人親方団体控）'!D12)","v":""},{"$f":"IF('保険料申告内訳名簿（一人親方団体控）'!E12=\"\",\"\",'保険料申告内訳名簿（一人親方団体控）'!E12)","v":""},{"$f":"IF('保険料申告内訳名簿（一人親方団体控）'!F12=\"\",\"\",'保険料申告内訳名簿（一人親方団体控）'!F12)","v":""},{"$f":"IF('保険料申告内訳名簿（一人親方団体控）'!G12=\"\",\"\",'保険料申告内訳名簿（一人親方団体控）'!G12)","v":""},{"$f":"IF('保険料申告内訳名簿（一人親方団体控）'!H12=\"\",\"\",'保険料申告内訳名簿（一人親方団体控）'!H12)","v":""},{"$f":"IF('保険料申告内訳名簿（一人親方団体控）'!I12=\"\",\"\",'保険料申告内訳名簿（一人親方団体控）'!I12)","v":""},{"$f":"IF('保険料申告内訳名簿（一人親方団体控）'!J12=\"\",\"\",'保険料申告内訳名簿（一人親方団体控）'!J12)","v":""},{"$f":"IF('保険料申告内訳名簿（一人親方団体控）'!K12=\"\",\"\",'保険料申告内訳名簿（一人親方団体控）'!K12)","v":""},{"$f":"IF('保険料申告内訳名簿（一人親方団体控）'!L12=\"\",\"\",'保険料申告内訳名簿（一人親方団体控）'!L12)","v":""},{"$f":"IF('保険料申告内訳名簿（一人親方団体控）'!M12=\"\",\"\",'保険料申告内訳名簿（一人親方団体控）'!M12)","v":""},{"$f":"IF('保険料申告内訳名簿（一人親方団体控）'!N12=\"\",\"\",'保険料申告内訳名簿（一人親方団体控）'!N12)","v":""},{"$f":"IF('保険料申告内訳名簿（一人親方団体控）'!O12=\"\",\"\",'保険料申告内訳名簿（一人親方団体控）'!O12)","v":""},{"$f":"IF('保険料申告内訳名簿（一人親方団体控）'!P12=\"\",\"\",'保険料申告内訳名簿（一人親方団体控）'!P12)","v":""},{"$f":"IF('保険料申告内訳名簿（一人親方団体控）'!Q12=\"\",\"\",'保険料申告内訳名簿（一人親方団体控）'!Q12)","v":""},{"$f":"IF('保険料申告内訳名簿（一人親方団体控）'!R12=\"\",\"\",'保険料申告内訳名簿（一人親方団体控）'!R12)","v":""},{"$f":"IF('保険料申告内訳名簿（一人親方団体控）'!S12=\"\",\"\",'保険料申告内訳名簿（一人親方団体控）'!S12)","v":0},{"$f":"IF('保険料申告内訳名簿（一人親方団体控）'!T12=\"\",\"\",'保険料申告内訳名簿（一人親方団体控）'!T12)","v":""},{"$f":"IF('保険料申告内訳名簿（一人親方団体控）'!U12=\"\",\"\",'保険料申告内訳名簿（一人親方団体控）'!U12)","v":""},{"$f":"IF('保険料申告内訳名簿（一人親方団体控）'!V12=\"\",\"\",'保険料申告内訳名簿（一人親方団体控）'!V12)","v":""},{"$f":"IF('保険料申告内訳名簿（一人親方団体控）'!W12=\"\",\"\",'保険料申告内訳名簿（一人親方団体控）'!W12)","v":""},{"$f":"IF('保険料申告内訳名簿（一人親方団体控）'!X12=\"\",\"\",'保険料申告内訳名簿（一人親方団体控）'!X12)","v":""},{"$f":"IF('保険料申告内訳名簿（一人親方団体控）'!Y12=\"\",\"\",'保険料申告内訳名簿（一人親方団体控）'!Y12)","v":""},{"$f":"IF('保険料申告内訳名簿（一人親方団体控）'!Z12=\"\",\"\",'保険料申告内訳名簿（一人親方団体控）'!Z12)","v":""},{"$f":"IF('保険料申告内訳名簿（一人親方団体控）'!AA12=\"\",\"\",'保険料申告内訳名簿（一人親方団体控）'!AA12)","v":""},{"$f":"IF('保険料申告内訳名簿（一人親方団体控）'!AB12=\"\",\"\",'保険料申告内訳名簿（一人親方団体控）'!AB12)","v":""},{"$f":"IF('保険料申告内訳名簿（一人親方団体控）'!AC12=\"\",\"\",'保険料申告内訳名簿（一人親方団体控）'!AC12)","v":0},{"$f":"IF('保険料申告内訳名簿（一人親方団体控）'!AD12=\"\",\"\",'保険料申告内訳名簿（一人親方団体控）'!AD12)","v":""},{"$f":"IF('保険料申告内訳名簿（一人親方団体控）'!AE12=\"\",\"\",'保険料申告内訳名簿（一人親方団体控）'!AE12)","v":""},{"$f":"IF('保険料申告内訳名簿（一人親方団体控）'!AF12=\"\",\"\",'保険料申告内訳名簿（一人親方団体控）'!AF12)","v":""},{"$f":"IF('保険料申告内訳名簿（一人親方団体控）'!AG12=\"\",\"\",'保険料申告内訳名簿（一人親方団体控）'!AG12)","v":""},{"$f":"IF('保険料申告内訳名簿（一人親方団体控）'!AH12=\"\",\"\",'保険料申告内訳名簿（一人親方団体控）'!AH12)","v":""}]
[null,{"$f":"IF('保険料申告内訳名簿（一人親方団体控）'!B13=\"\",\"\",'保険料申告内訳名簿（一人親方団体控）'!B13)","v":""},{"$f":"IF('保険料申告内訳名簿（一人親方団体控）'!C13=\"\",\"\",'保険料申告内訳名簿（一人親方団体控）'!C13)","v":""},{"$f":"IF('保険料申告内訳名簿（一人親方団体控）'!D13=\"\",\"\",'保険料申告内訳名簿（一人親方団体控）'!D13)","v":""},{"$f":"IF('保険料申告内訳名簿（一人親方団体控）'!E13=\"\",\"\",'保険料申告内訳名簿（一人親方団体控）'!E13)","v":""},{"$f":"IF('保険料申告内訳名簿（一人親方団体控）'!F13=\"\",\"\",'保険料申告内訳名簿（一人親方団体控）'!F13)","v":""},{"$f":"IF('保険料申告内訳名簿（一人親方団体控）'!G13=\"\",\"\",'保険料申告内訳名簿（一人親方団体控）'!G13)","v":""},{"$f":"IF('保険料申告内訳名簿（一人親方団体控）'!H13=\"\",\"\",'保険料申告内訳名簿（一人親方団体控）'!H13)","v":""},{"$f":"IF('保険料申告内訳名簿（一人親方団体控）'!I13=\"\",\"\",'保険料申告内訳名簿（一人親方団体控）'!I13)","v":""},{"$f":"IF('保険料申告内訳名簿（一人親方団体控）'!J13=\"\",\"\",'保険料申告内訳名簿（一人親方団体控）'!J13)","v":""},{"$f":"IF('保険料申告内訳名簿（一人親方団体控）'!K13=\"\",\"\",'保険料申告内訳名簿（一人親方団体控）'!K13)","v":""},{"$f":"IF('保険料申告内訳名簿（一人親方団体控）'!L13=\"\",\"\",'保険料申告内訳名簿（一人親方団体控）'!L13)","v":""},{"$f":"IF('保険料申告内訳名簿（一人親方団体控）'!M13=\"\",\"\",'保険料申告内訳名簿（一人親方団体控）'!M13)","v":""},{"$f":"IF('保険料申告内訳名簿（一人親方団体控）'!N13=\"\",\"\",'保険料申告内訳名簿（一人親方団体控）'!N13)","v":""},{"$f":"IF('保険料申告内訳名簿（一人親方団体控）'!O13=\"\",\"\",'保険料申告内訳名簿（一人親方団体控）'!O13)","v":""},{"$f":"IF('保険料申告内訳名簿（一人親方団体控）'!P13=\"\",\"\",'保険料申告内訳名簿（一人親方団体控）'!P13)","v":""},{"$f":"IF('保険料申告内訳名簿（一人親方団体控）'!Q13=\"\",\"\",'保険料申告内訳名簿（一人親方団体控）'!Q13)","v":""},{"$f":"IF('保険料申告内訳名簿（一人親方団体控）'!R13=\"\",\"\",'保険料申告内訳名簿（一人親方団体控）'!R13)","v":""},{"$f":"IF('保険料申告内訳名簿（一人親方団体控）'!S13=\"\",\"\",'保険料申告内訳名簿（一人親方団体控）'!S13)","v":0},{"$f":"IF('保険料申告内訳名簿（一人親方団体控）'!T13=\"\",\"\",'保険料申告内訳名簿（一人親方団体控）'!T13)","v":""},{"$f":"IF('保険料申告内訳名簿（一人親方団体控）'!U13=\"\",\"\",'保険料申告内訳名簿（一人親方団体控）'!U13)","v":""},{"$f":"IF('保険料申告内訳名簿（一人親方団体控）'!V13=\"\",\"\",'保険料申告内訳名簿（一人親方団体控）'!V13)","v":""},{"$f":"IF('保険料申告内訳名簿（一人親方団体控）'!W13=\"\",\"\",'保険料申告内訳名簿（一人親方団体控）'!W13)","v":""},{"$f":"IF('保険料申告内訳名簿（一人親方団体控）'!X13=\"\",\"\",'保険料申告内訳名簿（一人親方団体控）'!X13)","v":""},{"$f":"IF('保険料申告内訳名簿（一人親方団体控）'!Y13=\"\",\"\",'保険料申告内訳名簿（一人親方団体控）'!Y13)","v":""},{"$f":"IF('保険料申告内訳名簿（一人親方団体控）'!Z13=\"\",\"\",'保険料申告内訳名簿（一人親方団体控）'!Z13)","v":""},{"$f":"IF('保険料申告内訳名簿（一人親方団体控）'!AA13=\"\",\"\",'保険料申告内訳名簿（一人親方団体控）'!AA13)","v":""},{"$f":"IF('保険料申告内訳名簿（一人親方団体控）'!AB13=\"\",\"\",'保険料申告内訳名簿（一人親方団体控）'!AB13)","v":""},{"$f":"IF('保険料申告内訳名簿（一人親方団体控）'!AC13=\"\",\"\",'保険料申告内訳名簿（一人親方団体控）'!AC13)","v":0},{"$f":"IF('保険料申告内訳名簿（一人親方団体控）'!AD13=\"\",\"\",'保険料申告内訳名簿（一人親方団体控）'!AD13)","v":""},{"$f":"IF('保険料申告内訳名簿（一人親方団体控）'!AE13=\"\",\"\",'保険料申告内訳名簿（一人親方団体控）'!AE13)","v":""},{"$f":"IF('保険料申告内訳名簿（一人親方団体控）'!AF13=\"\",\"\",'保険料申告内訳名簿（一人親方団体控）'!AF13)","v":""},{"$f":"IF('保険料申告内訳名簿（一人親方団体控）'!AG13=\"\",\"\",'保険料申告内訳名簿（一人親方団体控）'!AG13)","v":""},{"$f":"IF('保険料申告内訳名簿（一人親方団体控）'!AH13=\"\",\"\",'保険料申告内訳名簿（一人親方団体控）'!AH13)","v":""}]
[null,{"$f":"IF('保険料申告内訳名簿（一人親方団体控）'!B14=\"\",\"\",'保険料申告内訳名簿（一人親方団体控）'!B14)","v":""},{"$f":"IF('保険料申告内訳名簿（一人親方団体控）'!C14=\"\",\"\",'保険料申告内訳名簿（一人親方団体控）'!C14)","v":""},{"$f":"IF('保険料申告内訳名簿（一人親方団体控）'!D14=\"\",\"\",'保険料申告内訳名簿（一人親方団体控）'!D14)","v":""},{"$f":"IF('保険料申告内訳名簿（一人親方団体控）'!E14=\"\",\"\",'保険料申告内訳名簿（一人親方団体控）'!E14)","v":""},{"$f":"IF('保険料申告内訳名簿（一人親方団体控）'!F14=\"\",\"\",'保険料申告内訳名簿（一人親方団体控）'!F14)","v":""},{"$f":"IF('保険料申告内訳名簿（一人親方団体控）'!G14=\"\",\"\",'保険料申告内訳名簿（一人親方団体控）'!G14)","v":""},{"$f":"IF('保険料申告内訳名簿（一人親方団体控）'!H14=\"\",\"\",'保険料申告内訳名簿（一人親方団体控）'!H14)","v":""},{"$f":"IF('保険料申告内訳名簿（一人親方団体控）'!I14=\"\",\"\",'保険料申告内訳名簿（一人親方団体控）'!I14)","v":""},{"$f":"IF('保険料申告内訳名簿（一人親方団体控）'!J14=\"\",\"\",'保険料申告内訳名簿（一人親方団体控）'!J14)","v":""},{"$f":"IF('保険料申告内訳名簿（一人親方団体控）'!K14=\"\",\"\",'保険料申告内訳名簿（一人親方団体控）'!K14)","v":""},{"$f":"IF('保険料申告内訳名簿（一人親方団体控）'!L14=\"\",\"\",'保険料申告内訳名簿（一人親方団体控）'!L14)","v":""},{"$f":"IF('保険料申告内訳名簿（一人親方団体控）'!M14=\"\",\"\",'保険料申告内訳名簿（一人親方団体控）'!M14)","v":""},{"$f":"IF('保険料申告内訳名簿（一人親方団体控）'!N14=\"\",\"\",'保険料申告内訳名簿（一人親方団体控）'!N14)","v":""},{"$f":"IF('保険料申告内訳名簿（一人親方団体控）'!O14=\"\",\"\",'保険料申告内訳名簿（一人親方団体控）'!O14)","v":""},{"$f":"IF('保険料申告内訳名簿（一人親方団体控）'!P14=\"\",\"\",'保険料申告内訳名簿（一人親方団体控）'!P14)","v":""},{"$f":"IF('保険料申告内訳名簿（一人親方団体控）'!Q14=\"\",\"\",'保険料申告内訳名簿（一人親方団体控）'!Q14)","v":""},{"$f":"IF('保険料申告内訳名簿（一人親方団体控）'!R14=\"\",\"\",'保険料申告内訳名簿（一人親方団体控）'!R14)","v":""},{"$f":"IF('保険料申告内訳名簿（一人親方団体控）'!S14=\"\",\"\",'保険料申告内訳名簿（一人親方団体控）'!S14)","v":0},{"$f":"IF('保険料申告内訳名簿（一人親方団体控）'!T14=\"\",\"\",'保険料申告内訳名簿（一人親方団体控）'!T14)","v":""},{"$f":"IF('保険料申告内訳名簿（一人親方団体控）'!U14=\"\",\"\",'保険料申告内訳名簿（一人親方団体控）'!U14)","v":""},{"$f":"IF('保険料申告内訳名簿（一人親方団体控）'!V14=\"\",\"\",'保険料申告内訳名簿（一人親方団体控）'!V14)","v":""},{"$f":"IF('保険料申告内訳名簿（一人親方団体控）'!W14=\"\",\"\",'保険料申告内訳名簿（一人親方団体控）'!W14)","v":""},{"$f":"IF('保険料申告内訳名簿（一人親方団体控）'!X14=\"\",\"\",'保険料申告内訳名簿（一人親方団体控）'!X14)","v":""},{"$f":"IF('保険料申告内訳名簿（一人親方団体控）'!Y14=\"\",\"\",'保険料申告内訳名簿（一人親方団体控）'!Y14)","v":""},{"$f":"IF('保険料申告内訳名簿（一人親方団体控）'!Z14=\"\",\"\",'保険料申告内訳名簿（一人親方団体控）'!Z14)","v":""},{"$f":"IF('保険料申告内訳名簿（一人親方団体控）'!AA14=\"\",\"\",'保険料申告内訳名簿（一人親方団体控）'!AA14)","v":""},{"$f":"IF('保険料申告内訳名簿（一人親方団体控）'!AB14=\"\",\"\",'保険料申告内訳名簿（一人親方団体控）'!AB14)","v":""},{"$f":"IF('保険料申告内訳名簿（一人親方団体控）'!AC14=\"\",\"\",'保険料申告内訳名簿（一人親方団体控）'!AC14)","v":0},{"$f":"IF('保険料申告内訳名簿（一人親方団体控）'!AD14=\"\",\"\",'保険料申告内訳名簿（一人親方団体控）'!AD14)","v":""},{"$f":"IF('保険料申告内訳名簿（一人親方団体控）'!AE14=\"\",\"\",'保険料申告内訳名簿（一人親方団体控）'!AE14)","v":""},{"$f":"IF('保険料申告内訳名簿（一人親方団体控）'!AF14=\"\",\"\",'保険料申告内訳名簿（一人親方団体控）'!AF14)","v":""},{"$f":"IF('保険料申告内訳名簿（一人親方団体控）'!AG14=\"\",\"\",'保険料申告内訳名簿（一人親方団体控）'!AG14)","v":""},{"$f":"IF('保険料申告内訳名簿（一人親方団体控）'!AH14=\"\",\"\",'保険料申告内訳名簿（一人親方団体控）'!AH14)","v":""}]
[null,{"$f":"IF('保険料申告内訳名簿（一人親方団体控）'!B15=\"\",\"\",'保険料申告内訳名簿（一人親方団体控）'!B15)","v":""},{"$f":"IF('保険料申告内訳名簿（一人親方団体控）'!C15=\"\",\"\",'保険料申告内訳名簿（一人親方団体控）'!C15)","v":""},{"$f":"IF('保険料申告内訳名簿（一人親方団体控）'!D15=\"\",\"\",'保険料申告内訳名簿（一人親方団体控）'!D15)","v":""},{"$f":"IF('保険料申告内訳名簿（一人親方団体控）'!E15=\"\",\"\",'保険料申告内訳名簿（一人親方団体控）'!E15)","v":""},{"$f":"IF('保険料申告内訳名簿（一人親方団体控）'!F15=\"\",\"\",'保険料申告内訳名簿（一人親方団体控）'!F15)","v":""},{"$f":"IF('保険料申告内訳名簿（一人親方団体控）'!G15=\"\",\"\",'保険料申告内訳名簿（一人親方団体控）'!G15)","v":""},{"$f":"IF('保険料申告内訳名簿（一人親方団体控）'!H15=\"\",\"\",'保険料申告内訳名簿（一人親方団体控）'!H15)","v":""},{"$f":"IF('保険料申告内訳名簿（一人親方団体控）'!I15=\"\",\"\",'保険料申告内訳名簿（一人親方団体控）'!I15)","v":""},{"$f":"IF('保険料申告内訳名簿（一人親方団体控）'!J15=\"\",\"\",'保険料申告内訳名簿（一人親方団体控）'!J15)","v":""},{"$f":"IF('保険料申告内訳名簿（一人親方団体控）'!K15=\"\",\"\",'保険料申告内訳名簿（一人親方団体控）'!K15)","v":""},{"$f":"IF('保険料申告内訳名簿（一人親方団体控）'!L15=\"\",\"\",'保険料申告内訳名簿（一人親方団体控）'!L15)","v":""},{"$f":"IF('保険料申告内訳名簿（一人親方団体控）'!M15=\"\",\"\",'保険料申告内訳名簿（一人親方団体控）'!M15)","v":""},{"$f":"IF('保険料申告内訳名簿（一人親方団体控）'!N15=\"\",\"\",'保険料申告内訳名簿（一人親方団体控）'!N15)","v":""},{"$f":"IF('保険料申告内訳名簿（一人親方団体控）'!O15=\"\",\"\",'保険料申告内訳名簿（一人親方団体控）'!O15)","v":""},{"$f":"IF('保険料申告内訳名簿（一人親方団体控）'!P15=\"\",\"\",'保険料申告内訳名簿（一人親方団体控）'!P15)","v":""},{"$f":"IF('保険料申告内訳名簿（一人親方団体控）'!Q15=\"\",\"\",'保険料申告内訳名簿（一人親方団体控）'!Q15)","v":""},{"$f":"IF('保険料申告内訳名簿（一人親方団体控）'!R15=\"\",\"\",'保険料申告内訳名簿（一人親方団体控）'!R15)","v":""},{"$f":"IF('保険料申告内訳名簿（一人親方団体控）'!S15=\"\",\"\",'保険料申告内訳名簿（一人親方団体控）'!S15)","v":0},{"$f":"IF('保険料申告内訳名簿（一人親方団体控）'!T15=\"\",\"\",'保険料申告内訳名簿（一人親方団体控）'!T15)","v":""},{"$f":"IF('保険料申告内訳名簿（一人親方団体控）'!U15=\"\",\"\",'保険料申告内訳名簿（一人親方団体控）'!U15)","v":""},{"$f":"IF('保険料申告内訳名簿（一人親方団体控）'!V15=\"\",\"\",'保険料申告内訳名簿（一人親方団体控）'!V15)","v":""},{"$f":"IF('保険料申告内訳名簿（一人親方団体控）'!W15=\"\",\"\",'保険料申告内訳名簿（一人親方団体控）'!W15)","v":""},{"$f":"IF('保険料申告内訳名簿（一人親方団体控）'!X15=\"\",\"\",'保険料申告内訳名簿（一人親方団体控）'!X15)","v":""},{"$f":"IF('保険料申告内訳名簿（一人親方団体控）'!Y15=\"\",\"\",'保険料申告内訳名簿（一人親方団体控）'!Y15)","v":""},{"$f":"IF('保険料申告内訳名簿（一人親方団体控）'!Z15=\"\",\"\",'保険料申告内訳名簿（一人親方団体控）'!Z15)","v":""},{"$f":"IF('保険料申告内訳名簿（一人親方団体控）'!AA15=\"\",\"\",'保険料申告内訳名簿（一人親方団体控）'!AA15)","v":""},{"$f":"IF('保険料申告内訳名簿（一人親方団体控）'!AB15=\"\",\"\",'保険料申告内訳名簿（一人親方団体控）'!AB15)","v":""},{"$f":"IF('保険料申告内訳名簿（一人親方団体控）'!AC15=\"\",\"\",'保険料申告内訳名簿（一人親方団体控）'!AC15)","v":0},{"$f":"IF('保険料申告内訳名簿（一人親方団体控）'!AD15=\"\",\"\",'保険料申告内訳名簿（一人親方団体控）'!AD15)","v":""},{"$f":"IF('保険料申告内訳名簿（一人親方団体控）'!AE15=\"\",\"\",'保険料申告内訳名簿（一人親方団体控）'!AE15)","v":""},{"$f":"IF('保険料申告内訳名簿（一人親方団体控）'!AF15=\"\",\"\",'保険料申告内訳名簿（一人親方団体控）'!AF15)","v":""},{"$f":"IF('保険料申告内訳名簿（一人親方団体控）'!AG15=\"\",\"\",'保険料申告内訳名簿（一人親方団体控）'!AG15)","v":""},{"$f":"IF('保険料申告内訳名簿（一人親方団体控）'!AH15=\"\",\"\",'保険料申告内訳名簿（一人親方団体控）'!AH15)","v":""}]
[null,{"$f":"IF('保険料申告内訳名簿（一人親方団体控）'!B16=\"\",\"\",'保険料申告内訳名簿（一人親方団体控）'!B16)","v":""},{"$f":"IF('保険料申告内訳名簿（一人親方団体控）'!C16=\"\",\"\",'保険料申告内訳名簿（一人親方団体控）'!C16)","v":""},{"$f":"IF('保険料申告内訳名簿（一人親方団体控）'!D16=\"\",\"\",'保険料申告内訳名簿（一人親方団体控）'!D16)","v":""},{"$f":"IF('保険料申告内訳名簿（一人親方団体控）'!E16=\"\",\"\",'保険料申告内訳名簿（一人親方団体控）'!E16)","v":""},{"$f":"IF('保険料申告内訳名簿（一人親方団体控）'!F16=\"\",\"\",'保険料申告内訳名簿（一人親方団体控）'!F16)","v":""},{"$f":"IF('保険料申告内訳名簿（一人親方団体控）'!G16=\"\",\"\",'保険料申告内訳名簿（一人親方団体控）'!G16)","v":""},{"$f":"IF('保険料申告内訳名簿（一人親方団体控）'!H16=\"\",\"\",'保険料申告内訳名簿（一人親方団体控）'!H16)","v":""},{"$f":"IF('保険料申告内訳名簿（一人親方団体控）'!I16=\"\",\"\",'保険料申告内訳名簿（一人親方団体控）'!I16)","v":""},{"$f":"IF('保険料申告内訳名簿（一人親方団体控）'!J16=\"\",\"\",'保険料申告内訳名簿（一人親方団体控）'!J16)","v":""},{"$f":"IF('保険料申告内訳名簿（一人親方団体控）'!K16=\"\",\"\",'保険料申告内訳名簿（一人親方団体控）'!K16)","v":""},{"$f":"IF('保険料申告内訳名簿（一人親方団体控）'!L16=\"\",\"\",'保険料申告内訳名簿（一人親方団体控）'!L16)","v":""},{"$f":"IF('保険料申告内訳名簿（一人親方団体控）'!M16=\"\",\"\",'保険料申告内訳名簿（一人親方団体控）'!M16)","v":""},{"$f":"IF('保険料申告内訳名簿（一人親方団体控）'!N16=\"\",\"\",'保険料申告内訳名簿（一人親方団体控）'!N16)","v":""},{"$f":"IF('保険料申告内訳名簿（一人親方団体控）'!O16=\"\",\"\",'保険料申告内訳名簿（一人親方団体控）'!O16)","v":""},{"$f":"IF('保険料申告内訳名簿（一人親方団体控）'!P16=\"\",\"\",'保険料申告内訳名簿（一人親方団体控）'!P16)","v":""},{"$f":"IF('保険料申告内訳名簿（一人親方団体控）'!Q16=\"\",\"\",'保険料申告内訳名簿（一人親方団体控）'!Q16)","v":""},{"$f":"IF('保険料申告内訳名簿（一人親方団体控）'!R16=\"\",\"\",'保険料申告内訳名簿（一人親方団体控）'!R16)","v":""},{"$f":"IF('保険料申告内訳名簿（一人親方団体控）'!S16=\"\",\"\",'保険料申告内訳名簿（一人親方団体控）'!S16)","v":0},{"$f":"IF('保険料申告内訳名簿（一人親方団体控）'!T16=\"\",\"\",'保険料申告内訳名簿（一人親方団体控）'!T16)","v":""},{"$f":"IF('保険料申告内訳名簿（一人親方団体控）'!U16=\"\",\"\",'保険料申告内訳名簿（一人親方団体控）'!U16)","v":""},{"$f":"IF('保険料申告内訳名簿（一人親方団体控）'!V16=\"\",\"\",'保険料申告内訳名簿（一人親方団体控）'!V16)","v":""},{"$f":"IF('保険料申告内訳名簿（一人親方団体控）'!W16=\"\",\"\",'保険料申告内訳名簿（一人親方団体控）'!W16)","v":""},{"$f":"IF('保険料申告内訳名簿（一人親方団体控）'!X16=\"\",\"\",'保険料申告内訳名簿（一人親方団体控）'!X16)","v":""},{"$f":"IF('保険料申告内訳名簿（一人親方団体控）'!Y16=\"\",\"\",'保険料申告内訳名簿（一人親方団体控）'!Y16)","v":""},{"$f":"IF('保険料申告内訳名簿（一人親方団体控）'!Z16=\"\",\"\",'保険料申告内訳名簿（一人親方団体控）'!Z16)","v":""},{"$f":"IF('保険料申告内訳名簿（一人親方団体控）'!AA16=\"\",\"\",'保険料申告内訳名簿（一人親方団体控）'!AA16)","v":""},{"$f":"IF('保険料申告内訳名簿（一人親方団体控）'!AB16=\"\",\"\",'保険料申告内訳名簿（一人親方団体控）'!AB16)","v":""},{"$f":"IF('保険料申告内訳名簿（一人親方団体控）'!AC16=\"\",\"\",'保険料申告内訳名簿（一人親方団体控）'!AC16)","v":0},{"$f":"IF('保険料申告内訳名簿（一人親方団体控）'!AD16=\"\",\"\",'保険料申告内訳名簿（一人親方団体控）'!AD16)","v":""},{"$f":"IF('保険料申告内訳名簿（一人親方団体控）'!AE16=\"\",\"\",'保険料申告内訳名簿（一人親方団体控）'!AE16)","v":""},{"$f":"IF('保険料申告内訳名簿（一人親方団体控）'!AF16=\"\",\"\",'保険料申告内訳名簿（一人親方団体控）'!AF16)","v":""},{"$f":"IF('保険料申告内訳名簿（一人親方団体控）'!AG16=\"\",\"\",'保険料申告内訳名簿（一人親方団体控）'!AG16)","v":""},{"$f":"IF('保険料申告内訳名簿（一人親方団体控）'!AH16=\"\",\"\",'保険料申告内訳名簿（一人親方団体控）'!AH16)","v":""}]
[null,{"$f":"IF('保険料申告内訳名簿（一人親方団体控）'!B17=\"\",\"\",'保険料申告内訳名簿（一人親方団体控）'!B17)","v":""},{"$f":"IF('保険料申告内訳名簿（一人親方団体控）'!C17=\"\",\"\",'保険料申告内訳名簿（一人親方団体控）'!C17)","v":""},{"$f":"IF('保険料申告内訳名簿（一人親方団体控）'!D17=\"\",\"\",'保険料申告内訳名簿（一人親方団体控）'!D17)","v":""},{"$f":"IF('保険料申告内訳名簿（一人親方団体控）'!E17=\"\",\"\",'保険料申告内訳名簿（一人親方団体控）'!E17)","v":""},{"$f":"IF('保険料申告内訳名簿（一人親方団体控）'!F17=\"\",\"\",'保険料申告内訳名簿（一人親方団体控）'!F17)","v":""},{"$f":"IF('保険料申告内訳名簿（一人親方団体控）'!G17=\"\",\"\",'保険料申告内訳名簿（一人親方団体控）'!G17)","v":""},{"$f":"IF('保険料申告内訳名簿（一人親方団体控）'!H17=\"\",\"\",'保険料申告内訳名簿（一人親方団体控）'!H17)","v":""},{"$f":"IF('保険料申告内訳名簿（一人親方団体控）'!I17=\"\",\"\",'保険料申告内訳名簿（一人親方団体控）'!I17)","v":""},{"$f":"IF('保険料申告内訳名簿（一人親方団体控）'!J17=\"\",\"\",'保険料申告内訳名簿（一人親方団体控）'!J17)","v":""},{"$f":"IF('保険料申告内訳名簿（一人親方団体控）'!K17=\"\",\"\",'保険料申告内訳名簿（一人親方団体控）'!K17)","v":""},{"$f":"IF('保険料申告内訳名簿（一人親方団体控）'!L17=\"\",\"\",'保険料申告内訳名簿（一人親方団体控）'!L17)","v":""},{"$f":"IF('保険料申告内訳名簿（一人親方団体控）'!M17=\"\",\"\",'保険料申告内訳名簿（一人親方団体控）'!M17)","v":""},{"$f":"IF('保険料申告内訳名簿（一人親方団体控）'!N17=\"\",\"\",'保険料申告内訳名簿（一人親方団体控）'!N17)","v":""},{"$f":"IF('保険料申告内訳名簿（一人親方団体控）'!O17=\"\",\"\",'保険料申告内訳名簿（一人親方団体控）'!O17)","v":""},{"$f":"IF('保険料申告内訳名簿（一人親方団体控）'!P17=\"\",\"\",'保険料申告内訳名簿（一人親方団体控）'!P17)","v":""},{"$f":"IF('保険料申告内訳名簿（一人親方団体控）'!Q17=\"\",\"\",'保険料申告内訳名簿（一人親方団体控）'!Q17)","v":""},{"$f":"IF('保険料申告内訳名簿（一人親方団体控）'!R17=\"\",\"\",'保険料申告内訳名簿（一人親方団体控）'!R17)","v":""},{"$f":"IF('保険料申告内訳名簿（一人親方団体控）'!S17=\"\",\"\",'保険料申告内訳名簿（一人親方団体控）'!S17)","v":0},{"$f":"IF('保険料申告内訳名簿（一人親方団体控）'!T17=\"\",\"\",'保険料申告内訳名簿（一人親方団体控）'!T17)","v":""},{"$f":"IF('保険料申告内訳名簿（一人親方団体控）'!U17=\"\",\"\",'保険料申告内訳名簿（一人親方団体控）'!U17)","v":""},{"$f":"IF('保険料申告内訳名簿（一人親方団体控）'!V17=\"\",\"\",'保険料申告内訳名簿（一人親方団体控）'!V17)","v":""},{"$f":"IF('保険料申告内訳名簿（一人親方団体控）'!W17=\"\",\"\",'保険料申告内訳名簿（一人親方団体控）'!W17)","v":""},{"$f":"IF('保険料申告内訳名簿（一人親方団体控）'!X17=\"\",\"\",'保険料申告内訳名簿（一人親方団体控）'!X17)","v":""},{"$f":"IF('保険料申告内訳名簿（一人親方団体控）'!Y17=\"\",\"\",'保険料申告内訳名簿（一人親方団体控）'!Y17)","v":""},{"$f":"IF('保険料申告内訳名簿（一人親方団体控）'!Z17=\"\",\"\",'保険料申告内訳名簿（一人親方団体控）'!Z17)","v":""},{"$f":"IF('保険料申告内訳名簿（一人親方団体控）'!AA17=\"\",\"\",'保険料申告内訳名簿（一人親方団体控）'!AA17)","v":""},{"$f":"IF('保険料申告内訳名簿（一人親方団体控）'!AB17=\"\",\"\",'保険料申告内訳名簿（一人親方団体控）'!AB17)","v":""},{"$f":"IF('保険料申告内訳名簿（一人親方団体控）'!AC17=\"\",\"\",'保険料申告内訳名簿（一人親方団体控）'!AC17)","v":0},{"$f":"IF('保険料申告内訳名簿（一人親方団体控）'!AD17=\"\",\"\",'保険料申告内訳名簿（一人親方団体控）'!AD17)","v":""},{"$f":"IF('保険料申告内訳名簿（一人親方団体控）'!AE17=\"\",\"\",'保険料申告内訳名簿（一人親方団体控）'!AE17)","v":""},{"$f":"IF('保険料申告内訳名簿（一人親方団体控）'!AF17=\"\",\"\",'保険料申告内訳名簿（一人親方団体控）'!AF17)","v":""},{"$f":"IF('保険料申告内訳名簿（一人親方団体控）'!AG17=\"\",\"\",'保険料申告内訳名簿（一人親方団体控）'!AG17)","v":""},{"$f":"IF('保険料申告内訳名簿（一人親方団体控）'!AH17=\"\",\"\",'保険料申告内訳名簿（一人親方団体控）'!AH17)","v":""}]
[null,{"$f":"IF('保険料申告内訳名簿（一人親方団体控）'!B18=\"\",\"\",'保険料申告内訳名簿（一人親方団体控）'!B18)","v":""},{"$f":"IF('保険料申告内訳名簿（一人親方団体控）'!C18=\"\",\"\",'保険料申告内訳名簿（一人親方団体控）'!C18)","v":""},{"$f":"IF('保険料申告内訳名簿（一人親方団体控）'!D18=\"\",\"\",'保険料申告内訳名簿（一人親方団体控）'!D18)","v":""},{"$f":"IF('保険料申告内訳名簿（一人親方団体控）'!E18=\"\",\"\",'保険料申告内訳名簿（一人親方団体控）'!E18)","v":""},{"$f":"IF('保険料申告内訳名簿（一人親方団体控）'!F18=\"\",\"\",'保険料申告内訳名簿（一人親方団体控）'!F18)","v":""},{"$f":"IF('保険料申告内訳名簿（一人親方団体控）'!G18=\"\",\"\",'保険料申告内訳名簿（一人親方団体控）'!G18)","v":""},{"$f":"IF('保険料申告内訳名簿（一人親方団体控）'!H18=\"\",\"\",'保険料申告内訳名簿（一人親方団体控）'!H18)","v":""},{"$f":"IF('保険料申告内訳名簿（一人親方団体控）'!I18=\"\",\"\",'保険料申告内訳名簿（一人親方団体控）'!I18)","v":""},{"$f":"IF('保険料申告内訳名簿（一人親方団体控）'!J18=\"\",\"\",'保険料申告内訳名簿（一人親方団体控）'!J18)","v":""},{"$f":"IF('保険料申告内訳名簿（一人親方団体控）'!K18=\"\",\"\",'保険料申告内訳名簿（一人親方団体控）'!K18)","v":""},{"$f":"IF('保険料申告内訳名簿（一人親方団体控）'!L18=\"\",\"\",'保険料申告内訳名簿（一人親方団体控）'!L18)","v":""},{"$f":"IF('保険料申告内訳名簿（一人親方団体控）'!M18=\"\",\"\",'保険料申告内訳名簿（一人親方団体控）'!M18)","v":""},{"$f":"IF('保険料申告内訳名簿（一人親方団体控）'!N18=\"\",\"\",'保険料申告内訳名簿（一人親方団体控）'!N18)","v":""},{"$f":"IF('保険料申告内訳名簿（一人親方団体控）'!O18=\"\",\"\",'保険料申告内訳名簿（一人親方団体控）'!O18)","v":""},{"$f":"IF('保険料申告内訳名簿（一人親方団体控）'!P18=\"\",\"\",'保険料申告内訳名簿（一人親方団体控）'!P18)","v":""},{"$f":"IF('保険料申告内訳名簿（一人親方団体控）'!Q18=\"\",\"\",'保険料申告内訳名簿（一人親方団体控）'!Q18)","v":""},{"$f":"IF('保険料申告内訳名簿（一人親方団体控）'!R18=\"\",\"\",'保険料申告内訳名簿（一人親方団体控）'!R18)","v":""},{"$f":"IF('保険料申告内訳名簿（一人親方団体控）'!S18=\"\",\"\",'保険料申告内訳名簿（一人親方団体控）'!S18)","v":0},{"$f":"IF('保険料申告内訳名簿（一人親方団体控）'!T18=\"\",\"\",'保険料申告内訳名簿（一人親方団体控）'!T18)","v":""},{"$f":"IF('保険料申告内訳名簿（一人親方団体控）'!U18=\"\",\"\",'保険料申告内訳名簿（一人親方団体控）'!U18)","v":""},{"$f":"IF('保険料申告内訳名簿（一人親方団体控）'!V18=\"\",\"\",'保険料申告内訳名簿（一人親方団体控）'!V18)","v":""},{"$f":"IF('保険料申告内訳名簿（一人親方団体控）'!W18=\"\",\"\",'保険料申告内訳名簿（一人親方団体控）'!W18)","v":""},{"$f":"IF('保険料申告内訳名簿（一人親方団体控）'!X18=\"\",\"\",'保険料申告内訳名簿（一人親方団体控）'!X18)","v":""},{"$f":"IF('保険料申告内訳名簿（一人親方団体控）'!Y18=\"\",\"\",'保険料申告内訳名簿（一人親方団体控）'!Y18)","v":""},{"$f":"IF('保険料申告内訳名簿（一人親方団体控）'!Z18=\"\",\"\",'保険料申告内訳名簿（一人親方団体控）'!Z18)","v":""},{"$f":"IF('保険料申告内訳名簿（一人親方団体控）'!AA18=\"\",\"\",'保険料申告内訳名簿（一人親方団体控）'!AA18)","v":""},{"$f":"IF('保険料申告内訳名簿（一人親方団体控）'!AB18=\"\",\"\",'保険料申告内訳名簿（一人親方団体控）'!AB18)","v":""},{"$f":"IF('保険料申告内訳名簿（一人親方団体控）'!AC18=\"\",\"\",'保険料申告内訳名簿（一人親方団体控）'!AC18)","v":0},{"$f":"IF('保険料申告内訳名簿（一人親方団体控）'!AD18=\"\",\"\",'保険料申告内訳名簿（一人親方団体控）'!AD18)","v":""},{"$f":"IF('保険料申告内訳名簿（一人親方団体控）'!AE18=\"\",\"\",'保険料申告内訳名簿（一人親方団体控）'!AE18)","v":""},{"$f":"IF('保険料申告内訳名簿（一人親方団体控）'!AF18=\"\",\"\",'保険料申告内訳名簿（一人親方団体控）'!AF18)","v":""},{"$f":"IF('保険料申告内訳名簿（一人親方団体控）'!AG18=\"\",\"\",'保険料申告内訳名簿（一人親方団体控）'!AG18)","v":""},{"$f":"IF('保険料申告内訳名簿（一人親方団体控）'!AH18=\"\",\"\",'保険料申告内訳名簿（一人親方団体控）'!AH18)","v":""}]
[null,{"$f":"IF('保険料申告内訳名簿（一人親方団体控）'!B19=\"\",\"\",'保険料申告内訳名簿（一人親方団体控）'!B19)","v":""},{"$f":"IF('保険料申告内訳名簿（一人親方団体控）'!C19=\"\",\"\",'保険料申告内訳名簿（一人親方団体控）'!C19)","v":""},{"$f":"IF('保険料申告内訳名簿（一人親方団体控）'!D19=\"\",\"\",'保険料申告内訳名簿（一人親方団体控）'!D19)","v":""},{"$f":"IF('保険料申告内訳名簿（一人親方団体控）'!E19=\"\",\"\",'保険料申告内訳名簿（一人親方団体控）'!E19)","v":""},{"$f":"IF('保険料申告内訳名簿（一人親方団体控）'!F19=\"\",\"\",'保険料申告内訳名簿（一人親方団体控）'!F19)","v":""},{"$f":"IF('保険料申告内訳名簿（一人親方団体控）'!G19=\"\",\"\",'保険料申告内訳名簿（一人親方団体控）'!G19)","v":""},{"$f":"IF('保険料申告内訳名簿（一人親方団体控）'!H19=\"\",\"\",'保険料申告内訳名簿（一人親方団体控）'!H19)","v":""},{"$f":"IF('保険料申告内訳名簿（一人親方団体控）'!I19=\"\",\"\",'保険料申告内訳名簿（一人親方団体控）'!I19)","v":""},{"$f":"IF('保険料申告内訳名簿（一人親方団体控）'!J19=\"\",\"\",'保険料申告内訳名簿（一人親方団体控）'!J19)","v":""},{"$f":"IF('保険料申告内訳名簿（一人親方団体控）'!K19=\"\",\"\",'保険料申告内訳名簿（一人親方団体控）'!K19)","v":""},{"$f":"IF('保険料申告内訳名簿（一人親方団体控）'!L19=\"\",\"\",'保険料申告内訳名簿（一人親方団体控）'!L19)","v":""},{"$f":"IF('保険料申告内訳名簿（一人親方団体控）'!M19=\"\",\"\",'保険料申告内訳名簿（一人親方団体控）'!M19)","v":""},{"$f":"IF('保険料申告内訳名簿（一人親方団体控）'!N19=\"\",\"\",'保険料申告内訳名簿（一人親方団体控）'!N19)","v":""},{"$f":"IF('保険料申告内訳名簿（一人親方団体控）'!O19=\"\",\"\",'保険料申告内訳名簿（一人親方団体控）'!O19)","v":""},{"$f":"IF('保険料申告内訳名簿（一人親方団体控）'!P19=\"\",\"\",'保険料申告内訳名簿（一人親方団体控）'!P19)","v":""},{"$f":"IF('保険料申告内訳名簿（一人親方団体控）'!Q19=\"\",\"\",'保険料申告内訳名簿（一人親方団体控）'!Q19)","v":""},{"$f":"IF('保険料申告内訳名簿（一人親方団体控）'!R19=\"\",\"\",'保険料申告内訳名簿（一人親方団体控）'!R19)","v":""},{"$f":"IF('保険料申告内訳名簿（一人親方団体控）'!S19=\"\",\"\",'保険料申告内訳名簿（一人親方団体控）'!S19)","v":0},{"$f":"IF('保険料申告内訳名簿（一人親方団体控）'!T19=\"\",\"\",'保険料申告内訳名簿（一人親方団体控）'!T19)","v":""},{"$f":"IF('保険料申告内訳名簿（一人親方団体控）'!U19=\"\",\"\",'保険料申告内訳名簿（一人親方団体控）'!U19)","v":""},{"$f":"IF('保険料申告内訳名簿（一人親方団体控）'!V19=\"\",\"\",'保険料申告内訳名簿（一人親方団体控）'!V19)","v":""},{"$f":"IF('保険料申告内訳名簿（一人親方団体控）'!W19=\"\",\"\",'保険料申告内訳名簿（一人親方団体控）'!W19)","v":""},{"$f":"IF('保険料申告内訳名簿（一人親方団体控）'!X19=\"\",\"\",'保険料申告内訳名簿（一人親方団体控）'!X19)","v":""},{"$f":"IF('保険料申告内訳名簿（一人親方団体控）'!Y19=\"\",\"\",'保険料申告内訳名簿（一人親方団体控）'!Y19)","v":""},{"$f":"IF('保険料申告内訳名簿（一人親方団体控）'!Z19=\"\",\"\",'保険料申告内訳名簿（一人親方団体控）'!Z19)","v":""},{"$f":"IF('保険料申告内訳名簿（一人親方団体控）'!AA19=\"\",\"\",'保険料申告内訳名簿（一人親方団体控）'!AA19)","v":""},{"$f":"IF('保険料申告内訳名簿（一人親方団体控）'!AB19=\"\",\"\",'保険料申告内訳名簿（一人親方団体控）'!AB19)","v":""},{"$f":"IF('保険料申告内訳名簿（一人親方団体控）'!AC19=\"\",\"\",'保険料申告内訳名簿（一人親方団体控）'!AC19)","v":0},{"$f":"IF('保険料申告内訳名簿（一人親方団体控）'!AD19=\"\",\"\",'保険料申告内訳名簿（一人親方団体控）'!AD19)","v":""},{"$f":"IF('保険料申告内訳名簿（一人親方団体控）'!AE19=\"\",\"\",'保険料申告内訳名簿（一人親方団体控）'!AE19)","v":""},{"$f":"IF('保険料申告内訳名簿（一人親方団体控）'!AF19=\"\",\"\",'保険料申告内訳名簿（一人親方団体控）'!AF19)","v":""},{"$f":"IF('保険料申告内訳名簿（一人親方団体控）'!AG19=\"\",\"\",'保険料申告内訳名簿（一人親方団体控）'!AG19)","v":""},{"$f":"IF('保険料申告内訳名簿（一人親方団体控）'!AH19=\"\",\"\",'保険料申告内訳名簿（一人親方団体控）'!AH19)","v":""}]
[null,{"$f":"IF('保険料申告内訳名簿（一人親方団体控）'!B20=\"\",\"\",'保険料申告内訳名簿（一人親方団体控）'!B20)","v":""},{"$f":"IF('保険料申告内訳名簿（一人親方団体控）'!C20=\"\",\"\",'保険料申告内訳名簿（一人親方団体控）'!C20)","v":""},{"$f":"IF('保険料申告内訳名簿（一人親方団体控）'!D20=\"\",\"\",'保険料申告内訳名簿（一人親方団体控）'!D20)","v":""},{"$f":"IF('保険料申告内訳名簿（一人親方団体控）'!E20=\"\",\"\",'保険料申告内訳名簿（一人親方団体控）'!E20)","v":""},{"$f":"IF('保険料申告内訳名簿（一人親方団体控）'!F20=\"\",\"\",'保険料申告内訳名簿（一人親方団体控）'!F20)","v":""},{"$f":"IF('保険料申告内訳名簿（一人親方団体控）'!G20=\"\",\"\",'保険料申告内訳名簿（一人親方団体控）'!G20)","v":""},{"$f":"IF('保険料申告内訳名簿（一人親方団体控）'!H20=\"\",\"\",'保険料申告内訳名簿（一人親方団体控）'!H20)","v":""},{"$f":"IF('保険料申告内訳名簿（一人親方団体控）'!I20=\"\",\"\",'保険料申告内訳名簿（一人親方団体控）'!I20)","v":""},{"$f":"IF('保険料申告内訳名簿（一人親方団体控）'!J20=\"\",\"\",'保険料申告内訳名簿（一人親方団体控）'!J20)","v":""},{"$f":"IF('保険料申告内訳名簿（一人親方団体控）'!K20=\"\",\"\",'保険料申告内訳名簿（一人親方団体控）'!K20)","v":""},{"$f":"IF('保険料申告内訳名簿（一人親方団体控）'!L20=\"\",\"\",'保険料申告内訳名簿（一人親方団体控）'!L20)","v":""},{"$f":"IF('保険料申告内訳名簿（一人親方団体控）'!M20=\"\",\"\",'保険料申告内訳名簿（一人親方団体控）'!M20)","v":""},{"$f":"IF('保険料申告内訳名簿（一人親方団体控）'!N20=\"\",\"\",'保険料申告内訳名簿（一人親方団体控）'!N20)","v":""},{"$f":"IF('保険料申告内訳名簿（一人親方団体控）'!O20=\"\",\"\",'保険料申告内訳名簿（一人親方団体控）'!O20)","v":""},{"$f":"IF('保険料申告内訳名簿（一人親方団体控）'!P20=\"\",\"\",'保険料申告内訳名簿（一人親方団体控）'!P20)","v":""},{"$f":"IF('保険料申告内訳名簿（一人親方団体控）'!Q20=\"\",\"\",'保険料申告内訳名簿（一人親方団体控）'!Q20)","v":""},{"$f":"IF('保険料申告内訳名簿（一人親方団体控）'!R20=\"\",\"\",'保険料申告内訳名簿（一人親方団体控）'!R20)","v":""},{"$f":"IF('保険料申告内訳名簿（一人親方団体控）'!S20=\"\",\"\",'保険料申告内訳名簿（一人親方団体控）'!S20)","v":0},{"$f":"IF('保険料申告内訳名簿（一人親方団体控）'!T20=\"\",\"\",'保険料申告内訳名簿（一人親方団体控）'!T20)","v":""},{"$f":"IF('保険料申告内訳名簿（一人親方団体控）'!U20=\"\",\"\",'保険料申告内訳名簿（一人親方団体控）'!U20)","v":""},{"$f":"IF('保険料申告内訳名簿（一人親方団体控）'!V20=\"\",\"\",'保険料申告内訳名簿（一人親方団体控）'!V20)","v":""},{"$f":"IF('保険料申告内訳名簿（一人親方団体控）'!W20=\"\",\"\",'保険料申告内訳名簿（一人親方団体控）'!W20)","v":""},{"$f":"IF('保険料申告内訳名簿（一人親方団体控）'!X20=\"\",\"\",'保険料申告内訳名簿（一人親方団体控）'!X20)","v":""},{"$f":"IF('保険料申告内訳名簿（一人親方団体控）'!Y20=\"\",\"\",'保険料申告内訳名簿（一人親方団体控）'!Y20)","v":""},{"$f":"IF('保険料申告内訳名簿（一人親方団体控）'!Z20=\"\",\"\",'保険料申告内訳名簿（一人親方団体控）'!Z20)","v":""},{"$f":"IF('保険料申告内訳名簿（一人親方団体控）'!AA20=\"\",\"\",'保険料申告内訳名簿（一人親方団体控）'!AA20)","v":""},{"$f":"IF('保険料申告内訳名簿（一人親方団体控）'!AB20=\"\",\"\",'保険料申告内訳名簿（一人親方団体控）'!AB20)","v":""},{"$f":"IF('保険料申告内訳名簿（一人親方団体控）'!AC20=\"\",\"\",'保険料申告内訳名簿（一人親方団体控）'!AC20)","v":0},{"$f":"IF('保険料申告内訳名簿（一人親方団体控）'!AD20=\"\",\"\",'保険料申告内訳名簿（一人親方団体控）'!AD20)","v":""},{"$f":"IF('保険料申告内訳名簿（一人親方団体控）'!AE20=\"\",\"\",'保険料申告内訳名簿（一人親方団体控）'!AE20)","v":""},{"$f":"IF('保険料申告内訳名簿（一人親方団体控）'!AF20=\"\",\"\",'保険料申告内訳名簿（一人親方団体控）'!AF20)","v":""},{"$f":"IF('保険料申告内訳名簿（一人親方団体控）'!AG20=\"\",\"\",'保険料申告内訳名簿（一人親方団体控）'!AG20)","v":""},{"$f":"IF('保険料申告内訳名簿（一人親方団体控）'!AH20=\"\",\"\",'保険料申告内訳名簿（一人親方団体控）'!AH20)","v":""}]
[null,{"$f":"IF('保険料申告内訳名簿（一人親方団体控）'!B21=\"\",\"\",'保険料申告内訳名簿（一人親方団体控）'!B21)","v":""},{"$f":"IF('保険料申告内訳名簿（一人親方団体控）'!C21=\"\",\"\",'保険料申告内訳名簿（一人親方団体控）'!C21)","v":""},{"$f":"IF('保険料申告内訳名簿（一人親方団体控）'!D21=\"\",\"\",'保険料申告内訳名簿（一人親方団体控）'!D21)","v":""},{"$f":"IF('保険料申告内訳名簿（一人親方団体控）'!E21=\"\",\"\",'保険料申告内訳名簿（一人親方団体控）'!E21)","v":""},{"$f":"IF('保険料申告内訳名簿（一人親方団体控）'!F21=\"\",\"\",'保険料申告内訳名簿（一人親方団体控）'!F21)","v":""},{"$f":"IF('保険料申告内訳名簿（一人親方団体控）'!G21=\"\",\"\",'保険料申告内訳名簿（一人親方団体控）'!G21)","v":""},{"$f":"IF('保険料申告内訳名簿（一人親方団体控）'!H21=\"\",\"\",'保険料申告内訳名簿（一人親方団体控）'!H21)","v":""},{"$f":"IF('保険料申告内訳名簿（一人親方団体控）'!I21=\"\",\"\",'保険料申告内訳名簿（一人親方団体控）'!I21)","v":""},{"$f":"IF('保険料申告内訳名簿（一人親方団体控）'!J21=\"\",\"\",'保険料申告内訳名簿（一人親方団体控）'!J21)","v":""},{"$f":"IF('保険料申告内訳名簿（一人親方団体控）'!K21=\"\",\"\",'保険料申告内訳名簿（一人親方団体控）'!K21)","v":""},{"$f":"IF('保険料申告内訳名簿（一人親方団体控）'!L21=\"\",\"\",'保険料申告内訳名簿（一人親方団体控）'!L21)","v":""},{"$f":"IF('保険料申告内訳名簿（一人親方団体控）'!M21=\"\",\"\",'保険料申告内訳名簿（一人親方団体控）'!M21)","v":""},{"$f":"IF('保険料申告内訳名簿（一人親方団体控）'!N21=\"\",\"\",'保険料申告内訳名簿（一人親方団体控）'!N21)","v":""},{"$f":"IF('保険料申告内訳名簿（一人親方団体控）'!O21=\"\",\"\",'保険料申告内訳名簿（一人親方団体控）'!O21)","v":""},{"$f":"IF('保険料申告内訳名簿（一人親方団体控）'!P21=\"\",\"\",'保険料申告内訳名簿（一人親方団体控）'!P21)","v":""},{"$f":"IF('保険料申告内訳名簿（一人親方団体控）'!Q21=\"\",\"\",'保険料申告内訳名簿（一人親方団体控）'!Q21)","v":""},{"$f":"IF('保険料申告内訳名簿（一人親方団体控）'!R21=\"\",\"\",'保険料申告内訳名簿（一人親方団体控）'!R21)","v":""},{"$f":"IF('保険料申告内訳名簿（一人親方団体控）'!S21=\"\",\"\",'保険料申告内訳名簿（一人親方団体控）'!S21)","v":0},{"$f":"IF('保険料申告内訳名簿（一人親方団体控）'!T21=\"\",\"\",'保険料申告内訳名簿（一人親方団体控）'!T21)","v":""},{"$f":"IF('保険料申告内訳名簿（一人親方団体控）'!U21=\"\",\"\",'保険料申告内訳名簿（一人親方団体控）'!U21)","v":""},{"$f":"IF('保険料申告内訳名簿（一人親方団体控）'!V21=\"\",\"\",'保険料申告内訳名簿（一人親方団体控）'!V21)","v":""},{"$f":"IF('保険料申告内訳名簿（一人親方団体控）'!W21=\"\",\"\",'保険料申告内訳名簿（一人親方団体控）'!W21)","v":""},{"$f":"IF('保険料申告内訳名簿（一人親方団体控）'!X21=\"\",\"\",'保険料申告内訳名簿（一人親方団体控）'!X21)","v":""},{"$f":"IF('保険料申告内訳名簿（一人親方団体控）'!Y21=\"\",\"\",'保険料申告内訳名簿（一人親方団体控）'!Y21)","v":""},{"$f":"IF('保険料申告内訳名簿（一人親方団体控）'!Z21=\"\",\"\",'保険料申告内訳名簿（一人親方団体控）'!Z21)","v":""},{"$f":"IF('保険料申告内訳名簿（一人親方団体控）'!AA21=\"\",\"\",'保険料申告内訳名簿（一人親方団体控）'!AA21)","v":""},{"$f":"IF('保険料申告内訳名簿（一人親方団体控）'!AB21=\"\",\"\",'保険料申告内訳名簿（一人親方団体控）'!AB21)","v":""},{"$f":"IF('保険料申告内訳名簿（一人親方団体控）'!AC21=\"\",\"\",'保険料申告内訳名簿（一人親方団体控）'!AC21)","v":0},{"$f":"IF('保険料申告内訳名簿（一人親方団体控）'!AD21=\"\",\"\",'保険料申告内訳名簿（一人親方団体控）'!AD21)","v":""},{"$f":"IF('保険料申告内訳名簿（一人親方団体控）'!AE21=\"\",\"\",'保険料申告内訳名簿（一人親方団体控）'!AE21)","v":""},{"$f":"IF('保険料申告内訳名簿（一人親方団体控）'!AF21=\"\",\"\",'保険料申告内訳名簿（一人親方団体控）'!AF21)","v":""},{"$f":"IF('保険料申告内訳名簿（一人親方団体控）'!AG21=\"\",\"\",'保険料申告内訳名簿（一人親方団体控）'!AG21)","v":""},{"$f":"IF('保険料申告内訳名簿（一人親方団体控）'!AH21=\"\",\"\",'保険料申告内訳名簿（一人親方団体控）'!AH21)","v":""}]
[null,{"$f":"IF('保険料申告内訳名簿（一人親方団体控）'!B22=\"\",\"\",'保険料申告内訳名簿（一人親方団体控）'!B22)","v":""},{"$f":"IF('保険料申告内訳名簿（一人親方団体控）'!C22=\"\",\"\",'保険料申告内訳名簿（一人親方団体控）'!C22)","v":""},{"$f":"IF('保険料申告内訳名簿（一人親方団体控）'!D22=\"\",\"\",'保険料申告内訳名簿（一人親方団体控）'!D22)","v":""},{"$f":"IF('保険料申告内訳名簿（一人親方団体控）'!E22=\"\",\"\",'保険料申告内訳名簿（一人親方団体控）'!E22)","v":""},{"$f":"IF('保険料申告内訳名簿（一人親方団体控）'!F22=\"\",\"\",'保険料申告内訳名簿（一人親方団体控）'!F22)","v":""},{"$f":"IF('保険料申告内訳名簿（一人親方団体控）'!G22=\"\",\"\",'保険料申告内訳名簿（一人親方団体控）'!G22)","v":""},{"$f":"IF('保険料申告内訳名簿（一人親方団体控）'!H22=\"\",\"\",'保険料申告内訳名簿（一人親方団体控）'!H22)","v":""},{"$f":"IF('保険料申告内訳名簿（一人親方団体控）'!I22=\"\",\"\",'保険料申告内訳名簿（一人親方団体控）'!I22)","v":""},{"$f":"IF('保険料申告内訳名簿（一人親方団体控）'!J22=\"\",\"\",'保険料申告内訳名簿（一人親方団体控）'!J22)","v":""},{"$f":"IF('保険料申告内訳名簿（一人親方団体控）'!K22=\"\",\"\",'保険料申告内訳名簿（一人親方団体控）'!K22)","v":""},{"$f":"IF('保険料申告内訳名簿（一人親方団体控）'!L22=\"\",\"\",'保険料申告内訳名簿（一人親方団体控）'!L22)","v":""},{"$f":"IF('保険料申告内訳名簿（一人親方団体控）'!M22=\"\",\"\",'保険料申告内訳名簿（一人親方団体控）'!M22)","v":""},{"$f":"IF('保険料申告内訳名簿（一人親方団体控）'!N22=\"\",\"\",'保険料申告内訳名簿（一人親方団体控）'!N22)","v":""},{"$f":"IF('保険料申告内訳名簿（一人親方団体控）'!O22=\"\",\"\",'保険料申告内訳名簿（一人親方団体控）'!O22)","v":""},{"$f":"IF('保険料申告内訳名簿（一人親方団体控）'!P22=\"\",\"\",'保険料申告内訳名簿（一人親方団体控）'!P22)","v":""},{"$f":"IF('保険料申告内訳名簿（一人親方団体控）'!Q22=\"\",\"\",'保険料申告内訳名簿（一人親方団体控）'!Q22)","v":""},{"$f":"IF('保険料申告内訳名簿（一人親方団体控）'!R22=\"\",\"\",'保険料申告内訳名簿（一人親方団体控）'!R22)","v":""},{"$f":"IF('保険料申告内訳名簿（一人親方団体控）'!S22=\"\",\"\",'保険料申告内訳名簿（一人親方団体控）'!S22)","v":0},{"$f":"IF('保険料申告内訳名簿（一人親方団体控）'!T22=\"\",\"\",'保険料申告内訳名簿（一人親方団体控）'!T22)","v":""},{"$f":"IF('保険料申告内訳名簿（一人親方団体控）'!U22=\"\",\"\",'保険料申告内訳名簿（一人親方団体控）'!U22)","v":""},{"$f":"IF('保険料申告内訳名簿（一人親方団体控）'!V22=\"\",\"\",'保険料申告内訳名簿（一人親方団体控）'!V22)","v":""},{"$f":"IF('保険料申告内訳名簿（一人親方団体控）'!W22=\"\",\"\",'保険料申告内訳名簿（一人親方団体控）'!W22)","v":""},{"$f":"IF('保険料申告内訳名簿（一人親方団体控）'!X22=\"\",\"\",'保険料申告内訳名簿（一人親方団体控）'!X22)","v":""},{"$f":"IF('保険料申告内訳名簿（一人親方団体控）'!Y22=\"\",\"\",'保険料申告内訳名簿（一人親方団体控）'!Y22)","v":""},{"$f":"IF('保険料申告内訳名簿（一人親方団体控）'!Z22=\"\",\"\",'保険料申告内訳名簿（一人親方団体控）'!Z22)","v":""},{"$f":"IF('保険料申告内訳名簿（一人親方団体控）'!AA22=\"\",\"\",'保険料申告内訳名簿（一人親方団体控）'!AA22)","v":""},{"$f":"IF('保険料申告内訳名簿（一人親方団体控）'!AB22=\"\",\"\",'保険料申告内訳名簿（一人親方団体控）'!AB22)","v":""},{"$f":"IF('保険料申告内訳名簿（一人親方団体控）'!AC22=\"\",\"\",'保険料申告内訳名簿（一人親方団体控）'!AC22)","v":0},{"$f":"IF('保険料申告内訳名簿（一人親方団体控）'!AD22=\"\",\"\",'保険料申告内訳名簿（一人親方団体控）'!AD22)","v":""},{"$f":"IF('保険料申告内訳名簿（一人親方団体控）'!AE22=\"\",\"\",'保険料申告内訳名簿（一人親方団体控）'!AE22)","v":""},{"$f":"IF('保険料申告内訳名簿（一人親方団体控）'!AF22=\"\",\"\",'保険料申告内訳名簿（一人親方団体控）'!AF22)","v":""},{"$f":"IF('保険料申告内訳名簿（一人親方団体控）'!AG22=\"\",\"\",'保険料申告内訳名簿（一人親方団体控）'!AG22)","v":""},{"$f":"IF('保険料申告内訳名簿（一人親方団体控）'!AH22=\"\",\"\",'保険料申告内訳名簿（一人親方団体控）'!AH22)","v":""}]
[null,{"$f":"IF('保険料申告内訳名簿（一人親方団体控）'!B23=\"\",\"\",'保険料申告内訳名簿（一人親方団体控）'!B23)","v":""},{"$f":"IF('保険料申告内訳名簿（一人親方団体控）'!C23=\"\",\"\",'保険料申告内訳名簿（一人親方団体控）'!C23)","v":""},{"$f":"IF('保険料申告内訳名簿（一人親方団体控）'!D23=\"\",\"\",'保険料申告内訳名簿（一人親方団体控）'!D23)","v":""},{"$f":"IF('保険料申告内訳名簿（一人親方団体控）'!E23=\"\",\"\",'保険料申告内訳名簿（一人親方団体控）'!E23)","v":""},{"$f":"IF('保険料申告内訳名簿（一人親方団体控）'!F23=\"\",\"\",'保険料申告内訳名簿（一人親方団体控）'!F23)","v":""},{"$f":"IF('保険料申告内訳名簿（一人親方団体控）'!G23=\"\",\"\",'保険料申告内訳名簿（一人親方団体控）'!G23)","v":""},{"$f":"IF('保険料申告内訳名簿（一人親方団体控）'!H23=\"\",\"\",'保険料申告内訳名簿（一人親方団体控）'!H23)","v":""},{"$f":"IF('保険料申告内訳名簿（一人親方団体控）'!I23=\"\",\"\",'保険料申告内訳名簿（一人親方団体控）'!I23)","v":""},{"$f":"IF('保険料申告内訳名簿（一人親方団体控）'!J23=\"\",\"\",'保険料申告内訳名簿（一人親方団体控）'!J23)","v":""},{"$f":"IF('保険料申告内訳名簿（一人親方団体控）'!K23=\"\",\"\",'保険料申告内訳名簿（一人親方団体控）'!K23)","v":""},{"$f":"IF('保険料申告内訳名簿（一人親方団体控）'!L23=\"\",\"\",'保険料申告内訳名簿（一人親方団体控）'!L23)","v":""},{"$f":"IF('保険料申告内訳名簿（一人親方団体控）'!M23=\"\",\"\",'保険料申告内訳名簿（一人親方団体控）'!M23)","v":""},{"$f":"IF('保険料申告内訳名簿（一人親方団体控）'!N23=\"\",\"\",'保険料申告内訳名簿（一人親方団体控）'!N23)","v":""},{"$f":"IF('保険料申告内訳名簿（一人親方団体控）'!O23=\"\",\"\",'保険料申告内訳名簿（一人親方団体控）'!O23)","v":""},{"$f":"IF('保険料申告内訳名簿（一人親方団体控）'!P23=\"\",\"\",'保険料申告内訳名簿（一人親方団体控）'!P23)","v":""},{"$f":"IF('保険料申告内訳名簿（一人親方団体控）'!Q23=\"\",\"\",'保険料申告内訳名簿（一人親方団体控）'!Q23)","v":""},{"$f":"IF('保険料申告内訳名簿（一人親方団体控）'!R23=\"\",\"\",'保険料申告内訳名簿（一人親方団体控）'!R23)","v":""},{"$f":"IF('保険料申告内訳名簿（一人親方団体控）'!S23=\"\",\"\",'保険料申告内訳名簿（一人親方団体控）'!S23)","v":0},{"$f":"IF('保険料申告内訳名簿（一人親方団体控）'!T23=\"\",\"\",'保険料申告内訳名簿（一人親方団体控）'!T23)","v":""},{"$f":"IF('保険料申告内訳名簿（一人親方団体控）'!U23=\"\",\"\",'保険料申告内訳名簿（一人親方団体控）'!U23)","v":""},{"$f":"IF('保険料申告内訳名簿（一人親方団体控）'!V23=\"\",\"\",'保険料申告内訳名簿（一人親方団体控）'!V23)","v":""},{"$f":"IF('保険料申告内訳名簿（一人親方団体控）'!W23=\"\",\"\",'保険料申告内訳名簿（一人親方団体控）'!W23)","v":""},{"$f":"IF('保険料申告内訳名簿（一人親方団体控）'!X23=\"\",\"\",'保険料申告内訳名簿（一人親方団体控）'!X23)","v":""},{"$f":"IF('保険料申告内訳名簿（一人親方団体控）'!Y23=\"\",\"\",'保険料申告内訳名簿（一人親方団体控）'!Y23)","v":""},{"$f":"IF('保険料申告内訳名簿（一人親方団体控）'!Z23=\"\",\"\",'保険料申告内訳名簿（一人親方団体控）'!Z23)","v":""},{"$f":"IF('保険料申告内訳名簿（一人親方団体控）'!AA23=\"\",\"\",'保険料申告内訳名簿（一人親方団体控）'!AA23)","v":""},{"$f":"IF('保険料申告内訳名簿（一人親方団体控）'!AB23=\"\",\"\",'保険料申告内訳名簿（一人親方団体控）'!AB23)","v":""},{"$f":"IF('保険料申告内訳名簿（一人親方団体控）'!AC23=\"\",\"\",'保険料申告内訳名簿（一人親方団体控）'!AC23)","v":0},{"$f":"IF('保険料申告内訳名簿（一人親方団体控）'!AD23=\"\",\"\",'保険料申告内訳名簿（一人親方団体控）'!AD23)","v":""},{"$f":"IF('保険料申告内訳名簿（一人親方団体控）'!AE23=\"\",\"\",'保険料申告内訳名簿（一人親方団体控）'!AE23)","v":""},{"$f":"IF('保険料申告内訳名簿（一人親方団体控）'!AF23=\"\",\"\",'保険料申告内訳名簿（一人親方団体控）'!AF23)","v":""},{"$f":"IF('保険料申告内訳名簿（一人親方団体控）'!AG23=\"\",\"\",'保険料申告内訳名簿（一人親方団体控）'!AG23)","v":""},{"$f":"IF('保険料申告内訳名簿（一人親方団体控）'!AH23=\"\",\"\",'保険料申告内訳名簿（一人親方団体控）'!AH23)","v":""}]
[null,{"$f":"IF('保険料申告内訳名簿（一人親方団体控）'!B24=\"\",\"\",'保険料申告内訳名簿（一人親方団体控）'!B24)","v":""},{"$f":"IF('保険料申告内訳名簿（一人親方団体控）'!C24=\"\",\"\",'保険料申告内訳名簿（一人親方団体控）'!C24)","v":""},{"$f":"IF('保険料申告内訳名簿（一人親方団体控）'!D24=\"\",\"\",'保険料申告内訳名簿（一人親方団体控）'!D24)","v":""},{"$f":"IF('保険料申告内訳名簿（一人親方団体控）'!E24=\"\",\"\",'保険料申告内訳名簿（一人親方団体控）'!E24)","v":""},{"$f":"IF('保険料申告内訳名簿（一人親方団体控）'!F24=\"\",\"\",'保険料申告内訳名簿（一人親方団体控）'!F24)","v":""},{"$f":"IF('保険料申告内訳名簿（一人親方団体控）'!G24=\"\",\"\",'保険料申告内訳名簿（一人親方団体控）'!G24)","v":""},{"$f":"IF('保険料申告内訳名簿（一人親方団体控）'!H24=\"\",\"\",'保険料申告内訳名簿（一人親方団体控）'!H24)","v":""},{"$f":"IF('保険料申告内訳名簿（一人親方団体控）'!I24=\"\",\"\",'保険料申告内訳名簿（一人親方団体控）'!I24)","v":""},{"$f":"IF('保険料申告内訳名簿（一人親方団体控）'!J24=\"\",\"\",'保険料申告内訳名簿（一人親方団体控）'!J24)","v":""},{"$f":"IF('保険料申告内訳名簿（一人親方団体控）'!K24=\"\",\"\",'保険料申告内訳名簿（一人親方団体控）'!K24)","v":""},{"$f":"IF('保険料申告内訳名簿（一人親方団体控）'!L24=\"\",\"\",'保険料申告内訳名簿（一人親方団体控）'!L24)","v":""},{"$f":"IF('保険料申告内訳名簿（一人親方団体控）'!M24=\"\",\"\",'保険料申告内訳名簿（一人親方団体控）'!M24)","v":""},{"$f":"IF('保険料申告内訳名簿（一人親方団体控）'!N24=\"\",\"\",'保険料申告内訳名簿（一人親方団体控）'!N24)","v":""},{"$f":"IF('保険料申告内訳名簿（一人親方団体控）'!O24=\"\",\"\",'保険料申告内訳名簿（一人親方団体控）'!O24)","v":""},{"$f":"IF('保険料申告内訳名簿（一人親方団体控）'!P24=\"\",\"\",'保険料申告内訳名簿（一人親方団体控）'!P24)","v":""},{"$f":"IF('保険料申告内訳名簿（一人親方団体控）'!Q24=\"\",\"\",'保険料申告内訳名簿（一人親方団体控）'!Q24)","v":""},{"$f":"IF('保険料申告内訳名簿（一人親方団体控）'!R24=\"\",\"\",'保険料申告内訳名簿（一人親方団体控）'!R24)","v":""},{"$f":"IF('保険料申告内訳名簿（一人親方団体控）'!S24=\"\",\"\",'保険料申告内訳名簿（一人親方団体控）'!S24)","v":0},{"$f":"IF('保険料申告内訳名簿（一人親方団体控）'!T24=\"\",\"\",'保険料申告内訳名簿（一人親方団体控）'!T24)","v":""},{"$f":"IF('保険料申告内訳名簿（一人親方団体控）'!U24=\"\",\"\",'保険料申告内訳名簿（一人親方団体控）'!U24)","v":""},{"$f":"IF('保険料申告内訳名簿（一人親方団体控）'!V24=\"\",\"\",'保険料申告内訳名簿（一人親方団体控）'!V24)","v":""},{"$f":"IF('保険料申告内訳名簿（一人親方団体控）'!W24=\"\",\"\",'保険料申告内訳名簿（一人親方団体控）'!W24)","v":""},{"$f":"IF('保険料申告内訳名簿（一人親方団体控）'!X24=\"\",\"\",'保険料申告内訳名簿（一人親方団体控）'!X24)","v":""},{"$f":"IF('保険料申告内訳名簿（一人親方団体控）'!Y24=\"\",\"\",'保険料申告内訳名簿（一人親方団体控）'!Y24)","v":""},{"$f":"IF('保険料申告内訳名簿（一人親方団体控）'!Z24=\"\",\"\",'保険料申告内訳名簿（一人親方団体控）'!Z24)","v":""},{"$f":"IF('保険料申告内訳名簿（一人親方団体控）'!AA24=\"\",\"\",'保険料申告内訳名簿（一人親方団体控）'!AA24)","v":""},{"$f":"IF('保険料申告内訳名簿（一人親方団体控）'!AB24=\"\",\"\",'保険料申告内訳名簿（一人親方団体控）'!AB24)","v":""},{"$f":"IF('保険料申告内訳名簿（一人親方団体控）'!AC24=\"\",\"\",'保険料申告内訳名簿（一人親方団体控）'!AC24)","v":0},{"$f":"IF('保険料申告内訳名簿（一人親方団体控）'!AD24=\"\",\"\",'保険料申告内訳名簿（一人親方団体控）'!AD24)","v":""},{"$f":"IF('保険料申告内訳名簿（一人親方団体控）'!AE24=\"\",\"\",'保険料申告内訳名簿（一人親方団体控）'!AE24)","v":""},{"$f":"IF('保険料申告内訳名簿（一人親方団体控）'!AF24=\"\",\"\",'保険料申告内訳名簿（一人親方団体控）'!AF24)","v":""},{"$f":"IF('保険料申告内訳名簿（一人親方団体控）'!AG24=\"\",\"\",'保険料申告内訳名簿（一人親方団体控）'!AG24)","v":""},{"$f":"IF('保険料申告内訳名簿（一人親方団体控）'!AH24=\"\",\"\",'保険料申告内訳名簿（一人親方団体控）'!AH24)","v":""}]
[null,{"$f":"IF('保険料申告内訳名簿（一人親方団体控）'!B25=\"\",\"\",'保険料申告内訳名簿（一人親方団体控）'!B25)","v":""},{"$f":"IF('保険料申告内訳名簿（一人親方団体控）'!C25=\"\",\"\",'保険料申告内訳名簿（一人親方団体控）'!C25)","v":""},{"$f":"IF('保険料申告内訳名簿（一人親方団体控）'!D25=\"\",\"\",'保険料申告内訳名簿（一人親方団体控）'!D25)","v":""},{"$f":"IF('保険料申告内訳名簿（一人親方団体控）'!E25=\"\",\"\",'保険料申告内訳名簿（一人親方団体控）'!E25)","v":""},{"$f":"IF('保険料申告内訳名簿（一人親方団体控）'!F25=\"\",\"\",'保険料申告内訳名簿（一人親方団体控）'!F25)","v":""},{"$f":"IF('保険料申告内訳名簿（一人親方団体控）'!G25=\"\",\"\",'保険料申告内訳名簿（一人親方団体控）'!G25)","v":""},{"$f":"IF('保険料申告内訳名簿（一人親方団体控）'!H25=\"\",\"\",'保険料申告内訳名簿（一人親方団体控）'!H25)","v":""},{"$f":"IF('保険料申告内訳名簿（一人親方団体控）'!I25=\"\",\"\",'保険料申告内訳名簿（一人親方団体控）'!I25)","v":""},{"$f":"IF('保険料申告内訳名簿（一人親方団体控）'!J25=\"\",\"\",'保険料申告内訳名簿（一人親方団体控）'!J25)","v":""},{"$f":"IF('保険料申告内訳名簿（一人親方団体控）'!K25=\"\",\"\",'保険料申告内訳名簿（一人親方団体控）'!K25)","v":""},{"$f":"IF('保険料申告内訳名簿（一人親方団体控）'!L25=\"\",\"\",'保険料申告内訳名簿（一人親方団体控）'!L25)","v":""},{"$f":"IF('保険料申告内訳名簿（一人親方団体控）'!M25=\"\",\"\",'保険料申告内訳名簿（一人親方団体控）'!M25)","v":""},{"$f":"IF('保険料申告内訳名簿（一人親方団体控）'!N25=\"\",\"\",'保険料申告内訳名簿（一人親方団体控）'!N25)","v":""},{"$f":"IF('保険料申告内訳名簿（一人親方団体控）'!O25=\"\",\"\",'保険料申告内訳名簿（一人親方団体控）'!O25)","v":""},{"$f":"IF('保険料申告内訳名簿（一人親方団体控）'!P25=\"\",\"\",'保険料申告内訳名簿（一人親方団体控）'!P25)","v":""},{"$f":"IF('保険料申告内訳名簿（一人親方団体控）'!Q25=\"\",\"\",'保険料申告内訳名簿（一人親方団体控）'!Q25)","v":""},{"$f":"IF('保険料申告内訳名簿（一人親方団体控）'!R25=\"\",\"\",'保険料申告内訳名簿（一人親方団体控）'!R25)","v":""},{"$f":"IF('保険料申告内訳名簿（一人親方団体控）'!S25=\"\",\"\",'保険料申告内訳名簿（一人親方団体控）'!S25)","v":0},{"$f":"IF('保険料申告内訳名簿（一人親方団体控）'!T25=\"\",\"\",'保険料申告内訳名簿（一人親方団体控）'!T25)","v":""},{"$f":"IF('保険料申告内訳名簿（一人親方団体控）'!U25=\"\",\"\",'保険料申告内訳名簿（一人親方団体控）'!U25)","v":""},{"$f":"IF('保険料申告内訳名簿（一人親方団体控）'!V25=\"\",\"\",'保険料申告内訳名簿（一人親方団体控）'!V25)","v":""},{"$f":"IF('保険料申告内訳名簿（一人親方団体控）'!W25=\"\",\"\",'保険料申告内訳名簿（一人親方団体控）'!W25)","v":""},{"$f":"IF('保険料申告内訳名簿（一人親方団体控）'!X25=\"\",\"\",'保険料申告内訳名簿（一人親方団体控）'!X25)","v":""},{"$f":"IF('保険料申告内訳名簿（一人親方団体控）'!Y25=\"\",\"\",'保険料申告内訳名簿（一人親方団体控）'!Y25)","v":""},{"$f":"IF('保険料申告内訳名簿（一人親方団体控）'!Z25=\"\",\"\",'保険料申告内訳名簿（一人親方団体控）'!Z25)","v":""},{"$f":"IF('保険料申告内訳名簿（一人親方団体控）'!AA25=\"\",\"\",'保険料申告内訳名簿（一人親方団体控）'!AA25)","v":""},{"$f":"IF('保険料申告内訳名簿（一人親方団体控）'!AB25=\"\",\"\",'保険料申告内訳名簿（一人親方団体控）'!AB25)","v":""},{"$f":"IF('保険料申告内訳名簿（一人親方団体控）'!AC25=\"\",\"\",'保険料申告内訳名簿（一人親方団体控）'!AC25)","v":0},{"$f":"IF('保険料申告内訳名簿（一人親方団体控）'!AD25=\"\",\"\",'保険料申告内訳名簿（一人親方団体控）'!AD25)","v":""},{"$f":"IF('保険料申告内訳名簿（一人親方団体控）'!AE25=\"\",\"\",'保険料申告内訳名簿（一人親方団体控）'!AE25)","v":""},{"$f":"IF('保険料申告内訳名簿（一人親方団体控）'!AF25=\"\",\"\",'保険料申告内訳名簿（一人親方団体控）'!AF25)","v":""},{"$f":"IF('保険料申告内訳名簿（一人親方団体控）'!AG25=\"\",\"\",'保険料申告内訳名簿（一人親方団体控）'!AG25)","v":""},{"$f":"IF('保険料申告内訳名簿（一人親方団体控）'!AH25=\"\",\"\",'保険料申告内訳名簿（一人親方団体控）'!AH25)","v":""}]
[null,null,null,null,null,null,null,null,null,null,null,null,null,null,null,null,null,null,{"$f":"IF('保険料申告内訳名簿（一人親方団体控）'!S26=\"\",\"\",'保険料申告内訳名簿（一人親方団体控）'!S26)","v":0},{"$f":"IF('保険料申告内訳名簿（一人親方団体控）'!T26=\"\",\"\",'保険料申告内訳名簿（一人親方団体控）'!T26)","v":""},{"$f":"IF('保険料申告内訳名簿（一人親方団体控）'!U26=\"\",\"\",'保険料申告内訳名簿（一人親方団体控）'!U26)","v":""},{"$f":"IF('保険料申告内訳名簿（一人親方団体控）'!V26=\"\",\"\",'保険料申告内訳名簿（一人親方団体控）'!V26)","v":""},{"$f":"IF('保険料申告内訳名簿（一人親方団体控）'!W26=\"\",\"\",'保険料申告内訳名簿（一人親方団体控）'!W26)","v":""},{"$f":"IF('保険料申告内訳名簿（一人親方団体控）'!X26=\"\",\"\",'保険料申告内訳名簿（一人親方団体控）'!X26)","v":""},null,null,null,null,{"$f":"IF('保険料申告内訳名簿（一人親方団体控）'!AC26=\"\",\"\",'保険料申告内訳名簿（一人親方団体控）'!AC26)","v":0},{"$f":"IF('保険料申告内訳名簿（一人親方団体控）'!AD26=\"\",\"\",'保険料申告内訳名簿（一人親方団体控）'!AD26)","v":""},{"$f":"IF('保険料申告内訳名簿（一人親方団体控）'!AE26=\"\",\"\",'保険料申告内訳名簿（一人親方団体控）'!AE26)","v":""},{"$f":"IF('保険料申告内訳名簿（一人親方団体控）'!AF26=\"\",\"\",'保険料申告内訳名簿（一人親方団体控）'!AF26)","v":""},{"$f":"IF('保険料申告内訳名簿（一人親方団体控）'!AG26=\"\",\"\",'保険料申告内訳名簿（一人親方団体控）'!AG26)","v":""},{"$f":"IF('保険料申告内訳名簿（一人親方団体控）'!AH26=\"\",\"\",'保険料申告内訳名簿（一人親方団体控）'!AH26)","v":""}]
[]
[null,"（注）"]
[null,null,"１）　④欄は月割の対象となる方のみ記入して下さい。"]
[null,null,"２）　月割の対象となる場合の⑤保険料算定基礎額の算定方法"]
[null,null,"２）　月割の対象となる場合の③（給付基礎日額×365÷12）（円未満を切り上げてから）×加入月数"]
[]
[]
[null,"【島根局版】",null,null,null,null,null,null,null,null,null,null,null,null,null,null,null,null,null,null,null,null,null,null,null,null,"局用"]
[null,"第２種特別加入保険料申告内訳名簿"]
[null,"（一人親方等）"]
[null,null,null,null,null,null,null,null,null,null,null,null,null,null,null,null,null,null,null,null,null,null,null,null,"（",{"$f":"IF('保険料申告内訳名簿（一人親方団体控）'!Z37=\"\",\"\",'保険料申告内訳名簿（一人親方団体控）'!Z37)","v":0},{"$f":"IF('保険料申告内訳名簿（一人親方団体控）'!AA37=\"\",\"\",'保険料申告内訳名簿（一人親方団体控）'!AA37)","v":""},"枚のうち",null,{"$f":"IF('保険料申告内訳名簿（一人親方団体控）'!AD37=\"\",\"\",'保険料申告内訳名簿（一人親方団体控）'!AD37)","v":2},{"$f":"IF('保険料申告内訳名簿（一人親方団体控）'!AE37=\"\",\"\",'保険料申告内訳名簿（一人親方団体控）'!AE37)","v":""},"枚目",null,"）"]
[]
[null,"労働保険\n番　　　号",null,null,null,null,"府県",null,"所掌","管轄",null,"基幹番号",null,null,null,null,null,"枝番号",null,null,"事業場の\n所在地",null,null,{"$f":"IF('保険料申告内訳名簿（一人親方団体控）'!X39=\"\",\"\",'保険料申告内訳名簿（一人親方団体控）'!X39)","v":""},{"$f":"IF('保険料申告内訳名簿（一人親方団体控）'!Y39=\"\",\"\",'保険料申告内訳名簿（一人親方団体控）'!Y39)","v":""},{"$f":"IF('保険料申告内訳名簿（一人親方団体控）'!Z39=\"\",\"\",'保険料申告内訳名簿（一人親方団体控）'!Z39)","v":""},{"$f":"IF('保険料申告内訳名簿（一人親方団体控）'!AA39=\"\",\"\",'保険料申告内訳名簿（一人親方団体控）'!AA39)","v":""},{"$f":"IF('保険料申告内訳名簿（一人親方団体控）'!AB39=\"\",\"\",'保険料申告内訳名簿（一人親方団体控）'!AB39)","v":""},{"$f":"IF('保険料申告内訳名簿（一人親方団体控）'!AC39=\"\",\"\",'保険料申告内訳名簿（一人親方団体控）'!AC39)","v":""},{"$f":"IF('保険料申告内訳名簿（一人親方団体控）'!AD39=\"\",\"\",'保険料申告内訳名簿（一人親方団体控）'!AD39)","v":""},{"$f":"IF('保険料申告内訳名簿（一人親方団体控）'!AE39=\"\",\"\",'保険料申告内訳名簿（一人親方団体控）'!AE39)","v":""},{"$f":"IF('保険料申告内訳名簿（一人親方団体控）'!AF39=\"\",\"\",'保険料申告内訳名簿（一人親方団体控）'!AF39)","v":""},{"$f":"IF('保険料申告内訳名簿（一人親方団体控）'!AG39=\"\",\"\",'保険料申告内訳名簿（一人親方団体控）'!AG39)","v":""},{"$f":"IF('保険料申告内訳名簿（一人親方団体控）'!AH39=\"\",\"\",'保険料申告内訳名簿（一人親方団体控）'!AH39)","v":""}]
[null,null,null,null,null,null,"3","2",{"$f":"IF('保険料申告内訳名簿（一人親方団体控）'!I40=\"\",\"\",'保険料申告内訳名簿（一人親方団体控）'!I40)","v":""},{"$f":"IF('保険料申告内訳名簿（一人親方団体控）'!J40=\"\",\"\",'保険料申告内訳名簿（一人親方団体控）'!J40)","v":""},{"$f":"IF('保険料申告内訳名簿（一人親方団体控）'!K40=\"\",\"\",'保険料申告内訳名簿（一人親方団体控）'!K40)","v":""},{"$f":"IF('保険料申告内訳名簿（一人親方団体控）'!L40=\"\",\"\",'保険料申告内訳名簿（一人親方団体控）'!L40)","v":""},{"$f":"IF('保険料申告内訳名簿（一人親方団体控）'!M40=\"\",\"\",'保険料申告内訳名簿（一人親方団体控）'!M40)","v":""},{"$f":"IF('保険料申告内訳名簿（一人親方団体控）'!N40=\"\",\"\",'保険料申告内訳名簿（一人親方団体控）'!N40)","v":""},{"$f":"IF('保険料申告内訳名簿（一人親方団体控）'!O40=\"\",\"\",'保険料申告内訳名簿（一人親方団体控）'!O40)","v":""},{"$f":"IF('保険料申告内訳名簿（一人親方団体控）'!P40=\"\",\"\",'保険料申告内訳名簿（一人親方団体控）'!P40)","v":""},{"$f":"IF('保険料申告内訳名簿（一人親方団体控）'!Q40=\"\",\"\",'保険料申告内訳名簿（一人親方団体控）'!Q40)","v":""},{"$f":"IF('保険料申告内訳名簿（一人親方団体控）'!R40=\"\",\"\",'保険料申告内訳名簿（一人親方団体控）'!R40)","v":""},{"$f":"IF('保険料申告内訳名簿（一人親方団体控）'!S40=\"\",\"\",'保険料申告内訳名簿（一人親方団体控）'!S40)","v":""},{"$f":"IF('保険料申告内訳名簿（一人親方団体控）'!T40=\"\",\"\",'保険料申告内訳名簿（一人親方団体控）'!T40)","v":""},"事業場の\n名称",null,null,{"$f":"IF('保険料申告内訳名簿（一人親方団体控）'!X40=\"\",\"\",'保険料申告内訳名簿（一人親方団体控）'!X40)","v":""},{"$f":"IF('保険料申告内訳名簿（一人親方団体控）'!Y40=\"\",\"\",'保険料申告内訳名簿（一人親方団体控）'!Y40)","v":""},{"$f":"IF('保険料申告内訳名簿（一人親方団体控）'!Z40=\"\",\"\",'保険料申告内訳名簿（一人親方団体控）'!Z40)","v":""},{"$f":"IF('保険料申告内訳名簿（一人親方団体控）'!AA40=\"\",\"\",'保険料申告内訳名簿（一人親方団体控）'!AA40)","v":""},{"$f":"IF('保険料申告内訳名簿（一人親方団体控）'!AB40=\"\",\"\",'保険料申告内訳名簿（一人親方団体控）'!AB40)","v":""},{"$f":"IF('保険料申告内訳名簿（一人親方団体控）'!AC40=\"\",\"\",'保険料申告内訳名簿（一人親方団体控）'!AC40)","v":""},{"$f":"IF('保険料申告内訳名簿（一人親方団体控）'!AD40=\"\",\"\",'保険料申告内訳名簿（一人親方団体控）'!AD40)","v":""},{"$f":"IF('保険料申告内訳名簿（一人親方団体控）'!AE40=\"\",\"\",'保険料申告内訳名簿（一人親方団体控）'!AE40)","v":""},{"$f":"IF('保険料申告内訳名簿（一人親方団体控）'!AF40=\"\",\"\",'保険料申告内訳名簿（一人親方団体控）'!AF40)","v":""},{"$f":"IF('保険料申告内訳名簿（一人親方団体控）'!AG40=\"\",\"\",'保険料申告内訳名簿（一人親方団体控）'!AG40)","v":""},{"$f":"IF('保険料申告内訳名簿（一人親方団体控）'!AH40=\"\",\"\",'保険料申告内訳名簿（一人親方団体控）'!AH40)","v":""}]
[null,"①\n整理\n番号",null,"②\n氏名",null,null,null,null,null,null,null,null,null,null,"令 和",null,null,{"$f":"IF('保険料申告内訳名簿（一人親方団体控）'!R41=\"\",\"\",'保険料申告内訳名簿（一人親方団体控）'!R41)","v":""},{"$f":"IF('保険料申告内訳名簿（一人親方団体控）'!S41=\"\",\"\",'保険料申告内訳名簿（一人親方団体控）'!S41)","v":""},{"$f":"IF('保険料申告内訳名簿（一人親方団体控）'!T41=\"\",\"\",'保険料申告内訳名簿（一人親方団体控）'!T41)","v":""},null,null,null,"年 度 確 定 ","令 和",null,null,{"$f":"IF('保険料申告内訳名簿（一人親方団体控）'!AB41=\"\",\"\",'保険料申告内訳名簿（一人親方団体控）'!AB41)","v":""},{"$f":"IF('保険料申告内訳名簿（一人親方団体控）'!AC41=\"\",\"\",'保険料申告内訳名簿（一人親方団体控）'!AC41)","v":""},{"$f":"IF('保険料申告内訳名簿（一人親方団体控）'!AD41=\"\",\"\",'保険料申告内訳名簿（一人親方団体控）'!AD41)","v":""},null,null,null,"年 度 概 算 "]
[null,null,null,null,null,null,null,"③　\n給付基礎日額",null,null,null,"④年度中途加入・脱退",null,null,null,null,null,null,"⑤\n保険料算定基礎額",null,null,null,null,null,"⑥\n給付基礎日額",null,null,null,"⑦\n保険料算定基礎額"]
[null,null,null,null,null,null,null,null,null,null,null,"加入・脱退年月日",null,null,null,null,"加入月数"]
[null,{"$f":"IF('保険料申告内訳名簿（一人親方団体控）'!B44=\"\",\"\",'保険料申告内訳名簿（一人親方団体控）'!B44)","v":""},{"$f":"IF('保険料申告内訳名簿（一人親方団体控）'!C44=\"\",\"\",'保険料申告内訳名簿（一人親方団体控）'!C44)","v":""},{"$f":"IF('保険料申告内訳名簿（一人親方団体控）'!D44=\"\",\"\",'保険料申告内訳名簿（一人親方団体控）'!D44)","v":""},{"$f":"IF('保険料申告内訳名簿（一人親方団体控）'!E44=\"\",\"\",'保険料申告内訳名簿（一人親方団体控）'!E44)","v":""},{"$f":"IF('保険料申告内訳名簿（一人親方団体控）'!F44=\"\",\"\",'保険料申告内訳名簿（一人親方団体控）'!F44)","v":""},{"$f":"IF('保険料申告内訳名簿（一人親方団体控）'!G44=\"\",\"\",'保険料申告内訳名簿（一人親方団体控）'!G44)","v":""},{"$f":"IF('保険料申告内訳名簿（一人親方団体控）'!H44=\"\",\"\",'保険料申告内訳名簿（一人親方団体控）'!H44)","v":""},{"$f":"IF('保険料申告内訳名簿（一人親方団体控）'!I44=\"\",\"\",'保険料申告内訳名簿（一人親方団体控）'!I44)","v":""},{"$f":"IF('保険料申告内訳名簿（一人親方団体控）'!J44=\"\",\"\",'保険料申告内訳名簿（一人親方団体控）'!J44)","v":""},{"$f":"IF('保険料申告内訳名簿（一人親方団体控）'!K44=\"\",\"\",'保険料申告内訳名簿（一人親方団体控）'!K44)","v":""},{"$f":"IF('保険料申告内訳名簿（一人親方団体控）'!L44=\"\",\"\",'保険料申告内訳名簿（一人親方団体控）'!L44)","v":""},{"$f":"IF('保険料申告内訳名簿（一人親方団体控）'!M44=\"\",\"\",'保険料申告内訳名簿（一人親方団体控）'!M44)","v":""},{"$f":"IF('保険料申告内訳名簿（一人親方団体控）'!N44=\"\",\"\",'保険料申告内訳名簿（一人親方団体控）'!N44)","v":""},{"$f":"IF('保険料申告内訳名簿（一人親方団体控）'!O44=\"\",\"\",'保険料申告内訳名簿（一人親方団体控）'!O44)","v":""},{"$f":"IF('保険料申告内訳名簿（一人親方団体控）'!P44=\"\",\"\",'保険料申告内訳名簿（一人親方団体控）'!P44)","v":""},{"$f":"IF('保険料申告内訳名簿（一人親方団体控）'!Q44=\"\",\"\",'保険料申告内訳名簿（一人親方団体控）'!Q44)","v":""},{"$f":"IF('保険料申告内訳名簿（一人親方団体控）'!R44=\"\",\"\",'保険料申告内訳名簿（一人親方団体控）'!R44)","v":""},{"$f":"IF('保険料申告内訳名簿（一人親方団体控）'!S44=\"\",\"\",'保険料申告内訳名簿（一人親方団体控）'!S44)","v":0},{"$f":"IF('保険料申告内訳名簿（一人親方団体控）'!T44=\"\",\"\",'保険料申告内訳名簿（一人親方団体控）'!T44)","v":""},{"$f":"IF('保険料申告内訳名簿（一人親方団体控）'!U44=\"\",\"\",'保険料申告内訳名簿（一人親方団体控）'!U44)","v":""},{"$f":"IF('保険料申告内訳名簿（一人親方団体控）'!V44=\"\",\"\",'保険料申告内訳名簿（一人親方団体控）'!V44)","v":""},{"$f":"IF('保険料申告内訳名簿（一人親方団体控）'!W44=\"\",\"\",'保険料申告内訳名簿（一人親方団体控）'!W44)","v":""},{"$f":"IF('保険料申告内訳名簿（一人親方団体控）'!X44=\"\",\"\",'保険料申告内訳名簿（一人親方団体控）'!X44)","v":""},{"$f":"IF('保険料申告内訳名簿（一人親方団体控）'!Y44=\"\",\"\",'保険料申告内訳名簿（一人親方団体控）'!Y44)","v":""},{"$f":"IF('保険料申告内訳名簿（一人親方団体控）'!Z44=\"\",\"\",'保険料申告内訳名簿（一人親方団体控）'!Z44)","v":""},{"$f":"IF('保険料申告内訳名簿（一人親方団体控）'!AA44=\"\",\"\",'保険料申告内訳名簿（一人親方団体控）'!AA44)","v":""},{"$f":"IF('保険料申告内訳名簿（一人親方団体控）'!AB44=\"\",\"\",'保険料申告内訳名簿（一人親方団体控）'!AB44)","v":""},{"$f":"IF('保険料申告内訳名簿（一人親方団体控）'!AC44=\"\",\"\",'保険料申告内訳名簿（一人親方団体控）'!AC44)","v":0},{"$f":"IF('保険料申告内訳名簿（一人親方団体控）'!AD44=\"\",\"\",'保険料申告内訳名簿（一人親方団体控）'!AD44)","v":""},{"$f":"IF('保険料申告内訳名簿（一人親方団体控）'!AE44=\"\",\"\",'保険料申告内訳名簿（一人親方団体控）'!AE44)","v":""},{"$f":"IF('保険料申告内訳名簿（一人親方団体控）'!AF44=\"\",\"\",'保険料申告内訳名簿（一人親方団体控）'!AF44)","v":""},{"$f":"IF('保険料申告内訳名簿（一人親方団体控）'!AG44=\"\",\"\",'保険料申告内訳名簿（一人親方団体控）'!AG44)","v":""},{"$f":"IF('保険料申告内訳名簿（一人親方団体控）'!AH44=\"\",\"\",'保険料申告内訳名簿（一人親方団体控）'!AH44)","v":""}]
[null,{"$f":"IF('保険料申告内訳名簿（一人親方団体控）'!B45=\"\",\"\",'保険料申告内訳名簿（一人親方団体控）'!B45)","v":""},{"$f":"IF('保険料申告内訳名簿（一人親方団体控）'!C45=\"\",\"\",'保険料申告内訳名簿（一人親方団体控）'!C45)","v":""},{"$f":"IF('保険料申告内訳名簿（一人親方団体控）'!D45=\"\",\"\",'保険料申告内訳名簿（一人親方団体控）'!D45)","v":""},{"$f":"IF('保険料申告内訳名簿（一人親方団体控）'!E45=\"\",\"\",'保険料申告内訳名簿（一人親方団体控）'!E45)","v":""},{"$f":"IF('保険料申告内訳名簿（一人親方団体控）'!F45=\"\",\"\",'保険料申告内訳名簿（一人親方団体控）'!F45)","v":""},{"$f":"IF('保険料申告内訳名簿（一人親方団体控）'!G45=\"\",\"\",'保険料申告内訳名簿（一人親方団体控）'!G45)","v":""},{"$f":"IF('保険料申告内訳名簿（一人親方団体控）'!H45=\"\",\"\",'保険料申告内訳名簿（一人親方団体控）'!H45)","v":""},{"$f":"IF('保険料申告内訳名簿（一人親方団体控）'!I45=\"\",\"\",'保険料申告内訳名簿（一人親方団体控）'!I45)","v":""},{"$f":"IF('保険料申告内訳名簿（一人親方団体控）'!J45=\"\",\"\",'保険料申告内訳名簿（一人親方団体控）'!J45)","v":""},{"$f":"IF('保険料申告内訳名簿（一人親方団体控）'!K45=\"\",\"\",'保険料申告内訳名簿（一人親方団体控）'!K45)","v":""},{"$f":"IF('保険料申告内訳名簿（一人親方団体控）'!L45=\"\",\"\",'保険料申告内訳名簿（一人親方団体控）'!L45)","v":""},{"$f":"IF('保険料申告内訳名簿（一人親方団体控）'!M45=\"\",\"\",'保険料申告内訳名簿（一人親方団体控）'!M45)","v":""},{"$f":"IF('保険料申告内訳名簿（一人親方団体控）'!N45=\"\",\"\",'保険料申告内訳名簿（一人親方団体控）'!N45)","v":""},{"$f":"IF('保険料申告内訳名簿（一人親方団体控）'!O45=\"\",\"\",'保険料申告内訳名簿（一人親方団体控）'!O45)","v":""},{"$f":"IF('保険料申告内訳名簿（一人親方団体控）'!P45=\"\",\"\",'保険料申告内訳名簿（一人親方団体控）'!P45)","v":""},{"$f":"IF('保険料申告内訳名簿（一人親方団体控）'!Q45=\"\",\"\",'保険料申告内訳名簿（一人親方団体控）'!Q45)","v":""},{"$f":"IF('保険料申告内訳名簿（一人親方団体控）'!R45=\"\",\"\",'保険料申告内訳名簿（一人親方団体控）'!R45)","v":""},{"$f":"IF('保険料申告内訳名簿（一人親方団体控）'!S45=\"\",\"\",'保険料申告内訳名簿（一人親方団体控）'!S45)","v":0},{"$f":"IF('保険料申告内訳名簿（一人親方団体控）'!T45=\"\",\"\",'保険料申告内訳名簿（一人親方団体控）'!T45)","v":""},{"$f":"IF('保険料申告内訳名簿（一人親方団体控）'!U45=\"\",\"\",'保険料申告内訳名簿（一人親方団体控）'!U45)","v":""},{"$f":"IF('保険料申告内訳名簿（一人親方団体控）'!V45=\"\",\"\",'保険料申告内訳名簿（一人親方団体控）'!V45)","v":""},{"$f":"IF('保険料申告内訳名簿（一人親方団体控）'!W45=\"\",\"\",'保険料申告内訳名簿（一人親方団体控）'!W45)","v":""},{"$f":"IF('保険料申告内訳名簿（一人親方団体控）'!X45=\"\",\"\",'保険料申告内訳名簿（一人親方団体控）'!X45)","v":""},{"$f":"IF('保険料申告内訳名簿（一人親方団体控）'!Y45=\"\",\"\",'保険料申告内訳名簿（一人親方団体控）'!Y45)","v":""},{"$f":"IF('保険料申告内訳名簿（一人親方団体控）'!Z45=\"\",\"\",'保険料申告内訳名簿（一人親方団体控）'!Z45)","v":""},{"$f":"IF('保険料申告内訳名簿（一人親方団体控）'!AA45=\"\",\"\",'保険料申告内訳名簿（一人親方団体控）'!AA45)","v":""},{"$f":"IF('保険料申告内訳名簿（一人親方団体控）'!AB45=\"\",\"\",'保険料申告内訳名簿（一人親方団体控）'!AB45)","v":""},{"$f":"IF('保険料申告内訳名簿（一人親方団体控）'!AC45=\"\",\"\",'保険料申告内訳名簿（一人親方団体控）'!AC45)","v":0},{"$f":"IF('保険料申告内訳名簿（一人親方団体控）'!AD45=\"\",\"\",'保険料申告内訳名簿（一人親方団体控）'!AD45)","v":""},{"$f":"IF('保険料申告内訳名簿（一人親方団体控）'!AE45=\"\",\"\",'保険料申告内訳名簿（一人親方団体控）'!AE45)","v":""},{"$f":"IF('保険料申告内訳名簿（一人親方団体控）'!AF45=\"\",\"\",'保険料申告内訳名簿（一人親方団体控）'!AF45)","v":""},{"$f":"IF('保険料申告内訳名簿（一人親方団体控）'!AG45=\"\",\"\",'保険料申告内訳名簿（一人親方団体控）'!AG45)","v":""},{"$f":"IF('保険料申告内訳名簿（一人親方団体控）'!AH45=\"\",\"\",'保険料申告内訳名簿（一人親方団体控）'!AH45)","v":""}]
[null,{"$f":"IF('保険料申告内訳名簿（一人親方団体控）'!B46=\"\",\"\",'保険料申告内訳名簿（一人親方団体控）'!B46)","v":""},{"$f":"IF('保険料申告内訳名簿（一人親方団体控）'!C46=\"\",\"\",'保険料申告内訳名簿（一人親方団体控）'!C46)","v":""},{"$f":"IF('保険料申告内訳名簿（一人親方団体控）'!D46=\"\",\"\",'保険料申告内訳名簿（一人親方団体控）'!D46)","v":""},{"$f":"IF('保険料申告内訳名簿（一人親方団体控）'!E46=\"\",\"\",'保険料申告内訳名簿（一人親方団体控）'!E46)","v":""},{"$f":"IF('保険料申告内訳名簿（一人親方団体控）'!F46=\"\",\"\",'保険料申告内訳名簿（一人親方団体控）'!F46)","v":""},{"$f":"IF('保険料申告内訳名簿（一人親方団体控）'!G46=\"\",\"\",'保険料申告内訳名簿（一人親方団体控）'!G46)","v":""},{"$f":"IF('保険料申告内訳名簿（一人親方団体控）'!H46=\"\",\"\",'保険料申告内訳名簿（一人親方団体控）'!H46)","v":""},{"$f":"IF('保険料申告内訳名簿（一人親方団体控）'!I46=\"\",\"\",'保険料申告内訳名簿（一人親方団体控）'!I46)","v":""},{"$f":"IF('保険料申告内訳名簿（一人親方団体控）'!J46=\"\",\"\",'保険料申告内訳名簿（一人親方団体控）'!J46)","v":""},{"$f":"IF('保険料申告内訳名簿（一人親方団体控）'!K46=\"\",\"\",'保険料申告内訳名簿（一人親方団体控）'!K46)","v":""},{"$f":"IF('保険料申告内訳名簿（一人親方団体控）'!L46=\"\",\"\",'保険料申告内訳名簿（一人親方団体控）'!L46)","v":""},{"$f":"IF('保険料申告内訳名簿（一人親方団体控）'!M46=\"\",\"\",'保険料申告内訳名簿（一人親方団体控）'!M46)","v":""},{"$f":"IF('保険料申告内訳名簿（一人親方団体控）'!N46=\"\",\"\",'保険料申告内訳名簿（一人親方団体控）'!N46)","v":""},{"$f":"IF('保険料申告内訳名簿（一人親方団体控）'!O46=\"\",\"\",'保険料申告内訳名簿（一人親方団体控）'!O46)","v":""},{"$f":"IF('保険料申告内訳名簿（一人親方団体控）'!P46=\"\",\"\",'保険料申告内訳名簿（一人親方団体控）'!P46)","v":""},{"$f":"IF('保険料申告内訳名簿（一人親方団体控）'!Q46=\"\",\"\",'保険料申告内訳名簿（一人親方団体控）'!Q46)","v":""},{"$f":"IF('保険料申告内訳名簿（一人親方団体控）'!R46=\"\",\"\",'保険料申告内訳名簿（一人親方団体控）'!R46)","v":""},{"$f":"IF('保険料申告内訳名簿（一人親方団体控）'!S46=\"\",\"\",'保険料申告内訳名簿（一人親方団体控）'!S46)","v":0},{"$f":"IF('保険料申告内訳名簿（一人親方団体控）'!T46=\"\",\"\",'保険料申告内訳名簿（一人親方団体控）'!T46)","v":""},{"$f":"IF('保険料申告内訳名簿（一人親方団体控）'!U46=\"\",\"\",'保険料申告内訳名簿（一人親方団体控）'!U46)","v":""},{"$f":"IF('保険料申告内訳名簿（一人親方団体控）'!V46=\"\",\"\",'保険料申告内訳名簿（一人親方団体控）'!V46)","v":""},{"$f":"IF('保険料申告内訳名簿（一人親方団体控）'!W46=\"\",\"\",'保険料申告内訳名簿（一人親方団体控）'!W46)","v":""},{"$f":"IF('保険料申告内訳名簿（一人親方団体控）'!X46=\"\",\"\",'保険料申告内訳名簿（一人親方団体控）'!X46)","v":""},{"$f":"IF('保険料申告内訳名簿（一人親方団体控）'!Y46=\"\",\"\",'保険料申告内訳名簿（一人親方団体控）'!Y46)","v":""},{"$f":"IF('保険料申告内訳名簿（一人親方団体控）'!Z46=\"\",\"\",'保険料申告内訳名簿（一人親方団体控）'!Z46)","v":""},{"$f":"IF('保険料申告内訳名簿（一人親方団体控）'!AA46=\"\",\"\",'保険料申告内訳名簿（一人親方団体控）'!AA46)","v":""},{"$f":"IF('保険料申告内訳名簿（一人親方団体控）'!AB46=\"\",\"\",'保険料申告内訳名簿（一人親方団体控）'!AB46)","v":""},{"$f":"IF('保険料申告内訳名簿（一人親方団体控）'!AC46=\"\",\"\",'保険料申告内訳名簿（一人親方団体控）'!AC46)","v":0},{"$f":"IF('保険料申告内訳名簿（一人親方団体控）'!AD46=\"\",\"\",'保険料申告内訳名簿（一人親方団体控）'!AD46)","v":""},{"$f":"IF('保険料申告内訳名簿（一人親方団体控）'!AE46=\"\",\"\",'保険料申告内訳名簿（一人親方団体控）'!AE46)","v":""},{"$f":"IF('保険料申告内訳名簿（一人親方団体控）'!AF46=\"\",\"\",'保険料申告内訳名簿（一人親方団体控）'!AF46)","v":""},{"$f":"IF('保険料申告内訳名簿（一人親方団体控）'!AG46=\"\",\"\",'保険料申告内訳名簿（一人親方団体控）'!AG46)","v":""},{"$f":"IF('保険料申告内訳名簿（一人親方団体控）'!AH46=\"\",\"\",'保険料申告内訳名簿（一人親方団体控）'!AH46)","v":""}]
[null,{"$f":"IF('保険料申告内訳名簿（一人親方団体控）'!B47=\"\",\"\",'保険料申告内訳名簿（一人親方団体控）'!B47)","v":""},{"$f":"IF('保険料申告内訳名簿（一人親方団体控）'!C47=\"\",\"\",'保険料申告内訳名簿（一人親方団体控）'!C47)","v":""},{"$f":"IF('保険料申告内訳名簿（一人親方団体控）'!D47=\"\",\"\",'保険料申告内訳名簿（一人親方団体控）'!D47)","v":""},{"$f":"IF('保険料申告内訳名簿（一人親方団体控）'!E47=\"\",\"\",'保険料申告内訳名簿（一人親方団体控）'!E47)","v":""},{"$f":"IF('保険料申告内訳名簿（一人親方団体控）'!F47=\"\",\"\",'保険料申告内訳名簿（一人親方団体控）'!F47)","v":""},{"$f":"IF('保険料申告内訳名簿（一人親方団体控）'!G47=\"\",\"\",'保険料申告内訳名簿（一人親方団体控）'!G47)","v":""},{"$f":"IF('保険料申告内訳名簿（一人親方団体控）'!H47=\"\",\"\",'保険料申告内訳名簿（一人親方団体控）'!H47)","v":""},{"$f":"IF('保険料申告内訳名簿（一人親方団体控）'!I47=\"\",\"\",'保険料申告内訳名簿（一人親方団体控）'!I47)","v":""},{"$f":"IF('保険料申告内訳名簿（一人親方団体控）'!J47=\"\",\"\",'保険料申告内訳名簿（一人親方団体控）'!J47)","v":""},{"$f":"IF('保険料申告内訳名簿（一人親方団体控）'!K47=\"\",\"\",'保険料申告内訳名簿（一人親方団体控）'!K47)","v":""},{"$f":"IF('保険料申告内訳名簿（一人親方団体控）'!L47=\"\",\"\",'保険料申告内訳名簿（一人親方団体控）'!L47)","v":""},{"$f":"IF('保険料申告内訳名簿（一人親方団体控）'!M47=\"\",\"\",'保険料申告内訳名簿（一人親方団体控）'!M47)","v":""},{"$f":"IF('保険料申告内訳名簿（一人親方団体控）'!N47=\"\",\"\",'保険料申告内訳名簿（一人親方団体控）'!N47)","v":""},{"$f":"IF('保険料申告内訳名簿（一人親方団体控）'!O47=\"\",\"\",'保険料申告内訳名簿（一人親方団体控）'!O47)","v":""},{"$f":"IF('保険料申告内訳名簿（一人親方団体控）'!P47=\"\",\"\",'保険料申告内訳名簿（一人親方団体控）'!P47)","v":""},{"$f":"IF('保険料申告内訳名簿（一人親方団体控）'!Q47=\"\",\"\",'保険料申告内訳名簿（一人親方団体控）'!Q47)","v":""},{"$f":"IF('保険料申告内訳名簿（一人親方団体控）'!R47=\"\",\"\",'保険料申告内訳名簿（一人親方団体控）'!R47)","v":""},{"$f":"IF('保険料申告内訳名簿（一人親方団体控）'!S47=\"\",\"\",'保険料申告内訳名簿（一人親方団体控）'!S47)","v":0},{"$f":"IF('保険料申告内訳名簿（一人親方団体控）'!T47=\"\",\"\",'保険料申告内訳名簿（一人親方団体控）'!T47)","v":""},{"$f":"IF('保険料申告内訳名簿（一人親方団体控）'!U47=\"\",\"\",'保険料申告内訳名簿（一人親方団体控）'!U47)","v":""},{"$f":"IF('保険料申告内訳名簿（一人親方団体控）'!V47=\"\",\"\",'保険料申告内訳名簿（一人親方団体控）'!V47)","v":""},{"$f":"IF('保険料申告内訳名簿（一人親方団体控）'!W47=\"\",\"\",'保険料申告内訳名簿（一人親方団体控）'!W47)","v":""},{"$f":"IF('保険料申告内訳名簿（一人親方団体控）'!X47=\"\",\"\",'保険料申告内訳名簿（一人親方団体控）'!X47)","v":""},{"$f":"IF('保険料申告内訳名簿（一人親方団体控）'!Y47=\"\",\"\",'保険料申告内訳名簿（一人親方団体控）'!Y47)","v":""},{"$f":"IF('保険料申告内訳名簿（一人親方団体控）'!Z47=\"\",\"\",'保険料申告内訳名簿（一人親方団体控）'!Z47)","v":""},{"$f":"IF('保険料申告内訳名簿（一人親方団体控）'!AA47=\"\",\"\",'保険料申告内訳名簿（一人親方団体控）'!AA47)","v":""},{"$f":"IF('保険料申告内訳名簿（一人親方団体控）'!AB47=\"\",\"\",'保険料申告内訳名簿（一人親方団体控）'!AB47)","v":""},{"$f":"IF('保険料申告内訳名簿（一人親方団体控）'!AC47=\"\",\"\",'保険料申告内訳名簿（一人親方団体控）'!AC47)","v":0},{"$f":"IF('保険料申告内訳名簿（一人親方団体控）'!AD47=\"\",\"\",'保険料申告内訳名簿（一人親方団体控）'!AD47)","v":""},{"$f":"IF('保険料申告内訳名簿（一人親方団体控）'!AE47=\"\",\"\",'保険料申告内訳名簿（一人親方団体控）'!AE47)","v":""},{"$f":"IF('保険料申告内訳名簿（一人親方団体控）'!AF47=\"\",\"\",'保険料申告内訳名簿（一人親方団体控）'!AF47)","v":""},{"$f":"IF('保険料申告内訳名簿（一人親方団体控）'!AG47=\"\",\"\",'保険料申告内訳名簿（一人親方団体控）'!AG47)","v":""},{"$f":"IF('保険料申告内訳名簿（一人親方団体控）'!AH47=\"\",\"\",'保険料申告内訳名簿（一人親方団体控）'!AH47)","v":""}]
[null,{"$f":"IF('保険料申告内訳名簿（一人親方団体控）'!B48=\"\",\"\",'保険料申告内訳名簿（一人親方団体控）'!B48)","v":""},{"$f":"IF('保険料申告内訳名簿（一人親方団体控）'!C48=\"\",\"\",'保険料申告内訳名簿（一人親方団体控）'!C48)","v":""},{"$f":"IF('保険料申告内訳名簿（一人親方団体控）'!D48=\"\",\"\",'保険料申告内訳名簿（一人親方団体控）'!D48)","v":""},{"$f":"IF('保険料申告内訳名簿（一人親方団体控）'!E48=\"\",\"\",'保険料申告内訳名簿（一人親方団体控）'!E48)","v":""},{"$f":"IF('保険料申告内訳名簿（一人親方団体控）'!F48=\"\",\"\",'保険料申告内訳名簿（一人親方団体控）'!F48)","v":""},{"$f":"IF('保険料申告内訳名簿（一人親方団体控）'!G48=\"\",\"\",'保険料申告内訳名簿（一人親方団体控）'!G48)","v":""},{"$f":"IF('保険料申告内訳名簿（一人親方団体控）'!H48=\"\",\"\",'保険料申告内訳名簿（一人親方団体控）'!H48)","v":""},{"$f":"IF('保険料申告内訳名簿（一人親方団体控）'!I48=\"\",\"\",'保険料申告内訳名簿（一人親方団体控）'!I48)","v":""},{"$f":"IF('保険料申告内訳名簿（一人親方団体控）'!J48=\"\",\"\",'保険料申告内訳名簿（一人親方団体控）'!J48)","v":""},{"$f":"IF('保険料申告内訳名簿（一人親方団体控）'!K48=\"\",\"\",'保険料申告内訳名簿（一人親方団体控）'!K48)","v":""},{"$f":"IF('保険料申告内訳名簿（一人親方団体控）'!L48=\"\",\"\",'保険料申告内訳名簿（一人親方団体控）'!L48)","v":""},{"$f":"IF('保険料申告内訳名簿（一人親方団体控）'!M48=\"\",\"\",'保険料申告内訳名簿（一人親方団体控）'!M48)","v":""},{"$f":"IF('保険料申告内訳名簿（一人親方団体控）'!N48=\"\",\"\",'保険料申告内訳名簿（一人親方団体控）'!N48)","v":""},{"$f":"IF('保険料申告内訳名簿（一人親方団体控）'!O48=\"\",\"\",'保険料申告内訳名簿（一人親方団体控）'!O48)","v":""},{"$f":"IF('保険料申告内訳名簿（一人親方団体控）'!P48=\"\",\"\",'保険料申告内訳名簿（一人親方団体控）'!P48)","v":""},{"$f":"IF('保険料申告内訳名簿（一人親方団体控）'!Q48=\"\",\"\",'保険料申告内訳名簿（一人親方団体控）'!Q48)","v":""},{"$f":"IF('保険料申告内訳名簿（一人親方団体控）'!R48=\"\",\"\",'保険料申告内訳名簿（一人親方団体控）'!R48)","v":""},{"$f":"IF('保険料申告内訳名簿（一人親方団体控）'!S48=\"\",\"\",'保険料申告内訳名簿（一人親方団体控）'!S48)","v":0},{"$f":"IF('保険料申告内訳名簿（一人親方団体控）'!T48=\"\",\"\",'保険料申告内訳名簿（一人親方団体控）'!T48)","v":""},{"$f":"IF('保険料申告内訳名簿（一人親方団体控）'!U48=\"\",\"\",'保険料申告内訳名簿（一人親方団体控）'!U48)","v":""},{"$f":"IF('保険料申告内訳名簿（一人親方団体控）'!V48=\"\",\"\",'保険料申告内訳名簿（一人親方団体控）'!V48)","v":""},{"$f":"IF('保険料申告内訳名簿（一人親方団体控）'!W48=\"\",\"\",'保険料申告内訳名簿（一人親方団体控）'!W48)","v":""},{"$f":"IF('保険料申告内訳名簿（一人親方団体控）'!X48=\"\",\"\",'保険料申告内訳名簿（一人親方団体控）'!X48)","v":""},{"$f":"IF('保険料申告内訳名簿（一人親方団体控）'!Y48=\"\",\"\",'保険料申告内訳名簿（一人親方団体控）'!Y48)","v":""},{"$f":"IF('保険料申告内訳名簿（一人親方団体控）'!Z48=\"\",\"\",'保険料申告内訳名簿（一人親方団体控）'!Z48)","v":""},{"$f":"IF('保険料申告内訳名簿（一人親方団体控）'!AA48=\"\",\"\",'保険料申告内訳名簿（一人親方団体控）'!AA48)","v":""},{"$f":"IF('保険料申告内訳名簿（一人親方団体控）'!AB48=\"\",\"\",'保険料申告内訳名簿（一人親方団体控）'!AB48)","v":""},{"$f":"IF('保険料申告内訳名簿（一人親方団体控）'!AC48=\"\",\"\",'保険料申告内訳名簿（一人親方団体控）'!AC48)","v":0},{"$f":"IF('保険料申告内訳名簿（一人親方団体控）'!AD48=\"\",\"\",'保険料申告内訳名簿（一人親方団体控）'!AD48)","v":""},{"$f":"IF('保険料申告内訳名簿（一人親方団体控）'!AE48=\"\",\"\",'保険料申告内訳名簿（一人親方団体控）'!AE48)","v":""},{"$f":"IF('保険料申告内訳名簿（一人親方団体控）'!AF48=\"\",\"\",'保険料申告内訳名簿（一人親方団体控）'!AF48)","v":""},{"$f":"IF('保険料申告内訳名簿（一人親方団体控）'!AG48=\"\",\"\",'保険料申告内訳名簿（一人親方団体控）'!AG48)","v":""},{"$f":"IF('保険料申告内訳名簿（一人親方団体控）'!AH48=\"\",\"\",'保険料申告内訳名簿（一人親方団体控）'!AH48)","v":""}]
[null,{"$f":"IF('保険料申告内訳名簿（一人親方団体控）'!B49=\"\",\"\",'保険料申告内訳名簿（一人親方団体控）'!B49)","v":""},{"$f":"IF('保険料申告内訳名簿（一人親方団体控）'!C49=\"\",\"\",'保険料申告内訳名簿（一人親方団体控）'!C49)","v":""},{"$f":"IF('保険料申告内訳名簿（一人親方団体控）'!D49=\"\",\"\",'保険料申告内訳名簿（一人親方団体控）'!D49)","v":""},{"$f":"IF('保険料申告内訳名簿（一人親方団体控）'!E49=\"\",\"\",'保険料申告内訳名簿（一人親方団体控）'!E49)","v":""},{"$f":"IF('保険料申告内訳名簿（一人親方団体控）'!F49=\"\",\"\",'保険料申告内訳名簿（一人親方団体控）'!F49)","v":""},{"$f":"IF('保険料申告内訳名簿（一人親方団体控）'!G49=\"\",\"\",'保険料申告内訳名簿（一人親方団体控）'!G49)","v":""},{"$f":"IF('保険料申告内訳名簿（一人親方団体控）'!H49=\"\",\"\",'保険料申告内訳名簿（一人親方団体控）'!H49)","v":""},{"$f":"IF('保険料申告内訳名簿（一人親方団体控）'!I49=\"\",\"\",'保険料申告内訳名簿（一人親方団体控）'!I49)","v":""},{"$f":"IF('保険料申告内訳名簿（一人親方団体控）'!J49=\"\",\"\",'保険料申告内訳名簿（一人親方団体控）'!J49)","v":""},{"$f":"IF('保険料申告内訳名簿（一人親方団体控）'!K49=\"\",\"\",'保険料申告内訳名簿（一人親方団体控）'!K49)","v":""},{"$f":"IF('保険料申告内訳名簿（一人親方団体控）'!L49=\"\",\"\",'保険料申告内訳名簿（一人親方団体控）'!L49)","v":""},{"$f":"IF('保険料申告内訳名簿（一人親方団体控）'!M49=\"\",\"\",'保険料申告内訳名簿（一人親方団体控）'!M49)","v":""},{"$f":"IF('保険料申告内訳名簿（一人親方団体控）'!N49=\"\",\"\",'保険料申告内訳名簿（一人親方団体控）'!N49)","v":""},{"$f":"IF('保険料申告内訳名簿（一人親方団体控）'!O49=\"\",\"\",'保険料申告内訳名簿（一人親方団体控）'!O49)","v":""},{"$f":"IF('保険料申告内訳名簿（一人親方団体控）'!P49=\"\",\"\",'保険料申告内訳名簿（一人親方団体控）'!P49)","v":""},{"$f":"IF('保険料申告内訳名簿（一人親方団体控）'!Q49=\"\",\"\",'保険料申告内訳名簿（一人親方団体控）'!Q49)","v":""},{"$f":"IF('保険料申告内訳名簿（一人親方団体控）'!R49=\"\",\"\",'保険料申告内訳名簿（一人親方団体控）'!R49)","v":""},{"$f":"IF('保険料申告内訳名簿（一人親方団体控）'!S49=\"\",\"\",'保険料申告内訳名簿（一人親方団体控）'!S49)","v":0},{"$f":"IF('保険料申告内訳名簿（一人親方団体控）'!T49=\"\",\"\",'保険料申告内訳名簿（一人親方団体控）'!T49)","v":""},{"$f":"IF('保険料申告内訳名簿（一人親方団体控）'!U49=\"\",\"\",'保険料申告内訳名簿（一人親方団体控）'!U49)","v":""},{"$f":"IF('保険料申告内訳名簿（一人親方団体控）'!V49=\"\",\"\",'保険料申告内訳名簿（一人親方団体控）'!V49)","v":""},{"$f":"IF('保険料申告内訳名簿（一人親方団体控）'!W49=\"\",\"\",'保険料申告内訳名簿（一人親方団体控）'!W49)","v":""},{"$f":"IF('保険料申告内訳名簿（一人親方団体控）'!X49=\"\",\"\",'保険料申告内訳名簿（一人親方団体控）'!X49)","v":""},{"$f":"IF('保険料申告内訳名簿（一人親方団体控）'!Y49=\"\",\"\",'保険料申告内訳名簿（一人親方団体控）'!Y49)","v":""},{"$f":"IF('保険料申告内訳名簿（一人親方団体控）'!Z49=\"\",\"\",'保険料申告内訳名簿（一人親方団体控）'!Z49)","v":""},{"$f":"IF('保険料申告内訳名簿（一人親方団体控）'!AA49=\"\",\"\",'保険料申告内訳名簿（一人親方団体控）'!AA49)","v":""},{"$f":"IF('保険料申告内訳名簿（一人親方団体控）'!AB49=\"\",\"\",'保険料申告内訳名簿（一人親方団体控）'!AB49)","v":""},{"$f":"IF('保険料申告内訳名簿（一人親方団体控）'!AC49=\"\",\"\",'保険料申告内訳名簿（一人親方団体控）'!AC49)","v":0},{"$f":"IF('保険料申告内訳名簿（一人親方団体控）'!AD49=\"\",\"\",'保険料申告内訳名簿（一人親方団体控）'!AD49)","v":""},{"$f":"IF('保険料申告内訳名簿（一人親方団体控）'!AE49=\"\",\"\",'保険料申告内訳名簿（一人親方団体控）'!AE49)","v":""},{"$f":"IF('保険料申告内訳名簿（一人親方団体控）'!AF49=\"\",\"\",'保険料申告内訳名簿（一人親方団体控）'!AF49)","v":""},{"$f":"IF('保険料申告内訳名簿（一人親方団体控）'!AG49=\"\",\"\",'保険料申告内訳名簿（一人親方団体控）'!AG49)","v":""},{"$f":"IF('保険料申告内訳名簿（一人親方団体控）'!AH49=\"\",\"\",'保険料申告内訳名簿（一人親方団体控）'!AH49)","v":""}]
[null,{"$f":"IF('保険料申告内訳名簿（一人親方団体控）'!B50=\"\",\"\",'保険料申告内訳名簿（一人親方団体控）'!B50)","v":""},{"$f":"IF('保険料申告内訳名簿（一人親方団体控）'!C50=\"\",\"\",'保険料申告内訳名簿（一人親方団体控）'!C50)","v":""},{"$f":"IF('保険料申告内訳名簿（一人親方団体控）'!D50=\"\",\"\",'保険料申告内訳名簿（一人親方団体控）'!D50)","v":""},{"$f":"IF('保険料申告内訳名簿（一人親方団体控）'!E50=\"\",\"\",'保険料申告内訳名簿（一人親方団体控）'!E50)","v":""},{"$f":"IF('保険料申告内訳名簿（一人親方団体控）'!F50=\"\",\"\",'保険料申告内訳名簿（一人親方団体控）'!F50)","v":""},{"$f":"IF('保険料申告内訳名簿（一人親方団体控）'!G50=\"\",\"\",'保険料申告内訳名簿（一人親方団体控）'!G50)","v":""},{"$f":"IF('保険料申告内訳名簿（一人親方団体控）'!H50=\"\",\"\",'保険料申告内訳名簿（一人親方団体控）'!H50)","v":""},{"$f":"IF('保険料申告内訳名簿（一人親方団体控）'!I50=\"\",\"\",'保険料申告内訳名簿（一人親方団体控）'!I50)","v":""},{"$f":"IF('保険料申告内訳名簿（一人親方団体控）'!J50=\"\",\"\",'保険料申告内訳名簿（一人親方団体控）'!J50)","v":""},{"$f":"IF('保険料申告内訳名簿（一人親方団体控）'!K50=\"\",\"\",'保険料申告内訳名簿（一人親方団体控）'!K50)","v":""},{"$f":"IF('保険料申告内訳名簿（一人親方団体控）'!L50=\"\",\"\",'保険料申告内訳名簿（一人親方団体控）'!L50)","v":""},{"$f":"IF('保険料申告内訳名簿（一人親方団体控）'!M50=\"\",\"\",'保険料申告内訳名簿（一人親方団体控）'!M50)","v":""},{"$f":"IF('保険料申告内訳名簿（一人親方団体控）'!N50=\"\",\"\",'保険料申告内訳名簿（一人親方団体控）'!N50)","v":""},{"$f":"IF('保険料申告内訳名簿（一人親方団体控）'!O50=\"\",\"\",'保険料申告内訳名簿（一人親方団体控）'!O50)","v":""},{"$f":"IF('保険料申告内訳名簿（一人親方団体控）'!P50=\"\",\"\",'保険料申告内訳名簿（一人親方団体控）'!P50)","v":""},{"$f":"IF('保険料申告内訳名簿（一人親方団体控）'!Q50=\"\",\"\",'保険料申告内訳名簿（一人親方団体控）'!Q50)","v":""},{"$f":"IF('保険料申告内訳名簿（一人親方団体控）'!R50=\"\",\"\",'保険料申告内訳名簿（一人親方団体控）'!R50)","v":""},{"$f":"IF('保険料申告内訳名簿（一人親方団体控）'!S50=\"\",\"\",'保険料申告内訳名簿（一人親方団体控）'!S50)","v":0},{"$f":"IF('保険料申告内訳名簿（一人親方団体控）'!T50=\"\",\"\",'保険料申告内訳名簿（一人親方団体控）'!T50)","v":""},{"$f":"IF('保険料申告内訳名簿（一人親方団体控）'!U50=\"\",\"\",'保険料申告内訳名簿（一人親方団体控）'!U50)","v":""},{"$f":"IF('保険料申告内訳名簿（一人親方団体控）'!V50=\"\",\"\",'保険料申告内訳名簿（一人親方団体控）'!V50)","v":""},{"$f":"IF('保険料申告内訳名簿（一人親方団体控）'!W50=\"\",\"\",'保険料申告内訳名簿（一人親方団体控）'!W50)","v":""},{"$f":"IF('保険料申告内訳名簿（一人親方団体控）'!X50=\"\",\"\",'保険料申告内訳名簿（一人親方団体控）'!X50)","v":""},{"$f":"IF('保険料申告内訳名簿（一人親方団体控）'!Y50=\"\",\"\",'保険料申告内訳名簿（一人親方団体控）'!Y50)","v":""},{"$f":"IF('保険料申告内訳名簿（一人親方団体控）'!Z50=\"\",\"\",'保険料申告内訳名簿（一人親方団体控）'!Z50)","v":""},{"$f":"IF('保険料申告内訳名簿（一人親方団体控）'!AA50=\"\",\"\",'保険料申告内訳名簿（一人親方団体控）'!AA50)","v":""},{"$f":"IF('保険料申告内訳名簿（一人親方団体控）'!AB50=\"\",\"\",'保険料申告内訳名簿（一人親方団体控）'!AB50)","v":""},{"$f":"IF('保険料申告内訳名簿（一人親方団体控）'!AC50=\"\",\"\",'保険料申告内訳名簿（一人親方団体控）'!AC50)","v":0},{"$f":"IF('保険料申告内訳名簿（一人親方団体控）'!AD50=\"\",\"\",'保険料申告内訳名簿（一人親方団体控）'!AD50)","v":""},{"$f":"IF('保険料申告内訳名簿（一人親方団体控）'!AE50=\"\",\"\",'保険料申告内訳名簿（一人親方団体控）'!AE50)","v":""},{"$f":"IF('保険料申告内訳名簿（一人親方団体控）'!AF50=\"\",\"\",'保険料申告内訳名簿（一人親方団体控）'!AF50)","v":""},{"$f":"IF('保険料申告内訳名簿（一人親方団体控）'!AG50=\"\",\"\",'保険料申告内訳名簿（一人親方団体控）'!AG50)","v":""},{"$f":"IF('保険料申告内訳名簿（一人親方団体控）'!AH50=\"\",\"\",'保険料申告内訳名簿（一人親方団体控）'!AH50)","v":""}]
[null,{"$f":"IF('保険料申告内訳名簿（一人親方団体控）'!B51=\"\",\"\",'保険料申告内訳名簿（一人親方団体控）'!B51)","v":""},{"$f":"IF('保険料申告内訳名簿（一人親方団体控）'!C51=\"\",\"\",'保険料申告内訳名簿（一人親方団体控）'!C51)","v":""},{"$f":"IF('保険料申告内訳名簿（一人親方団体控）'!D51=\"\",\"\",'保険料申告内訳名簿（一人親方団体控）'!D51)","v":""},{"$f":"IF('保険料申告内訳名簿（一人親方団体控）'!E51=\"\",\"\",'保険料申告内訳名簿（一人親方団体控）'!E51)","v":""},{"$f":"IF('保険料申告内訳名簿（一人親方団体控）'!F51=\"\",\"\",'保険料申告内訳名簿（一人親方団体控）'!F51)","v":""},{"$f":"IF('保険料申告内訳名簿（一人親方団体控）'!G51=\"\",\"\",'保険料申告内訳名簿（一人親方団体控）'!G51)","v":""},{"$f":"IF('保険料申告内訳名簿（一人親方団体控）'!H51=\"\",\"\",'保険料申告内訳名簿（一人親方団体控）'!H51)","v":""},{"$f":"IF('保険料申告内訳名簿（一人親方団体控）'!I51=\"\",\"\",'保険料申告内訳名簿（一人親方団体控）'!I51)","v":""},{"$f":"IF('保険料申告内訳名簿（一人親方団体控）'!J51=\"\",\"\",'保険料申告内訳名簿（一人親方団体控）'!J51)","v":""},{"$f":"IF('保険料申告内訳名簿（一人親方団体控）'!K51=\"\",\"\",'保険料申告内訳名簿（一人親方団体控）'!K51)","v":""},{"$f":"IF('保険料申告内訳名簿（一人親方団体控）'!L51=\"\",\"\",'保険料申告内訳名簿（一人親方団体控）'!L51)","v":""},{"$f":"IF('保険料申告内訳名簿（一人親方団体控）'!M51=\"\",\"\",'保険料申告内訳名簿（一人親方団体控）'!M51)","v":""},{"$f":"IF('保険料申告内訳名簿（一人親方団体控）'!N51=\"\",\"\",'保険料申告内訳名簿（一人親方団体控）'!N51)","v":""},{"$f":"IF('保険料申告内訳名簿（一人親方団体控）'!O51=\"\",\"\",'保険料申告内訳名簿（一人親方団体控）'!O51)","v":""},{"$f":"IF('保険料申告内訳名簿（一人親方団体控）'!P51=\"\",\"\",'保険料申告内訳名簿（一人親方団体控）'!P51)","v":""},{"$f":"IF('保険料申告内訳名簿（一人親方団体控）'!Q51=\"\",\"\",'保険料申告内訳名簿（一人親方団体控）'!Q51)","v":""},{"$f":"IF('保険料申告内訳名簿（一人親方団体控）'!R51=\"\",\"\",'保険料申告内訳名簿（一人親方団体控）'!R51)","v":""},{"$f":"IF('保険料申告内訳名簿（一人親方団体控）'!S51=\"\",\"\",'保険料申告内訳名簿（一人親方団体控）'!S51)","v":0},{"$f":"IF('保険料申告内訳名簿（一人親方団体控）'!T51=\"\",\"\",'保険料申告内訳名簿（一人親方団体控）'!T51)","v":""},{"$f":"IF('保険料申告内訳名簿（一人親方団体控）'!U51=\"\",\"\",'保険料申告内訳名簿（一人親方団体控）'!U51)","v":""},{"$f":"IF('保険料申告内訳名簿（一人親方団体控）'!V51=\"\",\"\",'保険料申告内訳名簿（一人親方団体控）'!V51)","v":""},{"$f":"IF('保険料申告内訳名簿（一人親方団体控）'!W51=\"\",\"\",'保険料申告内訳名簿（一人親方団体控）'!W51)","v":""},{"$f":"IF('保険料申告内訳名簿（一人親方団体控）'!X51=\"\",\"\",'保険料申告内訳名簿（一人親方団体控）'!X51)","v":""},{"$f":"IF('保険料申告内訳名簿（一人親方団体控）'!Y51=\"\",\"\",'保険料申告内訳名簿（一人親方団体控）'!Y51)","v":""},{"$f":"IF('保険料申告内訳名簿（一人親方団体控）'!Z51=\"\",\"\",'保険料申告内訳名簿（一人親方団体控）'!Z51)","v":""},{"$f":"IF('保険料申告内訳名簿（一人親方団体控）'!AA51=\"\",\"\",'保険料申告内訳名簿（一人親方団体控）'!AA51)","v":""},{"$f":"IF('保険料申告内訳名簿（一人親方団体控）'!AB51=\"\",\"\",'保険料申告内訳名簿（一人親方団体控）'!AB51)","v":""},{"$f":"IF('保険料申告内訳名簿（一人親方団体控）'!AC51=\"\",\"\",'保険料申告内訳名簿（一人親方団体控）'!AC51)","v":0},{"$f":"IF('保険料申告内訳名簿（一人親方団体控）'!AD51=\"\",\"\",'保険料申告内訳名簿（一人親方団体控）'!AD51)","v":""},{"$f":"IF('保険料申告内訳名簿（一人親方団体控）'!AE51=\"\",\"\",'保険料申告内訳名簿（一人親方団体控）'!AE51)","v":""},{"$f":"IF('保険料申告内訳名簿（一人親方団体控）'!AF51=\"\",\"\",'保険料申告内訳名簿（一人親方団体控）'!AF51)","v":""},{"$f":"IF('保険料申告内訳名簿（一人親方団体控）'!AG51=\"\",\"\",'保険料申告内訳名簿（一人親方団体控）'!AG51)","v":""},{"$f":"IF('保険料申告内訳名簿（一人親方団体控）'!AH51=\"\",\"\",'保険料申告内訳名簿（一人親方団体控）'!AH51)","v":""}]
[null,{"$f":"IF('保険料申告内訳名簿（一人親方団体控）'!B52=\"\",\"\",'保険料申告内訳名簿（一人親方団体控）'!B52)","v":""},{"$f":"IF('保険料申告内訳名簿（一人親方団体控）'!C52=\"\",\"\",'保険料申告内訳名簿（一人親方団体控）'!C52)","v":""},{"$f":"IF('保険料申告内訳名簿（一人親方団体控）'!D52=\"\",\"\",'保険料申告内訳名簿（一人親方団体控）'!D52)","v":""},{"$f":"IF('保険料申告内訳名簿（一人親方団体控）'!E52=\"\",\"\",'保険料申告内訳名簿（一人親方団体控）'!E52)","v":""},{"$f":"IF('保険料申告内訳名簿（一人親方団体控）'!F52=\"\",\"\",'保険料申告内訳名簿（一人親方団体控）'!F52)","v":""},{"$f":"IF('保険料申告内訳名簿（一人親方団体控）'!G52=\"\",\"\",'保険料申告内訳名簿（一人親方団体控）'!G52)","v":""},{"$f":"IF('保険料申告内訳名簿（一人親方団体控）'!H52=\"\",\"\",'保険料申告内訳名簿（一人親方団体控）'!H52)","v":""},{"$f":"IF('保険料申告内訳名簿（一人親方団体控）'!I52=\"\",\"\",'保険料申告内訳名簿（一人親方団体控）'!I52)","v":""},{"$f":"IF('保険料申告内訳名簿（一人親方団体控）'!J52=\"\",\"\",'保険料申告内訳名簿（一人親方団体控）'!J52)","v":""},{"$f":"IF('保険料申告内訳名簿（一人親方団体控）'!K52=\"\",\"\",'保険料申告内訳名簿（一人親方団体控）'!K52)","v":""},{"$f":"IF('保険料申告内訳名簿（一人親方団体控）'!L52=\"\",\"\",'保険料申告内訳名簿（一人親方団体控）'!L52)","v":""},{"$f":"IF('保険料申告内訳名簿（一人親方団体控）'!M52=\"\",\"\",'保険料申告内訳名簿（一人親方団体控）'!M52)","v":""},{"$f":"IF('保険料申告内訳名簿（一人親方団体控）'!N52=\"\",\"\",'保険料申告内訳名簿（一人親方団体控）'!N52)","v":""},{"$f":"IF('保険料申告内訳名簿（一人親方団体控）'!O52=\"\",\"\",'保険料申告内訳名簿（一人親方団体控）'!O52)","v":""},{"$f":"IF('保険料申告内訳名簿（一人親方団体控）'!P52=\"\",\"\",'保険料申告内訳名簿（一人親方団体控）'!P52)","v":""},{"$f":"IF('保険料申告内訳名簿（一人親方団体控）'!Q52=\"\",\"\",'保険料申告内訳名簿（一人親方団体控）'!Q52)","v":""},{"$f":"IF('保険料申告内訳名簿（一人親方団体控）'!R52=\"\",\"\",'保険料申告内訳名簿（一人親方団体控）'!R52)","v":""},{"$f":"IF('保険料申告内訳名簿（一人親方団体控）'!S52=\"\",\"\",'保険料申告内訳名簿（一人親方団体控）'!S52)","v":0},{"$f":"IF('保険料申告内訳名簿（一人親方団体控）'!T52=\"\",\"\",'保険料申告内訳名簿（一人親方団体控）'!T52)","v":""},{"$f":"IF('保険料申告内訳名簿（一人親方団体控）'!U52=\"\",\"\",'保険料申告内訳名簿（一人親方団体控）'!U52)","v":""},{"$f":"IF('保険料申告内訳名簿（一人親方団体控）'!V52=\"\",\"\",'保険料申告内訳名簿（一人親方団体控）'!V52)","v":""},{"$f":"IF('保険料申告内訳名簿（一人親方団体控）'!W52=\"\",\"\",'保険料申告内訳名簿（一人親方団体控）'!W52)","v":""},{"$f":"IF('保険料申告内訳名簿（一人親方団体控）'!X52=\"\",\"\",'保険料申告内訳名簿（一人親方団体控）'!X52)","v":""},{"$f":"IF('保険料申告内訳名簿（一人親方団体控）'!Y52=\"\",\"\",'保険料申告内訳名簿（一人親方団体控）'!Y52)","v":""},{"$f":"IF('保険料申告内訳名簿（一人親方団体控）'!Z52=\"\",\"\",'保険料申告内訳名簿（一人親方団体控）'!Z52)","v":""},{"$f":"IF('保険料申告内訳名簿（一人親方団体控）'!AA52=\"\",\"\",'保険料申告内訳名簿（一人親方団体控）'!AA52)","v":""},{"$f":"IF('保険料申告内訳名簿（一人親方団体控）'!AB52=\"\",\"\",'保険料申告内訳名簿（一人親方団体控）'!AB52)","v":""},{"$f":"IF('保険料申告内訳名簿（一人親方団体控）'!AC52=\"\",\"\",'保険料申告内訳名簿（一人親方団体控）'!AC52)","v":0},{"$f":"IF('保険料申告内訳名簿（一人親方団体控）'!AD52=\"\",\"\",'保険料申告内訳名簿（一人親方団体控）'!AD52)","v":""},{"$f":"IF('保険料申告内訳名簿（一人親方団体控）'!AE52=\"\",\"\",'保険料申告内訳名簿（一人親方団体控）'!AE52)","v":""},{"$f":"IF('保険料申告内訳名簿（一人親方団体控）'!AF52=\"\",\"\",'保険料申告内訳名簿（一人親方団体控）'!AF52)","v":""},{"$f":"IF('保険料申告内訳名簿（一人親方団体控）'!AG52=\"\",\"\",'保険料申告内訳名簿（一人親方団体控）'!AG52)","v":""},{"$f":"IF('保険料申告内訳名簿（一人親方団体控）'!AH52=\"\",\"\",'保険料申告内訳名簿（一人親方団体控）'!AH52)","v":""}]
[null,{"$f":"IF('保険料申告内訳名簿（一人親方団体控）'!B53=\"\",\"\",'保険料申告内訳名簿（一人親方団体控）'!B53)","v":""},{"$f":"IF('保険料申告内訳名簿（一人親方団体控）'!C53=\"\",\"\",'保険料申告内訳名簿（一人親方団体控）'!C53)","v":""},{"$f":"IF('保険料申告内訳名簿（一人親方団体控）'!D53=\"\",\"\",'保険料申告内訳名簿（一人親方団体控）'!D53)","v":""},{"$f":"IF('保険料申告内訳名簿（一人親方団体控）'!E53=\"\",\"\",'保険料申告内訳名簿（一人親方団体控）'!E53)","v":""},{"$f":"IF('保険料申告内訳名簿（一人親方団体控）'!F53=\"\",\"\",'保険料申告内訳名簿（一人親方団体控）'!F53)","v":""},{"$f":"IF('保険料申告内訳名簿（一人親方団体控）'!G53=\"\",\"\",'保険料申告内訳名簿（一人親方団体控）'!G53)","v":""},{"$f":"IF('保険料申告内訳名簿（一人親方団体控）'!H53=\"\",\"\",'保険料申告内訳名簿（一人親方団体控）'!H53)","v":""},{"$f":"IF('保険料申告内訳名簿（一人親方団体控）'!I53=\"\",\"\",'保険料申告内訳名簿（一人親方団体控）'!I53)","v":""},{"$f":"IF('保険料申告内訳名簿（一人親方団体控）'!J53=\"\",\"\",'保険料申告内訳名簿（一人親方団体控）'!J53)","v":""},{"$f":"IF('保険料申告内訳名簿（一人親方団体控）'!K53=\"\",\"\",'保険料申告内訳名簿（一人親方団体控）'!K53)","v":""},{"$f":"IF('保険料申告内訳名簿（一人親方団体控）'!L53=\"\",\"\",'保険料申告内訳名簿（一人親方団体控）'!L53)","v":""},{"$f":"IF('保険料申告内訳名簿（一人親方団体控）'!M53=\"\",\"\",'保険料申告内訳名簿（一人親方団体控）'!M53)","v":""},{"$f":"IF('保険料申告内訳名簿（一人親方団体控）'!N53=\"\",\"\",'保険料申告内訳名簿（一人親方団体控）'!N53)","v":""},{"$f":"IF('保険料申告内訳名簿（一人親方団体控）'!O53=\"\",\"\",'保険料申告内訳名簿（一人親方団体控）'!O53)","v":""},{"$f":"IF('保険料申告内訳名簿（一人親方団体控）'!P53=\"\",\"\",'保険料申告内訳名簿（一人親方団体控）'!P53)","v":""},{"$f":"IF('保険料申告内訳名簿（一人親方団体控）'!Q53=\"\",\"\",'保険料申告内訳名簿（一人親方団体控）'!Q53)","v":""},{"$f":"IF('保険料申告内訳名簿（一人親方団体控）'!R53=\"\",\"\",'保険料申告内訳名簿（一人親方団体控）'!R53)","v":""},{"$f":"IF('保険料申告内訳名簿（一人親方団体控）'!S53=\"\",\"\",'保険料申告内訳名簿（一人親方団体控）'!S53)","v":0},{"$f":"IF('保険料申告内訳名簿（一人親方団体控）'!T53=\"\",\"\",'保険料申告内訳名簿（一人親方団体控）'!T53)","v":""},{"$f":"IF('保険料申告内訳名簿（一人親方団体控）'!U53=\"\",\"\",'保険料申告内訳名簿（一人親方団体控）'!U53)","v":""},{"$f":"IF('保険料申告内訳名簿（一人親方団体控）'!V53=\"\",\"\",'保険料申告内訳名簿（一人親方団体控）'!V53)","v":""},{"$f":"IF('保険料申告内訳名簿（一人親方団体控）'!W53=\"\",\"\",'保険料申告内訳名簿（一人親方団体控）'!W53)","v":""},{"$f":"IF('保険料申告内訳名簿（一人親方団体控）'!X53=\"\",\"\",'保険料申告内訳名簿（一人親方団体控）'!X53)","v":""},{"$f":"IF('保険料申告内訳名簿（一人親方団体控）'!Y53=\"\",\"\",'保険料申告内訳名簿（一人親方団体控）'!Y53)","v":""},{"$f":"IF('保険料申告内訳名簿（一人親方団体控）'!Z53=\"\",\"\",'保険料申告内訳名簿（一人親方団体控）'!Z53)","v":""},{"$f":"IF('保険料申告内訳名簿（一人親方団体控）'!AA53=\"\",\"\",'保険料申告内訳名簿（一人親方団体控）'!AA53)","v":""},{"$f":"IF('保険料申告内訳名簿（一人親方団体控）'!AB53=\"\",\"\",'保険料申告内訳名簿（一人親方団体控）'!AB53)","v":""},{"$f":"IF('保険料申告内訳名簿（一人親方団体控）'!AC53=\"\",\"\",'保険料申告内訳名簿（一人親方団体控）'!AC53)","v":0},{"$f":"IF('保険料申告内訳名簿（一人親方団体控）'!AD53=\"\",\"\",'保険料申告内訳名簿（一人親方団体控）'!AD53)","v":""},{"$f":"IF('保険料申告内訳名簿（一人親方団体控）'!AE53=\"\",\"\",'保険料申告内訳名簿（一人親方団体控）'!AE53)","v":""},{"$f":"IF('保険料申告内訳名簿（一人親方団体控）'!AF53=\"\",\"\",'保険料申告内訳名簿（一人親方団体控）'!AF53)","v":""},{"$f":"IF('保険料申告内訳名簿（一人親方団体控）'!AG53=\"\",\"\",'保険料申告内訳名簿（一人親方団体控）'!AG53)","v":""},{"$f":"IF('保険料申告内訳名簿（一人親方団体控）'!AH53=\"\",\"\",'保険料申告内訳名簿（一人親方団体控）'!AH53)","v":""}]
[null,{"$f":"IF('保険料申告内訳名簿（一人親方団体控）'!B54=\"\",\"\",'保険料申告内訳名簿（一人親方団体控）'!B54)","v":""},{"$f":"IF('保険料申告内訳名簿（一人親方団体控）'!C54=\"\",\"\",'保険料申告内訳名簿（一人親方団体控）'!C54)","v":""},{"$f":"IF('保険料申告内訳名簿（一人親方団体控）'!D54=\"\",\"\",'保険料申告内訳名簿（一人親方団体控）'!D54)","v":""},{"$f":"IF('保険料申告内訳名簿（一人親方団体控）'!E54=\"\",\"\",'保険料申告内訳名簿（一人親方団体控）'!E54)","v":""},{"$f":"IF('保険料申告内訳名簿（一人親方団体控）'!F54=\"\",\"\",'保険料申告内訳名簿（一人親方団体控）'!F54)","v":""},{"$f":"IF('保険料申告内訳名簿（一人親方団体控）'!G54=\"\",\"\",'保険料申告内訳名簿（一人親方団体控）'!G54)","v":""},{"$f":"IF('保険料申告内訳名簿（一人親方団体控）'!H54=\"\",\"\",'保険料申告内訳名簿（一人親方団体控）'!H54)","v":""},{"$f":"IF('保険料申告内訳名簿（一人親方団体控）'!I54=\"\",\"\",'保険料申告内訳名簿（一人親方団体控）'!I54)","v":""},{"$f":"IF('保険料申告内訳名簿（一人親方団体控）'!J54=\"\",\"\",'保険料申告内訳名簿（一人親方団体控）'!J54)","v":""},{"$f":"IF('保険料申告内訳名簿（一人親方団体控）'!K54=\"\",\"\",'保険料申告内訳名簿（一人親方団体控）'!K54)","v":""},{"$f":"IF('保険料申告内訳名簿（一人親方団体控）'!L54=\"\",\"\",'保険料申告内訳名簿（一人親方団体控）'!L54)","v":""},{"$f":"IF('保険料申告内訳名簿（一人親方団体控）'!M54=\"\",\"\",'保険料申告内訳名簿（一人親方団体控）'!M54)","v":""},{"$f":"IF('保険料申告内訳名簿（一人親方団体控）'!N54=\"\",\"\",'保険料申告内訳名簿（一人親方団体控）'!N54)","v":""},{"$f":"IF('保険料申告内訳名簿（一人親方団体控）'!O54=\"\",\"\",'保険料申告内訳名簿（一人親方団体控）'!O54)","v":""},{"$f":"IF('保険料申告内訳名簿（一人親方団体控）'!P54=\"\",\"\",'保険料申告内訳名簿（一人親方団体控）'!P54)","v":""},{"$f":"IF('保険料申告内訳名簿（一人親方団体控）'!Q54=\"\",\"\",'保険料申告内訳名簿（一人親方団体控）'!Q54)","v":""},{"$f":"IF('保険料申告内訳名簿（一人親方団体控）'!R54=\"\",\"\",'保険料申告内訳名簿（一人親方団体控）'!R54)","v":""},{"$f":"IF('保険料申告内訳名簿（一人親方団体控）'!S54=\"\",\"\",'保険料申告内訳名簿（一人親方団体控）'!S54)","v":0},{"$f":"IF('保険料申告内訳名簿（一人親方団体控）'!T54=\"\",\"\",'保険料申告内訳名簿（一人親方団体控）'!T54)","v":""},{"$f":"IF('保険料申告内訳名簿（一人親方団体控）'!U54=\"\",\"\",'保険料申告内訳名簿（一人親方団体控）'!U54)","v":""},{"$f":"IF('保険料申告内訳名簿（一人親方団体控）'!V54=\"\",\"\",'保険料申告内訳名簿（一人親方団体控）'!V54)","v":""},{"$f":"IF('保険料申告内訳名簿（一人親方団体控）'!W54=\"\",\"\",'保険料申告内訳名簿（一人親方団体控）'!W54)","v":""},{"$f":"IF('保険料申告内訳名簿（一人親方団体控）'!X54=\"\",\"\",'保険料申告内訳名簿（一人親方団体控）'!X54)","v":""},{"$f":"IF('保険料申告内訳名簿（一人親方団体控）'!Y54=\"\",\"\",'保険料申告内訳名簿（一人親方団体控）'!Y54)","v":""},{"$f":"IF('保険料申告内訳名簿（一人親方団体控）'!Z54=\"\",\"\",'保険料申告内訳名簿（一人親方団体控）'!Z54)","v":""},{"$f":"IF('保険料申告内訳名簿（一人親方団体控）'!AA54=\"\",\"\",'保険料申告内訳名簿（一人親方団体控）'!AA54)","v":""},{"$f":"IF('保険料申告内訳名簿（一人親方団体控）'!AB54=\"\",\"\",'保険料申告内訳名簿（一人親方団体控）'!AB54)","v":""},{"$f":"IF('保険料申告内訳名簿（一人親方団体控）'!AC54=\"\",\"\",'保険料申告内訳名簿（一人親方団体控）'!AC54)","v":0},{"$f":"IF('保険料申告内訳名簿（一人親方団体控）'!AD54=\"\",\"\",'保険料申告内訳名簿（一人親方団体控）'!AD54)","v":""},{"$f":"IF('保険料申告内訳名簿（一人親方団体控）'!AE54=\"\",\"\",'保険料申告内訳名簿（一人親方団体控）'!AE54)","v":""},{"$f":"IF('保険料申告内訳名簿（一人親方団体控）'!AF54=\"\",\"\",'保険料申告内訳名簿（一人親方団体控）'!AF54)","v":""},{"$f":"IF('保険料申告内訳名簿（一人親方団体控）'!AG54=\"\",\"\",'保険料申告内訳名簿（一人親方団体控）'!AG54)","v":""},{"$f":"IF('保険料申告内訳名簿（一人親方団体控）'!AH54=\"\",\"\",'保険料申告内訳名簿（一人親方団体控）'!AH54)","v":""}]
[null,{"$f":"IF('保険料申告内訳名簿（一人親方団体控）'!B55=\"\",\"\",'保険料申告内訳名簿（一人親方団体控）'!B55)","v":""},{"$f":"IF('保険料申告内訳名簿（一人親方団体控）'!C55=\"\",\"\",'保険料申告内訳名簿（一人親方団体控）'!C55)","v":""},{"$f":"IF('保険料申告内訳名簿（一人親方団体控）'!D55=\"\",\"\",'保険料申告内訳名簿（一人親方団体控）'!D55)","v":""},{"$f":"IF('保険料申告内訳名簿（一人親方団体控）'!E55=\"\",\"\",'保険料申告内訳名簿（一人親方団体控）'!E55)","v":""},{"$f":"IF('保険料申告内訳名簿（一人親方団体控）'!F55=\"\",\"\",'保険料申告内訳名簿（一人親方団体控）'!F55)","v":""},{"$f":"IF('保険料申告内訳名簿（一人親方団体控）'!G55=\"\",\"\",'保険料申告内訳名簿（一人親方団体控）'!G55)","v":""},{"$f":"IF('保険料申告内訳名簿（一人親方団体控）'!H55=\"\",\"\",'保険料申告内訳名簿（一人親方団体控）'!H55)","v":""},{"$f":"IF('保険料申告内訳名簿（一人親方団体控）'!I55=\"\",\"\",'保険料申告内訳名簿（一人親方団体控）'!I55)","v":""},{"$f":"IF('保険料申告内訳名簿（一人親方団体控）'!J55=\"\",\"\",'保険料申告内訳名簿（一人親方団体控）'!J55)","v":""},{"$f":"IF('保険料申告内訳名簿（一人親方団体控）'!K55=\"\",\"\",'保険料申告内訳名簿（一人親方団体控）'!K55)","v":""},{"$f":"IF('保険料申告内訳名簿（一人親方団体控）'!L55=\"\",\"\",'保険料申告内訳名簿（一人親方団体控）'!L55)","v":""},{"$f":"IF('保険料申告内訳名簿（一人親方団体控）'!M55=\"\",\"\",'保険料申告内訳名簿（一人親方団体控）'!M55)","v":""},{"$f":"IF('保険料申告内訳名簿（一人親方団体控）'!N55=\"\",\"\",'保険料申告内訳名簿（一人親方団体控）'!N55)","v":""},{"$f":"IF('保険料申告内訳名簿（一人親方団体控）'!O55=\"\",\"\",'保険料申告内訳名簿（一人親方団体控）'!O55)","v":""},{"$f":"IF('保険料申告内訳名簿（一人親方団体控）'!P55=\"\",\"\",'保険料申告内訳名簿（一人親方団体控）'!P55)","v":""},{"$f":"IF('保険料申告内訳名簿（一人親方団体控）'!Q55=\"\",\"\",'保険料申告内訳名簿（一人親方団体控）'!Q55)","v":""},{"$f":"IF('保険料申告内訳名簿（一人親方団体控）'!R55=\"\",\"\",'保険料申告内訳名簿（一人親方団体控）'!R55)","v":""},{"$f":"IF('保険料申告内訳名簿（一人親方団体控）'!S55=\"\",\"\",'保険料申告内訳名簿（一人親方団体控）'!S55)","v":0},{"$f":"IF('保険料申告内訳名簿（一人親方団体控）'!T55=\"\",\"\",'保険料申告内訳名簿（一人親方団体控）'!T55)","v":""},{"$f":"IF('保険料申告内訳名簿（一人親方団体控）'!U55=\"\",\"\",'保険料申告内訳名簿（一人親方団体控）'!U55)","v":""},{"$f":"IF('保険料申告内訳名簿（一人親方団体控）'!V55=\"\",\"\",'保険料申告内訳名簿（一人親方団体控）'!V55)","v":""},{"$f":"IF('保険料申告内訳名簿（一人親方団体控）'!W55=\"\",\"\",'保険料申告内訳名簿（一人親方団体控）'!W55)","v":""},{"$f":"IF('保険料申告内訳名簿（一人親方団体控）'!X55=\"\",\"\",'保険料申告内訳名簿（一人親方団体控）'!X55)","v":""},{"$f":"IF('保険料申告内訳名簿（一人親方団体控）'!Y55=\"\",\"\",'保険料申告内訳名簿（一人親方団体控）'!Y55)","v":""},{"$f":"IF('保険料申告内訳名簿（一人親方団体控）'!Z55=\"\",\"\",'保険料申告内訳名簿（一人親方団体控）'!Z55)","v":""},{"$f":"IF('保険料申告内訳名簿（一人親方団体控）'!AA55=\"\",\"\",'保険料申告内訳名簿（一人親方団体控）'!AA55)","v":""},{"$f":"IF('保険料申告内訳名簿（一人親方団体控）'!AB55=\"\",\"\",'保険料申告内訳名簿（一人親方団体控）'!AB55)","v":""},{"$f":"IF('保険料申告内訳名簿（一人親方団体控）'!AC55=\"\",\"\",'保険料申告内訳名簿（一人親方団体控）'!AC55)","v":0},{"$f":"IF('保険料申告内訳名簿（一人親方団体控）'!AD55=\"\",\"\",'保険料申告内訳名簿（一人親方団体控）'!AD55)","v":""},{"$f":"IF('保険料申告内訳名簿（一人親方団体控）'!AE55=\"\",\"\",'保険料申告内訳名簿（一人親方団体控）'!AE55)","v":""},{"$f":"IF('保険料申告内訳名簿（一人親方団体控）'!AF55=\"\",\"\",'保険料申告内訳名簿（一人親方団体控）'!AF55)","v":""},{"$f":"IF('保険料申告内訳名簿（一人親方団体控）'!AG55=\"\",\"\",'保険料申告内訳名簿（一人親方団体控）'!AG55)","v":""},{"$f":"IF('保険料申告内訳名簿（一人親方団体控）'!AH55=\"\",\"\",'保険料申告内訳名簿（一人親方団体控）'!AH55)","v":""}]
[null,{"$f":"IF('保険料申告内訳名簿（一人親方団体控）'!B56=\"\",\"\",'保険料申告内訳名簿（一人親方団体控）'!B56)","v":""},{"$f":"IF('保険料申告内訳名簿（一人親方団体控）'!C56=\"\",\"\",'保険料申告内訳名簿（一人親方団体控）'!C56)","v":""},{"$f":"IF('保険料申告内訳名簿（一人親方団体控）'!D56=\"\",\"\",'保険料申告内訳名簿（一人親方団体控）'!D56)","v":""},{"$f":"IF('保険料申告内訳名簿（一人親方団体控）'!E56=\"\",\"\",'保険料申告内訳名簿（一人親方団体控）'!E56)","v":""},{"$f":"IF('保険料申告内訳名簿（一人親方団体控）'!F56=\"\",\"\",'保険料申告内訳名簿（一人親方団体控）'!F56)","v":""},{"$f":"IF('保険料申告内訳名簿（一人親方団体控）'!G56=\"\",\"\",'保険料申告内訳名簿（一人親方団体控）'!G56)","v":""},{"$f":"IF('保険料申告内訳名簿（一人親方団体控）'!H56=\"\",\"\",'保険料申告内訳名簿（一人親方団体控）'!H56)","v":""},{"$f":"IF('保険料申告内訳名簿（一人親方団体控）'!I56=\"\",\"\",'保険料申告内訳名簿（一人親方団体控）'!I56)","v":""},{"$f":"IF('保険料申告内訳名簿（一人親方団体控）'!J56=\"\",\"\",'保険料申告内訳名簿（一人親方団体控）'!J56)","v":""},{"$f":"IF('保険料申告内訳名簿（一人親方団体控）'!K56=\"\",\"\",'保険料申告内訳名簿（一人親方団体控）'!K56)","v":""},{"$f":"IF('保険料申告内訳名簿（一人親方団体控）'!L56=\"\",\"\",'保険料申告内訳名簿（一人親方団体控）'!L56)","v":""},{"$f":"IF('保険料申告内訳名簿（一人親方団体控）'!M56=\"\",\"\",'保険料申告内訳名簿（一人親方団体控）'!M56)","v":""},{"$f":"IF('保険料申告内訳名簿（一人親方団体控）'!N56=\"\",\"\",'保険料申告内訳名簿（一人親方団体控）'!N56)","v":""},{"$f":"IF('保険料申告内訳名簿（一人親方団体控）'!O56=\"\",\"\",'保険料申告内訳名簿（一人親方団体控）'!O56)","v":""},{"$f":"IF('保険料申告内訳名簿（一人親方団体控）'!P56=\"\",\"\",'保険料申告内訳名簿（一人親方団体控）'!P56)","v":""},{"$f":"IF('保険料申告内訳名簿（一人親方団体控）'!Q56=\"\",\"\",'保険料申告内訳名簿（一人親方団体控）'!Q56)","v":""},{"$f":"IF('保険料申告内訳名簿（一人親方団体控）'!R56=\"\",\"\",'保険料申告内訳名簿（一人親方団体控）'!R56)","v":""},{"$f":"IF('保険料申告内訳名簿（一人親方団体控）'!S56=\"\",\"\",'保険料申告内訳名簿（一人親方団体控）'!S56)","v":0},{"$f":"IF('保険料申告内訳名簿（一人親方団体控）'!T56=\"\",\"\",'保険料申告内訳名簿（一人親方団体控）'!T56)","v":""},{"$f":"IF('保険料申告内訳名簿（一人親方団体控）'!U56=\"\",\"\",'保険料申告内訳名簿（一人親方団体控）'!U56)","v":""},{"$f":"IF('保険料申告内訳名簿（一人親方団体控）'!V56=\"\",\"\",'保険料申告内訳名簿（一人親方団体控）'!V56)","v":""},{"$f":"IF('保険料申告内訳名簿（一人親方団体控）'!W56=\"\",\"\",'保険料申告内訳名簿（一人親方団体控）'!W56)","v":""},{"$f":"IF('保険料申告内訳名簿（一人親方団体控）'!X56=\"\",\"\",'保険料申告内訳名簿（一人親方団体控）'!X56)","v":""},{"$f":"IF('保険料申告内訳名簿（一人親方団体控）'!Y56=\"\",\"\",'保険料申告内訳名簿（一人親方団体控）'!Y56)","v":""},{"$f":"IF('保険料申告内訳名簿（一人親方団体控）'!Z56=\"\",\"\",'保険料申告内訳名簿（一人親方団体控）'!Z56)","v":""},{"$f":"IF('保険料申告内訳名簿（一人親方団体控）'!AA56=\"\",\"\",'保険料申告内訳名簿（一人親方団体控）'!AA56)","v":""},{"$f":"IF('保険料申告内訳名簿（一人親方団体控）'!AB56=\"\",\"\",'保険料申告内訳名簿（一人親方団体控）'!AB56)","v":""},{"$f":"IF('保険料申告内訳名簿（一人親方団体控）'!AC56=\"\",\"\",'保険料申告内訳名簿（一人親方団体控）'!AC56)","v":0},{"$f":"IF('保険料申告内訳名簿（一人親方団体控）'!AD56=\"\",\"\",'保険料申告内訳名簿（一人親方団体控）'!AD56)","v":""},{"$f":"IF('保険料申告内訳名簿（一人親方団体控）'!AE56=\"\",\"\",'保険料申告内訳名簿（一人親方団体控）'!AE56)","v":""},{"$f":"IF('保険料申告内訳名簿（一人親方団体控）'!AF56=\"\",\"\",'保険料申告内訳名簿（一人親方団体控）'!AF56)","v":""},{"$f":"IF('保険料申告内訳名簿（一人親方団体控）'!AG56=\"\",\"\",'保険料申告内訳名簿（一人親方団体控）'!AG56)","v":""},{"$f":"IF('保険料申告内訳名簿（一人親方団体控）'!AH56=\"\",\"\",'保険料申告内訳名簿（一人親方団体控）'!AH56)","v":""}]
[null,{"$f":"IF('保険料申告内訳名簿（一人親方団体控）'!B57=\"\",\"\",'保険料申告内訳名簿（一人親方団体控）'!B57)","v":""},{"$f":"IF('保険料申告内訳名簿（一人親方団体控）'!C57=\"\",\"\",'保険料申告内訳名簿（一人親方団体控）'!C57)","v":""},{"$f":"IF('保険料申告内訳名簿（一人親方団体控）'!D57=\"\",\"\",'保険料申告内訳名簿（一人親方団体控）'!D57)","v":""},{"$f":"IF('保険料申告内訳名簿（一人親方団体控）'!E57=\"\",\"\",'保険料申告内訳名簿（一人親方団体控）'!E57)","v":""},{"$f":"IF('保険料申告内訳名簿（一人親方団体控）'!F57=\"\",\"\",'保険料申告内訳名簿（一人親方団体控）'!F57)","v":""},{"$f":"IF('保険料申告内訳名簿（一人親方団体控）'!G57=\"\",\"\",'保険料申告内訳名簿（一人親方団体控）'!G57)","v":""},{"$f":"IF('保険料申告内訳名簿（一人親方団体控）'!H57=\"\",\"\",'保険料申告内訳名簿（一人親方団体控）'!H57)","v":""},{"$f":"IF('保険料申告内訳名簿（一人親方団体控）'!I57=\"\",\"\",'保険料申告内訳名簿（一人親方団体控）'!I57)","v":""},{"$f":"IF('保険料申告内訳名簿（一人親方団体控）'!J57=\"\",\"\",'保険料申告内訳名簿（一人親方団体控）'!J57)","v":""},{"$f":"IF('保険料申告内訳名簿（一人親方団体控）'!K57=\"\",\"\",'保険料申告内訳名簿（一人親方団体控）'!K57)","v":""},{"$f":"IF('保険料申告内訳名簿（一人親方団体控）'!L57=\"\",\"\",'保険料申告内訳名簿（一人親方団体控）'!L57)","v":""},{"$f":"IF('保険料申告内訳名簿（一人親方団体控）'!M57=\"\",\"\",'保険料申告内訳名簿（一人親方団体控）'!M57)","v":""},{"$f":"IF('保険料申告内訳名簿（一人親方団体控）'!N57=\"\",\"\",'保険料申告内訳名簿（一人親方団体控）'!N57)","v":""},{"$f":"IF('保険料申告内訳名簿（一人親方団体控）'!O57=\"\",\"\",'保険料申告内訳名簿（一人親方団体控）'!O57)","v":""},{"$f":"IF('保険料申告内訳名簿（一人親方団体控）'!P57=\"\",\"\",'保険料申告内訳名簿（一人親方団体控）'!P57)","v":""},{"$f":"IF('保険料申告内訳名簿（一人親方団体控）'!Q57=\"\",\"\",'保険料申告内訳名簿（一人親方団体控）'!Q57)","v":""},{"$f":"IF('保険料申告内訳名簿（一人親方団体控）'!R57=\"\",\"\",'保険料申告内訳名簿（一人親方団体控）'!R57)","v":""},{"$f":"IF('保険料申告内訳名簿（一人親方団体控）'!S57=\"\",\"\",'保険料申告内訳名簿（一人親方団体控）'!S57)","v":0},{"$f":"IF('保険料申告内訳名簿（一人親方団体控）'!T57=\"\",\"\",'保険料申告内訳名簿（一人親方団体控）'!T57)","v":""},{"$f":"IF('保険料申告内訳名簿（一人親方団体控）'!U57=\"\",\"\",'保険料申告内訳名簿（一人親方団体控）'!U57)","v":""},{"$f":"IF('保険料申告内訳名簿（一人親方団体控）'!V57=\"\",\"\",'保険料申告内訳名簿（一人親方団体控）'!V57)","v":""},{"$f":"IF('保険料申告内訳名簿（一人親方団体控）'!W57=\"\",\"\",'保険料申告内訳名簿（一人親方団体控）'!W57)","v":""},{"$f":"IF('保険料申告内訳名簿（一人親方団体控）'!X57=\"\",\"\",'保険料申告内訳名簿（一人親方団体控）'!X57)","v":""},{"$f":"IF('保険料申告内訳名簿（一人親方団体控）'!Y57=\"\",\"\",'保険料申告内訳名簿（一人親方団体控）'!Y57)","v":""},{"$f":"IF('保険料申告内訳名簿（一人親方団体控）'!Z57=\"\",\"\",'保険料申告内訳名簿（一人親方団体控）'!Z57)","v":""},{"$f":"IF('保険料申告内訳名簿（一人親方団体控）'!AA57=\"\",\"\",'保険料申告内訳名簿（一人親方団体控）'!AA57)","v":""},{"$f":"IF('保険料申告内訳名簿（一人親方団体控）'!AB57=\"\",\"\",'保険料申告内訳名簿（一人親方団体控）'!AB57)","v":""},{"$f":"IF('保険料申告内訳名簿（一人親方団体控）'!AC57=\"\",\"\",'保険料申告内訳名簿（一人親方団体控）'!AC57)","v":0},{"$f":"IF('保険料申告内訳名簿（一人親方団体控）'!AD57=\"\",\"\",'保険料申告内訳名簿（一人親方団体控）'!AD57)","v":""},{"$f":"IF('保険料申告内訳名簿（一人親方団体控）'!AE57=\"\",\"\",'保険料申告内訳名簿（一人親方団体控）'!AE57)","v":""},{"$f":"IF('保険料申告内訳名簿（一人親方団体控）'!AF57=\"\",\"\",'保険料申告内訳名簿（一人親方団体控）'!AF57)","v":""},{"$f":"IF('保険料申告内訳名簿（一人親方団体控）'!AG57=\"\",\"\",'保険料申告内訳名簿（一人親方団体控）'!AG57)","v":""},{"$f":"IF('保険料申告内訳名簿（一人親方団体控）'!AH57=\"\",\"\",'保険料申告内訳名簿（一人親方団体控）'!AH57)","v":""}]
[null,{"$f":"IF('保険料申告内訳名簿（一人親方団体控）'!B58=\"\",\"\",'保険料申告内訳名簿（一人親方団体控）'!B58)","v":""},{"$f":"IF('保険料申告内訳名簿（一人親方団体控）'!C58=\"\",\"\",'保険料申告内訳名簿（一人親方団体控）'!C58)","v":""},{"$f":"IF('保険料申告内訳名簿（一人親方団体控）'!D58=\"\",\"\",'保険料申告内訳名簿（一人親方団体控）'!D58)","v":""},{"$f":"IF('保険料申告内訳名簿（一人親方団体控）'!E58=\"\",\"\",'保険料申告内訳名簿（一人親方団体控）'!E58)","v":""},{"$f":"IF('保険料申告内訳名簿（一人親方団体控）'!F58=\"\",\"\",'保険料申告内訳名簿（一人親方団体控）'!F58)","v":""},{"$f":"IF('保険料申告内訳名簿（一人親方団体控）'!G58=\"\",\"\",'保険料申告内訳名簿（一人親方団体控）'!G58)","v":""},{"$f":"IF('保険料申告内訳名簿（一人親方団体控）'!H58=\"\",\"\",'保険料申告内訳名簿（一人親方団体控）'!H58)","v":""},{"$f":"IF('保険料申告内訳名簿（一人親方団体控）'!I58=\"\",\"\",'保険料申告内訳名簿（一人親方団体控）'!I58)","v":""},{"$f":"IF('保険料申告内訳名簿（一人親方団体控）'!J58=\"\",\"\",'保険料申告内訳名簿（一人親方団体控）'!J58)","v":""},{"$f":"IF('保険料申告内訳名簿（一人親方団体控）'!K58=\"\",\"\",'保険料申告内訳名簿（一人親方団体控）'!K58)","v":""},{"$f":"IF('保険料申告内訳名簿（一人親方団体控）'!L58=\"\",\"\",'保険料申告内訳名簿（一人親方団体控）'!L58)","v":""},{"$f":"IF('保険料申告内訳名簿（一人親方団体控）'!M58=\"\",\"\",'保険料申告内訳名簿（一人親方団体控）'!M58)","v":""},{"$f":"IF('保険料申告内訳名簿（一人親方団体控）'!N58=\"\",\"\",'保険料申告内訳名簿（一人親方団体控）'!N58)","v":""},{"$f":"IF('保険料申告内訳名簿（一人親方団体控）'!O58=\"\",\"\",'保険料申告内訳名簿（一人親方団体控）'!O58)","v":""},{"$f":"IF('保険料申告内訳名簿（一人親方団体控）'!P58=\"\",\"\",'保険料申告内訳名簿（一人親方団体控）'!P58)","v":""},{"$f":"IF('保険料申告内訳名簿（一人親方団体控）'!Q58=\"\",\"\",'保険料申告内訳名簿（一人親方団体控）'!Q58)","v":""},{"$f":"IF('保険料申告内訳名簿（一人親方団体控）'!R58=\"\",\"\",'保険料申告内訳名簿（一人親方団体控）'!R58)","v":""},{"$f":"IF('保険料申告内訳名簿（一人親方団体控）'!S58=\"\",\"\",'保険料申告内訳名簿（一人親方団体控）'!S58)","v":0},{"$f":"IF('保険料申告内訳名簿（一人親方団体控）'!T58=\"\",\"\",'保険料申告内訳名簿（一人親方団体控）'!T58)","v":""},{"$f":"IF('保険料申告内訳名簿（一人親方団体控）'!U58=\"\",\"\",'保険料申告内訳名簿（一人親方団体控）'!U58)","v":""},{"$f":"IF('保険料申告内訳名簿（一人親方団体控）'!V58=\"\",\"\",'保険料申告内訳名簿（一人親方団体控）'!V58)","v":""},{"$f":"IF('保険料申告内訳名簿（一人親方団体控）'!W58=\"\",\"\",'保険料申告内訳名簿（一人親方団体控）'!W58)","v":""},{"$f":"IF('保険料申告内訳名簿（一人親方団体控）'!X58=\"\",\"\",'保険料申告内訳名簿（一人親方団体控）'!X58)","v":""},{"$f":"IF('保険料申告内訳名簿（一人親方団体控）'!Y58=\"\",\"\",'保険料申告内訳名簿（一人親方団体控）'!Y58)","v":""},{"$f":"IF('保険料申告内訳名簿（一人親方団体控）'!Z58=\"\",\"\",'保険料申告内訳名簿（一人親方団体控）'!Z58)","v":""},{"$f":"IF('保険料申告内訳名簿（一人親方団体控）'!AA58=\"\",\"\",'保険料申告内訳名簿（一人親方団体控）'!AA58)","v":""},{"$f":"IF('保険料申告内訳名簿（一人親方団体控）'!AB58=\"\",\"\",'保険料申告内訳名簿（一人親方団体控）'!AB58)","v":""},{"$f":"IF('保険料申告内訳名簿（一人親方団体控）'!AC58=\"\",\"\",'保険料申告内訳名簿（一人親方団体控）'!AC58)","v":0},{"$f":"IF('保険料申告内訳名簿（一人親方団体控）'!AD58=\"\",\"\",'保険料申告内訳名簿（一人親方団体控）'!AD58)","v":""},{"$f":"IF('保険料申告内訳名簿（一人親方団体控）'!AE58=\"\",\"\",'保険料申告内訳名簿（一人親方団体控）'!AE58)","v":""},{"$f":"IF('保険料申告内訳名簿（一人親方団体控）'!AF58=\"\",\"\",'保険料申告内訳名簿（一人親方団体控）'!AF58)","v":""},{"$f":"IF('保険料申告内訳名簿（一人親方団体控）'!AG58=\"\",\"\",'保険料申告内訳名簿（一人親方団体控）'!AG58)","v":""},{"$f":"IF('保険料申告内訳名簿（一人親方団体控）'!AH58=\"\",\"\",'保険料申告内訳名簿（一人親方団体控）'!AH58)","v":""}]
[null,null,null,null,null,null,null,null,null,null,null,null,null,null,null,null,null,null,{"$f":"IF('保険料申告内訳名簿（一人親方団体控）'!S59=\"\",\"\",'保険料申告内訳名簿（一人親方団体控）'!S59)","v":0},{"$f":"IF('保険料申告内訳名簿（一人親方団体控）'!T59=\"\",\"\",'保険料申告内訳名簿（一人親方団体控）'!T59)","v":""},{"$f":"IF('保険料申告内訳名簿（一人親方団体控）'!U59=\"\",\"\",'保険料申告内訳名簿（一人親方団体控）'!U59)","v":""},{"$f":"IF('保険料申告内訳名簿（一人親方団体控）'!V59=\"\",\"\",'保険料申告内訳名簿（一人親方団体控）'!V59)","v":""},{"$f":"IF('保険料申告内訳名簿（一人親方団体控）'!W59=\"\",\"\",'保険料申告内訳名簿（一人親方団体控）'!W59)","v":""},{"$f":"IF('保険料申告内訳名簿（一人親方団体控）'!X59=\"\",\"\",'保険料申告内訳名簿（一人親方団体控）'!X59)","v":""},null,null,null,null,{"$f":"IF('保険料申告内訳名簿（一人親方団体控）'!AC59=\"\",\"\",'保険料申告内訳名簿（一人親方団体控）'!AC59)","v":0},{"$f":"IF('保険料申告内訳名簿（一人親方団体控）'!AD59=\"\",\"\",'保険料申告内訳名簿（一人親方団体控）'!AD59)","v":""},{"$f":"IF('保険料申告内訳名簿（一人親方団体控）'!AE59=\"\",\"\",'保険料申告内訳名簿（一人親方団体控）'!AE59)","v":""},{"$f":"IF('保険料申告内訳名簿（一人親方団体控）'!AF59=\"\",\"\",'保険料申告内訳名簿（一人親方団体控）'!AF59)","v":""},{"$f":"IF('保険料申告内訳名簿（一人親方団体控）'!AG59=\"\",\"\",'保険料申告内訳名簿（一人親方団体控）'!AG59)","v":""},{"$f":"IF('保険料申告内訳名簿（一人親方団体控）'!AH59=\"\",\"\",'保険料申告内訳名簿（一人親方団体控）'!AH59)","v":""}]
[]
[null,"（注）"]
[null,null,"１）　④欄は月割の対象となる方のみ記入して下さい。"]
[null,null,"２）　月割の対象となる場合の⑤保険料算定基礎額の算定方法"]
[null,null,"２）　月割の対象となる場合の③（給付基礎日額×365÷12）（円未満を切り上げてから）×加入月数"]
[]
[]
[null,"【島根局版】",null,null,null,null,null,null,null,null,null,null,null,null,null,null,null,null,null,null,null,null,null,null,null,null,"局用"]
[null,"第２種特別加入保険料申告内訳名簿"]
[null,"（一人親方等）"]
[null,null,null,null,null,null,null,null,null,null,null,null,null,null,null,null,null,null,null,null,null,null,null,null,"（",{"$f":"IF('保険料申告内訳名簿（一人親方団体控）'!Z70=\"\",\"\",'保険料申告内訳名簿（一人親方団体控）'!Z70)","v":0},{"$f":"IF('保険料申告内訳名簿（一人親方団体控）'!AA70=\"\",\"\",'保険料申告内訳名簿（一人親方団体控）'!AA70)","v":""},"枚のうち",null,{"$f":"IF('保険料申告内訳名簿（一人親方団体控）'!AD70=\"\",\"\",'保険料申告内訳名簿（一人親方団体控）'!AD70)","v":3},{"$f":"IF('保険料申告内訳名簿（一人親方団体控）'!AE70=\"\",\"\",'保険料申告内訳名簿（一人親方団体控）'!AE70)","v":""},"枚目",null,"）"]
[]
[null,"労働保険\n番　　　号",null,null,null,null,"府県",null,"所掌","管轄",null,"基幹番号",null,null,null,null,null,"枝番号",null,null,"事業場の\n所在地",null,null,{"$f":"IF('保険料申告内訳名簿（一人親方団体控）'!X72=\"\",\"\",'保険料申告内訳名簿（一人親方団体控）'!X72)","v":""},{"$f":"IF('保険料申告内訳名簿（一人親方団体控）'!Y72=\"\",\"\",'保険料申告内訳名簿（一人親方団体控）'!Y72)","v":""},{"$f":"IF('保険料申告内訳名簿（一人親方団体控）'!Z72=\"\",\"\",'保険料申告内訳名簿（一人親方団体控）'!Z72)","v":""},{"$f":"IF('保険料申告内訳名簿（一人親方団体控）'!AA72=\"\",\"\",'保険料申告内訳名簿（一人親方団体控）'!AA72)","v":""},{"$f":"IF('保険料申告内訳名簿（一人親方団体控）'!AB72=\"\",\"\",'保険料申告内訳名簿（一人親方団体控）'!AB72)","v":""},{"$f":"IF('保険料申告内訳名簿（一人親方団体控）'!AC72=\"\",\"\",'保険料申告内訳名簿（一人親方団体控）'!AC72)","v":""},{"$f":"IF('保険料申告内訳名簿（一人親方団体控）'!AD72=\"\",\"\",'保険料申告内訳名簿（一人親方団体控）'!AD72)","v":""},{"$f":"IF('保険料申告内訳名簿（一人親方団体控）'!AE72=\"\",\"\",'保険料申告内訳名簿（一人親方団体控）'!AE72)","v":""},{"$f":"IF('保険料申告内訳名簿（一人親方団体控）'!AF72=\"\",\"\",'保険料申告内訳名簿（一人親方団体控）'!AF72)","v":""},{"$f":"IF('保険料申告内訳名簿（一人親方団体控）'!AG72=\"\",\"\",'保険料申告内訳名簿（一人親方団体控）'!AG72)","v":""},{"$f":"IF('保険料申告内訳名簿（一人親方団体控）'!AH72=\"\",\"\",'保険料申告内訳名簿（一人親方団体控）'!AH72)","v":""}]
[null,null,null,null,null,null,"3","2",{"$f":"IF('保険料申告内訳名簿（一人親方団体控）'!I73=\"\",\"\",'保険料申告内訳名簿（一人親方団体控）'!I73)","v":""},{"$f":"IF('保険料申告内訳名簿（一人親方団体控）'!J73=\"\",\"\",'保険料申告内訳名簿（一人親方団体控）'!J73)","v":""},{"$f":"IF('保険料申告内訳名簿（一人親方団体控）'!K73=\"\",\"\",'保険料申告内訳名簿（一人親方団体控）'!K73)","v":""},{"$f":"IF('保険料申告内訳名簿（一人親方団体控）'!L73=\"\",\"\",'保険料申告内訳名簿（一人親方団体控）'!L73)","v":""},{"$f":"IF('保険料申告内訳名簿（一人親方団体控）'!M73=\"\",\"\",'保険料申告内訳名簿（一人親方団体控）'!M73)","v":""},{"$f":"IF('保険料申告内訳名簿（一人親方団体控）'!N73=\"\",\"\",'保険料申告内訳名簿（一人親方団体控）'!N73)","v":""},{"$f":"IF('保険料申告内訳名簿（一人親方団体控）'!O73=\"\",\"\",'保険料申告内訳名簿（一人親方団体控）'!O73)","v":""},{"$f":"IF('保険料申告内訳名簿（一人親方団体控）'!P73=\"\",\"\",'保険料申告内訳名簿（一人親方団体控）'!P73)","v":""},{"$f":"IF('保険料申告内訳名簿（一人親方団体控）'!Q73=\"\",\"\",'保険料申告内訳名簿（一人親方団体控）'!Q73)","v":""},{"$f":"IF('保険料申告内訳名簿（一人親方団体控）'!R73=\"\",\"\",'保険料申告内訳名簿（一人親方団体控）'!R73)","v":""},{"$f":"IF('保険料申告内訳名簿（一人親方団体控）'!S73=\"\",\"\",'保険料申告内訳名簿（一人親方団体控）'!S73)","v":""},{"$f":"IF('保険料申告内訳名簿（一人親方団体控）'!T73=\"\",\"\",'保険料申告内訳名簿（一人親方団体控）'!T73)","v":""},"事業場の\n名称",null,null,{"$f":"IF('保険料申告内訳名簿（一人親方団体控）'!X73=\"\",\"\",'保険料申告内訳名簿（一人親方団体控）'!X73)","v":""},{"$f":"IF('保険料申告内訳名簿（一人親方団体控）'!Y73=\"\",\"\",'保険料申告内訳名簿（一人親方団体控）'!Y73)","v":""},{"$f":"IF('保険料申告内訳名簿（一人親方団体控）'!Z73=\"\",\"\",'保険料申告内訳名簿（一人親方団体控）'!Z73)","v":""},{"$f":"IF('保険料申告内訳名簿（一人親方団体控）'!AA73=\"\",\"\",'保険料申告内訳名簿（一人親方団体控）'!AA73)","v":""},{"$f":"IF('保険料申告内訳名簿（一人親方団体控）'!AB73=\"\",\"\",'保険料申告内訳名簿（一人親方団体控）'!AB73)","v":""},{"$f":"IF('保険料申告内訳名簿（一人親方団体控）'!AC73=\"\",\"\",'保険料申告内訳名簿（一人親方団体控）'!AC73)","v":""},{"$f":"IF('保険料申告内訳名簿（一人親方団体控）'!AD73=\"\",\"\",'保険料申告内訳名簿（一人親方団体控）'!AD73)","v":""},{"$f":"IF('保険料申告内訳名簿（一人親方団体控）'!AE73=\"\",\"\",'保険料申告内訳名簿（一人親方団体控）'!AE73)","v":""},{"$f":"IF('保険料申告内訳名簿（一人親方団体控）'!AF73=\"\",\"\",'保険料申告内訳名簿（一人親方団体控）'!AF73)","v":""},{"$f":"IF('保険料申告内訳名簿（一人親方団体控）'!AG73=\"\",\"\",'保険料申告内訳名簿（一人親方団体控）'!AG73)","v":""},{"$f":"IF('保険料申告内訳名簿（一人親方団体控）'!AH73=\"\",\"\",'保険料申告内訳名簿（一人親方団体控）'!AH73)","v":""}]
[null,"①\n整理\n番号",null,"②\n氏名",null,null,null,null,null,null,null,null,null,null,"令 和",null,null,{"$f":"IF('保険料申告内訳名簿（一人親方団体控）'!R74=\"\",\"\",'保険料申告内訳名簿（一人親方団体控）'!R74)","v":""},{"$f":"IF('保険料申告内訳名簿（一人親方団体控）'!S74=\"\",\"\",'保険料申告内訳名簿（一人親方団体控）'!S74)","v":""},{"$f":"IF('保険料申告内訳名簿（一人親方団体控）'!T74=\"\",\"\",'保険料申告内訳名簿（一人親方団体控）'!T74)","v":""},null,null,null,"年 度 確 定 ","令 和",null,null,{"$f":"IF('保険料申告内訳名簿（一人親方団体控）'!AB74=\"\",\"\",'保険料申告内訳名簿（一人親方団体控）'!AB74)","v":""},{"$f":"IF('保険料申告内訳名簿（一人親方団体控）'!AC74=\"\",\"\",'保険料申告内訳名簿（一人親方団体控）'!AC74)","v":""},{"$f":"IF('保険料申告内訳名簿（一人親方団体控）'!AD74=\"\",\"\",'保険料申告内訳名簿（一人親方団体控）'!AD74)","v":""},null,null,null,"年 度 概 算 "]
[null,null,null,null,null,null,null,"③　\n給付基礎日額",null,null,null,"④年度中途加入・脱退",null,null,null,null,null,null,"⑤\n保険料算定基礎額",null,null,null,null,null,"⑥\n給付基礎日額",null,null,null,"⑦\n保険料算定基礎額"]
[null,null,null,null,null,null,null,null,null,null,null,"加入・脱退年月日",null,null,null,null,"加入月数"]
[null,{"$f":"IF('保険料申告内訳名簿（一人親方団体控）'!B77=\"\",\"\",'保険料申告内訳名簿（一人親方団体控）'!B77)","v":""},{"$f":"IF('保険料申告内訳名簿（一人親方団体控）'!C77=\"\",\"\",'保険料申告内訳名簿（一人親方団体控）'!C77)","v":""},{"$f":"IF('保険料申告内訳名簿（一人親方団体控）'!D77=\"\",\"\",'保険料申告内訳名簿（一人親方団体控）'!D77)","v":""},{"$f":"IF('保険料申告内訳名簿（一人親方団体控）'!E77=\"\",\"\",'保険料申告内訳名簿（一人親方団体控）'!E77)","v":""},{"$f":"IF('保険料申告内訳名簿（一人親方団体控）'!F77=\"\",\"\",'保険料申告内訳名簿（一人親方団体控）'!F77)","v":""},{"$f":"IF('保険料申告内訳名簿（一人親方団体控）'!G77=\"\",\"\",'保険料申告内訳名簿（一人親方団体控）'!G77)","v":""},{"$f":"IF('保険料申告内訳名簿（一人親方団体控）'!H77=\"\",\"\",'保険料申告内訳名簿（一人親方団体控）'!H77)","v":""},{"$f":"IF('保険料申告内訳名簿（一人親方団体控）'!I77=\"\",\"\",'保険料申告内訳名簿（一人親方団体控）'!I77)","v":""},{"$f":"IF('保険料申告内訳名簿（一人親方団体控）'!J77=\"\",\"\",'保険料申告内訳名簿（一人親方団体控）'!J77)","v":""},{"$f":"IF('保険料申告内訳名簿（一人親方団体控）'!K77=\"\",\"\",'保険料申告内訳名簿（一人親方団体控）'!K77)","v":""},{"$f":"IF('保険料申告内訳名簿（一人親方団体控）'!L77=\"\",\"\",'保険料申告内訳名簿（一人親方団体控）'!L77)","v":""},{"$f":"IF('保険料申告内訳名簿（一人親方団体控）'!M77=\"\",\"\",'保険料申告内訳名簿（一人親方団体控）'!M77)","v":""},{"$f":"IF('保険料申告内訳名簿（一人親方団体控）'!N77=\"\",\"\",'保険料申告内訳名簿（一人親方団体控）'!N77)","v":""},{"$f":"IF('保険料申告内訳名簿（一人親方団体控）'!O77=\"\",\"\",'保険料申告内訳名簿（一人親方団体控）'!O77)","v":""},{"$f":"IF('保険料申告内訳名簿（一人親方団体控）'!P77=\"\",\"\",'保険料申告内訳名簿（一人親方団体控）'!P77)","v":""},{"$f":"IF('保険料申告内訳名簿（一人親方団体控）'!Q77=\"\",\"\",'保険料申告内訳名簿（一人親方団体控）'!Q77)","v":""},{"$f":"IF('保険料申告内訳名簿（一人親方団体控）'!R77=\"\",\"\",'保険料申告内訳名簿（一人親方団体控）'!R77)","v":""},{"$f":"IF('保険料申告内訳名簿（一人親方団体控）'!S77=\"\",\"\",'保険料申告内訳名簿（一人親方団体控）'!S77)","v":0},{"$f":"IF('保険料申告内訳名簿（一人親方団体控）'!T77=\"\",\"\",'保険料申告内訳名簿（一人親方団体控）'!T77)","v":""},{"$f":"IF('保険料申告内訳名簿（一人親方団体控）'!U77=\"\",\"\",'保険料申告内訳名簿（一人親方団体控）'!U77)","v":""},{"$f":"IF('保険料申告内訳名簿（一人親方団体控）'!V77=\"\",\"\",'保険料申告内訳名簿（一人親方団体控）'!V77)","v":""},{"$f":"IF('保険料申告内訳名簿（一人親方団体控）'!W77=\"\",\"\",'保険料申告内訳名簿（一人親方団体控）'!W77)","v":""},{"$f":"IF('保険料申告内訳名簿（一人親方団体控）'!X77=\"\",\"\",'保険料申告内訳名簿（一人親方団体控）'!X77)","v":""},{"$f":"IF('保険料申告内訳名簿（一人親方団体控）'!Y77=\"\",\"\",'保険料申告内訳名簿（一人親方団体控）'!Y77)","v":""},{"$f":"IF('保険料申告内訳名簿（一人親方団体控）'!Z77=\"\",\"\",'保険料申告内訳名簿（一人親方団体控）'!Z77)","v":""},{"$f":"IF('保険料申告内訳名簿（一人親方団体控）'!AA77=\"\",\"\",'保険料申告内訳名簿（一人親方団体控）'!AA77)","v":""},{"$f":"IF('保険料申告内訳名簿（一人親方団体控）'!AB77=\"\",\"\",'保険料申告内訳名簿（一人親方団体控）'!AB77)","v":""},{"$f":"IF('保険料申告内訳名簿（一人親方団体控）'!AC77=\"\",\"\",'保険料申告内訳名簿（一人親方団体控）'!AC77)","v":0},{"$f":"IF('保険料申告内訳名簿（一人親方団体控）'!AD77=\"\",\"\",'保険料申告内訳名簿（一人親方団体控）'!AD77)","v":""},{"$f":"IF('保険料申告内訳名簿（一人親方団体控）'!AE77=\"\",\"\",'保険料申告内訳名簿（一人親方団体控）'!AE77)","v":""},{"$f":"IF('保険料申告内訳名簿（一人親方団体控）'!AF77=\"\",\"\",'保険料申告内訳名簿（一人親方団体控）'!AF77)","v":""},{"$f":"IF('保険料申告内訳名簿（一人親方団体控）'!AG77=\"\",\"\",'保険料申告内訳名簿（一人親方団体控）'!AG77)","v":""},{"$f":"IF('保険料申告内訳名簿（一人親方団体控）'!AH77=\"\",\"\",'保険料申告内訳名簿（一人親方団体控）'!AH77)","v":""}]
[null,{"$f":"IF('保険料申告内訳名簿（一人親方団体控）'!B78=\"\",\"\",'保険料申告内訳名簿（一人親方団体控）'!B78)","v":""},{"$f":"IF('保険料申告内訳名簿（一人親方団体控）'!C78=\"\",\"\",'保険料申告内訳名簿（一人親方団体控）'!C78)","v":""},{"$f":"IF('保険料申告内訳名簿（一人親方団体控）'!D78=\"\",\"\",'保険料申告内訳名簿（一人親方団体控）'!D78)","v":""},{"$f":"IF('保険料申告内訳名簿（一人親方団体控）'!E78=\"\",\"\",'保険料申告内訳名簿（一人親方団体控）'!E78)","v":""},{"$f":"IF('保険料申告内訳名簿（一人親方団体控）'!F78=\"\",\"\",'保険料申告内訳名簿（一人親方団体控）'!F78)","v":""},{"$f":"IF('保険料申告内訳名簿（一人親方団体控）'!G78=\"\",\"\",'保険料申告内訳名簿（一人親方団体控）'!G78)","v":""},{"$f":"IF('保険料申告内訳名簿（一人親方団体控）'!H78=\"\",\"\",'保険料申告内訳名簿（一人親方団体控）'!H78)","v":""},{"$f":"IF('保険料申告内訳名簿（一人親方団体控）'!I78=\"\",\"\",'保険料申告内訳名簿（一人親方団体控）'!I78)","v":""},{"$f":"IF('保険料申告内訳名簿（一人親方団体控）'!J78=\"\",\"\",'保険料申告内訳名簿（一人親方団体控）'!J78)","v":""},{"$f":"IF('保険料申告内訳名簿（一人親方団体控）'!K78=\"\",\"\",'保険料申告内訳名簿（一人親方団体控）'!K78)","v":""},{"$f":"IF('保険料申告内訳名簿（一人親方団体控）'!L78=\"\",\"\",'保険料申告内訳名簿（一人親方団体控）'!L78)","v":""},{"$f":"IF('保険料申告内訳名簿（一人親方団体控）'!M78=\"\",\"\",'保険料申告内訳名簿（一人親方団体控）'!M78)","v":""},{"$f":"IF('保険料申告内訳名簿（一人親方団体控）'!N78=\"\",\"\",'保険料申告内訳名簿（一人親方団体控）'!N78)","v":""},{"$f":"IF('保険料申告内訳名簿（一人親方団体控）'!O78=\"\",\"\",'保険料申告内訳名簿（一人親方団体控）'!O78)","v":""},{"$f":"IF('保険料申告内訳名簿（一人親方団体控）'!P78=\"\",\"\",'保険料申告内訳名簿（一人親方団体控）'!P78)","v":""},{"$f":"IF('保険料申告内訳名簿（一人親方団体控）'!Q78=\"\",\"\",'保険料申告内訳名簿（一人親方団体控）'!Q78)","v":""},{"$f":"IF('保険料申告内訳名簿（一人親方団体控）'!R78=\"\",\"\",'保険料申告内訳名簿（一人親方団体控）'!R78)","v":""},{"$f":"IF('保険料申告内訳名簿（一人親方団体控）'!S78=\"\",\"\",'保険料申告内訳名簿（一人親方団体控）'!S78)","v":0},{"$f":"IF('保険料申告内訳名簿（一人親方団体控）'!T78=\"\",\"\",'保険料申告内訳名簿（一人親方団体控）'!T78)","v":""},{"$f":"IF('保険料申告内訳名簿（一人親方団体控）'!U78=\"\",\"\",'保険料申告内訳名簿（一人親方団体控）'!U78)","v":""},{"$f":"IF('保険料申告内訳名簿（一人親方団体控）'!V78=\"\",\"\",'保険料申告内訳名簿（一人親方団体控）'!V78)","v":""},{"$f":"IF('保険料申告内訳名簿（一人親方団体控）'!W78=\"\",\"\",'保険料申告内訳名簿（一人親方団体控）'!W78)","v":""},{"$f":"IF('保険料申告内訳名簿（一人親方団体控）'!X78=\"\",\"\",'保険料申告内訳名簿（一人親方団体控）'!X78)","v":""},{"$f":"IF('保険料申告内訳名簿（一人親方団体控）'!Y78=\"\",\"\",'保険料申告内訳名簿（一人親方団体控）'!Y78)","v":""},{"$f":"IF('保険料申告内訳名簿（一人親方団体控）'!Z78=\"\",\"\",'保険料申告内訳名簿（一人親方団体控）'!Z78)","v":""},{"$f":"IF('保険料申告内訳名簿（一人親方団体控）'!AA78=\"\",\"\",'保険料申告内訳名簿（一人親方団体控）'!AA78)","v":""},{"$f":"IF('保険料申告内訳名簿（一人親方団体控）'!AB78=\"\",\"\",'保険料申告内訳名簿（一人親方団体控）'!AB78)","v":""},{"$f":"IF('保険料申告内訳名簿（一人親方団体控）'!AC78=\"\",\"\",'保険料申告内訳名簿（一人親方団体控）'!AC78)","v":0},{"$f":"IF('保険料申告内訳名簿（一人親方団体控）'!AD78=\"\",\"\",'保険料申告内訳名簿（一人親方団体控）'!AD78)","v":""},{"$f":"IF('保険料申告内訳名簿（一人親方団体控）'!AE78=\"\",\"\",'保険料申告内訳名簿（一人親方団体控）'!AE78)","v":""},{"$f":"IF('保険料申告内訳名簿（一人親方団体控）'!AF78=\"\",\"\",'保険料申告内訳名簿（一人親方団体控）'!AF78)","v":""},{"$f":"IF('保険料申告内訳名簿（一人親方団体控）'!AG78=\"\",\"\",'保険料申告内訳名簿（一人親方団体控）'!AG78)","v":""},{"$f":"IF('保険料申告内訳名簿（一人親方団体控）'!AH78=\"\",\"\",'保険料申告内訳名簿（一人親方団体控）'!AH78)","v":""}]
[null,{"$f":"IF('保険料申告内訳名簿（一人親方団体控）'!B79=\"\",\"\",'保険料申告内訳名簿（一人親方団体控）'!B79)","v":""},{"$f":"IF('保険料申告内訳名簿（一人親方団体控）'!C79=\"\",\"\",'保険料申告内訳名簿（一人親方団体控）'!C79)","v":""},{"$f":"IF('保険料申告内訳名簿（一人親方団体控）'!D79=\"\",\"\",'保険料申告内訳名簿（一人親方団体控）'!D79)","v":""},{"$f":"IF('保険料申告内訳名簿（一人親方団体控）'!E79=\"\",\"\",'保険料申告内訳名簿（一人親方団体控）'!E79)","v":""},{"$f":"IF('保険料申告内訳名簿（一人親方団体控）'!F79=\"\",\"\",'保険料申告内訳名簿（一人親方団体控）'!F79)","v":""},{"$f":"IF('保険料申告内訳名簿（一人親方団体控）'!G79=\"\",\"\",'保険料申告内訳名簿（一人親方団体控）'!G79)","v":""},{"$f":"IF('保険料申告内訳名簿（一人親方団体控）'!H79=\"\",\"\",'保険料申告内訳名簿（一人親方団体控）'!H79)","v":""},{"$f":"IF('保険料申告内訳名簿（一人親方団体控）'!I79=\"\",\"\",'保険料申告内訳名簿（一人親方団体控）'!I79)","v":""},{"$f":"IF('保険料申告内訳名簿（一人親方団体控）'!J79=\"\",\"\",'保険料申告内訳名簿（一人親方団体控）'!J79)","v":""},{"$f":"IF('保険料申告内訳名簿（一人親方団体控）'!K79=\"\",\"\",'保険料申告内訳名簿（一人親方団体控）'!K79)","v":""},{"$f":"IF('保険料申告内訳名簿（一人親方団体控）'!L79=\"\",\"\",'保険料申告内訳名簿（一人親方団体控）'!L79)","v":""},{"$f":"IF('保険料申告内訳名簿（一人親方団体控）'!M79=\"\",\"\",'保険料申告内訳名簿（一人親方団体控）'!M79)","v":""},{"$f":"IF('保険料申告内訳名簿（一人親方団体控）'!N79=\"\",\"\",'保険料申告内訳名簿（一人親方団体控）'!N79)","v":""},{"$f":"IF('保険料申告内訳名簿（一人親方団体控）'!O79=\"\",\"\",'保険料申告内訳名簿（一人親方団体控）'!O79)","v":""},{"$f":"IF('保険料申告内訳名簿（一人親方団体控）'!P79=\"\",\"\",'保険料申告内訳名簿（一人親方団体控）'!P79)","v":""},{"$f":"IF('保険料申告内訳名簿（一人親方団体控）'!Q79=\"\",\"\",'保険料申告内訳名簿（一人親方団体控）'!Q79)","v":""},{"$f":"IF('保険料申告内訳名簿（一人親方団体控）'!R79=\"\",\"\",'保険料申告内訳名簿（一人親方団体控）'!R79)","v":""},{"$f":"IF('保険料申告内訳名簿（一人親方団体控）'!S79=\"\",\"\",'保険料申告内訳名簿（一人親方団体控）'!S79)","v":0},{"$f":"IF('保険料申告内訳名簿（一人親方団体控）'!T79=\"\",\"\",'保険料申告内訳名簿（一人親方団体控）'!T79)","v":""},{"$f":"IF('保険料申告内訳名簿（一人親方団体控）'!U79=\"\",\"\",'保険料申告内訳名簿（一人親方団体控）'!U79)","v":""},{"$f":"IF('保険料申告内訳名簿（一人親方団体控）'!V79=\"\",\"\",'保険料申告内訳名簿（一人親方団体控）'!V79)","v":""},{"$f":"IF('保険料申告内訳名簿（一人親方団体控）'!W79=\"\",\"\",'保険料申告内訳名簿（一人親方団体控）'!W79)","v":""},{"$f":"IF('保険料申告内訳名簿（一人親方団体控）'!X79=\"\",\"\",'保険料申告内訳名簿（一人親方団体控）'!X79)","v":""},{"$f":"IF('保険料申告内訳名簿（一人親方団体控）'!Y79=\"\",\"\",'保険料申告内訳名簿（一人親方団体控）'!Y79)","v":""},{"$f":"IF('保険料申告内訳名簿（一人親方団体控）'!Z79=\"\",\"\",'保険料申告内訳名簿（一人親方団体控）'!Z79)","v":""},{"$f":"IF('保険料申告内訳名簿（一人親方団体控）'!AA79=\"\",\"\",'保険料申告内訳名簿（一人親方団体控）'!AA79)","v":""},{"$f":"IF('保険料申告内訳名簿（一人親方団体控）'!AB79=\"\",\"\",'保険料申告内訳名簿（一人親方団体控）'!AB79)","v":""},{"$f":"IF('保険料申告内訳名簿（一人親方団体控）'!AC79=\"\",\"\",'保険料申告内訳名簿（一人親方団体控）'!AC79)","v":0},{"$f":"IF('保険料申告内訳名簿（一人親方団体控）'!AD79=\"\",\"\",'保険料申告内訳名簿（一人親方団体控）'!AD79)","v":""},{"$f":"IF('保険料申告内訳名簿（一人親方団体控）'!AE79=\"\",\"\",'保険料申告内訳名簿（一人親方団体控）'!AE79)","v":""},{"$f":"IF('保険料申告内訳名簿（一人親方団体控）'!AF79=\"\",\"\",'保険料申告内訳名簿（一人親方団体控）'!AF79)","v":""},{"$f":"IF('保険料申告内訳名簿（一人親方団体控）'!AG79=\"\",\"\",'保険料申告内訳名簿（一人親方団体控）'!AG79)","v":""},{"$f":"IF('保険料申告内訳名簿（一人親方団体控）'!AH79=\"\",\"\",'保険料申告内訳名簿（一人親方団体控）'!AH79)","v":""}]
[null,{"$f":"IF('保険料申告内訳名簿（一人親方団体控）'!B80=\"\",\"\",'保険料申告内訳名簿（一人親方団体控）'!B80)","v":""},{"$f":"IF('保険料申告内訳名簿（一人親方団体控）'!C80=\"\",\"\",'保険料申告内訳名簿（一人親方団体控）'!C80)","v":""},{"$f":"IF('保険料申告内訳名簿（一人親方団体控）'!D80=\"\",\"\",'保険料申告内訳名簿（一人親方団体控）'!D80)","v":""},{"$f":"IF('保険料申告内訳名簿（一人親方団体控）'!E80=\"\",\"\",'保険料申告内訳名簿（一人親方団体控）'!E80)","v":""},{"$f":"IF('保険料申告内訳名簿（一人親方団体控）'!F80=\"\",\"\",'保険料申告内訳名簿（一人親方団体控）'!F80)","v":""},{"$f":"IF('保険料申告内訳名簿（一人親方団体控）'!G80=\"\",\"\",'保険料申告内訳名簿（一人親方団体控）'!G80)","v":""},{"$f":"IF('保険料申告内訳名簿（一人親方団体控）'!H80=\"\",\"\",'保険料申告内訳名簿（一人親方団体控）'!H80)","v":""},{"$f":"IF('保険料申告内訳名簿（一人親方団体控）'!I80=\"\",\"\",'保険料申告内訳名簿（一人親方団体控）'!I80)","v":""},{"$f":"IF('保険料申告内訳名簿（一人親方団体控）'!J80=\"\",\"\",'保険料申告内訳名簿（一人親方団体控）'!J80)","v":""},{"$f":"IF('保険料申告内訳名簿（一人親方団体控）'!K80=\"\",\"\",'保険料申告内訳名簿（一人親方団体控）'!K80)","v":""},{"$f":"IF('保険料申告内訳名簿（一人親方団体控）'!L80=\"\",\"\",'保険料申告内訳名簿（一人親方団体控）'!L80)","v":""},{"$f":"IF('保険料申告内訳名簿（一人親方団体控）'!M80=\"\",\"\",'保険料申告内訳名簿（一人親方団体控）'!M80)","v":""},{"$f":"IF('保険料申告内訳名簿（一人親方団体控）'!N80=\"\",\"\",'保険料申告内訳名簿（一人親方団体控）'!N80)","v":""},{"$f":"IF('保険料申告内訳名簿（一人親方団体控）'!O80=\"\",\"\",'保険料申告内訳名簿（一人親方団体控）'!O80)","v":""},{"$f":"IF('保険料申告内訳名簿（一人親方団体控）'!P80=\"\",\"\",'保険料申告内訳名簿（一人親方団体控）'!P80)","v":""},{"$f":"IF('保険料申告内訳名簿（一人親方団体控）'!Q80=\"\",\"\",'保険料申告内訳名簿（一人親方団体控）'!Q80)","v":""},{"$f":"IF('保険料申告内訳名簿（一人親方団体控）'!R80=\"\",\"\",'保険料申告内訳名簿（一人親方団体控）'!R80)","v":""},{"$f":"IF('保険料申告内訳名簿（一人親方団体控）'!S80=\"\",\"\",'保険料申告内訳名簿（一人親方団体控）'!S80)","v":0},{"$f":"IF('保険料申告内訳名簿（一人親方団体控）'!T80=\"\",\"\",'保険料申告内訳名簿（一人親方団体控）'!T80)","v":""},{"$f":"IF('保険料申告内訳名簿（一人親方団体控）'!U80=\"\",\"\",'保険料申告内訳名簿（一人親方団体控）'!U80)","v":""},{"$f":"IF('保険料申告内訳名簿（一人親方団体控）'!V80=\"\",\"\",'保険料申告内訳名簿（一人親方団体控）'!V80)","v":""},{"$f":"IF('保険料申告内訳名簿（一人親方団体控）'!W80=\"\",\"\",'保険料申告内訳名簿（一人親方団体控）'!W80)","v":""},{"$f":"IF('保険料申告内訳名簿（一人親方団体控）'!X80=\"\",\"\",'保険料申告内訳名簿（一人親方団体控）'!X80)","v":""},{"$f":"IF('保険料申告内訳名簿（一人親方団体控）'!Y80=\"\",\"\",'保険料申告内訳名簿（一人親方団体控）'!Y80)","v":""},{"$f":"IF('保険料申告内訳名簿（一人親方団体控）'!Z80=\"\",\"\",'保険料申告内訳名簿（一人親方団体控）'!Z80)","v":""},{"$f":"IF('保険料申告内訳名簿（一人親方団体控）'!AA80=\"\",\"\",'保険料申告内訳名簿（一人親方団体控）'!AA80)","v":""},{"$f":"IF('保険料申告内訳名簿（一人親方団体控）'!AB80=\"\",\"\",'保険料申告内訳名簿（一人親方団体控）'!AB80)","v":""},{"$f":"IF('保険料申告内訳名簿（一人親方団体控）'!AC80=\"\",\"\",'保険料申告内訳名簿（一人親方団体控）'!AC80)","v":0},{"$f":"IF('保険料申告内訳名簿（一人親方団体控）'!AD80=\"\",\"\",'保険料申告内訳名簿（一人親方団体控）'!AD80)","v":""},{"$f":"IF('保険料申告内訳名簿（一人親方団体控）'!AE80=\"\",\"\",'保険料申告内訳名簿（一人親方団体控）'!AE80)","v":""},{"$f":"IF('保険料申告内訳名簿（一人親方団体控）'!AF80=\"\",\"\",'保険料申告内訳名簿（一人親方団体控）'!AF80)","v":""},{"$f":"IF('保険料申告内訳名簿（一人親方団体控）'!AG80=\"\",\"\",'保険料申告内訳名簿（一人親方団体控）'!AG80)","v":""},{"$f":"IF('保険料申告内訳名簿（一人親方団体控）'!AH80=\"\",\"\",'保険料申告内訳名簿（一人親方団体控）'!AH80)","v":""}]
[null,{"$f":"IF('保険料申告内訳名簿（一人親方団体控）'!B81=\"\",\"\",'保険料申告内訳名簿（一人親方団体控）'!B81)","v":""},{"$f":"IF('保険料申告内訳名簿（一人親方団体控）'!C81=\"\",\"\",'保険料申告内訳名簿（一人親方団体控）'!C81)","v":""},{"$f":"IF('保険料申告内訳名簿（一人親方団体控）'!D81=\"\",\"\",'保険料申告内訳名簿（一人親方団体控）'!D81)","v":""},{"$f":"IF('保険料申告内訳名簿（一人親方団体控）'!E81=\"\",\"\",'保険料申告内訳名簿（一人親方団体控）'!E81)","v":""},{"$f":"IF('保険料申告内訳名簿（一人親方団体控）'!F81=\"\",\"\",'保険料申告内訳名簿（一人親方団体控）'!F81)","v":""},{"$f":"IF('保険料申告内訳名簿（一人親方団体控）'!G81=\"\",\"\",'保険料申告内訳名簿（一人親方団体控）'!G81)","v":""},{"$f":"IF('保険料申告内訳名簿（一人親方団体控）'!H81=\"\",\"\",'保険料申告内訳名簿（一人親方団体控）'!H81)","v":""},{"$f":"IF('保険料申告内訳名簿（一人親方団体控）'!I81=\"\",\"\",'保険料申告内訳名簿（一人親方団体控）'!I81)","v":""},{"$f":"IF('保険料申告内訳名簿（一人親方団体控）'!J81=\"\",\"\",'保険料申告内訳名簿（一人親方団体控）'!J81)","v":""},{"$f":"IF('保険料申告内訳名簿（一人親方団体控）'!K81=\"\",\"\",'保険料申告内訳名簿（一人親方団体控）'!K81)","v":""},{"$f":"IF('保険料申告内訳名簿（一人親方団体控）'!L81=\"\",\"\",'保険料申告内訳名簿（一人親方団体控）'!L81)","v":""},{"$f":"IF('保険料申告内訳名簿（一人親方団体控）'!M81=\"\",\"\",'保険料申告内訳名簿（一人親方団体控）'!M81)","v":""},{"$f":"IF('保険料申告内訳名簿（一人親方団体控）'!N81=\"\",\"\",'保険料申告内訳名簿（一人親方団体控）'!N81)","v":""},{"$f":"IF('保険料申告内訳名簿（一人親方団体控）'!O81=\"\",\"\",'保険料申告内訳名簿（一人親方団体控）'!O81)","v":""},{"$f":"IF('保険料申告内訳名簿（一人親方団体控）'!P81=\"\",\"\",'保険料申告内訳名簿（一人親方団体控）'!P81)","v":""},{"$f":"IF('保険料申告内訳名簿（一人親方団体控）'!Q81=\"\",\"\",'保険料申告内訳名簿（一人親方団体控）'!Q81)","v":""},{"$f":"IF('保険料申告内訳名簿（一人親方団体控）'!R81=\"\",\"\",'保険料申告内訳名簿（一人親方団体控）'!R81)","v":""},{"$f":"IF('保険料申告内訳名簿（一人親方団体控）'!S81=\"\",\"\",'保険料申告内訳名簿（一人親方団体控）'!S81)","v":0},{"$f":"IF('保険料申告内訳名簿（一人親方団体控）'!T81=\"\",\"\",'保険料申告内訳名簿（一人親方団体控）'!T81)","v":""},{"$f":"IF('保険料申告内訳名簿（一人親方団体控）'!U81=\"\",\"\",'保険料申告内訳名簿（一人親方団体控）'!U81)","v":""},{"$f":"IF('保険料申告内訳名簿（一人親方団体控）'!V81=\"\",\"\",'保険料申告内訳名簿（一人親方団体控）'!V81)","v":""},{"$f":"IF('保険料申告内訳名簿（一人親方団体控）'!W81=\"\",\"\",'保険料申告内訳名簿（一人親方団体控）'!W81)","v":""},{"$f":"IF('保険料申告内訳名簿（一人親方団体控）'!X81=\"\",\"\",'保険料申告内訳名簿（一人親方団体控）'!X81)","v":""},{"$f":"IF('保険料申告内訳名簿（一人親方団体控）'!Y81=\"\",\"\",'保険料申告内訳名簿（一人親方団体控）'!Y81)","v":""},{"$f":"IF('保険料申告内訳名簿（一人親方団体控）'!Z81=\"\",\"\",'保険料申告内訳名簿（一人親方団体控）'!Z81)","v":""},{"$f":"IF('保険料申告内訳名簿（一人親方団体控）'!AA81=\"\",\"\",'保険料申告内訳名簿（一人親方団体控）'!AA81)","v":""},{"$f":"IF('保険料申告内訳名簿（一人親方団体控）'!AB81=\"\",\"\",'保険料申告内訳名簿（一人親方団体控）'!AB81)","v":""},{"$f":"IF('保険料申告内訳名簿（一人親方団体控）'!AC81=\"\",\"\",'保険料申告内訳名簿（一人親方団体控）'!AC81)","v":0},{"$f":"IF('保険料申告内訳名簿（一人親方団体控）'!AD81=\"\",\"\",'保険料申告内訳名簿（一人親方団体控）'!AD81)","v":""},{"$f":"IF('保険料申告内訳名簿（一人親方団体控）'!AE81=\"\",\"\",'保険料申告内訳名簿（一人親方団体控）'!AE81)","v":""},{"$f":"IF('保険料申告内訳名簿（一人親方団体控）'!AF81=\"\",\"\",'保険料申告内訳名簿（一人親方団体控）'!AF81)","v":""},{"$f":"IF('保険料申告内訳名簿（一人親方団体控）'!AG81=\"\",\"\",'保険料申告内訳名簿（一人親方団体控）'!AG81)","v":""},{"$f":"IF('保険料申告内訳名簿（一人親方団体控）'!AH81=\"\",\"\",'保険料申告内訳名簿（一人親方団体控）'!AH81)","v":""}]
[null,{"$f":"IF('保険料申告内訳名簿（一人親方団体控）'!B82=\"\",\"\",'保険料申告内訳名簿（一人親方団体控）'!B82)","v":""},{"$f":"IF('保険料申告内訳名簿（一人親方団体控）'!C82=\"\",\"\",'保険料申告内訳名簿（一人親方団体控）'!C82)","v":""},{"$f":"IF('保険料申告内訳名簿（一人親方団体控）'!D82=\"\",\"\",'保険料申告内訳名簿（一人親方団体控）'!D82)","v":""},{"$f":"IF('保険料申告内訳名簿（一人親方団体控）'!E82=\"\",\"\",'保険料申告内訳名簿（一人親方団体控）'!E82)","v":""},{"$f":"IF('保険料申告内訳名簿（一人親方団体控）'!F82=\"\",\"\",'保険料申告内訳名簿（一人親方団体控）'!F82)","v":""},{"$f":"IF('保険料申告内訳名簿（一人親方団体控）'!G82=\"\",\"\",'保険料申告内訳名簿（一人親方団体控）'!G82)","v":""},{"$f":"IF('保険料申告内訳名簿（一人親方団体控）'!H82=\"\",\"\",'保険料申告内訳名簿（一人親方団体控）'!H82)","v":""},{"$f":"IF('保険料申告内訳名簿（一人親方団体控）'!I82=\"\",\"\",'保険料申告内訳名簿（一人親方団体控）'!I82)","v":""},{"$f":"IF('保険料申告内訳名簿（一人親方団体控）'!J82=\"\",\"\",'保険料申告内訳名簿（一人親方団体控）'!J82)","v":""},{"$f":"IF('保険料申告内訳名簿（一人親方団体控）'!K82=\"\",\"\",'保険料申告内訳名簿（一人親方団体控）'!K82)","v":""},{"$f":"IF('保険料申告内訳名簿（一人親方団体控）'!L82=\"\",\"\",'保険料申告内訳名簿（一人親方団体控）'!L82)","v":""},{"$f":"IF('保険料申告内訳名簿（一人親方団体控）'!M82=\"\",\"\",'保険料申告内訳名簿（一人親方団体控）'!M82)","v":""},{"$f":"IF('保険料申告内訳名簿（一人親方団体控）'!N82=\"\",\"\",'保険料申告内訳名簿（一人親方団体控）'!N82)","v":""},{"$f":"IF('保険料申告内訳名簿（一人親方団体控）'!O82=\"\",\"\",'保険料申告内訳名簿（一人親方団体控）'!O82)","v":""},{"$f":"IF('保険料申告内訳名簿（一人親方団体控）'!P82=\"\",\"\",'保険料申告内訳名簿（一人親方団体控）'!P82)","v":""},{"$f":"IF('保険料申告内訳名簿（一人親方団体控）'!Q82=\"\",\"\",'保険料申告内訳名簿（一人親方団体控）'!Q82)","v":""},{"$f":"IF('保険料申告内訳名簿（一人親方団体控）'!R82=\"\",\"\",'保険料申告内訳名簿（一人親方団体控）'!R82)","v":""},{"$f":"IF('保険料申告内訳名簿（一人親方団体控）'!S82=\"\",\"\",'保険料申告内訳名簿（一人親方団体控）'!S82)","v":0},{"$f":"IF('保険料申告内訳名簿（一人親方団体控）'!T82=\"\",\"\",'保険料申告内訳名簿（一人親方団体控）'!T82)","v":""},{"$f":"IF('保険料申告内訳名簿（一人親方団体控）'!U82=\"\",\"\",'保険料申告内訳名簿（一人親方団体控）'!U82)","v":""},{"$f":"IF('保険料申告内訳名簿（一人親方団体控）'!V82=\"\",\"\",'保険料申告内訳名簿（一人親方団体控）'!V82)","v":""},{"$f":"IF('保険料申告内訳名簿（一人親方団体控）'!W82=\"\",\"\",'保険料申告内訳名簿（一人親方団体控）'!W82)","v":""},{"$f":"IF('保険料申告内訳名簿（一人親方団体控）'!X82=\"\",\"\",'保険料申告内訳名簿（一人親方団体控）'!X82)","v":""},{"$f":"IF('保険料申告内訳名簿（一人親方団体控）'!Y82=\"\",\"\",'保険料申告内訳名簿（一人親方団体控）'!Y82)","v":""},{"$f":"IF('保険料申告内訳名簿（一人親方団体控）'!Z82=\"\",\"\",'保険料申告内訳名簿（一人親方団体控）'!Z82)","v":""},{"$f":"IF('保険料申告内訳名簿（一人親方団体控）'!AA82=\"\",\"\",'保険料申告内訳名簿（一人親方団体控）'!AA82)","v":""},{"$f":"IF('保険料申告内訳名簿（一人親方団体控）'!AB82=\"\",\"\",'保険料申告内訳名簿（一人親方団体控）'!AB82)","v":""},{"$f":"IF('保険料申告内訳名簿（一人親方団体控）'!AC82=\"\",\"\",'保険料申告内訳名簿（一人親方団体控）'!AC82)","v":0},{"$f":"IF('保険料申告内訳名簿（一人親方団体控）'!AD82=\"\",\"\",'保険料申告内訳名簿（一人親方団体控）'!AD82)","v":""},{"$f":"IF('保険料申告内訳名簿（一人親方団体控）'!AE82=\"\",\"\",'保険料申告内訳名簿（一人親方団体控）'!AE82)","v":""},{"$f":"IF('保険料申告内訳名簿（一人親方団体控）'!AF82=\"\",\"\",'保険料申告内訳名簿（一人親方団体控）'!AF82)","v":""},{"$f":"IF('保険料申告内訳名簿（一人親方団体控）'!AG82=\"\",\"\",'保険料申告内訳名簿（一人親方団体控）'!AG82)","v":""},{"$f":"IF('保険料申告内訳名簿（一人親方団体控）'!AH82=\"\",\"\",'保険料申告内訳名簿（一人親方団体控）'!AH82)","v":""}]
[null,{"$f":"IF('保険料申告内訳名簿（一人親方団体控）'!B83=\"\",\"\",'保険料申告内訳名簿（一人親方団体控）'!B83)","v":""},{"$f":"IF('保険料申告内訳名簿（一人親方団体控）'!C83=\"\",\"\",'保険料申告内訳名簿（一人親方団体控）'!C83)","v":""},{"$f":"IF('保険料申告内訳名簿（一人親方団体控）'!D83=\"\",\"\",'保険料申告内訳名簿（一人親方団体控）'!D83)","v":""},{"$f":"IF('保険料申告内訳名簿（一人親方団体控）'!E83=\"\",\"\",'保険料申告内訳名簿（一人親方団体控）'!E83)","v":""},{"$f":"IF('保険料申告内訳名簿（一人親方団体控）'!F83=\"\",\"\",'保険料申告内訳名簿（一人親方団体控）'!F83)","v":""},{"$f":"IF('保険料申告内訳名簿（一人親方団体控）'!G83=\"\",\"\",'保険料申告内訳名簿（一人親方団体控）'!G83)","v":""},{"$f":"IF('保険料申告内訳名簿（一人親方団体控）'!H83=\"\",\"\",'保険料申告内訳名簿（一人親方団体控）'!H83)","v":""},{"$f":"IF('保険料申告内訳名簿（一人親方団体控）'!I83=\"\",\"\",'保険料申告内訳名簿（一人親方団体控）'!I83)","v":""},{"$f":"IF('保険料申告内訳名簿（一人親方団体控）'!J83=\"\",\"\",'保険料申告内訳名簿（一人親方団体控）'!J83)","v":""},{"$f":"IF('保険料申告内訳名簿（一人親方団体控）'!K83=\"\",\"\",'保険料申告内訳名簿（一人親方団体控）'!K83)","v":""},{"$f":"IF('保険料申告内訳名簿（一人親方団体控）'!L83=\"\",\"\",'保険料申告内訳名簿（一人親方団体控）'!L83)","v":""},{"$f":"IF('保険料申告内訳名簿（一人親方団体控）'!M83=\"\",\"\",'保険料申告内訳名簿（一人親方団体控）'!M83)","v":""},{"$f":"IF('保険料申告内訳名簿（一人親方団体控）'!N83=\"\",\"\",'保険料申告内訳名簿（一人親方団体控）'!N83)","v":""},{"$f":"IF('保険料申告内訳名簿（一人親方団体控）'!O83=\"\",\"\",'保険料申告内訳名簿（一人親方団体控）'!O83)","v":""},{"$f":"IF('保険料申告内訳名簿（一人親方団体控）'!P83=\"\",\"\",'保険料申告内訳名簿（一人親方団体控）'!P83)","v":""},{"$f":"IF('保険料申告内訳名簿（一人親方団体控）'!Q83=\"\",\"\",'保険料申告内訳名簿（一人親方団体控）'!Q83)","v":""},{"$f":"IF('保険料申告内訳名簿（一人親方団体控）'!R83=\"\",\"\",'保険料申告内訳名簿（一人親方団体控）'!R83)","v":""},{"$f":"IF('保険料申告内訳名簿（一人親方団体控）'!S83=\"\",\"\",'保険料申告内訳名簿（一人親方団体控）'!S83)","v":0},{"$f":"IF('保険料申告内訳名簿（一人親方団体控）'!T83=\"\",\"\",'保険料申告内訳名簿（一人親方団体控）'!T83)","v":""},{"$f":"IF('保険料申告内訳名簿（一人親方団体控）'!U83=\"\",\"\",'保険料申告内訳名簿（一人親方団体控）'!U83)","v":""},{"$f":"IF('保険料申告内訳名簿（一人親方団体控）'!V83=\"\",\"\",'保険料申告内訳名簿（一人親方団体控）'!V83)","v":""},{"$f":"IF('保険料申告内訳名簿（一人親方団体控）'!W83=\"\",\"\",'保険料申告内訳名簿（一人親方団体控）'!W83)","v":""},{"$f":"IF('保険料申告内訳名簿（一人親方団体控）'!X83=\"\",\"\",'保険料申告内訳名簿（一人親方団体控）'!X83)","v":""},{"$f":"IF('保険料申告内訳名簿（一人親方団体控）'!Y83=\"\",\"\",'保険料申告内訳名簿（一人親方団体控）'!Y83)","v":""},{"$f":"IF('保険料申告内訳名簿（一人親方団体控）'!Z83=\"\",\"\",'保険料申告内訳名簿（一人親方団体控）'!Z83)","v":""},{"$f":"IF('保険料申告内訳名簿（一人親方団体控）'!AA83=\"\",\"\",'保険料申告内訳名簿（一人親方団体控）'!AA83)","v":""},{"$f":"IF('保険料申告内訳名簿（一人親方団体控）'!AB83=\"\",\"\",'保険料申告内訳名簿（一人親方団体控）'!AB83)","v":""},{"$f":"IF('保険料申告内訳名簿（一人親方団体控）'!AC83=\"\",\"\",'保険料申告内訳名簿（一人親方団体控）'!AC83)","v":0},{"$f":"IF('保険料申告内訳名簿（一人親方団体控）'!AD83=\"\",\"\",'保険料申告内訳名簿（一人親方団体控）'!AD83)","v":""},{"$f":"IF('保険料申告内訳名簿（一人親方団体控）'!AE83=\"\",\"\",'保険料申告内訳名簿（一人親方団体控）'!AE83)","v":""},{"$f":"IF('保険料申告内訳名簿（一人親方団体控）'!AF83=\"\",\"\",'保険料申告内訳名簿（一人親方団体控）'!AF83)","v":""},{"$f":"IF('保険料申告内訳名簿（一人親方団体控）'!AG83=\"\",\"\",'保険料申告内訳名簿（一人親方団体控）'!AG83)","v":""},{"$f":"IF('保険料申告内訳名簿（一人親方団体控）'!AH83=\"\",\"\",'保険料申告内訳名簿（一人親方団体控）'!AH83)","v":""}]
[null,{"$f":"IF('保険料申告内訳名簿（一人親方団体控）'!B84=\"\",\"\",'保険料申告内訳名簿（一人親方団体控）'!B84)","v":""},{"$f":"IF('保険料申告内訳名簿（一人親方団体控）'!C84=\"\",\"\",'保険料申告内訳名簿（一人親方団体控）'!C84)","v":""},{"$f":"IF('保険料申告内訳名簿（一人親方団体控）'!D84=\"\",\"\",'保険料申告内訳名簿（一人親方団体控）'!D84)","v":""},{"$f":"IF('保険料申告内訳名簿（一人親方団体控）'!E84=\"\",\"\",'保険料申告内訳名簿（一人親方団体控）'!E84)","v":""},{"$f":"IF('保険料申告内訳名簿（一人親方団体控）'!F84=\"\",\"\",'保険料申告内訳名簿（一人親方団体控）'!F84)","v":""},{"$f":"IF('保険料申告内訳名簿（一人親方団体控）'!G84=\"\",\"\",'保険料申告内訳名簿（一人親方団体控）'!G84)","v":""},{"$f":"IF('保険料申告内訳名簿（一人親方団体控）'!H84=\"\",\"\",'保険料申告内訳名簿（一人親方団体控）'!H84)","v":""},{"$f":"IF('保険料申告内訳名簿（一人親方団体控）'!I84=\"\",\"\",'保険料申告内訳名簿（一人親方団体控）'!I84)","v":""},{"$f":"IF('保険料申告内訳名簿（一人親方団体控）'!J84=\"\",\"\",'保険料申告内訳名簿（一人親方団体控）'!J84)","v":""},{"$f":"IF('保険料申告内訳名簿（一人親方団体控）'!K84=\"\",\"\",'保険料申告内訳名簿（一人親方団体控）'!K84)","v":""},{"$f":"IF('保険料申告内訳名簿（一人親方団体控）'!L84=\"\",\"\",'保険料申告内訳名簿（一人親方団体控）'!L84)","v":""},{"$f":"IF('保険料申告内訳名簿（一人親方団体控）'!M84=\"\",\"\",'保険料申告内訳名簿（一人親方団体控）'!M84)","v":""},{"$f":"IF('保険料申告内訳名簿（一人親方団体控）'!N84=\"\",\"\",'保険料申告内訳名簿（一人親方団体控）'!N84)","v":""},{"$f":"IF('保険料申告内訳名簿（一人親方団体控）'!O84=\"\",\"\",'保険料申告内訳名簿（一人親方団体控）'!O84)","v":""},{"$f":"IF('保険料申告内訳名簿（一人親方団体控）'!P84=\"\",\"\",'保険料申告内訳名簿（一人親方団体控）'!P84)","v":""},{"$f":"IF('保険料申告内訳名簿（一人親方団体控）'!Q84=\"\",\"\",'保険料申告内訳名簿（一人親方団体控）'!Q84)","v":""},{"$f":"IF('保険料申告内訳名簿（一人親方団体控）'!R84=\"\",\"\",'保険料申告内訳名簿（一人親方団体控）'!R84)","v":""},{"$f":"IF('保険料申告内訳名簿（一人親方団体控）'!S84=\"\",\"\",'保険料申告内訳名簿（一人親方団体控）'!S84)","v":0},{"$f":"IF('保険料申告内訳名簿（一人親方団体控）'!T84=\"\",\"\",'保険料申告内訳名簿（一人親方団体控）'!T84)","v":""},{"$f":"IF('保険料申告内訳名簿（一人親方団体控）'!U84=\"\",\"\",'保険料申告内訳名簿（一人親方団体控）'!U84)","v":""},{"$f":"IF('保険料申告内訳名簿（一人親方団体控）'!V84=\"\",\"\",'保険料申告内訳名簿（一人親方団体控）'!V84)","v":""},{"$f":"IF('保険料申告内訳名簿（一人親方団体控）'!W84=\"\",\"\",'保険料申告内訳名簿（一人親方団体控）'!W84)","v":""},{"$f":"IF('保険料申告内訳名簿（一人親方団体控）'!X84=\"\",\"\",'保険料申告内訳名簿（一人親方団体控）'!X84)","v":""},{"$f":"IF('保険料申告内訳名簿（一人親方団体控）'!Y84=\"\",\"\",'保険料申告内訳名簿（一人親方団体控）'!Y84)","v":""},{"$f":"IF('保険料申告内訳名簿（一人親方団体控）'!Z84=\"\",\"\",'保険料申告内訳名簿（一人親方団体控）'!Z84)","v":""},{"$f":"IF('保険料申告内訳名簿（一人親方団体控）'!AA84=\"\",\"\",'保険料申告内訳名簿（一人親方団体控）'!AA84)","v":""},{"$f":"IF('保険料申告内訳名簿（一人親方団体控）'!AB84=\"\",\"\",'保険料申告内訳名簿（一人親方団体控）'!AB84)","v":""},{"$f":"IF('保険料申告内訳名簿（一人親方団体控）'!AC84=\"\",\"\",'保険料申告内訳名簿（一人親方団体控）'!AC84)","v":0},{"$f":"IF('保険料申告内訳名簿（一人親方団体控）'!AD84=\"\",\"\",'保険料申告内訳名簿（一人親方団体控）'!AD84)","v":""},{"$f":"IF('保険料申告内訳名簿（一人親方団体控）'!AE84=\"\",\"\",'保険料申告内訳名簿（一人親方団体控）'!AE84)","v":""},{"$f":"IF('保険料申告内訳名簿（一人親方団体控）'!AF84=\"\",\"\",'保険料申告内訳名簿（一人親方団体控）'!AF84)","v":""},{"$f":"IF('保険料申告内訳名簿（一人親方団体控）'!AG84=\"\",\"\",'保険料申告内訳名簿（一人親方団体控）'!AG84)","v":""},{"$f":"IF('保険料申告内訳名簿（一人親方団体控）'!AH84=\"\",\"\",'保険料申告内訳名簿（一人親方団体控）'!AH84)","v":""}]
[null,{"$f":"IF('保険料申告内訳名簿（一人親方団体控）'!B85=\"\",\"\",'保険料申告内訳名簿（一人親方団体控）'!B85)","v":""},{"$f":"IF('保険料申告内訳名簿（一人親方団体控）'!C85=\"\",\"\",'保険料申告内訳名簿（一人親方団体控）'!C85)","v":""},{"$f":"IF('保険料申告内訳名簿（一人親方団体控）'!D85=\"\",\"\",'保険料申告内訳名簿（一人親方団体控）'!D85)","v":""},{"$f":"IF('保険料申告内訳名簿（一人親方団体控）'!E85=\"\",\"\",'保険料申告内訳名簿（一人親方団体控）'!E85)","v":""},{"$f":"IF('保険料申告内訳名簿（一人親方団体控）'!F85=\"\",\"\",'保険料申告内訳名簿（一人親方団体控）'!F85)","v":""},{"$f":"IF('保険料申告内訳名簿（一人親方団体控）'!G85=\"\",\"\",'保険料申告内訳名簿（一人親方団体控）'!G85)","v":""},{"$f":"IF('保険料申告内訳名簿（一人親方団体控）'!H85=\"\",\"\",'保険料申告内訳名簿（一人親方団体控）'!H85)","v":""},{"$f":"IF('保険料申告内訳名簿（一人親方団体控）'!I85=\"\",\"\",'保険料申告内訳名簿（一人親方団体控）'!I85)","v":""},{"$f":"IF('保険料申告内訳名簿（一人親方団体控）'!J85=\"\",\"\",'保険料申告内訳名簿（一人親方団体控）'!J85)","v":""},{"$f":"IF('保険料申告内訳名簿（一人親方団体控）'!K85=\"\",\"\",'保険料申告内訳名簿（一人親方団体控）'!K85)","v":""},{"$f":"IF('保険料申告内訳名簿（一人親方団体控）'!L85=\"\",\"\",'保険料申告内訳名簿（一人親方団体控）'!L85)","v":""},{"$f":"IF('保険料申告内訳名簿（一人親方団体控）'!M85=\"\",\"\",'保険料申告内訳名簿（一人親方団体控）'!M85)","v":""},{"$f":"IF('保険料申告内訳名簿（一人親方団体控）'!N85=\"\",\"\",'保険料申告内訳名簿（一人親方団体控）'!N85)","v":""},{"$f":"IF('保険料申告内訳名簿（一人親方団体控）'!O85=\"\",\"\",'保険料申告内訳名簿（一人親方団体控）'!O85)","v":""},{"$f":"IF('保険料申告内訳名簿（一人親方団体控）'!P85=\"\",\"\",'保険料申告内訳名簿（一人親方団体控）'!P85)","v":""},{"$f":"IF('保険料申告内訳名簿（一人親方団体控）'!Q85=\"\",\"\",'保険料申告内訳名簿（一人親方団体控）'!Q85)","v":""},{"$f":"IF('保険料申告内訳名簿（一人親方団体控）'!R85=\"\",\"\",'保険料申告内訳名簿（一人親方団体控）'!R85)","v":""},{"$f":"IF('保険料申告内訳名簿（一人親方団体控）'!S85=\"\",\"\",'保険料申告内訳名簿（一人親方団体控）'!S85)","v":0},{"$f":"IF('保険料申告内訳名簿（一人親方団体控）'!T85=\"\",\"\",'保険料申告内訳名簿（一人親方団体控）'!T85)","v":""},{"$f":"IF('保険料申告内訳名簿（一人親方団体控）'!U85=\"\",\"\",'保険料申告内訳名簿（一人親方団体控）'!U85)","v":""},{"$f":"IF('保険料申告内訳名簿（一人親方団体控）'!V85=\"\",\"\",'保険料申告内訳名簿（一人親方団体控）'!V85)","v":""},{"$f":"IF('保険料申告内訳名簿（一人親方団体控）'!W85=\"\",\"\",'保険料申告内訳名簿（一人親方団体控）'!W85)","v":""},{"$f":"IF('保険料申告内訳名簿（一人親方団体控）'!X85=\"\",\"\",'保険料申告内訳名簿（一人親方団体控）'!X85)","v":""},{"$f":"IF('保険料申告内訳名簿（一人親方団体控）'!Y85=\"\",\"\",'保険料申告内訳名簿（一人親方団体控）'!Y85)","v":""},{"$f":"IF('保険料申告内訳名簿（一人親方団体控）'!Z85=\"\",\"\",'保険料申告内訳名簿（一人親方団体控）'!Z85)","v":""},{"$f":"IF('保険料申告内訳名簿（一人親方団体控）'!AA85=\"\",\"\",'保険料申告内訳名簿（一人親方団体控）'!AA85)","v":""},{"$f":"IF('保険料申告内訳名簿（一人親方団体控）'!AB85=\"\",\"\",'保険料申告内訳名簿（一人親方団体控）'!AB85)","v":""},{"$f":"IF('保険料申告内訳名簿（一人親方団体控）'!AC85=\"\",\"\",'保険料申告内訳名簿（一人親方団体控）'!AC85)","v":0},{"$f":"IF('保険料申告内訳名簿（一人親方団体控）'!AD85=\"\",\"\",'保険料申告内訳名簿（一人親方団体控）'!AD85)","v":""},{"$f":"IF('保険料申告内訳名簿（一人親方団体控）'!AE85=\"\",\"\",'保険料申告内訳名簿（一人親方団体控）'!AE85)","v":""},{"$f":"IF('保険料申告内訳名簿（一人親方団体控）'!AF85=\"\",\"\",'保険料申告内訳名簿（一人親方団体控）'!AF85)","v":""},{"$f":"IF('保険料申告内訳名簿（一人親方団体控）'!AG85=\"\",\"\",'保険料申告内訳名簿（一人親方団体控）'!AG85)","v":""},{"$f":"IF('保険料申告内訳名簿（一人親方団体控）'!AH85=\"\",\"\",'保険料申告内訳名簿（一人親方団体控）'!AH85)","v":""}]
[null,{"$f":"IF('保険料申告内訳名簿（一人親方団体控）'!B86=\"\",\"\",'保険料申告内訳名簿（一人親方団体控）'!B86)","v":""},{"$f":"IF('保険料申告内訳名簿（一人親方団体控）'!C86=\"\",\"\",'保険料申告内訳名簿（一人親方団体控）'!C86)","v":""},{"$f":"IF('保険料申告内訳名簿（一人親方団体控）'!D86=\"\",\"\",'保険料申告内訳名簿（一人親方団体控）'!D86)","v":""},{"$f":"IF('保険料申告内訳名簿（一人親方団体控）'!E86=\"\",\"\",'保険料申告内訳名簿（一人親方団体控）'!E86)","v":""},{"$f":"IF('保険料申告内訳名簿（一人親方団体控）'!F86=\"\",\"\",'保険料申告内訳名簿（一人親方団体控）'!F86)","v":""},{"$f":"IF('保険料申告内訳名簿（一人親方団体控）'!G86=\"\",\"\",'保険料申告内訳名簿（一人親方団体控）'!G86)","v":""},{"$f":"IF('保険料申告内訳名簿（一人親方団体控）'!H86=\"\",\"\",'保険料申告内訳名簿（一人親方団体控）'!H86)","v":""},{"$f":"IF('保険料申告内訳名簿（一人親方団体控）'!I86=\"\",\"\",'保険料申告内訳名簿（一人親方団体控）'!I86)","v":""},{"$f":"IF('保険料申告内訳名簿（一人親方団体控）'!J86=\"\",\"\",'保険料申告内訳名簿（一人親方団体控）'!J86)","v":""},{"$f":"IF('保険料申告内訳名簿（一人親方団体控）'!K86=\"\",\"\",'保険料申告内訳名簿（一人親方団体控）'!K86)","v":""},{"$f":"IF('保険料申告内訳名簿（一人親方団体控）'!L86=\"\",\"\",'保険料申告内訳名簿（一人親方団体控）'!L86)","v":""},{"$f":"IF('保険料申告内訳名簿（一人親方団体控）'!M86=\"\",\"\",'保険料申告内訳名簿（一人親方団体控）'!M86)","v":""},{"$f":"IF('保険料申告内訳名簿（一人親方団体控）'!N86=\"\",\"\",'保険料申告内訳名簿（一人親方団体控）'!N86)","v":""},{"$f":"IF('保険料申告内訳名簿（一人親方団体控）'!O86=\"\",\"\",'保険料申告内訳名簿（一人親方団体控）'!O86)","v":""},{"$f":"IF('保険料申告内訳名簿（一人親方団体控）'!P86=\"\",\"\",'保険料申告内訳名簿（一人親方団体控）'!P86)","v":""},{"$f":"IF('保険料申告内訳名簿（一人親方団体控）'!Q86=\"\",\"\",'保険料申告内訳名簿（一人親方団体控）'!Q86)","v":""},{"$f":"IF('保険料申告内訳名簿（一人親方団体控）'!R86=\"\",\"\",'保険料申告内訳名簿（一人親方団体控）'!R86)","v":""},{"$f":"IF('保険料申告内訳名簿（一人親方団体控）'!S86=\"\",\"\",'保険料申告内訳名簿（一人親方団体控）'!S86)","v":0},{"$f":"IF('保険料申告内訳名簿（一人親方団体控）'!T86=\"\",\"\",'保険料申告内訳名簿（一人親方団体控）'!T86)","v":""},{"$f":"IF('保険料申告内訳名簿（一人親方団体控）'!U86=\"\",\"\",'保険料申告内訳名簿（一人親方団体控）'!U86)","v":""},{"$f":"IF('保険料申告内訳名簿（一人親方団体控）'!V86=\"\",\"\",'保険料申告内訳名簿（一人親方団体控）'!V86)","v":""},{"$f":"IF('保険料申告内訳名簿（一人親方団体控）'!W86=\"\",\"\",'保険料申告内訳名簿（一人親方団体控）'!W86)","v":""},{"$f":"IF('保険料申告内訳名簿（一人親方団体控）'!X86=\"\",\"\",'保険料申告内訳名簿（一人親方団体控）'!X86)","v":""},{"$f":"IF('保険料申告内訳名簿（一人親方団体控）'!Y86=\"\",\"\",'保険料申告内訳名簿（一人親方団体控）'!Y86)","v":""},{"$f":"IF('保険料申告内訳名簿（一人親方団体控）'!Z86=\"\",\"\",'保険料申告内訳名簿（一人親方団体控）'!Z86)","v":""},{"$f":"IF('保険料申告内訳名簿（一人親方団体控）'!AA86=\"\",\"\",'保険料申告内訳名簿（一人親方団体控）'!AA86)","v":""},{"$f":"IF('保険料申告内訳名簿（一人親方団体控）'!AB86=\"\",\"\",'保険料申告内訳名簿（一人親方団体控）'!AB86)","v":""},{"$f":"IF('保険料申告内訳名簿（一人親方団体控）'!AC86=\"\",\"\",'保険料申告内訳名簿（一人親方団体控）'!AC86)","v":0},{"$f":"IF('保険料申告内訳名簿（一人親方団体控）'!AD86=\"\",\"\",'保険料申告内訳名簿（一人親方団体控）'!AD86)","v":""},{"$f":"IF('保険料申告内訳名簿（一人親方団体控）'!AE86=\"\",\"\",'保険料申告内訳名簿（一人親方団体控）'!AE86)","v":""},{"$f":"IF('保険料申告内訳名簿（一人親方団体控）'!AF86=\"\",\"\",'保険料申告内訳名簿（一人親方団体控）'!AF86)","v":""},{"$f":"IF('保険料申告内訳名簿（一人親方団体控）'!AG86=\"\",\"\",'保険料申告内訳名簿（一人親方団体控）'!AG86)","v":""},{"$f":"IF('保険料申告内訳名簿（一人親方団体控）'!AH86=\"\",\"\",'保険料申告内訳名簿（一人親方団体控）'!AH86)","v":""}]
[null,{"$f":"IF('保険料申告内訳名簿（一人親方団体控）'!B87=\"\",\"\",'保険料申告内訳名簿（一人親方団体控）'!B87)","v":""},{"$f":"IF('保険料申告内訳名簿（一人親方団体控）'!C87=\"\",\"\",'保険料申告内訳名簿（一人親方団体控）'!C87)","v":""},{"$f":"IF('保険料申告内訳名簿（一人親方団体控）'!D87=\"\",\"\",'保険料申告内訳名簿（一人親方団体控）'!D87)","v":""},{"$f":"IF('保険料申告内訳名簿（一人親方団体控）'!E87=\"\",\"\",'保険料申告内訳名簿（一人親方団体控）'!E87)","v":""},{"$f":"IF('保険料申告内訳名簿（一人親方団体控）'!F87=\"\",\"\",'保険料申告内訳名簿（一人親方団体控）'!F87)","v":""},{"$f":"IF('保険料申告内訳名簿（一人親方団体控）'!G87=\"\",\"\",'保険料申告内訳名簿（一人親方団体控）'!G87)","v":""},{"$f":"IF('保険料申告内訳名簿（一人親方団体控）'!H87=\"\",\"\",'保険料申告内訳名簿（一人親方団体控）'!H87)","v":""},{"$f":"IF('保険料申告内訳名簿（一人親方団体控）'!I87=\"\",\"\",'保険料申告内訳名簿（一人親方団体控）'!I87)","v":""},{"$f":"IF('保険料申告内訳名簿（一人親方団体控）'!J87=\"\",\"\",'保険料申告内訳名簿（一人親方団体控）'!J87)","v":""},{"$f":"IF('保険料申告内訳名簿（一人親方団体控）'!K87=\"\",\"\",'保険料申告内訳名簿（一人親方団体控）'!K87)","v":""},{"$f":"IF('保険料申告内訳名簿（一人親方団体控）'!L87=\"\",\"\",'保険料申告内訳名簿（一人親方団体控）'!L87)","v":""},{"$f":"IF('保険料申告内訳名簿（一人親方団体控）'!M87=\"\",\"\",'保険料申告内訳名簿（一人親方団体控）'!M87)","v":""},{"$f":"IF('保険料申告内訳名簿（一人親方団体控）'!N87=\"\",\"\",'保険料申告内訳名簿（一人親方団体控）'!N87)","v":""},{"$f":"IF('保険料申告内訳名簿（一人親方団体控）'!O87=\"\",\"\",'保険料申告内訳名簿（一人親方団体控）'!O87)","v":""},{"$f":"IF('保険料申告内訳名簿（一人親方団体控）'!P87=\"\",\"\",'保険料申告内訳名簿（一人親方団体控）'!P87)","v":""},{"$f":"IF('保険料申告内訳名簿（一人親方団体控）'!Q87=\"\",\"\",'保険料申告内訳名簿（一人親方団体控）'!Q87)","v":""},{"$f":"IF('保険料申告内訳名簿（一人親方団体控）'!R87=\"\",\"\",'保険料申告内訳名簿（一人親方団体控）'!R87)","v":""},{"$f":"IF('保険料申告内訳名簿（一人親方団体控）'!S87=\"\",\"\",'保険料申告内訳名簿（一人親方団体控）'!S87)","v":0},{"$f":"IF('保険料申告内訳名簿（一人親方団体控）'!T87=\"\",\"\",'保険料申告内訳名簿（一人親方団体控）'!T87)","v":""},{"$f":"IF('保険料申告内訳名簿（一人親方団体控）'!U87=\"\",\"\",'保険料申告内訳名簿（一人親方団体控）'!U87)","v":""},{"$f":"IF('保険料申告内訳名簿（一人親方団体控）'!V87=\"\",\"\",'保険料申告内訳名簿（一人親方団体控）'!V87)","v":""},{"$f":"IF('保険料申告内訳名簿（一人親方団体控）'!W87=\"\",\"\",'保険料申告内訳名簿（一人親方団体控）'!W87)","v":""},{"$f":"IF('保険料申告内訳名簿（一人親方団体控）'!X87=\"\",\"\",'保険料申告内訳名簿（一人親方団体控）'!X87)","v":""},{"$f":"IF('保険料申告内訳名簿（一人親方団体控）'!Y87=\"\",\"\",'保険料申告内訳名簿（一人親方団体控）'!Y87)","v":""},{"$f":"IF('保険料申告内訳名簿（一人親方団体控）'!Z87=\"\",\"\",'保険料申告内訳名簿（一人親方団体控）'!Z87)","v":""},{"$f":"IF('保険料申告内訳名簿（一人親方団体控）'!AA87=\"\",\"\",'保険料申告内訳名簿（一人親方団体控）'!AA87)","v":""},{"$f":"IF('保険料申告内訳名簿（一人親方団体控）'!AB87=\"\",\"\",'保険料申告内訳名簿（一人親方団体控）'!AB87)","v":""},{"$f":"IF('保険料申告内訳名簿（一人親方団体控）'!AC87=\"\",\"\",'保険料申告内訳名簿（一人親方団体控）'!AC87)","v":0},{"$f":"IF('保険料申告内訳名簿（一人親方団体控）'!AD87=\"\",\"\",'保険料申告内訳名簿（一人親方団体控）'!AD87)","v":""},{"$f":"IF('保険料申告内訳名簿（一人親方団体控）'!AE87=\"\",\"\",'保険料申告内訳名簿（一人親方団体控）'!AE87)","v":""},{"$f":"IF('保険料申告内訳名簿（一人親方団体控）'!AF87=\"\",\"\",'保険料申告内訳名簿（一人親方団体控）'!AF87)","v":""},{"$f":"IF('保険料申告内訳名簿（一人親方団体控）'!AG87=\"\",\"\",'保険料申告内訳名簿（一人親方団体控）'!AG87)","v":""},{"$f":"IF('保険料申告内訳名簿（一人親方団体控）'!AH87=\"\",\"\",'保険料申告内訳名簿（一人親方団体控）'!AH87)","v":""}]
[null,{"$f":"IF('保険料申告内訳名簿（一人親方団体控）'!B88=\"\",\"\",'保険料申告内訳名簿（一人親方団体控）'!B88)","v":""},{"$f":"IF('保険料申告内訳名簿（一人親方団体控）'!C88=\"\",\"\",'保険料申告内訳名簿（一人親方団体控）'!C88)","v":""},{"$f":"IF('保険料申告内訳名簿（一人親方団体控）'!D88=\"\",\"\",'保険料申告内訳名簿（一人親方団体控）'!D88)","v":""},{"$f":"IF('保険料申告内訳名簿（一人親方団体控）'!E88=\"\",\"\",'保険料申告内訳名簿（一人親方団体控）'!E88)","v":""},{"$f":"IF('保険料申告内訳名簿（一人親方団体控）'!F88=\"\",\"\",'保険料申告内訳名簿（一人親方団体控）'!F88)","v":""},{"$f":"IF('保険料申告内訳名簿（一人親方団体控）'!G88=\"\",\"\",'保険料申告内訳名簿（一人親方団体控）'!G88)","v":""},{"$f":"IF('保険料申告内訳名簿（一人親方団体控）'!H88=\"\",\"\",'保険料申告内訳名簿（一人親方団体控）'!H88)","v":""},{"$f":"IF('保険料申告内訳名簿（一人親方団体控）'!I88=\"\",\"\",'保険料申告内訳名簿（一人親方団体控）'!I88)","v":""},{"$f":"IF('保険料申告内訳名簿（一人親方団体控）'!J88=\"\",\"\",'保険料申告内訳名簿（一人親方団体控）'!J88)","v":""},{"$f":"IF('保険料申告内訳名簿（一人親方団体控）'!K88=\"\",\"\",'保険料申告内訳名簿（一人親方団体控）'!K88)","v":""},{"$f":"IF('保険料申告内訳名簿（一人親方団体控）'!L88=\"\",\"\",'保険料申告内訳名簿（一人親方団体控）'!L88)","v":""},{"$f":"IF('保険料申告内訳名簿（一人親方団体控）'!M88=\"\",\"\",'保険料申告内訳名簿（一人親方団体控）'!M88)","v":""},{"$f":"IF('保険料申告内訳名簿（一人親方団体控）'!N88=\"\",\"\",'保険料申告内訳名簿（一人親方団体控）'!N88)","v":""},{"$f":"IF('保険料申告内訳名簿（一人親方団体控）'!O88=\"\",\"\",'保険料申告内訳名簿（一人親方団体控）'!O88)","v":""},{"$f":"IF('保険料申告内訳名簿（一人親方団体控）'!P88=\"\",\"\",'保険料申告内訳名簿（一人親方団体控）'!P88)","v":""},{"$f":"IF('保険料申告内訳名簿（一人親方団体控）'!Q88=\"\",\"\",'保険料申告内訳名簿（一人親方団体控）'!Q88)","v":""},{"$f":"IF('保険料申告内訳名簿（一人親方団体控）'!R88=\"\",\"\",'保険料申告内訳名簿（一人親方団体控）'!R88)","v":""},{"$f":"IF('保険料申告内訳名簿（一人親方団体控）'!S88=\"\",\"\",'保険料申告内訳名簿（一人親方団体控）'!S88)","v":0},{"$f":"IF('保険料申告内訳名簿（一人親方団体控）'!T88=\"\",\"\",'保険料申告内訳名簿（一人親方団体控）'!T88)","v":""},{"$f":"IF('保険料申告内訳名簿（一人親方団体控）'!U88=\"\",\"\",'保険料申告内訳名簿（一人親方団体控）'!U88)","v":""},{"$f":"IF('保険料申告内訳名簿（一人親方団体控）'!V88=\"\",\"\",'保険料申告内訳名簿（一人親方団体控）'!V88)","v":""},{"$f":"IF('保険料申告内訳名簿（一人親方団体控）'!W88=\"\",\"\",'保険料申告内訳名簿（一人親方団体控）'!W88)","v":""},{"$f":"IF('保険料申告内訳名簿（一人親方団体控）'!X88=\"\",\"\",'保険料申告内訳名簿（一人親方団体控）'!X88)","v":""},{"$f":"IF('保険料申告内訳名簿（一人親方団体控）'!Y88=\"\",\"\",'保険料申告内訳名簿（一人親方団体控）'!Y88)","v":""},{"$f":"IF('保険料申告内訳名簿（一人親方団体控）'!Z88=\"\",\"\",'保険料申告内訳名簿（一人親方団体控）'!Z88)","v":""},{"$f":"IF('保険料申告内訳名簿（一人親方団体控）'!AA88=\"\",\"\",'保険料申告内訳名簿（一人親方団体控）'!AA88)","v":""},{"$f":"IF('保険料申告内訳名簿（一人親方団体控）'!AB88=\"\",\"\",'保険料申告内訳名簿（一人親方団体控）'!AB88)","v":""},{"$f":"IF('保険料申告内訳名簿（一人親方団体控）'!AC88=\"\",\"\",'保険料申告内訳名簿（一人親方団体控）'!AC88)","v":0},{"$f":"IF('保険料申告内訳名簿（一人親方団体控）'!AD88=\"\",\"\",'保険料申告内訳名簿（一人親方団体控）'!AD88)","v":""},{"$f":"IF('保険料申告内訳名簿（一人親方団体控）'!AE88=\"\",\"\",'保険料申告内訳名簿（一人親方団体控）'!AE88)","v":""},{"$f":"IF('保険料申告内訳名簿（一人親方団体控）'!AF88=\"\",\"\",'保険料申告内訳名簿（一人親方団体控）'!AF88)","v":""},{"$f":"IF('保険料申告内訳名簿（一人親方団体控）'!AG88=\"\",\"\",'保険料申告内訳名簿（一人親方団体控）'!AG88)","v":""},{"$f":"IF('保険料申告内訳名簿（一人親方団体控）'!AH88=\"\",\"\",'保険料申告内訳名簿（一人親方団体控）'!AH88)","v":""}]
[null,{"$f":"IF('保険料申告内訳名簿（一人親方団体控）'!B89=\"\",\"\",'保険料申告内訳名簿（一人親方団体控）'!B89)","v":""},{"$f":"IF('保険料申告内訳名簿（一人親方団体控）'!C89=\"\",\"\",'保険料申告内訳名簿（一人親方団体控）'!C89)","v":""},{"$f":"IF('保険料申告内訳名簿（一人親方団体控）'!D89=\"\",\"\",'保険料申告内訳名簿（一人親方団体控）'!D89)","v":""},{"$f":"IF('保険料申告内訳名簿（一人親方団体控）'!E89=\"\",\"\",'保険料申告内訳名簿（一人親方団体控）'!E89)","v":""},{"$f":"IF('保険料申告内訳名簿（一人親方団体控）'!F89=\"\",\"\",'保険料申告内訳名簿（一人親方団体控）'!F89)","v":""},{"$f":"IF('保険料申告内訳名簿（一人親方団体控）'!G89=\"\",\"\",'保険料申告内訳名簿（一人親方団体控）'!G89)","v":""},{"$f":"IF('保険料申告内訳名簿（一人親方団体控）'!H89=\"\",\"\",'保険料申告内訳名簿（一人親方団体控）'!H89)","v":""},{"$f":"IF('保険料申告内訳名簿（一人親方団体控）'!I89=\"\",\"\",'保険料申告内訳名簿（一人親方団体控）'!I89)","v":""},{"$f":"IF('保険料申告内訳名簿（一人親方団体控）'!J89=\"\",\"\",'保険料申告内訳名簿（一人親方団体控）'!J89)","v":""},{"$f":"IF('保険料申告内訳名簿（一人親方団体控）'!K89=\"\",\"\",'保険料申告内訳名簿（一人親方団体控）'!K89)","v":""},{"$f":"IF('保険料申告内訳名簿（一人親方団体控）'!L89=\"\",\"\",'保険料申告内訳名簿（一人親方団体控）'!L89)","v":""},{"$f":"IF('保険料申告内訳名簿（一人親方団体控）'!M89=\"\",\"\",'保険料申告内訳名簿（一人親方団体控）'!M89)","v":""},{"$f":"IF('保険料申告内訳名簿（一人親方団体控）'!N89=\"\",\"\",'保険料申告内訳名簿（一人親方団体控）'!N89)","v":""},{"$f":"IF('保険料申告内訳名簿（一人親方団体控）'!O89=\"\",\"\",'保険料申告内訳名簿（一人親方団体控）'!O89)","v":""},{"$f":"IF('保険料申告内訳名簿（一人親方団体控）'!P89=\"\",\"\",'保険料申告内訳名簿（一人親方団体控）'!P89)","v":""},{"$f":"IF('保険料申告内訳名簿（一人親方団体控）'!Q89=\"\",\"\",'保険料申告内訳名簿（一人親方団体控）'!Q89)","v":""},{"$f":"IF('保険料申告内訳名簿（一人親方団体控）'!R89=\"\",\"\",'保険料申告内訳名簿（一人親方団体控）'!R89)","v":""},{"$f":"IF('保険料申告内訳名簿（一人親方団体控）'!S89=\"\",\"\",'保険料申告内訳名簿（一人親方団体控）'!S89)","v":0},{"$f":"IF('保険料申告内訳名簿（一人親方団体控）'!T89=\"\",\"\",'保険料申告内訳名簿（一人親方団体控）'!T89)","v":""},{"$f":"IF('保険料申告内訳名簿（一人親方団体控）'!U89=\"\",\"\",'保険料申告内訳名簿（一人親方団体控）'!U89)","v":""},{"$f":"IF('保険料申告内訳名簿（一人親方団体控）'!V89=\"\",\"\",'保険料申告内訳名簿（一人親方団体控）'!V89)","v":""},{"$f":"IF('保険料申告内訳名簿（一人親方団体控）'!W89=\"\",\"\",'保険料申告内訳名簿（一人親方団体控）'!W89)","v":""},{"$f":"IF('保険料申告内訳名簿（一人親方団体控）'!X89=\"\",\"\",'保険料申告内訳名簿（一人親方団体控）'!X89)","v":""},{"$f":"IF('保険料申告内訳名簿（一人親方団体控）'!Y89=\"\",\"\",'保険料申告内訳名簿（一人親方団体控）'!Y89)","v":""},{"$f":"IF('保険料申告内訳名簿（一人親方団体控）'!Z89=\"\",\"\",'保険料申告内訳名簿（一人親方団体控）'!Z89)","v":""},{"$f":"IF('保険料申告内訳名簿（一人親方団体控）'!AA89=\"\",\"\",'保険料申告内訳名簿（一人親方団体控）'!AA89)","v":""},{"$f":"IF('保険料申告内訳名簿（一人親方団体控）'!AB89=\"\",\"\",'保険料申告内訳名簿（一人親方団体控）'!AB89)","v":""},{"$f":"IF('保険料申告内訳名簿（一人親方団体控）'!AC89=\"\",\"\",'保険料申告内訳名簿（一人親方団体控）'!AC89)","v":0},{"$f":"IF('保険料申告内訳名簿（一人親方団体控）'!AD89=\"\",\"\",'保険料申告内訳名簿（一人親方団体控）'!AD89)","v":""},{"$f":"IF('保険料申告内訳名簿（一人親方団体控）'!AE89=\"\",\"\",'保険料申告内訳名簿（一人親方団体控）'!AE89)","v":""},{"$f":"IF('保険料申告内訳名簿（一人親方団体控）'!AF89=\"\",\"\",'保険料申告内訳名簿（一人親方団体控）'!AF89)","v":""},{"$f":"IF('保険料申告内訳名簿（一人親方団体控）'!AG89=\"\",\"\",'保険料申告内訳名簿（一人親方団体控）'!AG89)","v":""},{"$f":"IF('保険料申告内訳名簿（一人親方団体控）'!AH89=\"\",\"\",'保険料申告内訳名簿（一人親方団体控）'!AH89)","v":""}]
[null,{"$f":"IF('保険料申告内訳名簿（一人親方団体控）'!B90=\"\",\"\",'保険料申告内訳名簿（一人親方団体控）'!B90)","v":""},{"$f":"IF('保険料申告内訳名簿（一人親方団体控）'!C90=\"\",\"\",'保険料申告内訳名簿（一人親方団体控）'!C90)","v":""},{"$f":"IF('保険料申告内訳名簿（一人親方団体控）'!D90=\"\",\"\",'保険料申告内訳名簿（一人親方団体控）'!D90)","v":""},{"$f":"IF('保険料申告内訳名簿（一人親方団体控）'!E90=\"\",\"\",'保険料申告内訳名簿（一人親方団体控）'!E90)","v":""},{"$f":"IF('保険料申告内訳名簿（一人親方団体控）'!F90=\"\",\"\",'保険料申告内訳名簿（一人親方団体控）'!F90)","v":""},{"$f":"IF('保険料申告内訳名簿（一人親方団体控）'!G90=\"\",\"\",'保険料申告内訳名簿（一人親方団体控）'!G90)","v":""},{"$f":"IF('保険料申告内訳名簿（一人親方団体控）'!H90=\"\",\"\",'保険料申告内訳名簿（一人親方団体控）'!H90)","v":""},{"$f":"IF('保険料申告内訳名簿（一人親方団体控）'!I90=\"\",\"\",'保険料申告内訳名簿（一人親方団体控）'!I90)","v":""},{"$f":"IF('保険料申告内訳名簿（一人親方団体控）'!J90=\"\",\"\",'保険料申告内訳名簿（一人親方団体控）'!J90)","v":""},{"$f":"IF('保険料申告内訳名簿（一人親方団体控）'!K90=\"\",\"\",'保険料申告内訳名簿（一人親方団体控）'!K90)","v":""},{"$f":"IF('保険料申告内訳名簿（一人親方団体控）'!L90=\"\",\"\",'保険料申告内訳名簿（一人親方団体控）'!L90)","v":""},{"$f":"IF('保険料申告内訳名簿（一人親方団体控）'!M90=\"\",\"\",'保険料申告内訳名簿（一人親方団体控）'!M90)","v":""},{"$f":"IF('保険料申告内訳名簿（一人親方団体控）'!N90=\"\",\"\",'保険料申告内訳名簿（一人親方団体控）'!N90)","v":""},{"$f":"IF('保険料申告内訳名簿（一人親方団体控）'!O90=\"\",\"\",'保険料申告内訳名簿（一人親方団体控）'!O90)","v":""},{"$f":"IF('保険料申告内訳名簿（一人親方団体控）'!P90=\"\",\"\",'保険料申告内訳名簿（一人親方団体控）'!P90)","v":""},{"$f":"IF('保険料申告内訳名簿（一人親方団体控）'!Q90=\"\",\"\",'保険料申告内訳名簿（一人親方団体控）'!Q90)","v":""},{"$f":"IF('保険料申告内訳名簿（一人親方団体控）'!R90=\"\",\"\",'保険料申告内訳名簿（一人親方団体控）'!R90)","v":""},{"$f":"IF('保険料申告内訳名簿（一人親方団体控）'!S90=\"\",\"\",'保険料申告内訳名簿（一人親方団体控）'!S90)","v":0},{"$f":"IF('保険料申告内訳名簿（一人親方団体控）'!T90=\"\",\"\",'保険料申告内訳名簿（一人親方団体控）'!T90)","v":""},{"$f":"IF('保険料申告内訳名簿（一人親方団体控）'!U90=\"\",\"\",'保険料申告内訳名簿（一人親方団体控）'!U90)","v":""},{"$f":"IF('保険料申告内訳名簿（一人親方団体控）'!V90=\"\",\"\",'保険料申告内訳名簿（一人親方団体控）'!V90)","v":""},{"$f":"IF('保険料申告内訳名簿（一人親方団体控）'!W90=\"\",\"\",'保険料申告内訳名簿（一人親方団体控）'!W90)","v":""},{"$f":"IF('保険料申告内訳名簿（一人親方団体控）'!X90=\"\",\"\",'保険料申告内訳名簿（一人親方団体控）'!X90)","v":""},{"$f":"IF('保険料申告内訳名簿（一人親方団体控）'!Y90=\"\",\"\",'保険料申告内訳名簿（一人親方団体控）'!Y90)","v":""},{"$f":"IF('保険料申告内訳名簿（一人親方団体控）'!Z90=\"\",\"\",'保険料申告内訳名簿（一人親方団体控）'!Z90)","v":""},{"$f":"IF('保険料申告内訳名簿（一人親方団体控）'!AA90=\"\",\"\",'保険料申告内訳名簿（一人親方団体控）'!AA90)","v":""},{"$f":"IF('保険料申告内訳名簿（一人親方団体控）'!AB90=\"\",\"\",'保険料申告内訳名簿（一人親方団体控）'!AB90)","v":""},{"$f":"IF('保険料申告内訳名簿（一人親方団体控）'!AC90=\"\",\"\",'保険料申告内訳名簿（一人親方団体控）'!AC90)","v":0},{"$f":"IF('保険料申告内訳名簿（一人親方団体控）'!AD90=\"\",\"\",'保険料申告内訳名簿（一人親方団体控）'!AD90)","v":""},{"$f":"IF('保険料申告内訳名簿（一人親方団体控）'!AE90=\"\",\"\",'保険料申告内訳名簿（一人親方団体控）'!AE90)","v":""},{"$f":"IF('保険料申告内訳名簿（一人親方団体控）'!AF90=\"\",\"\",'保険料申告内訳名簿（一人親方団体控）'!AF90)","v":""},{"$f":"IF('保険料申告内訳名簿（一人親方団体控）'!AG90=\"\",\"\",'保険料申告内訳名簿（一人親方団体控）'!AG90)","v":""},{"$f":"IF('保険料申告内訳名簿（一人親方団体控）'!AH90=\"\",\"\",'保険料申告内訳名簿（一人親方団体控）'!AH90)","v":""}]
[null,{"$f":"IF('保険料申告内訳名簿（一人親方団体控）'!B91=\"\",\"\",'保険料申告内訳名簿（一人親方団体控）'!B91)","v":""},{"$f":"IF('保険料申告内訳名簿（一人親方団体控）'!C91=\"\",\"\",'保険料申告内訳名簿（一人親方団体控）'!C91)","v":""},{"$f":"IF('保険料申告内訳名簿（一人親方団体控）'!D91=\"\",\"\",'保険料申告内訳名簿（一人親方団体控）'!D91)","v":""},{"$f":"IF('保険料申告内訳名簿（一人親方団体控）'!E91=\"\",\"\",'保険料申告内訳名簿（一人親方団体控）'!E91)","v":""},{"$f":"IF('保険料申告内訳名簿（一人親方団体控）'!F91=\"\",\"\",'保険料申告内訳名簿（一人親方団体控）'!F91)","v":""},{"$f":"IF('保険料申告内訳名簿（一人親方団体控）'!G91=\"\",\"\",'保険料申告内訳名簿（一人親方団体控）'!G91)","v":""},{"$f":"IF('保険料申告内訳名簿（一人親方団体控）'!H91=\"\",\"\",'保険料申告内訳名簿（一人親方団体控）'!H91)","v":""},{"$f":"IF('保険料申告内訳名簿（一人親方団体控）'!I91=\"\",\"\",'保険料申告内訳名簿（一人親方団体控）'!I91)","v":""},{"$f":"IF('保険料申告内訳名簿（一人親方団体控）'!J91=\"\",\"\",'保険料申告内訳名簿（一人親方団体控）'!J91)","v":""},{"$f":"IF('保険料申告内訳名簿（一人親方団体控）'!K91=\"\",\"\",'保険料申告内訳名簿（一人親方団体控）'!K91)","v":""},{"$f":"IF('保険料申告内訳名簿（一人親方団体控）'!L91=\"\",\"\",'保険料申告内訳名簿（一人親方団体控）'!L91)","v":""},{"$f":"IF('保険料申告内訳名簿（一人親方団体控）'!M91=\"\",\"\",'保険料申告内訳名簿（一人親方団体控）'!M91)","v":""},{"$f":"IF('保険料申告内訳名簿（一人親方団体控）'!N91=\"\",\"\",'保険料申告内訳名簿（一人親方団体控）'!N91)","v":""},{"$f":"IF('保険料申告内訳名簿（一人親方団体控）'!O91=\"\",\"\",'保険料申告内訳名簿（一人親方団体控）'!O91)","v":""},{"$f":"IF('保険料申告内訳名簿（一人親方団体控）'!P91=\"\",\"\",'保険料申告内訳名簿（一人親方団体控）'!P91)","v":""},{"$f":"IF('保険料申告内訳名簿（一人親方団体控）'!Q91=\"\",\"\",'保険料申告内訳名簿（一人親方団体控）'!Q91)","v":""},{"$f":"IF('保険料申告内訳名簿（一人親方団体控）'!R91=\"\",\"\",'保険料申告内訳名簿（一人親方団体控）'!R91)","v":""},{"$f":"IF('保険料申告内訳名簿（一人親方団体控）'!S91=\"\",\"\",'保険料申告内訳名簿（一人親方団体控）'!S91)","v":0},{"$f":"IF('保険料申告内訳名簿（一人親方団体控）'!T91=\"\",\"\",'保険料申告内訳名簿（一人親方団体控）'!T91)","v":""},{"$f":"IF('保険料申告内訳名簿（一人親方団体控）'!U91=\"\",\"\",'保険料申告内訳名簿（一人親方団体控）'!U91)","v":""},{"$f":"IF('保険料申告内訳名簿（一人親方団体控）'!V91=\"\",\"\",'保険料申告内訳名簿（一人親方団体控）'!V91)","v":""},{"$f":"IF('保険料申告内訳名簿（一人親方団体控）'!W91=\"\",\"\",'保険料申告内訳名簿（一人親方団体控）'!W91)","v":""},{"$f":"IF('保険料申告内訳名簿（一人親方団体控）'!X91=\"\",\"\",'保険料申告内訳名簿（一人親方団体控）'!X91)","v":""},{"$f":"IF('保険料申告内訳名簿（一人親方団体控）'!Y91=\"\",\"\",'保険料申告内訳名簿（一人親方団体控）'!Y91)","v":""},{"$f":"IF('保険料申告内訳名簿（一人親方団体控）'!Z91=\"\",\"\",'保険料申告内訳名簿（一人親方団体控）'!Z91)","v":""},{"$f":"IF('保険料申告内訳名簿（一人親方団体控）'!AA91=\"\",\"\",'保険料申告内訳名簿（一人親方団体控）'!AA91)","v":""},{"$f":"IF('保険料申告内訳名簿（一人親方団体控）'!AB91=\"\",\"\",'保険料申告内訳名簿（一人親方団体控）'!AB91)","v":""},{"$f":"IF('保険料申告内訳名簿（一人親方団体控）'!AC91=\"\",\"\",'保険料申告内訳名簿（一人親方団体控）'!AC91)","v":0},{"$f":"IF('保険料申告内訳名簿（一人親方団体控）'!AD91=\"\",\"\",'保険料申告内訳名簿（一人親方団体控）'!AD91)","v":""},{"$f":"IF('保険料申告内訳名簿（一人親方団体控）'!AE91=\"\",\"\",'保険料申告内訳名簿（一人親方団体控）'!AE91)","v":""},{"$f":"IF('保険料申告内訳名簿（一人親方団体控）'!AF91=\"\",\"\",'保険料申告内訳名簿（一人親方団体控）'!AF91)","v":""},{"$f":"IF('保険料申告内訳名簿（一人親方団体控）'!AG91=\"\",\"\",'保険料申告内訳名簿（一人親方団体控）'!AG91)","v":""},{"$f":"IF('保険料申告内訳名簿（一人親方団体控）'!AH91=\"\",\"\",'保険料申告内訳名簿（一人親方団体控）'!AH91)","v":""}]
[null,null,null,null,null,null,null,null,null,null,null,null,null,null,null,null,null,null,{"$f":"IF('保険料申告内訳名簿（一人親方団体控）'!S92=\"\",\"\",'保険料申告内訳名簿（一人親方団体控）'!S92)","v":0},{"$f":"IF('保険料申告内訳名簿（一人親方団体控）'!T92=\"\",\"\",'保険料申告内訳名簿（一人親方団体控）'!T92)","v":""},{"$f":"IF('保険料申告内訳名簿（一人親方団体控）'!U92=\"\",\"\",'保険料申告内訳名簿（一人親方団体控）'!U92)","v":""},{"$f":"IF('保険料申告内訳名簿（一人親方団体控）'!V92=\"\",\"\",'保険料申告内訳名簿（一人親方団体控）'!V92)","v":""},{"$f":"IF('保険料申告内訳名簿（一人親方団体控）'!W92=\"\",\"\",'保険料申告内訳名簿（一人親方団体控）'!W92)","v":""},{"$f":"IF('保険料申告内訳名簿（一人親方団体控）'!X92=\"\",\"\",'保険料申告内訳名簿（一人親方団体控）'!X92)","v":""},null,null,null,null,{"$f":"IF('保険料申告内訳名簿（一人親方団体控）'!AC92=\"\",\"\",'保険料申告内訳名簿（一人親方団体控）'!AC92)","v":0},{"$f":"IF('保険料申告内訳名簿（一人親方団体控）'!AD92=\"\",\"\",'保険料申告内訳名簿（一人親方団体控）'!AD92)","v":""},{"$f":"IF('保険料申告内訳名簿（一人親方団体控）'!AE92=\"\",\"\",'保険料申告内訳名簿（一人親方団体控）'!AE92)","v":""},{"$f":"IF('保険料申告内訳名簿（一人親方団体控）'!AF92=\"\",\"\",'保険料申告内訳名簿（一人親方団体控）'!AF92)","v":""},{"$f":"IF('保険料申告内訳名簿（一人親方団体控）'!AG92=\"\",\"\",'保険料申告内訳名簿（一人親方団体控）'!AG92)","v":""},{"$f":"IF('保険料申告内訳名簿（一人親方団体控）'!AH92=\"\",\"\",'保険料申告内訳名簿（一人親方団体控）'!AH92)","v":""}]
[]
[null,"（注）"]
[null,null,"１）　④欄は月割の対象となる方のみ記入して下さい。"]
[null,null,"２）　月割の対象となる場合の⑤保険料算定基礎額の算定方法"]
[null,null,"２）　月割の対象となる場合の③（給付基礎日額×365÷12）（円未満を切り上げてから）×加入月数"]
[]
[]
[null,"【島根局版】",null,null,null,null,null,null,null,null,null,null,null,null,null,null,null,null,null,null,null,null,null,null,null,null,"局用"]
[null,"第２種特別加入保険料申告内訳名簿"]
[null,"（一人親方等）"]
[null,null,null,null,null,null,null,null,null,null,null,null,null,null,null,null,null,null,null,null,null,null,null,null,"（",{"$f":"IF('保険料申告内訳名簿（一人親方団体控）'!Z103=\"\",\"\",'保険料申告内訳名簿（一人親方団体控）'!Z103)","v":0},{"$f":"IF('保険料申告内訳名簿（一人親方団体控）'!AA103=\"\",\"\",'保険料申告内訳名簿（一人親方団体控）'!AA103)","v":""},"枚のうち",null,{"$f":"IF('保険料申告内訳名簿（一人親方団体控）'!AD103=\"\",\"\",'保険料申告内訳名簿（一人親方団体控）'!AD103)","v":4},{"$f":"IF('保険料申告内訳名簿（一人親方団体控）'!AE103=\"\",\"\",'保険料申告内訳名簿（一人親方団体控）'!AE103)","v":""},"枚目",null,"）"]
[]
[null,"労働保険\n番　　　号",null,null,null,null,"府県",null,"所掌","管轄",null,"基幹番号",null,null,null,null,null,"枝番号",null,null,"事業場の\n所在地",null,null,{"$f":"IF('保険料申告内訳名簿（一人親方団体控）'!X105=\"\",\"\",'保険料申告内訳名簿（一人親方団体控）'!X105)","v":""},{"$f":"IF('保険料申告内訳名簿（一人親方団体控）'!Y105=\"\",\"\",'保険料申告内訳名簿（一人親方団体控）'!Y105)","v":""},{"$f":"IF('保険料申告内訳名簿（一人親方団体控）'!Z105=\"\",\"\",'保険料申告内訳名簿（一人親方団体控）'!Z105)","v":""},{"$f":"IF('保険料申告内訳名簿（一人親方団体控）'!AA105=\"\",\"\",'保険料申告内訳名簿（一人親方団体控）'!AA105)","v":""},{"$f":"IF('保険料申告内訳名簿（一人親方団体控）'!AB105=\"\",\"\",'保険料申告内訳名簿（一人親方団体控）'!AB105)","v":""},{"$f":"IF('保険料申告内訳名簿（一人親方団体控）'!AC105=\"\",\"\",'保険料申告内訳名簿（一人親方団体控）'!AC105)","v":""},{"$f":"IF('保険料申告内訳名簿（一人親方団体控）'!AD105=\"\",\"\",'保険料申告内訳名簿（一人親方団体控）'!AD105)","v":""},{"$f":"IF('保険料申告内訳名簿（一人親方団体控）'!AE105=\"\",\"\",'保険料申告内訳名簿（一人親方団体控）'!AE105)","v":""},{"$f":"IF('保険料申告内訳名簿（一人親方団体控）'!AF105=\"\",\"\",'保険料申告内訳名簿（一人親方団体控）'!AF105)","v":""},{"$f":"IF('保険料申告内訳名簿（一人親方団体控）'!AG105=\"\",\"\",'保険料申告内訳名簿（一人親方団体控）'!AG105)","v":""},{"$f":"IF('保険料申告内訳名簿（一人親方団体控）'!AH105=\"\",\"\",'保険料申告内訳名簿（一人親方団体控）'!AH105)","v":""}]
[null,null,null,null,null,null,"3","2",{"$f":"IF('保険料申告内訳名簿（一人親方団体控）'!I106=\"\",\"\",'保険料申告内訳名簿（一人親方団体控）'!I106)","v":""},{"$f":"IF('保険料申告内訳名簿（一人親方団体控）'!J106=\"\",\"\",'保険料申告内訳名簿（一人親方団体控）'!J106)","v":""},{"$f":"IF('保険料申告内訳名簿（一人親方団体控）'!K106=\"\",\"\",'保険料申告内訳名簿（一人親方団体控）'!K106)","v":""},{"$f":"IF('保険料申告内訳名簿（一人親方団体控）'!L106=\"\",\"\",'保険料申告内訳名簿（一人親方団体控）'!L106)","v":""},{"$f":"IF('保険料申告内訳名簿（一人親方団体控）'!M106=\"\",\"\",'保険料申告内訳名簿（一人親方団体控）'!M106)","v":""},{"$f":"IF('保険料申告内訳名簿（一人親方団体控）'!N106=\"\",\"\",'保険料申告内訳名簿（一人親方団体控）'!N106)","v":""},{"$f":"IF('保険料申告内訳名簿（一人親方団体控）'!O106=\"\",\"\",'保険料申告内訳名簿（一人親方団体控）'!O106)","v":""},{"$f":"IF('保険料申告内訳名簿（一人親方団体控）'!P106=\"\",\"\",'保険料申告内訳名簿（一人親方団体控）'!P106)","v":""},{"$f":"IF('保険料申告内訳名簿（一人親方団体控）'!Q106=\"\",\"\",'保険料申告内訳名簿（一人親方団体控）'!Q106)","v":""},{"$f":"IF('保険料申告内訳名簿（一人親方団体控）'!R106=\"\",\"\",'保険料申告内訳名簿（一人親方団体控）'!R106)","v":""},{"$f":"IF('保険料申告内訳名簿（一人親方団体控）'!S106=\"\",\"\",'保険料申告内訳名簿（一人親方団体控）'!S106)","v":""},{"$f":"IF('保険料申告内訳名簿（一人親方団体控）'!T106=\"\",\"\",'保険料申告内訳名簿（一人親方団体控）'!T106)","v":""},"事業場の\n名称",null,null,{"$f":"IF('保険料申告内訳名簿（一人親方団体控）'!X106=\"\",\"\",'保険料申告内訳名簿（一人親方団体控）'!X106)","v":""},{"$f":"IF('保険料申告内訳名簿（一人親方団体控）'!Y106=\"\",\"\",'保険料申告内訳名簿（一人親方団体控）'!Y106)","v":""},{"$f":"IF('保険料申告内訳名簿（一人親方団体控）'!Z106=\"\",\"\",'保険料申告内訳名簿（一人親方団体控）'!Z106)","v":""},{"$f":"IF('保険料申告内訳名簿（一人親方団体控）'!AA106=\"\",\"\",'保険料申告内訳名簿（一人親方団体控）'!AA106)","v":""},{"$f":"IF('保険料申告内訳名簿（一人親方団体控）'!AB106=\"\",\"\",'保険料申告内訳名簿（一人親方団体控）'!AB106)","v":""},{"$f":"IF('保険料申告内訳名簿（一人親方団体控）'!AC106=\"\",\"\",'保険料申告内訳名簿（一人親方団体控）'!AC106)","v":""},{"$f":"IF('保険料申告内訳名簿（一人親方団体控）'!AD106=\"\",\"\",'保険料申告内訳名簿（一人親方団体控）'!AD106)","v":""},{"$f":"IF('保険料申告内訳名簿（一人親方団体控）'!AE106=\"\",\"\",'保険料申告内訳名簿（一人親方団体控）'!AE106)","v":""},{"$f":"IF('保険料申告内訳名簿（一人親方団体控）'!AF106=\"\",\"\",'保険料申告内訳名簿（一人親方団体控）'!AF106)","v":""},{"$f":"IF('保険料申告内訳名簿（一人親方団体控）'!AG106=\"\",\"\",'保険料申告内訳名簿（一人親方団体控）'!AG106)","v":""},{"$f":"IF('保険料申告内訳名簿（一人親方団体控）'!AH106=\"\",\"\",'保険料申告内訳名簿（一人親方団体控）'!AH106)","v":""}]
[null,"①\n整理\n番号",null,"②\n氏名",null,null,null,null,null,null,null,null,null,null,"令 和",null,null,{"$f":"IF('保険料申告内訳名簿（一人親方団体控）'!R107=\"\",\"\",'保険料申告内訳名簿（一人親方団体控）'!R107)","v":""},{"$f":"IF('保険料申告内訳名簿（一人親方団体控）'!S107=\"\",\"\",'保険料申告内訳名簿（一人親方団体控）'!S107)","v":""},{"$f":"IF('保険料申告内訳名簿（一人親方団体控）'!T107=\"\",\"\",'保険料申告内訳名簿（一人親方団体控）'!T107)","v":""},null,null,null,"年 度 確 定 ","令 和",null,null,{"$f":"IF('保険料申告内訳名簿（一人親方団体控）'!AB107=\"\",\"\",'保険料申告内訳名簿（一人親方団体控）'!AB107)","v":""},{"$f":"IF('保険料申告内訳名簿（一人親方団体控）'!AC107=\"\",\"\",'保険料申告内訳名簿（一人親方団体控）'!AC107)","v":""},{"$f":"IF('保険料申告内訳名簿（一人親方団体控）'!AD107=\"\",\"\",'保険料申告内訳名簿（一人親方団体控）'!AD107)","v":""},null,null,null,"年 度 概 算 "]
[null,null,null,null,null,null,null,"③　\n給付基礎日額",null,null,null,"④年度中途加入・脱退",null,null,null,null,null,null,"⑤\n保険料算定基礎額",null,null,null,null,null,"⑥\n給付基礎日額",null,null,null,"⑦\n保険料算定基礎額"]
[null,null,null,null,null,null,null,null,null,null,null,"加入・脱退年月日",null,null,null,null,"加入月数"]
[null,{"$f":"IF('保険料申告内訳名簿（一人親方団体控）'!B110=\"\",\"\",'保険料申告内訳名簿（一人親方団体控）'!B110)","v":""},{"$f":"IF('保険料申告内訳名簿（一人親方団体控）'!C110=\"\",\"\",'保険料申告内訳名簿（一人親方団体控）'!C110)","v":""},{"$f":"IF('保険料申告内訳名簿（一人親方団体控）'!D110=\"\",\"\",'保険料申告内訳名簿（一人親方団体控）'!D110)","v":""},{"$f":"IF('保険料申告内訳名簿（一人親方団体控）'!E110=\"\",\"\",'保険料申告内訳名簿（一人親方団体控）'!E110)","v":""},{"$f":"IF('保険料申告内訳名簿（一人親方団体控）'!F110=\"\",\"\",'保険料申告内訳名簿（一人親方団体控）'!F110)","v":""},{"$f":"IF('保険料申告内訳名簿（一人親方団体控）'!G110=\"\",\"\",'保険料申告内訳名簿（一人親方団体控）'!G110)","v":""},{"$f":"IF('保険料申告内訳名簿（一人親方団体控）'!H110=\"\",\"\",'保険料申告内訳名簿（一人親方団体控）'!H110)","v":""},{"$f":"IF('保険料申告内訳名簿（一人親方団体控）'!I110=\"\",\"\",'保険料申告内訳名簿（一人親方団体控）'!I110)","v":""},{"$f":"IF('保険料申告内訳名簿（一人親方団体控）'!J110=\"\",\"\",'保険料申告内訳名簿（一人親方団体控）'!J110)","v":""},{"$f":"IF('保険料申告内訳名簿（一人親方団体控）'!K110=\"\",\"\",'保険料申告内訳名簿（一人親方団体控）'!K110)","v":""},{"$f":"IF('保険料申告内訳名簿（一人親方団体控）'!L110=\"\",\"\",'保険料申告内訳名簿（一人親方団体控）'!L110)","v":""},{"$f":"IF('保険料申告内訳名簿（一人親方団体控）'!M110=\"\",\"\",'保険料申告内訳名簿（一人親方団体控）'!M110)","v":""},{"$f":"IF('保険料申告内訳名簿（一人親方団体控）'!N110=\"\",\"\",'保険料申告内訳名簿（一人親方団体控）'!N110)","v":""},{"$f":"IF('保険料申告内訳名簿（一人親方団体控）'!O110=\"\",\"\",'保険料申告内訳名簿（一人親方団体控）'!O110)","v":""},{"$f":"IF('保険料申告内訳名簿（一人親方団体控）'!P110=\"\",\"\",'保険料申告内訳名簿（一人親方団体控）'!P110)","v":""},{"$f":"IF('保険料申告内訳名簿（一人親方団体控）'!Q110=\"\",\"\",'保険料申告内訳名簿（一人親方団体控）'!Q110)","v":""},{"$f":"IF('保険料申告内訳名簿（一人親方団体控）'!R110=\"\",\"\",'保険料申告内訳名簿（一人親方団体控）'!R110)","v":""},{"$f":"IF('保険料申告内訳名簿（一人親方団体控）'!S110=\"\",\"\",'保険料申告内訳名簿（一人親方団体控）'!S110)","v":0},{"$f":"IF('保険料申告内訳名簿（一人親方団体控）'!T110=\"\",\"\",'保険料申告内訳名簿（一人親方団体控）'!T110)","v":""},{"$f":"IF('保険料申告内訳名簿（一人親方団体控）'!U110=\"\",\"\",'保険料申告内訳名簿（一人親方団体控）'!U110)","v":""},{"$f":"IF('保険料申告内訳名簿（一人親方団体控）'!V110=\"\",\"\",'保険料申告内訳名簿（一人親方団体控）'!V110)","v":""},{"$f":"IF('保険料申告内訳名簿（一人親方団体控）'!W110=\"\",\"\",'保険料申告内訳名簿（一人親方団体控）'!W110)","v":""},{"$f":"IF('保険料申告内訳名簿（一人親方団体控）'!X110=\"\",\"\",'保険料申告内訳名簿（一人親方団体控）'!X110)","v":""},{"$f":"IF('保険料申告内訳名簿（一人親方団体控）'!Y110=\"\",\"\",'保険料申告内訳名簿（一人親方団体控）'!Y110)","v":""},{"$f":"IF('保険料申告内訳名簿（一人親方団体控）'!Z110=\"\",\"\",'保険料申告内訳名簿（一人親方団体控）'!Z110)","v":""},{"$f":"IF('保険料申告内訳名簿（一人親方団体控）'!AA110=\"\",\"\",'保険料申告内訳名簿（一人親方団体控）'!AA110)","v":""},{"$f":"IF('保険料申告内訳名簿（一人親方団体控）'!AB110=\"\",\"\",'保険料申告内訳名簿（一人親方団体控）'!AB110)","v":""},{"$f":"IF('保険料申告内訳名簿（一人親方団体控）'!AC110=\"\",\"\",'保険料申告内訳名簿（一人親方団体控）'!AC110)","v":0},{"$f":"IF('保険料申告内訳名簿（一人親方団体控）'!AD110=\"\",\"\",'保険料申告内訳名簿（一人親方団体控）'!AD110)","v":""},{"$f":"IF('保険料申告内訳名簿（一人親方団体控）'!AE110=\"\",\"\",'保険料申告内訳名簿（一人親方団体控）'!AE110)","v":""},{"$f":"IF('保険料申告内訳名簿（一人親方団体控）'!AF110=\"\",\"\",'保険料申告内訳名簿（一人親方団体控）'!AF110)","v":""},{"$f":"IF('保険料申告内訳名簿（一人親方団体控）'!AG110=\"\",\"\",'保険料申告内訳名簿（一人親方団体控）'!AG110)","v":""},{"$f":"IF('保険料申告内訳名簿（一人親方団体控）'!AH110=\"\",\"\",'保険料申告内訳名簿（一人親方団体控）'!AH110)","v":""}]
[null,{"$f":"IF('保険料申告内訳名簿（一人親方団体控）'!B111=\"\",\"\",'保険料申告内訳名簿（一人親方団体控）'!B111)","v":""},{"$f":"IF('保険料申告内訳名簿（一人親方団体控）'!C111=\"\",\"\",'保険料申告内訳名簿（一人親方団体控）'!C111)","v":""},{"$f":"IF('保険料申告内訳名簿（一人親方団体控）'!D111=\"\",\"\",'保険料申告内訳名簿（一人親方団体控）'!D111)","v":""},{"$f":"IF('保険料申告内訳名簿（一人親方団体控）'!E111=\"\",\"\",'保険料申告内訳名簿（一人親方団体控）'!E111)","v":""},{"$f":"IF('保険料申告内訳名簿（一人親方団体控）'!F111=\"\",\"\",'保険料申告内訳名簿（一人親方団体控）'!F111)","v":""},{"$f":"IF('保険料申告内訳名簿（一人親方団体控）'!G111=\"\",\"\",'保険料申告内訳名簿（一人親方団体控）'!G111)","v":""},{"$f":"IF('保険料申告内訳名簿（一人親方団体控）'!H111=\"\",\"\",'保険料申告内訳名簿（一人親方団体控）'!H111)","v":""},{"$f":"IF('保険料申告内訳名簿（一人親方団体控）'!I111=\"\",\"\",'保険料申告内訳名簿（一人親方団体控）'!I111)","v":""},{"$f":"IF('保険料申告内訳名簿（一人親方団体控）'!J111=\"\",\"\",'保険料申告内訳名簿（一人親方団体控）'!J111)","v":""},{"$f":"IF('保険料申告内訳名簿（一人親方団体控）'!K111=\"\",\"\",'保険料申告内訳名簿（一人親方団体控）'!K111)","v":""},{"$f":"IF('保険料申告内訳名簿（一人親方団体控）'!L111=\"\",\"\",'保険料申告内訳名簿（一人親方団体控）'!L111)","v":""},{"$f":"IF('保険料申告内訳名簿（一人親方団体控）'!M111=\"\",\"\",'保険料申告内訳名簿（一人親方団体控）'!M111)","v":""},{"$f":"IF('保険料申告内訳名簿（一人親方団体控）'!N111=\"\",\"\",'保険料申告内訳名簿（一人親方団体控）'!N111)","v":""},{"$f":"IF('保険料申告内訳名簿（一人親方団体控）'!O111=\"\",\"\",'保険料申告内訳名簿（一人親方団体控）'!O111)","v":""},{"$f":"IF('保険料申告内訳名簿（一人親方団体控）'!P111=\"\",\"\",'保険料申告内訳名簿（一人親方団体控）'!P111)","v":""},{"$f":"IF('保険料申告内訳名簿（一人親方団体控）'!Q111=\"\",\"\",'保険料申告内訳名簿（一人親方団体控）'!Q111)","v":""},{"$f":"IF('保険料申告内訳名簿（一人親方団体控）'!R111=\"\",\"\",'保険料申告内訳名簿（一人親方団体控）'!R111)","v":""},{"$f":"IF('保険料申告内訳名簿（一人親方団体控）'!S111=\"\",\"\",'保険料申告内訳名簿（一人親方団体控）'!S111)","v":0},{"$f":"IF('保険料申告内訳名簿（一人親方団体控）'!T111=\"\",\"\",'保険料申告内訳名簿（一人親方団体控）'!T111)","v":""},{"$f":"IF('保険料申告内訳名簿（一人親方団体控）'!U111=\"\",\"\",'保険料申告内訳名簿（一人親方団体控）'!U111)","v":""},{"$f":"IF('保険料申告内訳名簿（一人親方団体控）'!V111=\"\",\"\",'保険料申告内訳名簿（一人親方団体控）'!V111)","v":""},{"$f":"IF('保険料申告内訳名簿（一人親方団体控）'!W111=\"\",\"\",'保険料申告内訳名簿（一人親方団体控）'!W111)","v":""},{"$f":"IF('保険料申告内訳名簿（一人親方団体控）'!X111=\"\",\"\",'保険料申告内訳名簿（一人親方団体控）'!X111)","v":""},{"$f":"IF('保険料申告内訳名簿（一人親方団体控）'!Y111=\"\",\"\",'保険料申告内訳名簿（一人親方団体控）'!Y111)","v":""},{"$f":"IF('保険料申告内訳名簿（一人親方団体控）'!Z111=\"\",\"\",'保険料申告内訳名簿（一人親方団体控）'!Z111)","v":""},{"$f":"IF('保険料申告内訳名簿（一人親方団体控）'!AA111=\"\",\"\",'保険料申告内訳名簿（一人親方団体控）'!AA111)","v":""},{"$f":"IF('保険料申告内訳名簿（一人親方団体控）'!AB111=\"\",\"\",'保険料申告内訳名簿（一人親方団体控）'!AB111)","v":""},{"$f":"IF('保険料申告内訳名簿（一人親方団体控）'!AC111=\"\",\"\",'保険料申告内訳名簿（一人親方団体控）'!AC111)","v":0},{"$f":"IF('保険料申告内訳名簿（一人親方団体控）'!AD111=\"\",\"\",'保険料申告内訳名簿（一人親方団体控）'!AD111)","v":""},{"$f":"IF('保険料申告内訳名簿（一人親方団体控）'!AE111=\"\",\"\",'保険料申告内訳名簿（一人親方団体控）'!AE111)","v":""},{"$f":"IF('保険料申告内訳名簿（一人親方団体控）'!AF111=\"\",\"\",'保険料申告内訳名簿（一人親方団体控）'!AF111)","v":""},{"$f":"IF('保険料申告内訳名簿（一人親方団体控）'!AG111=\"\",\"\",'保険料申告内訳名簿（一人親方団体控）'!AG111)","v":""},{"$f":"IF('保険料申告内訳名簿（一人親方団体控）'!AH111=\"\",\"\",'保険料申告内訳名簿（一人親方団体控）'!AH111)","v":""}]
[null,{"$f":"IF('保険料申告内訳名簿（一人親方団体控）'!B112=\"\",\"\",'保険料申告内訳名簿（一人親方団体控）'!B112)","v":""},{"$f":"IF('保険料申告内訳名簿（一人親方団体控）'!C112=\"\",\"\",'保険料申告内訳名簿（一人親方団体控）'!C112)","v":""},{"$f":"IF('保険料申告内訳名簿（一人親方団体控）'!D112=\"\",\"\",'保険料申告内訳名簿（一人親方団体控）'!D112)","v":""},{"$f":"IF('保険料申告内訳名簿（一人親方団体控）'!E112=\"\",\"\",'保険料申告内訳名簿（一人親方団体控）'!E112)","v":""},{"$f":"IF('保険料申告内訳名簿（一人親方団体控）'!F112=\"\",\"\",'保険料申告内訳名簿（一人親方団体控）'!F112)","v":""},{"$f":"IF('保険料申告内訳名簿（一人親方団体控）'!G112=\"\",\"\",'保険料申告内訳名簿（一人親方団体控）'!G112)","v":""},{"$f":"IF('保険料申告内訳名簿（一人親方団体控）'!H112=\"\",\"\",'保険料申告内訳名簿（一人親方団体控）'!H112)","v":""},{"$f":"IF('保険料申告内訳名簿（一人親方団体控）'!I112=\"\",\"\",'保険料申告内訳名簿（一人親方団体控）'!I112)","v":""},{"$f":"IF('保険料申告内訳名簿（一人親方団体控）'!J112=\"\",\"\",'保険料申告内訳名簿（一人親方団体控）'!J112)","v":""},{"$f":"IF('保険料申告内訳名簿（一人親方団体控）'!K112=\"\",\"\",'保険料申告内訳名簿（一人親方団体控）'!K112)","v":""},{"$f":"IF('保険料申告内訳名簿（一人親方団体控）'!L112=\"\",\"\",'保険料申告内訳名簿（一人親方団体控）'!L112)","v":""},{"$f":"IF('保険料申告内訳名簿（一人親方団体控）'!M112=\"\",\"\",'保険料申告内訳名簿（一人親方団体控）'!M112)","v":""},{"$f":"IF('保険料申告内訳名簿（一人親方団体控）'!N112=\"\",\"\",'保険料申告内訳名簿（一人親方団体控）'!N112)","v":""},{"$f":"IF('保険料申告内訳名簿（一人親方団体控）'!O112=\"\",\"\",'保険料申告内訳名簿（一人親方団体控）'!O112)","v":""},{"$f":"IF('保険料申告内訳名簿（一人親方団体控）'!P112=\"\",\"\",'保険料申告内訳名簿（一人親方団体控）'!P112)","v":""},{"$f":"IF('保険料申告内訳名簿（一人親方団体控）'!Q112=\"\",\"\",'保険料申告内訳名簿（一人親方団体控）'!Q112)","v":""},{"$f":"IF('保険料申告内訳名簿（一人親方団体控）'!R112=\"\",\"\",'保険料申告内訳名簿（一人親方団体控）'!R112)","v":""},{"$f":"IF('保険料申告内訳名簿（一人親方団体控）'!S112=\"\",\"\",'保険料申告内訳名簿（一人親方団体控）'!S112)","v":0},{"$f":"IF('保険料申告内訳名簿（一人親方団体控）'!T112=\"\",\"\",'保険料申告内訳名簿（一人親方団体控）'!T112)","v":""},{"$f":"IF('保険料申告内訳名簿（一人親方団体控）'!U112=\"\",\"\",'保険料申告内訳名簿（一人親方団体控）'!U112)","v":""},{"$f":"IF('保険料申告内訳名簿（一人親方団体控）'!V112=\"\",\"\",'保険料申告内訳名簿（一人親方団体控）'!V112)","v":""},{"$f":"IF('保険料申告内訳名簿（一人親方団体控）'!W112=\"\",\"\",'保険料申告内訳名簿（一人親方団体控）'!W112)","v":""},{"$f":"IF('保険料申告内訳名簿（一人親方団体控）'!X112=\"\",\"\",'保険料申告内訳名簿（一人親方団体控）'!X112)","v":""},{"$f":"IF('保険料申告内訳名簿（一人親方団体控）'!Y112=\"\",\"\",'保険料申告内訳名簿（一人親方団体控）'!Y112)","v":""},{"$f":"IF('保険料申告内訳名簿（一人親方団体控）'!Z112=\"\",\"\",'保険料申告内訳名簿（一人親方団体控）'!Z112)","v":""},{"$f":"IF('保険料申告内訳名簿（一人親方団体控）'!AA112=\"\",\"\",'保険料申告内訳名簿（一人親方団体控）'!AA112)","v":""},{"$f":"IF('保険料申告内訳名簿（一人親方団体控）'!AB112=\"\",\"\",'保険料申告内訳名簿（一人親方団体控）'!AB112)","v":""},{"$f":"IF('保険料申告内訳名簿（一人親方団体控）'!AC112=\"\",\"\",'保険料申告内訳名簿（一人親方団体控）'!AC112)","v":0},{"$f":"IF('保険料申告内訳名簿（一人親方団体控）'!AD112=\"\",\"\",'保険料申告内訳名簿（一人親方団体控）'!AD112)","v":""},{"$f":"IF('保険料申告内訳名簿（一人親方団体控）'!AE112=\"\",\"\",'保険料申告内訳名簿（一人親方団体控）'!AE112)","v":""},{"$f":"IF('保険料申告内訳名簿（一人親方団体控）'!AF112=\"\",\"\",'保険料申告内訳名簿（一人親方団体控）'!AF112)","v":""},{"$f":"IF('保険料申告内訳名簿（一人親方団体控）'!AG112=\"\",\"\",'保険料申告内訳名簿（一人親方団体控）'!AG112)","v":""},{"$f":"IF('保険料申告内訳名簿（一人親方団体控）'!AH112=\"\",\"\",'保険料申告内訳名簿（一人親方団体控）'!AH112)","v":""}]
[null,{"$f":"IF('保険料申告内訳名簿（一人親方団体控）'!B113=\"\",\"\",'保険料申告内訳名簿（一人親方団体控）'!B113)","v":""},{"$f":"IF('保険料申告内訳名簿（一人親方団体控）'!C113=\"\",\"\",'保険料申告内訳名簿（一人親方団体控）'!C113)","v":""},{"$f":"IF('保険料申告内訳名簿（一人親方団体控）'!D113=\"\",\"\",'保険料申告内訳名簿（一人親方団体控）'!D113)","v":""},{"$f":"IF('保険料申告内訳名簿（一人親方団体控）'!E113=\"\",\"\",'保険料申告内訳名簿（一人親方団体控）'!E113)","v":""},{"$f":"IF('保険料申告内訳名簿（一人親方団体控）'!F113=\"\",\"\",'保険料申告内訳名簿（一人親方団体控）'!F113)","v":""},{"$f":"IF('保険料申告内訳名簿（一人親方団体控）'!G113=\"\",\"\",'保険料申告内訳名簿（一人親方団体控）'!G113)","v":""},{"$f":"IF('保険料申告内訳名簿（一人親方団体控）'!H113=\"\",\"\",'保険料申告内訳名簿（一人親方団体控）'!H113)","v":""},{"$f":"IF('保険料申告内訳名簿（一人親方団体控）'!I113=\"\",\"\",'保険料申告内訳名簿（一人親方団体控）'!I113)","v":""},{"$f":"IF('保険料申告内訳名簿（一人親方団体控）'!J113=\"\",\"\",'保険料申告内訳名簿（一人親方団体控）'!J113)","v":""},{"$f":"IF('保険料申告内訳名簿（一人親方団体控）'!K113=\"\",\"\",'保険料申告内訳名簿（一人親方団体控）'!K113)","v":""},{"$f":"IF('保険料申告内訳名簿（一人親方団体控）'!L113=\"\",\"\",'保険料申告内訳名簿（一人親方団体控）'!L113)","v":""},{"$f":"IF('保険料申告内訳名簿（一人親方団体控）'!M113=\"\",\"\",'保険料申告内訳名簿（一人親方団体控）'!M113)","v":""},{"$f":"IF('保険料申告内訳名簿（一人親方団体控）'!N113=\"\",\"\",'保険料申告内訳名簿（一人親方団体控）'!N113)","v":""},{"$f":"IF('保険料申告内訳名簿（一人親方団体控）'!O113=\"\",\"\",'保険料申告内訳名簿（一人親方団体控）'!O113)","v":""},{"$f":"IF('保険料申告内訳名簿（一人親方団体控）'!P113=\"\",\"\",'保険料申告内訳名簿（一人親方団体控）'!P113)","v":""},{"$f":"IF('保険料申告内訳名簿（一人親方団体控）'!Q113=\"\",\"\",'保険料申告内訳名簿（一人親方団体控）'!Q113)","v":""},{"$f":"IF('保険料申告内訳名簿（一人親方団体控）'!R113=\"\",\"\",'保険料申告内訳名簿（一人親方団体控）'!R113)","v":""},{"$f":"IF('保険料申告内訳名簿（一人親方団体控）'!S113=\"\",\"\",'保険料申告内訳名簿（一人親方団体控）'!S113)","v":0},{"$f":"IF('保険料申告内訳名簿（一人親方団体控）'!T113=\"\",\"\",'保険料申告内訳名簿（一人親方団体控）'!T113)","v":""},{"$f":"IF('保険料申告内訳名簿（一人親方団体控）'!U113=\"\",\"\",'保険料申告内訳名簿（一人親方団体控）'!U113)","v":""},{"$f":"IF('保険料申告内訳名簿（一人親方団体控）'!V113=\"\",\"\",'保険料申告内訳名簿（一人親方団体控）'!V113)","v":""},{"$f":"IF('保険料申告内訳名簿（一人親方団体控）'!W113=\"\",\"\",'保険料申告内訳名簿（一人親方団体控）'!W113)","v":""},{"$f":"IF('保険料申告内訳名簿（一人親方団体控）'!X113=\"\",\"\",'保険料申告内訳名簿（一人親方団体控）'!X113)","v":""},{"$f":"IF('保険料申告内訳名簿（一人親方団体控）'!Y113=\"\",\"\",'保険料申告内訳名簿（一人親方団体控）'!Y113)","v":""},{"$f":"IF('保険料申告内訳名簿（一人親方団体控）'!Z113=\"\",\"\",'保険料申告内訳名簿（一人親方団体控）'!Z113)","v":""},{"$f":"IF('保険料申告内訳名簿（一人親方団体控）'!AA113=\"\",\"\",'保険料申告内訳名簿（一人親方団体控）'!AA113)","v":""},{"$f":"IF('保険料申告内訳名簿（一人親方団体控）'!AB113=\"\",\"\",'保険料申告内訳名簿（一人親方団体控）'!AB113)","v":""},{"$f":"IF('保険料申告内訳名簿（一人親方団体控）'!AC113=\"\",\"\",'保険料申告内訳名簿（一人親方団体控）'!AC113)","v":0},{"$f":"IF('保険料申告内訳名簿（一人親方団体控）'!AD113=\"\",\"\",'保険料申告内訳名簿（一人親方団体控）'!AD113)","v":""},{"$f":"IF('保険料申告内訳名簿（一人親方団体控）'!AE113=\"\",\"\",'保険料申告内訳名簿（一人親方団体控）'!AE113)","v":""},{"$f":"IF('保険料申告内訳名簿（一人親方団体控）'!AF113=\"\",\"\",'保険料申告内訳名簿（一人親方団体控）'!AF113)","v":""},{"$f":"IF('保険料申告内訳名簿（一人親方団体控）'!AG113=\"\",\"\",'保険料申告内訳名簿（一人親方団体控）'!AG113)","v":""},{"$f":"IF('保険料申告内訳名簿（一人親方団体控）'!AH113=\"\",\"\",'保険料申告内訳名簿（一人親方団体控）'!AH113)","v":""}]
[null,{"$f":"IF('保険料申告内訳名簿（一人親方団体控）'!B114=\"\",\"\",'保険料申告内訳名簿（一人親方団体控）'!B114)","v":""},{"$f":"IF('保険料申告内訳名簿（一人親方団体控）'!C114=\"\",\"\",'保険料申告内訳名簿（一人親方団体控）'!C114)","v":""},{"$f":"IF('保険料申告内訳名簿（一人親方団体控）'!D114=\"\",\"\",'保険料申告内訳名簿（一人親方団体控）'!D114)","v":""},{"$f":"IF('保険料申告内訳名簿（一人親方団体控）'!E114=\"\",\"\",'保険料申告内訳名簿（一人親方団体控）'!E114)","v":""},{"$f":"IF('保険料申告内訳名簿（一人親方団体控）'!F114=\"\",\"\",'保険料申告内訳名簿（一人親方団体控）'!F114)","v":""},{"$f":"IF('保険料申告内訳名簿（一人親方団体控）'!G114=\"\",\"\",'保険料申告内訳名簿（一人親方団体控）'!G114)","v":""},{"$f":"IF('保険料申告内訳名簿（一人親方団体控）'!H114=\"\",\"\",'保険料申告内訳名簿（一人親方団体控）'!H114)","v":""},{"$f":"IF('保険料申告内訳名簿（一人親方団体控）'!I114=\"\",\"\",'保険料申告内訳名簿（一人親方団体控）'!I114)","v":""},{"$f":"IF('保険料申告内訳名簿（一人親方団体控）'!J114=\"\",\"\",'保険料申告内訳名簿（一人親方団体控）'!J114)","v":""},{"$f":"IF('保険料申告内訳名簿（一人親方団体控）'!K114=\"\",\"\",'保険料申告内訳名簿（一人親方団体控）'!K114)","v":""},{"$f":"IF('保険料申告内訳名簿（一人親方団体控）'!L114=\"\",\"\",'保険料申告内訳名簿（一人親方団体控）'!L114)","v":""},{"$f":"IF('保険料申告内訳名簿（一人親方団体控）'!M114=\"\",\"\",'保険料申告内訳名簿（一人親方団体控）'!M114)","v":""},{"$f":"IF('保険料申告内訳名簿（一人親方団体控）'!N114=\"\",\"\",'保険料申告内訳名簿（一人親方団体控）'!N114)","v":""},{"$f":"IF('保険料申告内訳名簿（一人親方団体控）'!O114=\"\",\"\",'保険料申告内訳名簿（一人親方団体控）'!O114)","v":""},{"$f":"IF('保険料申告内訳名簿（一人親方団体控）'!P114=\"\",\"\",'保険料申告内訳名簿（一人親方団体控）'!P114)","v":""},{"$f":"IF('保険料申告内訳名簿（一人親方団体控）'!Q114=\"\",\"\",'保険料申告内訳名簿（一人親方団体控）'!Q114)","v":""},{"$f":"IF('保険料申告内訳名簿（一人親方団体控）'!R114=\"\",\"\",'保険料申告内訳名簿（一人親方団体控）'!R114)","v":""},{"$f":"IF('保険料申告内訳名簿（一人親方団体控）'!S114=\"\",\"\",'保険料申告内訳名簿（一人親方団体控）'!S114)","v":0},{"$f":"IF('保険料申告内訳名簿（一人親方団体控）'!T114=\"\",\"\",'保険料申告内訳名簿（一人親方団体控）'!T114)","v":""},{"$f":"IF('保険料申告内訳名簿（一人親方団体控）'!U114=\"\",\"\",'保険料申告内訳名簿（一人親方団体控）'!U114)","v":""},{"$f":"IF('保険料申告内訳名簿（一人親方団体控）'!V114=\"\",\"\",'保険料申告内訳名簿（一人親方団体控）'!V114)","v":""},{"$f":"IF('保険料申告内訳名簿（一人親方団体控）'!W114=\"\",\"\",'保険料申告内訳名簿（一人親方団体控）'!W114)","v":""},{"$f":"IF('保険料申告内訳名簿（一人親方団体控）'!X114=\"\",\"\",'保険料申告内訳名簿（一人親方団体控）'!X114)","v":""},{"$f":"IF('保険料申告内訳名簿（一人親方団体控）'!Y114=\"\",\"\",'保険料申告内訳名簿（一人親方団体控）'!Y114)","v":""},{"$f":"IF('保険料申告内訳名簿（一人親方団体控）'!Z114=\"\",\"\",'保険料申告内訳名簿（一人親方団体控）'!Z114)","v":""},{"$f":"IF('保険料申告内訳名簿（一人親方団体控）'!AA114=\"\",\"\",'保険料申告内訳名簿（一人親方団体控）'!AA114)","v":""},{"$f":"IF('保険料申告内訳名簿（一人親方団体控）'!AB114=\"\",\"\",'保険料申告内訳名簿（一人親方団体控）'!AB114)","v":""},{"$f":"IF('保険料申告内訳名簿（一人親方団体控）'!AC114=\"\",\"\",'保険料申告内訳名簿（一人親方団体控）'!AC114)","v":0},{"$f":"IF('保険料申告内訳名簿（一人親方団体控）'!AD114=\"\",\"\",'保険料申告内訳名簿（一人親方団体控）'!AD114)","v":""},{"$f":"IF('保険料申告内訳名簿（一人親方団体控）'!AE114=\"\",\"\",'保険料申告内訳名簿（一人親方団体控）'!AE114)","v":""},{"$f":"IF('保険料申告内訳名簿（一人親方団体控）'!AF114=\"\",\"\",'保険料申告内訳名簿（一人親方団体控）'!AF114)","v":""},{"$f":"IF('保険料申告内訳名簿（一人親方団体控）'!AG114=\"\",\"\",'保険料申告内訳名簿（一人親方団体控）'!AG114)","v":""},{"$f":"IF('保険料申告内訳名簿（一人親方団体控）'!AH114=\"\",\"\",'保険料申告内訳名簿（一人親方団体控）'!AH114)","v":""}]
[null,{"$f":"IF('保険料申告内訳名簿（一人親方団体控）'!B115=\"\",\"\",'保険料申告内訳名簿（一人親方団体控）'!B115)","v":""},{"$f":"IF('保険料申告内訳名簿（一人親方団体控）'!C115=\"\",\"\",'保険料申告内訳名簿（一人親方団体控）'!C115)","v":""},{"$f":"IF('保険料申告内訳名簿（一人親方団体控）'!D115=\"\",\"\",'保険料申告内訳名簿（一人親方団体控）'!D115)","v":""},{"$f":"IF('保険料申告内訳名簿（一人親方団体控）'!E115=\"\",\"\",'保険料申告内訳名簿（一人親方団体控）'!E115)","v":""},{"$f":"IF('保険料申告内訳名簿（一人親方団体控）'!F115=\"\",\"\",'保険料申告内訳名簿（一人親方団体控）'!F115)","v":""},{"$f":"IF('保険料申告内訳名簿（一人親方団体控）'!G115=\"\",\"\",'保険料申告内訳名簿（一人親方団体控）'!G115)","v":""},{"$f":"IF('保険料申告内訳名簿（一人親方団体控）'!H115=\"\",\"\",'保険料申告内訳名簿（一人親方団体控）'!H115)","v":""},{"$f":"IF('保険料申告内訳名簿（一人親方団体控）'!I115=\"\",\"\",'保険料申告内訳名簿（一人親方団体控）'!I115)","v":""},{"$f":"IF('保険料申告内訳名簿（一人親方団体控）'!J115=\"\",\"\",'保険料申告内訳名簿（一人親方団体控）'!J115)","v":""},{"$f":"IF('保険料申告内訳名簿（一人親方団体控）'!K115=\"\",\"\",'保険料申告内訳名簿（一人親方団体控）'!K115)","v":""},{"$f":"IF('保険料申告内訳名簿（一人親方団体控）'!L115=\"\",\"\",'保険料申告内訳名簿（一人親方団体控）'!L115)","v":""},{"$f":"IF('保険料申告内訳名簿（一人親方団体控）'!M115=\"\",\"\",'保険料申告内訳名簿（一人親方団体控）'!M115)","v":""},{"$f":"IF('保険料申告内訳名簿（一人親方団体控）'!N115=\"\",\"\",'保険料申告内訳名簿（一人親方団体控）'!N115)","v":""},{"$f":"IF('保険料申告内訳名簿（一人親方団体控）'!O115=\"\",\"\",'保険料申告内訳名簿（一人親方団体控）'!O115)","v":""},{"$f":"IF('保険料申告内訳名簿（一人親方団体控）'!P115=\"\",\"\",'保険料申告内訳名簿（一人親方団体控）'!P115)","v":""},{"$f":"IF('保険料申告内訳名簿（一人親方団体控）'!Q115=\"\",\"\",'保険料申告内訳名簿（一人親方団体控）'!Q115)","v":""},{"$f":"IF('保険料申告内訳名簿（一人親方団体控）'!R115=\"\",\"\",'保険料申告内訳名簿（一人親方団体控）'!R115)","v":""},{"$f":"IF('保険料申告内訳名簿（一人親方団体控）'!S115=\"\",\"\",'保険料申告内訳名簿（一人親方団体控）'!S115)","v":0},{"$f":"IF('保険料申告内訳名簿（一人親方団体控）'!T115=\"\",\"\",'保険料申告内訳名簿（一人親方団体控）'!T115)","v":""},{"$f":"IF('保険料申告内訳名簿（一人親方団体控）'!U115=\"\",\"\",'保険料申告内訳名簿（一人親方団体控）'!U115)","v":""},{"$f":"IF('保険料申告内訳名簿（一人親方団体控）'!V115=\"\",\"\",'保険料申告内訳名簿（一人親方団体控）'!V115)","v":""},{"$f":"IF('保険料申告内訳名簿（一人親方団体控）'!W115=\"\",\"\",'保険料申告内訳名簿（一人親方団体控）'!W115)","v":""},{"$f":"IF('保険料申告内訳名簿（一人親方団体控）'!X115=\"\",\"\",'保険料申告内訳名簿（一人親方団体控）'!X115)","v":""},{"$f":"IF('保険料申告内訳名簿（一人親方団体控）'!Y115=\"\",\"\",'保険料申告内訳名簿（一人親方団体控）'!Y115)","v":""},{"$f":"IF('保険料申告内訳名簿（一人親方団体控）'!Z115=\"\",\"\",'保険料申告内訳名簿（一人親方団体控）'!Z115)","v":""},{"$f":"IF('保険料申告内訳名簿（一人親方団体控）'!AA115=\"\",\"\",'保険料申告内訳名簿（一人親方団体控）'!AA115)","v":""},{"$f":"IF('保険料申告内訳名簿（一人親方団体控）'!AB115=\"\",\"\",'保険料申告内訳名簿（一人親方団体控）'!AB115)","v":""},{"$f":"IF('保険料申告内訳名簿（一人親方団体控）'!AC115=\"\",\"\",'保険料申告内訳名簿（一人親方団体控）'!AC115)","v":0},{"$f":"IF('保険料申告内訳名簿（一人親方団体控）'!AD115=\"\",\"\",'保険料申告内訳名簿（一人親方団体控）'!AD115)","v":""},{"$f":"IF('保険料申告内訳名簿（一人親方団体控）'!AE115=\"\",\"\",'保険料申告内訳名簿（一人親方団体控）'!AE115)","v":""},{"$f":"IF('保険料申告内訳名簿（一人親方団体控）'!AF115=\"\",\"\",'保険料申告内訳名簿（一人親方団体控）'!AF115)","v":""},{"$f":"IF('保険料申告内訳名簿（一人親方団体控）'!AG115=\"\",\"\",'保険料申告内訳名簿（一人親方団体控）'!AG115)","v":""},{"$f":"IF('保険料申告内訳名簿（一人親方団体控）'!AH115=\"\",\"\",'保険料申告内訳名簿（一人親方団体控）'!AH115)","v":""}]
[null,{"$f":"IF('保険料申告内訳名簿（一人親方団体控）'!B116=\"\",\"\",'保険料申告内訳名簿（一人親方団体控）'!B116)","v":""},{"$f":"IF('保険料申告内訳名簿（一人親方団体控）'!C116=\"\",\"\",'保険料申告内訳名簿（一人親方団体控）'!C116)","v":""},{"$f":"IF('保険料申告内訳名簿（一人親方団体控）'!D116=\"\",\"\",'保険料申告内訳名簿（一人親方団体控）'!D116)","v":""},{"$f":"IF('保険料申告内訳名簿（一人親方団体控）'!E116=\"\",\"\",'保険料申告内訳名簿（一人親方団体控）'!E116)","v":""},{"$f":"IF('保険料申告内訳名簿（一人親方団体控）'!F116=\"\",\"\",'保険料申告内訳名簿（一人親方団体控）'!F116)","v":""},{"$f":"IF('保険料申告内訳名簿（一人親方団体控）'!G116=\"\",\"\",'保険料申告内訳名簿（一人親方団体控）'!G116)","v":""},{"$f":"IF('保険料申告内訳名簿（一人親方団体控）'!H116=\"\",\"\",'保険料申告内訳名簿（一人親方団体控）'!H116)","v":""},{"$f":"IF('保険料申告内訳名簿（一人親方団体控）'!I116=\"\",\"\",'保険料申告内訳名簿（一人親方団体控）'!I116)","v":""},{"$f":"IF('保険料申告内訳名簿（一人親方団体控）'!J116=\"\",\"\",'保険料申告内訳名簿（一人親方団体控）'!J116)","v":""},{"$f":"IF('保険料申告内訳名簿（一人親方団体控）'!K116=\"\",\"\",'保険料申告内訳名簿（一人親方団体控）'!K116)","v":""},{"$f":"IF('保険料申告内訳名簿（一人親方団体控）'!L116=\"\",\"\",'保険料申告内訳名簿（一人親方団体控）'!L116)","v":""},{"$f":"IF('保険料申告内訳名簿（一人親方団体控）'!M116=\"\",\"\",'保険料申告内訳名簿（一人親方団体控）'!M116)","v":""},{"$f":"IF('保険料申告内訳名簿（一人親方団体控）'!N116=\"\",\"\",'保険料申告内訳名簿（一人親方団体控）'!N116)","v":""},{"$f":"IF('保険料申告内訳名簿（一人親方団体控）'!O116=\"\",\"\",'保険料申告内訳名簿（一人親方団体控）'!O116)","v":""},{"$f":"IF('保険料申告内訳名簿（一人親方団体控）'!P116=\"\",\"\",'保険料申告内訳名簿（一人親方団体控）'!P116)","v":""},{"$f":"IF('保険料申告内訳名簿（一人親方団体控）'!Q116=\"\",\"\",'保険料申告内訳名簿（一人親方団体控）'!Q116)","v":""},{"$f":"IF('保険料申告内訳名簿（一人親方団体控）'!R116=\"\",\"\",'保険料申告内訳名簿（一人親方団体控）'!R116)","v":""},{"$f":"IF('保険料申告内訳名簿（一人親方団体控）'!S116=\"\",\"\",'保険料申告内訳名簿（一人親方団体控）'!S116)","v":0},{"$f":"IF('保険料申告内訳名簿（一人親方団体控）'!T116=\"\",\"\",'保険料申告内訳名簿（一人親方団体控）'!T116)","v":""},{"$f":"IF('保険料申告内訳名簿（一人親方団体控）'!U116=\"\",\"\",'保険料申告内訳名簿（一人親方団体控）'!U116)","v":""},{"$f":"IF('保険料申告内訳名簿（一人親方団体控）'!V116=\"\",\"\",'保険料申告内訳名簿（一人親方団体控）'!V116)","v":""},{"$f":"IF('保険料申告内訳名簿（一人親方団体控）'!W116=\"\",\"\",'保険料申告内訳名簿（一人親方団体控）'!W116)","v":""},{"$f":"IF('保険料申告内訳名簿（一人親方団体控）'!X116=\"\",\"\",'保険料申告内訳名簿（一人親方団体控）'!X116)","v":""},{"$f":"IF('保険料申告内訳名簿（一人親方団体控）'!Y116=\"\",\"\",'保険料申告内訳名簿（一人親方団体控）'!Y116)","v":""},{"$f":"IF('保険料申告内訳名簿（一人親方団体控）'!Z116=\"\",\"\",'保険料申告内訳名簿（一人親方団体控）'!Z116)","v":""},{"$f":"IF('保険料申告内訳名簿（一人親方団体控）'!AA116=\"\",\"\",'保険料申告内訳名簿（一人親方団体控）'!AA116)","v":""},{"$f":"IF('保険料申告内訳名簿（一人親方団体控）'!AB116=\"\",\"\",'保険料申告内訳名簿（一人親方団体控）'!AB116)","v":""},{"$f":"IF('保険料申告内訳名簿（一人親方団体控）'!AC116=\"\",\"\",'保険料申告内訳名簿（一人親方団体控）'!AC116)","v":0},{"$f":"IF('保険料申告内訳名簿（一人親方団体控）'!AD116=\"\",\"\",'保険料申告内訳名簿（一人親方団体控）'!AD116)","v":""},{"$f":"IF('保険料申告内訳名簿（一人親方団体控）'!AE116=\"\",\"\",'保険料申告内訳名簿（一人親方団体控）'!AE116)","v":""},{"$f":"IF('保険料申告内訳名簿（一人親方団体控）'!AF116=\"\",\"\",'保険料申告内訳名簿（一人親方団体控）'!AF116)","v":""},{"$f":"IF('保険料申告内訳名簿（一人親方団体控）'!AG116=\"\",\"\",'保険料申告内訳名簿（一人親方団体控）'!AG116)","v":""},{"$f":"IF('保険料申告内訳名簿（一人親方団体控）'!AH116=\"\",\"\",'保険料申告内訳名簿（一人親方団体控）'!AH116)","v":""}]
[null,{"$f":"IF('保険料申告内訳名簿（一人親方団体控）'!B117=\"\",\"\",'保険料申告内訳名簿（一人親方団体控）'!B117)","v":""},{"$f":"IF('保険料申告内訳名簿（一人親方団体控）'!C117=\"\",\"\",'保険料申告内訳名簿（一人親方団体控）'!C117)","v":""},{"$f":"IF('保険料申告内訳名簿（一人親方団体控）'!D117=\"\",\"\",'保険料申告内訳名簿（一人親方団体控）'!D117)","v":""},{"$f":"IF('保険料申告内訳名簿（一人親方団体控）'!E117=\"\",\"\",'保険料申告内訳名簿（一人親方団体控）'!E117)","v":""},{"$f":"IF('保険料申告内訳名簿（一人親方団体控）'!F117=\"\",\"\",'保険料申告内訳名簿（一人親方団体控）'!F117)","v":""},{"$f":"IF('保険料申告内訳名簿（一人親方団体控）'!G117=\"\",\"\",'保険料申告内訳名簿（一人親方団体控）'!G117)","v":""},{"$f":"IF('保険料申告内訳名簿（一人親方団体控）'!H117=\"\",\"\",'保険料申告内訳名簿（一人親方団体控）'!H117)","v":""},{"$f":"IF('保険料申告内訳名簿（一人親方団体控）'!I117=\"\",\"\",'保険料申告内訳名簿（一人親方団体控）'!I117)","v":""},{"$f":"IF('保険料申告内訳名簿（一人親方団体控）'!J117=\"\",\"\",'保険料申告内訳名簿（一人親方団体控）'!J117)","v":""},{"$f":"IF('保険料申告内訳名簿（一人親方団体控）'!K117=\"\",\"\",'保険料申告内訳名簿（一人親方団体控）'!K117)","v":""},{"$f":"IF('保険料申告内訳名簿（一人親方団体控）'!L117=\"\",\"\",'保険料申告内訳名簿（一人親方団体控）'!L117)","v":""},{"$f":"IF('保険料申告内訳名簿（一人親方団体控）'!M117=\"\",\"\",'保険料申告内訳名簿（一人親方団体控）'!M117)","v":""},{"$f":"IF('保険料申告内訳名簿（一人親方団体控）'!N117=\"\",\"\",'保険料申告内訳名簿（一人親方団体控）'!N117)","v":""},{"$f":"IF('保険料申告内訳名簿（一人親方団体控）'!O117=\"\",\"\",'保険料申告内訳名簿（一人親方団体控）'!O117)","v":""},{"$f":"IF('保険料申告内訳名簿（一人親方団体控）'!P117=\"\",\"\",'保険料申告内訳名簿（一人親方団体控）'!P117)","v":""},{"$f":"IF('保険料申告内訳名簿（一人親方団体控）'!Q117=\"\",\"\",'保険料申告内訳名簿（一人親方団体控）'!Q117)","v":""},{"$f":"IF('保険料申告内訳名簿（一人親方団体控）'!R117=\"\",\"\",'保険料申告内訳名簿（一人親方団体控）'!R117)","v":""},{"$f":"IF('保険料申告内訳名簿（一人親方団体控）'!S117=\"\",\"\",'保険料申告内訳名簿（一人親方団体控）'!S117)","v":0},{"$f":"IF('保険料申告内訳名簿（一人親方団体控）'!T117=\"\",\"\",'保険料申告内訳名簿（一人親方団体控）'!T117)","v":""},{"$f":"IF('保険料申告内訳名簿（一人親方団体控）'!U117=\"\",\"\",'保険料申告内訳名簿（一人親方団体控）'!U117)","v":""},{"$f":"IF('保険料申告内訳名簿（一人親方団体控）'!V117=\"\",\"\",'保険料申告内訳名簿（一人親方団体控）'!V117)","v":""},{"$f":"IF('保険料申告内訳名簿（一人親方団体控）'!W117=\"\",\"\",'保険料申告内訳名簿（一人親方団体控）'!W117)","v":""},{"$f":"IF('保険料申告内訳名簿（一人親方団体控）'!X117=\"\",\"\",'保険料申告内訳名簿（一人親方団体控）'!X117)","v":""},{"$f":"IF('保険料申告内訳名簿（一人親方団体控）'!Y117=\"\",\"\",'保険料申告内訳名簿（一人親方団体控）'!Y117)","v":""},{"$f":"IF('保険料申告内訳名簿（一人親方団体控）'!Z117=\"\",\"\",'保険料申告内訳名簿（一人親方団体控）'!Z117)","v":""},{"$f":"IF('保険料申告内訳名簿（一人親方団体控）'!AA117=\"\",\"\",'保険料申告内訳名簿（一人親方団体控）'!AA117)","v":""},{"$f":"IF('保険料申告内訳名簿（一人親方団体控）'!AB117=\"\",\"\",'保険料申告内訳名簿（一人親方団体控）'!AB117)","v":""},{"$f":"IF('保険料申告内訳名簿（一人親方団体控）'!AC117=\"\",\"\",'保険料申告内訳名簿（一人親方団体控）'!AC117)","v":0},{"$f":"IF('保険料申告内訳名簿（一人親方団体控）'!AD117=\"\",\"\",'保険料申告内訳名簿（一人親方団体控）'!AD117)","v":""},{"$f":"IF('保険料申告内訳名簿（一人親方団体控）'!AE117=\"\",\"\",'保険料申告内訳名簿（一人親方団体控）'!AE117)","v":""},{"$f":"IF('保険料申告内訳名簿（一人親方団体控）'!AF117=\"\",\"\",'保険料申告内訳名簿（一人親方団体控）'!AF117)","v":""},{"$f":"IF('保険料申告内訳名簿（一人親方団体控）'!AG117=\"\",\"\",'保険料申告内訳名簿（一人親方団体控）'!AG117)","v":""},{"$f":"IF('保険料申告内訳名簿（一人親方団体控）'!AH117=\"\",\"\",'保険料申告内訳名簿（一人親方団体控）'!AH117)","v":""}]
[null,{"$f":"IF('保険料申告内訳名簿（一人親方団体控）'!B118=\"\",\"\",'保険料申告内訳名簿（一人親方団体控）'!B118)","v":""},{"$f":"IF('保険料申告内訳名簿（一人親方団体控）'!C118=\"\",\"\",'保険料申告内訳名簿（一人親方団体控）'!C118)","v":""},{"$f":"IF('保険料申告内訳名簿（一人親方団体控）'!D118=\"\",\"\",'保険料申告内訳名簿（一人親方団体控）'!D118)","v":""},{"$f":"IF('保険料申告内訳名簿（一人親方団体控）'!E118=\"\",\"\",'保険料申告内訳名簿（一人親方団体控）'!E118)","v":""},{"$f":"IF('保険料申告内訳名簿（一人親方団体控）'!F118=\"\",\"\",'保険料申告内訳名簿（一人親方団体控）'!F118)","v":""},{"$f":"IF('保険料申告内訳名簿（一人親方団体控）'!G118=\"\",\"\",'保険料申告内訳名簿（一人親方団体控）'!G118)","v":""},{"$f":"IF('保険料申告内訳名簿（一人親方団体控）'!H118=\"\",\"\",'保険料申告内訳名簿（一人親方団体控）'!H118)","v":""},{"$f":"IF('保険料申告内訳名簿（一人親方団体控）'!I118=\"\",\"\",'保険料申告内訳名簿（一人親方団体控）'!I118)","v":""},{"$f":"IF('保険料申告内訳名簿（一人親方団体控）'!J118=\"\",\"\",'保険料申告内訳名簿（一人親方団体控）'!J118)","v":""},{"$f":"IF('保険料申告内訳名簿（一人親方団体控）'!K118=\"\",\"\",'保険料申告内訳名簿（一人親方団体控）'!K118)","v":""},{"$f":"IF('保険料申告内訳名簿（一人親方団体控）'!L118=\"\",\"\",'保険料申告内訳名簿（一人親方団体控）'!L118)","v":""},{"$f":"IF('保険料申告内訳名簿（一人親方団体控）'!M118=\"\",\"\",'保険料申告内訳名簿（一人親方団体控）'!M118)","v":""},{"$f":"IF('保険料申告内訳名簿（一人親方団体控）'!N118=\"\",\"\",'保険料申告内訳名簿（一人親方団体控）'!N118)","v":""},{"$f":"IF('保険料申告内訳名簿（一人親方団体控）'!O118=\"\",\"\",'保険料申告内訳名簿（一人親方団体控）'!O118)","v":""},{"$f":"IF('保険料申告内訳名簿（一人親方団体控）'!P118=\"\",\"\",'保険料申告内訳名簿（一人親方団体控）'!P118)","v":""},{"$f":"IF('保険料申告内訳名簿（一人親方団体控）'!Q118=\"\",\"\",'保険料申告内訳名簿（一人親方団体控）'!Q118)","v":""},{"$f":"IF('保険料申告内訳名簿（一人親方団体控）'!R118=\"\",\"\",'保険料申告内訳名簿（一人親方団体控）'!R118)","v":""},{"$f":"IF('保険料申告内訳名簿（一人親方団体控）'!S118=\"\",\"\",'保険料申告内訳名簿（一人親方団体控）'!S118)","v":0},{"$f":"IF('保険料申告内訳名簿（一人親方団体控）'!T118=\"\",\"\",'保険料申告内訳名簿（一人親方団体控）'!T118)","v":""},{"$f":"IF('保険料申告内訳名簿（一人親方団体控）'!U118=\"\",\"\",'保険料申告内訳名簿（一人親方団体控）'!U118)","v":""},{"$f":"IF('保険料申告内訳名簿（一人親方団体控）'!V118=\"\",\"\",'保険料申告内訳名簿（一人親方団体控）'!V118)","v":""},{"$f":"IF('保険料申告内訳名簿（一人親方団体控）'!W118=\"\",\"\",'保険料申告内訳名簿（一人親方団体控）'!W118)","v":""},{"$f":"IF('保険料申告内訳名簿（一人親方団体控）'!X118=\"\",\"\",'保険料申告内訳名簿（一人親方団体控）'!X118)","v":""},{"$f":"IF('保険料申告内訳名簿（一人親方団体控）'!Y118=\"\",\"\",'保険料申告内訳名簿（一人親方団体控）'!Y118)","v":""},{"$f":"IF('保険料申告内訳名簿（一人親方団体控）'!Z118=\"\",\"\",'保険料申告内訳名簿（一人親方団体控）'!Z118)","v":""},{"$f":"IF('保険料申告内訳名簿（一人親方団体控）'!AA118=\"\",\"\",'保険料申告内訳名簿（一人親方団体控）'!AA118)","v":""},{"$f":"IF('保険料申告内訳名簿（一人親方団体控）'!AB118=\"\",\"\",'保険料申告内訳名簿（一人親方団体控）'!AB118)","v":""},{"$f":"IF('保険料申告内訳名簿（一人親方団体控）'!AC118=\"\",\"\",'保険料申告内訳名簿（一人親方団体控）'!AC118)","v":0},{"$f":"IF('保険料申告内訳名簿（一人親方団体控）'!AD118=\"\",\"\",'保険料申告内訳名簿（一人親方団体控）'!AD118)","v":""},{"$f":"IF('保険料申告内訳名簿（一人親方団体控）'!AE118=\"\",\"\",'保険料申告内訳名簿（一人親方団体控）'!AE118)","v":""},{"$f":"IF('保険料申告内訳名簿（一人親方団体控）'!AF118=\"\",\"\",'保険料申告内訳名簿（一人親方団体控）'!AF118)","v":""},{"$f":"IF('保険料申告内訳名簿（一人親方団体控）'!AG118=\"\",\"\",'保険料申告内訳名簿（一人親方団体控）'!AG118)","v":""},{"$f":"IF('保険料申告内訳名簿（一人親方団体控）'!AH118=\"\",\"\",'保険料申告内訳名簿（一人親方団体控）'!AH118)","v":""}]
[null,{"$f":"IF('保険料申告内訳名簿（一人親方団体控）'!B119=\"\",\"\",'保険料申告内訳名簿（一人親方団体控）'!B119)","v":""},{"$f":"IF('保険料申告内訳名簿（一人親方団体控）'!C119=\"\",\"\",'保険料申告内訳名簿（一人親方団体控）'!C119)","v":""},{"$f":"IF('保険料申告内訳名簿（一人親方団体控）'!D119=\"\",\"\",'保険料申告内訳名簿（一人親方団体控）'!D119)","v":""},{"$f":"IF('保険料申告内訳名簿（一人親方団体控）'!E119=\"\",\"\",'保険料申告内訳名簿（一人親方団体控）'!E119)","v":""},{"$f":"IF('保険料申告内訳名簿（一人親方団体控）'!F119=\"\",\"\",'保険料申告内訳名簿（一人親方団体控）'!F119)","v":""},{"$f":"IF('保険料申告内訳名簿（一人親方団体控）'!G119=\"\",\"\",'保険料申告内訳名簿（一人親方団体控）'!G119)","v":""},{"$f":"IF('保険料申告内訳名簿（一人親方団体控）'!H119=\"\",\"\",'保険料申告内訳名簿（一人親方団体控）'!H119)","v":""},{"$f":"IF('保険料申告内訳名簿（一人親方団体控）'!I119=\"\",\"\",'保険料申告内訳名簿（一人親方団体控）'!I119)","v":""},{"$f":"IF('保険料申告内訳名簿（一人親方団体控）'!J119=\"\",\"\",'保険料申告内訳名簿（一人親方団体控）'!J119)","v":""},{"$f":"IF('保険料申告内訳名簿（一人親方団体控）'!K119=\"\",\"\",'保険料申告内訳名簿（一人親方団体控）'!K119)","v":""},{"$f":"IF('保険料申告内訳名簿（一人親方団体控）'!L119=\"\",\"\",'保険料申告内訳名簿（一人親方団体控）'!L119)","v":""},{"$f":"IF('保険料申告内訳名簿（一人親方団体控）'!M119=\"\",\"\",'保険料申告内訳名簿（一人親方団体控）'!M119)","v":""},{"$f":"IF('保険料申告内訳名簿（一人親方団体控）'!N119=\"\",\"\",'保険料申告内訳名簿（一人親方団体控）'!N119)","v":""},{"$f":"IF('保険料申告内訳名簿（一人親方団体控）'!O119=\"\",\"\",'保険料申告内訳名簿（一人親方団体控）'!O119)","v":""},{"$f":"IF('保険料申告内訳名簿（一人親方団体控）'!P119=\"\",\"\",'保険料申告内訳名簿（一人親方団体控）'!P119)","v":""},{"$f":"IF('保険料申告内訳名簿（一人親方団体控）'!Q119=\"\",\"\",'保険料申告内訳名簿（一人親方団体控）'!Q119)","v":""},{"$f":"IF('保険料申告内訳名簿（一人親方団体控）'!R119=\"\",\"\",'保険料申告内訳名簿（一人親方団体控）'!R119)","v":""},{"$f":"IF('保険料申告内訳名簿（一人親方団体控）'!S119=\"\",\"\",'保険料申告内訳名簿（一人親方団体控）'!S119)","v":0},{"$f":"IF('保険料申告内訳名簿（一人親方団体控）'!T119=\"\",\"\",'保険料申告内訳名簿（一人親方団体控）'!T119)","v":""},{"$f":"IF('保険料申告内訳名簿（一人親方団体控）'!U119=\"\",\"\",'保険料申告内訳名簿（一人親方団体控）'!U119)","v":""},{"$f":"IF('保険料申告内訳名簿（一人親方団体控）'!V119=\"\",\"\",'保険料申告内訳名簿（一人親方団体控）'!V119)","v":""},{"$f":"IF('保険料申告内訳名簿（一人親方団体控）'!W119=\"\",\"\",'保険料申告内訳名簿（一人親方団体控）'!W119)","v":""},{"$f":"IF('保険料申告内訳名簿（一人親方団体控）'!X119=\"\",\"\",'保険料申告内訳名簿（一人親方団体控）'!X119)","v":""},{"$f":"IF('保険料申告内訳名簿（一人親方団体控）'!Y119=\"\",\"\",'保険料申告内訳名簿（一人親方団体控）'!Y119)","v":""},{"$f":"IF('保険料申告内訳名簿（一人親方団体控）'!Z119=\"\",\"\",'保険料申告内訳名簿（一人親方団体控）'!Z119)","v":""},{"$f":"IF('保険料申告内訳名簿（一人親方団体控）'!AA119=\"\",\"\",'保険料申告内訳名簿（一人親方団体控）'!AA119)","v":""},{"$f":"IF('保険料申告内訳名簿（一人親方団体控）'!AB119=\"\",\"\",'保険料申告内訳名簿（一人親方団体控）'!AB119)","v":""},{"$f":"IF('保険料申告内訳名簿（一人親方団体控）'!AC119=\"\",\"\",'保険料申告内訳名簿（一人親方団体控）'!AC119)","v":0},{"$f":"IF('保険料申告内訳名簿（一人親方団体控）'!AD119=\"\",\"\",'保険料申告内訳名簿（一人親方団体控）'!AD119)","v":""},{"$f":"IF('保険料申告内訳名簿（一人親方団体控）'!AE119=\"\",\"\",'保険料申告内訳名簿（一人親方団体控）'!AE119)","v":""},{"$f":"IF('保険料申告内訳名簿（一人親方団体控）'!AF119=\"\",\"\",'保険料申告内訳名簿（一人親方団体控）'!AF119)","v":""},{"$f":"IF('保険料申告内訳名簿（一人親方団体控）'!AG119=\"\",\"\",'保険料申告内訳名簿（一人親方団体控）'!AG119)","v":""},{"$f":"IF('保険料申告内訳名簿（一人親方団体控）'!AH119=\"\",\"\",'保険料申告内訳名簿（一人親方団体控）'!AH119)","v":""}]
[null,{"$f":"IF('保険料申告内訳名簿（一人親方団体控）'!B120=\"\",\"\",'保険料申告内訳名簿（一人親方団体控）'!B120)","v":""},{"$f":"IF('保険料申告内訳名簿（一人親方団体控）'!C120=\"\",\"\",'保険料申告内訳名簿（一人親方団体控）'!C120)","v":""},{"$f":"IF('保険料申告内訳名簿（一人親方団体控）'!D120=\"\",\"\",'保険料申告内訳名簿（一人親方団体控）'!D120)","v":""},{"$f":"IF('保険料申告内訳名簿（一人親方団体控）'!E120=\"\",\"\",'保険料申告内訳名簿（一人親方団体控）'!E120)","v":""},{"$f":"IF('保険料申告内訳名簿（一人親方団体控）'!F120=\"\",\"\",'保険料申告内訳名簿（一人親方団体控）'!F120)","v":""},{"$f":"IF('保険料申告内訳名簿（一人親方団体控）'!G120=\"\",\"\",'保険料申告内訳名簿（一人親方団体控）'!G120)","v":""},{"$f":"IF('保険料申告内訳名簿（一人親方団体控）'!H120=\"\",\"\",'保険料申告内訳名簿（一人親方団体控）'!H120)","v":""},{"$f":"IF('保険料申告内訳名簿（一人親方団体控）'!I120=\"\",\"\",'保険料申告内訳名簿（一人親方団体控）'!I120)","v":""},{"$f":"IF('保険料申告内訳名簿（一人親方団体控）'!J120=\"\",\"\",'保険料申告内訳名簿（一人親方団体控）'!J120)","v":""},{"$f":"IF('保険料申告内訳名簿（一人親方団体控）'!K120=\"\",\"\",'保険料申告内訳名簿（一人親方団体控）'!K120)","v":""},{"$f":"IF('保険料申告内訳名簿（一人親方団体控）'!L120=\"\",\"\",'保険料申告内訳名簿（一人親方団体控）'!L120)","v":""},{"$f":"IF('保険料申告内訳名簿（一人親方団体控）'!M120=\"\",\"\",'保険料申告内訳名簿（一人親方団体控）'!M120)","v":""},{"$f":"IF('保険料申告内訳名簿（一人親方団体控）'!N120=\"\",\"\",'保険料申告内訳名簿（一人親方団体控）'!N120)","v":""},{"$f":"IF('保険料申告内訳名簿（一人親方団体控）'!O120=\"\",\"\",'保険料申告内訳名簿（一人親方団体控）'!O120)","v":""},{"$f":"IF('保険料申告内訳名簿（一人親方団体控）'!P120=\"\",\"\",'保険料申告内訳名簿（一人親方団体控）'!P120)","v":""},{"$f":"IF('保険料申告内訳名簿（一人親方団体控）'!Q120=\"\",\"\",'保険料申告内訳名簿（一人親方団体控）'!Q120)","v":""},{"$f":"IF('保険料申告内訳名簿（一人親方団体控）'!R120=\"\",\"\",'保険料申告内訳名簿（一人親方団体控）'!R120)","v":""},{"$f":"IF('保険料申告内訳名簿（一人親方団体控）'!S120=\"\",\"\",'保険料申告内訳名簿（一人親方団体控）'!S120)","v":0},{"$f":"IF('保険料申告内訳名簿（一人親方団体控）'!T120=\"\",\"\",'保険料申告内訳名簿（一人親方団体控）'!T120)","v":""},{"$f":"IF('保険料申告内訳名簿（一人親方団体控）'!U120=\"\",\"\",'保険料申告内訳名簿（一人親方団体控）'!U120)","v":""},{"$f":"IF('保険料申告内訳名簿（一人親方団体控）'!V120=\"\",\"\",'保険料申告内訳名簿（一人親方団体控）'!V120)","v":""},{"$f":"IF('保険料申告内訳名簿（一人親方団体控）'!W120=\"\",\"\",'保険料申告内訳名簿（一人親方団体控）'!W120)","v":""},{"$f":"IF('保険料申告内訳名簿（一人親方団体控）'!X120=\"\",\"\",'保険料申告内訳名簿（一人親方団体控）'!X120)","v":""},{"$f":"IF('保険料申告内訳名簿（一人親方団体控）'!Y120=\"\",\"\",'保険料申告内訳名簿（一人親方団体控）'!Y120)","v":""},{"$f":"IF('保険料申告内訳名簿（一人親方団体控）'!Z120=\"\",\"\",'保険料申告内訳名簿（一人親方団体控）'!Z120)","v":""},{"$f":"IF('保険料申告内訳名簿（一人親方団体控）'!AA120=\"\",\"\",'保険料申告内訳名簿（一人親方団体控）'!AA120)","v":""},{"$f":"IF('保険料申告内訳名簿（一人親方団体控）'!AB120=\"\",\"\",'保険料申告内訳名簿（一人親方団体控）'!AB120)","v":""},{"$f":"IF('保険料申告内訳名簿（一人親方団体控）'!AC120=\"\",\"\",'保険料申告内訳名簿（一人親方団体控）'!AC120)","v":0},{"$f":"IF('保険料申告内訳名簿（一人親方団体控）'!AD120=\"\",\"\",'保険料申告内訳名簿（一人親方団体控）'!AD120)","v":""},{"$f":"IF('保険料申告内訳名簿（一人親方団体控）'!AE120=\"\",\"\",'保険料申告内訳名簿（一人親方団体控）'!AE120)","v":""},{"$f":"IF('保険料申告内訳名簿（一人親方団体控）'!AF120=\"\",\"\",'保険料申告内訳名簿（一人親方団体控）'!AF120)","v":""},{"$f":"IF('保険料申告内訳名簿（一人親方団体控）'!AG120=\"\",\"\",'保険料申告内訳名簿（一人親方団体控）'!AG120)","v":""},{"$f":"IF('保険料申告内訳名簿（一人親方団体控）'!AH120=\"\",\"\",'保険料申告内訳名簿（一人親方団体控）'!AH120)","v":""}]
[null,{"$f":"IF('保険料申告内訳名簿（一人親方団体控）'!B121=\"\",\"\",'保険料申告内訳名簿（一人親方団体控）'!B121)","v":""},{"$f":"IF('保険料申告内訳名簿（一人親方団体控）'!C121=\"\",\"\",'保険料申告内訳名簿（一人親方団体控）'!C121)","v":""},{"$f":"IF('保険料申告内訳名簿（一人親方団体控）'!D121=\"\",\"\",'保険料申告内訳名簿（一人親方団体控）'!D121)","v":""},{"$f":"IF('保険料申告内訳名簿（一人親方団体控）'!E121=\"\",\"\",'保険料申告内訳名簿（一人親方団体控）'!E121)","v":""},{"$f":"IF('保険料申告内訳名簿（一人親方団体控）'!F121=\"\",\"\",'保険料申告内訳名簿（一人親方団体控）'!F121)","v":""},{"$f":"IF('保険料申告内訳名簿（一人親方団体控）'!G121=\"\",\"\",'保険料申告内訳名簿（一人親方団体控）'!G121)","v":""},{"$f":"IF('保険料申告内訳名簿（一人親方団体控）'!H121=\"\",\"\",'保険料申告内訳名簿（一人親方団体控）'!H121)","v":""},{"$f":"IF('保険料申告内訳名簿（一人親方団体控）'!I121=\"\",\"\",'保険料申告内訳名簿（一人親方団体控）'!I121)","v":""},{"$f":"IF('保険料申告内訳名簿（一人親方団体控）'!J121=\"\",\"\",'保険料申告内訳名簿（一人親方団体控）'!J121)","v":""},{"$f":"IF('保険料申告内訳名簿（一人親方団体控）'!K121=\"\",\"\",'保険料申告内訳名簿（一人親方団体控）'!K121)","v":""},{"$f":"IF('保険料申告内訳名簿（一人親方団体控）'!L121=\"\",\"\",'保険料申告内訳名簿（一人親方団体控）'!L121)","v":""},{"$f":"IF('保険料申告内訳名簿（一人親方団体控）'!M121=\"\",\"\",'保険料申告内訳名簿（一人親方団体控）'!M121)","v":""},{"$f":"IF('保険料申告内訳名簿（一人親方団体控）'!N121=\"\",\"\",'保険料申告内訳名簿（一人親方団体控）'!N121)","v":""},{"$f":"IF('保険料申告内訳名簿（一人親方団体控）'!O121=\"\",\"\",'保険料申告内訳名簿（一人親方団体控）'!O121)","v":""},{"$f":"IF('保険料申告内訳名簿（一人親方団体控）'!P121=\"\",\"\",'保険料申告内訳名簿（一人親方団体控）'!P121)","v":""},{"$f":"IF('保険料申告内訳名簿（一人親方団体控）'!Q121=\"\",\"\",'保険料申告内訳名簿（一人親方団体控）'!Q121)","v":""},{"$f":"IF('保険料申告内訳名簿（一人親方団体控）'!R121=\"\",\"\",'保険料申告内訳名簿（一人親方団体控）'!R121)","v":""},{"$f":"IF('保険料申告内訳名簿（一人親方団体控）'!S121=\"\",\"\",'保険料申告内訳名簿（一人親方団体控）'!S121)","v":0},{"$f":"IF('保険料申告内訳名簿（一人親方団体控）'!T121=\"\",\"\",'保険料申告内訳名簿（一人親方団体控）'!T121)","v":""},{"$f":"IF('保険料申告内訳名簿（一人親方団体控）'!U121=\"\",\"\",'保険料申告内訳名簿（一人親方団体控）'!U121)","v":""},{"$f":"IF('保険料申告内訳名簿（一人親方団体控）'!V121=\"\",\"\",'保険料申告内訳名簿（一人親方団体控）'!V121)","v":""},{"$f":"IF('保険料申告内訳名簿（一人親方団体控）'!W121=\"\",\"\",'保険料申告内訳名簿（一人親方団体控）'!W121)","v":""},{"$f":"IF('保険料申告内訳名簿（一人親方団体控）'!X121=\"\",\"\",'保険料申告内訳名簿（一人親方団体控）'!X121)","v":""},{"$f":"IF('保険料申告内訳名簿（一人親方団体控）'!Y121=\"\",\"\",'保険料申告内訳名簿（一人親方団体控）'!Y121)","v":""},{"$f":"IF('保険料申告内訳名簿（一人親方団体控）'!Z121=\"\",\"\",'保険料申告内訳名簿（一人親方団体控）'!Z121)","v":""},{"$f":"IF('保険料申告内訳名簿（一人親方団体控）'!AA121=\"\",\"\",'保険料申告内訳名簿（一人親方団体控）'!AA121)","v":""},{"$f":"IF('保険料申告内訳名簿（一人親方団体控）'!AB121=\"\",\"\",'保険料申告内訳名簿（一人親方団体控）'!AB121)","v":""},{"$f":"IF('保険料申告内訳名簿（一人親方団体控）'!AC121=\"\",\"\",'保険料申告内訳名簿（一人親方団体控）'!AC121)","v":0},{"$f":"IF('保険料申告内訳名簿（一人親方団体控）'!AD121=\"\",\"\",'保険料申告内訳名簿（一人親方団体控）'!AD121)","v":""},{"$f":"IF('保険料申告内訳名簿（一人親方団体控）'!AE121=\"\",\"\",'保険料申告内訳名簿（一人親方団体控）'!AE121)","v":""},{"$f":"IF('保険料申告内訳名簿（一人親方団体控）'!AF121=\"\",\"\",'保険料申告内訳名簿（一人親方団体控）'!AF121)","v":""},{"$f":"IF('保険料申告内訳名簿（一人親方団体控）'!AG121=\"\",\"\",'保険料申告内訳名簿（一人親方団体控）'!AG121)","v":""},{"$f":"IF('保険料申告内訳名簿（一人親方団体控）'!AH121=\"\",\"\",'保険料申告内訳名簿（一人親方団体控）'!AH121)","v":""}]
[null,{"$f":"IF('保険料申告内訳名簿（一人親方団体控）'!B122=\"\",\"\",'保険料申告内訳名簿（一人親方団体控）'!B122)","v":""},{"$f":"IF('保険料申告内訳名簿（一人親方団体控）'!C122=\"\",\"\",'保険料申告内訳名簿（一人親方団体控）'!C122)","v":""},{"$f":"IF('保険料申告内訳名簿（一人親方団体控）'!D122=\"\",\"\",'保険料申告内訳名簿（一人親方団体控）'!D122)","v":""},{"$f":"IF('保険料申告内訳名簿（一人親方団体控）'!E122=\"\",\"\",'保険料申告内訳名簿（一人親方団体控）'!E122)","v":""},{"$f":"IF('保険料申告内訳名簿（一人親方団体控）'!F122=\"\",\"\",'保険料申告内訳名簿（一人親方団体控）'!F122)","v":""},{"$f":"IF('保険料申告内訳名簿（一人親方団体控）'!G122=\"\",\"\",'保険料申告内訳名簿（一人親方団体控）'!G122)","v":""},{"$f":"IF('保険料申告内訳名簿（一人親方団体控）'!H122=\"\",\"\",'保険料申告内訳名簿（一人親方団体控）'!H122)","v":""},{"$f":"IF('保険料申告内訳名簿（一人親方団体控）'!I122=\"\",\"\",'保険料申告内訳名簿（一人親方団体控）'!I122)","v":""},{"$f":"IF('保険料申告内訳名簿（一人親方団体控）'!J122=\"\",\"\",'保険料申告内訳名簿（一人親方団体控）'!J122)","v":""},{"$f":"IF('保険料申告内訳名簿（一人親方団体控）'!K122=\"\",\"\",'保険料申告内訳名簿（一人親方団体控）'!K122)","v":""},{"$f":"IF('保険料申告内訳名簿（一人親方団体控）'!L122=\"\",\"\",'保険料申告内訳名簿（一人親方団体控）'!L122)","v":""},{"$f":"IF('保険料申告内訳名簿（一人親方団体控）'!M122=\"\",\"\",'保険料申告内訳名簿（一人親方団体控）'!M122)","v":""},{"$f":"IF('保険料申告内訳名簿（一人親方団体控）'!N122=\"\",\"\",'保険料申告内訳名簿（一人親方団体控）'!N122)","v":""},{"$f":"IF('保険料申告内訳名簿（一人親方団体控）'!O122=\"\",\"\",'保険料申告内訳名簿（一人親方団体控）'!O122)","v":""},{"$f":"IF('保険料申告内訳名簿（一人親方団体控）'!P122=\"\",\"\",'保険料申告内訳名簿（一人親方団体控）'!P122)","v":""},{"$f":"IF('保険料申告内訳名簿（一人親方団体控）'!Q122=\"\",\"\",'保険料申告内訳名簿（一人親方団体控）'!Q122)","v":""},{"$f":"IF('保険料申告内訳名簿（一人親方団体控）'!R122=\"\",\"\",'保険料申告内訳名簿（一人親方団体控）'!R122)","v":""},{"$f":"IF('保険料申告内訳名簿（一人親方団体控）'!S122=\"\",\"\",'保険料申告内訳名簿（一人親方団体控）'!S122)","v":0},{"$f":"IF('保険料申告内訳名簿（一人親方団体控）'!T122=\"\",\"\",'保険料申告内訳名簿（一人親方団体控）'!T122)","v":""},{"$f":"IF('保険料申告内訳名簿（一人親方団体控）'!U122=\"\",\"\",'保険料申告内訳名簿（一人親方団体控）'!U122)","v":""},{"$f":"IF('保険料申告内訳名簿（一人親方団体控）'!V122=\"\",\"\",'保険料申告内訳名簿（一人親方団体控）'!V122)","v":""},{"$f":"IF('保険料申告内訳名簿（一人親方団体控）'!W122=\"\",\"\",'保険料申告内訳名簿（一人親方団体控）'!W122)","v":""},{"$f":"IF('保険料申告内訳名簿（一人親方団体控）'!X122=\"\",\"\",'保険料申告内訳名簿（一人親方団体控）'!X122)","v":""},{"$f":"IF('保険料申告内訳名簿（一人親方団体控）'!Y122=\"\",\"\",'保険料申告内訳名簿（一人親方団体控）'!Y122)","v":""},{"$f":"IF('保険料申告内訳名簿（一人親方団体控）'!Z122=\"\",\"\",'保険料申告内訳名簿（一人親方団体控）'!Z122)","v":""},{"$f":"IF('保険料申告内訳名簿（一人親方団体控）'!AA122=\"\",\"\",'保険料申告内訳名簿（一人親方団体控）'!AA122)","v":""},{"$f":"IF('保険料申告内訳名簿（一人親方団体控）'!AB122=\"\",\"\",'保険料申告内訳名簿（一人親方団体控）'!AB122)","v":""},{"$f":"IF('保険料申告内訳名簿（一人親方団体控）'!AC122=\"\",\"\",'保険料申告内訳名簿（一人親方団体控）'!AC122)","v":0},{"$f":"IF('保険料申告内訳名簿（一人親方団体控）'!AD122=\"\",\"\",'保険料申告内訳名簿（一人親方団体控）'!AD122)","v":""},{"$f":"IF('保険料申告内訳名簿（一人親方団体控）'!AE122=\"\",\"\",'保険料申告内訳名簿（一人親方団体控）'!AE122)","v":""},{"$f":"IF('保険料申告内訳名簿（一人親方団体控）'!AF122=\"\",\"\",'保険料申告内訳名簿（一人親方団体控）'!AF122)","v":""},{"$f":"IF('保険料申告内訳名簿（一人親方団体控）'!AG122=\"\",\"\",'保険料申告内訳名簿（一人親方団体控）'!AG122)","v":""},{"$f":"IF('保険料申告内訳名簿（一人親方団体控）'!AH122=\"\",\"\",'保険料申告内訳名簿（一人親方団体控）'!AH122)","v":""}]
[null,{"$f":"IF('保険料申告内訳名簿（一人親方団体控）'!B123=\"\",\"\",'保険料申告内訳名簿（一人親方団体控）'!B123)","v":""},{"$f":"IF('保険料申告内訳名簿（一人親方団体控）'!C123=\"\",\"\",'保険料申告内訳名簿（一人親方団体控）'!C123)","v":""},{"$f":"IF('保険料申告内訳名簿（一人親方団体控）'!D123=\"\",\"\",'保険料申告内訳名簿（一人親方団体控）'!D123)","v":""},{"$f":"IF('保険料申告内訳名簿（一人親方団体控）'!E123=\"\",\"\",'保険料申告内訳名簿（一人親方団体控）'!E123)","v":""},{"$f":"IF('保険料申告内訳名簿（一人親方団体控）'!F123=\"\",\"\",'保険料申告内訳名簿（一人親方団体控）'!F123)","v":""},{"$f":"IF('保険料申告内訳名簿（一人親方団体控）'!G123=\"\",\"\",'保険料申告内訳名簿（一人親方団体控）'!G123)","v":""},{"$f":"IF('保険料申告内訳名簿（一人親方団体控）'!H123=\"\",\"\",'保険料申告内訳名簿（一人親方団体控）'!H123)","v":""},{"$f":"IF('保険料申告内訳名簿（一人親方団体控）'!I123=\"\",\"\",'保険料申告内訳名簿（一人親方団体控）'!I123)","v":""},{"$f":"IF('保険料申告内訳名簿（一人親方団体控）'!J123=\"\",\"\",'保険料申告内訳名簿（一人親方団体控）'!J123)","v":""},{"$f":"IF('保険料申告内訳名簿（一人親方団体控）'!K123=\"\",\"\",'保険料申告内訳名簿（一人親方団体控）'!K123)","v":""},{"$f":"IF('保険料申告内訳名簿（一人親方団体控）'!L123=\"\",\"\",'保険料申告内訳名簿（一人親方団体控）'!L123)","v":""},{"$f":"IF('保険料申告内訳名簿（一人親方団体控）'!M123=\"\",\"\",'保険料申告内訳名簿（一人親方団体控）'!M123)","v":""},{"$f":"IF('保険料申告内訳名簿（一人親方団体控）'!N123=\"\",\"\",'保険料申告内訳名簿（一人親方団体控）'!N123)","v":""},{"$f":"IF('保険料申告内訳名簿（一人親方団体控）'!O123=\"\",\"\",'保険料申告内訳名簿（一人親方団体控）'!O123)","v":""},{"$f":"IF('保険料申告内訳名簿（一人親方団体控）'!P123=\"\",\"\",'保険料申告内訳名簿（一人親方団体控）'!P123)","v":""},{"$f":"IF('保険料申告内訳名簿（一人親方団体控）'!Q123=\"\",\"\",'保険料申告内訳名簿（一人親方団体控）'!Q123)","v":""},{"$f":"IF('保険料申告内訳名簿（一人親方団体控）'!R123=\"\",\"\",'保険料申告内訳名簿（一人親方団体控）'!R123)","v":""},{"$f":"IF('保険料申告内訳名簿（一人親方団体控）'!S123=\"\",\"\",'保険料申告内訳名簿（一人親方団体控）'!S123)","v":0},{"$f":"IF('保険料申告内訳名簿（一人親方団体控）'!T123=\"\",\"\",'保険料申告内訳名簿（一人親方団体控）'!T123)","v":""},{"$f":"IF('保険料申告内訳名簿（一人親方団体控）'!U123=\"\",\"\",'保険料申告内訳名簿（一人親方団体控）'!U123)","v":""},{"$f":"IF('保険料申告内訳名簿（一人親方団体控）'!V123=\"\",\"\",'保険料申告内訳名簿（一人親方団体控）'!V123)","v":""},{"$f":"IF('保険料申告内訳名簿（一人親方団体控）'!W123=\"\",\"\",'保険料申告内訳名簿（一人親方団体控）'!W123)","v":""},{"$f":"IF('保険料申告内訳名簿（一人親方団体控）'!X123=\"\",\"\",'保険料申告内訳名簿（一人親方団体控）'!X123)","v":""},{"$f":"IF('保険料申告内訳名簿（一人親方団体控）'!Y123=\"\",\"\",'保険料申告内訳名簿（一人親方団体控）'!Y123)","v":""},{"$f":"IF('保険料申告内訳名簿（一人親方団体控）'!Z123=\"\",\"\",'保険料申告内訳名簿（一人親方団体控）'!Z123)","v":""},{"$f":"IF('保険料申告内訳名簿（一人親方団体控）'!AA123=\"\",\"\",'保険料申告内訳名簿（一人親方団体控）'!AA123)","v":""},{"$f":"IF('保険料申告内訳名簿（一人親方団体控）'!AB123=\"\",\"\",'保険料申告内訳名簿（一人親方団体控）'!AB123)","v":""},{"$f":"IF('保険料申告内訳名簿（一人親方団体控）'!AC123=\"\",\"\",'保険料申告内訳名簿（一人親方団体控）'!AC123)","v":0},{"$f":"IF('保険料申告内訳名簿（一人親方団体控）'!AD123=\"\",\"\",'保険料申告内訳名簿（一人親方団体控）'!AD123)","v":""},{"$f":"IF('保険料申告内訳名簿（一人親方団体控）'!AE123=\"\",\"\",'保険料申告内訳名簿（一人親方団体控）'!AE123)","v":""},{"$f":"IF('保険料申告内訳名簿（一人親方団体控）'!AF123=\"\",\"\",'保険料申告内訳名簿（一人親方団体控）'!AF123)","v":""},{"$f":"IF('保険料申告内訳名簿（一人親方団体控）'!AG123=\"\",\"\",'保険料申告内訳名簿（一人親方団体控）'!AG123)","v":""},{"$f":"IF('保険料申告内訳名簿（一人親方団体控）'!AH123=\"\",\"\",'保険料申告内訳名簿（一人親方団体控）'!AH123)","v":""}]
[null,{"$f":"IF('保険料申告内訳名簿（一人親方団体控）'!B124=\"\",\"\",'保険料申告内訳名簿（一人親方団体控）'!B124)","v":""},{"$f":"IF('保険料申告内訳名簿（一人親方団体控）'!C124=\"\",\"\",'保険料申告内訳名簿（一人親方団体控）'!C124)","v":""},{"$f":"IF('保険料申告内訳名簿（一人親方団体控）'!D124=\"\",\"\",'保険料申告内訳名簿（一人親方団体控）'!D124)","v":""},{"$f":"IF('保険料申告内訳名簿（一人親方団体控）'!E124=\"\",\"\",'保険料申告内訳名簿（一人親方団体控）'!E124)","v":""},{"$f":"IF('保険料申告内訳名簿（一人親方団体控）'!F124=\"\",\"\",'保険料申告内訳名簿（一人親方団体控）'!F124)","v":""},{"$f":"IF('保険料申告内訳名簿（一人親方団体控）'!G124=\"\",\"\",'保険料申告内訳名簿（一人親方団体控）'!G124)","v":""},{"$f":"IF('保険料申告内訳名簿（一人親方団体控）'!H124=\"\",\"\",'保険料申告内訳名簿（一人親方団体控）'!H124)","v":""},{"$f":"IF('保険料申告内訳名簿（一人親方団体控）'!I124=\"\",\"\",'保険料申告内訳名簿（一人親方団体控）'!I124)","v":""},{"$f":"IF('保険料申告内訳名簿（一人親方団体控）'!J124=\"\",\"\",'保険料申告内訳名簿（一人親方団体控）'!J124)","v":""},{"$f":"IF('保険料申告内訳名簿（一人親方団体控）'!K124=\"\",\"\",'保険料申告内訳名簿（一人親方団体控）'!K124)","v":""},{"$f":"IF('保険料申告内訳名簿（一人親方団体控）'!L124=\"\",\"\",'保険料申告内訳名簿（一人親方団体控）'!L124)","v":""},{"$f":"IF('保険料申告内訳名簿（一人親方団体控）'!M124=\"\",\"\",'保険料申告内訳名簿（一人親方団体控）'!M124)","v":""},{"$f":"IF('保険料申告内訳名簿（一人親方団体控）'!N124=\"\",\"\",'保険料申告内訳名簿（一人親方団体控）'!N124)","v":""},{"$f":"IF('保険料申告内訳名簿（一人親方団体控）'!O124=\"\",\"\",'保険料申告内訳名簿（一人親方団体控）'!O124)","v":""},{"$f":"IF('保険料申告内訳名簿（一人親方団体控）'!P124=\"\",\"\",'保険料申告内訳名簿（一人親方団体控）'!P124)","v":""},{"$f":"IF('保険料申告内訳名簿（一人親方団体控）'!Q124=\"\",\"\",'保険料申告内訳名簿（一人親方団体控）'!Q124)","v":""},{"$f":"IF('保険料申告内訳名簿（一人親方団体控）'!R124=\"\",\"\",'保険料申告内訳名簿（一人親方団体控）'!R124)","v":""},{"$f":"IF('保険料申告内訳名簿（一人親方団体控）'!S124=\"\",\"\",'保険料申告内訳名簿（一人親方団体控）'!S124)","v":0},{"$f":"IF('保険料申告内訳名簿（一人親方団体控）'!T124=\"\",\"\",'保険料申告内訳名簿（一人親方団体控）'!T124)","v":""},{"$f":"IF('保険料申告内訳名簿（一人親方団体控）'!U124=\"\",\"\",'保険料申告内訳名簿（一人親方団体控）'!U124)","v":""},{"$f":"IF('保険料申告内訳名簿（一人親方団体控）'!V124=\"\",\"\",'保険料申告内訳名簿（一人親方団体控）'!V124)","v":""},{"$f":"IF('保険料申告内訳名簿（一人親方団体控）'!W124=\"\",\"\",'保険料申告内訳名簿（一人親方団体控）'!W124)","v":""},{"$f":"IF('保険料申告内訳名簿（一人親方団体控）'!X124=\"\",\"\",'保険料申告内訳名簿（一人親方団体控）'!X124)","v":""},{"$f":"IF('保険料申告内訳名簿（一人親方団体控）'!Y124=\"\",\"\",'保険料申告内訳名簿（一人親方団体控）'!Y124)","v":""},{"$f":"IF('保険料申告内訳名簿（一人親方団体控）'!Z124=\"\",\"\",'保険料申告内訳名簿（一人親方団体控）'!Z124)","v":""},{"$f":"IF('保険料申告内訳名簿（一人親方団体控）'!AA124=\"\",\"\",'保険料申告内訳名簿（一人親方団体控）'!AA124)","v":""},{"$f":"IF('保険料申告内訳名簿（一人親方団体控）'!AB124=\"\",\"\",'保険料申告内訳名簿（一人親方団体控）'!AB124)","v":""},{"$f":"IF('保険料申告内訳名簿（一人親方団体控）'!AC124=\"\",\"\",'保険料申告内訳名簿（一人親方団体控）'!AC124)","v":0},{"$f":"IF('保険料申告内訳名簿（一人親方団体控）'!AD124=\"\",\"\",'保険料申告内訳名簿（一人親方団体控）'!AD124)","v":""},{"$f":"IF('保険料申告内訳名簿（一人親方団体控）'!AE124=\"\",\"\",'保険料申告内訳名簿（一人親方団体控）'!AE124)","v":""},{"$f":"IF('保険料申告内訳名簿（一人親方団体控）'!AF124=\"\",\"\",'保険料申告内訳名簿（一人親方団体控）'!AF124)","v":""},{"$f":"IF('保険料申告内訳名簿（一人親方団体控）'!AG124=\"\",\"\",'保険料申告内訳名簿（一人親方団体控）'!AG124)","v":""},{"$f":"IF('保険料申告内訳名簿（一人親方団体控）'!AH124=\"\",\"\",'保険料申告内訳名簿（一人親方団体控）'!AH124)","v":""}]
[null,null,null,null,null,null,null,null,null,null,null,null,null,null,null,null,null,null,{"$f":"IF('保険料申告内訳名簿（一人親方団体控）'!S125=\"\",\"\",'保険料申告内訳名簿（一人親方団体控）'!S125)","v":0},{"$f":"IF('保険料申告内訳名簿（一人親方団体控）'!T125=\"\",\"\",'保険料申告内訳名簿（一人親方団体控）'!T125)","v":""},{"$f":"IF('保険料申告内訳名簿（一人親方団体控）'!U125=\"\",\"\",'保険料申告内訳名簿（一人親方団体控）'!U125)","v":""},{"$f":"IF('保険料申告内訳名簿（一人親方団体控）'!V125=\"\",\"\",'保険料申告内訳名簿（一人親方団体控）'!V125)","v":""},{"$f":"IF('保険料申告内訳名簿（一人親方団体控）'!W125=\"\",\"\",'保険料申告内訳名簿（一人親方団体控）'!W125)","v":""},{"$f":"IF('保険料申告内訳名簿（一人親方団体控）'!X125=\"\",\"\",'保険料申告内訳名簿（一人親方団体控）'!X125)","v":""},null,null,null,null,{"$f":"IF('保険料申告内訳名簿（一人親方団体控）'!AC125=\"\",\"\",'保険料申告内訳名簿（一人親方団体控）'!AC125)","v":0},{"$f":"IF('保険料申告内訳名簿（一人親方団体控）'!AD125=\"\",\"\",'保険料申告内訳名簿（一人親方団体控）'!AD125)","v":""},{"$f":"IF('保険料申告内訳名簿（一人親方団体控）'!AE125=\"\",\"\",'保険料申告内訳名簿（一人親方団体控）'!AE125)","v":""},{"$f":"IF('保険料申告内訳名簿（一人親方団体控）'!AF125=\"\",\"\",'保険料申告内訳名簿（一人親方団体控）'!AF125)","v":""},{"$f":"IF('保険料申告内訳名簿（一人親方団体控）'!AG125=\"\",\"\",'保険料申告内訳名簿（一人親方団体控）'!AG125)","v":""},{"$f":"IF('保険料申告内訳名簿（一人親方団体控）'!AH125=\"\",\"\",'保険料申告内訳名簿（一人親方団体控）'!AH125)","v":""}]
[]
[null,"（注）"]
[null,null,"１）　④欄は月割の対象となる方のみ記入して下さい。"]
[null,null,"２）　月割の対象となる場合の⑤保険料算定基礎額の算定方法"]
[null,null,"２）　月割の対象となる場合の③（給付基礎日額×365÷12）（円未満を切り上げてから）×加入月数"]
[]
[]
[null,"【島根局版】",null,null,null,null,null,null,null,null,null,null,null,null,null,null,null,null,null,null,null,null,null,null,null,null,"局用"]
[null,"第２種特別加入保険料申告内訳名簿"]
[null,"（一人親方等）"]
[null,null,null,null,null,null,null,null,null,null,null,null,null,null,null,null,null,null,null,null,null,null,null,null,"（",{"$f":"IF('保険料申告内訳名簿（一人親方団体控）'!Z136=\"\",\"\",'保険料申告内訳名簿（一人親方団体控）'!Z136)","v":0},{"$f":"IF('保険料申告内訳名簿（一人親方団体控）'!AA136=\"\",\"\",'保険料申告内訳名簿（一人親方団体控）'!AA136)","v":""},"枚のうち",null,{"$f":"IF('保険料申告内訳名簿（一人親方団体控）'!AD136=\"\",\"\",'保険料申告内訳名簿（一人親方団体控）'!AD136)","v":5},{"$f":"IF('保険料申告内訳名簿（一人親方団体控）'!AE136=\"\",\"\",'保険料申告内訳名簿（一人親方団体控）'!AE136)","v":""},"枚目",null,"）"]
[]
[null,"労働保険\n番　　　号",null,null,null,null,"府県",null,"所掌","管轄",null,"基幹番号",null,null,null,null,null,"枝番号",null,null,"事業場の\n所在地",null,null,{"$f":"IF('保険料申告内訳名簿（一人親方団体控）'!X138=\"\",\"\",'保険料申告内訳名簿（一人親方団体控）'!X138)","v":""},{"$f":"IF('保険料申告内訳名簿（一人親方団体控）'!Y138=\"\",\"\",'保険料申告内訳名簿（一人親方団体控）'!Y138)","v":""},{"$f":"IF('保険料申告内訳名簿（一人親方団体控）'!Z138=\"\",\"\",'保険料申告内訳名簿（一人親方団体控）'!Z138)","v":""},{"$f":"IF('保険料申告内訳名簿（一人親方団体控）'!AA138=\"\",\"\",'保険料申告内訳名簿（一人親方団体控）'!AA138)","v":""},{"$f":"IF('保険料申告内訳名簿（一人親方団体控）'!AB138=\"\",\"\",'保険料申告内訳名簿（一人親方団体控）'!AB138)","v":""},{"$f":"IF('保険料申告内訳名簿（一人親方団体控）'!AC138=\"\",\"\",'保険料申告内訳名簿（一人親方団体控）'!AC138)","v":""},{"$f":"IF('保険料申告内訳名簿（一人親方団体控）'!AD138=\"\",\"\",'保険料申告内訳名簿（一人親方団体控）'!AD138)","v":""},{"$f":"IF('保険料申告内訳名簿（一人親方団体控）'!AE138=\"\",\"\",'保険料申告内訳名簿（一人親方団体控）'!AE138)","v":""},{"$f":"IF('保険料申告内訳名簿（一人親方団体控）'!AF138=\"\",\"\",'保険料申告内訳名簿（一人親方団体控）'!AF138)","v":""},{"$f":"IF('保険料申告内訳名簿（一人親方団体控）'!AG138=\"\",\"\",'保険料申告内訳名簿（一人親方団体控）'!AG138)","v":""},{"$f":"IF('保険料申告内訳名簿（一人親方団体控）'!AH138=\"\",\"\",'保険料申告内訳名簿（一人親方団体控）'!AH138)","v":""}]
[null,null,null,null,null,null,"3","2",{"$f":"IF('保険料申告内訳名簿（一人親方団体控）'!I139=\"\",\"\",'保険料申告内訳名簿（一人親方団体控）'!I139)","v":""},{"$f":"IF('保険料申告内訳名簿（一人親方団体控）'!J139=\"\",\"\",'保険料申告内訳名簿（一人親方団体控）'!J139)","v":""},{"$f":"IF('保険料申告内訳名簿（一人親方団体控）'!K139=\"\",\"\",'保険料申告内訳名簿（一人親方団体控）'!K139)","v":""},{"$f":"IF('保険料申告内訳名簿（一人親方団体控）'!L139=\"\",\"\",'保険料申告内訳名簿（一人親方団体控）'!L139)","v":""},{"$f":"IF('保険料申告内訳名簿（一人親方団体控）'!M139=\"\",\"\",'保険料申告内訳名簿（一人親方団体控）'!M139)","v":""},{"$f":"IF('保険料申告内訳名簿（一人親方団体控）'!N139=\"\",\"\",'保険料申告内訳名簿（一人親方団体控）'!N139)","v":""},{"$f":"IF('保険料申告内訳名簿（一人親方団体控）'!O139=\"\",\"\",'保険料申告内訳名簿（一人親方団体控）'!O139)","v":""},{"$f":"IF('保険料申告内訳名簿（一人親方団体控）'!P139=\"\",\"\",'保険料申告内訳名簿（一人親方団体控）'!P139)","v":""},{"$f":"IF('保険料申告内訳名簿（一人親方団体控）'!Q139=\"\",\"\",'保険料申告内訳名簿（一人親方団体控）'!Q139)","v":""},{"$f":"IF('保険料申告内訳名簿（一人親方団体控）'!R139=\"\",\"\",'保険料申告内訳名簿（一人親方団体控）'!R139)","v":""},{"$f":"IF('保険料申告内訳名簿（一人親方団体控）'!S139=\"\",\"\",'保険料申告内訳名簿（一人親方団体控）'!S139)","v":""},{"$f":"IF('保険料申告内訳名簿（一人親方団体控）'!T139=\"\",\"\",'保険料申告内訳名簿（一人親方団体控）'!T139)","v":""},"事業場の\n名称",null,null,{"$f":"IF('保険料申告内訳名簿（一人親方団体控）'!X139=\"\",\"\",'保険料申告内訳名簿（一人親方団体控）'!X139)","v":""},{"$f":"IF('保険料申告内訳名簿（一人親方団体控）'!Y139=\"\",\"\",'保険料申告内訳名簿（一人親方団体控）'!Y139)","v":""},{"$f":"IF('保険料申告内訳名簿（一人親方団体控）'!Z139=\"\",\"\",'保険料申告内訳名簿（一人親方団体控）'!Z139)","v":""},{"$f":"IF('保険料申告内訳名簿（一人親方団体控）'!AA139=\"\",\"\",'保険料申告内訳名簿（一人親方団体控）'!AA139)","v":""},{"$f":"IF('保険料申告内訳名簿（一人親方団体控）'!AB139=\"\",\"\",'保険料申告内訳名簿（一人親方団体控）'!AB139)","v":""},{"$f":"IF('保険料申告内訳名簿（一人親方団体控）'!AC139=\"\",\"\",'保険料申告内訳名簿（一人親方団体控）'!AC139)","v":""},{"$f":"IF('保険料申告内訳名簿（一人親方団体控）'!AD139=\"\",\"\",'保険料申告内訳名簿（一人親方団体控）'!AD139)","v":""},{"$f":"IF('保険料申告内訳名簿（一人親方団体控）'!AE139=\"\",\"\",'保険料申告内訳名簿（一人親方団体控）'!AE139)","v":""},{"$f":"IF('保険料申告内訳名簿（一人親方団体控）'!AF139=\"\",\"\",'保険料申告内訳名簿（一人親方団体控）'!AF139)","v":""},{"$f":"IF('保険料申告内訳名簿（一人親方団体控）'!AG139=\"\",\"\",'保険料申告内訳名簿（一人親方団体控）'!AG139)","v":""},{"$f":"IF('保険料申告内訳名簿（一人親方団体控）'!AH139=\"\",\"\",'保険料申告内訳名簿（一人親方団体控）'!AH139)","v":""}]
[null,"①\n整理\n番号",null,"②\n氏名",null,null,null,null,null,null,null,null,null,null,"令 和",null,null,{"$f":"IF('保険料申告内訳名簿（一人親方団体控）'!R140=\"\",\"\",'保険料申告内訳名簿（一人親方団体控）'!R140)","v":""},{"$f":"IF('保険料申告内訳名簿（一人親方団体控）'!S140=\"\",\"\",'保険料申告内訳名簿（一人親方団体控）'!S140)","v":""},{"$f":"IF('保険料申告内訳名簿（一人親方団体控）'!T140=\"\",\"\",'保険料申告内訳名簿（一人親方団体控）'!T140)","v":""},null,null,null,"年 度 確 定 ","令 和",null,null,{"$f":"IF('保険料申告内訳名簿（一人親方団体控）'!AB140=\"\",\"\",'保険料申告内訳名簿（一人親方団体控）'!AB140)","v":""},{"$f":"IF('保険料申告内訳名簿（一人親方団体控）'!AC140=\"\",\"\",'保険料申告内訳名簿（一人親方団体控）'!AC140)","v":""},{"$f":"IF('保険料申告内訳名簿（一人親方団体控）'!AD140=\"\",\"\",'保険料申告内訳名簿（一人親方団体控）'!AD140)","v":""},null,null,null,"年 度 概 算 "]
[null,null,null,null,null,null,null,"③　\n給付基礎日額",null,null,null,"④年度中途加入・脱退",null,null,null,null,null,null,"⑤\n保険料算定基礎額",null,null,null,null,null,"⑥\n給付基礎日額",null,null,null,"⑦\n保険料算定基礎額"]
[null,null,null,null,null,null,null,null,null,null,null,"加入・脱退年月日",null,null,null,null,"加入月数"]
[null,{"$f":"IF('保険料申告内訳名簿（一人親方団体控）'!B143=\"\",\"\",'保険料申告内訳名簿（一人親方団体控）'!B143)","v":""},{"$f":"IF('保険料申告内訳名簿（一人親方団体控）'!C143=\"\",\"\",'保険料申告内訳名簿（一人親方団体控）'!C143)","v":""},{"$f":"IF('保険料申告内訳名簿（一人親方団体控）'!D143=\"\",\"\",'保険料申告内訳名簿（一人親方団体控）'!D143)","v":""},{"$f":"IF('保険料申告内訳名簿（一人親方団体控）'!E143=\"\",\"\",'保険料申告内訳名簿（一人親方団体控）'!E143)","v":""},{"$f":"IF('保険料申告内訳名簿（一人親方団体控）'!F143=\"\",\"\",'保険料申告内訳名簿（一人親方団体控）'!F143)","v":""},{"$f":"IF('保険料申告内訳名簿（一人親方団体控）'!G143=\"\",\"\",'保険料申告内訳名簿（一人親方団体控）'!G143)","v":""},{"$f":"IF('保険料申告内訳名簿（一人親方団体控）'!H143=\"\",\"\",'保険料申告内訳名簿（一人親方団体控）'!H143)","v":""},{"$f":"IF('保険料申告内訳名簿（一人親方団体控）'!I143=\"\",\"\",'保険料申告内訳名簿（一人親方団体控）'!I143)","v":""},{"$f":"IF('保険料申告内訳名簿（一人親方団体控）'!J143=\"\",\"\",'保険料申告内訳名簿（一人親方団体控）'!J143)","v":""},{"$f":"IF('保険料申告内訳名簿（一人親方団体控）'!K143=\"\",\"\",'保険料申告内訳名簿（一人親方団体控）'!K143)","v":""},{"$f":"IF('保険料申告内訳名簿（一人親方団体控）'!L143=\"\",\"\",'保険料申告内訳名簿（一人親方団体控）'!L143)","v":""},{"$f":"IF('保険料申告内訳名簿（一人親方団体控）'!M143=\"\",\"\",'保険料申告内訳名簿（一人親方団体控）'!M143)","v":""},{"$f":"IF('保険料申告内訳名簿（一人親方団体控）'!N143=\"\",\"\",'保険料申告内訳名簿（一人親方団体控）'!N143)","v":""},{"$f":"IF('保険料申告内訳名簿（一人親方団体控）'!O143=\"\",\"\",'保険料申告内訳名簿（一人親方団体控）'!O143)","v":""},{"$f":"IF('保険料申告内訳名簿（一人親方団体控）'!P143=\"\",\"\",'保険料申告内訳名簿（一人親方団体控）'!P143)","v":""},{"$f":"IF('保険料申告内訳名簿（一人親方団体控）'!Q143=\"\",\"\",'保険料申告内訳名簿（一人親方団体控）'!Q143)","v":""},{"$f":"IF('保険料申告内訳名簿（一人親方団体控）'!R143=\"\",\"\",'保険料申告内訳名簿（一人親方団体控）'!R143)","v":""},{"$f":"IF('保険料申告内訳名簿（一人親方団体控）'!S143=\"\",\"\",'保険料申告内訳名簿（一人親方団体控）'!S143)","v":0},{"$f":"IF('保険料申告内訳名簿（一人親方団体控）'!T143=\"\",\"\",'保険料申告内訳名簿（一人親方団体控）'!T143)","v":""},{"$f":"IF('保険料申告内訳名簿（一人親方団体控）'!U143=\"\",\"\",'保険料申告内訳名簿（一人親方団体控）'!U143)","v":""},{"$f":"IF('保険料申告内訳名簿（一人親方団体控）'!V143=\"\",\"\",'保険料申告内訳名簿（一人親方団体控）'!V143)","v":""},{"$f":"IF('保険料申告内訳名簿（一人親方団体控）'!W143=\"\",\"\",'保険料申告内訳名簿（一人親方団体控）'!W143)","v":""},{"$f":"IF('保険料申告内訳名簿（一人親方団体控）'!X143=\"\",\"\",'保険料申告内訳名簿（一人親方団体控）'!X143)","v":""},{"$f":"IF('保険料申告内訳名簿（一人親方団体控）'!Y143=\"\",\"\",'保険料申告内訳名簿（一人親方団体控）'!Y143)","v":""},{"$f":"IF('保険料申告内訳名簿（一人親方団体控）'!Z143=\"\",\"\",'保険料申告内訳名簿（一人親方団体控）'!Z143)","v":""},{"$f":"IF('保険料申告内訳名簿（一人親方団体控）'!AA143=\"\",\"\",'保険料申告内訳名簿（一人親方団体控）'!AA143)","v":""},{"$f":"IF('保険料申告内訳名簿（一人親方団体控）'!AB143=\"\",\"\",'保険料申告内訳名簿（一人親方団体控）'!AB143)","v":""},{"$f":"IF('保険料申告内訳名簿（一人親方団体控）'!AC143=\"\",\"\",'保険料申告内訳名簿（一人親方団体控）'!AC143)","v":0},{"$f":"IF('保険料申告内訳名簿（一人親方団体控）'!AD143=\"\",\"\",'保険料申告内訳名簿（一人親方団体控）'!AD143)","v":""},{"$f":"IF('保険料申告内訳名簿（一人親方団体控）'!AE143=\"\",\"\",'保険料申告内訳名簿（一人親方団体控）'!AE143)","v":""},{"$f":"IF('保険料申告内訳名簿（一人親方団体控）'!AF143=\"\",\"\",'保険料申告内訳名簿（一人親方団体控）'!AF143)","v":""},{"$f":"IF('保険料申告内訳名簿（一人親方団体控）'!AG143=\"\",\"\",'保険料申告内訳名簿（一人親方団体控）'!AG143)","v":""},{"$f":"IF('保険料申告内訳名簿（一人親方団体控）'!AH143=\"\",\"\",'保険料申告内訳名簿（一人親方団体控）'!AH143)","v":""}]
[null,{"$f":"IF('保険料申告内訳名簿（一人親方団体控）'!B144=\"\",\"\",'保険料申告内訳名簿（一人親方団体控）'!B144)","v":""},{"$f":"IF('保険料申告内訳名簿（一人親方団体控）'!C144=\"\",\"\",'保険料申告内訳名簿（一人親方団体控）'!C144)","v":""},{"$f":"IF('保険料申告内訳名簿（一人親方団体控）'!D144=\"\",\"\",'保険料申告内訳名簿（一人親方団体控）'!D144)","v":""},{"$f":"IF('保険料申告内訳名簿（一人親方団体控）'!E144=\"\",\"\",'保険料申告内訳名簿（一人親方団体控）'!E144)","v":""},{"$f":"IF('保険料申告内訳名簿（一人親方団体控）'!F144=\"\",\"\",'保険料申告内訳名簿（一人親方団体控）'!F144)","v":""},{"$f":"IF('保険料申告内訳名簿（一人親方団体控）'!G144=\"\",\"\",'保険料申告内訳名簿（一人親方団体控）'!G144)","v":""},{"$f":"IF('保険料申告内訳名簿（一人親方団体控）'!H144=\"\",\"\",'保険料申告内訳名簿（一人親方団体控）'!H144)","v":""},{"$f":"IF('保険料申告内訳名簿（一人親方団体控）'!I144=\"\",\"\",'保険料申告内訳名簿（一人親方団体控）'!I144)","v":""},{"$f":"IF('保険料申告内訳名簿（一人親方団体控）'!J144=\"\",\"\",'保険料申告内訳名簿（一人親方団体控）'!J144)","v":""},{"$f":"IF('保険料申告内訳名簿（一人親方団体控）'!K144=\"\",\"\",'保険料申告内訳名簿（一人親方団体控）'!K144)","v":""},{"$f":"IF('保険料申告内訳名簿（一人親方団体控）'!L144=\"\",\"\",'保険料申告内訳名簿（一人親方団体控）'!L144)","v":""},{"$f":"IF('保険料申告内訳名簿（一人親方団体控）'!M144=\"\",\"\",'保険料申告内訳名簿（一人親方団体控）'!M144)","v":""},{"$f":"IF('保険料申告内訳名簿（一人親方団体控）'!N144=\"\",\"\",'保険料申告内訳名簿（一人親方団体控）'!N144)","v":""},{"$f":"IF('保険料申告内訳名簿（一人親方団体控）'!O144=\"\",\"\",'保険料申告内訳名簿（一人親方団体控）'!O144)","v":""},{"$f":"IF('保険料申告内訳名簿（一人親方団体控）'!P144=\"\",\"\",'保険料申告内訳名簿（一人親方団体控）'!P144)","v":""},{"$f":"IF('保険料申告内訳名簿（一人親方団体控）'!Q144=\"\",\"\",'保険料申告内訳名簿（一人親方団体控）'!Q144)","v":""},{"$f":"IF('保険料申告内訳名簿（一人親方団体控）'!R144=\"\",\"\",'保険料申告内訳名簿（一人親方団体控）'!R144)","v":""},{"$f":"IF('保険料申告内訳名簿（一人親方団体控）'!S144=\"\",\"\",'保険料申告内訳名簿（一人親方団体控）'!S144)","v":0},{"$f":"IF('保険料申告内訳名簿（一人親方団体控）'!T144=\"\",\"\",'保険料申告内訳名簿（一人親方団体控）'!T144)","v":""},{"$f":"IF('保険料申告内訳名簿（一人親方団体控）'!U144=\"\",\"\",'保険料申告内訳名簿（一人親方団体控）'!U144)","v":""},{"$f":"IF('保険料申告内訳名簿（一人親方団体控）'!V144=\"\",\"\",'保険料申告内訳名簿（一人親方団体控）'!V144)","v":""},{"$f":"IF('保険料申告内訳名簿（一人親方団体控）'!W144=\"\",\"\",'保険料申告内訳名簿（一人親方団体控）'!W144)","v":""},{"$f":"IF('保険料申告内訳名簿（一人親方団体控）'!X144=\"\",\"\",'保険料申告内訳名簿（一人親方団体控）'!X144)","v":""},{"$f":"IF('保険料申告内訳名簿（一人親方団体控）'!Y144=\"\",\"\",'保険料申告内訳名簿（一人親方団体控）'!Y144)","v":""},{"$f":"IF('保険料申告内訳名簿（一人親方団体控）'!Z144=\"\",\"\",'保険料申告内訳名簿（一人親方団体控）'!Z144)","v":""},{"$f":"IF('保険料申告内訳名簿（一人親方団体控）'!AA144=\"\",\"\",'保険料申告内訳名簿（一人親方団体控）'!AA144)","v":""},{"$f":"IF('保険料申告内訳名簿（一人親方団体控）'!AB144=\"\",\"\",'保険料申告内訳名簿（一人親方団体控）'!AB144)","v":""},{"$f":"IF('保険料申告内訳名簿（一人親方団体控）'!AC144=\"\",\"\",'保険料申告内訳名簿（一人親方団体控）'!AC144)","v":0},{"$f":"IF('保険料申告内訳名簿（一人親方団体控）'!AD144=\"\",\"\",'保険料申告内訳名簿（一人親方団体控）'!AD144)","v":""},{"$f":"IF('保険料申告内訳名簿（一人親方団体控）'!AE144=\"\",\"\",'保険料申告内訳名簿（一人親方団体控）'!AE144)","v":""},{"$f":"IF('保険料申告内訳名簿（一人親方団体控）'!AF144=\"\",\"\",'保険料申告内訳名簿（一人親方団体控）'!AF144)","v":""},{"$f":"IF('保険料申告内訳名簿（一人親方団体控）'!AG144=\"\",\"\",'保険料申告内訳名簿（一人親方団体控）'!AG144)","v":""},{"$f":"IF('保険料申告内訳名簿（一人親方団体控）'!AH144=\"\",\"\",'保険料申告内訳名簿（一人親方団体控）'!AH144)","v":""}]
[null,{"$f":"IF('保険料申告内訳名簿（一人親方団体控）'!B145=\"\",\"\",'保険料申告内訳名簿（一人親方団体控）'!B145)","v":""},{"$f":"IF('保険料申告内訳名簿（一人親方団体控）'!C145=\"\",\"\",'保険料申告内訳名簿（一人親方団体控）'!C145)","v":""},{"$f":"IF('保険料申告内訳名簿（一人親方団体控）'!D145=\"\",\"\",'保険料申告内訳名簿（一人親方団体控）'!D145)","v":""},{"$f":"IF('保険料申告内訳名簿（一人親方団体控）'!E145=\"\",\"\",'保険料申告内訳名簿（一人親方団体控）'!E145)","v":""},{"$f":"IF('保険料申告内訳名簿（一人親方団体控）'!F145=\"\",\"\",'保険料申告内訳名簿（一人親方団体控）'!F145)","v":""},{"$f":"IF('保険料申告内訳名簿（一人親方団体控）'!G145=\"\",\"\",'保険料申告内訳名簿（一人親方団体控）'!G145)","v":""},{"$f":"IF('保険料申告内訳名簿（一人親方団体控）'!H145=\"\",\"\",'保険料申告内訳名簿（一人親方団体控）'!H145)","v":""},{"$f":"IF('保険料申告内訳名簿（一人親方団体控）'!I145=\"\",\"\",'保険料申告内訳名簿（一人親方団体控）'!I145)","v":""},{"$f":"IF('保険料申告内訳名簿（一人親方団体控）'!J145=\"\",\"\",'保険料申告内訳名簿（一人親方団体控）'!J145)","v":""},{"$f":"IF('保険料申告内訳名簿（一人親方団体控）'!K145=\"\",\"\",'保険料申告内訳名簿（一人親方団体控）'!K145)","v":""},{"$f":"IF('保険料申告内訳名簿（一人親方団体控）'!L145=\"\",\"\",'保険料申告内訳名簿（一人親方団体控）'!L145)","v":""},{"$f":"IF('保険料申告内訳名簿（一人親方団体控）'!M145=\"\",\"\",'保険料申告内訳名簿（一人親方団体控）'!M145)","v":""},{"$f":"IF('保険料申告内訳名簿（一人親方団体控）'!N145=\"\",\"\",'保険料申告内訳名簿（一人親方団体控）'!N145)","v":""},{"$f":"IF('保険料申告内訳名簿（一人親方団体控）'!O145=\"\",\"\",'保険料申告内訳名簿（一人親方団体控）'!O145)","v":""},{"$f":"IF('保険料申告内訳名簿（一人親方団体控）'!P145=\"\",\"\",'保険料申告内訳名簿（一人親方団体控）'!P145)","v":""},{"$f":"IF('保険料申告内訳名簿（一人親方団体控）'!Q145=\"\",\"\",'保険料申告内訳名簿（一人親方団体控）'!Q145)","v":""},{"$f":"IF('保険料申告内訳名簿（一人親方団体控）'!R145=\"\",\"\",'保険料申告内訳名簿（一人親方団体控）'!R145)","v":""},{"$f":"IF('保険料申告内訳名簿（一人親方団体控）'!S145=\"\",\"\",'保険料申告内訳名簿（一人親方団体控）'!S145)","v":0},{"$f":"IF('保険料申告内訳名簿（一人親方団体控）'!T145=\"\",\"\",'保険料申告内訳名簿（一人親方団体控）'!T145)","v":""},{"$f":"IF('保険料申告内訳名簿（一人親方団体控）'!U145=\"\",\"\",'保険料申告内訳名簿（一人親方団体控）'!U145)","v":""},{"$f":"IF('保険料申告内訳名簿（一人親方団体控）'!V145=\"\",\"\",'保険料申告内訳名簿（一人親方団体控）'!V145)","v":""},{"$f":"IF('保険料申告内訳名簿（一人親方団体控）'!W145=\"\",\"\",'保険料申告内訳名簿（一人親方団体控）'!W145)","v":""},{"$f":"IF('保険料申告内訳名簿（一人親方団体控）'!X145=\"\",\"\",'保険料申告内訳名簿（一人親方団体控）'!X145)","v":""},{"$f":"IF('保険料申告内訳名簿（一人親方団体控）'!Y145=\"\",\"\",'保険料申告内訳名簿（一人親方団体控）'!Y145)","v":""},{"$f":"IF('保険料申告内訳名簿（一人親方団体控）'!Z145=\"\",\"\",'保険料申告内訳名簿（一人親方団体控）'!Z145)","v":""},{"$f":"IF('保険料申告内訳名簿（一人親方団体控）'!AA145=\"\",\"\",'保険料申告内訳名簿（一人親方団体控）'!AA145)","v":""},{"$f":"IF('保険料申告内訳名簿（一人親方団体控）'!AB145=\"\",\"\",'保険料申告内訳名簿（一人親方団体控）'!AB145)","v":""},{"$f":"IF('保険料申告内訳名簿（一人親方団体控）'!AC145=\"\",\"\",'保険料申告内訳名簿（一人親方団体控）'!AC145)","v":0},{"$f":"IF('保険料申告内訳名簿（一人親方団体控）'!AD145=\"\",\"\",'保険料申告内訳名簿（一人親方団体控）'!AD145)","v":""},{"$f":"IF('保険料申告内訳名簿（一人親方団体控）'!AE145=\"\",\"\",'保険料申告内訳名簿（一人親方団体控）'!AE145)","v":""},{"$f":"IF('保険料申告内訳名簿（一人親方団体控）'!AF145=\"\",\"\",'保険料申告内訳名簿（一人親方団体控）'!AF145)","v":""},{"$f":"IF('保険料申告内訳名簿（一人親方団体控）'!AG145=\"\",\"\",'保険料申告内訳名簿（一人親方団体控）'!AG145)","v":""},{"$f":"IF('保険料申告内訳名簿（一人親方団体控）'!AH145=\"\",\"\",'保険料申告内訳名簿（一人親方団体控）'!AH145)","v":""}]
[null,{"$f":"IF('保険料申告内訳名簿（一人親方団体控）'!B146=\"\",\"\",'保険料申告内訳名簿（一人親方団体控）'!B146)","v":""},{"$f":"IF('保険料申告内訳名簿（一人親方団体控）'!C146=\"\",\"\",'保険料申告内訳名簿（一人親方団体控）'!C146)","v":""},{"$f":"IF('保険料申告内訳名簿（一人親方団体控）'!D146=\"\",\"\",'保険料申告内訳名簿（一人親方団体控）'!D146)","v":""},{"$f":"IF('保険料申告内訳名簿（一人親方団体控）'!E146=\"\",\"\",'保険料申告内訳名簿（一人親方団体控）'!E146)","v":""},{"$f":"IF('保険料申告内訳名簿（一人親方団体控）'!F146=\"\",\"\",'保険料申告内訳名簿（一人親方団体控）'!F146)","v":""},{"$f":"IF('保険料申告内訳名簿（一人親方団体控）'!G146=\"\",\"\",'保険料申告内訳名簿（一人親方団体控）'!G146)","v":""},{"$f":"IF('保険料申告内訳名簿（一人親方団体控）'!H146=\"\",\"\",'保険料申告内訳名簿（一人親方団体控）'!H146)","v":""},{"$f":"IF('保険料申告内訳名簿（一人親方団体控）'!I146=\"\",\"\",'保険料申告内訳名簿（一人親方団体控）'!I146)","v":""},{"$f":"IF('保険料申告内訳名簿（一人親方団体控）'!J146=\"\",\"\",'保険料申告内訳名簿（一人親方団体控）'!J146)","v":""},{"$f":"IF('保険料申告内訳名簿（一人親方団体控）'!K146=\"\",\"\",'保険料申告内訳名簿（一人親方団体控）'!K146)","v":""},{"$f":"IF('保険料申告内訳名簿（一人親方団体控）'!L146=\"\",\"\",'保険料申告内訳名簿（一人親方団体控）'!L146)","v":""},{"$f":"IF('保険料申告内訳名簿（一人親方団体控）'!M146=\"\",\"\",'保険料申告内訳名簿（一人親方団体控）'!M146)","v":""},{"$f":"IF('保険料申告内訳名簿（一人親方団体控）'!N146=\"\",\"\",'保険料申告内訳名簿（一人親方団体控）'!N146)","v":""},{"$f":"IF('保険料申告内訳名簿（一人親方団体控）'!O146=\"\",\"\",'保険料申告内訳名簿（一人親方団体控）'!O146)","v":""},{"$f":"IF('保険料申告内訳名簿（一人親方団体控）'!P146=\"\",\"\",'保険料申告内訳名簿（一人親方団体控）'!P146)","v":""},{"$f":"IF('保険料申告内訳名簿（一人親方団体控）'!Q146=\"\",\"\",'保険料申告内訳名簿（一人親方団体控）'!Q146)","v":""},{"$f":"IF('保険料申告内訳名簿（一人親方団体控）'!R146=\"\",\"\",'保険料申告内訳名簿（一人親方団体控）'!R146)","v":""},{"$f":"IF('保険料申告内訳名簿（一人親方団体控）'!S146=\"\",\"\",'保険料申告内訳名簿（一人親方団体控）'!S146)","v":0},{"$f":"IF('保険料申告内訳名簿（一人親方団体控）'!T146=\"\",\"\",'保険料申告内訳名簿（一人親方団体控）'!T146)","v":""},{"$f":"IF('保険料申告内訳名簿（一人親方団体控）'!U146=\"\",\"\",'保険料申告内訳名簿（一人親方団体控）'!U146)","v":""},{"$f":"IF('保険料申告内訳名簿（一人親方団体控）'!V146=\"\",\"\",'保険料申告内訳名簿（一人親方団体控）'!V146)","v":""},{"$f":"IF('保険料申告内訳名簿（一人親方団体控）'!W146=\"\",\"\",'保険料申告内訳名簿（一人親方団体控）'!W146)","v":""},{"$f":"IF('保険料申告内訳名簿（一人親方団体控）'!X146=\"\",\"\",'保険料申告内訳名簿（一人親方団体控）'!X146)","v":""},{"$f":"IF('保険料申告内訳名簿（一人親方団体控）'!Y146=\"\",\"\",'保険料申告内訳名簿（一人親方団体控）'!Y146)","v":""},{"$f":"IF('保険料申告内訳名簿（一人親方団体控）'!Z146=\"\",\"\",'保険料申告内訳名簿（一人親方団体控）'!Z146)","v":""},{"$f":"IF('保険料申告内訳名簿（一人親方団体控）'!AA146=\"\",\"\",'保険料申告内訳名簿（一人親方団体控）'!AA146)","v":""},{"$f":"IF('保険料申告内訳名簿（一人親方団体控）'!AB146=\"\",\"\",'保険料申告内訳名簿（一人親方団体控）'!AB146)","v":""},{"$f":"IF('保険料申告内訳名簿（一人親方団体控）'!AC146=\"\",\"\",'保険料申告内訳名簿（一人親方団体控）'!AC146)","v":0},{"$f":"IF('保険料申告内訳名簿（一人親方団体控）'!AD146=\"\",\"\",'保険料申告内訳名簿（一人親方団体控）'!AD146)","v":""},{"$f":"IF('保険料申告内訳名簿（一人親方団体控）'!AE146=\"\",\"\",'保険料申告内訳名簿（一人親方団体控）'!AE146)","v":""},{"$f":"IF('保険料申告内訳名簿（一人親方団体控）'!AF146=\"\",\"\",'保険料申告内訳名簿（一人親方団体控）'!AF146)","v":""},{"$f":"IF('保険料申告内訳名簿（一人親方団体控）'!AG146=\"\",\"\",'保険料申告内訳名簿（一人親方団体控）'!AG146)","v":""},{"$f":"IF('保険料申告内訳名簿（一人親方団体控）'!AH146=\"\",\"\",'保険料申告内訳名簿（一人親方団体控）'!AH146)","v":""}]
[null,{"$f":"IF('保険料申告内訳名簿（一人親方団体控）'!B147=\"\",\"\",'保険料申告内訳名簿（一人親方団体控）'!B147)","v":""},{"$f":"IF('保険料申告内訳名簿（一人親方団体控）'!C147=\"\",\"\",'保険料申告内訳名簿（一人親方団体控）'!C147)","v":""},{"$f":"IF('保険料申告内訳名簿（一人親方団体控）'!D147=\"\",\"\",'保険料申告内訳名簿（一人親方団体控）'!D147)","v":""},{"$f":"IF('保険料申告内訳名簿（一人親方団体控）'!E147=\"\",\"\",'保険料申告内訳名簿（一人親方団体控）'!E147)","v":""},{"$f":"IF('保険料申告内訳名簿（一人親方団体控）'!F147=\"\",\"\",'保険料申告内訳名簿（一人親方団体控）'!F147)","v":""},{"$f":"IF('保険料申告内訳名簿（一人親方団体控）'!G147=\"\",\"\",'保険料申告内訳名簿（一人親方団体控）'!G147)","v":""},{"$f":"IF('保険料申告内訳名簿（一人親方団体控）'!H147=\"\",\"\",'保険料申告内訳名簿（一人親方団体控）'!H147)","v":""},{"$f":"IF('保険料申告内訳名簿（一人親方団体控）'!I147=\"\",\"\",'保険料申告内訳名簿（一人親方団体控）'!I147)","v":""},{"$f":"IF('保険料申告内訳名簿（一人親方団体控）'!J147=\"\",\"\",'保険料申告内訳名簿（一人親方団体控）'!J147)","v":""},{"$f":"IF('保険料申告内訳名簿（一人親方団体控）'!K147=\"\",\"\",'保険料申告内訳名簿（一人親方団体控）'!K147)","v":""},{"$f":"IF('保険料申告内訳名簿（一人親方団体控）'!L147=\"\",\"\",'保険料申告内訳名簿（一人親方団体控）'!L147)","v":""},{"$f":"IF('保険料申告内訳名簿（一人親方団体控）'!M147=\"\",\"\",'保険料申告内訳名簿（一人親方団体控）'!M147)","v":""},{"$f":"IF('保険料申告内訳名簿（一人親方団体控）'!N147=\"\",\"\",'保険料申告内訳名簿（一人親方団体控）'!N147)","v":""},{"$f":"IF('保険料申告内訳名簿（一人親方団体控）'!O147=\"\",\"\",'保険料申告内訳名簿（一人親方団体控）'!O147)","v":""},{"$f":"IF('保険料申告内訳名簿（一人親方団体控）'!P147=\"\",\"\",'保険料申告内訳名簿（一人親方団体控）'!P147)","v":""},{"$f":"IF('保険料申告内訳名簿（一人親方団体控）'!Q147=\"\",\"\",'保険料申告内訳名簿（一人親方団体控）'!Q147)","v":""},{"$f":"IF('保険料申告内訳名簿（一人親方団体控）'!R147=\"\",\"\",'保険料申告内訳名簿（一人親方団体控）'!R147)","v":""},{"$f":"IF('保険料申告内訳名簿（一人親方団体控）'!S147=\"\",\"\",'保険料申告内訳名簿（一人親方団体控）'!S147)","v":0},{"$f":"IF('保険料申告内訳名簿（一人親方団体控）'!T147=\"\",\"\",'保険料申告内訳名簿（一人親方団体控）'!T147)","v":""},{"$f":"IF('保険料申告内訳名簿（一人親方団体控）'!U147=\"\",\"\",'保険料申告内訳名簿（一人親方団体控）'!U147)","v":""},{"$f":"IF('保険料申告内訳名簿（一人親方団体控）'!V147=\"\",\"\",'保険料申告内訳名簿（一人親方団体控）'!V147)","v":""},{"$f":"IF('保険料申告内訳名簿（一人親方団体控）'!W147=\"\",\"\",'保険料申告内訳名簿（一人親方団体控）'!W147)","v":""},{"$f":"IF('保険料申告内訳名簿（一人親方団体控）'!X147=\"\",\"\",'保険料申告内訳名簿（一人親方団体控）'!X147)","v":""},{"$f":"IF('保険料申告内訳名簿（一人親方団体控）'!Y147=\"\",\"\",'保険料申告内訳名簿（一人親方団体控）'!Y147)","v":""},{"$f":"IF('保険料申告内訳名簿（一人親方団体控）'!Z147=\"\",\"\",'保険料申告内訳名簿（一人親方団体控）'!Z147)","v":""},{"$f":"IF('保険料申告内訳名簿（一人親方団体控）'!AA147=\"\",\"\",'保険料申告内訳名簿（一人親方団体控）'!AA147)","v":""},{"$f":"IF('保険料申告内訳名簿（一人親方団体控）'!AB147=\"\",\"\",'保険料申告内訳名簿（一人親方団体控）'!AB147)","v":""},{"$f":"IF('保険料申告内訳名簿（一人親方団体控）'!AC147=\"\",\"\",'保険料申告内訳名簿（一人親方団体控）'!AC147)","v":0},{"$f":"IF('保険料申告内訳名簿（一人親方団体控）'!AD147=\"\",\"\",'保険料申告内訳名簿（一人親方団体控）'!AD147)","v":""},{"$f":"IF('保険料申告内訳名簿（一人親方団体控）'!AE147=\"\",\"\",'保険料申告内訳名簿（一人親方団体控）'!AE147)","v":""},{"$f":"IF('保険料申告内訳名簿（一人親方団体控）'!AF147=\"\",\"\",'保険料申告内訳名簿（一人親方団体控）'!AF147)","v":""},{"$f":"IF('保険料申告内訳名簿（一人親方団体控）'!AG147=\"\",\"\",'保険料申告内訳名簿（一人親方団体控）'!AG147)","v":""},{"$f":"IF('保険料申告内訳名簿（一人親方団体控）'!AH147=\"\",\"\",'保険料申告内訳名簿（一人親方団体控）'!AH147)","v":""}]
[null,{"$f":"IF('保険料申告内訳名簿（一人親方団体控）'!B148=\"\",\"\",'保険料申告内訳名簿（一人親方団体控）'!B148)","v":""},{"$f":"IF('保険料申告内訳名簿（一人親方団体控）'!C148=\"\",\"\",'保険料申告内訳名簿（一人親方団体控）'!C148)","v":""},{"$f":"IF('保険料申告内訳名簿（一人親方団体控）'!D148=\"\",\"\",'保険料申告内訳名簿（一人親方団体控）'!D148)","v":""},{"$f":"IF('保険料申告内訳名簿（一人親方団体控）'!E148=\"\",\"\",'保険料申告内訳名簿（一人親方団体控）'!E148)","v":""},{"$f":"IF('保険料申告内訳名簿（一人親方団体控）'!F148=\"\",\"\",'保険料申告内訳名簿（一人親方団体控）'!F148)","v":""},{"$f":"IF('保険料申告内訳名簿（一人親方団体控）'!G148=\"\",\"\",'保険料申告内訳名簿（一人親方団体控）'!G148)","v":""},{"$f":"IF('保険料申告内訳名簿（一人親方団体控）'!H148=\"\",\"\",'保険料申告内訳名簿（一人親方団体控）'!H148)","v":""},{"$f":"IF('保険料申告内訳名簿（一人親方団体控）'!I148=\"\",\"\",'保険料申告内訳名簿（一人親方団体控）'!I148)","v":""},{"$f":"IF('保険料申告内訳名簿（一人親方団体控）'!J148=\"\",\"\",'保険料申告内訳名簿（一人親方団体控）'!J148)","v":""},{"$f":"IF('保険料申告内訳名簿（一人親方団体控）'!K148=\"\",\"\",'保険料申告内訳名簿（一人親方団体控）'!K148)","v":""},{"$f":"IF('保険料申告内訳名簿（一人親方団体控）'!L148=\"\",\"\",'保険料申告内訳名簿（一人親方団体控）'!L148)","v":""},{"$f":"IF('保険料申告内訳名簿（一人親方団体控）'!M148=\"\",\"\",'保険料申告内訳名簿（一人親方団体控）'!M148)","v":""},{"$f":"IF('保険料申告内訳名簿（一人親方団体控）'!N148=\"\",\"\",'保険料申告内訳名簿（一人親方団体控）'!N148)","v":""},{"$f":"IF('保険料申告内訳名簿（一人親方団体控）'!O148=\"\",\"\",'保険料申告内訳名簿（一人親方団体控）'!O148)","v":""},{"$f":"IF('保険料申告内訳名簿（一人親方団体控）'!P148=\"\",\"\",'保険料申告内訳名簿（一人親方団体控）'!P148)","v":""},{"$f":"IF('保険料申告内訳名簿（一人親方団体控）'!Q148=\"\",\"\",'保険料申告内訳名簿（一人親方団体控）'!Q148)","v":""},{"$f":"IF('保険料申告内訳名簿（一人親方団体控）'!R148=\"\",\"\",'保険料申告内訳名簿（一人親方団体控）'!R148)","v":""},{"$f":"IF('保険料申告内訳名簿（一人親方団体控）'!S148=\"\",\"\",'保険料申告内訳名簿（一人親方団体控）'!S148)","v":0},{"$f":"IF('保険料申告内訳名簿（一人親方団体控）'!T148=\"\",\"\",'保険料申告内訳名簿（一人親方団体控）'!T148)","v":""},{"$f":"IF('保険料申告内訳名簿（一人親方団体控）'!U148=\"\",\"\",'保険料申告内訳名簿（一人親方団体控）'!U148)","v":""},{"$f":"IF('保険料申告内訳名簿（一人親方団体控）'!V148=\"\",\"\",'保険料申告内訳名簿（一人親方団体控）'!V148)","v":""},{"$f":"IF('保険料申告内訳名簿（一人親方団体控）'!W148=\"\",\"\",'保険料申告内訳名簿（一人親方団体控）'!W148)","v":""},{"$f":"IF('保険料申告内訳名簿（一人親方団体控）'!X148=\"\",\"\",'保険料申告内訳名簿（一人親方団体控）'!X148)","v":""},{"$f":"IF('保険料申告内訳名簿（一人親方団体控）'!Y148=\"\",\"\",'保険料申告内訳名簿（一人親方団体控）'!Y148)","v":""},{"$f":"IF('保険料申告内訳名簿（一人親方団体控）'!Z148=\"\",\"\",'保険料申告内訳名簿（一人親方団体控）'!Z148)","v":""},{"$f":"IF('保険料申告内訳名簿（一人親方団体控）'!AA148=\"\",\"\",'保険料申告内訳名簿（一人親方団体控）'!AA148)","v":""},{"$f":"IF('保険料申告内訳名簿（一人親方団体控）'!AB148=\"\",\"\",'保険料申告内訳名簿（一人親方団体控）'!AB148)","v":""},{"$f":"IF('保険料申告内訳名簿（一人親方団体控）'!AC148=\"\",\"\",'保険料申告内訳名簿（一人親方団体控）'!AC148)","v":0},{"$f":"IF('保険料申告内訳名簿（一人親方団体控）'!AD148=\"\",\"\",'保険料申告内訳名簿（一人親方団体控）'!AD148)","v":""},{"$f":"IF('保険料申告内訳名簿（一人親方団体控）'!AE148=\"\",\"\",'保険料申告内訳名簿（一人親方団体控）'!AE148)","v":""},{"$f":"IF('保険料申告内訳名簿（一人親方団体控）'!AF148=\"\",\"\",'保険料申告内訳名簿（一人親方団体控）'!AF148)","v":""},{"$f":"IF('保険料申告内訳名簿（一人親方団体控）'!AG148=\"\",\"\",'保険料申告内訳名簿（一人親方団体控）'!AG148)","v":""},{"$f":"IF('保険料申告内訳名簿（一人親方団体控）'!AH148=\"\",\"\",'保険料申告内訳名簿（一人親方団体控）'!AH148)","v":""}]
[null,{"$f":"IF('保険料申告内訳名簿（一人親方団体控）'!B149=\"\",\"\",'保険料申告内訳名簿（一人親方団体控）'!B149)","v":""},{"$f":"IF('保険料申告内訳名簿（一人親方団体控）'!C149=\"\",\"\",'保険料申告内訳名簿（一人親方団体控）'!C149)","v":""},{"$f":"IF('保険料申告内訳名簿（一人親方団体控）'!D149=\"\",\"\",'保険料申告内訳名簿（一人親方団体控）'!D149)","v":""},{"$f":"IF('保険料申告内訳名簿（一人親方団体控）'!E149=\"\",\"\",'保険料申告内訳名簿（一人親方団体控）'!E149)","v":""},{"$f":"IF('保険料申告内訳名簿（一人親方団体控）'!F149=\"\",\"\",'保険料申告内訳名簿（一人親方団体控）'!F149)","v":""},{"$f":"IF('保険料申告内訳名簿（一人親方団体控）'!G149=\"\",\"\",'保険料申告内訳名簿（一人親方団体控）'!G149)","v":""},{"$f":"IF('保険料申告内訳名簿（一人親方団体控）'!H149=\"\",\"\",'保険料申告内訳名簿（一人親方団体控）'!H149)","v":""},{"$f":"IF('保険料申告内訳名簿（一人親方団体控）'!I149=\"\",\"\",'保険料申告内訳名簿（一人親方団体控）'!I149)","v":""},{"$f":"IF('保険料申告内訳名簿（一人親方団体控）'!J149=\"\",\"\",'保険料申告内訳名簿（一人親方団体控）'!J149)","v":""},{"$f":"IF('保険料申告内訳名簿（一人親方団体控）'!K149=\"\",\"\",'保険料申告内訳名簿（一人親方団体控）'!K149)","v":""},{"$f":"IF('保険料申告内訳名簿（一人親方団体控）'!L149=\"\",\"\",'保険料申告内訳名簿（一人親方団体控）'!L149)","v":""},{"$f":"IF('保険料申告内訳名簿（一人親方団体控）'!M149=\"\",\"\",'保険料申告内訳名簿（一人親方団体控）'!M149)","v":""},{"$f":"IF('保険料申告内訳名簿（一人親方団体控）'!N149=\"\",\"\",'保険料申告内訳名簿（一人親方団体控）'!N149)","v":""},{"$f":"IF('保険料申告内訳名簿（一人親方団体控）'!O149=\"\",\"\",'保険料申告内訳名簿（一人親方団体控）'!O149)","v":""},{"$f":"IF('保険料申告内訳名簿（一人親方団体控）'!P149=\"\",\"\",'保険料申告内訳名簿（一人親方団体控）'!P149)","v":""},{"$f":"IF('保険料申告内訳名簿（一人親方団体控）'!Q149=\"\",\"\",'保険料申告内訳名簿（一人親方団体控）'!Q149)","v":""},{"$f":"IF('保険料申告内訳名簿（一人親方団体控）'!R149=\"\",\"\",'保険料申告内訳名簿（一人親方団体控）'!R149)","v":""},{"$f":"IF('保険料申告内訳名簿（一人親方団体控）'!S149=\"\",\"\",'保険料申告内訳名簿（一人親方団体控）'!S149)","v":0},{"$f":"IF('保険料申告内訳名簿（一人親方団体控）'!T149=\"\",\"\",'保険料申告内訳名簿（一人親方団体控）'!T149)","v":""},{"$f":"IF('保険料申告内訳名簿（一人親方団体控）'!U149=\"\",\"\",'保険料申告内訳名簿（一人親方団体控）'!U149)","v":""},{"$f":"IF('保険料申告内訳名簿（一人親方団体控）'!V149=\"\",\"\",'保険料申告内訳名簿（一人親方団体控）'!V149)","v":""},{"$f":"IF('保険料申告内訳名簿（一人親方団体控）'!W149=\"\",\"\",'保険料申告内訳名簿（一人親方団体控）'!W149)","v":""},{"$f":"IF('保険料申告内訳名簿（一人親方団体控）'!X149=\"\",\"\",'保険料申告内訳名簿（一人親方団体控）'!X149)","v":""},{"$f":"IF('保険料申告内訳名簿（一人親方団体控）'!Y149=\"\",\"\",'保険料申告内訳名簿（一人親方団体控）'!Y149)","v":""},{"$f":"IF('保険料申告内訳名簿（一人親方団体控）'!Z149=\"\",\"\",'保険料申告内訳名簿（一人親方団体控）'!Z149)","v":""},{"$f":"IF('保険料申告内訳名簿（一人親方団体控）'!AA149=\"\",\"\",'保険料申告内訳名簿（一人親方団体控）'!AA149)","v":""},{"$f":"IF('保険料申告内訳名簿（一人親方団体控）'!AB149=\"\",\"\",'保険料申告内訳名簿（一人親方団体控）'!AB149)","v":""},{"$f":"IF('保険料申告内訳名簿（一人親方団体控）'!AC149=\"\",\"\",'保険料申告内訳名簿（一人親方団体控）'!AC149)","v":0},{"$f":"IF('保険料申告内訳名簿（一人親方団体控）'!AD149=\"\",\"\",'保険料申告内訳名簿（一人親方団体控）'!AD149)","v":""},{"$f":"IF('保険料申告内訳名簿（一人親方団体控）'!AE149=\"\",\"\",'保険料申告内訳名簿（一人親方団体控）'!AE149)","v":""},{"$f":"IF('保険料申告内訳名簿（一人親方団体控）'!AF149=\"\",\"\",'保険料申告内訳名簿（一人親方団体控）'!AF149)","v":""},{"$f":"IF('保険料申告内訳名簿（一人親方団体控）'!AG149=\"\",\"\",'保険料申告内訳名簿（一人親方団体控）'!AG149)","v":""},{"$f":"IF('保険料申告内訳名簿（一人親方団体控）'!AH149=\"\",\"\",'保険料申告内訳名簿（一人親方団体控）'!AH149)","v":""}]
[null,{"$f":"IF('保険料申告内訳名簿（一人親方団体控）'!B150=\"\",\"\",'保険料申告内訳名簿（一人親方団体控）'!B150)","v":""},{"$f":"IF('保険料申告内訳名簿（一人親方団体控）'!C150=\"\",\"\",'保険料申告内訳名簿（一人親方団体控）'!C150)","v":""},{"$f":"IF('保険料申告内訳名簿（一人親方団体控）'!D150=\"\",\"\",'保険料申告内訳名簿（一人親方団体控）'!D150)","v":""},{"$f":"IF('保険料申告内訳名簿（一人親方団体控）'!E150=\"\",\"\",'保険料申告内訳名簿（一人親方団体控）'!E150)","v":""},{"$f":"IF('保険料申告内訳名簿（一人親方団体控）'!F150=\"\",\"\",'保険料申告内訳名簿（一人親方団体控）'!F150)","v":""},{"$f":"IF('保険料申告内訳名簿（一人親方団体控）'!G150=\"\",\"\",'保険料申告内訳名簿（一人親方団体控）'!G150)","v":""},{"$f":"IF('保険料申告内訳名簿（一人親方団体控）'!H150=\"\",\"\",'保険料申告内訳名簿（一人親方団体控）'!H150)","v":""},{"$f":"IF('保険料申告内訳名簿（一人親方団体控）'!I150=\"\",\"\",'保険料申告内訳名簿（一人親方団体控）'!I150)","v":""},{"$f":"IF('保険料申告内訳名簿（一人親方団体控）'!J150=\"\",\"\",'保険料申告内訳名簿（一人親方団体控）'!J150)","v":""},{"$f":"IF('保険料申告内訳名簿（一人親方団体控）'!K150=\"\",\"\",'保険料申告内訳名簿（一人親方団体控）'!K150)","v":""},{"$f":"IF('保険料申告内訳名簿（一人親方団体控）'!L150=\"\",\"\",'保険料申告内訳名簿（一人親方団体控）'!L150)","v":""},{"$f":"IF('保険料申告内訳名簿（一人親方団体控）'!M150=\"\",\"\",'保険料申告内訳名簿（一人親方団体控）'!M150)","v":""},{"$f":"IF('保険料申告内訳名簿（一人親方団体控）'!N150=\"\",\"\",'保険料申告内訳名簿（一人親方団体控）'!N150)","v":""},{"$f":"IF('保険料申告内訳名簿（一人親方団体控）'!O150=\"\",\"\",'保険料申告内訳名簿（一人親方団体控）'!O150)","v":""},{"$f":"IF('保険料申告内訳名簿（一人親方団体控）'!P150=\"\",\"\",'保険料申告内訳名簿（一人親方団体控）'!P150)","v":""},{"$f":"IF('保険料申告内訳名簿（一人親方団体控）'!Q150=\"\",\"\",'保険料申告内訳名簿（一人親方団体控）'!Q150)","v":""},{"$f":"IF('保険料申告内訳名簿（一人親方団体控）'!R150=\"\",\"\",'保険料申告内訳名簿（一人親方団体控）'!R150)","v":""},{"$f":"IF('保険料申告内訳名簿（一人親方団体控）'!S150=\"\",\"\",'保険料申告内訳名簿（一人親方団体控）'!S150)","v":0},{"$f":"IF('保険料申告内訳名簿（一人親方団体控）'!T150=\"\",\"\",'保険料申告内訳名簿（一人親方団体控）'!T150)","v":""},{"$f":"IF('保険料申告内訳名簿（一人親方団体控）'!U150=\"\",\"\",'保険料申告内訳名簿（一人親方団体控）'!U150)","v":""},{"$f":"IF('保険料申告内訳名簿（一人親方団体控）'!V150=\"\",\"\",'保険料申告内訳名簿（一人親方団体控）'!V150)","v":""},{"$f":"IF('保険料申告内訳名簿（一人親方団体控）'!W150=\"\",\"\",'保険料申告内訳名簿（一人親方団体控）'!W150)","v":""},{"$f":"IF('保険料申告内訳名簿（一人親方団体控）'!X150=\"\",\"\",'保険料申告内訳名簿（一人親方団体控）'!X150)","v":""},{"$f":"IF('保険料申告内訳名簿（一人親方団体控）'!Y150=\"\",\"\",'保険料申告内訳名簿（一人親方団体控）'!Y150)","v":""},{"$f":"IF('保険料申告内訳名簿（一人親方団体控）'!Z150=\"\",\"\",'保険料申告内訳名簿（一人親方団体控）'!Z150)","v":""},{"$f":"IF('保険料申告内訳名簿（一人親方団体控）'!AA150=\"\",\"\",'保険料申告内訳名簿（一人親方団体控）'!AA150)","v":""},{"$f":"IF('保険料申告内訳名簿（一人親方団体控）'!AB150=\"\",\"\",'保険料申告内訳名簿（一人親方団体控）'!AB150)","v":""},{"$f":"IF('保険料申告内訳名簿（一人親方団体控）'!AC150=\"\",\"\",'保険料申告内訳名簿（一人親方団体控）'!AC150)","v":0},{"$f":"IF('保険料申告内訳名簿（一人親方団体控）'!AD150=\"\",\"\",'保険料申告内訳名簿（一人親方団体控）'!AD150)","v":""},{"$f":"IF('保険料申告内訳名簿（一人親方団体控）'!AE150=\"\",\"\",'保険料申告内訳名簿（一人親方団体控）'!AE150)","v":""},{"$f":"IF('保険料申告内訳名簿（一人親方団体控）'!AF150=\"\",\"\",'保険料申告内訳名簿（一人親方団体控）'!AF150)","v":""},{"$f":"IF('保険料申告内訳名簿（一人親方団体控）'!AG150=\"\",\"\",'保険料申告内訳名簿（一人親方団体控）'!AG150)","v":""},{"$f":"IF('保険料申告内訳名簿（一人親方団体控）'!AH150=\"\",\"\",'保険料申告内訳名簿（一人親方団体控）'!AH150)","v":""}]
[null,{"$f":"IF('保険料申告内訳名簿（一人親方団体控）'!B151=\"\",\"\",'保険料申告内訳名簿（一人親方団体控）'!B151)","v":""},{"$f":"IF('保険料申告内訳名簿（一人親方団体控）'!C151=\"\",\"\",'保険料申告内訳名簿（一人親方団体控）'!C151)","v":""},{"$f":"IF('保険料申告内訳名簿（一人親方団体控）'!D151=\"\",\"\",'保険料申告内訳名簿（一人親方団体控）'!D151)","v":""},{"$f":"IF('保険料申告内訳名簿（一人親方団体控）'!E151=\"\",\"\",'保険料申告内訳名簿（一人親方団体控）'!E151)","v":""},{"$f":"IF('保険料申告内訳名簿（一人親方団体控）'!F151=\"\",\"\",'保険料申告内訳名簿（一人親方団体控）'!F151)","v":""},{"$f":"IF('保険料申告内訳名簿（一人親方団体控）'!G151=\"\",\"\",'保険料申告内訳名簿（一人親方団体控）'!G151)","v":""},{"$f":"IF('保険料申告内訳名簿（一人親方団体控）'!H151=\"\",\"\",'保険料申告内訳名簿（一人親方団体控）'!H151)","v":""},{"$f":"IF('保険料申告内訳名簿（一人親方団体控）'!I151=\"\",\"\",'保険料申告内訳名簿（一人親方団体控）'!I151)","v":""},{"$f":"IF('保険料申告内訳名簿（一人親方団体控）'!J151=\"\",\"\",'保険料申告内訳名簿（一人親方団体控）'!J151)","v":""},{"$f":"IF('保険料申告内訳名簿（一人親方団体控）'!K151=\"\",\"\",'保険料申告内訳名簿（一人親方団体控）'!K151)","v":""},{"$f":"IF('保険料申告内訳名簿（一人親方団体控）'!L151=\"\",\"\",'保険料申告内訳名簿（一人親方団体控）'!L151)","v":""},{"$f":"IF('保険料申告内訳名簿（一人親方団体控）'!M151=\"\",\"\",'保険料申告内訳名簿（一人親方団体控）'!M151)","v":""},{"$f":"IF('保険料申告内訳名簿（一人親方団体控）'!N151=\"\",\"\",'保険料申告内訳名簿（一人親方団体控）'!N151)","v":""},{"$f":"IF('保険料申告内訳名簿（一人親方団体控）'!O151=\"\",\"\",'保険料申告内訳名簿（一人親方団体控）'!O151)","v":""},{"$f":"IF('保険料申告内訳名簿（一人親方団体控）'!P151=\"\",\"\",'保険料申告内訳名簿（一人親方団体控）'!P151)","v":""},{"$f":"IF('保険料申告内訳名簿（一人親方団体控）'!Q151=\"\",\"\",'保険料申告内訳名簿（一人親方団体控）'!Q151)","v":""},{"$f":"IF('保険料申告内訳名簿（一人親方団体控）'!R151=\"\",\"\",'保険料申告内訳名簿（一人親方団体控）'!R151)","v":""},{"$f":"IF('保険料申告内訳名簿（一人親方団体控）'!S151=\"\",\"\",'保険料申告内訳名簿（一人親方団体控）'!S151)","v":0},{"$f":"IF('保険料申告内訳名簿（一人親方団体控）'!T151=\"\",\"\",'保険料申告内訳名簿（一人親方団体控）'!T151)","v":""},{"$f":"IF('保険料申告内訳名簿（一人親方団体控）'!U151=\"\",\"\",'保険料申告内訳名簿（一人親方団体控）'!U151)","v":""},{"$f":"IF('保険料申告内訳名簿（一人親方団体控）'!V151=\"\",\"\",'保険料申告内訳名簿（一人親方団体控）'!V151)","v":""},{"$f":"IF('保険料申告内訳名簿（一人親方団体控）'!W151=\"\",\"\",'保険料申告内訳名簿（一人親方団体控）'!W151)","v":""},{"$f":"IF('保険料申告内訳名簿（一人親方団体控）'!X151=\"\",\"\",'保険料申告内訳名簿（一人親方団体控）'!X151)","v":""},{"$f":"IF('保険料申告内訳名簿（一人親方団体控）'!Y151=\"\",\"\",'保険料申告内訳名簿（一人親方団体控）'!Y151)","v":""},{"$f":"IF('保険料申告内訳名簿（一人親方団体控）'!Z151=\"\",\"\",'保険料申告内訳名簿（一人親方団体控）'!Z151)","v":""},{"$f":"IF('保険料申告内訳名簿（一人親方団体控）'!AA151=\"\",\"\",'保険料申告内訳名簿（一人親方団体控）'!AA151)","v":""},{"$f":"IF('保険料申告内訳名簿（一人親方団体控）'!AB151=\"\",\"\",'保険料申告内訳名簿（一人親方団体控）'!AB151)","v":""},{"$f":"IF('保険料申告内訳名簿（一人親方団体控）'!AC151=\"\",\"\",'保険料申告内訳名簿（一人親方団体控）'!AC151)","v":0},{"$f":"IF('保険料申告内訳名簿（一人親方団体控）'!AD151=\"\",\"\",'保険料申告内訳名簿（一人親方団体控）'!AD151)","v":""},{"$f":"IF('保険料申告内訳名簿（一人親方団体控）'!AE151=\"\",\"\",'保険料申告内訳名簿（一人親方団体控）'!AE151)","v":""},{"$f":"IF('保険料申告内訳名簿（一人親方団体控）'!AF151=\"\",\"\",'保険料申告内訳名簿（一人親方団体控）'!AF151)","v":""},{"$f":"IF('保険料申告内訳名簿（一人親方団体控）'!AG151=\"\",\"\",'保険料申告内訳名簿（一人親方団体控）'!AG151)","v":""},{"$f":"IF('保険料申告内訳名簿（一人親方団体控）'!AH151=\"\",\"\",'保険料申告内訳名簿（一人親方団体控）'!AH151)","v":""}]
[null,{"$f":"IF('保険料申告内訳名簿（一人親方団体控）'!B152=\"\",\"\",'保険料申告内訳名簿（一人親方団体控）'!B152)","v":""},{"$f":"IF('保険料申告内訳名簿（一人親方団体控）'!C152=\"\",\"\",'保険料申告内訳名簿（一人親方団体控）'!C152)","v":""},{"$f":"IF('保険料申告内訳名簿（一人親方団体控）'!D152=\"\",\"\",'保険料申告内訳名簿（一人親方団体控）'!D152)","v":""},{"$f":"IF('保険料申告内訳名簿（一人親方団体控）'!E152=\"\",\"\",'保険料申告内訳名簿（一人親方団体控）'!E152)","v":""},{"$f":"IF('保険料申告内訳名簿（一人親方団体控）'!F152=\"\",\"\",'保険料申告内訳名簿（一人親方団体控）'!F152)","v":""},{"$f":"IF('保険料申告内訳名簿（一人親方団体控）'!G152=\"\",\"\",'保険料申告内訳名簿（一人親方団体控）'!G152)","v":""},{"$f":"IF('保険料申告内訳名簿（一人親方団体控）'!H152=\"\",\"\",'保険料申告内訳名簿（一人親方団体控）'!H152)","v":""},{"$f":"IF('保険料申告内訳名簿（一人親方団体控）'!I152=\"\",\"\",'保険料申告内訳名簿（一人親方団体控）'!I152)","v":""},{"$f":"IF('保険料申告内訳名簿（一人親方団体控）'!J152=\"\",\"\",'保険料申告内訳名簿（一人親方団体控）'!J152)","v":""},{"$f":"IF('保険料申告内訳名簿（一人親方団体控）'!K152=\"\",\"\",'保険料申告内訳名簿（一人親方団体控）'!K152)","v":""},{"$f":"IF('保険料申告内訳名簿（一人親方団体控）'!L152=\"\",\"\",'保険料申告内訳名簿（一人親方団体控）'!L152)","v":""},{"$f":"IF('保険料申告内訳名簿（一人親方団体控）'!M152=\"\",\"\",'保険料申告内訳名簿（一人親方団体控）'!M152)","v":""},{"$f":"IF('保険料申告内訳名簿（一人親方団体控）'!N152=\"\",\"\",'保険料申告内訳名簿（一人親方団体控）'!N152)","v":""},{"$f":"IF('保険料申告内訳名簿（一人親方団体控）'!O152=\"\",\"\",'保険料申告内訳名簿（一人親方団体控）'!O152)","v":""},{"$f":"IF('保険料申告内訳名簿（一人親方団体控）'!P152=\"\",\"\",'保険料申告内訳名簿（一人親方団体控）'!P152)","v":""},{"$f":"IF('保険料申告内訳名簿（一人親方団体控）'!Q152=\"\",\"\",'保険料申告内訳名簿（一人親方団体控）'!Q152)","v":""},{"$f":"IF('保険料申告内訳名簿（一人親方団体控）'!R152=\"\",\"\",'保険料申告内訳名簿（一人親方団体控）'!R152)","v":""},{"$f":"IF('保険料申告内訳名簿（一人親方団体控）'!S152=\"\",\"\",'保険料申告内訳名簿（一人親方団体控）'!S152)","v":0},{"$f":"IF('保険料申告内訳名簿（一人親方団体控）'!T152=\"\",\"\",'保険料申告内訳名簿（一人親方団体控）'!T152)","v":""},{"$f":"IF('保険料申告内訳名簿（一人親方団体控）'!U152=\"\",\"\",'保険料申告内訳名簿（一人親方団体控）'!U152)","v":""},{"$f":"IF('保険料申告内訳名簿（一人親方団体控）'!V152=\"\",\"\",'保険料申告内訳名簿（一人親方団体控）'!V152)","v":""},{"$f":"IF('保険料申告内訳名簿（一人親方団体控）'!W152=\"\",\"\",'保険料申告内訳名簿（一人親方団体控）'!W152)","v":""},{"$f":"IF('保険料申告内訳名簿（一人親方団体控）'!X152=\"\",\"\",'保険料申告内訳名簿（一人親方団体控）'!X152)","v":""},{"$f":"IF('保険料申告内訳名簿（一人親方団体控）'!Y152=\"\",\"\",'保険料申告内訳名簿（一人親方団体控）'!Y152)","v":""},{"$f":"IF('保険料申告内訳名簿（一人親方団体控）'!Z152=\"\",\"\",'保険料申告内訳名簿（一人親方団体控）'!Z152)","v":""},{"$f":"IF('保険料申告内訳名簿（一人親方団体控）'!AA152=\"\",\"\",'保険料申告内訳名簿（一人親方団体控）'!AA152)","v":""},{"$f":"IF('保険料申告内訳名簿（一人親方団体控）'!AB152=\"\",\"\",'保険料申告内訳名簿（一人親方団体控）'!AB152)","v":""},{"$f":"IF('保険料申告内訳名簿（一人親方団体控）'!AC152=\"\",\"\",'保険料申告内訳名簿（一人親方団体控）'!AC152)","v":0},{"$f":"IF('保険料申告内訳名簿（一人親方団体控）'!AD152=\"\",\"\",'保険料申告内訳名簿（一人親方団体控）'!AD152)","v":""},{"$f":"IF('保険料申告内訳名簿（一人親方団体控）'!AE152=\"\",\"\",'保険料申告内訳名簿（一人親方団体控）'!AE152)","v":""},{"$f":"IF('保険料申告内訳名簿（一人親方団体控）'!AF152=\"\",\"\",'保険料申告内訳名簿（一人親方団体控）'!AF152)","v":""},{"$f":"IF('保険料申告内訳名簿（一人親方団体控）'!AG152=\"\",\"\",'保険料申告内訳名簿（一人親方団体控）'!AG152)","v":""},{"$f":"IF('保険料申告内訳名簿（一人親方団体控）'!AH152=\"\",\"\",'保険料申告内訳名簿（一人親方団体控）'!AH152)","v":""}]
[null,{"$f":"IF('保険料申告内訳名簿（一人親方団体控）'!B153=\"\",\"\",'保険料申告内訳名簿（一人親方団体控）'!B153)","v":""},{"$f":"IF('保険料申告内訳名簿（一人親方団体控）'!C153=\"\",\"\",'保険料申告内訳名簿（一人親方団体控）'!C153)","v":""},{"$f":"IF('保険料申告内訳名簿（一人親方団体控）'!D153=\"\",\"\",'保険料申告内訳名簿（一人親方団体控）'!D153)","v":""},{"$f":"IF('保険料申告内訳名簿（一人親方団体控）'!E153=\"\",\"\",'保険料申告内訳名簿（一人親方団体控）'!E153)","v":""},{"$f":"IF('保険料申告内訳名簿（一人親方団体控）'!F153=\"\",\"\",'保険料申告内訳名簿（一人親方団体控）'!F153)","v":""},{"$f":"IF('保険料申告内訳名簿（一人親方団体控）'!G153=\"\",\"\",'保険料申告内訳名簿（一人親方団体控）'!G153)","v":""},{"$f":"IF('保険料申告内訳名簿（一人親方団体控）'!H153=\"\",\"\",'保険料申告内訳名簿（一人親方団体控）'!H153)","v":""},{"$f":"IF('保険料申告内訳名簿（一人親方団体控）'!I153=\"\",\"\",'保険料申告内訳名簿（一人親方団体控）'!I153)","v":""},{"$f":"IF('保険料申告内訳名簿（一人親方団体控）'!J153=\"\",\"\",'保険料申告内訳名簿（一人親方団体控）'!J153)","v":""},{"$f":"IF('保険料申告内訳名簿（一人親方団体控）'!K153=\"\",\"\",'保険料申告内訳名簿（一人親方団体控）'!K153)","v":""},{"$f":"IF('保険料申告内訳名簿（一人親方団体控）'!L153=\"\",\"\",'保険料申告内訳名簿（一人親方団体控）'!L153)","v":""},{"$f":"IF('保険料申告内訳名簿（一人親方団体控）'!M153=\"\",\"\",'保険料申告内訳名簿（一人親方団体控）'!M153)","v":""},{"$f":"IF('保険料申告内訳名簿（一人親方団体控）'!N153=\"\",\"\",'保険料申告内訳名簿（一人親方団体控）'!N153)","v":""},{"$f":"IF('保険料申告内訳名簿（一人親方団体控）'!O153=\"\",\"\",'保険料申告内訳名簿（一人親方団体控）'!O153)","v":""},{"$f":"IF('保険料申告内訳名簿（一人親方団体控）'!P153=\"\",\"\",'保険料申告内訳名簿（一人親方団体控）'!P153)","v":""},{"$f":"IF('保険料申告内訳名簿（一人親方団体控）'!Q153=\"\",\"\",'保険料申告内訳名簿（一人親方団体控）'!Q153)","v":""},{"$f":"IF('保険料申告内訳名簿（一人親方団体控）'!R153=\"\",\"\",'保険料申告内訳名簿（一人親方団体控）'!R153)","v":""},{"$f":"IF('保険料申告内訳名簿（一人親方団体控）'!S153=\"\",\"\",'保険料申告内訳名簿（一人親方団体控）'!S153)","v":0},{"$f":"IF('保険料申告内訳名簿（一人親方団体控）'!T153=\"\",\"\",'保険料申告内訳名簿（一人親方団体控）'!T153)","v":""},{"$f":"IF('保険料申告内訳名簿（一人親方団体控）'!U153=\"\",\"\",'保険料申告内訳名簿（一人親方団体控）'!U153)","v":""},{"$f":"IF('保険料申告内訳名簿（一人親方団体控）'!V153=\"\",\"\",'保険料申告内訳名簿（一人親方団体控）'!V153)","v":""},{"$f":"IF('保険料申告内訳名簿（一人親方団体控）'!W153=\"\",\"\",'保険料申告内訳名簿（一人親方団体控）'!W153)","v":""},{"$f":"IF('保険料申告内訳名簿（一人親方団体控）'!X153=\"\",\"\",'保険料申告内訳名簿（一人親方団体控）'!X153)","v":""},{"$f":"IF('保険料申告内訳名簿（一人親方団体控）'!Y153=\"\",\"\",'保険料申告内訳名簿（一人親方団体控）'!Y153)","v":""},{"$f":"IF('保険料申告内訳名簿（一人親方団体控）'!Z153=\"\",\"\",'保険料申告内訳名簿（一人親方団体控）'!Z153)","v":""},{"$f":"IF('保険料申告内訳名簿（一人親方団体控）'!AA153=\"\",\"\",'保険料申告内訳名簿（一人親方団体控）'!AA153)","v":""},{"$f":"IF('保険料申告内訳名簿（一人親方団体控）'!AB153=\"\",\"\",'保険料申告内訳名簿（一人親方団体控）'!AB153)","v":""},{"$f":"IF('保険料申告内訳名簿（一人親方団体控）'!AC153=\"\",\"\",'保険料申告内訳名簿（一人親方団体控）'!AC153)","v":0},{"$f":"IF('保険料申告内訳名簿（一人親方団体控）'!AD153=\"\",\"\",'保険料申告内訳名簿（一人親方団体控）'!AD153)","v":""},{"$f":"IF('保険料申告内訳名簿（一人親方団体控）'!AE153=\"\",\"\",'保険料申告内訳名簿（一人親方団体控）'!AE153)","v":""},{"$f":"IF('保険料申告内訳名簿（一人親方団体控）'!AF153=\"\",\"\",'保険料申告内訳名簿（一人親方団体控）'!AF153)","v":""},{"$f":"IF('保険料申告内訳名簿（一人親方団体控）'!AG153=\"\",\"\",'保険料申告内訳名簿（一人親方団体控）'!AG153)","v":""},{"$f":"IF('保険料申告内訳名簿（一人親方団体控）'!AH153=\"\",\"\",'保険料申告内訳名簿（一人親方団体控）'!AH153)","v":""}]
[null,{"$f":"IF('保険料申告内訳名簿（一人親方団体控）'!B154=\"\",\"\",'保険料申告内訳名簿（一人親方団体控）'!B154)","v":""},{"$f":"IF('保険料申告内訳名簿（一人親方団体控）'!C154=\"\",\"\",'保険料申告内訳名簿（一人親方団体控）'!C154)","v":""},{"$f":"IF('保険料申告内訳名簿（一人親方団体控）'!D154=\"\",\"\",'保険料申告内訳名簿（一人親方団体控）'!D154)","v":""},{"$f":"IF('保険料申告内訳名簿（一人親方団体控）'!E154=\"\",\"\",'保険料申告内訳名簿（一人親方団体控）'!E154)","v":""},{"$f":"IF('保険料申告内訳名簿（一人親方団体控）'!F154=\"\",\"\",'保険料申告内訳名簿（一人親方団体控）'!F154)","v":""},{"$f":"IF('保険料申告内訳名簿（一人親方団体控）'!G154=\"\",\"\",'保険料申告内訳名簿（一人親方団体控）'!G154)","v":""},{"$f":"IF('保険料申告内訳名簿（一人親方団体控）'!H154=\"\",\"\",'保険料申告内訳名簿（一人親方団体控）'!H154)","v":""},{"$f":"IF('保険料申告内訳名簿（一人親方団体控）'!I154=\"\",\"\",'保険料申告内訳名簿（一人親方団体控）'!I154)","v":""},{"$f":"IF('保険料申告内訳名簿（一人親方団体控）'!J154=\"\",\"\",'保険料申告内訳名簿（一人親方団体控）'!J154)","v":""},{"$f":"IF('保険料申告内訳名簿（一人親方団体控）'!K154=\"\",\"\",'保険料申告内訳名簿（一人親方団体控）'!K154)","v":""},{"$f":"IF('保険料申告内訳名簿（一人親方団体控）'!L154=\"\",\"\",'保険料申告内訳名簿（一人親方団体控）'!L154)","v":""},{"$f":"IF('保険料申告内訳名簿（一人親方団体控）'!M154=\"\",\"\",'保険料申告内訳名簿（一人親方団体控）'!M154)","v":""},{"$f":"IF('保険料申告内訳名簿（一人親方団体控）'!N154=\"\",\"\",'保険料申告内訳名簿（一人親方団体控）'!N154)","v":""},{"$f":"IF('保険料申告内訳名簿（一人親方団体控）'!O154=\"\",\"\",'保険料申告内訳名簿（一人親方団体控）'!O154)","v":""},{"$f":"IF('保険料申告内訳名簿（一人親方団体控）'!P154=\"\",\"\",'保険料申告内訳名簿（一人親方団体控）'!P154)","v":""},{"$f":"IF('保険料申告内訳名簿（一人親方団体控）'!Q154=\"\",\"\",'保険料申告内訳名簿（一人親方団体控）'!Q154)","v":""},{"$f":"IF('保険料申告内訳名簿（一人親方団体控）'!R154=\"\",\"\",'保険料申告内訳名簿（一人親方団体控）'!R154)","v":""},{"$f":"IF('保険料申告内訳名簿（一人親方団体控）'!S154=\"\",\"\",'保険料申告内訳名簿（一人親方団体控）'!S154)","v":0},{"$f":"IF('保険料申告内訳名簿（一人親方団体控）'!T154=\"\",\"\",'保険料申告内訳名簿（一人親方団体控）'!T154)","v":""},{"$f":"IF('保険料申告内訳名簿（一人親方団体控）'!U154=\"\",\"\",'保険料申告内訳名簿（一人親方団体控）'!U154)","v":""},{"$f":"IF('保険料申告内訳名簿（一人親方団体控）'!V154=\"\",\"\",'保険料申告内訳名簿（一人親方団体控）'!V154)","v":""},{"$f":"IF('保険料申告内訳名簿（一人親方団体控）'!W154=\"\",\"\",'保険料申告内訳名簿（一人親方団体控）'!W154)","v":""},{"$f":"IF('保険料申告内訳名簿（一人親方団体控）'!X154=\"\",\"\",'保険料申告内訳名簿（一人親方団体控）'!X154)","v":""},{"$f":"IF('保険料申告内訳名簿（一人親方団体控）'!Y154=\"\",\"\",'保険料申告内訳名簿（一人親方団体控）'!Y154)","v":""},{"$f":"IF('保険料申告内訳名簿（一人親方団体控）'!Z154=\"\",\"\",'保険料申告内訳名簿（一人親方団体控）'!Z154)","v":""},{"$f":"IF('保険料申告内訳名簿（一人親方団体控）'!AA154=\"\",\"\",'保険料申告内訳名簿（一人親方団体控）'!AA154)","v":""},{"$f":"IF('保険料申告内訳名簿（一人親方団体控）'!AB154=\"\",\"\",'保険料申告内訳名簿（一人親方団体控）'!AB154)","v":""},{"$f":"IF('保険料申告内訳名簿（一人親方団体控）'!AC154=\"\",\"\",'保険料申告内訳名簿（一人親方団体控）'!AC154)","v":0},{"$f":"IF('保険料申告内訳名簿（一人親方団体控）'!AD154=\"\",\"\",'保険料申告内訳名簿（一人親方団体控）'!AD154)","v":""},{"$f":"IF('保険料申告内訳名簿（一人親方団体控）'!AE154=\"\",\"\",'保険料申告内訳名簿（一人親方団体控）'!AE154)","v":""},{"$f":"IF('保険料申告内訳名簿（一人親方団体控）'!AF154=\"\",\"\",'保険料申告内訳名簿（一人親方団体控）'!AF154)","v":""},{"$f":"IF('保険料申告内訳名簿（一人親方団体控）'!AG154=\"\",\"\",'保険料申告内訳名簿（一人親方団体控）'!AG154)","v":""},{"$f":"IF('保険料申告内訳名簿（一人親方団体控）'!AH154=\"\",\"\",'保険料申告内訳名簿（一人親方団体控）'!AH154)","v":""}]
[null,{"$f":"IF('保険料申告内訳名簿（一人親方団体控）'!B155=\"\",\"\",'保険料申告内訳名簿（一人親方団体控）'!B155)","v":""},{"$f":"IF('保険料申告内訳名簿（一人親方団体控）'!C155=\"\",\"\",'保険料申告内訳名簿（一人親方団体控）'!C155)","v":""},{"$f":"IF('保険料申告内訳名簿（一人親方団体控）'!D155=\"\",\"\",'保険料申告内訳名簿（一人親方団体控）'!D155)","v":""},{"$f":"IF('保険料申告内訳名簿（一人親方団体控）'!E155=\"\",\"\",'保険料申告内訳名簿（一人親方団体控）'!E155)","v":""},{"$f":"IF('保険料申告内訳名簿（一人親方団体控）'!F155=\"\",\"\",'保険料申告内訳名簿（一人親方団体控）'!F155)","v":""},{"$f":"IF('保険料申告内訳名簿（一人親方団体控）'!G155=\"\",\"\",'保険料申告内訳名簿（一人親方団体控）'!G155)","v":""},{"$f":"IF('保険料申告内訳名簿（一人親方団体控）'!H155=\"\",\"\",'保険料申告内訳名簿（一人親方団体控）'!H155)","v":""},{"$f":"IF('保険料申告内訳名簿（一人親方団体控）'!I155=\"\",\"\",'保険料申告内訳名簿（一人親方団体控）'!I155)","v":""},{"$f":"IF('保険料申告内訳名簿（一人親方団体控）'!J155=\"\",\"\",'保険料申告内訳名簿（一人親方団体控）'!J155)","v":""},{"$f":"IF('保険料申告内訳名簿（一人親方団体控）'!K155=\"\",\"\",'保険料申告内訳名簿（一人親方団体控）'!K155)","v":""},{"$f":"IF('保険料申告内訳名簿（一人親方団体控）'!L155=\"\",\"\",'保険料申告内訳名簿（一人親方団体控）'!L155)","v":""},{"$f":"IF('保険料申告内訳名簿（一人親方団体控）'!M155=\"\",\"\",'保険料申告内訳名簿（一人親方団体控）'!M155)","v":""},{"$f":"IF('保険料申告内訳名簿（一人親方団体控）'!N155=\"\",\"\",'保険料申告内訳名簿（一人親方団体控）'!N155)","v":""},{"$f":"IF('保険料申告内訳名簿（一人親方団体控）'!O155=\"\",\"\",'保険料申告内訳名簿（一人親方団体控）'!O155)","v":""},{"$f":"IF('保険料申告内訳名簿（一人親方団体控）'!P155=\"\",\"\",'保険料申告内訳名簿（一人親方団体控）'!P155)","v":""},{"$f":"IF('保険料申告内訳名簿（一人親方団体控）'!Q155=\"\",\"\",'保険料申告内訳名簿（一人親方団体控）'!Q155)","v":""},{"$f":"IF('保険料申告内訳名簿（一人親方団体控）'!R155=\"\",\"\",'保険料申告内訳名簿（一人親方団体控）'!R155)","v":""},{"$f":"IF('保険料申告内訳名簿（一人親方団体控）'!S155=\"\",\"\",'保険料申告内訳名簿（一人親方団体控）'!S155)","v":0},{"$f":"IF('保険料申告内訳名簿（一人親方団体控）'!T155=\"\",\"\",'保険料申告内訳名簿（一人親方団体控）'!T155)","v":""},{"$f":"IF('保険料申告内訳名簿（一人親方団体控）'!U155=\"\",\"\",'保険料申告内訳名簿（一人親方団体控）'!U155)","v":""},{"$f":"IF('保険料申告内訳名簿（一人親方団体控）'!V155=\"\",\"\",'保険料申告内訳名簿（一人親方団体控）'!V155)","v":""},{"$f":"IF('保険料申告内訳名簿（一人親方団体控）'!W155=\"\",\"\",'保険料申告内訳名簿（一人親方団体控）'!W155)","v":""},{"$f":"IF('保険料申告内訳名簿（一人親方団体控）'!X155=\"\",\"\",'保険料申告内訳名簿（一人親方団体控）'!X155)","v":""},{"$f":"IF('保険料申告内訳名簿（一人親方団体控）'!Y155=\"\",\"\",'保険料申告内訳名簿（一人親方団体控）'!Y155)","v":""},{"$f":"IF('保険料申告内訳名簿（一人親方団体控）'!Z155=\"\",\"\",'保険料申告内訳名簿（一人親方団体控）'!Z155)","v":""},{"$f":"IF('保険料申告内訳名簿（一人親方団体控）'!AA155=\"\",\"\",'保険料申告内訳名簿（一人親方団体控）'!AA155)","v":""},{"$f":"IF('保険料申告内訳名簿（一人親方団体控）'!AB155=\"\",\"\",'保険料申告内訳名簿（一人親方団体控）'!AB155)","v":""},{"$f":"IF('保険料申告内訳名簿（一人親方団体控）'!AC155=\"\",\"\",'保険料申告内訳名簿（一人親方団体控）'!AC155)","v":0},{"$f":"IF('保険料申告内訳名簿（一人親方団体控）'!AD155=\"\",\"\",'保険料申告内訳名簿（一人親方団体控）'!AD155)","v":""},{"$f":"IF('保険料申告内訳名簿（一人親方団体控）'!AE155=\"\",\"\",'保険料申告内訳名簿（一人親方団体控）'!AE155)","v":""},{"$f":"IF('保険料申告内訳名簿（一人親方団体控）'!AF155=\"\",\"\",'保険料申告内訳名簿（一人親方団体控）'!AF155)","v":""},{"$f":"IF('保険料申告内訳名簿（一人親方団体控）'!AG155=\"\",\"\",'保険料申告内訳名簿（一人親方団体控）'!AG155)","v":""},{"$f":"IF('保険料申告内訳名簿（一人親方団体控）'!AH155=\"\",\"\",'保険料申告内訳名簿（一人親方団体控）'!AH155)","v":""}]
[null,{"$f":"IF('保険料申告内訳名簿（一人親方団体控）'!B156=\"\",\"\",'保険料申告内訳名簿（一人親方団体控）'!B156)","v":""},{"$f":"IF('保険料申告内訳名簿（一人親方団体控）'!C156=\"\",\"\",'保険料申告内訳名簿（一人親方団体控）'!C156)","v":""},{"$f":"IF('保険料申告内訳名簿（一人親方団体控）'!D156=\"\",\"\",'保険料申告内訳名簿（一人親方団体控）'!D156)","v":""},{"$f":"IF('保険料申告内訳名簿（一人親方団体控）'!E156=\"\",\"\",'保険料申告内訳名簿（一人親方団体控）'!E156)","v":""},{"$f":"IF('保険料申告内訳名簿（一人親方団体控）'!F156=\"\",\"\",'保険料申告内訳名簿（一人親方団体控）'!F156)","v":""},{"$f":"IF('保険料申告内訳名簿（一人親方団体控）'!G156=\"\",\"\",'保険料申告内訳名簿（一人親方団体控）'!G156)","v":""},{"$f":"IF('保険料申告内訳名簿（一人親方団体控）'!H156=\"\",\"\",'保険料申告内訳名簿（一人親方団体控）'!H156)","v":""},{"$f":"IF('保険料申告内訳名簿（一人親方団体控）'!I156=\"\",\"\",'保険料申告内訳名簿（一人親方団体控）'!I156)","v":""},{"$f":"IF('保険料申告内訳名簿（一人親方団体控）'!J156=\"\",\"\",'保険料申告内訳名簿（一人親方団体控）'!J156)","v":""},{"$f":"IF('保険料申告内訳名簿（一人親方団体控）'!K156=\"\",\"\",'保険料申告内訳名簿（一人親方団体控）'!K156)","v":""},{"$f":"IF('保険料申告内訳名簿（一人親方団体控）'!L156=\"\",\"\",'保険料申告内訳名簿（一人親方団体控）'!L156)","v":""},{"$f":"IF('保険料申告内訳名簿（一人親方団体控）'!M156=\"\",\"\",'保険料申告内訳名簿（一人親方団体控）'!M156)","v":""},{"$f":"IF('保険料申告内訳名簿（一人親方団体控）'!N156=\"\",\"\",'保険料申告内訳名簿（一人親方団体控）'!N156)","v":""},{"$f":"IF('保険料申告内訳名簿（一人親方団体控）'!O156=\"\",\"\",'保険料申告内訳名簿（一人親方団体控）'!O156)","v":""},{"$f":"IF('保険料申告内訳名簿（一人親方団体控）'!P156=\"\",\"\",'保険料申告内訳名簿（一人親方団体控）'!P156)","v":""},{"$f":"IF('保険料申告内訳名簿（一人親方団体控）'!Q156=\"\",\"\",'保険料申告内訳名簿（一人親方団体控）'!Q156)","v":""},{"$f":"IF('保険料申告内訳名簿（一人親方団体控）'!R156=\"\",\"\",'保険料申告内訳名簿（一人親方団体控）'!R156)","v":""},{"$f":"IF('保険料申告内訳名簿（一人親方団体控）'!S156=\"\",\"\",'保険料申告内訳名簿（一人親方団体控）'!S156)","v":0},{"$f":"IF('保険料申告内訳名簿（一人親方団体控）'!T156=\"\",\"\",'保険料申告内訳名簿（一人親方団体控）'!T156)","v":""},{"$f":"IF('保険料申告内訳名簿（一人親方団体控）'!U156=\"\",\"\",'保険料申告内訳名簿（一人親方団体控）'!U156)","v":""},{"$f":"IF('保険料申告内訳名簿（一人親方団体控）'!V156=\"\",\"\",'保険料申告内訳名簿（一人親方団体控）'!V156)","v":""},{"$f":"IF('保険料申告内訳名簿（一人親方団体控）'!W156=\"\",\"\",'保険料申告内訳名簿（一人親方団体控）'!W156)","v":""},{"$f":"IF('保険料申告内訳名簿（一人親方団体控）'!X156=\"\",\"\",'保険料申告内訳名簿（一人親方団体控）'!X156)","v":""},{"$f":"IF('保険料申告内訳名簿（一人親方団体控）'!Y156=\"\",\"\",'保険料申告内訳名簿（一人親方団体控）'!Y156)","v":""},{"$f":"IF('保険料申告内訳名簿（一人親方団体控）'!Z156=\"\",\"\",'保険料申告内訳名簿（一人親方団体控）'!Z156)","v":""},{"$f":"IF('保険料申告内訳名簿（一人親方団体控）'!AA156=\"\",\"\",'保険料申告内訳名簿（一人親方団体控）'!AA156)","v":""},{"$f":"IF('保険料申告内訳名簿（一人親方団体控）'!AB156=\"\",\"\",'保険料申告内訳名簿（一人親方団体控）'!AB156)","v":""},{"$f":"IF('保険料申告内訳名簿（一人親方団体控）'!AC156=\"\",\"\",'保険料申告内訳名簿（一人親方団体控）'!AC156)","v":0},{"$f":"IF('保険料申告内訳名簿（一人親方団体控）'!AD156=\"\",\"\",'保険料申告内訳名簿（一人親方団体控）'!AD156)","v":""},{"$f":"IF('保険料申告内訳名簿（一人親方団体控）'!AE156=\"\",\"\",'保険料申告内訳名簿（一人親方団体控）'!AE156)","v":""},{"$f":"IF('保険料申告内訳名簿（一人親方団体控）'!AF156=\"\",\"\",'保険料申告内訳名簿（一人親方団体控）'!AF156)","v":""},{"$f":"IF('保険料申告内訳名簿（一人親方団体控）'!AG156=\"\",\"\",'保険料申告内訳名簿（一人親方団体控）'!AG156)","v":""},{"$f":"IF('保険料申告内訳名簿（一人親方団体控）'!AH156=\"\",\"\",'保険料申告内訳名簿（一人親方団体控）'!AH156)","v":""}]
[null,{"$f":"IF('保険料申告内訳名簿（一人親方団体控）'!B157=\"\",\"\",'保険料申告内訳名簿（一人親方団体控）'!B157)","v":""},{"$f":"IF('保険料申告内訳名簿（一人親方団体控）'!C157=\"\",\"\",'保険料申告内訳名簿（一人親方団体控）'!C157)","v":""},{"$f":"IF('保険料申告内訳名簿（一人親方団体控）'!D157=\"\",\"\",'保険料申告内訳名簿（一人親方団体控）'!D157)","v":""},{"$f":"IF('保険料申告内訳名簿（一人親方団体控）'!E157=\"\",\"\",'保険料申告内訳名簿（一人親方団体控）'!E157)","v":""},{"$f":"IF('保険料申告内訳名簿（一人親方団体控）'!F157=\"\",\"\",'保険料申告内訳名簿（一人親方団体控）'!F157)","v":""},{"$f":"IF('保険料申告内訳名簿（一人親方団体控）'!G157=\"\",\"\",'保険料申告内訳名簿（一人親方団体控）'!G157)","v":""},{"$f":"IF('保険料申告内訳名簿（一人親方団体控）'!H157=\"\",\"\",'保険料申告内訳名簿（一人親方団体控）'!H157)","v":""},{"$f":"IF('保険料申告内訳名簿（一人親方団体控）'!I157=\"\",\"\",'保険料申告内訳名簿（一人親方団体控）'!I157)","v":""},{"$f":"IF('保険料申告内訳名簿（一人親方団体控）'!J157=\"\",\"\",'保険料申告内訳名簿（一人親方団体控）'!J157)","v":""},{"$f":"IF('保険料申告内訳名簿（一人親方団体控）'!K157=\"\",\"\",'保険料申告内訳名簿（一人親方団体控）'!K157)","v":""},{"$f":"IF('保険料申告内訳名簿（一人親方団体控）'!L157=\"\",\"\",'保険料申告内訳名簿（一人親方団体控）'!L157)","v":""},{"$f":"IF('保険料申告内訳名簿（一人親方団体控）'!M157=\"\",\"\",'保険料申告内訳名簿（一人親方団体控）'!M157)","v":""},{"$f":"IF('保険料申告内訳名簿（一人親方団体控）'!N157=\"\",\"\",'保険料申告内訳名簿（一人親方団体控）'!N157)","v":""},{"$f":"IF('保険料申告内訳名簿（一人親方団体控）'!O157=\"\",\"\",'保険料申告内訳名簿（一人親方団体控）'!O157)","v":""},{"$f":"IF('保険料申告内訳名簿（一人親方団体控）'!P157=\"\",\"\",'保険料申告内訳名簿（一人親方団体控）'!P157)","v":""},{"$f":"IF('保険料申告内訳名簿（一人親方団体控）'!Q157=\"\",\"\",'保険料申告内訳名簿（一人親方団体控）'!Q157)","v":""},{"$f":"IF('保険料申告内訳名簿（一人親方団体控）'!R157=\"\",\"\",'保険料申告内訳名簿（一人親方団体控）'!R157)","v":""},{"$f":"IF('保険料申告内訳名簿（一人親方団体控）'!S157=\"\",\"\",'保険料申告内訳名簿（一人親方団体控）'!S157)","v":0},{"$f":"IF('保険料申告内訳名簿（一人親方団体控）'!T157=\"\",\"\",'保険料申告内訳名簿（一人親方団体控）'!T157)","v":""},{"$f":"IF('保険料申告内訳名簿（一人親方団体控）'!U157=\"\",\"\",'保険料申告内訳名簿（一人親方団体控）'!U157)","v":""},{"$f":"IF('保険料申告内訳名簿（一人親方団体控）'!V157=\"\",\"\",'保険料申告内訳名簿（一人親方団体控）'!V157)","v":""},{"$f":"IF('保険料申告内訳名簿（一人親方団体控）'!W157=\"\",\"\",'保険料申告内訳名簿（一人親方団体控）'!W157)","v":""},{"$f":"IF('保険料申告内訳名簿（一人親方団体控）'!X157=\"\",\"\",'保険料申告内訳名簿（一人親方団体控）'!X157)","v":""},{"$f":"IF('保険料申告内訳名簿（一人親方団体控）'!Y157=\"\",\"\",'保険料申告内訳名簿（一人親方団体控）'!Y157)","v":""},{"$f":"IF('保険料申告内訳名簿（一人親方団体控）'!Z157=\"\",\"\",'保険料申告内訳名簿（一人親方団体控）'!Z157)","v":""},{"$f":"IF('保険料申告内訳名簿（一人親方団体控）'!AA157=\"\",\"\",'保険料申告内訳名簿（一人親方団体控）'!AA157)","v":""},{"$f":"IF('保険料申告内訳名簿（一人親方団体控）'!AB157=\"\",\"\",'保険料申告内訳名簿（一人親方団体控）'!AB157)","v":""},{"$f":"IF('保険料申告内訳名簿（一人親方団体控）'!AC157=\"\",\"\",'保険料申告内訳名簿（一人親方団体控）'!AC157)","v":0},{"$f":"IF('保険料申告内訳名簿（一人親方団体控）'!AD157=\"\",\"\",'保険料申告内訳名簿（一人親方団体控）'!AD157)","v":""},{"$f":"IF('保険料申告内訳名簿（一人親方団体控）'!AE157=\"\",\"\",'保険料申告内訳名簿（一人親方団体控）'!AE157)","v":""},{"$f":"IF('保険料申告内訳名簿（一人親方団体控）'!AF157=\"\",\"\",'保険料申告内訳名簿（一人親方団体控）'!AF157)","v":""},{"$f":"IF('保険料申告内訳名簿（一人親方団体控）'!AG157=\"\",\"\",'保険料申告内訳名簿（一人親方団体控）'!AG157)","v":""},{"$f":"IF('保険料申告内訳名簿（一人親方団体控）'!AH157=\"\",\"\",'保険料申告内訳名簿（一人親方団体控）'!AH157)","v":""}]
[null,null,null,null,null,null,null,null,null,null,null,null,null,null,null,null,null,null,{"$f":"IF('保険料申告内訳名簿（一人親方団体控）'!S158=\"\",\"\",'保険料申告内訳名簿（一人親方団体控）'!S158)","v":0},{"$f":"IF('保険料申告内訳名簿（一人親方団体控）'!T158=\"\",\"\",'保険料申告内訳名簿（一人親方団体控）'!T158)","v":""},{"$f":"IF('保険料申告内訳名簿（一人親方団体控）'!U158=\"\",\"\",'保険料申告内訳名簿（一人親方団体控）'!U158)","v":""},{"$f":"IF('保険料申告内訳名簿（一人親方団体控）'!V158=\"\",\"\",'保険料申告内訳名簿（一人親方団体控）'!V158)","v":""},{"$f":"IF('保険料申告内訳名簿（一人親方団体控）'!W158=\"\",\"\",'保険料申告内訳名簿（一人親方団体控）'!W158)","v":""},{"$f":"IF('保険料申告内訳名簿（一人親方団体控）'!X158=\"\",\"\",'保険料申告内訳名簿（一人親方団体控）'!X158)","v":""},null,null,null,null,{"$f":"IF('保険料申告内訳名簿（一人親方団体控）'!AC158=\"\",\"\",'保険料申告内訳名簿（一人親方団体控）'!AC158)","v":0},{"$f":"IF('保険料申告内訳名簿（一人親方団体控）'!AD158=\"\",\"\",'保険料申告内訳名簿（一人親方団体控）'!AD158)","v":""},{"$f":"IF('保険料申告内訳名簿（一人親方団体控）'!AE158=\"\",\"\",'保険料申告内訳名簿（一人親方団体控）'!AE158)","v":""},{"$f":"IF('保険料申告内訳名簿（一人親方団体控）'!AF158=\"\",\"\",'保険料申告内訳名簿（一人親方団体控）'!AF158)","v":""},{"$f":"IF('保険料申告内訳名簿（一人親方団体控）'!AG158=\"\",\"\",'保険料申告内訳名簿（一人親方団体控）'!AG158)","v":""},{"$f":"IF('保険料申告内訳名簿（一人親方団体控）'!AH158=\"\",\"\",'保険料申告内訳名簿（一人親方団体控）'!AH158)","v":""}]
[]
[null,"（注）"]
[null,null,"１）　④欄は月割の対象となる方のみ記入して下さい。"]
[null,null,"２）　月割の対象となる場合の⑤保険料算定基礎額の算定方法"]
[null,null,"２）　月割の対象となる場合の③（給付基礎日額×365÷12）（円未満を切り上げてから）×加入月数"]
[]
[]
[null,"【島根局版】",null,null,null,null,null,null,null,null,null,null,null,null,null,null,null,null,null,null,null,null,null,null,null,null,"局用"]
[null,"第２種特別加入保険料申告内訳名簿"]
[null,"（一人親方等）"]
[null,null,null,null,null,null,null,null,null,null,null,null,null,null,null,null,null,null,null,null,null,null,null,null,"（",{"$f":"IF('保険料申告内訳名簿（一人親方団体控）'!Z169=\"\",\"\",'保険料申告内訳名簿（一人親方団体控）'!Z169)","v":0},{"$f":"IF('保険料申告内訳名簿（一人親方団体控）'!AA169=\"\",\"\",'保険料申告内訳名簿（一人親方団体控）'!AA169)","v":""},"枚のうち",null,{"$f":"IF('保険料申告内訳名簿（一人親方団体控）'!AD169=\"\",\"\",'保険料申告内訳名簿（一人親方団体控）'!AD169)","v":6},{"$f":"IF('保険料申告内訳名簿（一人親方団体控）'!AE169=\"\",\"\",'保険料申告内訳名簿（一人親方団体控）'!AE169)","v":""},"枚目",null,"）"]
[]
[null,"労働保険\n番　　　号",null,null,null,null,"府県",null,"所掌","管轄",null,"基幹番号",null,null,null,null,null,"枝番号",null,null,"事業場の\n所在地",null,null,{"$f":"IF('保険料申告内訳名簿（一人親方団体控）'!X171=\"\",\"\",'保険料申告内訳名簿（一人親方団体控）'!X171)","v":""},{"$f":"IF('保険料申告内訳名簿（一人親方団体控）'!Y171=\"\",\"\",'保険料申告内訳名簿（一人親方団体控）'!Y171)","v":""},{"$f":"IF('保険料申告内訳名簿（一人親方団体控）'!Z171=\"\",\"\",'保険料申告内訳名簿（一人親方団体控）'!Z171)","v":""},{"$f":"IF('保険料申告内訳名簿（一人親方団体控）'!AA171=\"\",\"\",'保険料申告内訳名簿（一人親方団体控）'!AA171)","v":""},{"$f":"IF('保険料申告内訳名簿（一人親方団体控）'!AB171=\"\",\"\",'保険料申告内訳名簿（一人親方団体控）'!AB171)","v":""},{"$f":"IF('保険料申告内訳名簿（一人親方団体控）'!AC171=\"\",\"\",'保険料申告内訳名簿（一人親方団体控）'!AC171)","v":""},{"$f":"IF('保険料申告内訳名簿（一人親方団体控）'!AD171=\"\",\"\",'保険料申告内訳名簿（一人親方団体控）'!AD171)","v":""},{"$f":"IF('保険料申告内訳名簿（一人親方団体控）'!AE171=\"\",\"\",'保険料申告内訳名簿（一人親方団体控）'!AE171)","v":""},{"$f":"IF('保険料申告内訳名簿（一人親方団体控）'!AF171=\"\",\"\",'保険料申告内訳名簿（一人親方団体控）'!AF171)","v":""},{"$f":"IF('保険料申告内訳名簿（一人親方団体控）'!AG171=\"\",\"\",'保険料申告内訳名簿（一人親方団体控）'!AG171)","v":""},{"$f":"IF('保険料申告内訳名簿（一人親方団体控）'!AH171=\"\",\"\",'保険料申告内訳名簿（一人親方団体控）'!AH171)","v":""}]
[null,null,null,null,null,null,"3","2",{"$f":"IF('保険料申告内訳名簿（一人親方団体控）'!I172=\"\",\"\",'保険料申告内訳名簿（一人親方団体控）'!I172)","v":""},{"$f":"IF('保険料申告内訳名簿（一人親方団体控）'!J172=\"\",\"\",'保険料申告内訳名簿（一人親方団体控）'!J172)","v":""},{"$f":"IF('保険料申告内訳名簿（一人親方団体控）'!K172=\"\",\"\",'保険料申告内訳名簿（一人親方団体控）'!K172)","v":""},{"$f":"IF('保険料申告内訳名簿（一人親方団体控）'!L172=\"\",\"\",'保険料申告内訳名簿（一人親方団体控）'!L172)","v":""},{"$f":"IF('保険料申告内訳名簿（一人親方団体控）'!M172=\"\",\"\",'保険料申告内訳名簿（一人親方団体控）'!M172)","v":""},{"$f":"IF('保険料申告内訳名簿（一人親方団体控）'!N172=\"\",\"\",'保険料申告内訳名簿（一人親方団体控）'!N172)","v":""},{"$f":"IF('保険料申告内訳名簿（一人親方団体控）'!O172=\"\",\"\",'保険料申告内訳名簿（一人親方団体控）'!O172)","v":""},{"$f":"IF('保険料申告内訳名簿（一人親方団体控）'!P172=\"\",\"\",'保険料申告内訳名簿（一人親方団体控）'!P172)","v":""},{"$f":"IF('保険料申告内訳名簿（一人親方団体控）'!Q172=\"\",\"\",'保険料申告内訳名簿（一人親方団体控）'!Q172)","v":""},{"$f":"IF('保険料申告内訳名簿（一人親方団体控）'!R172=\"\",\"\",'保険料申告内訳名簿（一人親方団体控）'!R172)","v":""},{"$f":"IF('保険料申告内訳名簿（一人親方団体控）'!S172=\"\",\"\",'保険料申告内訳名簿（一人親方団体控）'!S172)","v":""},{"$f":"IF('保険料申告内訳名簿（一人親方団体控）'!T172=\"\",\"\",'保険料申告内訳名簿（一人親方団体控）'!T172)","v":""},"事業場の\n名称",null,null,{"$f":"IF('保険料申告内訳名簿（一人親方団体控）'!X172=\"\",\"\",'保険料申告内訳名簿（一人親方団体控）'!X172)","v":""},{"$f":"IF('保険料申告内訳名簿（一人親方団体控）'!Y172=\"\",\"\",'保険料申告内訳名簿（一人親方団体控）'!Y172)","v":""},{"$f":"IF('保険料申告内訳名簿（一人親方団体控）'!Z172=\"\",\"\",'保険料申告内訳名簿（一人親方団体控）'!Z172)","v":""},{"$f":"IF('保険料申告内訳名簿（一人親方団体控）'!AA172=\"\",\"\",'保険料申告内訳名簿（一人親方団体控）'!AA172)","v":""},{"$f":"IF('保険料申告内訳名簿（一人親方団体控）'!AB172=\"\",\"\",'保険料申告内訳名簿（一人親方団体控）'!AB172)","v":""},{"$f":"IF('保険料申告内訳名簿（一人親方団体控）'!AC172=\"\",\"\",'保険料申告内訳名簿（一人親方団体控）'!AC172)","v":""},{"$f":"IF('保険料申告内訳名簿（一人親方団体控）'!AD172=\"\",\"\",'保険料申告内訳名簿（一人親方団体控）'!AD172)","v":""},{"$f":"IF('保険料申告内訳名簿（一人親方団体控）'!AE172=\"\",\"\",'保険料申告内訳名簿（一人親方団体控）'!AE172)","v":""},{"$f":"IF('保険料申告内訳名簿（一人親方団体控）'!AF172=\"\",\"\",'保険料申告内訳名簿（一人親方団体控）'!AF172)","v":""},{"$f":"IF('保険料申告内訳名簿（一人親方団体控）'!AG172=\"\",\"\",'保険料申告内訳名簿（一人親方団体控）'!AG172)","v":""},{"$f":"IF('保険料申告内訳名簿（一人親方団体控）'!AH172=\"\",\"\",'保険料申告内訳名簿（一人親方団体控）'!AH172)","v":""}]
[null,"①\n整理\n番号",null,"②\n氏名",null,null,null,null,null,null,null,null,null,null,"令 和",null,null,{"$f":"IF('保険料申告内訳名簿（一人親方団体控）'!R173=\"\",\"\",'保険料申告内訳名簿（一人親方団体控）'!R173)","v":""},{"$f":"IF('保険料申告内訳名簿（一人親方団体控）'!S173=\"\",\"\",'保険料申告内訳名簿（一人親方団体控）'!S173)","v":""},{"$f":"IF('保険料申告内訳名簿（一人親方団体控）'!T173=\"\",\"\",'保険料申告内訳名簿（一人親方団体控）'!T173)","v":""},null,null,null,"年 度 確 定 ","令 和",null,null,{"$f":"IF('保険料申告内訳名簿（一人親方団体控）'!AB173=\"\",\"\",'保険料申告内訳名簿（一人親方団体控）'!AB173)","v":""},{"$f":"IF('保険料申告内訳名簿（一人親方団体控）'!AC173=\"\",\"\",'保険料申告内訳名簿（一人親方団体控）'!AC173)","v":""},{"$f":"IF('保険料申告内訳名簿（一人親方団体控）'!AD173=\"\",\"\",'保険料申告内訳名簿（一人親方団体控）'!AD173)","v":""},null,null,null,"年 度 概 算 "]
[null,null,null,null,null,null,null,"③　\n給付基礎日額",null,null,null,"④年度中途加入・脱退",null,null,null,null,null,null,"⑤\n保険料算定基礎額",null,null,null,null,null,"⑥\n給付基礎日額",null,null,null,"⑦\n保険料算定基礎額"]
[null,null,null,null,null,null,null,null,null,null,null,"加入・脱退年月日",null,null,null,null,"加入月数"]
[null,{"$f":"IF('保険料申告内訳名簿（一人親方団体控）'!B176=\"\",\"\",'保険料申告内訳名簿（一人親方団体控）'!B176)","v":""},{"$f":"IF('保険料申告内訳名簿（一人親方団体控）'!C176=\"\",\"\",'保険料申告内訳名簿（一人親方団体控）'!C176)","v":""},{"$f":"IF('保険料申告内訳名簿（一人親方団体控）'!D176=\"\",\"\",'保険料申告内訳名簿（一人親方団体控）'!D176)","v":""},{"$f":"IF('保険料申告内訳名簿（一人親方団体控）'!E176=\"\",\"\",'保険料申告内訳名簿（一人親方団体控）'!E176)","v":""},{"$f":"IF('保険料申告内訳名簿（一人親方団体控）'!F176=\"\",\"\",'保険料申告内訳名簿（一人親方団体控）'!F176)","v":""},{"$f":"IF('保険料申告内訳名簿（一人親方団体控）'!G176=\"\",\"\",'保険料申告内訳名簿（一人親方団体控）'!G176)","v":""},{"$f":"IF('保険料申告内訳名簿（一人親方団体控）'!H176=\"\",\"\",'保険料申告内訳名簿（一人親方団体控）'!H176)","v":""},{"$f":"IF('保険料申告内訳名簿（一人親方団体控）'!I176=\"\",\"\",'保険料申告内訳名簿（一人親方団体控）'!I176)","v":""},{"$f":"IF('保険料申告内訳名簿（一人親方団体控）'!J176=\"\",\"\",'保険料申告内訳名簿（一人親方団体控）'!J176)","v":""},{"$f":"IF('保険料申告内訳名簿（一人親方団体控）'!K176=\"\",\"\",'保険料申告内訳名簿（一人親方団体控）'!K176)","v":""},{"$f":"IF('保険料申告内訳名簿（一人親方団体控）'!L176=\"\",\"\",'保険料申告内訳名簿（一人親方団体控）'!L176)","v":""},{"$f":"IF('保険料申告内訳名簿（一人親方団体控）'!M176=\"\",\"\",'保険料申告内訳名簿（一人親方団体控）'!M176)","v":""},{"$f":"IF('保険料申告内訳名簿（一人親方団体控）'!N176=\"\",\"\",'保険料申告内訳名簿（一人親方団体控）'!N176)","v":""},{"$f":"IF('保険料申告内訳名簿（一人親方団体控）'!O176=\"\",\"\",'保険料申告内訳名簿（一人親方団体控）'!O176)","v":""},{"$f":"IF('保険料申告内訳名簿（一人親方団体控）'!P176=\"\",\"\",'保険料申告内訳名簿（一人親方団体控）'!P176)","v":""},{"$f":"IF('保険料申告内訳名簿（一人親方団体控）'!Q176=\"\",\"\",'保険料申告内訳名簿（一人親方団体控）'!Q176)","v":""},{"$f":"IF('保険料申告内訳名簿（一人親方団体控）'!R176=\"\",\"\",'保険料申告内訳名簿（一人親方団体控）'!R176)","v":""},{"$f":"IF('保険料申告内訳名簿（一人親方団体控）'!S176=\"\",\"\",'保険料申告内訳名簿（一人親方団体控）'!S176)","v":0},{"$f":"IF('保険料申告内訳名簿（一人親方団体控）'!T176=\"\",\"\",'保険料申告内訳名簿（一人親方団体控）'!T176)","v":""},{"$f":"IF('保険料申告内訳名簿（一人親方団体控）'!U176=\"\",\"\",'保険料申告内訳名簿（一人親方団体控）'!U176)","v":""},{"$f":"IF('保険料申告内訳名簿（一人親方団体控）'!V176=\"\",\"\",'保険料申告内訳名簿（一人親方団体控）'!V176)","v":""},{"$f":"IF('保険料申告内訳名簿（一人親方団体控）'!W176=\"\",\"\",'保険料申告内訳名簿（一人親方団体控）'!W176)","v":""},{"$f":"IF('保険料申告内訳名簿（一人親方団体控）'!X176=\"\",\"\",'保険料申告内訳名簿（一人親方団体控）'!X176)","v":""},{"$f":"IF('保険料申告内訳名簿（一人親方団体控）'!Y176=\"\",\"\",'保険料申告内訳名簿（一人親方団体控）'!Y176)","v":""},{"$f":"IF('保険料申告内訳名簿（一人親方団体控）'!Z176=\"\",\"\",'保険料申告内訳名簿（一人親方団体控）'!Z176)","v":""},{"$f":"IF('保険料申告内訳名簿（一人親方団体控）'!AA176=\"\",\"\",'保険料申告内訳名簿（一人親方団体控）'!AA176)","v":""},{"$f":"IF('保険料申告内訳名簿（一人親方団体控）'!AB176=\"\",\"\",'保険料申告内訳名簿（一人親方団体控）'!AB176)","v":""},{"$f":"IF('保険料申告内訳名簿（一人親方団体控）'!AC176=\"\",\"\",'保険料申告内訳名簿（一人親方団体控）'!AC176)","v":0},{"$f":"IF('保険料申告内訳名簿（一人親方団体控）'!AD176=\"\",\"\",'保険料申告内訳名簿（一人親方団体控）'!AD176)","v":""},{"$f":"IF('保険料申告内訳名簿（一人親方団体控）'!AE176=\"\",\"\",'保険料申告内訳名簿（一人親方団体控）'!AE176)","v":""},{"$f":"IF('保険料申告内訳名簿（一人親方団体控）'!AF176=\"\",\"\",'保険料申告内訳名簿（一人親方団体控）'!AF176)","v":""},{"$f":"IF('保険料申告内訳名簿（一人親方団体控）'!AG176=\"\",\"\",'保険料申告内訳名簿（一人親方団体控）'!AG176)","v":""},{"$f":"IF('保険料申告内訳名簿（一人親方団体控）'!AH176=\"\",\"\",'保険料申告内訳名簿（一人親方団体控）'!AH176)","v":""}]
[null,{"$f":"IF('保険料申告内訳名簿（一人親方団体控）'!B177=\"\",\"\",'保険料申告内訳名簿（一人親方団体控）'!B177)","v":""},{"$f":"IF('保険料申告内訳名簿（一人親方団体控）'!C177=\"\",\"\",'保険料申告内訳名簿（一人親方団体控）'!C177)","v":""},{"$f":"IF('保険料申告内訳名簿（一人親方団体控）'!D177=\"\",\"\",'保険料申告内訳名簿（一人親方団体控）'!D177)","v":""},{"$f":"IF('保険料申告内訳名簿（一人親方団体控）'!E177=\"\",\"\",'保険料申告内訳名簿（一人親方団体控）'!E177)","v":""},{"$f":"IF('保険料申告内訳名簿（一人親方団体控）'!F177=\"\",\"\",'保険料申告内訳名簿（一人親方団体控）'!F177)","v":""},{"$f":"IF('保険料申告内訳名簿（一人親方団体控）'!G177=\"\",\"\",'保険料申告内訳名簿（一人親方団体控）'!G177)","v":""},{"$f":"IF('保険料申告内訳名簿（一人親方団体控）'!H177=\"\",\"\",'保険料申告内訳名簿（一人親方団体控）'!H177)","v":""},{"$f":"IF('保険料申告内訳名簿（一人親方団体控）'!I177=\"\",\"\",'保険料申告内訳名簿（一人親方団体控）'!I177)","v":""},{"$f":"IF('保険料申告内訳名簿（一人親方団体控）'!J177=\"\",\"\",'保険料申告内訳名簿（一人親方団体控）'!J177)","v":""},{"$f":"IF('保険料申告内訳名簿（一人親方団体控）'!K177=\"\",\"\",'保険料申告内訳名簿（一人親方団体控）'!K177)","v":""},{"$f":"IF('保険料申告内訳名簿（一人親方団体控）'!L177=\"\",\"\",'保険料申告内訳名簿（一人親方団体控）'!L177)","v":""},{"$f":"IF('保険料申告内訳名簿（一人親方団体控）'!M177=\"\",\"\",'保険料申告内訳名簿（一人親方団体控）'!M177)","v":""},{"$f":"IF('保険料申告内訳名簿（一人親方団体控）'!N177=\"\",\"\",'保険料申告内訳名簿（一人親方団体控）'!N177)","v":""},{"$f":"IF('保険料申告内訳名簿（一人親方団体控）'!O177=\"\",\"\",'保険料申告内訳名簿（一人親方団体控）'!O177)","v":""},{"$f":"IF('保険料申告内訳名簿（一人親方団体控）'!P177=\"\",\"\",'保険料申告内訳名簿（一人親方団体控）'!P177)","v":""},{"$f":"IF('保険料申告内訳名簿（一人親方団体控）'!Q177=\"\",\"\",'保険料申告内訳名簿（一人親方団体控）'!Q177)","v":""},{"$f":"IF('保険料申告内訳名簿（一人親方団体控）'!R177=\"\",\"\",'保険料申告内訳名簿（一人親方団体控）'!R177)","v":""},{"$f":"IF('保険料申告内訳名簿（一人親方団体控）'!S177=\"\",\"\",'保険料申告内訳名簿（一人親方団体控）'!S177)","v":0},{"$f":"IF('保険料申告内訳名簿（一人親方団体控）'!T177=\"\",\"\",'保険料申告内訳名簿（一人親方団体控）'!T177)","v":""},{"$f":"IF('保険料申告内訳名簿（一人親方団体控）'!U177=\"\",\"\",'保険料申告内訳名簿（一人親方団体控）'!U177)","v":""},{"$f":"IF('保険料申告内訳名簿（一人親方団体控）'!V177=\"\",\"\",'保険料申告内訳名簿（一人親方団体控）'!V177)","v":""},{"$f":"IF('保険料申告内訳名簿（一人親方団体控）'!W177=\"\",\"\",'保険料申告内訳名簿（一人親方団体控）'!W177)","v":""},{"$f":"IF('保険料申告内訳名簿（一人親方団体控）'!X177=\"\",\"\",'保険料申告内訳名簿（一人親方団体控）'!X177)","v":""},{"$f":"IF('保険料申告内訳名簿（一人親方団体控）'!Y177=\"\",\"\",'保険料申告内訳名簿（一人親方団体控）'!Y177)","v":""},{"$f":"IF('保険料申告内訳名簿（一人親方団体控）'!Z177=\"\",\"\",'保険料申告内訳名簿（一人親方団体控）'!Z177)","v":""},{"$f":"IF('保険料申告内訳名簿（一人親方団体控）'!AA177=\"\",\"\",'保険料申告内訳名簿（一人親方団体控）'!AA177)","v":""},{"$f":"IF('保険料申告内訳名簿（一人親方団体控）'!AB177=\"\",\"\",'保険料申告内訳名簿（一人親方団体控）'!AB177)","v":""},{"$f":"IF('保険料申告内訳名簿（一人親方団体控）'!AC177=\"\",\"\",'保険料申告内訳名簿（一人親方団体控）'!AC177)","v":0},{"$f":"IF('保険料申告内訳名簿（一人親方団体控）'!AD177=\"\",\"\",'保険料申告内訳名簿（一人親方団体控）'!AD177)","v":""},{"$f":"IF('保険料申告内訳名簿（一人親方団体控）'!AE177=\"\",\"\",'保険料申告内訳名簿（一人親方団体控）'!AE177)","v":""},{"$f":"IF('保険料申告内訳名簿（一人親方団体控）'!AF177=\"\",\"\",'保険料申告内訳名簿（一人親方団体控）'!AF177)","v":""},{"$f":"IF('保険料申告内訳名簿（一人親方団体控）'!AG177=\"\",\"\",'保険料申告内訳名簿（一人親方団体控）'!AG177)","v":""},{"$f":"IF('保険料申告内訳名簿（一人親方団体控）'!AH177=\"\",\"\",'保険料申告内訳名簿（一人親方団体控）'!AH177)","v":""}]
[null,{"$f":"IF('保険料申告内訳名簿（一人親方団体控）'!B178=\"\",\"\",'保険料申告内訳名簿（一人親方団体控）'!B178)","v":""},{"$f":"IF('保険料申告内訳名簿（一人親方団体控）'!C178=\"\",\"\",'保険料申告内訳名簿（一人親方団体控）'!C178)","v":""},{"$f":"IF('保険料申告内訳名簿（一人親方団体控）'!D178=\"\",\"\",'保険料申告内訳名簿（一人親方団体控）'!D178)","v":""},{"$f":"IF('保険料申告内訳名簿（一人親方団体控）'!E178=\"\",\"\",'保険料申告内訳名簿（一人親方団体控）'!E178)","v":""},{"$f":"IF('保険料申告内訳名簿（一人親方団体控）'!F178=\"\",\"\",'保険料申告内訳名簿（一人親方団体控）'!F178)","v":""},{"$f":"IF('保険料申告内訳名簿（一人親方団体控）'!G178=\"\",\"\",'保険料申告内訳名簿（一人親方団体控）'!G178)","v":""},{"$f":"IF('保険料申告内訳名簿（一人親方団体控）'!H178=\"\",\"\",'保険料申告内訳名簿（一人親方団体控）'!H178)","v":""},{"$f":"IF('保険料申告内訳名簿（一人親方団体控）'!I178=\"\",\"\",'保険料申告内訳名簿（一人親方団体控）'!I178)","v":""},{"$f":"IF('保険料申告内訳名簿（一人親方団体控）'!J178=\"\",\"\",'保険料申告内訳名簿（一人親方団体控）'!J178)","v":""},{"$f":"IF('保険料申告内訳名簿（一人親方団体控）'!K178=\"\",\"\",'保険料申告内訳名簿（一人親方団体控）'!K178)","v":""},{"$f":"IF('保険料申告内訳名簿（一人親方団体控）'!L178=\"\",\"\",'保険料申告内訳名簿（一人親方団体控）'!L178)","v":""},{"$f":"IF('保険料申告内訳名簿（一人親方団体控）'!M178=\"\",\"\",'保険料申告内訳名簿（一人親方団体控）'!M178)","v":""},{"$f":"IF('保険料申告内訳名簿（一人親方団体控）'!N178=\"\",\"\",'保険料申告内訳名簿（一人親方団体控）'!N178)","v":""},{"$f":"IF('保険料申告内訳名簿（一人親方団体控）'!O178=\"\",\"\",'保険料申告内訳名簿（一人親方団体控）'!O178)","v":""},{"$f":"IF('保険料申告内訳名簿（一人親方団体控）'!P178=\"\",\"\",'保険料申告内訳名簿（一人親方団体控）'!P178)","v":""},{"$f":"IF('保険料申告内訳名簿（一人親方団体控）'!Q178=\"\",\"\",'保険料申告内訳名簿（一人親方団体控）'!Q178)","v":""},{"$f":"IF('保険料申告内訳名簿（一人親方団体控）'!R178=\"\",\"\",'保険料申告内訳名簿（一人親方団体控）'!R178)","v":""},{"$f":"IF('保険料申告内訳名簿（一人親方団体控）'!S178=\"\",\"\",'保険料申告内訳名簿（一人親方団体控）'!S178)","v":0},{"$f":"IF('保険料申告内訳名簿（一人親方団体控）'!T178=\"\",\"\",'保険料申告内訳名簿（一人親方団体控）'!T178)","v":""},{"$f":"IF('保険料申告内訳名簿（一人親方団体控）'!U178=\"\",\"\",'保険料申告内訳名簿（一人親方団体控）'!U178)","v":""},{"$f":"IF('保険料申告内訳名簿（一人親方団体控）'!V178=\"\",\"\",'保険料申告内訳名簿（一人親方団体控）'!V178)","v":""},{"$f":"IF('保険料申告内訳名簿（一人親方団体控）'!W178=\"\",\"\",'保険料申告内訳名簿（一人親方団体控）'!W178)","v":""},{"$f":"IF('保険料申告内訳名簿（一人親方団体控）'!X178=\"\",\"\",'保険料申告内訳名簿（一人親方団体控）'!X178)","v":""},{"$f":"IF('保険料申告内訳名簿（一人親方団体控）'!Y178=\"\",\"\",'保険料申告内訳名簿（一人親方団体控）'!Y178)","v":""},{"$f":"IF('保険料申告内訳名簿（一人親方団体控）'!Z178=\"\",\"\",'保険料申告内訳名簿（一人親方団体控）'!Z178)","v":""},{"$f":"IF('保険料申告内訳名簿（一人親方団体控）'!AA178=\"\",\"\",'保険料申告内訳名簿（一人親方団体控）'!AA178)","v":""},{"$f":"IF('保険料申告内訳名簿（一人親方団体控）'!AB178=\"\",\"\",'保険料申告内訳名簿（一人親方団体控）'!AB178)","v":""},{"$f":"IF('保険料申告内訳名簿（一人親方団体控）'!AC178=\"\",\"\",'保険料申告内訳名簿（一人親方団体控）'!AC178)","v":0},{"$f":"IF('保険料申告内訳名簿（一人親方団体控）'!AD178=\"\",\"\",'保険料申告内訳名簿（一人親方団体控）'!AD178)","v":""},{"$f":"IF('保険料申告内訳名簿（一人親方団体控）'!AE178=\"\",\"\",'保険料申告内訳名簿（一人親方団体控）'!AE178)","v":""},{"$f":"IF('保険料申告内訳名簿（一人親方団体控）'!AF178=\"\",\"\",'保険料申告内訳名簿（一人親方団体控）'!AF178)","v":""},{"$f":"IF('保険料申告内訳名簿（一人親方団体控）'!AG178=\"\",\"\",'保険料申告内訳名簿（一人親方団体控）'!AG178)","v":""},{"$f":"IF('保険料申告内訳名簿（一人親方団体控）'!AH178=\"\",\"\",'保険料申告内訳名簿（一人親方団体控）'!AH178)","v":""}]
[null,{"$f":"IF('保険料申告内訳名簿（一人親方団体控）'!B179=\"\",\"\",'保険料申告内訳名簿（一人親方団体控）'!B179)","v":""},{"$f":"IF('保険料申告内訳名簿（一人親方団体控）'!C179=\"\",\"\",'保険料申告内訳名簿（一人親方団体控）'!C179)","v":""},{"$f":"IF('保険料申告内訳名簿（一人親方団体控）'!D179=\"\",\"\",'保険料申告内訳名簿（一人親方団体控）'!D179)","v":""},{"$f":"IF('保険料申告内訳名簿（一人親方団体控）'!E179=\"\",\"\",'保険料申告内訳名簿（一人親方団体控）'!E179)","v":""},{"$f":"IF('保険料申告内訳名簿（一人親方団体控）'!F179=\"\",\"\",'保険料申告内訳名簿（一人親方団体控）'!F179)","v":""},{"$f":"IF('保険料申告内訳名簿（一人親方団体控）'!G179=\"\",\"\",'保険料申告内訳名簿（一人親方団体控）'!G179)","v":""},{"$f":"IF('保険料申告内訳名簿（一人親方団体控）'!H179=\"\",\"\",'保険料申告内訳名簿（一人親方団体控）'!H179)","v":""},{"$f":"IF('保険料申告内訳名簿（一人親方団体控）'!I179=\"\",\"\",'保険料申告内訳名簿（一人親方団体控）'!I179)","v":""},{"$f":"IF('保険料申告内訳名簿（一人親方団体控）'!J179=\"\",\"\",'保険料申告内訳名簿（一人親方団体控）'!J179)","v":""},{"$f":"IF('保険料申告内訳名簿（一人親方団体控）'!K179=\"\",\"\",'保険料申告内訳名簿（一人親方団体控）'!K179)","v":""},{"$f":"IF('保険料申告内訳名簿（一人親方団体控）'!L179=\"\",\"\",'保険料申告内訳名簿（一人親方団体控）'!L179)","v":""},{"$f":"IF('保険料申告内訳名簿（一人親方団体控）'!M179=\"\",\"\",'保険料申告内訳名簿（一人親方団体控）'!M179)","v":""},{"$f":"IF('保険料申告内訳名簿（一人親方団体控）'!N179=\"\",\"\",'保険料申告内訳名簿（一人親方団体控）'!N179)","v":""},{"$f":"IF('保険料申告内訳名簿（一人親方団体控）'!O179=\"\",\"\",'保険料申告内訳名簿（一人親方団体控）'!O179)","v":""},{"$f":"IF('保険料申告内訳名簿（一人親方団体控）'!P179=\"\",\"\",'保険料申告内訳名簿（一人親方団体控）'!P179)","v":""},{"$f":"IF('保険料申告内訳名簿（一人親方団体控）'!Q179=\"\",\"\",'保険料申告内訳名簿（一人親方団体控）'!Q179)","v":""},{"$f":"IF('保険料申告内訳名簿（一人親方団体控）'!R179=\"\",\"\",'保険料申告内訳名簿（一人親方団体控）'!R179)","v":""},{"$f":"IF('保険料申告内訳名簿（一人親方団体控）'!S179=\"\",\"\",'保険料申告内訳名簿（一人親方団体控）'!S179)","v":0},{"$f":"IF('保険料申告内訳名簿（一人親方団体控）'!T179=\"\",\"\",'保険料申告内訳名簿（一人親方団体控）'!T179)","v":""},{"$f":"IF('保険料申告内訳名簿（一人親方団体控）'!U179=\"\",\"\",'保険料申告内訳名簿（一人親方団体控）'!U179)","v":""},{"$f":"IF('保険料申告内訳名簿（一人親方団体控）'!V179=\"\",\"\",'保険料申告内訳名簿（一人親方団体控）'!V179)","v":""},{"$f":"IF('保険料申告内訳名簿（一人親方団体控）'!W179=\"\",\"\",'保険料申告内訳名簿（一人親方団体控）'!W179)","v":""},{"$f":"IF('保険料申告内訳名簿（一人親方団体控）'!X179=\"\",\"\",'保険料申告内訳名簿（一人親方団体控）'!X179)","v":""},{"$f":"IF('保険料申告内訳名簿（一人親方団体控）'!Y179=\"\",\"\",'保険料申告内訳名簿（一人親方団体控）'!Y179)","v":""},{"$f":"IF('保険料申告内訳名簿（一人親方団体控）'!Z179=\"\",\"\",'保険料申告内訳名簿（一人親方団体控）'!Z179)","v":""},{"$f":"IF('保険料申告内訳名簿（一人親方団体控）'!AA179=\"\",\"\",'保険料申告内訳名簿（一人親方団体控）'!AA179)","v":""},{"$f":"IF('保険料申告内訳名簿（一人親方団体控）'!AB179=\"\",\"\",'保険料申告内訳名簿（一人親方団体控）'!AB179)","v":""},{"$f":"IF('保険料申告内訳名簿（一人親方団体控）'!AC179=\"\",\"\",'保険料申告内訳名簿（一人親方団体控）'!AC179)","v":0},{"$f":"IF('保険料申告内訳名簿（一人親方団体控）'!AD179=\"\",\"\",'保険料申告内訳名簿（一人親方団体控）'!AD179)","v":""},{"$f":"IF('保険料申告内訳名簿（一人親方団体控）'!AE179=\"\",\"\",'保険料申告内訳名簿（一人親方団体控）'!AE179)","v":""},{"$f":"IF('保険料申告内訳名簿（一人親方団体控）'!AF179=\"\",\"\",'保険料申告内訳名簿（一人親方団体控）'!AF179)","v":""},{"$f":"IF('保険料申告内訳名簿（一人親方団体控）'!AG179=\"\",\"\",'保険料申告内訳名簿（一人親方団体控）'!AG179)","v":""},{"$f":"IF('保険料申告内訳名簿（一人親方団体控）'!AH179=\"\",\"\",'保険料申告内訳名簿（一人親方団体控）'!AH179)","v":""}]
[null,{"$f":"IF('保険料申告内訳名簿（一人親方団体控）'!B180=\"\",\"\",'保険料申告内訳名簿（一人親方団体控）'!B180)","v":""},{"$f":"IF('保険料申告内訳名簿（一人親方団体控）'!C180=\"\",\"\",'保険料申告内訳名簿（一人親方団体控）'!C180)","v":""},{"$f":"IF('保険料申告内訳名簿（一人親方団体控）'!D180=\"\",\"\",'保険料申告内訳名簿（一人親方団体控）'!D180)","v":""},{"$f":"IF('保険料申告内訳名簿（一人親方団体控）'!E180=\"\",\"\",'保険料申告内訳名簿（一人親方団体控）'!E180)","v":""},{"$f":"IF('保険料申告内訳名簿（一人親方団体控）'!F180=\"\",\"\",'保険料申告内訳名簿（一人親方団体控）'!F180)","v":""},{"$f":"IF('保険料申告内訳名簿（一人親方団体控）'!G180=\"\",\"\",'保険料申告内訳名簿（一人親方団体控）'!G180)","v":""},{"$f":"IF('保険料申告内訳名簿（一人親方団体控）'!H180=\"\",\"\",'保険料申告内訳名簿（一人親方団体控）'!H180)","v":""},{"$f":"IF('保険料申告内訳名簿（一人親方団体控）'!I180=\"\",\"\",'保険料申告内訳名簿（一人親方団体控）'!I180)","v":""},{"$f":"IF('保険料申告内訳名簿（一人親方団体控）'!J180=\"\",\"\",'保険料申告内訳名簿（一人親方団体控）'!J180)","v":""},{"$f":"IF('保険料申告内訳名簿（一人親方団体控）'!K180=\"\",\"\",'保険料申告内訳名簿（一人親方団体控）'!K180)","v":""},{"$f":"IF('保険料申告内訳名簿（一人親方団体控）'!L180=\"\",\"\",'保険料申告内訳名簿（一人親方団体控）'!L180)","v":""},{"$f":"IF('保険料申告内訳名簿（一人親方団体控）'!M180=\"\",\"\",'保険料申告内訳名簿（一人親方団体控）'!M180)","v":""},{"$f":"IF('保険料申告内訳名簿（一人親方団体控）'!N180=\"\",\"\",'保険料申告内訳名簿（一人親方団体控）'!N180)","v":""},{"$f":"IF('保険料申告内訳名簿（一人親方団体控）'!O180=\"\",\"\",'保険料申告内訳名簿（一人親方団体控）'!O180)","v":""},{"$f":"IF('保険料申告内訳名簿（一人親方団体控）'!P180=\"\",\"\",'保険料申告内訳名簿（一人親方団体控）'!P180)","v":""},{"$f":"IF('保険料申告内訳名簿（一人親方団体控）'!Q180=\"\",\"\",'保険料申告内訳名簿（一人親方団体控）'!Q180)","v":""},{"$f":"IF('保険料申告内訳名簿（一人親方団体控）'!R180=\"\",\"\",'保険料申告内訳名簿（一人親方団体控）'!R180)","v":""},{"$f":"IF('保険料申告内訳名簿（一人親方団体控）'!S180=\"\",\"\",'保険料申告内訳名簿（一人親方団体控）'!S180)","v":0},{"$f":"IF('保険料申告内訳名簿（一人親方団体控）'!T180=\"\",\"\",'保険料申告内訳名簿（一人親方団体控）'!T180)","v":""},{"$f":"IF('保険料申告内訳名簿（一人親方団体控）'!U180=\"\",\"\",'保険料申告内訳名簿（一人親方団体控）'!U180)","v":""},{"$f":"IF('保険料申告内訳名簿（一人親方団体控）'!V180=\"\",\"\",'保険料申告内訳名簿（一人親方団体控）'!V180)","v":""},{"$f":"IF('保険料申告内訳名簿（一人親方団体控）'!W180=\"\",\"\",'保険料申告内訳名簿（一人親方団体控）'!W180)","v":""},{"$f":"IF('保険料申告内訳名簿（一人親方団体控）'!X180=\"\",\"\",'保険料申告内訳名簿（一人親方団体控）'!X180)","v":""},{"$f":"IF('保険料申告内訳名簿（一人親方団体控）'!Y180=\"\",\"\",'保険料申告内訳名簿（一人親方団体控）'!Y180)","v":""},{"$f":"IF('保険料申告内訳名簿（一人親方団体控）'!Z180=\"\",\"\",'保険料申告内訳名簿（一人親方団体控）'!Z180)","v":""},{"$f":"IF('保険料申告内訳名簿（一人親方団体控）'!AA180=\"\",\"\",'保険料申告内訳名簿（一人親方団体控）'!AA180)","v":""},{"$f":"IF('保険料申告内訳名簿（一人親方団体控）'!AB180=\"\",\"\",'保険料申告内訳名簿（一人親方団体控）'!AB180)","v":""},{"$f":"IF('保険料申告内訳名簿（一人親方団体控）'!AC180=\"\",\"\",'保険料申告内訳名簿（一人親方団体控）'!AC180)","v":0},{"$f":"IF('保険料申告内訳名簿（一人親方団体控）'!AD180=\"\",\"\",'保険料申告内訳名簿（一人親方団体控）'!AD180)","v":""},{"$f":"IF('保険料申告内訳名簿（一人親方団体控）'!AE180=\"\",\"\",'保険料申告内訳名簿（一人親方団体控）'!AE180)","v":""},{"$f":"IF('保険料申告内訳名簿（一人親方団体控）'!AF180=\"\",\"\",'保険料申告内訳名簿（一人親方団体控）'!AF180)","v":""},{"$f":"IF('保険料申告内訳名簿（一人親方団体控）'!AG180=\"\",\"\",'保険料申告内訳名簿（一人親方団体控）'!AG180)","v":""},{"$f":"IF('保険料申告内訳名簿（一人親方団体控）'!AH180=\"\",\"\",'保険料申告内訳名簿（一人親方団体控）'!AH180)","v":""}]
[null,{"$f":"IF('保険料申告内訳名簿（一人親方団体控）'!B181=\"\",\"\",'保険料申告内訳名簿（一人親方団体控）'!B181)","v":""},{"$f":"IF('保険料申告内訳名簿（一人親方団体控）'!C181=\"\",\"\",'保険料申告内訳名簿（一人親方団体控）'!C181)","v":""},{"$f":"IF('保険料申告内訳名簿（一人親方団体控）'!D181=\"\",\"\",'保険料申告内訳名簿（一人親方団体控）'!D181)","v":""},{"$f":"IF('保険料申告内訳名簿（一人親方団体控）'!E181=\"\",\"\",'保険料申告内訳名簿（一人親方団体控）'!E181)","v":""},{"$f":"IF('保険料申告内訳名簿（一人親方団体控）'!F181=\"\",\"\",'保険料申告内訳名簿（一人親方団体控）'!F181)","v":""},{"$f":"IF('保険料申告内訳名簿（一人親方団体控）'!G181=\"\",\"\",'保険料申告内訳名簿（一人親方団体控）'!G181)","v":""},{"$f":"IF('保険料申告内訳名簿（一人親方団体控）'!H181=\"\",\"\",'保険料申告内訳名簿（一人親方団体控）'!H181)","v":""},{"$f":"IF('保険料申告内訳名簿（一人親方団体控）'!I181=\"\",\"\",'保険料申告内訳名簿（一人親方団体控）'!I181)","v":""},{"$f":"IF('保険料申告内訳名簿（一人親方団体控）'!J181=\"\",\"\",'保険料申告内訳名簿（一人親方団体控）'!J181)","v":""},{"$f":"IF('保険料申告内訳名簿（一人親方団体控）'!K181=\"\",\"\",'保険料申告内訳名簿（一人親方団体控）'!K181)","v":""},{"$f":"IF('保険料申告内訳名簿（一人親方団体控）'!L181=\"\",\"\",'保険料申告内訳名簿（一人親方団体控）'!L181)","v":""},{"$f":"IF('保険料申告内訳名簿（一人親方団体控）'!M181=\"\",\"\",'保険料申告内訳名簿（一人親方団体控）'!M181)","v":""},{"$f":"IF('保険料申告内訳名簿（一人親方団体控）'!N181=\"\",\"\",'保険料申告内訳名簿（一人親方団体控）'!N181)","v":""},{"$f":"IF('保険料申告内訳名簿（一人親方団体控）'!O181=\"\",\"\",'保険料申告内訳名簿（一人親方団体控）'!O181)","v":""},{"$f":"IF('保険料申告内訳名簿（一人親方団体控）'!P181=\"\",\"\",'保険料申告内訳名簿（一人親方団体控）'!P181)","v":""},{"$f":"IF('保険料申告内訳名簿（一人親方団体控）'!Q181=\"\",\"\",'保険料申告内訳名簿（一人親方団体控）'!Q181)","v":""},{"$f":"IF('保険料申告内訳名簿（一人親方団体控）'!R181=\"\",\"\",'保険料申告内訳名簿（一人親方団体控）'!R181)","v":""},{"$f":"IF('保険料申告内訳名簿（一人親方団体控）'!S181=\"\",\"\",'保険料申告内訳名簿（一人親方団体控）'!S181)","v":0},{"$f":"IF('保険料申告内訳名簿（一人親方団体控）'!T181=\"\",\"\",'保険料申告内訳名簿（一人親方団体控）'!T181)","v":""},{"$f":"IF('保険料申告内訳名簿（一人親方団体控）'!U181=\"\",\"\",'保険料申告内訳名簿（一人親方団体控）'!U181)","v":""},{"$f":"IF('保険料申告内訳名簿（一人親方団体控）'!V181=\"\",\"\",'保険料申告内訳名簿（一人親方団体控）'!V181)","v":""},{"$f":"IF('保険料申告内訳名簿（一人親方団体控）'!W181=\"\",\"\",'保険料申告内訳名簿（一人親方団体控）'!W181)","v":""},{"$f":"IF('保険料申告内訳名簿（一人親方団体控）'!X181=\"\",\"\",'保険料申告内訳名簿（一人親方団体控）'!X181)","v":""},{"$f":"IF('保険料申告内訳名簿（一人親方団体控）'!Y181=\"\",\"\",'保険料申告内訳名簿（一人親方団体控）'!Y181)","v":""},{"$f":"IF('保険料申告内訳名簿（一人親方団体控）'!Z181=\"\",\"\",'保険料申告内訳名簿（一人親方団体控）'!Z181)","v":""},{"$f":"IF('保険料申告内訳名簿（一人親方団体控）'!AA181=\"\",\"\",'保険料申告内訳名簿（一人親方団体控）'!AA181)","v":""},{"$f":"IF('保険料申告内訳名簿（一人親方団体控）'!AB181=\"\",\"\",'保険料申告内訳名簿（一人親方団体控）'!AB181)","v":""},{"$f":"IF('保険料申告内訳名簿（一人親方団体控）'!AC181=\"\",\"\",'保険料申告内訳名簿（一人親方団体控）'!AC181)","v":0},{"$f":"IF('保険料申告内訳名簿（一人親方団体控）'!AD181=\"\",\"\",'保険料申告内訳名簿（一人親方団体控）'!AD181)","v":""},{"$f":"IF('保険料申告内訳名簿（一人親方団体控）'!AE181=\"\",\"\",'保険料申告内訳名簿（一人親方団体控）'!AE181)","v":""},{"$f":"IF('保険料申告内訳名簿（一人親方団体控）'!AF181=\"\",\"\",'保険料申告内訳名簿（一人親方団体控）'!AF181)","v":""},{"$f":"IF('保険料申告内訳名簿（一人親方団体控）'!AG181=\"\",\"\",'保険料申告内訳名簿（一人親方団体控）'!AG181)","v":""},{"$f":"IF('保険料申告内訳名簿（一人親方団体控）'!AH181=\"\",\"\",'保険料申告内訳名簿（一人親方団体控）'!AH181)","v":""}]
[null,{"$f":"IF('保険料申告内訳名簿（一人親方団体控）'!B182=\"\",\"\",'保険料申告内訳名簿（一人親方団体控）'!B182)","v":""},{"$f":"IF('保険料申告内訳名簿（一人親方団体控）'!C182=\"\",\"\",'保険料申告内訳名簿（一人親方団体控）'!C182)","v":""},{"$f":"IF('保険料申告内訳名簿（一人親方団体控）'!D182=\"\",\"\",'保険料申告内訳名簿（一人親方団体控）'!D182)","v":""},{"$f":"IF('保険料申告内訳名簿（一人親方団体控）'!E182=\"\",\"\",'保険料申告内訳名簿（一人親方団体控）'!E182)","v":""},{"$f":"IF('保険料申告内訳名簿（一人親方団体控）'!F182=\"\",\"\",'保険料申告内訳名簿（一人親方団体控）'!F182)","v":""},{"$f":"IF('保険料申告内訳名簿（一人親方団体控）'!G182=\"\",\"\",'保険料申告内訳名簿（一人親方団体控）'!G182)","v":""},{"$f":"IF('保険料申告内訳名簿（一人親方団体控）'!H182=\"\",\"\",'保険料申告内訳名簿（一人親方団体控）'!H182)","v":""},{"$f":"IF('保険料申告内訳名簿（一人親方団体控）'!I182=\"\",\"\",'保険料申告内訳名簿（一人親方団体控）'!I182)","v":""},{"$f":"IF('保険料申告内訳名簿（一人親方団体控）'!J182=\"\",\"\",'保険料申告内訳名簿（一人親方団体控）'!J182)","v":""},{"$f":"IF('保険料申告内訳名簿（一人親方団体控）'!K182=\"\",\"\",'保険料申告内訳名簿（一人親方団体控）'!K182)","v":""},{"$f":"IF('保険料申告内訳名簿（一人親方団体控）'!L182=\"\",\"\",'保険料申告内訳名簿（一人親方団体控）'!L182)","v":""},{"$f":"IF('保険料申告内訳名簿（一人親方団体控）'!M182=\"\",\"\",'保険料申告内訳名簿（一人親方団体控）'!M182)","v":""},{"$f":"IF('保険料申告内訳名簿（一人親方団体控）'!N182=\"\",\"\",'保険料申告内訳名簿（一人親方団体控）'!N182)","v":""},{"$f":"IF('保険料申告内訳名簿（一人親方団体控）'!O182=\"\",\"\",'保険料申告内訳名簿（一人親方団体控）'!O182)","v":""},{"$f":"IF('保険料申告内訳名簿（一人親方団体控）'!P182=\"\",\"\",'保険料申告内訳名簿（一人親方団体控）'!P182)","v":""},{"$f":"IF('保険料申告内訳名簿（一人親方団体控）'!Q182=\"\",\"\",'保険料申告内訳名簿（一人親方団体控）'!Q182)","v":""},{"$f":"IF('保険料申告内訳名簿（一人親方団体控）'!R182=\"\",\"\",'保険料申告内訳名簿（一人親方団体控）'!R182)","v":""},{"$f":"IF('保険料申告内訳名簿（一人親方団体控）'!S182=\"\",\"\",'保険料申告内訳名簿（一人親方団体控）'!S182)","v":0},{"$f":"IF('保険料申告内訳名簿（一人親方団体控）'!T182=\"\",\"\",'保険料申告内訳名簿（一人親方団体控）'!T182)","v":""},{"$f":"IF('保険料申告内訳名簿（一人親方団体控）'!U182=\"\",\"\",'保険料申告内訳名簿（一人親方団体控）'!U182)","v":""},{"$f":"IF('保険料申告内訳名簿（一人親方団体控）'!V182=\"\",\"\",'保険料申告内訳名簿（一人親方団体控）'!V182)","v":""},{"$f":"IF('保険料申告内訳名簿（一人親方団体控）'!W182=\"\",\"\",'保険料申告内訳名簿（一人親方団体控）'!W182)","v":""},{"$f":"IF('保険料申告内訳名簿（一人親方団体控）'!X182=\"\",\"\",'保険料申告内訳名簿（一人親方団体控）'!X182)","v":""},{"$f":"IF('保険料申告内訳名簿（一人親方団体控）'!Y182=\"\",\"\",'保険料申告内訳名簿（一人親方団体控）'!Y182)","v":""},{"$f":"IF('保険料申告内訳名簿（一人親方団体控）'!Z182=\"\",\"\",'保険料申告内訳名簿（一人親方団体控）'!Z182)","v":""},{"$f":"IF('保険料申告内訳名簿（一人親方団体控）'!AA182=\"\",\"\",'保険料申告内訳名簿（一人親方団体控）'!AA182)","v":""},{"$f":"IF('保険料申告内訳名簿（一人親方団体控）'!AB182=\"\",\"\",'保険料申告内訳名簿（一人親方団体控）'!AB182)","v":""},{"$f":"IF('保険料申告内訳名簿（一人親方団体控）'!AC182=\"\",\"\",'保険料申告内訳名簿（一人親方団体控）'!AC182)","v":0},{"$f":"IF('保険料申告内訳名簿（一人親方団体控）'!AD182=\"\",\"\",'保険料申告内訳名簿（一人親方団体控）'!AD182)","v":""},{"$f":"IF('保険料申告内訳名簿（一人親方団体控）'!AE182=\"\",\"\",'保険料申告内訳名簿（一人親方団体控）'!AE182)","v":""},{"$f":"IF('保険料申告内訳名簿（一人親方団体控）'!AF182=\"\",\"\",'保険料申告内訳名簿（一人親方団体控）'!AF182)","v":""},{"$f":"IF('保険料申告内訳名簿（一人親方団体控）'!AG182=\"\",\"\",'保険料申告内訳名簿（一人親方団体控）'!AG182)","v":""},{"$f":"IF('保険料申告内訳名簿（一人親方団体控）'!AH182=\"\",\"\",'保険料申告内訳名簿（一人親方団体控）'!AH182)","v":""}]
[null,{"$f":"IF('保険料申告内訳名簿（一人親方団体控）'!B183=\"\",\"\",'保険料申告内訳名簿（一人親方団体控）'!B183)","v":""},{"$f":"IF('保険料申告内訳名簿（一人親方団体控）'!C183=\"\",\"\",'保険料申告内訳名簿（一人親方団体控）'!C183)","v":""},{"$f":"IF('保険料申告内訳名簿（一人親方団体控）'!D183=\"\",\"\",'保険料申告内訳名簿（一人親方団体控）'!D183)","v":""},{"$f":"IF('保険料申告内訳名簿（一人親方団体控）'!E183=\"\",\"\",'保険料申告内訳名簿（一人親方団体控）'!E183)","v":""},{"$f":"IF('保険料申告内訳名簿（一人親方団体控）'!F183=\"\",\"\",'保険料申告内訳名簿（一人親方団体控）'!F183)","v":""},{"$f":"IF('保険料申告内訳名簿（一人親方団体控）'!G183=\"\",\"\",'保険料申告内訳名簿（一人親方団体控）'!G183)","v":""},{"$f":"IF('保険料申告内訳名簿（一人親方団体控）'!H183=\"\",\"\",'保険料申告内訳名簿（一人親方団体控）'!H183)","v":""},{"$f":"IF('保険料申告内訳名簿（一人親方団体控）'!I183=\"\",\"\",'保険料申告内訳名簿（一人親方団体控）'!I183)","v":""},{"$f":"IF('保険料申告内訳名簿（一人親方団体控）'!J183=\"\",\"\",'保険料申告内訳名簿（一人親方団体控）'!J183)","v":""},{"$f":"IF('保険料申告内訳名簿（一人親方団体控）'!K183=\"\",\"\",'保険料申告内訳名簿（一人親方団体控）'!K183)","v":""},{"$f":"IF('保険料申告内訳名簿（一人親方団体控）'!L183=\"\",\"\",'保険料申告内訳名簿（一人親方団体控）'!L183)","v":""},{"$f":"IF('保険料申告内訳名簿（一人親方団体控）'!M183=\"\",\"\",'保険料申告内訳名簿（一人親方団体控）'!M183)","v":""},{"$f":"IF('保険料申告内訳名簿（一人親方団体控）'!N183=\"\",\"\",'保険料申告内訳名簿（一人親方団体控）'!N183)","v":""},{"$f":"IF('保険料申告内訳名簿（一人親方団体控）'!O183=\"\",\"\",'保険料申告内訳名簿（一人親方団体控）'!O183)","v":""},{"$f":"IF('保険料申告内訳名簿（一人親方団体控）'!P183=\"\",\"\",'保険料申告内訳名簿（一人親方団体控）'!P183)","v":""},{"$f":"IF('保険料申告内訳名簿（一人親方団体控）'!Q183=\"\",\"\",'保険料申告内訳名簿（一人親方団体控）'!Q183)","v":""},{"$f":"IF('保険料申告内訳名簿（一人親方団体控）'!R183=\"\",\"\",'保険料申告内訳名簿（一人親方団体控）'!R183)","v":""},{"$f":"IF('保険料申告内訳名簿（一人親方団体控）'!S183=\"\",\"\",'保険料申告内訳名簿（一人親方団体控）'!S183)","v":0},{"$f":"IF('保険料申告内訳名簿（一人親方団体控）'!T183=\"\",\"\",'保険料申告内訳名簿（一人親方団体控）'!T183)","v":""},{"$f":"IF('保険料申告内訳名簿（一人親方団体控）'!U183=\"\",\"\",'保険料申告内訳名簿（一人親方団体控）'!U183)","v":""},{"$f":"IF('保険料申告内訳名簿（一人親方団体控）'!V183=\"\",\"\",'保険料申告内訳名簿（一人親方団体控）'!V183)","v":""},{"$f":"IF('保険料申告内訳名簿（一人親方団体控）'!W183=\"\",\"\",'保険料申告内訳名簿（一人親方団体控）'!W183)","v":""},{"$f":"IF('保険料申告内訳名簿（一人親方団体控）'!X183=\"\",\"\",'保険料申告内訳名簿（一人親方団体控）'!X183)","v":""},{"$f":"IF('保険料申告内訳名簿（一人親方団体控）'!Y183=\"\",\"\",'保険料申告内訳名簿（一人親方団体控）'!Y183)","v":""},{"$f":"IF('保険料申告内訳名簿（一人親方団体控）'!Z183=\"\",\"\",'保険料申告内訳名簿（一人親方団体控）'!Z183)","v":""},{"$f":"IF('保険料申告内訳名簿（一人親方団体控）'!AA183=\"\",\"\",'保険料申告内訳名簿（一人親方団体控）'!AA183)","v":""},{"$f":"IF('保険料申告内訳名簿（一人親方団体控）'!AB183=\"\",\"\",'保険料申告内訳名簿（一人親方団体控）'!AB183)","v":""},{"$f":"IF('保険料申告内訳名簿（一人親方団体控）'!AC183=\"\",\"\",'保険料申告内訳名簿（一人親方団体控）'!AC183)","v":0},{"$f":"IF('保険料申告内訳名簿（一人親方団体控）'!AD183=\"\",\"\",'保険料申告内訳名簿（一人親方団体控）'!AD183)","v":""},{"$f":"IF('保険料申告内訳名簿（一人親方団体控）'!AE183=\"\",\"\",'保険料申告内訳名簿（一人親方団体控）'!AE183)","v":""},{"$f":"IF('保険料申告内訳名簿（一人親方団体控）'!AF183=\"\",\"\",'保険料申告内訳名簿（一人親方団体控）'!AF183)","v":""},{"$f":"IF('保険料申告内訳名簿（一人親方団体控）'!AG183=\"\",\"\",'保険料申告内訳名簿（一人親方団体控）'!AG183)","v":""},{"$f":"IF('保険料申告内訳名簿（一人親方団体控）'!AH183=\"\",\"\",'保険料申告内訳名簿（一人親方団体控）'!AH183)","v":""}]
[null,{"$f":"IF('保険料申告内訳名簿（一人親方団体控）'!B184=\"\",\"\",'保険料申告内訳名簿（一人親方団体控）'!B184)","v":""},{"$f":"IF('保険料申告内訳名簿（一人親方団体控）'!C184=\"\",\"\",'保険料申告内訳名簿（一人親方団体控）'!C184)","v":""},{"$f":"IF('保険料申告内訳名簿（一人親方団体控）'!D184=\"\",\"\",'保険料申告内訳名簿（一人親方団体控）'!D184)","v":""},{"$f":"IF('保険料申告内訳名簿（一人親方団体控）'!E184=\"\",\"\",'保険料申告内訳名簿（一人親方団体控）'!E184)","v":""},{"$f":"IF('保険料申告内訳名簿（一人親方団体控）'!F184=\"\",\"\",'保険料申告内訳名簿（一人親方団体控）'!F184)","v":""},{"$f":"IF('保険料申告内訳名簿（一人親方団体控）'!G184=\"\",\"\",'保険料申告内訳名簿（一人親方団体控）'!G184)","v":""},{"$f":"IF('保険料申告内訳名簿（一人親方団体控）'!H184=\"\",\"\",'保険料申告内訳名簿（一人親方団体控）'!H184)","v":""},{"$f":"IF('保険料申告内訳名簿（一人親方団体控）'!I184=\"\",\"\",'保険料申告内訳名簿（一人親方団体控）'!I184)","v":""},{"$f":"IF('保険料申告内訳名簿（一人親方団体控）'!J184=\"\",\"\",'保険料申告内訳名簿（一人親方団体控）'!J184)","v":""},{"$f":"IF('保険料申告内訳名簿（一人親方団体控）'!K184=\"\",\"\",'保険料申告内訳名簿（一人親方団体控）'!K184)","v":""},{"$f":"IF('保険料申告内訳名簿（一人親方団体控）'!L184=\"\",\"\",'保険料申告内訳名簿（一人親方団体控）'!L184)","v":""},{"$f":"IF('保険料申告内訳名簿（一人親方団体控）'!M184=\"\",\"\",'保険料申告内訳名簿（一人親方団体控）'!M184)","v":""},{"$f":"IF('保険料申告内訳名簿（一人親方団体控）'!N184=\"\",\"\",'保険料申告内訳名簿（一人親方団体控）'!N184)","v":""},{"$f":"IF('保険料申告内訳名簿（一人親方団体控）'!O184=\"\",\"\",'保険料申告内訳名簿（一人親方団体控）'!O184)","v":""},{"$f":"IF('保険料申告内訳名簿（一人親方団体控）'!P184=\"\",\"\",'保険料申告内訳名簿（一人親方団体控）'!P184)","v":""},{"$f":"IF('保険料申告内訳名簿（一人親方団体控）'!Q184=\"\",\"\",'保険料申告内訳名簿（一人親方団体控）'!Q184)","v":""},{"$f":"IF('保険料申告内訳名簿（一人親方団体控）'!R184=\"\",\"\",'保険料申告内訳名簿（一人親方団体控）'!R184)","v":""},{"$f":"IF('保険料申告内訳名簿（一人親方団体控）'!S184=\"\",\"\",'保険料申告内訳名簿（一人親方団体控）'!S184)","v":0},{"$f":"IF('保険料申告内訳名簿（一人親方団体控）'!T184=\"\",\"\",'保険料申告内訳名簿（一人親方団体控）'!T184)","v":""},{"$f":"IF('保険料申告内訳名簿（一人親方団体控）'!U184=\"\",\"\",'保険料申告内訳名簿（一人親方団体控）'!U184)","v":""},{"$f":"IF('保険料申告内訳名簿（一人親方団体控）'!V184=\"\",\"\",'保険料申告内訳名簿（一人親方団体控）'!V184)","v":""},{"$f":"IF('保険料申告内訳名簿（一人親方団体控）'!W184=\"\",\"\",'保険料申告内訳名簿（一人親方団体控）'!W184)","v":""},{"$f":"IF('保険料申告内訳名簿（一人親方団体控）'!X184=\"\",\"\",'保険料申告内訳名簿（一人親方団体控）'!X184)","v":""},{"$f":"IF('保険料申告内訳名簿（一人親方団体控）'!Y184=\"\",\"\",'保険料申告内訳名簿（一人親方団体控）'!Y184)","v":""},{"$f":"IF('保険料申告内訳名簿（一人親方団体控）'!Z184=\"\",\"\",'保険料申告内訳名簿（一人親方団体控）'!Z184)","v":""},{"$f":"IF('保険料申告内訳名簿（一人親方団体控）'!AA184=\"\",\"\",'保険料申告内訳名簿（一人親方団体控）'!AA184)","v":""},{"$f":"IF('保険料申告内訳名簿（一人親方団体控）'!AB184=\"\",\"\",'保険料申告内訳名簿（一人親方団体控）'!AB184)","v":""},{"$f":"IF('保険料申告内訳名簿（一人親方団体控）'!AC184=\"\",\"\",'保険料申告内訳名簿（一人親方団体控）'!AC184)","v":0},{"$f":"IF('保険料申告内訳名簿（一人親方団体控）'!AD184=\"\",\"\",'保険料申告内訳名簿（一人親方団体控）'!AD184)","v":""},{"$f":"IF('保険料申告内訳名簿（一人親方団体控）'!AE184=\"\",\"\",'保険料申告内訳名簿（一人親方団体控）'!AE184)","v":""},{"$f":"IF('保険料申告内訳名簿（一人親方団体控）'!AF184=\"\",\"\",'保険料申告内訳名簿（一人親方団体控）'!AF184)","v":""},{"$f":"IF('保険料申告内訳名簿（一人親方団体控）'!AG184=\"\",\"\",'保険料申告内訳名簿（一人親方団体控）'!AG184)","v":""},{"$f":"IF('保険料申告内訳名簿（一人親方団体控）'!AH184=\"\",\"\",'保険料申告内訳名簿（一人親方団体控）'!AH184)","v":""}]
[null,{"$f":"IF('保険料申告内訳名簿（一人親方団体控）'!B185=\"\",\"\",'保険料申告内訳名簿（一人親方団体控）'!B185)","v":""},{"$f":"IF('保険料申告内訳名簿（一人親方団体控）'!C185=\"\",\"\",'保険料申告内訳名簿（一人親方団体控）'!C185)","v":""},{"$f":"IF('保険料申告内訳名簿（一人親方団体控）'!D185=\"\",\"\",'保険料申告内訳名簿（一人親方団体控）'!D185)","v":""},{"$f":"IF('保険料申告内訳名簿（一人親方団体控）'!E185=\"\",\"\",'保険料申告内訳名簿（一人親方団体控）'!E185)","v":""},{"$f":"IF('保険料申告内訳名簿（一人親方団体控）'!F185=\"\",\"\",'保険料申告内訳名簿（一人親方団体控）'!F185)","v":""},{"$f":"IF('保険料申告内訳名簿（一人親方団体控）'!G185=\"\",\"\",'保険料申告内訳名簿（一人親方団体控）'!G185)","v":""},{"$f":"IF('保険料申告内訳名簿（一人親方団体控）'!H185=\"\",\"\",'保険料申告内訳名簿（一人親方団体控）'!H185)","v":""},{"$f":"IF('保険料申告内訳名簿（一人親方団体控）'!I185=\"\",\"\",'保険料申告内訳名簿（一人親方団体控）'!I185)","v":""},{"$f":"IF('保険料申告内訳名簿（一人親方団体控）'!J185=\"\",\"\",'保険料申告内訳名簿（一人親方団体控）'!J185)","v":""},{"$f":"IF('保険料申告内訳名簿（一人親方団体控）'!K185=\"\",\"\",'保険料申告内訳名簿（一人親方団体控）'!K185)","v":""},{"$f":"IF('保険料申告内訳名簿（一人親方団体控）'!L185=\"\",\"\",'保険料申告内訳名簿（一人親方団体控）'!L185)","v":""},{"$f":"IF('保険料申告内訳名簿（一人親方団体控）'!M185=\"\",\"\",'保険料申告内訳名簿（一人親方団体控）'!M185)","v":""},{"$f":"IF('保険料申告内訳名簿（一人親方団体控）'!N185=\"\",\"\",'保険料申告内訳名簿（一人親方団体控）'!N185)","v":""},{"$f":"IF('保険料申告内訳名簿（一人親方団体控）'!O185=\"\",\"\",'保険料申告内訳名簿（一人親方団体控）'!O185)","v":""},{"$f":"IF('保険料申告内訳名簿（一人親方団体控）'!P185=\"\",\"\",'保険料申告内訳名簿（一人親方団体控）'!P185)","v":""},{"$f":"IF('保険料申告内訳名簿（一人親方団体控）'!Q185=\"\",\"\",'保険料申告内訳名簿（一人親方団体控）'!Q185)","v":""},{"$f":"IF('保険料申告内訳名簿（一人親方団体控）'!R185=\"\",\"\",'保険料申告内訳名簿（一人親方団体控）'!R185)","v":""},{"$f":"IF('保険料申告内訳名簿（一人親方団体控）'!S185=\"\",\"\",'保険料申告内訳名簿（一人親方団体控）'!S185)","v":0},{"$f":"IF('保険料申告内訳名簿（一人親方団体控）'!T185=\"\",\"\",'保険料申告内訳名簿（一人親方団体控）'!T185)","v":""},{"$f":"IF('保険料申告内訳名簿（一人親方団体控）'!U185=\"\",\"\",'保険料申告内訳名簿（一人親方団体控）'!U185)","v":""},{"$f":"IF('保険料申告内訳名簿（一人親方団体控）'!V185=\"\",\"\",'保険料申告内訳名簿（一人親方団体控）'!V185)","v":""},{"$f":"IF('保険料申告内訳名簿（一人親方団体控）'!W185=\"\",\"\",'保険料申告内訳名簿（一人親方団体控）'!W185)","v":""},{"$f":"IF('保険料申告内訳名簿（一人親方団体控）'!X185=\"\",\"\",'保険料申告内訳名簿（一人親方団体控）'!X185)","v":""},{"$f":"IF('保険料申告内訳名簿（一人親方団体控）'!Y185=\"\",\"\",'保険料申告内訳名簿（一人親方団体控）'!Y185)","v":""},{"$f":"IF('保険料申告内訳名簿（一人親方団体控）'!Z185=\"\",\"\",'保険料申告内訳名簿（一人親方団体控）'!Z185)","v":""},{"$f":"IF('保険料申告内訳名簿（一人親方団体控）'!AA185=\"\",\"\",'保険料申告内訳名簿（一人親方団体控）'!AA185)","v":""},{"$f":"IF('保険料申告内訳名簿（一人親方団体控）'!AB185=\"\",\"\",'保険料申告内訳名簿（一人親方団体控）'!AB185)","v":""},{"$f":"IF('保険料申告内訳名簿（一人親方団体控）'!AC185=\"\",\"\",'保険料申告内訳名簿（一人親方団体控）'!AC185)","v":0},{"$f":"IF('保険料申告内訳名簿（一人親方団体控）'!AD185=\"\",\"\",'保険料申告内訳名簿（一人親方団体控）'!AD185)","v":""},{"$f":"IF('保険料申告内訳名簿（一人親方団体控）'!AE185=\"\",\"\",'保険料申告内訳名簿（一人親方団体控）'!AE185)","v":""},{"$f":"IF('保険料申告内訳名簿（一人親方団体控）'!AF185=\"\",\"\",'保険料申告内訳名簿（一人親方団体控）'!AF185)","v":""},{"$f":"IF('保険料申告内訳名簿（一人親方団体控）'!AG185=\"\",\"\",'保険料申告内訳名簿（一人親方団体控）'!AG185)","v":""},{"$f":"IF('保険料申告内訳名簿（一人親方団体控）'!AH185=\"\",\"\",'保険料申告内訳名簿（一人親方団体控）'!AH185)","v":""}]
[null,{"$f":"IF('保険料申告内訳名簿（一人親方団体控）'!B186=\"\",\"\",'保険料申告内訳名簿（一人親方団体控）'!B186)","v":""},{"$f":"IF('保険料申告内訳名簿（一人親方団体控）'!C186=\"\",\"\",'保険料申告内訳名簿（一人親方団体控）'!C186)","v":""},{"$f":"IF('保険料申告内訳名簿（一人親方団体控）'!D186=\"\",\"\",'保険料申告内訳名簿（一人親方団体控）'!D186)","v":""},{"$f":"IF('保険料申告内訳名簿（一人親方団体控）'!E186=\"\",\"\",'保険料申告内訳名簿（一人親方団体控）'!E186)","v":""},{"$f":"IF('保険料申告内訳名簿（一人親方団体控）'!F186=\"\",\"\",'保険料申告内訳名簿（一人親方団体控）'!F186)","v":""},{"$f":"IF('保険料申告内訳名簿（一人親方団体控）'!G186=\"\",\"\",'保険料申告内訳名簿（一人親方団体控）'!G186)","v":""},{"$f":"IF('保険料申告内訳名簿（一人親方団体控）'!H186=\"\",\"\",'保険料申告内訳名簿（一人親方団体控）'!H186)","v":""},{"$f":"IF('保険料申告内訳名簿（一人親方団体控）'!I186=\"\",\"\",'保険料申告内訳名簿（一人親方団体控）'!I186)","v":""},{"$f":"IF('保険料申告内訳名簿（一人親方団体控）'!J186=\"\",\"\",'保険料申告内訳名簿（一人親方団体控）'!J186)","v":""},{"$f":"IF('保険料申告内訳名簿（一人親方団体控）'!K186=\"\",\"\",'保険料申告内訳名簿（一人親方団体控）'!K186)","v":""},{"$f":"IF('保険料申告内訳名簿（一人親方団体控）'!L186=\"\",\"\",'保険料申告内訳名簿（一人親方団体控）'!L186)","v":""},{"$f":"IF('保険料申告内訳名簿（一人親方団体控）'!M186=\"\",\"\",'保険料申告内訳名簿（一人親方団体控）'!M186)","v":""},{"$f":"IF('保険料申告内訳名簿（一人親方団体控）'!N186=\"\",\"\",'保険料申告内訳名簿（一人親方団体控）'!N186)","v":""},{"$f":"IF('保険料申告内訳名簿（一人親方団体控）'!O186=\"\",\"\",'保険料申告内訳名簿（一人親方団体控）'!O186)","v":""},{"$f":"IF('保険料申告内訳名簿（一人親方団体控）'!P186=\"\",\"\",'保険料申告内訳名簿（一人親方団体控）'!P186)","v":""},{"$f":"IF('保険料申告内訳名簿（一人親方団体控）'!Q186=\"\",\"\",'保険料申告内訳名簿（一人親方団体控）'!Q186)","v":""},{"$f":"IF('保険料申告内訳名簿（一人親方団体控）'!R186=\"\",\"\",'保険料申告内訳名簿（一人親方団体控）'!R186)","v":""},{"$f":"IF('保険料申告内訳名簿（一人親方団体控）'!S186=\"\",\"\",'保険料申告内訳名簿（一人親方団体控）'!S186)","v":0},{"$f":"IF('保険料申告内訳名簿（一人親方団体控）'!T186=\"\",\"\",'保険料申告内訳名簿（一人親方団体控）'!T186)","v":""},{"$f":"IF('保険料申告内訳名簿（一人親方団体控）'!U186=\"\",\"\",'保険料申告内訳名簿（一人親方団体控）'!U186)","v":""},{"$f":"IF('保険料申告内訳名簿（一人親方団体控）'!V186=\"\",\"\",'保険料申告内訳名簿（一人親方団体控）'!V186)","v":""},{"$f":"IF('保険料申告内訳名簿（一人親方団体控）'!W186=\"\",\"\",'保険料申告内訳名簿（一人親方団体控）'!W186)","v":""},{"$f":"IF('保険料申告内訳名簿（一人親方団体控）'!X186=\"\",\"\",'保険料申告内訳名簿（一人親方団体控）'!X186)","v":""},{"$f":"IF('保険料申告内訳名簿（一人親方団体控）'!Y186=\"\",\"\",'保険料申告内訳名簿（一人親方団体控）'!Y186)","v":""},{"$f":"IF('保険料申告内訳名簿（一人親方団体控）'!Z186=\"\",\"\",'保険料申告内訳名簿（一人親方団体控）'!Z186)","v":""},{"$f":"IF('保険料申告内訳名簿（一人親方団体控）'!AA186=\"\",\"\",'保険料申告内訳名簿（一人親方団体控）'!AA186)","v":""},{"$f":"IF('保険料申告内訳名簿（一人親方団体控）'!AB186=\"\",\"\",'保険料申告内訳名簿（一人親方団体控）'!AB186)","v":""},{"$f":"IF('保険料申告内訳名簿（一人親方団体控）'!AC186=\"\",\"\",'保険料申告内訳名簿（一人親方団体控）'!AC186)","v":0},{"$f":"IF('保険料申告内訳名簿（一人親方団体控）'!AD186=\"\",\"\",'保険料申告内訳名簿（一人親方団体控）'!AD186)","v":""},{"$f":"IF('保険料申告内訳名簿（一人親方団体控）'!AE186=\"\",\"\",'保険料申告内訳名簿（一人親方団体控）'!AE186)","v":""},{"$f":"IF('保険料申告内訳名簿（一人親方団体控）'!AF186=\"\",\"\",'保険料申告内訳名簿（一人親方団体控）'!AF186)","v":""},{"$f":"IF('保険料申告内訳名簿（一人親方団体控）'!AG186=\"\",\"\",'保険料申告内訳名簿（一人親方団体控）'!AG186)","v":""},{"$f":"IF('保険料申告内訳名簿（一人親方団体控）'!AH186=\"\",\"\",'保険料申告内訳名簿（一人親方団体控）'!AH186)","v":""}]
[null,{"$f":"IF('保険料申告内訳名簿（一人親方団体控）'!B187=\"\",\"\",'保険料申告内訳名簿（一人親方団体控）'!B187)","v":""},{"$f":"IF('保険料申告内訳名簿（一人親方団体控）'!C187=\"\",\"\",'保険料申告内訳名簿（一人親方団体控）'!C187)","v":""},{"$f":"IF('保険料申告内訳名簿（一人親方団体控）'!D187=\"\",\"\",'保険料申告内訳名簿（一人親方団体控）'!D187)","v":""},{"$f":"IF('保険料申告内訳名簿（一人親方団体控）'!E187=\"\",\"\",'保険料申告内訳名簿（一人親方団体控）'!E187)","v":""},{"$f":"IF('保険料申告内訳名簿（一人親方団体控）'!F187=\"\",\"\",'保険料申告内訳名簿（一人親方団体控）'!F187)","v":""},{"$f":"IF('保険料申告内訳名簿（一人親方団体控）'!G187=\"\",\"\",'保険料申告内訳名簿（一人親方団体控）'!G187)","v":""},{"$f":"IF('保険料申告内訳名簿（一人親方団体控）'!H187=\"\",\"\",'保険料申告内訳名簿（一人親方団体控）'!H187)","v":""},{"$f":"IF('保険料申告内訳名簿（一人親方団体控）'!I187=\"\",\"\",'保険料申告内訳名簿（一人親方団体控）'!I187)","v":""},{"$f":"IF('保険料申告内訳名簿（一人親方団体控）'!J187=\"\",\"\",'保険料申告内訳名簿（一人親方団体控）'!J187)","v":""},{"$f":"IF('保険料申告内訳名簿（一人親方団体控）'!K187=\"\",\"\",'保険料申告内訳名簿（一人親方団体控）'!K187)","v":""},{"$f":"IF('保険料申告内訳名簿（一人親方団体控）'!L187=\"\",\"\",'保険料申告内訳名簿（一人親方団体控）'!L187)","v":""},{"$f":"IF('保険料申告内訳名簿（一人親方団体控）'!M187=\"\",\"\",'保険料申告内訳名簿（一人親方団体控）'!M187)","v":""},{"$f":"IF('保険料申告内訳名簿（一人親方団体控）'!N187=\"\",\"\",'保険料申告内訳名簿（一人親方団体控）'!N187)","v":""},{"$f":"IF('保険料申告内訳名簿（一人親方団体控）'!O187=\"\",\"\",'保険料申告内訳名簿（一人親方団体控）'!O187)","v":""},{"$f":"IF('保険料申告内訳名簿（一人親方団体控）'!P187=\"\",\"\",'保険料申告内訳名簿（一人親方団体控）'!P187)","v":""},{"$f":"IF('保険料申告内訳名簿（一人親方団体控）'!Q187=\"\",\"\",'保険料申告内訳名簿（一人親方団体控）'!Q187)","v":""},{"$f":"IF('保険料申告内訳名簿（一人親方団体控）'!R187=\"\",\"\",'保険料申告内訳名簿（一人親方団体控）'!R187)","v":""},{"$f":"IF('保険料申告内訳名簿（一人親方団体控）'!S187=\"\",\"\",'保険料申告内訳名簿（一人親方団体控）'!S187)","v":0},{"$f":"IF('保険料申告内訳名簿（一人親方団体控）'!T187=\"\",\"\",'保険料申告内訳名簿（一人親方団体控）'!T187)","v":""},{"$f":"IF('保険料申告内訳名簿（一人親方団体控）'!U187=\"\",\"\",'保険料申告内訳名簿（一人親方団体控）'!U187)","v":""},{"$f":"IF('保険料申告内訳名簿（一人親方団体控）'!V187=\"\",\"\",'保険料申告内訳名簿（一人親方団体控）'!V187)","v":""},{"$f":"IF('保険料申告内訳名簿（一人親方団体控）'!W187=\"\",\"\",'保険料申告内訳名簿（一人親方団体控）'!W187)","v":""},{"$f":"IF('保険料申告内訳名簿（一人親方団体控）'!X187=\"\",\"\",'保険料申告内訳名簿（一人親方団体控）'!X187)","v":""},{"$f":"IF('保険料申告内訳名簿（一人親方団体控）'!Y187=\"\",\"\",'保険料申告内訳名簿（一人親方団体控）'!Y187)","v":""},{"$f":"IF('保険料申告内訳名簿（一人親方団体控）'!Z187=\"\",\"\",'保険料申告内訳名簿（一人親方団体控）'!Z187)","v":""},{"$f":"IF('保険料申告内訳名簿（一人親方団体控）'!AA187=\"\",\"\",'保険料申告内訳名簿（一人親方団体控）'!AA187)","v":""},{"$f":"IF('保険料申告内訳名簿（一人親方団体控）'!AB187=\"\",\"\",'保険料申告内訳名簿（一人親方団体控）'!AB187)","v":""},{"$f":"IF('保険料申告内訳名簿（一人親方団体控）'!AC187=\"\",\"\",'保険料申告内訳名簿（一人親方団体控）'!AC187)","v":0},{"$f":"IF('保険料申告内訳名簿（一人親方団体控）'!AD187=\"\",\"\",'保険料申告内訳名簿（一人親方団体控）'!AD187)","v":""},{"$f":"IF('保険料申告内訳名簿（一人親方団体控）'!AE187=\"\",\"\",'保険料申告内訳名簿（一人親方団体控）'!AE187)","v":""},{"$f":"IF('保険料申告内訳名簿（一人親方団体控）'!AF187=\"\",\"\",'保険料申告内訳名簿（一人親方団体控）'!AF187)","v":""},{"$f":"IF('保険料申告内訳名簿（一人親方団体控）'!AG187=\"\",\"\",'保険料申告内訳名簿（一人親方団体控）'!AG187)","v":""},{"$f":"IF('保険料申告内訳名簿（一人親方団体控）'!AH187=\"\",\"\",'保険料申告内訳名簿（一人親方団体控）'!AH187)","v":""}]
[null,{"$f":"IF('保険料申告内訳名簿（一人親方団体控）'!B188=\"\",\"\",'保険料申告内訳名簿（一人親方団体控）'!B188)","v":""},{"$f":"IF('保険料申告内訳名簿（一人親方団体控）'!C188=\"\",\"\",'保険料申告内訳名簿（一人親方団体控）'!C188)","v":""},{"$f":"IF('保険料申告内訳名簿（一人親方団体控）'!D188=\"\",\"\",'保険料申告内訳名簿（一人親方団体控）'!D188)","v":""},{"$f":"IF('保険料申告内訳名簿（一人親方団体控）'!E188=\"\",\"\",'保険料申告内訳名簿（一人親方団体控）'!E188)","v":""},{"$f":"IF('保険料申告内訳名簿（一人親方団体控）'!F188=\"\",\"\",'保険料申告内訳名簿（一人親方団体控）'!F188)","v":""},{"$f":"IF('保険料申告内訳名簿（一人親方団体控）'!G188=\"\",\"\",'保険料申告内訳名簿（一人親方団体控）'!G188)","v":""},{"$f":"IF('保険料申告内訳名簿（一人親方団体控）'!H188=\"\",\"\",'保険料申告内訳名簿（一人親方団体控）'!H188)","v":""},{"$f":"IF('保険料申告内訳名簿（一人親方団体控）'!I188=\"\",\"\",'保険料申告内訳名簿（一人親方団体控）'!I188)","v":""},{"$f":"IF('保険料申告内訳名簿（一人親方団体控）'!J188=\"\",\"\",'保険料申告内訳名簿（一人親方団体控）'!J188)","v":""},{"$f":"IF('保険料申告内訳名簿（一人親方団体控）'!K188=\"\",\"\",'保険料申告内訳名簿（一人親方団体控）'!K188)","v":""},{"$f":"IF('保険料申告内訳名簿（一人親方団体控）'!L188=\"\",\"\",'保険料申告内訳名簿（一人親方団体控）'!L188)","v":""},{"$f":"IF('保険料申告内訳名簿（一人親方団体控）'!M188=\"\",\"\",'保険料申告内訳名簿（一人親方団体控）'!M188)","v":""},{"$f":"IF('保険料申告内訳名簿（一人親方団体控）'!N188=\"\",\"\",'保険料申告内訳名簿（一人親方団体控）'!N188)","v":""},{"$f":"IF('保険料申告内訳名簿（一人親方団体控）'!O188=\"\",\"\",'保険料申告内訳名簿（一人親方団体控）'!O188)","v":""},{"$f":"IF('保険料申告内訳名簿（一人親方団体控）'!P188=\"\",\"\",'保険料申告内訳名簿（一人親方団体控）'!P188)","v":""},{"$f":"IF('保険料申告内訳名簿（一人親方団体控）'!Q188=\"\",\"\",'保険料申告内訳名簿（一人親方団体控）'!Q188)","v":""},{"$f":"IF('保険料申告内訳名簿（一人親方団体控）'!R188=\"\",\"\",'保険料申告内訳名簿（一人親方団体控）'!R188)","v":""},{"$f":"IF('保険料申告内訳名簿（一人親方団体控）'!S188=\"\",\"\",'保険料申告内訳名簿（一人親方団体控）'!S188)","v":0},{"$f":"IF('保険料申告内訳名簿（一人親方団体控）'!T188=\"\",\"\",'保険料申告内訳名簿（一人親方団体控）'!T188)","v":""},{"$f":"IF('保険料申告内訳名簿（一人親方団体控）'!U188=\"\",\"\",'保険料申告内訳名簿（一人親方団体控）'!U188)","v":""},{"$f":"IF('保険料申告内訳名簿（一人親方団体控）'!V188=\"\",\"\",'保険料申告内訳名簿（一人親方団体控）'!V188)","v":""},{"$f":"IF('保険料申告内訳名簿（一人親方団体控）'!W188=\"\",\"\",'保険料申告内訳名簿（一人親方団体控）'!W188)","v":""},{"$f":"IF('保険料申告内訳名簿（一人親方団体控）'!X188=\"\",\"\",'保険料申告内訳名簿（一人親方団体控）'!X188)","v":""},{"$f":"IF('保険料申告内訳名簿（一人親方団体控）'!Y188=\"\",\"\",'保険料申告内訳名簿（一人親方団体控）'!Y188)","v":""},{"$f":"IF('保険料申告内訳名簿（一人親方団体控）'!Z188=\"\",\"\",'保険料申告内訳名簿（一人親方団体控）'!Z188)","v":""},{"$f":"IF('保険料申告内訳名簿（一人親方団体控）'!AA188=\"\",\"\",'保険料申告内訳名簿（一人親方団体控）'!AA188)","v":""},{"$f":"IF('保険料申告内訳名簿（一人親方団体控）'!AB188=\"\",\"\",'保険料申告内訳名簿（一人親方団体控）'!AB188)","v":""},{"$f":"IF('保険料申告内訳名簿（一人親方団体控）'!AC188=\"\",\"\",'保険料申告内訳名簿（一人親方団体控）'!AC188)","v":0},{"$f":"IF('保険料申告内訳名簿（一人親方団体控）'!AD188=\"\",\"\",'保険料申告内訳名簿（一人親方団体控）'!AD188)","v":""},{"$f":"IF('保険料申告内訳名簿（一人親方団体控）'!AE188=\"\",\"\",'保険料申告内訳名簿（一人親方団体控）'!AE188)","v":""},{"$f":"IF('保険料申告内訳名簿（一人親方団体控）'!AF188=\"\",\"\",'保険料申告内訳名簿（一人親方団体控）'!AF188)","v":""},{"$f":"IF('保険料申告内訳名簿（一人親方団体控）'!AG188=\"\",\"\",'保険料申告内訳名簿（一人親方団体控）'!AG188)","v":""},{"$f":"IF('保険料申告内訳名簿（一人親方団体控）'!AH188=\"\",\"\",'保険料申告内訳名簿（一人親方団体控）'!AH188)","v":""}]
[null,{"$f":"IF('保険料申告内訳名簿（一人親方団体控）'!B189=\"\",\"\",'保険料申告内訳名簿（一人親方団体控）'!B189)","v":""},{"$f":"IF('保険料申告内訳名簿（一人親方団体控）'!C189=\"\",\"\",'保険料申告内訳名簿（一人親方団体控）'!C189)","v":""},{"$f":"IF('保険料申告内訳名簿（一人親方団体控）'!D189=\"\",\"\",'保険料申告内訳名簿（一人親方団体控）'!D189)","v":""},{"$f":"IF('保険料申告内訳名簿（一人親方団体控）'!E189=\"\",\"\",'保険料申告内訳名簿（一人親方団体控）'!E189)","v":""},{"$f":"IF('保険料申告内訳名簿（一人親方団体控）'!F189=\"\",\"\",'保険料申告内訳名簿（一人親方団体控）'!F189)","v":""},{"$f":"IF('保険料申告内訳名簿（一人親方団体控）'!G189=\"\",\"\",'保険料申告内訳名簿（一人親方団体控）'!G189)","v":""},{"$f":"IF('保険料申告内訳名簿（一人親方団体控）'!H189=\"\",\"\",'保険料申告内訳名簿（一人親方団体控）'!H189)","v":""},{"$f":"IF('保険料申告内訳名簿（一人親方団体控）'!I189=\"\",\"\",'保険料申告内訳名簿（一人親方団体控）'!I189)","v":""},{"$f":"IF('保険料申告内訳名簿（一人親方団体控）'!J189=\"\",\"\",'保険料申告内訳名簿（一人親方団体控）'!J189)","v":""},{"$f":"IF('保険料申告内訳名簿（一人親方団体控）'!K189=\"\",\"\",'保険料申告内訳名簿（一人親方団体控）'!K189)","v":""},{"$f":"IF('保険料申告内訳名簿（一人親方団体控）'!L189=\"\",\"\",'保険料申告内訳名簿（一人親方団体控）'!L189)","v":""},{"$f":"IF('保険料申告内訳名簿（一人親方団体控）'!M189=\"\",\"\",'保険料申告内訳名簿（一人親方団体控）'!M189)","v":""},{"$f":"IF('保険料申告内訳名簿（一人親方団体控）'!N189=\"\",\"\",'保険料申告内訳名簿（一人親方団体控）'!N189)","v":""},{"$f":"IF('保険料申告内訳名簿（一人親方団体控）'!O189=\"\",\"\",'保険料申告内訳名簿（一人親方団体控）'!O189)","v":""},{"$f":"IF('保険料申告内訳名簿（一人親方団体控）'!P189=\"\",\"\",'保険料申告内訳名簿（一人親方団体控）'!P189)","v":""},{"$f":"IF('保険料申告内訳名簿（一人親方団体控）'!Q189=\"\",\"\",'保険料申告内訳名簿（一人親方団体控）'!Q189)","v":""},{"$f":"IF('保険料申告内訳名簿（一人親方団体控）'!R189=\"\",\"\",'保険料申告内訳名簿（一人親方団体控）'!R189)","v":""},{"$f":"IF('保険料申告内訳名簿（一人親方団体控）'!S189=\"\",\"\",'保険料申告内訳名簿（一人親方団体控）'!S189)","v":0},{"$f":"IF('保険料申告内訳名簿（一人親方団体控）'!T189=\"\",\"\",'保険料申告内訳名簿（一人親方団体控）'!T189)","v":""},{"$f":"IF('保険料申告内訳名簿（一人親方団体控）'!U189=\"\",\"\",'保険料申告内訳名簿（一人親方団体控）'!U189)","v":""},{"$f":"IF('保険料申告内訳名簿（一人親方団体控）'!V189=\"\",\"\",'保険料申告内訳名簿（一人親方団体控）'!V189)","v":""},{"$f":"IF('保険料申告内訳名簿（一人親方団体控）'!W189=\"\",\"\",'保険料申告内訳名簿（一人親方団体控）'!W189)","v":""},{"$f":"IF('保険料申告内訳名簿（一人親方団体控）'!X189=\"\",\"\",'保険料申告内訳名簿（一人親方団体控）'!X189)","v":""},{"$f":"IF('保険料申告内訳名簿（一人親方団体控）'!Y189=\"\",\"\",'保険料申告内訳名簿（一人親方団体控）'!Y189)","v":""},{"$f":"IF('保険料申告内訳名簿（一人親方団体控）'!Z189=\"\",\"\",'保険料申告内訳名簿（一人親方団体控）'!Z189)","v":""},{"$f":"IF('保険料申告内訳名簿（一人親方団体控）'!AA189=\"\",\"\",'保険料申告内訳名簿（一人親方団体控）'!AA189)","v":""},{"$f":"IF('保険料申告内訳名簿（一人親方団体控）'!AB189=\"\",\"\",'保険料申告内訳名簿（一人親方団体控）'!AB189)","v":""},{"$f":"IF('保険料申告内訳名簿（一人親方団体控）'!AC189=\"\",\"\",'保険料申告内訳名簿（一人親方団体控）'!AC189)","v":0},{"$f":"IF('保険料申告内訳名簿（一人親方団体控）'!AD189=\"\",\"\",'保険料申告内訳名簿（一人親方団体控）'!AD189)","v":""},{"$f":"IF('保険料申告内訳名簿（一人親方団体控）'!AE189=\"\",\"\",'保険料申告内訳名簿（一人親方団体控）'!AE189)","v":""},{"$f":"IF('保険料申告内訳名簿（一人親方団体控）'!AF189=\"\",\"\",'保険料申告内訳名簿（一人親方団体控）'!AF189)","v":""},{"$f":"IF('保険料申告内訳名簿（一人親方団体控）'!AG189=\"\",\"\",'保険料申告内訳名簿（一人親方団体控）'!AG189)","v":""},{"$f":"IF('保険料申告内訳名簿（一人親方団体控）'!AH189=\"\",\"\",'保険料申告内訳名簿（一人親方団体控）'!AH189)","v":""}]
[null,{"$f":"IF('保険料申告内訳名簿（一人親方団体控）'!B190=\"\",\"\",'保険料申告内訳名簿（一人親方団体控）'!B190)","v":""},{"$f":"IF('保険料申告内訳名簿（一人親方団体控）'!C190=\"\",\"\",'保険料申告内訳名簿（一人親方団体控）'!C190)","v":""},{"$f":"IF('保険料申告内訳名簿（一人親方団体控）'!D190=\"\",\"\",'保険料申告内訳名簿（一人親方団体控）'!D190)","v":""},{"$f":"IF('保険料申告内訳名簿（一人親方団体控）'!E190=\"\",\"\",'保険料申告内訳名簿（一人親方団体控）'!E190)","v":""},{"$f":"IF('保険料申告内訳名簿（一人親方団体控）'!F190=\"\",\"\",'保険料申告内訳名簿（一人親方団体控）'!F190)","v":""},{"$f":"IF('保険料申告内訳名簿（一人親方団体控）'!G190=\"\",\"\",'保険料申告内訳名簿（一人親方団体控）'!G190)","v":""},{"$f":"IF('保険料申告内訳名簿（一人親方団体控）'!H190=\"\",\"\",'保険料申告内訳名簿（一人親方団体控）'!H190)","v":""},{"$f":"IF('保険料申告内訳名簿（一人親方団体控）'!I190=\"\",\"\",'保険料申告内訳名簿（一人親方団体控）'!I190)","v":""},{"$f":"IF('保険料申告内訳名簿（一人親方団体控）'!J190=\"\",\"\",'保険料申告内訳名簿（一人親方団体控）'!J190)","v":""},{"$f":"IF('保険料申告内訳名簿（一人親方団体控）'!K190=\"\",\"\",'保険料申告内訳名簿（一人親方団体控）'!K190)","v":""},{"$f":"IF('保険料申告内訳名簿（一人親方団体控）'!L190=\"\",\"\",'保険料申告内訳名簿（一人親方団体控）'!L190)","v":""},{"$f":"IF('保険料申告内訳名簿（一人親方団体控）'!M190=\"\",\"\",'保険料申告内訳名簿（一人親方団体控）'!M190)","v":""},{"$f":"IF('保険料申告内訳名簿（一人親方団体控）'!N190=\"\",\"\",'保険料申告内訳名簿（一人親方団体控）'!N190)","v":""},{"$f":"IF('保険料申告内訳名簿（一人親方団体控）'!O190=\"\",\"\",'保険料申告内訳名簿（一人親方団体控）'!O190)","v":""},{"$f":"IF('保険料申告内訳名簿（一人親方団体控）'!P190=\"\",\"\",'保険料申告内訳名簿（一人親方団体控）'!P190)","v":""},{"$f":"IF('保険料申告内訳名簿（一人親方団体控）'!Q190=\"\",\"\",'保険料申告内訳名簿（一人親方団体控）'!Q190)","v":""},{"$f":"IF('保険料申告内訳名簿（一人親方団体控）'!R190=\"\",\"\",'保険料申告内訳名簿（一人親方団体控）'!R190)","v":""},{"$f":"IF('保険料申告内訳名簿（一人親方団体控）'!S190=\"\",\"\",'保険料申告内訳名簿（一人親方団体控）'!S190)","v":0},{"$f":"IF('保険料申告内訳名簿（一人親方団体控）'!T190=\"\",\"\",'保険料申告内訳名簿（一人親方団体控）'!T190)","v":""},{"$f":"IF('保険料申告内訳名簿（一人親方団体控）'!U190=\"\",\"\",'保険料申告内訳名簿（一人親方団体控）'!U190)","v":""},{"$f":"IF('保険料申告内訳名簿（一人親方団体控）'!V190=\"\",\"\",'保険料申告内訳名簿（一人親方団体控）'!V190)","v":""},{"$f":"IF('保険料申告内訳名簿（一人親方団体控）'!W190=\"\",\"\",'保険料申告内訳名簿（一人親方団体控）'!W190)","v":""},{"$f":"IF('保険料申告内訳名簿（一人親方団体控）'!X190=\"\",\"\",'保険料申告内訳名簿（一人親方団体控）'!X190)","v":""},{"$f":"IF('保険料申告内訳名簿（一人親方団体控）'!Y190=\"\",\"\",'保険料申告内訳名簿（一人親方団体控）'!Y190)","v":""},{"$f":"IF('保険料申告内訳名簿（一人親方団体控）'!Z190=\"\",\"\",'保険料申告内訳名簿（一人親方団体控）'!Z190)","v":""},{"$f":"IF('保険料申告内訳名簿（一人親方団体控）'!AA190=\"\",\"\",'保険料申告内訳名簿（一人親方団体控）'!AA190)","v":""},{"$f":"IF('保険料申告内訳名簿（一人親方団体控）'!AB190=\"\",\"\",'保険料申告内訳名簿（一人親方団体控）'!AB190)","v":""},{"$f":"IF('保険料申告内訳名簿（一人親方団体控）'!AC190=\"\",\"\",'保険料申告内訳名簿（一人親方団体控）'!AC190)","v":0},{"$f":"IF('保険料申告内訳名簿（一人親方団体控）'!AD190=\"\",\"\",'保険料申告内訳名簿（一人親方団体控）'!AD190)","v":""},{"$f":"IF('保険料申告内訳名簿（一人親方団体控）'!AE190=\"\",\"\",'保険料申告内訳名簿（一人親方団体控）'!AE190)","v":""},{"$f":"IF('保険料申告内訳名簿（一人親方団体控）'!AF190=\"\",\"\",'保険料申告内訳名簿（一人親方団体控）'!AF190)","v":""},{"$f":"IF('保険料申告内訳名簿（一人親方団体控）'!AG190=\"\",\"\",'保険料申告内訳名簿（一人親方団体控）'!AG190)","v":""},{"$f":"IF('保険料申告内訳名簿（一人親方団体控）'!AH190=\"\",\"\",'保険料申告内訳名簿（一人親方団体控）'!AH190)","v":""}]
[null,null,null,null,null,null,null,null,null,null,null,null,null,null,null,null,null,null,{"$f":"IF('保険料申告内訳名簿（一人親方団体控）'!S191=\"\",\"\",'保険料申告内訳名簿（一人親方団体控）'!S191)","v":0},{"$f":"IF('保険料申告内訳名簿（一人親方団体控）'!T191=\"\",\"\",'保険料申告内訳名簿（一人親方団体控）'!T191)","v":""},{"$f":"IF('保険料申告内訳名簿（一人親方団体控）'!U191=\"\",\"\",'保険料申告内訳名簿（一人親方団体控）'!U191)","v":""},{"$f":"IF('保険料申告内訳名簿（一人親方団体控）'!V191=\"\",\"\",'保険料申告内訳名簿（一人親方団体控）'!V191)","v":""},{"$f":"IF('保険料申告内訳名簿（一人親方団体控）'!W191=\"\",\"\",'保険料申告内訳名簿（一人親方団体控）'!W191)","v":""},{"$f":"IF('保険料申告内訳名簿（一人親方団体控）'!X191=\"\",\"\",'保険料申告内訳名簿（一人親方団体控）'!X191)","v":""},null,null,null,null,{"$f":"IF('保険料申告内訳名簿（一人親方団体控）'!AC191=\"\",\"\",'保険料申告内訳名簿（一人親方団体控）'!AC191)","v":0},{"$f":"IF('保険料申告内訳名簿（一人親方団体控）'!AD191=\"\",\"\",'保険料申告内訳名簿（一人親方団体控）'!AD191)","v":""},{"$f":"IF('保険料申告内訳名簿（一人親方団体控）'!AE191=\"\",\"\",'保険料申告内訳名簿（一人親方団体控）'!AE191)","v":""},{"$f":"IF('保険料申告内訳名簿（一人親方団体控）'!AF191=\"\",\"\",'保険料申告内訳名簿（一人親方団体控）'!AF191)","v":""},{"$f":"IF('保険料申告内訳名簿（一人親方団体控）'!AG191=\"\",\"\",'保険料申告内訳名簿（一人親方団体控）'!AG191)","v":""},{"$f":"IF('保険料申告内訳名簿（一人親方団体控）'!AH191=\"\",\"\",'保険料申告内訳名簿（一人親方団体控）'!AH191)","v":""}]
[]
[null,"（注）"]
[null,null,"１）　④欄は月割の対象となる方のみ記入して下さい。"]
[null,null,"２）　月割の対象となる場合の⑤保険料算定基礎額の算定方法"]
[null,null,"２）　月割の対象となる場合の③（給付基礎日額×365÷12）（円未満を切り上げてから）×加入月数"]
[]
[]
[null,"【島根局版】",null,null,null,null,null,null,null,null,null,null,null,null,null,null,null,null,null,null,null,null,null,null,null,null,"局用"]
[null,"第２種特別加入保険料申告内訳名簿"]
[null,"（一人親方等）"]
[null,null,null,null,null,null,null,null,null,null,null,null,null,null,null,null,null,null,null,null,null,null,null,null,"（",{"$f":"IF('保険料申告内訳名簿（一人親方団体控）'!Z202=\"\",\"\",'保険料申告内訳名簿（一人親方団体控）'!Z202)","v":0},{"$f":"IF('保険料申告内訳名簿（一人親方団体控）'!AA202=\"\",\"\",'保険料申告内訳名簿（一人親方団体控）'!AA202)","v":""},"枚のうち",null,{"$f":"IF('保険料申告内訳名簿（一人親方団体控）'!AD202=\"\",\"\",'保険料申告内訳名簿（一人親方団体控）'!AD202)","v":7},{"$f":"IF('保険料申告内訳名簿（一人親方団体控）'!AE202=\"\",\"\",'保険料申告内訳名簿（一人親方団体控）'!AE202)","v":""},"枚目",null,"）"]
[]
[null,"労働保険\n番　　　号",null,null,null,null,"府県",null,"所掌","管轄",null,"基幹番号",null,null,null,null,null,"枝番号",null,null,"事業場の\n所在地",null,null,{"$f":"IF('保険料申告内訳名簿（一人親方団体控）'!X204=\"\",\"\",'保険料申告内訳名簿（一人親方団体控）'!X204)","v":""},{"$f":"IF('保険料申告内訳名簿（一人親方団体控）'!Y204=\"\",\"\",'保険料申告内訳名簿（一人親方団体控）'!Y204)","v":""},{"$f":"IF('保険料申告内訳名簿（一人親方団体控）'!Z204=\"\",\"\",'保険料申告内訳名簿（一人親方団体控）'!Z204)","v":""},{"$f":"IF('保険料申告内訳名簿（一人親方団体控）'!AA204=\"\",\"\",'保険料申告内訳名簿（一人親方団体控）'!AA204)","v":""},{"$f":"IF('保険料申告内訳名簿（一人親方団体控）'!AB204=\"\",\"\",'保険料申告内訳名簿（一人親方団体控）'!AB204)","v":""},{"$f":"IF('保険料申告内訳名簿（一人親方団体控）'!AC204=\"\",\"\",'保険料申告内訳名簿（一人親方団体控）'!AC204)","v":""},{"$f":"IF('保険料申告内訳名簿（一人親方団体控）'!AD204=\"\",\"\",'保険料申告内訳名簿（一人親方団体控）'!AD204)","v":""},{"$f":"IF('保険料申告内訳名簿（一人親方団体控）'!AE204=\"\",\"\",'保険料申告内訳名簿（一人親方団体控）'!AE204)","v":""},{"$f":"IF('保険料申告内訳名簿（一人親方団体控）'!AF204=\"\",\"\",'保険料申告内訳名簿（一人親方団体控）'!AF204)","v":""},{"$f":"IF('保険料申告内訳名簿（一人親方団体控）'!AG204=\"\",\"\",'保険料申告内訳名簿（一人親方団体控）'!AG204)","v":""},{"$f":"IF('保険料申告内訳名簿（一人親方団体控）'!AH204=\"\",\"\",'保険料申告内訳名簿（一人親方団体控）'!AH204)","v":""}]
[null,null,null,null,null,null,"3","2",{"$f":"IF('保険料申告内訳名簿（一人親方団体控）'!I205=\"\",\"\",'保険料申告内訳名簿（一人親方団体控）'!I205)","v":""},{"$f":"IF('保険料申告内訳名簿（一人親方団体控）'!J205=\"\",\"\",'保険料申告内訳名簿（一人親方団体控）'!J205)","v":""},{"$f":"IF('保険料申告内訳名簿（一人親方団体控）'!K205=\"\",\"\",'保険料申告内訳名簿（一人親方団体控）'!K205)","v":""},{"$f":"IF('保険料申告内訳名簿（一人親方団体控）'!L205=\"\",\"\",'保険料申告内訳名簿（一人親方団体控）'!L205)","v":""},{"$f":"IF('保険料申告内訳名簿（一人親方団体控）'!M205=\"\",\"\",'保険料申告内訳名簿（一人親方団体控）'!M205)","v":""},{"$f":"IF('保険料申告内訳名簿（一人親方団体控）'!N205=\"\",\"\",'保険料申告内訳名簿（一人親方団体控）'!N205)","v":""},{"$f":"IF('保険料申告内訳名簿（一人親方団体控）'!O205=\"\",\"\",'保険料申告内訳名簿（一人親方団体控）'!O205)","v":""},{"$f":"IF('保険料申告内訳名簿（一人親方団体控）'!P205=\"\",\"\",'保険料申告内訳名簿（一人親方団体控）'!P205)","v":""},{"$f":"IF('保険料申告内訳名簿（一人親方団体控）'!Q205=\"\",\"\",'保険料申告内訳名簿（一人親方団体控）'!Q205)","v":""},{"$f":"IF('保険料申告内訳名簿（一人親方団体控）'!R205=\"\",\"\",'保険料申告内訳名簿（一人親方団体控）'!R205)","v":""},{"$f":"IF('保険料申告内訳名簿（一人親方団体控）'!S205=\"\",\"\",'保険料申告内訳名簿（一人親方団体控）'!S205)","v":""},{"$f":"IF('保険料申告内訳名簿（一人親方団体控）'!T205=\"\",\"\",'保険料申告内訳名簿（一人親方団体控）'!T205)","v":""},"事業場の\n名称",null,null,{"$f":"IF('保険料申告内訳名簿（一人親方団体控）'!X205=\"\",\"\",'保険料申告内訳名簿（一人親方団体控）'!X205)","v":""},{"$f":"IF('保険料申告内訳名簿（一人親方団体控）'!Y205=\"\",\"\",'保険料申告内訳名簿（一人親方団体控）'!Y205)","v":""},{"$f":"IF('保険料申告内訳名簿（一人親方団体控）'!Z205=\"\",\"\",'保険料申告内訳名簿（一人親方団体控）'!Z205)","v":""},{"$f":"IF('保険料申告内訳名簿（一人親方団体控）'!AA205=\"\",\"\",'保険料申告内訳名簿（一人親方団体控）'!AA205)","v":""},{"$f":"IF('保険料申告内訳名簿（一人親方団体控）'!AB205=\"\",\"\",'保険料申告内訳名簿（一人親方団体控）'!AB205)","v":""},{"$f":"IF('保険料申告内訳名簿（一人親方団体控）'!AC205=\"\",\"\",'保険料申告内訳名簿（一人親方団体控）'!AC205)","v":""},{"$f":"IF('保険料申告内訳名簿（一人親方団体控）'!AD205=\"\",\"\",'保険料申告内訳名簿（一人親方団体控）'!AD205)","v":""},{"$f":"IF('保険料申告内訳名簿（一人親方団体控）'!AE205=\"\",\"\",'保険料申告内訳名簿（一人親方団体控）'!AE205)","v":""},{"$f":"IF('保険料申告内訳名簿（一人親方団体控）'!AF205=\"\",\"\",'保険料申告内訳名簿（一人親方団体控）'!AF205)","v":""},{"$f":"IF('保険料申告内訳名簿（一人親方団体控）'!AG205=\"\",\"\",'保険料申告内訳名簿（一人親方団体控）'!AG205)","v":""},{"$f":"IF('保険料申告内訳名簿（一人親方団体控）'!AH205=\"\",\"\",'保険料申告内訳名簿（一人親方団体控）'!AH205)","v":""}]
[null,"①\n整理\n番号",null,"②\n氏名",null,null,null,null,null,null,null,null,null,null,"令 和",null,null,{"$f":"IF('保険料申告内訳名簿（一人親方団体控）'!R206=\"\",\"\",'保険料申告内訳名簿（一人親方団体控）'!R206)","v":""},{"$f":"IF('保険料申告内訳名簿（一人親方団体控）'!S206=\"\",\"\",'保険料申告内訳名簿（一人親方団体控）'!S206)","v":""},{"$f":"IF('保険料申告内訳名簿（一人親方団体控）'!T206=\"\",\"\",'保険料申告内訳名簿（一人親方団体控）'!T206)","v":""},null,null,null,"年 度 確 定 ","令 和",null,null,{"$f":"IF('保険料申告内訳名簿（一人親方団体控）'!AB206=\"\",\"\",'保険料申告内訳名簿（一人親方団体控）'!AB206)","v":""},{"$f":"IF('保険料申告内訳名簿（一人親方団体控）'!AC206=\"\",\"\",'保険料申告内訳名簿（一人親方団体控）'!AC206)","v":""},{"$f":"IF('保険料申告内訳名簿（一人親方団体控）'!AD206=\"\",\"\",'保険料申告内訳名簿（一人親方団体控）'!AD206)","v":""},null,null,null,"年 度 概 算 "]
[null,null,null,null,null,null,null,"③　\n給付基礎日額",null,null,null,"④年度中途加入・脱退",null,null,null,null,null,null,"⑤\n保険料算定基礎額",null,null,null,null,null,"⑥\n給付基礎日額",null,null,null,"⑦\n保険料算定基礎額"]
[null,null,null,null,null,null,null,null,null,null,null,"加入・脱退年月日",null,null,null,null,"加入月数"]
[null,{"$f":"IF('保険料申告内訳名簿（一人親方団体控）'!B209=\"\",\"\",'保険料申告内訳名簿（一人親方団体控）'!B209)","v":""},{"$f":"IF('保険料申告内訳名簿（一人親方団体控）'!C209=\"\",\"\",'保険料申告内訳名簿（一人親方団体控）'!C209)","v":""},{"$f":"IF('保険料申告内訳名簿（一人親方団体控）'!D209=\"\",\"\",'保険料申告内訳名簿（一人親方団体控）'!D209)","v":""},{"$f":"IF('保険料申告内訳名簿（一人親方団体控）'!E209=\"\",\"\",'保険料申告内訳名簿（一人親方団体控）'!E209)","v":""},{"$f":"IF('保険料申告内訳名簿（一人親方団体控）'!F209=\"\",\"\",'保険料申告内訳名簿（一人親方団体控）'!F209)","v":""},{"$f":"IF('保険料申告内訳名簿（一人親方団体控）'!G209=\"\",\"\",'保険料申告内訳名簿（一人親方団体控）'!G209)","v":""},{"$f":"IF('保険料申告内訳名簿（一人親方団体控）'!H209=\"\",\"\",'保険料申告内訳名簿（一人親方団体控）'!H209)","v":""},{"$f":"IF('保険料申告内訳名簿（一人親方団体控）'!I209=\"\",\"\",'保険料申告内訳名簿（一人親方団体控）'!I209)","v":""},{"$f":"IF('保険料申告内訳名簿（一人親方団体控）'!J209=\"\",\"\",'保険料申告内訳名簿（一人親方団体控）'!J209)","v":""},{"$f":"IF('保険料申告内訳名簿（一人親方団体控）'!K209=\"\",\"\",'保険料申告内訳名簿（一人親方団体控）'!K209)","v":""},{"$f":"IF('保険料申告内訳名簿（一人親方団体控）'!L209=\"\",\"\",'保険料申告内訳名簿（一人親方団体控）'!L209)","v":""},{"$f":"IF('保険料申告内訳名簿（一人親方団体控）'!M209=\"\",\"\",'保険料申告内訳名簿（一人親方団体控）'!M209)","v":""},{"$f":"IF('保険料申告内訳名簿（一人親方団体控）'!N209=\"\",\"\",'保険料申告内訳名簿（一人親方団体控）'!N209)","v":""},{"$f":"IF('保険料申告内訳名簿（一人親方団体控）'!O209=\"\",\"\",'保険料申告内訳名簿（一人親方団体控）'!O209)","v":""},{"$f":"IF('保険料申告内訳名簿（一人親方団体控）'!P209=\"\",\"\",'保険料申告内訳名簿（一人親方団体控）'!P209)","v":""},{"$f":"IF('保険料申告内訳名簿（一人親方団体控）'!Q209=\"\",\"\",'保険料申告内訳名簿（一人親方団体控）'!Q209)","v":""},{"$f":"IF('保険料申告内訳名簿（一人親方団体控）'!R209=\"\",\"\",'保険料申告内訳名簿（一人親方団体控）'!R209)","v":""},{"$f":"IF('保険料申告内訳名簿（一人親方団体控）'!S209=\"\",\"\",'保険料申告内訳名簿（一人親方団体控）'!S209)","v":0},{"$f":"IF('保険料申告内訳名簿（一人親方団体控）'!T209=\"\",\"\",'保険料申告内訳名簿（一人親方団体控）'!T209)","v":""},{"$f":"IF('保険料申告内訳名簿（一人親方団体控）'!U209=\"\",\"\",'保険料申告内訳名簿（一人親方団体控）'!U209)","v":""},{"$f":"IF('保険料申告内訳名簿（一人親方団体控）'!V209=\"\",\"\",'保険料申告内訳名簿（一人親方団体控）'!V209)","v":""},{"$f":"IF('保険料申告内訳名簿（一人親方団体控）'!W209=\"\",\"\",'保険料申告内訳名簿（一人親方団体控）'!W209)","v":""},{"$f":"IF('保険料申告内訳名簿（一人親方団体控）'!X209=\"\",\"\",'保険料申告内訳名簿（一人親方団体控）'!X209)","v":""},{"$f":"IF('保険料申告内訳名簿（一人親方団体控）'!Y209=\"\",\"\",'保険料申告内訳名簿（一人親方団体控）'!Y209)","v":""},{"$f":"IF('保険料申告内訳名簿（一人親方団体控）'!Z209=\"\",\"\",'保険料申告内訳名簿（一人親方団体控）'!Z209)","v":""},{"$f":"IF('保険料申告内訳名簿（一人親方団体控）'!AA209=\"\",\"\",'保険料申告内訳名簿（一人親方団体控）'!AA209)","v":""},{"$f":"IF('保険料申告内訳名簿（一人親方団体控）'!AB209=\"\",\"\",'保険料申告内訳名簿（一人親方団体控）'!AB209)","v":""},{"$f":"IF('保険料申告内訳名簿（一人親方団体控）'!AC209=\"\",\"\",'保険料申告内訳名簿（一人親方団体控）'!AC209)","v":0},{"$f":"IF('保険料申告内訳名簿（一人親方団体控）'!AD209=\"\",\"\",'保険料申告内訳名簿（一人親方団体控）'!AD209)","v":""},{"$f":"IF('保険料申告内訳名簿（一人親方団体控）'!AE209=\"\",\"\",'保険料申告内訳名簿（一人親方団体控）'!AE209)","v":""},{"$f":"IF('保険料申告内訳名簿（一人親方団体控）'!AF209=\"\",\"\",'保険料申告内訳名簿（一人親方団体控）'!AF209)","v":""},{"$f":"IF('保険料申告内訳名簿（一人親方団体控）'!AG209=\"\",\"\",'保険料申告内訳名簿（一人親方団体控）'!AG209)","v":""},{"$f":"IF('保険料申告内訳名簿（一人親方団体控）'!AH209=\"\",\"\",'保険料申告内訳名簿（一人親方団体控）'!AH209)","v":""}]
[null,{"$f":"IF('保険料申告内訳名簿（一人親方団体控）'!B210=\"\",\"\",'保険料申告内訳名簿（一人親方団体控）'!B210)","v":""},{"$f":"IF('保険料申告内訳名簿（一人親方団体控）'!C210=\"\",\"\",'保険料申告内訳名簿（一人親方団体控）'!C210)","v":""},{"$f":"IF('保険料申告内訳名簿（一人親方団体控）'!D210=\"\",\"\",'保険料申告内訳名簿（一人親方団体控）'!D210)","v":""},{"$f":"IF('保険料申告内訳名簿（一人親方団体控）'!E210=\"\",\"\",'保険料申告内訳名簿（一人親方団体控）'!E210)","v":""},{"$f":"IF('保険料申告内訳名簿（一人親方団体控）'!F210=\"\",\"\",'保険料申告内訳名簿（一人親方団体控）'!F210)","v":""},{"$f":"IF('保険料申告内訳名簿（一人親方団体控）'!G210=\"\",\"\",'保険料申告内訳名簿（一人親方団体控）'!G210)","v":""},{"$f":"IF('保険料申告内訳名簿（一人親方団体控）'!H210=\"\",\"\",'保険料申告内訳名簿（一人親方団体控）'!H210)","v":""},{"$f":"IF('保険料申告内訳名簿（一人親方団体控）'!I210=\"\",\"\",'保険料申告内訳名簿（一人親方団体控）'!I210)","v":""},{"$f":"IF('保険料申告内訳名簿（一人親方団体控）'!J210=\"\",\"\",'保険料申告内訳名簿（一人親方団体控）'!J210)","v":""},{"$f":"IF('保険料申告内訳名簿（一人親方団体控）'!K210=\"\",\"\",'保険料申告内訳名簿（一人親方団体控）'!K210)","v":""},{"$f":"IF('保険料申告内訳名簿（一人親方団体控）'!L210=\"\",\"\",'保険料申告内訳名簿（一人親方団体控）'!L210)","v":""},{"$f":"IF('保険料申告内訳名簿（一人親方団体控）'!M210=\"\",\"\",'保険料申告内訳名簿（一人親方団体控）'!M210)","v":""},{"$f":"IF('保険料申告内訳名簿（一人親方団体控）'!N210=\"\",\"\",'保険料申告内訳名簿（一人親方団体控）'!N210)","v":""},{"$f":"IF('保険料申告内訳名簿（一人親方団体控）'!O210=\"\",\"\",'保険料申告内訳名簿（一人親方団体控）'!O210)","v":""},{"$f":"IF('保険料申告内訳名簿（一人親方団体控）'!P210=\"\",\"\",'保険料申告内訳名簿（一人親方団体控）'!P210)","v":""},{"$f":"IF('保険料申告内訳名簿（一人親方団体控）'!Q210=\"\",\"\",'保険料申告内訳名簿（一人親方団体控）'!Q210)","v":""},{"$f":"IF('保険料申告内訳名簿（一人親方団体控）'!R210=\"\",\"\",'保険料申告内訳名簿（一人親方団体控）'!R210)","v":""},{"$f":"IF('保険料申告内訳名簿（一人親方団体控）'!S210=\"\",\"\",'保険料申告内訳名簿（一人親方団体控）'!S210)","v":0},{"$f":"IF('保険料申告内訳名簿（一人親方団体控）'!T210=\"\",\"\",'保険料申告内訳名簿（一人親方団体控）'!T210)","v":""},{"$f":"IF('保険料申告内訳名簿（一人親方団体控）'!U210=\"\",\"\",'保険料申告内訳名簿（一人親方団体控）'!U210)","v":""},{"$f":"IF('保険料申告内訳名簿（一人親方団体控）'!V210=\"\",\"\",'保険料申告内訳名簿（一人親方団体控）'!V210)","v":""},{"$f":"IF('保険料申告内訳名簿（一人親方団体控）'!W210=\"\",\"\",'保険料申告内訳名簿（一人親方団体控）'!W210)","v":""},{"$f":"IF('保険料申告内訳名簿（一人親方団体控）'!X210=\"\",\"\",'保険料申告内訳名簿（一人親方団体控）'!X210)","v":""},{"$f":"IF('保険料申告内訳名簿（一人親方団体控）'!Y210=\"\",\"\",'保険料申告内訳名簿（一人親方団体控）'!Y210)","v":""},{"$f":"IF('保険料申告内訳名簿（一人親方団体控）'!Z210=\"\",\"\",'保険料申告内訳名簿（一人親方団体控）'!Z210)","v":""},{"$f":"IF('保険料申告内訳名簿（一人親方団体控）'!AA210=\"\",\"\",'保険料申告内訳名簿（一人親方団体控）'!AA210)","v":""},{"$f":"IF('保険料申告内訳名簿（一人親方団体控）'!AB210=\"\",\"\",'保険料申告内訳名簿（一人親方団体控）'!AB210)","v":""},{"$f":"IF('保険料申告内訳名簿（一人親方団体控）'!AC210=\"\",\"\",'保険料申告内訳名簿（一人親方団体控）'!AC210)","v":0},{"$f":"IF('保険料申告内訳名簿（一人親方団体控）'!AD210=\"\",\"\",'保険料申告内訳名簿（一人親方団体控）'!AD210)","v":""},{"$f":"IF('保険料申告内訳名簿（一人親方団体控）'!AE210=\"\",\"\",'保険料申告内訳名簿（一人親方団体控）'!AE210)","v":""},{"$f":"IF('保険料申告内訳名簿（一人親方団体控）'!AF210=\"\",\"\",'保険料申告内訳名簿（一人親方団体控）'!AF210)","v":""},{"$f":"IF('保険料申告内訳名簿（一人親方団体控）'!AG210=\"\",\"\",'保険料申告内訳名簿（一人親方団体控）'!AG210)","v":""},{"$f":"IF('保険料申告内訳名簿（一人親方団体控）'!AH210=\"\",\"\",'保険料申告内訳名簿（一人親方団体控）'!AH210)","v":""}]
[null,{"$f":"IF('保険料申告内訳名簿（一人親方団体控）'!B211=\"\",\"\",'保険料申告内訳名簿（一人親方団体控）'!B211)","v":""},{"$f":"IF('保険料申告内訳名簿（一人親方団体控）'!C211=\"\",\"\",'保険料申告内訳名簿（一人親方団体控）'!C211)","v":""},{"$f":"IF('保険料申告内訳名簿（一人親方団体控）'!D211=\"\",\"\",'保険料申告内訳名簿（一人親方団体控）'!D211)","v":""},{"$f":"IF('保険料申告内訳名簿（一人親方団体控）'!E211=\"\",\"\",'保険料申告内訳名簿（一人親方団体控）'!E211)","v":""},{"$f":"IF('保険料申告内訳名簿（一人親方団体控）'!F211=\"\",\"\",'保険料申告内訳名簿（一人親方団体控）'!F211)","v":""},{"$f":"IF('保険料申告内訳名簿（一人親方団体控）'!G211=\"\",\"\",'保険料申告内訳名簿（一人親方団体控）'!G211)","v":""},{"$f":"IF('保険料申告内訳名簿（一人親方団体控）'!H211=\"\",\"\",'保険料申告内訳名簿（一人親方団体控）'!H211)","v":""},{"$f":"IF('保険料申告内訳名簿（一人親方団体控）'!I211=\"\",\"\",'保険料申告内訳名簿（一人親方団体控）'!I211)","v":""},{"$f":"IF('保険料申告内訳名簿（一人親方団体控）'!J211=\"\",\"\",'保険料申告内訳名簿（一人親方団体控）'!J211)","v":""},{"$f":"IF('保険料申告内訳名簿（一人親方団体控）'!K211=\"\",\"\",'保険料申告内訳名簿（一人親方団体控）'!K211)","v":""},{"$f":"IF('保険料申告内訳名簿（一人親方団体控）'!L211=\"\",\"\",'保険料申告内訳名簿（一人親方団体控）'!L211)","v":""},{"$f":"IF('保険料申告内訳名簿（一人親方団体控）'!M211=\"\",\"\",'保険料申告内訳名簿（一人親方団体控）'!M211)","v":""},{"$f":"IF('保険料申告内訳名簿（一人親方団体控）'!N211=\"\",\"\",'保険料申告内訳名簿（一人親方団体控）'!N211)","v":""},{"$f":"IF('保険料申告内訳名簿（一人親方団体控）'!O211=\"\",\"\",'保険料申告内訳名簿（一人親方団体控）'!O211)","v":""},{"$f":"IF('保険料申告内訳名簿（一人親方団体控）'!P211=\"\",\"\",'保険料申告内訳名簿（一人親方団体控）'!P211)","v":""},{"$f":"IF('保険料申告内訳名簿（一人親方団体控）'!Q211=\"\",\"\",'保険料申告内訳名簿（一人親方団体控）'!Q211)","v":""},{"$f":"IF('保険料申告内訳名簿（一人親方団体控）'!R211=\"\",\"\",'保険料申告内訳名簿（一人親方団体控）'!R211)","v":""},{"$f":"IF('保険料申告内訳名簿（一人親方団体控）'!S211=\"\",\"\",'保険料申告内訳名簿（一人親方団体控）'!S211)","v":0},{"$f":"IF('保険料申告内訳名簿（一人親方団体控）'!T211=\"\",\"\",'保険料申告内訳名簿（一人親方団体控）'!T211)","v":""},{"$f":"IF('保険料申告内訳名簿（一人親方団体控）'!U211=\"\",\"\",'保険料申告内訳名簿（一人親方団体控）'!U211)","v":""},{"$f":"IF('保険料申告内訳名簿（一人親方団体控）'!V211=\"\",\"\",'保険料申告内訳名簿（一人親方団体控）'!V211)","v":""},{"$f":"IF('保険料申告内訳名簿（一人親方団体控）'!W211=\"\",\"\",'保険料申告内訳名簿（一人親方団体控）'!W211)","v":""},{"$f":"IF('保険料申告内訳名簿（一人親方団体控）'!X211=\"\",\"\",'保険料申告内訳名簿（一人親方団体控）'!X211)","v":""},{"$f":"IF('保険料申告内訳名簿（一人親方団体控）'!Y211=\"\",\"\",'保険料申告内訳名簿（一人親方団体控）'!Y211)","v":""},{"$f":"IF('保険料申告内訳名簿（一人親方団体控）'!Z211=\"\",\"\",'保険料申告内訳名簿（一人親方団体控）'!Z211)","v":""},{"$f":"IF('保険料申告内訳名簿（一人親方団体控）'!AA211=\"\",\"\",'保険料申告内訳名簿（一人親方団体控）'!AA211)","v":""},{"$f":"IF('保険料申告内訳名簿（一人親方団体控）'!AB211=\"\",\"\",'保険料申告内訳名簿（一人親方団体控）'!AB211)","v":""},{"$f":"IF('保険料申告内訳名簿（一人親方団体控）'!AC211=\"\",\"\",'保険料申告内訳名簿（一人親方団体控）'!AC211)","v":0},{"$f":"IF('保険料申告内訳名簿（一人親方団体控）'!AD211=\"\",\"\",'保険料申告内訳名簿（一人親方団体控）'!AD211)","v":""},{"$f":"IF('保険料申告内訳名簿（一人親方団体控）'!AE211=\"\",\"\",'保険料申告内訳名簿（一人親方団体控）'!AE211)","v":""},{"$f":"IF('保険料申告内訳名簿（一人親方団体控）'!AF211=\"\",\"\",'保険料申告内訳名簿（一人親方団体控）'!AF211)","v":""},{"$f":"IF('保険料申告内訳名簿（一人親方団体控）'!AG211=\"\",\"\",'保険料申告内訳名簿（一人親方団体控）'!AG211)","v":""},{"$f":"IF('保険料申告内訳名簿（一人親方団体控）'!AH211=\"\",\"\",'保険料申告内訳名簿（一人親方団体控）'!AH211)","v":""}]
[null,{"$f":"IF('保険料申告内訳名簿（一人親方団体控）'!B212=\"\",\"\",'保険料申告内訳名簿（一人親方団体控）'!B212)","v":""},{"$f":"IF('保険料申告内訳名簿（一人親方団体控）'!C212=\"\",\"\",'保険料申告内訳名簿（一人親方団体控）'!C212)","v":""},{"$f":"IF('保険料申告内訳名簿（一人親方団体控）'!D212=\"\",\"\",'保険料申告内訳名簿（一人親方団体控）'!D212)","v":""},{"$f":"IF('保険料申告内訳名簿（一人親方団体控）'!E212=\"\",\"\",'保険料申告内訳名簿（一人親方団体控）'!E212)","v":""},{"$f":"IF('保険料申告内訳名簿（一人親方団体控）'!F212=\"\",\"\",'保険料申告内訳名簿（一人親方団体控）'!F212)","v":""},{"$f":"IF('保険料申告内訳名簿（一人親方団体控）'!G212=\"\",\"\",'保険料申告内訳名簿（一人親方団体控）'!G212)","v":""},{"$f":"IF('保険料申告内訳名簿（一人親方団体控）'!H212=\"\",\"\",'保険料申告内訳名簿（一人親方団体控）'!H212)","v":""},{"$f":"IF('保険料申告内訳名簿（一人親方団体控）'!I212=\"\",\"\",'保険料申告内訳名簿（一人親方団体控）'!I212)","v":""},{"$f":"IF('保険料申告内訳名簿（一人親方団体控）'!J212=\"\",\"\",'保険料申告内訳名簿（一人親方団体控）'!J212)","v":""},{"$f":"IF('保険料申告内訳名簿（一人親方団体控）'!K212=\"\",\"\",'保険料申告内訳名簿（一人親方団体控）'!K212)","v":""},{"$f":"IF('保険料申告内訳名簿（一人親方団体控）'!L212=\"\",\"\",'保険料申告内訳名簿（一人親方団体控）'!L212)","v":""},{"$f":"IF('保険料申告内訳名簿（一人親方団体控）'!M212=\"\",\"\",'保険料申告内訳名簿（一人親方団体控）'!M212)","v":""},{"$f":"IF('保険料申告内訳名簿（一人親方団体控）'!N212=\"\",\"\",'保険料申告内訳名簿（一人親方団体控）'!N212)","v":""},{"$f":"IF('保険料申告内訳名簿（一人親方団体控）'!O212=\"\",\"\",'保険料申告内訳名簿（一人親方団体控）'!O212)","v":""},{"$f":"IF('保険料申告内訳名簿（一人親方団体控）'!P212=\"\",\"\",'保険料申告内訳名簿（一人親方団体控）'!P212)","v":""},{"$f":"IF('保険料申告内訳名簿（一人親方団体控）'!Q212=\"\",\"\",'保険料申告内訳名簿（一人親方団体控）'!Q212)","v":""},{"$f":"IF('保険料申告内訳名簿（一人親方団体控）'!R212=\"\",\"\",'保険料申告内訳名簿（一人親方団体控）'!R212)","v":""},{"$f":"IF('保険料申告内訳名簿（一人親方団体控）'!S212=\"\",\"\",'保険料申告内訳名簿（一人親方団体控）'!S212)","v":0},{"$f":"IF('保険料申告内訳名簿（一人親方団体控）'!T212=\"\",\"\",'保険料申告内訳名簿（一人親方団体控）'!T212)","v":""},{"$f":"IF('保険料申告内訳名簿（一人親方団体控）'!U212=\"\",\"\",'保険料申告内訳名簿（一人親方団体控）'!U212)","v":""},{"$f":"IF('保険料申告内訳名簿（一人親方団体控）'!V212=\"\",\"\",'保険料申告内訳名簿（一人親方団体控）'!V212)","v":""},{"$f":"IF('保険料申告内訳名簿（一人親方団体控）'!W212=\"\",\"\",'保険料申告内訳名簿（一人親方団体控）'!W212)","v":""},{"$f":"IF('保険料申告内訳名簿（一人親方団体控）'!X212=\"\",\"\",'保険料申告内訳名簿（一人親方団体控）'!X212)","v":""},{"$f":"IF('保険料申告内訳名簿（一人親方団体控）'!Y212=\"\",\"\",'保険料申告内訳名簿（一人親方団体控）'!Y212)","v":""},{"$f":"IF('保険料申告内訳名簿（一人親方団体控）'!Z212=\"\",\"\",'保険料申告内訳名簿（一人親方団体控）'!Z212)","v":""},{"$f":"IF('保険料申告内訳名簿（一人親方団体控）'!AA212=\"\",\"\",'保険料申告内訳名簿（一人親方団体控）'!AA212)","v":""},{"$f":"IF('保険料申告内訳名簿（一人親方団体控）'!AB212=\"\",\"\",'保険料申告内訳名簿（一人親方団体控）'!AB212)","v":""},{"$f":"IF('保険料申告内訳名簿（一人親方団体控）'!AC212=\"\",\"\",'保険料申告内訳名簿（一人親方団体控）'!AC212)","v":0},{"$f":"IF('保険料申告内訳名簿（一人親方団体控）'!AD212=\"\",\"\",'保険料申告内訳名簿（一人親方団体控）'!AD212)","v":""},{"$f":"IF('保険料申告内訳名簿（一人親方団体控）'!AE212=\"\",\"\",'保険料申告内訳名簿（一人親方団体控）'!AE212)","v":""},{"$f":"IF('保険料申告内訳名簿（一人親方団体控）'!AF212=\"\",\"\",'保険料申告内訳名簿（一人親方団体控）'!AF212)","v":""},{"$f":"IF('保険料申告内訳名簿（一人親方団体控）'!AG212=\"\",\"\",'保険料申告内訳名簿（一人親方団体控）'!AG212)","v":""},{"$f":"IF('保険料申告内訳名簿（一人親方団体控）'!AH212=\"\",\"\",'保険料申告内訳名簿（一人親方団体控）'!AH212)","v":""}]
[null,{"$f":"IF('保険料申告内訳名簿（一人親方団体控）'!B213=\"\",\"\",'保険料申告内訳名簿（一人親方団体控）'!B213)","v":""},{"$f":"IF('保険料申告内訳名簿（一人親方団体控）'!C213=\"\",\"\",'保険料申告内訳名簿（一人親方団体控）'!C213)","v":""},{"$f":"IF('保険料申告内訳名簿（一人親方団体控）'!D213=\"\",\"\",'保険料申告内訳名簿（一人親方団体控）'!D213)","v":""},{"$f":"IF('保険料申告内訳名簿（一人親方団体控）'!E213=\"\",\"\",'保険料申告内訳名簿（一人親方団体控）'!E213)","v":""},{"$f":"IF('保険料申告内訳名簿（一人親方団体控）'!F213=\"\",\"\",'保険料申告内訳名簿（一人親方団体控）'!F213)","v":""},{"$f":"IF('保険料申告内訳名簿（一人親方団体控）'!G213=\"\",\"\",'保険料申告内訳名簿（一人親方団体控）'!G213)","v":""},{"$f":"IF('保険料申告内訳名簿（一人親方団体控）'!H213=\"\",\"\",'保険料申告内訳名簿（一人親方団体控）'!H213)","v":""},{"$f":"IF('保険料申告内訳名簿（一人親方団体控）'!I213=\"\",\"\",'保険料申告内訳名簿（一人親方団体控）'!I213)","v":""},{"$f":"IF('保険料申告内訳名簿（一人親方団体控）'!J213=\"\",\"\",'保険料申告内訳名簿（一人親方団体控）'!J213)","v":""},{"$f":"IF('保険料申告内訳名簿（一人親方団体控）'!K213=\"\",\"\",'保険料申告内訳名簿（一人親方団体控）'!K213)","v":""},{"$f":"IF('保険料申告内訳名簿（一人親方団体控）'!L213=\"\",\"\",'保険料申告内訳名簿（一人親方団体控）'!L213)","v":""},{"$f":"IF('保険料申告内訳名簿（一人親方団体控）'!M213=\"\",\"\",'保険料申告内訳名簿（一人親方団体控）'!M213)","v":""},{"$f":"IF('保険料申告内訳名簿（一人親方団体控）'!N213=\"\",\"\",'保険料申告内訳名簿（一人親方団体控）'!N213)","v":""},{"$f":"IF('保険料申告内訳名簿（一人親方団体控）'!O213=\"\",\"\",'保険料申告内訳名簿（一人親方団体控）'!O213)","v":""},{"$f":"IF('保険料申告内訳名簿（一人親方団体控）'!P213=\"\",\"\",'保険料申告内訳名簿（一人親方団体控）'!P213)","v":""},{"$f":"IF('保険料申告内訳名簿（一人親方団体控）'!Q213=\"\",\"\",'保険料申告内訳名簿（一人親方団体控）'!Q213)","v":""},{"$f":"IF('保険料申告内訳名簿（一人親方団体控）'!R213=\"\",\"\",'保険料申告内訳名簿（一人親方団体控）'!R213)","v":""},{"$f":"IF('保険料申告内訳名簿（一人親方団体控）'!S213=\"\",\"\",'保険料申告内訳名簿（一人親方団体控）'!S213)","v":0},{"$f":"IF('保険料申告内訳名簿（一人親方団体控）'!T213=\"\",\"\",'保険料申告内訳名簿（一人親方団体控）'!T213)","v":""},{"$f":"IF('保険料申告内訳名簿（一人親方団体控）'!U213=\"\",\"\",'保険料申告内訳名簿（一人親方団体控）'!U213)","v":""},{"$f":"IF('保険料申告内訳名簿（一人親方団体控）'!V213=\"\",\"\",'保険料申告内訳名簿（一人親方団体控）'!V213)","v":""},{"$f":"IF('保険料申告内訳名簿（一人親方団体控）'!W213=\"\",\"\",'保険料申告内訳名簿（一人親方団体控）'!W213)","v":""},{"$f":"IF('保険料申告内訳名簿（一人親方団体控）'!X213=\"\",\"\",'保険料申告内訳名簿（一人親方団体控）'!X213)","v":""},{"$f":"IF('保険料申告内訳名簿（一人親方団体控）'!Y213=\"\",\"\",'保険料申告内訳名簿（一人親方団体控）'!Y213)","v":""},{"$f":"IF('保険料申告内訳名簿（一人親方団体控）'!Z213=\"\",\"\",'保険料申告内訳名簿（一人親方団体控）'!Z213)","v":""},{"$f":"IF('保険料申告内訳名簿（一人親方団体控）'!AA213=\"\",\"\",'保険料申告内訳名簿（一人親方団体控）'!AA213)","v":""},{"$f":"IF('保険料申告内訳名簿（一人親方団体控）'!AB213=\"\",\"\",'保険料申告内訳名簿（一人親方団体控）'!AB213)","v":""},{"$f":"IF('保険料申告内訳名簿（一人親方団体控）'!AC213=\"\",\"\",'保険料申告内訳名簿（一人親方団体控）'!AC213)","v":0},{"$f":"IF('保険料申告内訳名簿（一人親方団体控）'!AD213=\"\",\"\",'保険料申告内訳名簿（一人親方団体控）'!AD213)","v":""},{"$f":"IF('保険料申告内訳名簿（一人親方団体控）'!AE213=\"\",\"\",'保険料申告内訳名簿（一人親方団体控）'!AE213)","v":""},{"$f":"IF('保険料申告内訳名簿（一人親方団体控）'!AF213=\"\",\"\",'保険料申告内訳名簿（一人親方団体控）'!AF213)","v":""},{"$f":"IF('保険料申告内訳名簿（一人親方団体控）'!AG213=\"\",\"\",'保険料申告内訳名簿（一人親方団体控）'!AG213)","v":""},{"$f":"IF('保険料申告内訳名簿（一人親方団体控）'!AH213=\"\",\"\",'保険料申告内訳名簿（一人親方団体控）'!AH213)","v":""}]
[null,{"$f":"IF('保険料申告内訳名簿（一人親方団体控）'!B214=\"\",\"\",'保険料申告内訳名簿（一人親方団体控）'!B214)","v":""},{"$f":"IF('保険料申告内訳名簿（一人親方団体控）'!C214=\"\",\"\",'保険料申告内訳名簿（一人親方団体控）'!C214)","v":""},{"$f":"IF('保険料申告内訳名簿（一人親方団体控）'!D214=\"\",\"\",'保険料申告内訳名簿（一人親方団体控）'!D214)","v":""},{"$f":"IF('保険料申告内訳名簿（一人親方団体控）'!E214=\"\",\"\",'保険料申告内訳名簿（一人親方団体控）'!E214)","v":""},{"$f":"IF('保険料申告内訳名簿（一人親方団体控）'!F214=\"\",\"\",'保険料申告内訳名簿（一人親方団体控）'!F214)","v":""},{"$f":"IF('保険料申告内訳名簿（一人親方団体控）'!G214=\"\",\"\",'保険料申告内訳名簿（一人親方団体控）'!G214)","v":""},{"$f":"IF('保険料申告内訳名簿（一人親方団体控）'!H214=\"\",\"\",'保険料申告内訳名簿（一人親方団体控）'!H214)","v":""},{"$f":"IF('保険料申告内訳名簿（一人親方団体控）'!I214=\"\",\"\",'保険料申告内訳名簿（一人親方団体控）'!I214)","v":""},{"$f":"IF('保険料申告内訳名簿（一人親方団体控）'!J214=\"\",\"\",'保険料申告内訳名簿（一人親方団体控）'!J214)","v":""},{"$f":"IF('保険料申告内訳名簿（一人親方団体控）'!K214=\"\",\"\",'保険料申告内訳名簿（一人親方団体控）'!K214)","v":""},{"$f":"IF('保険料申告内訳名簿（一人親方団体控）'!L214=\"\",\"\",'保険料申告内訳名簿（一人親方団体控）'!L214)","v":""},{"$f":"IF('保険料申告内訳名簿（一人親方団体控）'!M214=\"\",\"\",'保険料申告内訳名簿（一人親方団体控）'!M214)","v":""},{"$f":"IF('保険料申告内訳名簿（一人親方団体控）'!N214=\"\",\"\",'保険料申告内訳名簿（一人親方団体控）'!N214)","v":""},{"$f":"IF('保険料申告内訳名簿（一人親方団体控）'!O214=\"\",\"\",'保険料申告内訳名簿（一人親方団体控）'!O214)","v":""},{"$f":"IF('保険料申告内訳名簿（一人親方団体控）'!P214=\"\",\"\",'保険料申告内訳名簿（一人親方団体控）'!P214)","v":""},{"$f":"IF('保険料申告内訳名簿（一人親方団体控）'!Q214=\"\",\"\",'保険料申告内訳名簿（一人親方団体控）'!Q214)","v":""},{"$f":"IF('保険料申告内訳名簿（一人親方団体控）'!R214=\"\",\"\",'保険料申告内訳名簿（一人親方団体控）'!R214)","v":""},{"$f":"IF('保険料申告内訳名簿（一人親方団体控）'!S214=\"\",\"\",'保険料申告内訳名簿（一人親方団体控）'!S214)","v":0},{"$f":"IF('保険料申告内訳名簿（一人親方団体控）'!T214=\"\",\"\",'保険料申告内訳名簿（一人親方団体控）'!T214)","v":""},{"$f":"IF('保険料申告内訳名簿（一人親方団体控）'!U214=\"\",\"\",'保険料申告内訳名簿（一人親方団体控）'!U214)","v":""},{"$f":"IF('保険料申告内訳名簿（一人親方団体控）'!V214=\"\",\"\",'保険料申告内訳名簿（一人親方団体控）'!V214)","v":""},{"$f":"IF('保険料申告内訳名簿（一人親方団体控）'!W214=\"\",\"\",'保険料申告内訳名簿（一人親方団体控）'!W214)","v":""},{"$f":"IF('保険料申告内訳名簿（一人親方団体控）'!X214=\"\",\"\",'保険料申告内訳名簿（一人親方団体控）'!X214)","v":""},{"$f":"IF('保険料申告内訳名簿（一人親方団体控）'!Y214=\"\",\"\",'保険料申告内訳名簿（一人親方団体控）'!Y214)","v":""},{"$f":"IF('保険料申告内訳名簿（一人親方団体控）'!Z214=\"\",\"\",'保険料申告内訳名簿（一人親方団体控）'!Z214)","v":""},{"$f":"IF('保険料申告内訳名簿（一人親方団体控）'!AA214=\"\",\"\",'保険料申告内訳名簿（一人親方団体控）'!AA214)","v":""},{"$f":"IF('保険料申告内訳名簿（一人親方団体控）'!AB214=\"\",\"\",'保険料申告内訳名簿（一人親方団体控）'!AB214)","v":""},{"$f":"IF('保険料申告内訳名簿（一人親方団体控）'!AC214=\"\",\"\",'保険料申告内訳名簿（一人親方団体控）'!AC214)","v":0},{"$f":"IF('保険料申告内訳名簿（一人親方団体控）'!AD214=\"\",\"\",'保険料申告内訳名簿（一人親方団体控）'!AD214)","v":""},{"$f":"IF('保険料申告内訳名簿（一人親方団体控）'!AE214=\"\",\"\",'保険料申告内訳名簿（一人親方団体控）'!AE214)","v":""},{"$f":"IF('保険料申告内訳名簿（一人親方団体控）'!AF214=\"\",\"\",'保険料申告内訳名簿（一人親方団体控）'!AF214)","v":""},{"$f":"IF('保険料申告内訳名簿（一人親方団体控）'!AG214=\"\",\"\",'保険料申告内訳名簿（一人親方団体控）'!AG214)","v":""},{"$f":"IF('保険料申告内訳名簿（一人親方団体控）'!AH214=\"\",\"\",'保険料申告内訳名簿（一人親方団体控）'!AH214)","v":""}]
[null,{"$f":"IF('保険料申告内訳名簿（一人親方団体控）'!B215=\"\",\"\",'保険料申告内訳名簿（一人親方団体控）'!B215)","v":""},{"$f":"IF('保険料申告内訳名簿（一人親方団体控）'!C215=\"\",\"\",'保険料申告内訳名簿（一人親方団体控）'!C215)","v":""},{"$f":"IF('保険料申告内訳名簿（一人親方団体控）'!D215=\"\",\"\",'保険料申告内訳名簿（一人親方団体控）'!D215)","v":""},{"$f":"IF('保険料申告内訳名簿（一人親方団体控）'!E215=\"\",\"\",'保険料申告内訳名簿（一人親方団体控）'!E215)","v":""},{"$f":"IF('保険料申告内訳名簿（一人親方団体控）'!F215=\"\",\"\",'保険料申告内訳名簿（一人親方団体控）'!F215)","v":""},{"$f":"IF('保険料申告内訳名簿（一人親方団体控）'!G215=\"\",\"\",'保険料申告内訳名簿（一人親方団体控）'!G215)","v":""},{"$f":"IF('保険料申告内訳名簿（一人親方団体控）'!H215=\"\",\"\",'保険料申告内訳名簿（一人親方団体控）'!H215)","v":""},{"$f":"IF('保険料申告内訳名簿（一人親方団体控）'!I215=\"\",\"\",'保険料申告内訳名簿（一人親方団体控）'!I215)","v":""},{"$f":"IF('保険料申告内訳名簿（一人親方団体控）'!J215=\"\",\"\",'保険料申告内訳名簿（一人親方団体控）'!J215)","v":""},{"$f":"IF('保険料申告内訳名簿（一人親方団体控）'!K215=\"\",\"\",'保険料申告内訳名簿（一人親方団体控）'!K215)","v":""},{"$f":"IF('保険料申告内訳名簿（一人親方団体控）'!L215=\"\",\"\",'保険料申告内訳名簿（一人親方団体控）'!L215)","v":""},{"$f":"IF('保険料申告内訳名簿（一人親方団体控）'!M215=\"\",\"\",'保険料申告内訳名簿（一人親方団体控）'!M215)","v":""},{"$f":"IF('保険料申告内訳名簿（一人親方団体控）'!N215=\"\",\"\",'保険料申告内訳名簿（一人親方団体控）'!N215)","v":""},{"$f":"IF('保険料申告内訳名簿（一人親方団体控）'!O215=\"\",\"\",'保険料申告内訳名簿（一人親方団体控）'!O215)","v":""},{"$f":"IF('保険料申告内訳名簿（一人親方団体控）'!P215=\"\",\"\",'保険料申告内訳名簿（一人親方団体控）'!P215)","v":""},{"$f":"IF('保険料申告内訳名簿（一人親方団体控）'!Q215=\"\",\"\",'保険料申告内訳名簿（一人親方団体控）'!Q215)","v":""},{"$f":"IF('保険料申告内訳名簿（一人親方団体控）'!R215=\"\",\"\",'保険料申告内訳名簿（一人親方団体控）'!R215)","v":""},{"$f":"IF('保険料申告内訳名簿（一人親方団体控）'!S215=\"\",\"\",'保険料申告内訳名簿（一人親方団体控）'!S215)","v":0},{"$f":"IF('保険料申告内訳名簿（一人親方団体控）'!T215=\"\",\"\",'保険料申告内訳名簿（一人親方団体控）'!T215)","v":""},{"$f":"IF('保険料申告内訳名簿（一人親方団体控）'!U215=\"\",\"\",'保険料申告内訳名簿（一人親方団体控）'!U215)","v":""},{"$f":"IF('保険料申告内訳名簿（一人親方団体控）'!V215=\"\",\"\",'保険料申告内訳名簿（一人親方団体控）'!V215)","v":""},{"$f":"IF('保険料申告内訳名簿（一人親方団体控）'!W215=\"\",\"\",'保険料申告内訳名簿（一人親方団体控）'!W215)","v":""},{"$f":"IF('保険料申告内訳名簿（一人親方団体控）'!X215=\"\",\"\",'保険料申告内訳名簿（一人親方団体控）'!X215)","v":""},{"$f":"IF('保険料申告内訳名簿（一人親方団体控）'!Y215=\"\",\"\",'保険料申告内訳名簿（一人親方団体控）'!Y215)","v":""},{"$f":"IF('保険料申告内訳名簿（一人親方団体控）'!Z215=\"\",\"\",'保険料申告内訳名簿（一人親方団体控）'!Z215)","v":""},{"$f":"IF('保険料申告内訳名簿（一人親方団体控）'!AA215=\"\",\"\",'保険料申告内訳名簿（一人親方団体控）'!AA215)","v":""},{"$f":"IF('保険料申告内訳名簿（一人親方団体控）'!AB215=\"\",\"\",'保険料申告内訳名簿（一人親方団体控）'!AB215)","v":""},{"$f":"IF('保険料申告内訳名簿（一人親方団体控）'!AC215=\"\",\"\",'保険料申告内訳名簿（一人親方団体控）'!AC215)","v":0},{"$f":"IF('保険料申告内訳名簿（一人親方団体控）'!AD215=\"\",\"\",'保険料申告内訳名簿（一人親方団体控）'!AD215)","v":""},{"$f":"IF('保険料申告内訳名簿（一人親方団体控）'!AE215=\"\",\"\",'保険料申告内訳名簿（一人親方団体控）'!AE215)","v":""},{"$f":"IF('保険料申告内訳名簿（一人親方団体控）'!AF215=\"\",\"\",'保険料申告内訳名簿（一人親方団体控）'!AF215)","v":""},{"$f":"IF('保険料申告内訳名簿（一人親方団体控）'!AG215=\"\",\"\",'保険料申告内訳名簿（一人親方団体控）'!AG215)","v":""},{"$f":"IF('保険料申告内訳名簿（一人親方団体控）'!AH215=\"\",\"\",'保険料申告内訳名簿（一人親方団体控）'!AH215)","v":""}]
[null,{"$f":"IF('保険料申告内訳名簿（一人親方団体控）'!B216=\"\",\"\",'保険料申告内訳名簿（一人親方団体控）'!B216)","v":""},{"$f":"IF('保険料申告内訳名簿（一人親方団体控）'!C216=\"\",\"\",'保険料申告内訳名簿（一人親方団体控）'!C216)","v":""},{"$f":"IF('保険料申告内訳名簿（一人親方団体控）'!D216=\"\",\"\",'保険料申告内訳名簿（一人親方団体控）'!D216)","v":""},{"$f":"IF('保険料申告内訳名簿（一人親方団体控）'!E216=\"\",\"\",'保険料申告内訳名簿（一人親方団体控）'!E216)","v":""},{"$f":"IF('保険料申告内訳名簿（一人親方団体控）'!F216=\"\",\"\",'保険料申告内訳名簿（一人親方団体控）'!F216)","v":""},{"$f":"IF('保険料申告内訳名簿（一人親方団体控）'!G216=\"\",\"\",'保険料申告内訳名簿（一人親方団体控）'!G216)","v":""},{"$f":"IF('保険料申告内訳名簿（一人親方団体控）'!H216=\"\",\"\",'保険料申告内訳名簿（一人親方団体控）'!H216)","v":""},{"$f":"IF('保険料申告内訳名簿（一人親方団体控）'!I216=\"\",\"\",'保険料申告内訳名簿（一人親方団体控）'!I216)","v":""},{"$f":"IF('保険料申告内訳名簿（一人親方団体控）'!J216=\"\",\"\",'保険料申告内訳名簿（一人親方団体控）'!J216)","v":""},{"$f":"IF('保険料申告内訳名簿（一人親方団体控）'!K216=\"\",\"\",'保険料申告内訳名簿（一人親方団体控）'!K216)","v":""},{"$f":"IF('保険料申告内訳名簿（一人親方団体控）'!L216=\"\",\"\",'保険料申告内訳名簿（一人親方団体控）'!L216)","v":""},{"$f":"IF('保険料申告内訳名簿（一人親方団体控）'!M216=\"\",\"\",'保険料申告内訳名簿（一人親方団体控）'!M216)","v":""},{"$f":"IF('保険料申告内訳名簿（一人親方団体控）'!N216=\"\",\"\",'保険料申告内訳名簿（一人親方団体控）'!N216)","v":""},{"$f":"IF('保険料申告内訳名簿（一人親方団体控）'!O216=\"\",\"\",'保険料申告内訳名簿（一人親方団体控）'!O216)","v":""},{"$f":"IF('保険料申告内訳名簿（一人親方団体控）'!P216=\"\",\"\",'保険料申告内訳名簿（一人親方団体控）'!P216)","v":""},{"$f":"IF('保険料申告内訳名簿（一人親方団体控）'!Q216=\"\",\"\",'保険料申告内訳名簿（一人親方団体控）'!Q216)","v":""},{"$f":"IF('保険料申告内訳名簿（一人親方団体控）'!R216=\"\",\"\",'保険料申告内訳名簿（一人親方団体控）'!R216)","v":""},{"$f":"IF('保険料申告内訳名簿（一人親方団体控）'!S216=\"\",\"\",'保険料申告内訳名簿（一人親方団体控）'!S216)","v":0},{"$f":"IF('保険料申告内訳名簿（一人親方団体控）'!T216=\"\",\"\",'保険料申告内訳名簿（一人親方団体控）'!T216)","v":""},{"$f":"IF('保険料申告内訳名簿（一人親方団体控）'!U216=\"\",\"\",'保険料申告内訳名簿（一人親方団体控）'!U216)","v":""},{"$f":"IF('保険料申告内訳名簿（一人親方団体控）'!V216=\"\",\"\",'保険料申告内訳名簿（一人親方団体控）'!V216)","v":""},{"$f":"IF('保険料申告内訳名簿（一人親方団体控）'!W216=\"\",\"\",'保険料申告内訳名簿（一人親方団体控）'!W216)","v":""},{"$f":"IF('保険料申告内訳名簿（一人親方団体控）'!X216=\"\",\"\",'保険料申告内訳名簿（一人親方団体控）'!X216)","v":""},{"$f":"IF('保険料申告内訳名簿（一人親方団体控）'!Y216=\"\",\"\",'保険料申告内訳名簿（一人親方団体控）'!Y216)","v":""},{"$f":"IF('保険料申告内訳名簿（一人親方団体控）'!Z216=\"\",\"\",'保険料申告内訳名簿（一人親方団体控）'!Z216)","v":""},{"$f":"IF('保険料申告内訳名簿（一人親方団体控）'!AA216=\"\",\"\",'保険料申告内訳名簿（一人親方団体控）'!AA216)","v":""},{"$f":"IF('保険料申告内訳名簿（一人親方団体控）'!AB216=\"\",\"\",'保険料申告内訳名簿（一人親方団体控）'!AB216)","v":""},{"$f":"IF('保険料申告内訳名簿（一人親方団体控）'!AC216=\"\",\"\",'保険料申告内訳名簿（一人親方団体控）'!AC216)","v":0},{"$f":"IF('保険料申告内訳名簿（一人親方団体控）'!AD216=\"\",\"\",'保険料申告内訳名簿（一人親方団体控）'!AD216)","v":""},{"$f":"IF('保険料申告内訳名簿（一人親方団体控）'!AE216=\"\",\"\",'保険料申告内訳名簿（一人親方団体控）'!AE216)","v":""},{"$f":"IF('保険料申告内訳名簿（一人親方団体控）'!AF216=\"\",\"\",'保険料申告内訳名簿（一人親方団体控）'!AF216)","v":""},{"$f":"IF('保険料申告内訳名簿（一人親方団体控）'!AG216=\"\",\"\",'保険料申告内訳名簿（一人親方団体控）'!AG216)","v":""},{"$f":"IF('保険料申告内訳名簿（一人親方団体控）'!AH216=\"\",\"\",'保険料申告内訳名簿（一人親方団体控）'!AH216)","v":""}]
[null,{"$f":"IF('保険料申告内訳名簿（一人親方団体控）'!B217=\"\",\"\",'保険料申告内訳名簿（一人親方団体控）'!B217)","v":""},{"$f":"IF('保険料申告内訳名簿（一人親方団体控）'!C217=\"\",\"\",'保険料申告内訳名簿（一人親方団体控）'!C217)","v":""},{"$f":"IF('保険料申告内訳名簿（一人親方団体控）'!D217=\"\",\"\",'保険料申告内訳名簿（一人親方団体控）'!D217)","v":""},{"$f":"IF('保険料申告内訳名簿（一人親方団体控）'!E217=\"\",\"\",'保険料申告内訳名簿（一人親方団体控）'!E217)","v":""},{"$f":"IF('保険料申告内訳名簿（一人親方団体控）'!F217=\"\",\"\",'保険料申告内訳名簿（一人親方団体控）'!F217)","v":""},{"$f":"IF('保険料申告内訳名簿（一人親方団体控）'!G217=\"\",\"\",'保険料申告内訳名簿（一人親方団体控）'!G217)","v":""},{"$f":"IF('保険料申告内訳名簿（一人親方団体控）'!H217=\"\",\"\",'保険料申告内訳名簿（一人親方団体控）'!H217)","v":""},{"$f":"IF('保険料申告内訳名簿（一人親方団体控）'!I217=\"\",\"\",'保険料申告内訳名簿（一人親方団体控）'!I217)","v":""},{"$f":"IF('保険料申告内訳名簿（一人親方団体控）'!J217=\"\",\"\",'保険料申告内訳名簿（一人親方団体控）'!J217)","v":""},{"$f":"IF('保険料申告内訳名簿（一人親方団体控）'!K217=\"\",\"\",'保険料申告内訳名簿（一人親方団体控）'!K217)","v":""},{"$f":"IF('保険料申告内訳名簿（一人親方団体控）'!L217=\"\",\"\",'保険料申告内訳名簿（一人親方団体控）'!L217)","v":""},{"$f":"IF('保険料申告内訳名簿（一人親方団体控）'!M217=\"\",\"\",'保険料申告内訳名簿（一人親方団体控）'!M217)","v":""},{"$f":"IF('保険料申告内訳名簿（一人親方団体控）'!N217=\"\",\"\",'保険料申告内訳名簿（一人親方団体控）'!N217)","v":""},{"$f":"IF('保険料申告内訳名簿（一人親方団体控）'!O217=\"\",\"\",'保険料申告内訳名簿（一人親方団体控）'!O217)","v":""},{"$f":"IF('保険料申告内訳名簿（一人親方団体控）'!P217=\"\",\"\",'保険料申告内訳名簿（一人親方団体控）'!P217)","v":""},{"$f":"IF('保険料申告内訳名簿（一人親方団体控）'!Q217=\"\",\"\",'保険料申告内訳名簿（一人親方団体控）'!Q217)","v":""},{"$f":"IF('保険料申告内訳名簿（一人親方団体控）'!R217=\"\",\"\",'保険料申告内訳名簿（一人親方団体控）'!R217)","v":""},{"$f":"IF('保険料申告内訳名簿（一人親方団体控）'!S217=\"\",\"\",'保険料申告内訳名簿（一人親方団体控）'!S217)","v":0},{"$f":"IF('保険料申告内訳名簿（一人親方団体控）'!T217=\"\",\"\",'保険料申告内訳名簿（一人親方団体控）'!T217)","v":""},{"$f":"IF('保険料申告内訳名簿（一人親方団体控）'!U217=\"\",\"\",'保険料申告内訳名簿（一人親方団体控）'!U217)","v":""},{"$f":"IF('保険料申告内訳名簿（一人親方団体控）'!V217=\"\",\"\",'保険料申告内訳名簿（一人親方団体控）'!V217)","v":""},{"$f":"IF('保険料申告内訳名簿（一人親方団体控）'!W217=\"\",\"\",'保険料申告内訳名簿（一人親方団体控）'!W217)","v":""},{"$f":"IF('保険料申告内訳名簿（一人親方団体控）'!X217=\"\",\"\",'保険料申告内訳名簿（一人親方団体控）'!X217)","v":""},{"$f":"IF('保険料申告内訳名簿（一人親方団体控）'!Y217=\"\",\"\",'保険料申告内訳名簿（一人親方団体控）'!Y217)","v":""},{"$f":"IF('保険料申告内訳名簿（一人親方団体控）'!Z217=\"\",\"\",'保険料申告内訳名簿（一人親方団体控）'!Z217)","v":""},{"$f":"IF('保険料申告内訳名簿（一人親方団体控）'!AA217=\"\",\"\",'保険料申告内訳名簿（一人親方団体控）'!AA217)","v":""},{"$f":"IF('保険料申告内訳名簿（一人親方団体控）'!AB217=\"\",\"\",'保険料申告内訳名簿（一人親方団体控）'!AB217)","v":""},{"$f":"IF('保険料申告内訳名簿（一人親方団体控）'!AC217=\"\",\"\",'保険料申告内訳名簿（一人親方団体控）'!AC217)","v":0},{"$f":"IF('保険料申告内訳名簿（一人親方団体控）'!AD217=\"\",\"\",'保険料申告内訳名簿（一人親方団体控）'!AD217)","v":""},{"$f":"IF('保険料申告内訳名簿（一人親方団体控）'!AE217=\"\",\"\",'保険料申告内訳名簿（一人親方団体控）'!AE217)","v":""},{"$f":"IF('保険料申告内訳名簿（一人親方団体控）'!AF217=\"\",\"\",'保険料申告内訳名簿（一人親方団体控）'!AF217)","v":""},{"$f":"IF('保険料申告内訳名簿（一人親方団体控）'!AG217=\"\",\"\",'保険料申告内訳名簿（一人親方団体控）'!AG217)","v":""},{"$f":"IF('保険料申告内訳名簿（一人親方団体控）'!AH217=\"\",\"\",'保険料申告内訳名簿（一人親方団体控）'!AH217)","v":""}]
[null,{"$f":"IF('保険料申告内訳名簿（一人親方団体控）'!B218=\"\",\"\",'保険料申告内訳名簿（一人親方団体控）'!B218)","v":""},{"$f":"IF('保険料申告内訳名簿（一人親方団体控）'!C218=\"\",\"\",'保険料申告内訳名簿（一人親方団体控）'!C218)","v":""},{"$f":"IF('保険料申告内訳名簿（一人親方団体控）'!D218=\"\",\"\",'保険料申告内訳名簿（一人親方団体控）'!D218)","v":""},{"$f":"IF('保険料申告内訳名簿（一人親方団体控）'!E218=\"\",\"\",'保険料申告内訳名簿（一人親方団体控）'!E218)","v":""},{"$f":"IF('保険料申告内訳名簿（一人親方団体控）'!F218=\"\",\"\",'保険料申告内訳名簿（一人親方団体控）'!F218)","v":""},{"$f":"IF('保険料申告内訳名簿（一人親方団体控）'!G218=\"\",\"\",'保険料申告内訳名簿（一人親方団体控）'!G218)","v":""},{"$f":"IF('保険料申告内訳名簿（一人親方団体控）'!H218=\"\",\"\",'保険料申告内訳名簿（一人親方団体控）'!H218)","v":""},{"$f":"IF('保険料申告内訳名簿（一人親方団体控）'!I218=\"\",\"\",'保険料申告内訳名簿（一人親方団体控）'!I218)","v":""},{"$f":"IF('保険料申告内訳名簿（一人親方団体控）'!J218=\"\",\"\",'保険料申告内訳名簿（一人親方団体控）'!J218)","v":""},{"$f":"IF('保険料申告内訳名簿（一人親方団体控）'!K218=\"\",\"\",'保険料申告内訳名簿（一人親方団体控）'!K218)","v":""},{"$f":"IF('保険料申告内訳名簿（一人親方団体控）'!L218=\"\",\"\",'保険料申告内訳名簿（一人親方団体控）'!L218)","v":""},{"$f":"IF('保険料申告内訳名簿（一人親方団体控）'!M218=\"\",\"\",'保険料申告内訳名簿（一人親方団体控）'!M218)","v":""},{"$f":"IF('保険料申告内訳名簿（一人親方団体控）'!N218=\"\",\"\",'保険料申告内訳名簿（一人親方団体控）'!N218)","v":""},{"$f":"IF('保険料申告内訳名簿（一人親方団体控）'!O218=\"\",\"\",'保険料申告内訳名簿（一人親方団体控）'!O218)","v":""},{"$f":"IF('保険料申告内訳名簿（一人親方団体控）'!P218=\"\",\"\",'保険料申告内訳名簿（一人親方団体控）'!P218)","v":""},{"$f":"IF('保険料申告内訳名簿（一人親方団体控）'!Q218=\"\",\"\",'保険料申告内訳名簿（一人親方団体控）'!Q218)","v":""},{"$f":"IF('保険料申告内訳名簿（一人親方団体控）'!R218=\"\",\"\",'保険料申告内訳名簿（一人親方団体控）'!R218)","v":""},{"$f":"IF('保険料申告内訳名簿（一人親方団体控）'!S218=\"\",\"\",'保険料申告内訳名簿（一人親方団体控）'!S218)","v":0},{"$f":"IF('保険料申告内訳名簿（一人親方団体控）'!T218=\"\",\"\",'保険料申告内訳名簿（一人親方団体控）'!T218)","v":""},{"$f":"IF('保険料申告内訳名簿（一人親方団体控）'!U218=\"\",\"\",'保険料申告内訳名簿（一人親方団体控）'!U218)","v":""},{"$f":"IF('保険料申告内訳名簿（一人親方団体控）'!V218=\"\",\"\",'保険料申告内訳名簿（一人親方団体控）'!V218)","v":""},{"$f":"IF('保険料申告内訳名簿（一人親方団体控）'!W218=\"\",\"\",'保険料申告内訳名簿（一人親方団体控）'!W218)","v":""},{"$f":"IF('保険料申告内訳名簿（一人親方団体控）'!X218=\"\",\"\",'保険料申告内訳名簿（一人親方団体控）'!X218)","v":""},{"$f":"IF('保険料申告内訳名簿（一人親方団体控）'!Y218=\"\",\"\",'保険料申告内訳名簿（一人親方団体控）'!Y218)","v":""},{"$f":"IF('保険料申告内訳名簿（一人親方団体控）'!Z218=\"\",\"\",'保険料申告内訳名簿（一人親方団体控）'!Z218)","v":""},{"$f":"IF('保険料申告内訳名簿（一人親方団体控）'!AA218=\"\",\"\",'保険料申告内訳名簿（一人親方団体控）'!AA218)","v":""},{"$f":"IF('保険料申告内訳名簿（一人親方団体控）'!AB218=\"\",\"\",'保険料申告内訳名簿（一人親方団体控）'!AB218)","v":""},{"$f":"IF('保険料申告内訳名簿（一人親方団体控）'!AC218=\"\",\"\",'保険料申告内訳名簿（一人親方団体控）'!AC218)","v":0},{"$f":"IF('保険料申告内訳名簿（一人親方団体控）'!AD218=\"\",\"\",'保険料申告内訳名簿（一人親方団体控）'!AD218)","v":""},{"$f":"IF('保険料申告内訳名簿（一人親方団体控）'!AE218=\"\",\"\",'保険料申告内訳名簿（一人親方団体控）'!AE218)","v":""},{"$f":"IF('保険料申告内訳名簿（一人親方団体控）'!AF218=\"\",\"\",'保険料申告内訳名簿（一人親方団体控）'!AF218)","v":""},{"$f":"IF('保険料申告内訳名簿（一人親方団体控）'!AG218=\"\",\"\",'保険料申告内訳名簿（一人親方団体控）'!AG218)","v":""},{"$f":"IF('保険料申告内訳名簿（一人親方団体控）'!AH218=\"\",\"\",'保険料申告内訳名簿（一人親方団体控）'!AH218)","v":""}]
[null,{"$f":"IF('保険料申告内訳名簿（一人親方団体控）'!B219=\"\",\"\",'保険料申告内訳名簿（一人親方団体控）'!B219)","v":""},{"$f":"IF('保険料申告内訳名簿（一人親方団体控）'!C219=\"\",\"\",'保険料申告内訳名簿（一人親方団体控）'!C219)","v":""},{"$f":"IF('保険料申告内訳名簿（一人親方団体控）'!D219=\"\",\"\",'保険料申告内訳名簿（一人親方団体控）'!D219)","v":""},{"$f":"IF('保険料申告内訳名簿（一人親方団体控）'!E219=\"\",\"\",'保険料申告内訳名簿（一人親方団体控）'!E219)","v":""},{"$f":"IF('保険料申告内訳名簿（一人親方団体控）'!F219=\"\",\"\",'保険料申告内訳名簿（一人親方団体控）'!F219)","v":""},{"$f":"IF('保険料申告内訳名簿（一人親方団体控）'!G219=\"\",\"\",'保険料申告内訳名簿（一人親方団体控）'!G219)","v":""},{"$f":"IF('保険料申告内訳名簿（一人親方団体控）'!H219=\"\",\"\",'保険料申告内訳名簿（一人親方団体控）'!H219)","v":""},{"$f":"IF('保険料申告内訳名簿（一人親方団体控）'!I219=\"\",\"\",'保険料申告内訳名簿（一人親方団体控）'!I219)","v":""},{"$f":"IF('保険料申告内訳名簿（一人親方団体控）'!J219=\"\",\"\",'保険料申告内訳名簿（一人親方団体控）'!J219)","v":""},{"$f":"IF('保険料申告内訳名簿（一人親方団体控）'!K219=\"\",\"\",'保険料申告内訳名簿（一人親方団体控）'!K219)","v":""},{"$f":"IF('保険料申告内訳名簿（一人親方団体控）'!L219=\"\",\"\",'保険料申告内訳名簿（一人親方団体控）'!L219)","v":""},{"$f":"IF('保険料申告内訳名簿（一人親方団体控）'!M219=\"\",\"\",'保険料申告内訳名簿（一人親方団体控）'!M219)","v":""},{"$f":"IF('保険料申告内訳名簿（一人親方団体控）'!N219=\"\",\"\",'保険料申告内訳名簿（一人親方団体控）'!N219)","v":""},{"$f":"IF('保険料申告内訳名簿（一人親方団体控）'!O219=\"\",\"\",'保険料申告内訳名簿（一人親方団体控）'!O219)","v":""},{"$f":"IF('保険料申告内訳名簿（一人親方団体控）'!P219=\"\",\"\",'保険料申告内訳名簿（一人親方団体控）'!P219)","v":""},{"$f":"IF('保険料申告内訳名簿（一人親方団体控）'!Q219=\"\",\"\",'保険料申告内訳名簿（一人親方団体控）'!Q219)","v":""},{"$f":"IF('保険料申告内訳名簿（一人親方団体控）'!R219=\"\",\"\",'保険料申告内訳名簿（一人親方団体控）'!R219)","v":""},{"$f":"IF('保険料申告内訳名簿（一人親方団体控）'!S219=\"\",\"\",'保険料申告内訳名簿（一人親方団体控）'!S219)","v":0},{"$f":"IF('保険料申告内訳名簿（一人親方団体控）'!T219=\"\",\"\",'保険料申告内訳名簿（一人親方団体控）'!T219)","v":""},{"$f":"IF('保険料申告内訳名簿（一人親方団体控）'!U219=\"\",\"\",'保険料申告内訳名簿（一人親方団体控）'!U219)","v":""},{"$f":"IF('保険料申告内訳名簿（一人親方団体控）'!V219=\"\",\"\",'保険料申告内訳名簿（一人親方団体控）'!V219)","v":""},{"$f":"IF('保険料申告内訳名簿（一人親方団体控）'!W219=\"\",\"\",'保険料申告内訳名簿（一人親方団体控）'!W219)","v":""},{"$f":"IF('保険料申告内訳名簿（一人親方団体控）'!X219=\"\",\"\",'保険料申告内訳名簿（一人親方団体控）'!X219)","v":""},{"$f":"IF('保険料申告内訳名簿（一人親方団体控）'!Y219=\"\",\"\",'保険料申告内訳名簿（一人親方団体控）'!Y219)","v":""},{"$f":"IF('保険料申告内訳名簿（一人親方団体控）'!Z219=\"\",\"\",'保険料申告内訳名簿（一人親方団体控）'!Z219)","v":""},{"$f":"IF('保険料申告内訳名簿（一人親方団体控）'!AA219=\"\",\"\",'保険料申告内訳名簿（一人親方団体控）'!AA219)","v":""},{"$f":"IF('保険料申告内訳名簿（一人親方団体控）'!AB219=\"\",\"\",'保険料申告内訳名簿（一人親方団体控）'!AB219)","v":""},{"$f":"IF('保険料申告内訳名簿（一人親方団体控）'!AC219=\"\",\"\",'保険料申告内訳名簿（一人親方団体控）'!AC219)","v":0},{"$f":"IF('保険料申告内訳名簿（一人親方団体控）'!AD219=\"\",\"\",'保険料申告内訳名簿（一人親方団体控）'!AD219)","v":""},{"$f":"IF('保険料申告内訳名簿（一人親方団体控）'!AE219=\"\",\"\",'保険料申告内訳名簿（一人親方団体控）'!AE219)","v":""},{"$f":"IF('保険料申告内訳名簿（一人親方団体控）'!AF219=\"\",\"\",'保険料申告内訳名簿（一人親方団体控）'!AF219)","v":""},{"$f":"IF('保険料申告内訳名簿（一人親方団体控）'!AG219=\"\",\"\",'保険料申告内訳名簿（一人親方団体控）'!AG219)","v":""},{"$f":"IF('保険料申告内訳名簿（一人親方団体控）'!AH219=\"\",\"\",'保険料申告内訳名簿（一人親方団体控）'!AH219)","v":""}]
[null,{"$f":"IF('保険料申告内訳名簿（一人親方団体控）'!B220=\"\",\"\",'保険料申告内訳名簿（一人親方団体控）'!B220)","v":""},{"$f":"IF('保険料申告内訳名簿（一人親方団体控）'!C220=\"\",\"\",'保険料申告内訳名簿（一人親方団体控）'!C220)","v":""},{"$f":"IF('保険料申告内訳名簿（一人親方団体控）'!D220=\"\",\"\",'保険料申告内訳名簿（一人親方団体控）'!D220)","v":""},{"$f":"IF('保険料申告内訳名簿（一人親方団体控）'!E220=\"\",\"\",'保険料申告内訳名簿（一人親方団体控）'!E220)","v":""},{"$f":"IF('保険料申告内訳名簿（一人親方団体控）'!F220=\"\",\"\",'保険料申告内訳名簿（一人親方団体控）'!F220)","v":""},{"$f":"IF('保険料申告内訳名簿（一人親方団体控）'!G220=\"\",\"\",'保険料申告内訳名簿（一人親方団体控）'!G220)","v":""},{"$f":"IF('保険料申告内訳名簿（一人親方団体控）'!H220=\"\",\"\",'保険料申告内訳名簿（一人親方団体控）'!H220)","v":""},{"$f":"IF('保険料申告内訳名簿（一人親方団体控）'!I220=\"\",\"\",'保険料申告内訳名簿（一人親方団体控）'!I220)","v":""},{"$f":"IF('保険料申告内訳名簿（一人親方団体控）'!J220=\"\",\"\",'保険料申告内訳名簿（一人親方団体控）'!J220)","v":""},{"$f":"IF('保険料申告内訳名簿（一人親方団体控）'!K220=\"\",\"\",'保険料申告内訳名簿（一人親方団体控）'!K220)","v":""},{"$f":"IF('保険料申告内訳名簿（一人親方団体控）'!L220=\"\",\"\",'保険料申告内訳名簿（一人親方団体控）'!L220)","v":""},{"$f":"IF('保険料申告内訳名簿（一人親方団体控）'!M220=\"\",\"\",'保険料申告内訳名簿（一人親方団体控）'!M220)","v":""},{"$f":"IF('保険料申告内訳名簿（一人親方団体控）'!N220=\"\",\"\",'保険料申告内訳名簿（一人親方団体控）'!N220)","v":""},{"$f":"IF('保険料申告内訳名簿（一人親方団体控）'!O220=\"\",\"\",'保険料申告内訳名簿（一人親方団体控）'!O220)","v":""},{"$f":"IF('保険料申告内訳名簿（一人親方団体控）'!P220=\"\",\"\",'保険料申告内訳名簿（一人親方団体控）'!P220)","v":""},{"$f":"IF('保険料申告内訳名簿（一人親方団体控）'!Q220=\"\",\"\",'保険料申告内訳名簿（一人親方団体控）'!Q220)","v":""},{"$f":"IF('保険料申告内訳名簿（一人親方団体控）'!R220=\"\",\"\",'保険料申告内訳名簿（一人親方団体控）'!R220)","v":""},{"$f":"IF('保険料申告内訳名簿（一人親方団体控）'!S220=\"\",\"\",'保険料申告内訳名簿（一人親方団体控）'!S220)","v":0},{"$f":"IF('保険料申告内訳名簿（一人親方団体控）'!T220=\"\",\"\",'保険料申告内訳名簿（一人親方団体控）'!T220)","v":""},{"$f":"IF('保険料申告内訳名簿（一人親方団体控）'!U220=\"\",\"\",'保険料申告内訳名簿（一人親方団体控）'!U220)","v":""},{"$f":"IF('保険料申告内訳名簿（一人親方団体控）'!V220=\"\",\"\",'保険料申告内訳名簿（一人親方団体控）'!V220)","v":""},{"$f":"IF('保険料申告内訳名簿（一人親方団体控）'!W220=\"\",\"\",'保険料申告内訳名簿（一人親方団体控）'!W220)","v":""},{"$f":"IF('保険料申告内訳名簿（一人親方団体控）'!X220=\"\",\"\",'保険料申告内訳名簿（一人親方団体控）'!X220)","v":""},{"$f":"IF('保険料申告内訳名簿（一人親方団体控）'!Y220=\"\",\"\",'保険料申告内訳名簿（一人親方団体控）'!Y220)","v":""},{"$f":"IF('保険料申告内訳名簿（一人親方団体控）'!Z220=\"\",\"\",'保険料申告内訳名簿（一人親方団体控）'!Z220)","v":""},{"$f":"IF('保険料申告内訳名簿（一人親方団体控）'!AA220=\"\",\"\",'保険料申告内訳名簿（一人親方団体控）'!AA220)","v":""},{"$f":"IF('保険料申告内訳名簿（一人親方団体控）'!AB220=\"\",\"\",'保険料申告内訳名簿（一人親方団体控）'!AB220)","v":""},{"$f":"IF('保険料申告内訳名簿（一人親方団体控）'!AC220=\"\",\"\",'保険料申告内訳名簿（一人親方団体控）'!AC220)","v":0},{"$f":"IF('保険料申告内訳名簿（一人親方団体控）'!AD220=\"\",\"\",'保険料申告内訳名簿（一人親方団体控）'!AD220)","v":""},{"$f":"IF('保険料申告内訳名簿（一人親方団体控）'!AE220=\"\",\"\",'保険料申告内訳名簿（一人親方団体控）'!AE220)","v":""},{"$f":"IF('保険料申告内訳名簿（一人親方団体控）'!AF220=\"\",\"\",'保険料申告内訳名簿（一人親方団体控）'!AF220)","v":""},{"$f":"IF('保険料申告内訳名簿（一人親方団体控）'!AG220=\"\",\"\",'保険料申告内訳名簿（一人親方団体控）'!AG220)","v":""},{"$f":"IF('保険料申告内訳名簿（一人親方団体控）'!AH220=\"\",\"\",'保険料申告内訳名簿（一人親方団体控）'!AH220)","v":""}]
[null,{"$f":"IF('保険料申告内訳名簿（一人親方団体控）'!B221=\"\",\"\",'保険料申告内訳名簿（一人親方団体控）'!B221)","v":""},{"$f":"IF('保険料申告内訳名簿（一人親方団体控）'!C221=\"\",\"\",'保険料申告内訳名簿（一人親方団体控）'!C221)","v":""},{"$f":"IF('保険料申告内訳名簿（一人親方団体控）'!D221=\"\",\"\",'保険料申告内訳名簿（一人親方団体控）'!D221)","v":""},{"$f":"IF('保険料申告内訳名簿（一人親方団体控）'!E221=\"\",\"\",'保険料申告内訳名簿（一人親方団体控）'!E221)","v":""},{"$f":"IF('保険料申告内訳名簿（一人親方団体控）'!F221=\"\",\"\",'保険料申告内訳名簿（一人親方団体控）'!F221)","v":""},{"$f":"IF('保険料申告内訳名簿（一人親方団体控）'!G221=\"\",\"\",'保険料申告内訳名簿（一人親方団体控）'!G221)","v":""},{"$f":"IF('保険料申告内訳名簿（一人親方団体控）'!H221=\"\",\"\",'保険料申告内訳名簿（一人親方団体控）'!H221)","v":""},{"$f":"IF('保険料申告内訳名簿（一人親方団体控）'!I221=\"\",\"\",'保険料申告内訳名簿（一人親方団体控）'!I221)","v":""},{"$f":"IF('保険料申告内訳名簿（一人親方団体控）'!J221=\"\",\"\",'保険料申告内訳名簿（一人親方団体控）'!J221)","v":""},{"$f":"IF('保険料申告内訳名簿（一人親方団体控）'!K221=\"\",\"\",'保険料申告内訳名簿（一人親方団体控）'!K221)","v":""},{"$f":"IF('保険料申告内訳名簿（一人親方団体控）'!L221=\"\",\"\",'保険料申告内訳名簿（一人親方団体控）'!L221)","v":""},{"$f":"IF('保険料申告内訳名簿（一人親方団体控）'!M221=\"\",\"\",'保険料申告内訳名簿（一人親方団体控）'!M221)","v":""},{"$f":"IF('保険料申告内訳名簿（一人親方団体控）'!N221=\"\",\"\",'保険料申告内訳名簿（一人親方団体控）'!N221)","v":""},{"$f":"IF('保険料申告内訳名簿（一人親方団体控）'!O221=\"\",\"\",'保険料申告内訳名簿（一人親方団体控）'!O221)","v":""},{"$f":"IF('保険料申告内訳名簿（一人親方団体控）'!P221=\"\",\"\",'保険料申告内訳名簿（一人親方団体控）'!P221)","v":""},{"$f":"IF('保険料申告内訳名簿（一人親方団体控）'!Q221=\"\",\"\",'保険料申告内訳名簿（一人親方団体控）'!Q221)","v":""},{"$f":"IF('保険料申告内訳名簿（一人親方団体控）'!R221=\"\",\"\",'保険料申告内訳名簿（一人親方団体控）'!R221)","v":""},{"$f":"IF('保険料申告内訳名簿（一人親方団体控）'!S221=\"\",\"\",'保険料申告内訳名簿（一人親方団体控）'!S221)","v":0},{"$f":"IF('保険料申告内訳名簿（一人親方団体控）'!T221=\"\",\"\",'保険料申告内訳名簿（一人親方団体控）'!T221)","v":""},{"$f":"IF('保険料申告内訳名簿（一人親方団体控）'!U221=\"\",\"\",'保険料申告内訳名簿（一人親方団体控）'!U221)","v":""},{"$f":"IF('保険料申告内訳名簿（一人親方団体控）'!V221=\"\",\"\",'保険料申告内訳名簿（一人親方団体控）'!V221)","v":""},{"$f":"IF('保険料申告内訳名簿（一人親方団体控）'!W221=\"\",\"\",'保険料申告内訳名簿（一人親方団体控）'!W221)","v":""},{"$f":"IF('保険料申告内訳名簿（一人親方団体控）'!X221=\"\",\"\",'保険料申告内訳名簿（一人親方団体控）'!X221)","v":""},{"$f":"IF('保険料申告内訳名簿（一人親方団体控）'!Y221=\"\",\"\",'保険料申告内訳名簿（一人親方団体控）'!Y221)","v":""},{"$f":"IF('保険料申告内訳名簿（一人親方団体控）'!Z221=\"\",\"\",'保険料申告内訳名簿（一人親方団体控）'!Z221)","v":""},{"$f":"IF('保険料申告内訳名簿（一人親方団体控）'!AA221=\"\",\"\",'保険料申告内訳名簿（一人親方団体控）'!AA221)","v":""},{"$f":"IF('保険料申告内訳名簿（一人親方団体控）'!AB221=\"\",\"\",'保険料申告内訳名簿（一人親方団体控）'!AB221)","v":""},{"$f":"IF('保険料申告内訳名簿（一人親方団体控）'!AC221=\"\",\"\",'保険料申告内訳名簿（一人親方団体控）'!AC221)","v":0},{"$f":"IF('保険料申告内訳名簿（一人親方団体控）'!AD221=\"\",\"\",'保険料申告内訳名簿（一人親方団体控）'!AD221)","v":""},{"$f":"IF('保険料申告内訳名簿（一人親方団体控）'!AE221=\"\",\"\",'保険料申告内訳名簿（一人親方団体控）'!AE221)","v":""},{"$f":"IF('保険料申告内訳名簿（一人親方団体控）'!AF221=\"\",\"\",'保険料申告内訳名簿（一人親方団体控）'!AF221)","v":""},{"$f":"IF('保険料申告内訳名簿（一人親方団体控）'!AG221=\"\",\"\",'保険料申告内訳名簿（一人親方団体控）'!AG221)","v":""},{"$f":"IF('保険料申告内訳名簿（一人親方団体控）'!AH221=\"\",\"\",'保険料申告内訳名簿（一人親方団体控）'!AH221)","v":""}]
[null,{"$f":"IF('保険料申告内訳名簿（一人親方団体控）'!B222=\"\",\"\",'保険料申告内訳名簿（一人親方団体控）'!B222)","v":""},{"$f":"IF('保険料申告内訳名簿（一人親方団体控）'!C222=\"\",\"\",'保険料申告内訳名簿（一人親方団体控）'!C222)","v":""},{"$f":"IF('保険料申告内訳名簿（一人親方団体控）'!D222=\"\",\"\",'保険料申告内訳名簿（一人親方団体控）'!D222)","v":""},{"$f":"IF('保険料申告内訳名簿（一人親方団体控）'!E222=\"\",\"\",'保険料申告内訳名簿（一人親方団体控）'!E222)","v":""},{"$f":"IF('保険料申告内訳名簿（一人親方団体控）'!F222=\"\",\"\",'保険料申告内訳名簿（一人親方団体控）'!F222)","v":""},{"$f":"IF('保険料申告内訳名簿（一人親方団体控）'!G222=\"\",\"\",'保険料申告内訳名簿（一人親方団体控）'!G222)","v":""},{"$f":"IF('保険料申告内訳名簿（一人親方団体控）'!H222=\"\",\"\",'保険料申告内訳名簿（一人親方団体控）'!H222)","v":""},{"$f":"IF('保険料申告内訳名簿（一人親方団体控）'!I222=\"\",\"\",'保険料申告内訳名簿（一人親方団体控）'!I222)","v":""},{"$f":"IF('保険料申告内訳名簿（一人親方団体控）'!J222=\"\",\"\",'保険料申告内訳名簿（一人親方団体控）'!J222)","v":""},{"$f":"IF('保険料申告内訳名簿（一人親方団体控）'!K222=\"\",\"\",'保険料申告内訳名簿（一人親方団体控）'!K222)","v":""},{"$f":"IF('保険料申告内訳名簿（一人親方団体控）'!L222=\"\",\"\",'保険料申告内訳名簿（一人親方団体控）'!L222)","v":""},{"$f":"IF('保険料申告内訳名簿（一人親方団体控）'!M222=\"\",\"\",'保険料申告内訳名簿（一人親方団体控）'!M222)","v":""},{"$f":"IF('保険料申告内訳名簿（一人親方団体控）'!N222=\"\",\"\",'保険料申告内訳名簿（一人親方団体控）'!N222)","v":""},{"$f":"IF('保険料申告内訳名簿（一人親方団体控）'!O222=\"\",\"\",'保険料申告内訳名簿（一人親方団体控）'!O222)","v":""},{"$f":"IF('保険料申告内訳名簿（一人親方団体控）'!P222=\"\",\"\",'保険料申告内訳名簿（一人親方団体控）'!P222)","v":""},{"$f":"IF('保険料申告内訳名簿（一人親方団体控）'!Q222=\"\",\"\",'保険料申告内訳名簿（一人親方団体控）'!Q222)","v":""},{"$f":"IF('保険料申告内訳名簿（一人親方団体控）'!R222=\"\",\"\",'保険料申告内訳名簿（一人親方団体控）'!R222)","v":""},{"$f":"IF('保険料申告内訳名簿（一人親方団体控）'!S222=\"\",\"\",'保険料申告内訳名簿（一人親方団体控）'!S222)","v":0},{"$f":"IF('保険料申告内訳名簿（一人親方団体控）'!T222=\"\",\"\",'保険料申告内訳名簿（一人親方団体控）'!T222)","v":""},{"$f":"IF('保険料申告内訳名簿（一人親方団体控）'!U222=\"\",\"\",'保険料申告内訳名簿（一人親方団体控）'!U222)","v":""},{"$f":"IF('保険料申告内訳名簿（一人親方団体控）'!V222=\"\",\"\",'保険料申告内訳名簿（一人親方団体控）'!V222)","v":""},{"$f":"IF('保険料申告内訳名簿（一人親方団体控）'!W222=\"\",\"\",'保険料申告内訳名簿（一人親方団体控）'!W222)","v":""},{"$f":"IF('保険料申告内訳名簿（一人親方団体控）'!X222=\"\",\"\",'保険料申告内訳名簿（一人親方団体控）'!X222)","v":""},{"$f":"IF('保険料申告内訳名簿（一人親方団体控）'!Y222=\"\",\"\",'保険料申告内訳名簿（一人親方団体控）'!Y222)","v":""},{"$f":"IF('保険料申告内訳名簿（一人親方団体控）'!Z222=\"\",\"\",'保険料申告内訳名簿（一人親方団体控）'!Z222)","v":""},{"$f":"IF('保険料申告内訳名簿（一人親方団体控）'!AA222=\"\",\"\",'保険料申告内訳名簿（一人親方団体控）'!AA222)","v":""},{"$f":"IF('保険料申告内訳名簿（一人親方団体控）'!AB222=\"\",\"\",'保険料申告内訳名簿（一人親方団体控）'!AB222)","v":""},{"$f":"IF('保険料申告内訳名簿（一人親方団体控）'!AC222=\"\",\"\",'保険料申告内訳名簿（一人親方団体控）'!AC222)","v":0},{"$f":"IF('保険料申告内訳名簿（一人親方団体控）'!AD222=\"\",\"\",'保険料申告内訳名簿（一人親方団体控）'!AD222)","v":""},{"$f":"IF('保険料申告内訳名簿（一人親方団体控）'!AE222=\"\",\"\",'保険料申告内訳名簿（一人親方団体控）'!AE222)","v":""},{"$f":"IF('保険料申告内訳名簿（一人親方団体控）'!AF222=\"\",\"\",'保険料申告内訳名簿（一人親方団体控）'!AF222)","v":""},{"$f":"IF('保険料申告内訳名簿（一人親方団体控）'!AG222=\"\",\"\",'保険料申告内訳名簿（一人親方団体控）'!AG222)","v":""},{"$f":"IF('保険料申告内訳名簿（一人親方団体控）'!AH222=\"\",\"\",'保険料申告内訳名簿（一人親方団体控）'!AH222)","v":""}]
[null,{"$f":"IF('保険料申告内訳名簿（一人親方団体控）'!B223=\"\",\"\",'保険料申告内訳名簿（一人親方団体控）'!B223)","v":""},{"$f":"IF('保険料申告内訳名簿（一人親方団体控）'!C223=\"\",\"\",'保険料申告内訳名簿（一人親方団体控）'!C223)","v":""},{"$f":"IF('保険料申告内訳名簿（一人親方団体控）'!D223=\"\",\"\",'保険料申告内訳名簿（一人親方団体控）'!D223)","v":""},{"$f":"IF('保険料申告内訳名簿（一人親方団体控）'!E223=\"\",\"\",'保険料申告内訳名簿（一人親方団体控）'!E223)","v":""},{"$f":"IF('保険料申告内訳名簿（一人親方団体控）'!F223=\"\",\"\",'保険料申告内訳名簿（一人親方団体控）'!F223)","v":""},{"$f":"IF('保険料申告内訳名簿（一人親方団体控）'!G223=\"\",\"\",'保険料申告内訳名簿（一人親方団体控）'!G223)","v":""},{"$f":"IF('保険料申告内訳名簿（一人親方団体控）'!H223=\"\",\"\",'保険料申告内訳名簿（一人親方団体控）'!H223)","v":""},{"$f":"IF('保険料申告内訳名簿（一人親方団体控）'!I223=\"\",\"\",'保険料申告内訳名簿（一人親方団体控）'!I223)","v":""},{"$f":"IF('保険料申告内訳名簿（一人親方団体控）'!J223=\"\",\"\",'保険料申告内訳名簿（一人親方団体控）'!J223)","v":""},{"$f":"IF('保険料申告内訳名簿（一人親方団体控）'!K223=\"\",\"\",'保険料申告内訳名簿（一人親方団体控）'!K223)","v":""},{"$f":"IF('保険料申告内訳名簿（一人親方団体控）'!L223=\"\",\"\",'保険料申告内訳名簿（一人親方団体控）'!L223)","v":""},{"$f":"IF('保険料申告内訳名簿（一人親方団体控）'!M223=\"\",\"\",'保険料申告内訳名簿（一人親方団体控）'!M223)","v":""},{"$f":"IF('保険料申告内訳名簿（一人親方団体控）'!N223=\"\",\"\",'保険料申告内訳名簿（一人親方団体控）'!N223)","v":""},{"$f":"IF('保険料申告内訳名簿（一人親方団体控）'!O223=\"\",\"\",'保険料申告内訳名簿（一人親方団体控）'!O223)","v":""},{"$f":"IF('保険料申告内訳名簿（一人親方団体控）'!P223=\"\",\"\",'保険料申告内訳名簿（一人親方団体控）'!P223)","v":""},{"$f":"IF('保険料申告内訳名簿（一人親方団体控）'!Q223=\"\",\"\",'保険料申告内訳名簿（一人親方団体控）'!Q223)","v":""},{"$f":"IF('保険料申告内訳名簿（一人親方団体控）'!R223=\"\",\"\",'保険料申告内訳名簿（一人親方団体控）'!R223)","v":""},{"$f":"IF('保険料申告内訳名簿（一人親方団体控）'!S223=\"\",\"\",'保険料申告内訳名簿（一人親方団体控）'!S223)","v":0},{"$f":"IF('保険料申告内訳名簿（一人親方団体控）'!T223=\"\",\"\",'保険料申告内訳名簿（一人親方団体控）'!T223)","v":""},{"$f":"IF('保険料申告内訳名簿（一人親方団体控）'!U223=\"\",\"\",'保険料申告内訳名簿（一人親方団体控）'!U223)","v":""},{"$f":"IF('保険料申告内訳名簿（一人親方団体控）'!V223=\"\",\"\",'保険料申告内訳名簿（一人親方団体控）'!V223)","v":""},{"$f":"IF('保険料申告内訳名簿（一人親方団体控）'!W223=\"\",\"\",'保険料申告内訳名簿（一人親方団体控）'!W223)","v":""},{"$f":"IF('保険料申告内訳名簿（一人親方団体控）'!X223=\"\",\"\",'保険料申告内訳名簿（一人親方団体控）'!X223)","v":""},{"$f":"IF('保険料申告内訳名簿（一人親方団体控）'!Y223=\"\",\"\",'保険料申告内訳名簿（一人親方団体控）'!Y223)","v":""},{"$f":"IF('保険料申告内訳名簿（一人親方団体控）'!Z223=\"\",\"\",'保険料申告内訳名簿（一人親方団体控）'!Z223)","v":""},{"$f":"IF('保険料申告内訳名簿（一人親方団体控）'!AA223=\"\",\"\",'保険料申告内訳名簿（一人親方団体控）'!AA223)","v":""},{"$f":"IF('保険料申告内訳名簿（一人親方団体控）'!AB223=\"\",\"\",'保険料申告内訳名簿（一人親方団体控）'!AB223)","v":""},{"$f":"IF('保険料申告内訳名簿（一人親方団体控）'!AC223=\"\",\"\",'保険料申告内訳名簿（一人親方団体控）'!AC223)","v":0},{"$f":"IF('保険料申告内訳名簿（一人親方団体控）'!AD223=\"\",\"\",'保険料申告内訳名簿（一人親方団体控）'!AD223)","v":""},{"$f":"IF('保険料申告内訳名簿（一人親方団体控）'!AE223=\"\",\"\",'保険料申告内訳名簿（一人親方団体控）'!AE223)","v":""},{"$f":"IF('保険料申告内訳名簿（一人親方団体控）'!AF223=\"\",\"\",'保険料申告内訳名簿（一人親方団体控）'!AF223)","v":""},{"$f":"IF('保険料申告内訳名簿（一人親方団体控）'!AG223=\"\",\"\",'保険料申告内訳名簿（一人親方団体控）'!AG223)","v":""},{"$f":"IF('保険料申告内訳名簿（一人親方団体控）'!AH223=\"\",\"\",'保険料申告内訳名簿（一人親方団体控）'!AH223)","v":""}]
[null,null,null,null,null,null,null,null,null,null,null,null,null,null,null,null,null,null,{"$f":"IF('保険料申告内訳名簿（一人親方団体控）'!S224=\"\",\"\",'保険料申告内訳名簿（一人親方団体控）'!S224)","v":0},{"$f":"IF('保険料申告内訳名簿（一人親方団体控）'!T224=\"\",\"\",'保険料申告内訳名簿（一人親方団体控）'!T224)","v":""},{"$f":"IF('保険料申告内訳名簿（一人親方団体控）'!U224=\"\",\"\",'保険料申告内訳名簿（一人親方団体控）'!U224)","v":""},{"$f":"IF('保険料申告内訳名簿（一人親方団体控）'!V224=\"\",\"\",'保険料申告内訳名簿（一人親方団体控）'!V224)","v":""},{"$f":"IF('保険料申告内訳名簿（一人親方団体控）'!W224=\"\",\"\",'保険料申告内訳名簿（一人親方団体控）'!W224)","v":""},{"$f":"IF('保険料申告内訳名簿（一人親方団体控）'!X224=\"\",\"\",'保険料申告内訳名簿（一人親方団体控）'!X224)","v":""},null,null,null,null,{"$f":"IF('保険料申告内訳名簿（一人親方団体控）'!AC224=\"\",\"\",'保険料申告内訳名簿（一人親方団体控）'!AC224)","v":0},{"$f":"IF('保険料申告内訳名簿（一人親方団体控）'!AD224=\"\",\"\",'保険料申告内訳名簿（一人親方団体控）'!AD224)","v":""},{"$f":"IF('保険料申告内訳名簿（一人親方団体控）'!AE224=\"\",\"\",'保険料申告内訳名簿（一人親方団体控）'!AE224)","v":""},{"$f":"IF('保険料申告内訳名簿（一人親方団体控）'!AF224=\"\",\"\",'保険料申告内訳名簿（一人親方団体控）'!AF224)","v":""},{"$f":"IF('保険料申告内訳名簿（一人親方団体控）'!AG224=\"\",\"\",'保険料申告内訳名簿（一人親方団体控）'!AG224)","v":""},{"$f":"IF('保険料申告内訳名簿（一人親方団体控）'!AH224=\"\",\"\",'保険料申告内訳名簿（一人親方団体控）'!AH224)","v":""}]
[]
[null,"（注）"]
[null,null,"１）　④欄は月割の対象となる方のみ記入して下さい。"]
[null,null,"２）　月割の対象となる場合の⑤保険料算定基礎額の算定方法"]
[null,null,"２）　月割の対象となる場合の③（給付基礎日額×365÷12）（円未満を切り上げてから）×加入月数"]
[]
[]
[null,"【島根局版】",null,null,null,null,null,null,null,null,null,null,null,null,null,null,null,null,null,null,null,null,null,null,null,null,"局用"]
[null,"第２種特別加入保険料申告内訳名簿"]
[null,"（一人親方等）"]
[null,null,null,null,null,null,null,null,null,null,null,null,null,null,null,null,null,null,null,null,null,null,null,null,"（",{"$f":"IF('保険料申告内訳名簿（一人親方団体控）'!Z235=\"\",\"\",'保険料申告内訳名簿（一人親方団体控）'!Z235)","v":0},{"$f":"IF('保険料申告内訳名簿（一人親方団体控）'!AA235=\"\",\"\",'保険料申告内訳名簿（一人親方団体控）'!AA235)","v":""},"枚のうち",null,{"$f":"IF('保険料申告内訳名簿（一人親方団体控）'!AD235=\"\",\"\",'保険料申告内訳名簿（一人親方団体控）'!AD235)","v":8},{"$f":"IF('保険料申告内訳名簿（一人親方団体控）'!AE235=\"\",\"\",'保険料申告内訳名簿（一人親方団体控）'!AE235)","v":""},"枚目",null,"）"]
[]
[null,"労働保険\n番　　　号",null,null,null,null,"府県",null,"所掌","管轄",null,"基幹番号",null,null,null,null,null,"枝番号",null,null,"事業場の\n所在地",null,null,{"$f":"IF('保険料申告内訳名簿（一人親方団体控）'!X237=\"\",\"\",'保険料申告内訳名簿（一人親方団体控）'!X237)","v":""},{"$f":"IF('保険料申告内訳名簿（一人親方団体控）'!Y237=\"\",\"\",'保険料申告内訳名簿（一人親方団体控）'!Y237)","v":""},{"$f":"IF('保険料申告内訳名簿（一人親方団体控）'!Z237=\"\",\"\",'保険料申告内訳名簿（一人親方団体控）'!Z237)","v":""},{"$f":"IF('保険料申告内訳名簿（一人親方団体控）'!AA237=\"\",\"\",'保険料申告内訳名簿（一人親方団体控）'!AA237)","v":""},{"$f":"IF('保険料申告内訳名簿（一人親方団体控）'!AB237=\"\",\"\",'保険料申告内訳名簿（一人親方団体控）'!AB237)","v":""},{"$f":"IF('保険料申告内訳名簿（一人親方団体控）'!AC237=\"\",\"\",'保険料申告内訳名簿（一人親方団体控）'!AC237)","v":""},{"$f":"IF('保険料申告内訳名簿（一人親方団体控）'!AD237=\"\",\"\",'保険料申告内訳名簿（一人親方団体控）'!AD237)","v":""},{"$f":"IF('保険料申告内訳名簿（一人親方団体控）'!AE237=\"\",\"\",'保険料申告内訳名簿（一人親方団体控）'!AE237)","v":""},{"$f":"IF('保険料申告内訳名簿（一人親方団体控）'!AF237=\"\",\"\",'保険料申告内訳名簿（一人親方団体控）'!AF237)","v":""},{"$f":"IF('保険料申告内訳名簿（一人親方団体控）'!AG237=\"\",\"\",'保険料申告内訳名簿（一人親方団体控）'!AG237)","v":""},{"$f":"IF('保険料申告内訳名簿（一人親方団体控）'!AH237=\"\",\"\",'保険料申告内訳名簿（一人親方団体控）'!AH237)","v":""}]
[null,null,null,null,null,null,"3","2",{"$f":"IF('保険料申告内訳名簿（一人親方団体控）'!I238=\"\",\"\",'保険料申告内訳名簿（一人親方団体控）'!I238)","v":""},{"$f":"IF('保険料申告内訳名簿（一人親方団体控）'!J238=\"\",\"\",'保険料申告内訳名簿（一人親方団体控）'!J238)","v":""},{"$f":"IF('保険料申告内訳名簿（一人親方団体控）'!K238=\"\",\"\",'保険料申告内訳名簿（一人親方団体控）'!K238)","v":""},{"$f":"IF('保険料申告内訳名簿（一人親方団体控）'!L238=\"\",\"\",'保険料申告内訳名簿（一人親方団体控）'!L238)","v":""},{"$f":"IF('保険料申告内訳名簿（一人親方団体控）'!M238=\"\",\"\",'保険料申告内訳名簿（一人親方団体控）'!M238)","v":""},{"$f":"IF('保険料申告内訳名簿（一人親方団体控）'!N238=\"\",\"\",'保険料申告内訳名簿（一人親方団体控）'!N238)","v":""},{"$f":"IF('保険料申告内訳名簿（一人親方団体控）'!O238=\"\",\"\",'保険料申告内訳名簿（一人親方団体控）'!O238)","v":""},{"$f":"IF('保険料申告内訳名簿（一人親方団体控）'!P238=\"\",\"\",'保険料申告内訳名簿（一人親方団体控）'!P238)","v":""},{"$f":"IF('保険料申告内訳名簿（一人親方団体控）'!Q238=\"\",\"\",'保険料申告内訳名簿（一人親方団体控）'!Q238)","v":""},{"$f":"IF('保険料申告内訳名簿（一人親方団体控）'!R238=\"\",\"\",'保険料申告内訳名簿（一人親方団体控）'!R238)","v":""},{"$f":"IF('保険料申告内訳名簿（一人親方団体控）'!S238=\"\",\"\",'保険料申告内訳名簿（一人親方団体控）'!S238)","v":""},{"$f":"IF('保険料申告内訳名簿（一人親方団体控）'!T238=\"\",\"\",'保険料申告内訳名簿（一人親方団体控）'!T238)","v":""},"事業場の\n名称",null,null,{"$f":"IF('保険料申告内訳名簿（一人親方団体控）'!X238=\"\",\"\",'保険料申告内訳名簿（一人親方団体控）'!X238)","v":""},{"$f":"IF('保険料申告内訳名簿（一人親方団体控）'!Y238=\"\",\"\",'保険料申告内訳名簿（一人親方団体控）'!Y238)","v":""},{"$f":"IF('保険料申告内訳名簿（一人親方団体控）'!Z238=\"\",\"\",'保険料申告内訳名簿（一人親方団体控）'!Z238)","v":""},{"$f":"IF('保険料申告内訳名簿（一人親方団体控）'!AA238=\"\",\"\",'保険料申告内訳名簿（一人親方団体控）'!AA238)","v":""},{"$f":"IF('保険料申告内訳名簿（一人親方団体控）'!AB238=\"\",\"\",'保険料申告内訳名簿（一人親方団体控）'!AB238)","v":""},{"$f":"IF('保険料申告内訳名簿（一人親方団体控）'!AC238=\"\",\"\",'保険料申告内訳名簿（一人親方団体控）'!AC238)","v":""},{"$f":"IF('保険料申告内訳名簿（一人親方団体控）'!AD238=\"\",\"\",'保険料申告内訳名簿（一人親方団体控）'!AD238)","v":""},{"$f":"IF('保険料申告内訳名簿（一人親方団体控）'!AE238=\"\",\"\",'保険料申告内訳名簿（一人親方団体控）'!AE238)","v":""},{"$f":"IF('保険料申告内訳名簿（一人親方団体控）'!AF238=\"\",\"\",'保険料申告内訳名簿（一人親方団体控）'!AF238)","v":""},{"$f":"IF('保険料申告内訳名簿（一人親方団体控）'!AG238=\"\",\"\",'保険料申告内訳名簿（一人親方団体控）'!AG238)","v":""},{"$f":"IF('保険料申告内訳名簿（一人親方団体控）'!AH238=\"\",\"\",'保険料申告内訳名簿（一人親方団体控）'!AH238)","v":""}]
[null,"①\n整理\n番号",null,"②\n氏名",null,null,null,null,null,null,null,null,null,null,"令 和",null,null,{"$f":"IF('保険料申告内訳名簿（一人親方団体控）'!R239=\"\",\"\",'保険料申告内訳名簿（一人親方団体控）'!R239)","v":""},{"$f":"IF('保険料申告内訳名簿（一人親方団体控）'!S239=\"\",\"\",'保険料申告内訳名簿（一人親方団体控）'!S239)","v":""},{"$f":"IF('保険料申告内訳名簿（一人親方団体控）'!T239=\"\",\"\",'保険料申告内訳名簿（一人親方団体控）'!T239)","v":""},null,null,null,"年 度 確 定 ","令 和",null,null,{"$f":"IF('保険料申告内訳名簿（一人親方団体控）'!AB239=\"\",\"\",'保険料申告内訳名簿（一人親方団体控）'!AB239)","v":""},{"$f":"IF('保険料申告内訳名簿（一人親方団体控）'!AC239=\"\",\"\",'保険料申告内訳名簿（一人親方団体控）'!AC239)","v":""},{"$f":"IF('保険料申告内訳名簿（一人親方団体控）'!AD239=\"\",\"\",'保険料申告内訳名簿（一人親方団体控）'!AD239)","v":""},null,null,null,"年 度 概 算 "]
[null,null,null,null,null,null,null,"③　\n給付基礎日額",null,null,null,"④年度中途加入・脱退",null,null,null,null,null,null,"⑤\n保険料算定基礎額",null,null,null,null,null,"⑥\n給付基礎日額",null,null,null,"⑦\n保険料算定基礎額"]
[null,null,null,null,null,null,null,null,null,null,null,"加入・脱退年月日",null,null,null,null,"加入月数"]
[null,{"$f":"IF('保険料申告内訳名簿（一人親方団体控）'!B242=\"\",\"\",'保険料申告内訳名簿（一人親方団体控）'!B242)","v":""},{"$f":"IF('保険料申告内訳名簿（一人親方団体控）'!C242=\"\",\"\",'保険料申告内訳名簿（一人親方団体控）'!C242)","v":""},{"$f":"IF('保険料申告内訳名簿（一人親方団体控）'!D242=\"\",\"\",'保険料申告内訳名簿（一人親方団体控）'!D242)","v":""},{"$f":"IF('保険料申告内訳名簿（一人親方団体控）'!E242=\"\",\"\",'保険料申告内訳名簿（一人親方団体控）'!E242)","v":""},{"$f":"IF('保険料申告内訳名簿（一人親方団体控）'!F242=\"\",\"\",'保険料申告内訳名簿（一人親方団体控）'!F242)","v":""},{"$f":"IF('保険料申告内訳名簿（一人親方団体控）'!G242=\"\",\"\",'保険料申告内訳名簿（一人親方団体控）'!G242)","v":""},{"$f":"IF('保険料申告内訳名簿（一人親方団体控）'!H242=\"\",\"\",'保険料申告内訳名簿（一人親方団体控）'!H242)","v":""},{"$f":"IF('保険料申告内訳名簿（一人親方団体控）'!I242=\"\",\"\",'保険料申告内訳名簿（一人親方団体控）'!I242)","v":""},{"$f":"IF('保険料申告内訳名簿（一人親方団体控）'!J242=\"\",\"\",'保険料申告内訳名簿（一人親方団体控）'!J242)","v":""},{"$f":"IF('保険料申告内訳名簿（一人親方団体控）'!K242=\"\",\"\",'保険料申告内訳名簿（一人親方団体控）'!K242)","v":""},{"$f":"IF('保険料申告内訳名簿（一人親方団体控）'!L242=\"\",\"\",'保険料申告内訳名簿（一人親方団体控）'!L242)","v":""},{"$f":"IF('保険料申告内訳名簿（一人親方団体控）'!M242=\"\",\"\",'保険料申告内訳名簿（一人親方団体控）'!M242)","v":""},{"$f":"IF('保険料申告内訳名簿（一人親方団体控）'!N242=\"\",\"\",'保険料申告内訳名簿（一人親方団体控）'!N242)","v":""},{"$f":"IF('保険料申告内訳名簿（一人親方団体控）'!O242=\"\",\"\",'保険料申告内訳名簿（一人親方団体控）'!O242)","v":""},{"$f":"IF('保険料申告内訳名簿（一人親方団体控）'!P242=\"\",\"\",'保険料申告内訳名簿（一人親方団体控）'!P242)","v":""},{"$f":"IF('保険料申告内訳名簿（一人親方団体控）'!Q242=\"\",\"\",'保険料申告内訳名簿（一人親方団体控）'!Q242)","v":""},{"$f":"IF('保険料申告内訳名簿（一人親方団体控）'!R242=\"\",\"\",'保険料申告内訳名簿（一人親方団体控）'!R242)","v":""},{"$f":"IF('保険料申告内訳名簿（一人親方団体控）'!S242=\"\",\"\",'保険料申告内訳名簿（一人親方団体控）'!S242)","v":0},{"$f":"IF('保険料申告内訳名簿（一人親方団体控）'!T242=\"\",\"\",'保険料申告内訳名簿（一人親方団体控）'!T242)","v":""},{"$f":"IF('保険料申告内訳名簿（一人親方団体控）'!U242=\"\",\"\",'保険料申告内訳名簿（一人親方団体控）'!U242)","v":""},{"$f":"IF('保険料申告内訳名簿（一人親方団体控）'!V242=\"\",\"\",'保険料申告内訳名簿（一人親方団体控）'!V242)","v":""},{"$f":"IF('保険料申告内訳名簿（一人親方団体控）'!W242=\"\",\"\",'保険料申告内訳名簿（一人親方団体控）'!W242)","v":""},{"$f":"IF('保険料申告内訳名簿（一人親方団体控）'!X242=\"\",\"\",'保険料申告内訳名簿（一人親方団体控）'!X242)","v":""},{"$f":"IF('保険料申告内訳名簿（一人親方団体控）'!Y242=\"\",\"\",'保険料申告内訳名簿（一人親方団体控）'!Y242)","v":""},{"$f":"IF('保険料申告内訳名簿（一人親方団体控）'!Z242=\"\",\"\",'保険料申告内訳名簿（一人親方団体控）'!Z242)","v":""},{"$f":"IF('保険料申告内訳名簿（一人親方団体控）'!AA242=\"\",\"\",'保険料申告内訳名簿（一人親方団体控）'!AA242)","v":""},{"$f":"IF('保険料申告内訳名簿（一人親方団体控）'!AB242=\"\",\"\",'保険料申告内訳名簿（一人親方団体控）'!AB242)","v":""},{"$f":"IF('保険料申告内訳名簿（一人親方団体控）'!AC242=\"\",\"\",'保険料申告内訳名簿（一人親方団体控）'!AC242)","v":0},{"$f":"IF('保険料申告内訳名簿（一人親方団体控）'!AD242=\"\",\"\",'保険料申告内訳名簿（一人親方団体控）'!AD242)","v":""},{"$f":"IF('保険料申告内訳名簿（一人親方団体控）'!AE242=\"\",\"\",'保険料申告内訳名簿（一人親方団体控）'!AE242)","v":""},{"$f":"IF('保険料申告内訳名簿（一人親方団体控）'!AF242=\"\",\"\",'保険料申告内訳名簿（一人親方団体控）'!AF242)","v":""},{"$f":"IF('保険料申告内訳名簿（一人親方団体控）'!AG242=\"\",\"\",'保険料申告内訳名簿（一人親方団体控）'!AG242)","v":""},{"$f":"IF('保険料申告内訳名簿（一人親方団体控）'!AH242=\"\",\"\",'保険料申告内訳名簿（一人親方団体控）'!AH242)","v":""}]
[null,{"$f":"IF('保険料申告内訳名簿（一人親方団体控）'!B243=\"\",\"\",'保険料申告内訳名簿（一人親方団体控）'!B243)","v":""},{"$f":"IF('保険料申告内訳名簿（一人親方団体控）'!C243=\"\",\"\",'保険料申告内訳名簿（一人親方団体控）'!C243)","v":""},{"$f":"IF('保険料申告内訳名簿（一人親方団体控）'!D243=\"\",\"\",'保険料申告内訳名簿（一人親方団体控）'!D243)","v":""},{"$f":"IF('保険料申告内訳名簿（一人親方団体控）'!E243=\"\",\"\",'保険料申告内訳名簿（一人親方団体控）'!E243)","v":""},{"$f":"IF('保険料申告内訳名簿（一人親方団体控）'!F243=\"\",\"\",'保険料申告内訳名簿（一人親方団体控）'!F243)","v":""},{"$f":"IF('保険料申告内訳名簿（一人親方団体控）'!G243=\"\",\"\",'保険料申告内訳名簿（一人親方団体控）'!G243)","v":""},{"$f":"IF('保険料申告内訳名簿（一人親方団体控）'!H243=\"\",\"\",'保険料申告内訳名簿（一人親方団体控）'!H243)","v":""},{"$f":"IF('保険料申告内訳名簿（一人親方団体控）'!I243=\"\",\"\",'保険料申告内訳名簿（一人親方団体控）'!I243)","v":""},{"$f":"IF('保険料申告内訳名簿（一人親方団体控）'!J243=\"\",\"\",'保険料申告内訳名簿（一人親方団体控）'!J243)","v":""},{"$f":"IF('保険料申告内訳名簿（一人親方団体控）'!K243=\"\",\"\",'保険料申告内訳名簿（一人親方団体控）'!K243)","v":""},{"$f":"IF('保険料申告内訳名簿（一人親方団体控）'!L243=\"\",\"\",'保険料申告内訳名簿（一人親方団体控）'!L243)","v":""},{"$f":"IF('保険料申告内訳名簿（一人親方団体控）'!M243=\"\",\"\",'保険料申告内訳名簿（一人親方団体控）'!M243)","v":""},{"$f":"IF('保険料申告内訳名簿（一人親方団体控）'!N243=\"\",\"\",'保険料申告内訳名簿（一人親方団体控）'!N243)","v":""},{"$f":"IF('保険料申告内訳名簿（一人親方団体控）'!O243=\"\",\"\",'保険料申告内訳名簿（一人親方団体控）'!O243)","v":""},{"$f":"IF('保険料申告内訳名簿（一人親方団体控）'!P243=\"\",\"\",'保険料申告内訳名簿（一人親方団体控）'!P243)","v":""},{"$f":"IF('保険料申告内訳名簿（一人親方団体控）'!Q243=\"\",\"\",'保険料申告内訳名簿（一人親方団体控）'!Q243)","v":""},{"$f":"IF('保険料申告内訳名簿（一人親方団体控）'!R243=\"\",\"\",'保険料申告内訳名簿（一人親方団体控）'!R243)","v":""},{"$f":"IF('保険料申告内訳名簿（一人親方団体控）'!S243=\"\",\"\",'保険料申告内訳名簿（一人親方団体控）'!S243)","v":0},{"$f":"IF('保険料申告内訳名簿（一人親方団体控）'!T243=\"\",\"\",'保険料申告内訳名簿（一人親方団体控）'!T243)","v":""},{"$f":"IF('保険料申告内訳名簿（一人親方団体控）'!U243=\"\",\"\",'保険料申告内訳名簿（一人親方団体控）'!U243)","v":""},{"$f":"IF('保険料申告内訳名簿（一人親方団体控）'!V243=\"\",\"\",'保険料申告内訳名簿（一人親方団体控）'!V243)","v":""},{"$f":"IF('保険料申告内訳名簿（一人親方団体控）'!W243=\"\",\"\",'保険料申告内訳名簿（一人親方団体控）'!W243)","v":""},{"$f":"IF('保険料申告内訳名簿（一人親方団体控）'!X243=\"\",\"\",'保険料申告内訳名簿（一人親方団体控）'!X243)","v":""},{"$f":"IF('保険料申告内訳名簿（一人親方団体控）'!Y243=\"\",\"\",'保険料申告内訳名簿（一人親方団体控）'!Y243)","v":""},{"$f":"IF('保険料申告内訳名簿（一人親方団体控）'!Z243=\"\",\"\",'保険料申告内訳名簿（一人親方団体控）'!Z243)","v":""},{"$f":"IF('保険料申告内訳名簿（一人親方団体控）'!AA243=\"\",\"\",'保険料申告内訳名簿（一人親方団体控）'!AA243)","v":""},{"$f":"IF('保険料申告内訳名簿（一人親方団体控）'!AB243=\"\",\"\",'保険料申告内訳名簿（一人親方団体控）'!AB243)","v":""},{"$f":"IF('保険料申告内訳名簿（一人親方団体控）'!AC243=\"\",\"\",'保険料申告内訳名簿（一人親方団体控）'!AC243)","v":0},{"$f":"IF('保険料申告内訳名簿（一人親方団体控）'!AD243=\"\",\"\",'保険料申告内訳名簿（一人親方団体控）'!AD243)","v":""},{"$f":"IF('保険料申告内訳名簿（一人親方団体控）'!AE243=\"\",\"\",'保険料申告内訳名簿（一人親方団体控）'!AE243)","v":""},{"$f":"IF('保険料申告内訳名簿（一人親方団体控）'!AF243=\"\",\"\",'保険料申告内訳名簿（一人親方団体控）'!AF243)","v":""},{"$f":"IF('保険料申告内訳名簿（一人親方団体控）'!AG243=\"\",\"\",'保険料申告内訳名簿（一人親方団体控）'!AG243)","v":""},{"$f":"IF('保険料申告内訳名簿（一人親方団体控）'!AH243=\"\",\"\",'保険料申告内訳名簿（一人親方団体控）'!AH243)","v":""}]
[null,{"$f":"IF('保険料申告内訳名簿（一人親方団体控）'!B244=\"\",\"\",'保険料申告内訳名簿（一人親方団体控）'!B244)","v":""},{"$f":"IF('保険料申告内訳名簿（一人親方団体控）'!C244=\"\",\"\",'保険料申告内訳名簿（一人親方団体控）'!C244)","v":""},{"$f":"IF('保険料申告内訳名簿（一人親方団体控）'!D244=\"\",\"\",'保険料申告内訳名簿（一人親方団体控）'!D244)","v":""},{"$f":"IF('保険料申告内訳名簿（一人親方団体控）'!E244=\"\",\"\",'保険料申告内訳名簿（一人親方団体控）'!E244)","v":""},{"$f":"IF('保険料申告内訳名簿（一人親方団体控）'!F244=\"\",\"\",'保険料申告内訳名簿（一人親方団体控）'!F244)","v":""},{"$f":"IF('保険料申告内訳名簿（一人親方団体控）'!G244=\"\",\"\",'保険料申告内訳名簿（一人親方団体控）'!G244)","v":""},{"$f":"IF('保険料申告内訳名簿（一人親方団体控）'!H244=\"\",\"\",'保険料申告内訳名簿（一人親方団体控）'!H244)","v":""},{"$f":"IF('保険料申告内訳名簿（一人親方団体控）'!I244=\"\",\"\",'保険料申告内訳名簿（一人親方団体控）'!I244)","v":""},{"$f":"IF('保険料申告内訳名簿（一人親方団体控）'!J244=\"\",\"\",'保険料申告内訳名簿（一人親方団体控）'!J244)","v":""},{"$f":"IF('保険料申告内訳名簿（一人親方団体控）'!K244=\"\",\"\",'保険料申告内訳名簿（一人親方団体控）'!K244)","v":""},{"$f":"IF('保険料申告内訳名簿（一人親方団体控）'!L244=\"\",\"\",'保険料申告内訳名簿（一人親方団体控）'!L244)","v":""},{"$f":"IF('保険料申告内訳名簿（一人親方団体控）'!M244=\"\",\"\",'保険料申告内訳名簿（一人親方団体控）'!M244)","v":""},{"$f":"IF('保険料申告内訳名簿（一人親方団体控）'!N244=\"\",\"\",'保険料申告内訳名簿（一人親方団体控）'!N244)","v":""},{"$f":"IF('保険料申告内訳名簿（一人親方団体控）'!O244=\"\",\"\",'保険料申告内訳名簿（一人親方団体控）'!O244)","v":""},{"$f":"IF('保険料申告内訳名簿（一人親方団体控）'!P244=\"\",\"\",'保険料申告内訳名簿（一人親方団体控）'!P244)","v":""},{"$f":"IF('保険料申告内訳名簿（一人親方団体控）'!Q244=\"\",\"\",'保険料申告内訳名簿（一人親方団体控）'!Q244)","v":""},{"$f":"IF('保険料申告内訳名簿（一人親方団体控）'!R244=\"\",\"\",'保険料申告内訳名簿（一人親方団体控）'!R244)","v":""},{"$f":"IF('保険料申告内訳名簿（一人親方団体控）'!S244=\"\",\"\",'保険料申告内訳名簿（一人親方団体控）'!S244)","v":0},{"$f":"IF('保険料申告内訳名簿（一人親方団体控）'!T244=\"\",\"\",'保険料申告内訳名簿（一人親方団体控）'!T244)","v":""},{"$f":"IF('保険料申告内訳名簿（一人親方団体控）'!U244=\"\",\"\",'保険料申告内訳名簿（一人親方団体控）'!U244)","v":""},{"$f":"IF('保険料申告内訳名簿（一人親方団体控）'!V244=\"\",\"\",'保険料申告内訳名簿（一人親方団体控）'!V244)","v":""},{"$f":"IF('保険料申告内訳名簿（一人親方団体控）'!W244=\"\",\"\",'保険料申告内訳名簿（一人親方団体控）'!W244)","v":""},{"$f":"IF('保険料申告内訳名簿（一人親方団体控）'!X244=\"\",\"\",'保険料申告内訳名簿（一人親方団体控）'!X244)","v":""},{"$f":"IF('保険料申告内訳名簿（一人親方団体控）'!Y244=\"\",\"\",'保険料申告内訳名簿（一人親方団体控）'!Y244)","v":""},{"$f":"IF('保険料申告内訳名簿（一人親方団体控）'!Z244=\"\",\"\",'保険料申告内訳名簿（一人親方団体控）'!Z244)","v":""},{"$f":"IF('保険料申告内訳名簿（一人親方団体控）'!AA244=\"\",\"\",'保険料申告内訳名簿（一人親方団体控）'!AA244)","v":""},{"$f":"IF('保険料申告内訳名簿（一人親方団体控）'!AB244=\"\",\"\",'保険料申告内訳名簿（一人親方団体控）'!AB244)","v":""},{"$f":"IF('保険料申告内訳名簿（一人親方団体控）'!AC244=\"\",\"\",'保険料申告内訳名簿（一人親方団体控）'!AC244)","v":0},{"$f":"IF('保険料申告内訳名簿（一人親方団体控）'!AD244=\"\",\"\",'保険料申告内訳名簿（一人親方団体控）'!AD244)","v":""},{"$f":"IF('保険料申告内訳名簿（一人親方団体控）'!AE244=\"\",\"\",'保険料申告内訳名簿（一人親方団体控）'!AE244)","v":""},{"$f":"IF('保険料申告内訳名簿（一人親方団体控）'!AF244=\"\",\"\",'保険料申告内訳名簿（一人親方団体控）'!AF244)","v":""},{"$f":"IF('保険料申告内訳名簿（一人親方団体控）'!AG244=\"\",\"\",'保険料申告内訳名簿（一人親方団体控）'!AG244)","v":""},{"$f":"IF('保険料申告内訳名簿（一人親方団体控）'!AH244=\"\",\"\",'保険料申告内訳名簿（一人親方団体控）'!AH244)","v":""}]
[null,{"$f":"IF('保険料申告内訳名簿（一人親方団体控）'!B245=\"\",\"\",'保険料申告内訳名簿（一人親方団体控）'!B245)","v":""},{"$f":"IF('保険料申告内訳名簿（一人親方団体控）'!C245=\"\",\"\",'保険料申告内訳名簿（一人親方団体控）'!C245)","v":""},{"$f":"IF('保険料申告内訳名簿（一人親方団体控）'!D245=\"\",\"\",'保険料申告内訳名簿（一人親方団体控）'!D245)","v":""},{"$f":"IF('保険料申告内訳名簿（一人親方団体控）'!E245=\"\",\"\",'保険料申告内訳名簿（一人親方団体控）'!E245)","v":""},{"$f":"IF('保険料申告内訳名簿（一人親方団体控）'!F245=\"\",\"\",'保険料申告内訳名簿（一人親方団体控）'!F245)","v":""},{"$f":"IF('保険料申告内訳名簿（一人親方団体控）'!G245=\"\",\"\",'保険料申告内訳名簿（一人親方団体控）'!G245)","v":""},{"$f":"IF('保険料申告内訳名簿（一人親方団体控）'!H245=\"\",\"\",'保険料申告内訳名簿（一人親方団体控）'!H245)","v":""},{"$f":"IF('保険料申告内訳名簿（一人親方団体控）'!I245=\"\",\"\",'保険料申告内訳名簿（一人親方団体控）'!I245)","v":""},{"$f":"IF('保険料申告内訳名簿（一人親方団体控）'!J245=\"\",\"\",'保険料申告内訳名簿（一人親方団体控）'!J245)","v":""},{"$f":"IF('保険料申告内訳名簿（一人親方団体控）'!K245=\"\",\"\",'保険料申告内訳名簿（一人親方団体控）'!K245)","v":""},{"$f":"IF('保険料申告内訳名簿（一人親方団体控）'!L245=\"\",\"\",'保険料申告内訳名簿（一人親方団体控）'!L245)","v":""},{"$f":"IF('保険料申告内訳名簿（一人親方団体控）'!M245=\"\",\"\",'保険料申告内訳名簿（一人親方団体控）'!M245)","v":""},{"$f":"IF('保険料申告内訳名簿（一人親方団体控）'!N245=\"\",\"\",'保険料申告内訳名簿（一人親方団体控）'!N245)","v":""},{"$f":"IF('保険料申告内訳名簿（一人親方団体控）'!O245=\"\",\"\",'保険料申告内訳名簿（一人親方団体控）'!O245)","v":""},{"$f":"IF('保険料申告内訳名簿（一人親方団体控）'!P245=\"\",\"\",'保険料申告内訳名簿（一人親方団体控）'!P245)","v":""},{"$f":"IF('保険料申告内訳名簿（一人親方団体控）'!Q245=\"\",\"\",'保険料申告内訳名簿（一人親方団体控）'!Q245)","v":""},{"$f":"IF('保険料申告内訳名簿（一人親方団体控）'!R245=\"\",\"\",'保険料申告内訳名簿（一人親方団体控）'!R245)","v":""},{"$f":"IF('保険料申告内訳名簿（一人親方団体控）'!S245=\"\",\"\",'保険料申告内訳名簿（一人親方団体控）'!S245)","v":0},{"$f":"IF('保険料申告内訳名簿（一人親方団体控）'!T245=\"\",\"\",'保険料申告内訳名簿（一人親方団体控）'!T245)","v":""},{"$f":"IF('保険料申告内訳名簿（一人親方団体控）'!U245=\"\",\"\",'保険料申告内訳名簿（一人親方団体控）'!U245)","v":""},{"$f":"IF('保険料申告内訳名簿（一人親方団体控）'!V245=\"\",\"\",'保険料申告内訳名簿（一人親方団体控）'!V245)","v":""},{"$f":"IF('保険料申告内訳名簿（一人親方団体控）'!W245=\"\",\"\",'保険料申告内訳名簿（一人親方団体控）'!W245)","v":""},{"$f":"IF('保険料申告内訳名簿（一人親方団体控）'!X245=\"\",\"\",'保険料申告内訳名簿（一人親方団体控）'!X245)","v":""},{"$f":"IF('保険料申告内訳名簿（一人親方団体控）'!Y245=\"\",\"\",'保険料申告内訳名簿（一人親方団体控）'!Y245)","v":""},{"$f":"IF('保険料申告内訳名簿（一人親方団体控）'!Z245=\"\",\"\",'保険料申告内訳名簿（一人親方団体控）'!Z245)","v":""},{"$f":"IF('保険料申告内訳名簿（一人親方団体控）'!AA245=\"\",\"\",'保険料申告内訳名簿（一人親方団体控）'!AA245)","v":""},{"$f":"IF('保険料申告内訳名簿（一人親方団体控）'!AB245=\"\",\"\",'保険料申告内訳名簿（一人親方団体控）'!AB245)","v":""},{"$f":"IF('保険料申告内訳名簿（一人親方団体控）'!AC245=\"\",\"\",'保険料申告内訳名簿（一人親方団体控）'!AC245)","v":0},{"$f":"IF('保険料申告内訳名簿（一人親方団体控）'!AD245=\"\",\"\",'保険料申告内訳名簿（一人親方団体控）'!AD245)","v":""},{"$f":"IF('保険料申告内訳名簿（一人親方団体控）'!AE245=\"\",\"\",'保険料申告内訳名簿（一人親方団体控）'!AE245)","v":""},{"$f":"IF('保険料申告内訳名簿（一人親方団体控）'!AF245=\"\",\"\",'保険料申告内訳名簿（一人親方団体控）'!AF245)","v":""},{"$f":"IF('保険料申告内訳名簿（一人親方団体控）'!AG245=\"\",\"\",'保険料申告内訳名簿（一人親方団体控）'!AG245)","v":""},{"$f":"IF('保険料申告内訳名簿（一人親方団体控）'!AH245=\"\",\"\",'保険料申告内訳名簿（一人親方団体控）'!AH245)","v":""}]
[null,{"$f":"IF('保険料申告内訳名簿（一人親方団体控）'!B246=\"\",\"\",'保険料申告内訳名簿（一人親方団体控）'!B246)","v":""},{"$f":"IF('保険料申告内訳名簿（一人親方団体控）'!C246=\"\",\"\",'保険料申告内訳名簿（一人親方団体控）'!C246)","v":""},{"$f":"IF('保険料申告内訳名簿（一人親方団体控）'!D246=\"\",\"\",'保険料申告内訳名簿（一人親方団体控）'!D246)","v":""},{"$f":"IF('保険料申告内訳名簿（一人親方団体控）'!E246=\"\",\"\",'保険料申告内訳名簿（一人親方団体控）'!E246)","v":""},{"$f":"IF('保険料申告内訳名簿（一人親方団体控）'!F246=\"\",\"\",'保険料申告内訳名簿（一人親方団体控）'!F246)","v":""},{"$f":"IF('保険料申告内訳名簿（一人親方団体控）'!G246=\"\",\"\",'保険料申告内訳名簿（一人親方団体控）'!G246)","v":""},{"$f":"IF('保険料申告内訳名簿（一人親方団体控）'!H246=\"\",\"\",'保険料申告内訳名簿（一人親方団体控）'!H246)","v":""},{"$f":"IF('保険料申告内訳名簿（一人親方団体控）'!I246=\"\",\"\",'保険料申告内訳名簿（一人親方団体控）'!I246)","v":""},{"$f":"IF('保険料申告内訳名簿（一人親方団体控）'!J246=\"\",\"\",'保険料申告内訳名簿（一人親方団体控）'!J246)","v":""},{"$f":"IF('保険料申告内訳名簿（一人親方団体控）'!K246=\"\",\"\",'保険料申告内訳名簿（一人親方団体控）'!K246)","v":""},{"$f":"IF('保険料申告内訳名簿（一人親方団体控）'!L246=\"\",\"\",'保険料申告内訳名簿（一人親方団体控）'!L246)","v":""},{"$f":"IF('保険料申告内訳名簿（一人親方団体控）'!M246=\"\",\"\",'保険料申告内訳名簿（一人親方団体控）'!M246)","v":""},{"$f":"IF('保険料申告内訳名簿（一人親方団体控）'!N246=\"\",\"\",'保険料申告内訳名簿（一人親方団体控）'!N246)","v":""},{"$f":"IF('保険料申告内訳名簿（一人親方団体控）'!O246=\"\",\"\",'保険料申告内訳名簿（一人親方団体控）'!O246)","v":""},{"$f":"IF('保険料申告内訳名簿（一人親方団体控）'!P246=\"\",\"\",'保険料申告内訳名簿（一人親方団体控）'!P246)","v":""},{"$f":"IF('保険料申告内訳名簿（一人親方団体控）'!Q246=\"\",\"\",'保険料申告内訳名簿（一人親方団体控）'!Q246)","v":""},{"$f":"IF('保険料申告内訳名簿（一人親方団体控）'!R246=\"\",\"\",'保険料申告内訳名簿（一人親方団体控）'!R246)","v":""},{"$f":"IF('保険料申告内訳名簿（一人親方団体控）'!S246=\"\",\"\",'保険料申告内訳名簿（一人親方団体控）'!S246)","v":0},{"$f":"IF('保険料申告内訳名簿（一人親方団体控）'!T246=\"\",\"\",'保険料申告内訳名簿（一人親方団体控）'!T246)","v":""},{"$f":"IF('保険料申告内訳名簿（一人親方団体控）'!U246=\"\",\"\",'保険料申告内訳名簿（一人親方団体控）'!U246)","v":""},{"$f":"IF('保険料申告内訳名簿（一人親方団体控）'!V246=\"\",\"\",'保険料申告内訳名簿（一人親方団体控）'!V246)","v":""},{"$f":"IF('保険料申告内訳名簿（一人親方団体控）'!W246=\"\",\"\",'保険料申告内訳名簿（一人親方団体控）'!W246)","v":""},{"$f":"IF('保険料申告内訳名簿（一人親方団体控）'!X246=\"\",\"\",'保険料申告内訳名簿（一人親方団体控）'!X246)","v":""},{"$f":"IF('保険料申告内訳名簿（一人親方団体控）'!Y246=\"\",\"\",'保険料申告内訳名簿（一人親方団体控）'!Y246)","v":""},{"$f":"IF('保険料申告内訳名簿（一人親方団体控）'!Z246=\"\",\"\",'保険料申告内訳名簿（一人親方団体控）'!Z246)","v":""},{"$f":"IF('保険料申告内訳名簿（一人親方団体控）'!AA246=\"\",\"\",'保険料申告内訳名簿（一人親方団体控）'!AA246)","v":""},{"$f":"IF('保険料申告内訳名簿（一人親方団体控）'!AB246=\"\",\"\",'保険料申告内訳名簿（一人親方団体控）'!AB246)","v":""},{"$f":"IF('保険料申告内訳名簿（一人親方団体控）'!AC246=\"\",\"\",'保険料申告内訳名簿（一人親方団体控）'!AC246)","v":0},{"$f":"IF('保険料申告内訳名簿（一人親方団体控）'!AD246=\"\",\"\",'保険料申告内訳名簿（一人親方団体控）'!AD246)","v":""},{"$f":"IF('保険料申告内訳名簿（一人親方団体控）'!AE246=\"\",\"\",'保険料申告内訳名簿（一人親方団体控）'!AE246)","v":""},{"$f":"IF('保険料申告内訳名簿（一人親方団体控）'!AF246=\"\",\"\",'保険料申告内訳名簿（一人親方団体控）'!AF246)","v":""},{"$f":"IF('保険料申告内訳名簿（一人親方団体控）'!AG246=\"\",\"\",'保険料申告内訳名簿（一人親方団体控）'!AG246)","v":""},{"$f":"IF('保険料申告内訳名簿（一人親方団体控）'!AH246=\"\",\"\",'保険料申告内訳名簿（一人親方団体控）'!AH246)","v":""}]
[null,{"$f":"IF('保険料申告内訳名簿（一人親方団体控）'!B247=\"\",\"\",'保険料申告内訳名簿（一人親方団体控）'!B247)","v":""},{"$f":"IF('保険料申告内訳名簿（一人親方団体控）'!C247=\"\",\"\",'保険料申告内訳名簿（一人親方団体控）'!C247)","v":""},{"$f":"IF('保険料申告内訳名簿（一人親方団体控）'!D247=\"\",\"\",'保険料申告内訳名簿（一人親方団体控）'!D247)","v":""},{"$f":"IF('保険料申告内訳名簿（一人親方団体控）'!E247=\"\",\"\",'保険料申告内訳名簿（一人親方団体控）'!E247)","v":""},{"$f":"IF('保険料申告内訳名簿（一人親方団体控）'!F247=\"\",\"\",'保険料申告内訳名簿（一人親方団体控）'!F247)","v":""},{"$f":"IF('保険料申告内訳名簿（一人親方団体控）'!G247=\"\",\"\",'保険料申告内訳名簿（一人親方団体控）'!G247)","v":""},{"$f":"IF('保険料申告内訳名簿（一人親方団体控）'!H247=\"\",\"\",'保険料申告内訳名簿（一人親方団体控）'!H247)","v":""},{"$f":"IF('保険料申告内訳名簿（一人親方団体控）'!I247=\"\",\"\",'保険料申告内訳名簿（一人親方団体控）'!I247)","v":""},{"$f":"IF('保険料申告内訳名簿（一人親方団体控）'!J247=\"\",\"\",'保険料申告内訳名簿（一人親方団体控）'!J247)","v":""},{"$f":"IF('保険料申告内訳名簿（一人親方団体控）'!K247=\"\",\"\",'保険料申告内訳名簿（一人親方団体控）'!K247)","v":""},{"$f":"IF('保険料申告内訳名簿（一人親方団体控）'!L247=\"\",\"\",'保険料申告内訳名簿（一人親方団体控）'!L247)","v":""},{"$f":"IF('保険料申告内訳名簿（一人親方団体控）'!M247=\"\",\"\",'保険料申告内訳名簿（一人親方団体控）'!M247)","v":""},{"$f":"IF('保険料申告内訳名簿（一人親方団体控）'!N247=\"\",\"\",'保険料申告内訳名簿（一人親方団体控）'!N247)","v":""},{"$f":"IF('保険料申告内訳名簿（一人親方団体控）'!O247=\"\",\"\",'保険料申告内訳名簿（一人親方団体控）'!O247)","v":""},{"$f":"IF('保険料申告内訳名簿（一人親方団体控）'!P247=\"\",\"\",'保険料申告内訳名簿（一人親方団体控）'!P247)","v":""},{"$f":"IF('保険料申告内訳名簿（一人親方団体控）'!Q247=\"\",\"\",'保険料申告内訳名簿（一人親方団体控）'!Q247)","v":""},{"$f":"IF('保険料申告内訳名簿（一人親方団体控）'!R247=\"\",\"\",'保険料申告内訳名簿（一人親方団体控）'!R247)","v":""},{"$f":"IF('保険料申告内訳名簿（一人親方団体控）'!S247=\"\",\"\",'保険料申告内訳名簿（一人親方団体控）'!S247)","v":0},{"$f":"IF('保険料申告内訳名簿（一人親方団体控）'!T247=\"\",\"\",'保険料申告内訳名簿（一人親方団体控）'!T247)","v":""},{"$f":"IF('保険料申告内訳名簿（一人親方団体控）'!U247=\"\",\"\",'保険料申告内訳名簿（一人親方団体控）'!U247)","v":""},{"$f":"IF('保険料申告内訳名簿（一人親方団体控）'!V247=\"\",\"\",'保険料申告内訳名簿（一人親方団体控）'!V247)","v":""},{"$f":"IF('保険料申告内訳名簿（一人親方団体控）'!W247=\"\",\"\",'保険料申告内訳名簿（一人親方団体控）'!W247)","v":""},{"$f":"IF('保険料申告内訳名簿（一人親方団体控）'!X247=\"\",\"\",'保険料申告内訳名簿（一人親方団体控）'!X247)","v":""},{"$f":"IF('保険料申告内訳名簿（一人親方団体控）'!Y247=\"\",\"\",'保険料申告内訳名簿（一人親方団体控）'!Y247)","v":""},{"$f":"IF('保険料申告内訳名簿（一人親方団体控）'!Z247=\"\",\"\",'保険料申告内訳名簿（一人親方団体控）'!Z247)","v":""},{"$f":"IF('保険料申告内訳名簿（一人親方団体控）'!AA247=\"\",\"\",'保険料申告内訳名簿（一人親方団体控）'!AA247)","v":""},{"$f":"IF('保険料申告内訳名簿（一人親方団体控）'!AB247=\"\",\"\",'保険料申告内訳名簿（一人親方団体控）'!AB247)","v":""},{"$f":"IF('保険料申告内訳名簿（一人親方団体控）'!AC247=\"\",\"\",'保険料申告内訳名簿（一人親方団体控）'!AC247)","v":0},{"$f":"IF('保険料申告内訳名簿（一人親方団体控）'!AD247=\"\",\"\",'保険料申告内訳名簿（一人親方団体控）'!AD247)","v":""},{"$f":"IF('保険料申告内訳名簿（一人親方団体控）'!AE247=\"\",\"\",'保険料申告内訳名簿（一人親方団体控）'!AE247)","v":""},{"$f":"IF('保険料申告内訳名簿（一人親方団体控）'!AF247=\"\",\"\",'保険料申告内訳名簿（一人親方団体控）'!AF247)","v":""},{"$f":"IF('保険料申告内訳名簿（一人親方団体控）'!AG247=\"\",\"\",'保険料申告内訳名簿（一人親方団体控）'!AG247)","v":""},{"$f":"IF('保険料申告内訳名簿（一人親方団体控）'!AH247=\"\",\"\",'保険料申告内訳名簿（一人親方団体控）'!AH247)","v":""}]
[null,{"$f":"IF('保険料申告内訳名簿（一人親方団体控）'!B248=\"\",\"\",'保険料申告内訳名簿（一人親方団体控）'!B248)","v":""},{"$f":"IF('保険料申告内訳名簿（一人親方団体控）'!C248=\"\",\"\",'保険料申告内訳名簿（一人親方団体控）'!C248)","v":""},{"$f":"IF('保険料申告内訳名簿（一人親方団体控）'!D248=\"\",\"\",'保険料申告内訳名簿（一人親方団体控）'!D248)","v":""},{"$f":"IF('保険料申告内訳名簿（一人親方団体控）'!E248=\"\",\"\",'保険料申告内訳名簿（一人親方団体控）'!E248)","v":""},{"$f":"IF('保険料申告内訳名簿（一人親方団体控）'!F248=\"\",\"\",'保険料申告内訳名簿（一人親方団体控）'!F248)","v":""},{"$f":"IF('保険料申告内訳名簿（一人親方団体控）'!G248=\"\",\"\",'保険料申告内訳名簿（一人親方団体控）'!G248)","v":""},{"$f":"IF('保険料申告内訳名簿（一人親方団体控）'!H248=\"\",\"\",'保険料申告内訳名簿（一人親方団体控）'!H248)","v":""},{"$f":"IF('保険料申告内訳名簿（一人親方団体控）'!I248=\"\",\"\",'保険料申告内訳名簿（一人親方団体控）'!I248)","v":""},{"$f":"IF('保険料申告内訳名簿（一人親方団体控）'!J248=\"\",\"\",'保険料申告内訳名簿（一人親方団体控）'!J248)","v":""},{"$f":"IF('保険料申告内訳名簿（一人親方団体控）'!K248=\"\",\"\",'保険料申告内訳名簿（一人親方団体控）'!K248)","v":""},{"$f":"IF('保険料申告内訳名簿（一人親方団体控）'!L248=\"\",\"\",'保険料申告内訳名簿（一人親方団体控）'!L248)","v":""},{"$f":"IF('保険料申告内訳名簿（一人親方団体控）'!M248=\"\",\"\",'保険料申告内訳名簿（一人親方団体控）'!M248)","v":""},{"$f":"IF('保険料申告内訳名簿（一人親方団体控）'!N248=\"\",\"\",'保険料申告内訳名簿（一人親方団体控）'!N248)","v":""},{"$f":"IF('保険料申告内訳名簿（一人親方団体控）'!O248=\"\",\"\",'保険料申告内訳名簿（一人親方団体控）'!O248)","v":""},{"$f":"IF('保険料申告内訳名簿（一人親方団体控）'!P248=\"\",\"\",'保険料申告内訳名簿（一人親方団体控）'!P248)","v":""},{"$f":"IF('保険料申告内訳名簿（一人親方団体控）'!Q248=\"\",\"\",'保険料申告内訳名簿（一人親方団体控）'!Q248)","v":""},{"$f":"IF('保険料申告内訳名簿（一人親方団体控）'!R248=\"\",\"\",'保険料申告内訳名簿（一人親方団体控）'!R248)","v":""},{"$f":"IF('保険料申告内訳名簿（一人親方団体控）'!S248=\"\",\"\",'保険料申告内訳名簿（一人親方団体控）'!S248)","v":0},{"$f":"IF('保険料申告内訳名簿（一人親方団体控）'!T248=\"\",\"\",'保険料申告内訳名簿（一人親方団体控）'!T248)","v":""},{"$f":"IF('保険料申告内訳名簿（一人親方団体控）'!U248=\"\",\"\",'保険料申告内訳名簿（一人親方団体控）'!U248)","v":""},{"$f":"IF('保険料申告内訳名簿（一人親方団体控）'!V248=\"\",\"\",'保険料申告内訳名簿（一人親方団体控）'!V248)","v":""},{"$f":"IF('保険料申告内訳名簿（一人親方団体控）'!W248=\"\",\"\",'保険料申告内訳名簿（一人親方団体控）'!W248)","v":""},{"$f":"IF('保険料申告内訳名簿（一人親方団体控）'!X248=\"\",\"\",'保険料申告内訳名簿（一人親方団体控）'!X248)","v":""},{"$f":"IF('保険料申告内訳名簿（一人親方団体控）'!Y248=\"\",\"\",'保険料申告内訳名簿（一人親方団体控）'!Y248)","v":""},{"$f":"IF('保険料申告内訳名簿（一人親方団体控）'!Z248=\"\",\"\",'保険料申告内訳名簿（一人親方団体控）'!Z248)","v":""},{"$f":"IF('保険料申告内訳名簿（一人親方団体控）'!AA248=\"\",\"\",'保険料申告内訳名簿（一人親方団体控）'!AA248)","v":""},{"$f":"IF('保険料申告内訳名簿（一人親方団体控）'!AB248=\"\",\"\",'保険料申告内訳名簿（一人親方団体控）'!AB248)","v":""},{"$f":"IF('保険料申告内訳名簿（一人親方団体控）'!AC248=\"\",\"\",'保険料申告内訳名簿（一人親方団体控）'!AC248)","v":0},{"$f":"IF('保険料申告内訳名簿（一人親方団体控）'!AD248=\"\",\"\",'保険料申告内訳名簿（一人親方団体控）'!AD248)","v":""},{"$f":"IF('保険料申告内訳名簿（一人親方団体控）'!AE248=\"\",\"\",'保険料申告内訳名簿（一人親方団体控）'!AE248)","v":""},{"$f":"IF('保険料申告内訳名簿（一人親方団体控）'!AF248=\"\",\"\",'保険料申告内訳名簿（一人親方団体控）'!AF248)","v":""},{"$f":"IF('保険料申告内訳名簿（一人親方団体控）'!AG248=\"\",\"\",'保険料申告内訳名簿（一人親方団体控）'!AG248)","v":""},{"$f":"IF('保険料申告内訳名簿（一人親方団体控）'!AH248=\"\",\"\",'保険料申告内訳名簿（一人親方団体控）'!AH248)","v":""}]
[null,{"$f":"IF('保険料申告内訳名簿（一人親方団体控）'!B249=\"\",\"\",'保険料申告内訳名簿（一人親方団体控）'!B249)","v":""},{"$f":"IF('保険料申告内訳名簿（一人親方団体控）'!C249=\"\",\"\",'保険料申告内訳名簿（一人親方団体控）'!C249)","v":""},{"$f":"IF('保険料申告内訳名簿（一人親方団体控）'!D249=\"\",\"\",'保険料申告内訳名簿（一人親方団体控）'!D249)","v":""},{"$f":"IF('保険料申告内訳名簿（一人親方団体控）'!E249=\"\",\"\",'保険料申告内訳名簿（一人親方団体控）'!E249)","v":""},{"$f":"IF('保険料申告内訳名簿（一人親方団体控）'!F249=\"\",\"\",'保険料申告内訳名簿（一人親方団体控）'!F249)","v":""},{"$f":"IF('保険料申告内訳名簿（一人親方団体控）'!G249=\"\",\"\",'保険料申告内訳名簿（一人親方団体控）'!G249)","v":""},{"$f":"IF('保険料申告内訳名簿（一人親方団体控）'!H249=\"\",\"\",'保険料申告内訳名簿（一人親方団体控）'!H249)","v":""},{"$f":"IF('保険料申告内訳名簿（一人親方団体控）'!I249=\"\",\"\",'保険料申告内訳名簿（一人親方団体控）'!I249)","v":""},{"$f":"IF('保険料申告内訳名簿（一人親方団体控）'!J249=\"\",\"\",'保険料申告内訳名簿（一人親方団体控）'!J249)","v":""},{"$f":"IF('保険料申告内訳名簿（一人親方団体控）'!K249=\"\",\"\",'保険料申告内訳名簿（一人親方団体控）'!K249)","v":""},{"$f":"IF('保険料申告内訳名簿（一人親方団体控）'!L249=\"\",\"\",'保険料申告内訳名簿（一人親方団体控）'!L249)","v":""},{"$f":"IF('保険料申告内訳名簿（一人親方団体控）'!M249=\"\",\"\",'保険料申告内訳名簿（一人親方団体控）'!M249)","v":""},{"$f":"IF('保険料申告内訳名簿（一人親方団体控）'!N249=\"\",\"\",'保険料申告内訳名簿（一人親方団体控）'!N249)","v":""},{"$f":"IF('保険料申告内訳名簿（一人親方団体控）'!O249=\"\",\"\",'保険料申告内訳名簿（一人親方団体控）'!O249)","v":""},{"$f":"IF('保険料申告内訳名簿（一人親方団体控）'!P249=\"\",\"\",'保険料申告内訳名簿（一人親方団体控）'!P249)","v":""},{"$f":"IF('保険料申告内訳名簿（一人親方団体控）'!Q249=\"\",\"\",'保険料申告内訳名簿（一人親方団体控）'!Q249)","v":""},{"$f":"IF('保険料申告内訳名簿（一人親方団体控）'!R249=\"\",\"\",'保険料申告内訳名簿（一人親方団体控）'!R249)","v":""},{"$f":"IF('保険料申告内訳名簿（一人親方団体控）'!S249=\"\",\"\",'保険料申告内訳名簿（一人親方団体控）'!S249)","v":0},{"$f":"IF('保険料申告内訳名簿（一人親方団体控）'!T249=\"\",\"\",'保険料申告内訳名簿（一人親方団体控）'!T249)","v":""},{"$f":"IF('保険料申告内訳名簿（一人親方団体控）'!U249=\"\",\"\",'保険料申告内訳名簿（一人親方団体控）'!U249)","v":""},{"$f":"IF('保険料申告内訳名簿（一人親方団体控）'!V249=\"\",\"\",'保険料申告内訳名簿（一人親方団体控）'!V249)","v":""},{"$f":"IF('保険料申告内訳名簿（一人親方団体控）'!W249=\"\",\"\",'保険料申告内訳名簿（一人親方団体控）'!W249)","v":""},{"$f":"IF('保険料申告内訳名簿（一人親方団体控）'!X249=\"\",\"\",'保険料申告内訳名簿（一人親方団体控）'!X249)","v":""},{"$f":"IF('保険料申告内訳名簿（一人親方団体控）'!Y249=\"\",\"\",'保険料申告内訳名簿（一人親方団体控）'!Y249)","v":""},{"$f":"IF('保険料申告内訳名簿（一人親方団体控）'!Z249=\"\",\"\",'保険料申告内訳名簿（一人親方団体控）'!Z249)","v":""},{"$f":"IF('保険料申告内訳名簿（一人親方団体控）'!AA249=\"\",\"\",'保険料申告内訳名簿（一人親方団体控）'!AA249)","v":""},{"$f":"IF('保険料申告内訳名簿（一人親方団体控）'!AB249=\"\",\"\",'保険料申告内訳名簿（一人親方団体控）'!AB249)","v":""},{"$f":"IF('保険料申告内訳名簿（一人親方団体控）'!AC249=\"\",\"\",'保険料申告内訳名簿（一人親方団体控）'!AC249)","v":0},{"$f":"IF('保険料申告内訳名簿（一人親方団体控）'!AD249=\"\",\"\",'保険料申告内訳名簿（一人親方団体控）'!AD249)","v":""},{"$f":"IF('保険料申告内訳名簿（一人親方団体控）'!AE249=\"\",\"\",'保険料申告内訳名簿（一人親方団体控）'!AE249)","v":""},{"$f":"IF('保険料申告内訳名簿（一人親方団体控）'!AF249=\"\",\"\",'保険料申告内訳名簿（一人親方団体控）'!AF249)","v":""},{"$f":"IF('保険料申告内訳名簿（一人親方団体控）'!AG249=\"\",\"\",'保険料申告内訳名簿（一人親方団体控）'!AG249)","v":""},{"$f":"IF('保険料申告内訳名簿（一人親方団体控）'!AH249=\"\",\"\",'保険料申告内訳名簿（一人親方団体控）'!AH249)","v":""}]
[null,{"$f":"IF('保険料申告内訳名簿（一人親方団体控）'!B250=\"\",\"\",'保険料申告内訳名簿（一人親方団体控）'!B250)","v":""},{"$f":"IF('保険料申告内訳名簿（一人親方団体控）'!C250=\"\",\"\",'保険料申告内訳名簿（一人親方団体控）'!C250)","v":""},{"$f":"IF('保険料申告内訳名簿（一人親方団体控）'!D250=\"\",\"\",'保険料申告内訳名簿（一人親方団体控）'!D250)","v":""},{"$f":"IF('保険料申告内訳名簿（一人親方団体控）'!E250=\"\",\"\",'保険料申告内訳名簿（一人親方団体控）'!E250)","v":""},{"$f":"IF('保険料申告内訳名簿（一人親方団体控）'!F250=\"\",\"\",'保険料申告内訳名簿（一人親方団体控）'!F250)","v":""},{"$f":"IF('保険料申告内訳名簿（一人親方団体控）'!G250=\"\",\"\",'保険料申告内訳名簿（一人親方団体控）'!G250)","v":""},{"$f":"IF('保険料申告内訳名簿（一人親方団体控）'!H250=\"\",\"\",'保険料申告内訳名簿（一人親方団体控）'!H250)","v":""},{"$f":"IF('保険料申告内訳名簿（一人親方団体控）'!I250=\"\",\"\",'保険料申告内訳名簿（一人親方団体控）'!I250)","v":""},{"$f":"IF('保険料申告内訳名簿（一人親方団体控）'!J250=\"\",\"\",'保険料申告内訳名簿（一人親方団体控）'!J250)","v":""},{"$f":"IF('保険料申告内訳名簿（一人親方団体控）'!K250=\"\",\"\",'保険料申告内訳名簿（一人親方団体控）'!K250)","v":""},{"$f":"IF('保険料申告内訳名簿（一人親方団体控）'!L250=\"\",\"\",'保険料申告内訳名簿（一人親方団体控）'!L250)","v":""},{"$f":"IF('保険料申告内訳名簿（一人親方団体控）'!M250=\"\",\"\",'保険料申告内訳名簿（一人親方団体控）'!M250)","v":""},{"$f":"IF('保険料申告内訳名簿（一人親方団体控）'!N250=\"\",\"\",'保険料申告内訳名簿（一人親方団体控）'!N250)","v":""},{"$f":"IF('保険料申告内訳名簿（一人親方団体控）'!O250=\"\",\"\",'保険料申告内訳名簿（一人親方団体控）'!O250)","v":""},{"$f":"IF('保険料申告内訳名簿（一人親方団体控）'!P250=\"\",\"\",'保険料申告内訳名簿（一人親方団体控）'!P250)","v":""},{"$f":"IF('保険料申告内訳名簿（一人親方団体控）'!Q250=\"\",\"\",'保険料申告内訳名簿（一人親方団体控）'!Q250)","v":""},{"$f":"IF('保険料申告内訳名簿（一人親方団体控）'!R250=\"\",\"\",'保険料申告内訳名簿（一人親方団体控）'!R250)","v":""},{"$f":"IF('保険料申告内訳名簿（一人親方団体控）'!S250=\"\",\"\",'保険料申告内訳名簿（一人親方団体控）'!S250)","v":0},{"$f":"IF('保険料申告内訳名簿（一人親方団体控）'!T250=\"\",\"\",'保険料申告内訳名簿（一人親方団体控）'!T250)","v":""},{"$f":"IF('保険料申告内訳名簿（一人親方団体控）'!U250=\"\",\"\",'保険料申告内訳名簿（一人親方団体控）'!U250)","v":""},{"$f":"IF('保険料申告内訳名簿（一人親方団体控）'!V250=\"\",\"\",'保険料申告内訳名簿（一人親方団体控）'!V250)","v":""},{"$f":"IF('保険料申告内訳名簿（一人親方団体控）'!W250=\"\",\"\",'保険料申告内訳名簿（一人親方団体控）'!W250)","v":""},{"$f":"IF('保険料申告内訳名簿（一人親方団体控）'!X250=\"\",\"\",'保険料申告内訳名簿（一人親方団体控）'!X250)","v":""},{"$f":"IF('保険料申告内訳名簿（一人親方団体控）'!Y250=\"\",\"\",'保険料申告内訳名簿（一人親方団体控）'!Y250)","v":""},{"$f":"IF('保険料申告内訳名簿（一人親方団体控）'!Z250=\"\",\"\",'保険料申告内訳名簿（一人親方団体控）'!Z250)","v":""},{"$f":"IF('保険料申告内訳名簿（一人親方団体控）'!AA250=\"\",\"\",'保険料申告内訳名簿（一人親方団体控）'!AA250)","v":""},{"$f":"IF('保険料申告内訳名簿（一人親方団体控）'!AB250=\"\",\"\",'保険料申告内訳名簿（一人親方団体控）'!AB250)","v":""},{"$f":"IF('保険料申告内訳名簿（一人親方団体控）'!AC250=\"\",\"\",'保険料申告内訳名簿（一人親方団体控）'!AC250)","v":0},{"$f":"IF('保険料申告内訳名簿（一人親方団体控）'!AD250=\"\",\"\",'保険料申告内訳名簿（一人親方団体控）'!AD250)","v":""},{"$f":"IF('保険料申告内訳名簿（一人親方団体控）'!AE250=\"\",\"\",'保険料申告内訳名簿（一人親方団体控）'!AE250)","v":""},{"$f":"IF('保険料申告内訳名簿（一人親方団体控）'!AF250=\"\",\"\",'保険料申告内訳名簿（一人親方団体控）'!AF250)","v":""},{"$f":"IF('保険料申告内訳名簿（一人親方団体控）'!AG250=\"\",\"\",'保険料申告内訳名簿（一人親方団体控）'!AG250)","v":""},{"$f":"IF('保険料申告内訳名簿（一人親方団体控）'!AH250=\"\",\"\",'保険料申告内訳名簿（一人親方団体控）'!AH250)","v":""}]
[null,{"$f":"IF('保険料申告内訳名簿（一人親方団体控）'!B251=\"\",\"\",'保険料申告内訳名簿（一人親方団体控）'!B251)","v":""},{"$f":"IF('保険料申告内訳名簿（一人親方団体控）'!C251=\"\",\"\",'保険料申告内訳名簿（一人親方団体控）'!C251)","v":""},{"$f":"IF('保険料申告内訳名簿（一人親方団体控）'!D251=\"\",\"\",'保険料申告内訳名簿（一人親方団体控）'!D251)","v":""},{"$f":"IF('保険料申告内訳名簿（一人親方団体控）'!E251=\"\",\"\",'保険料申告内訳名簿（一人親方団体控）'!E251)","v":""},{"$f":"IF('保険料申告内訳名簿（一人親方団体控）'!F251=\"\",\"\",'保険料申告内訳名簿（一人親方団体控）'!F251)","v":""},{"$f":"IF('保険料申告内訳名簿（一人親方団体控）'!G251=\"\",\"\",'保険料申告内訳名簿（一人親方団体控）'!G251)","v":""},{"$f":"IF('保険料申告内訳名簿（一人親方団体控）'!H251=\"\",\"\",'保険料申告内訳名簿（一人親方団体控）'!H251)","v":""},{"$f":"IF('保険料申告内訳名簿（一人親方団体控）'!I251=\"\",\"\",'保険料申告内訳名簿（一人親方団体控）'!I251)","v":""},{"$f":"IF('保険料申告内訳名簿（一人親方団体控）'!J251=\"\",\"\",'保険料申告内訳名簿（一人親方団体控）'!J251)","v":""},{"$f":"IF('保険料申告内訳名簿（一人親方団体控）'!K251=\"\",\"\",'保険料申告内訳名簿（一人親方団体控）'!K251)","v":""},{"$f":"IF('保険料申告内訳名簿（一人親方団体控）'!L251=\"\",\"\",'保険料申告内訳名簿（一人親方団体控）'!L251)","v":""},{"$f":"IF('保険料申告内訳名簿（一人親方団体控）'!M251=\"\",\"\",'保険料申告内訳名簿（一人親方団体控）'!M251)","v":""},{"$f":"IF('保険料申告内訳名簿（一人親方団体控）'!N251=\"\",\"\",'保険料申告内訳名簿（一人親方団体控）'!N251)","v":""},{"$f":"IF('保険料申告内訳名簿（一人親方団体控）'!O251=\"\",\"\",'保険料申告内訳名簿（一人親方団体控）'!O251)","v":""},{"$f":"IF('保険料申告内訳名簿（一人親方団体控）'!P251=\"\",\"\",'保険料申告内訳名簿（一人親方団体控）'!P251)","v":""},{"$f":"IF('保険料申告内訳名簿（一人親方団体控）'!Q251=\"\",\"\",'保険料申告内訳名簿（一人親方団体控）'!Q251)","v":""},{"$f":"IF('保険料申告内訳名簿（一人親方団体控）'!R251=\"\",\"\",'保険料申告内訳名簿（一人親方団体控）'!R251)","v":""},{"$f":"IF('保険料申告内訳名簿（一人親方団体控）'!S251=\"\",\"\",'保険料申告内訳名簿（一人親方団体控）'!S251)","v":0},{"$f":"IF('保険料申告内訳名簿（一人親方団体控）'!T251=\"\",\"\",'保険料申告内訳名簿（一人親方団体控）'!T251)","v":""},{"$f":"IF('保険料申告内訳名簿（一人親方団体控）'!U251=\"\",\"\",'保険料申告内訳名簿（一人親方団体控）'!U251)","v":""},{"$f":"IF('保険料申告内訳名簿（一人親方団体控）'!V251=\"\",\"\",'保険料申告内訳名簿（一人親方団体控）'!V251)","v":""},{"$f":"IF('保険料申告内訳名簿（一人親方団体控）'!W251=\"\",\"\",'保険料申告内訳名簿（一人親方団体控）'!W251)","v":""},{"$f":"IF('保険料申告内訳名簿（一人親方団体控）'!X251=\"\",\"\",'保険料申告内訳名簿（一人親方団体控）'!X251)","v":""},{"$f":"IF('保険料申告内訳名簿（一人親方団体控）'!Y251=\"\",\"\",'保険料申告内訳名簿（一人親方団体控）'!Y251)","v":""},{"$f":"IF('保険料申告内訳名簿（一人親方団体控）'!Z251=\"\",\"\",'保険料申告内訳名簿（一人親方団体控）'!Z251)","v":""},{"$f":"IF('保険料申告内訳名簿（一人親方団体控）'!AA251=\"\",\"\",'保険料申告内訳名簿（一人親方団体控）'!AA251)","v":""},{"$f":"IF('保険料申告内訳名簿（一人親方団体控）'!AB251=\"\",\"\",'保険料申告内訳名簿（一人親方団体控）'!AB251)","v":""},{"$f":"IF('保険料申告内訳名簿（一人親方団体控）'!AC251=\"\",\"\",'保険料申告内訳名簿（一人親方団体控）'!AC251)","v":0},{"$f":"IF('保険料申告内訳名簿（一人親方団体控）'!AD251=\"\",\"\",'保険料申告内訳名簿（一人親方団体控）'!AD251)","v":""},{"$f":"IF('保険料申告内訳名簿（一人親方団体控）'!AE251=\"\",\"\",'保険料申告内訳名簿（一人親方団体控）'!AE251)","v":""},{"$f":"IF('保険料申告内訳名簿（一人親方団体控）'!AF251=\"\",\"\",'保険料申告内訳名簿（一人親方団体控）'!AF251)","v":""},{"$f":"IF('保険料申告内訳名簿（一人親方団体控）'!AG251=\"\",\"\",'保険料申告内訳名簿（一人親方団体控）'!AG251)","v":""},{"$f":"IF('保険料申告内訳名簿（一人親方団体控）'!AH251=\"\",\"\",'保険料申告内訳名簿（一人親方団体控）'!AH251)","v":""}]
[null,{"$f":"IF('保険料申告内訳名簿（一人親方団体控）'!B252=\"\",\"\",'保険料申告内訳名簿（一人親方団体控）'!B252)","v":""},{"$f":"IF('保険料申告内訳名簿（一人親方団体控）'!C252=\"\",\"\",'保険料申告内訳名簿（一人親方団体控）'!C252)","v":""},{"$f":"IF('保険料申告内訳名簿（一人親方団体控）'!D252=\"\",\"\",'保険料申告内訳名簿（一人親方団体控）'!D252)","v":""},{"$f":"IF('保険料申告内訳名簿（一人親方団体控）'!E252=\"\",\"\",'保険料申告内訳名簿（一人親方団体控）'!E252)","v":""},{"$f":"IF('保険料申告内訳名簿（一人親方団体控）'!F252=\"\",\"\",'保険料申告内訳名簿（一人親方団体控）'!F252)","v":""},{"$f":"IF('保険料申告内訳名簿（一人親方団体控）'!G252=\"\",\"\",'保険料申告内訳名簿（一人親方団体控）'!G252)","v":""},{"$f":"IF('保険料申告内訳名簿（一人親方団体控）'!H252=\"\",\"\",'保険料申告内訳名簿（一人親方団体控）'!H252)","v":""},{"$f":"IF('保険料申告内訳名簿（一人親方団体控）'!I252=\"\",\"\",'保険料申告内訳名簿（一人親方団体控）'!I252)","v":""},{"$f":"IF('保険料申告内訳名簿（一人親方団体控）'!J252=\"\",\"\",'保険料申告内訳名簿（一人親方団体控）'!J252)","v":""},{"$f":"IF('保険料申告内訳名簿（一人親方団体控）'!K252=\"\",\"\",'保険料申告内訳名簿（一人親方団体控）'!K252)","v":""},{"$f":"IF('保険料申告内訳名簿（一人親方団体控）'!L252=\"\",\"\",'保険料申告内訳名簿（一人親方団体控）'!L252)","v":""},{"$f":"IF('保険料申告内訳名簿（一人親方団体控）'!M252=\"\",\"\",'保険料申告内訳名簿（一人親方団体控）'!M252)","v":""},{"$f":"IF('保険料申告内訳名簿（一人親方団体控）'!N252=\"\",\"\",'保険料申告内訳名簿（一人親方団体控）'!N252)","v":""},{"$f":"IF('保険料申告内訳名簿（一人親方団体控）'!O252=\"\",\"\",'保険料申告内訳名簿（一人親方団体控）'!O252)","v":""},{"$f":"IF('保険料申告内訳名簿（一人親方団体控）'!P252=\"\",\"\",'保険料申告内訳名簿（一人親方団体控）'!P252)","v":""},{"$f":"IF('保険料申告内訳名簿（一人親方団体控）'!Q252=\"\",\"\",'保険料申告内訳名簿（一人親方団体控）'!Q252)","v":""},{"$f":"IF('保険料申告内訳名簿（一人親方団体控）'!R252=\"\",\"\",'保険料申告内訳名簿（一人親方団体控）'!R252)","v":""},{"$f":"IF('保険料申告内訳名簿（一人親方団体控）'!S252=\"\",\"\",'保険料申告内訳名簿（一人親方団体控）'!S252)","v":0},{"$f":"IF('保険料申告内訳名簿（一人親方団体控）'!T252=\"\",\"\",'保険料申告内訳名簿（一人親方団体控）'!T252)","v":""},{"$f":"IF('保険料申告内訳名簿（一人親方団体控）'!U252=\"\",\"\",'保険料申告内訳名簿（一人親方団体控）'!U252)","v":""},{"$f":"IF('保険料申告内訳名簿（一人親方団体控）'!V252=\"\",\"\",'保険料申告内訳名簿（一人親方団体控）'!V252)","v":""},{"$f":"IF('保険料申告内訳名簿（一人親方団体控）'!W252=\"\",\"\",'保険料申告内訳名簿（一人親方団体控）'!W252)","v":""},{"$f":"IF('保険料申告内訳名簿（一人親方団体控）'!X252=\"\",\"\",'保険料申告内訳名簿（一人親方団体控）'!X252)","v":""},{"$f":"IF('保険料申告内訳名簿（一人親方団体控）'!Y252=\"\",\"\",'保険料申告内訳名簿（一人親方団体控）'!Y252)","v":""},{"$f":"IF('保険料申告内訳名簿（一人親方団体控）'!Z252=\"\",\"\",'保険料申告内訳名簿（一人親方団体控）'!Z252)","v":""},{"$f":"IF('保険料申告内訳名簿（一人親方団体控）'!AA252=\"\",\"\",'保険料申告内訳名簿（一人親方団体控）'!AA252)","v":""},{"$f":"IF('保険料申告内訳名簿（一人親方団体控）'!AB252=\"\",\"\",'保険料申告内訳名簿（一人親方団体控）'!AB252)","v":""},{"$f":"IF('保険料申告内訳名簿（一人親方団体控）'!AC252=\"\",\"\",'保険料申告内訳名簿（一人親方団体控）'!AC252)","v":0},{"$f":"IF('保険料申告内訳名簿（一人親方団体控）'!AD252=\"\",\"\",'保険料申告内訳名簿（一人親方団体控）'!AD252)","v":""},{"$f":"IF('保険料申告内訳名簿（一人親方団体控）'!AE252=\"\",\"\",'保険料申告内訳名簿（一人親方団体控）'!AE252)","v":""},{"$f":"IF('保険料申告内訳名簿（一人親方団体控）'!AF252=\"\",\"\",'保険料申告内訳名簿（一人親方団体控）'!AF252)","v":""},{"$f":"IF('保険料申告内訳名簿（一人親方団体控）'!AG252=\"\",\"\",'保険料申告内訳名簿（一人親方団体控）'!AG252)","v":""},{"$f":"IF('保険料申告内訳名簿（一人親方団体控）'!AH252=\"\",\"\",'保険料申告内訳名簿（一人親方団体控）'!AH252)","v":""}]
[null,{"$f":"IF('保険料申告内訳名簿（一人親方団体控）'!B253=\"\",\"\",'保険料申告内訳名簿（一人親方団体控）'!B253)","v":""},{"$f":"IF('保険料申告内訳名簿（一人親方団体控）'!C253=\"\",\"\",'保険料申告内訳名簿（一人親方団体控）'!C253)","v":""},{"$f":"IF('保険料申告内訳名簿（一人親方団体控）'!D253=\"\",\"\",'保険料申告内訳名簿（一人親方団体控）'!D253)","v":""},{"$f":"IF('保険料申告内訳名簿（一人親方団体控）'!E253=\"\",\"\",'保険料申告内訳名簿（一人親方団体控）'!E253)","v":""},{"$f":"IF('保険料申告内訳名簿（一人親方団体控）'!F253=\"\",\"\",'保険料申告内訳名簿（一人親方団体控）'!F253)","v":""},{"$f":"IF('保険料申告内訳名簿（一人親方団体控）'!G253=\"\",\"\",'保険料申告内訳名簿（一人親方団体控）'!G253)","v":""},{"$f":"IF('保険料申告内訳名簿（一人親方団体控）'!H253=\"\",\"\",'保険料申告内訳名簿（一人親方団体控）'!H253)","v":""},{"$f":"IF('保険料申告内訳名簿（一人親方団体控）'!I253=\"\",\"\",'保険料申告内訳名簿（一人親方団体控）'!I253)","v":""},{"$f":"IF('保険料申告内訳名簿（一人親方団体控）'!J253=\"\",\"\",'保険料申告内訳名簿（一人親方団体控）'!J253)","v":""},{"$f":"IF('保険料申告内訳名簿（一人親方団体控）'!K253=\"\",\"\",'保険料申告内訳名簿（一人親方団体控）'!K253)","v":""},{"$f":"IF('保険料申告内訳名簿（一人親方団体控）'!L253=\"\",\"\",'保険料申告内訳名簿（一人親方団体控）'!L253)","v":""},{"$f":"IF('保険料申告内訳名簿（一人親方団体控）'!M253=\"\",\"\",'保険料申告内訳名簿（一人親方団体控）'!M253)","v":""},{"$f":"IF('保険料申告内訳名簿（一人親方団体控）'!N253=\"\",\"\",'保険料申告内訳名簿（一人親方団体控）'!N253)","v":""},{"$f":"IF('保険料申告内訳名簿（一人親方団体控）'!O253=\"\",\"\",'保険料申告内訳名簿（一人親方団体控）'!O253)","v":""},{"$f":"IF('保険料申告内訳名簿（一人親方団体控）'!P253=\"\",\"\",'保険料申告内訳名簿（一人親方団体控）'!P253)","v":""},{"$f":"IF('保険料申告内訳名簿（一人親方団体控）'!Q253=\"\",\"\",'保険料申告内訳名簿（一人親方団体控）'!Q253)","v":""},{"$f":"IF('保険料申告内訳名簿（一人親方団体控）'!R253=\"\",\"\",'保険料申告内訳名簿（一人親方団体控）'!R253)","v":""},{"$f":"IF('保険料申告内訳名簿（一人親方団体控）'!S253=\"\",\"\",'保険料申告内訳名簿（一人親方団体控）'!S253)","v":0},{"$f":"IF('保険料申告内訳名簿（一人親方団体控）'!T253=\"\",\"\",'保険料申告内訳名簿（一人親方団体控）'!T253)","v":""},{"$f":"IF('保険料申告内訳名簿（一人親方団体控）'!U253=\"\",\"\",'保険料申告内訳名簿（一人親方団体控）'!U253)","v":""},{"$f":"IF('保険料申告内訳名簿（一人親方団体控）'!V253=\"\",\"\",'保険料申告内訳名簿（一人親方団体控）'!V253)","v":""},{"$f":"IF('保険料申告内訳名簿（一人親方団体控）'!W253=\"\",\"\",'保険料申告内訳名簿（一人親方団体控）'!W253)","v":""},{"$f":"IF('保険料申告内訳名簿（一人親方団体控）'!X253=\"\",\"\",'保険料申告内訳名簿（一人親方団体控）'!X253)","v":""},{"$f":"IF('保険料申告内訳名簿（一人親方団体控）'!Y253=\"\",\"\",'保険料申告内訳名簿（一人親方団体控）'!Y253)","v":""},{"$f":"IF('保険料申告内訳名簿（一人親方団体控）'!Z253=\"\",\"\",'保険料申告内訳名簿（一人親方団体控）'!Z253)","v":""},{"$f":"IF('保険料申告内訳名簿（一人親方団体控）'!AA253=\"\",\"\",'保険料申告内訳名簿（一人親方団体控）'!AA253)","v":""},{"$f":"IF('保険料申告内訳名簿（一人親方団体控）'!AB253=\"\",\"\",'保険料申告内訳名簿（一人親方団体控）'!AB253)","v":""},{"$f":"IF('保険料申告内訳名簿（一人親方団体控）'!AC253=\"\",\"\",'保険料申告内訳名簿（一人親方団体控）'!AC253)","v":0},{"$f":"IF('保険料申告内訳名簿（一人親方団体控）'!AD253=\"\",\"\",'保険料申告内訳名簿（一人親方団体控）'!AD253)","v":""},{"$f":"IF('保険料申告内訳名簿（一人親方団体控）'!AE253=\"\",\"\",'保険料申告内訳名簿（一人親方団体控）'!AE253)","v":""},{"$f":"IF('保険料申告内訳名簿（一人親方団体控）'!AF253=\"\",\"\",'保険料申告内訳名簿（一人親方団体控）'!AF253)","v":""},{"$f":"IF('保険料申告内訳名簿（一人親方団体控）'!AG253=\"\",\"\",'保険料申告内訳名簿（一人親方団体控）'!AG253)","v":""},{"$f":"IF('保険料申告内訳名簿（一人親方団体控）'!AH253=\"\",\"\",'保険料申告内訳名簿（一人親方団体控）'!AH253)","v":""}]
[null,{"$f":"IF('保険料申告内訳名簿（一人親方団体控）'!B254=\"\",\"\",'保険料申告内訳名簿（一人親方団体控）'!B254)","v":""},{"$f":"IF('保険料申告内訳名簿（一人親方団体控）'!C254=\"\",\"\",'保険料申告内訳名簿（一人親方団体控）'!C254)","v":""},{"$f":"IF('保険料申告内訳名簿（一人親方団体控）'!D254=\"\",\"\",'保険料申告内訳名簿（一人親方団体控）'!D254)","v":""},{"$f":"IF('保険料申告内訳名簿（一人親方団体控）'!E254=\"\",\"\",'保険料申告内訳名簿（一人親方団体控）'!E254)","v":""},{"$f":"IF('保険料申告内訳名簿（一人親方団体控）'!F254=\"\",\"\",'保険料申告内訳名簿（一人親方団体控）'!F254)","v":""},{"$f":"IF('保険料申告内訳名簿（一人親方団体控）'!G254=\"\",\"\",'保険料申告内訳名簿（一人親方団体控）'!G254)","v":""},{"$f":"IF('保険料申告内訳名簿（一人親方団体控）'!H254=\"\",\"\",'保険料申告内訳名簿（一人親方団体控）'!H254)","v":""},{"$f":"IF('保険料申告内訳名簿（一人親方団体控）'!I254=\"\",\"\",'保険料申告内訳名簿（一人親方団体控）'!I254)","v":""},{"$f":"IF('保険料申告内訳名簿（一人親方団体控）'!J254=\"\",\"\",'保険料申告内訳名簿（一人親方団体控）'!J254)","v":""},{"$f":"IF('保険料申告内訳名簿（一人親方団体控）'!K254=\"\",\"\",'保険料申告内訳名簿（一人親方団体控）'!K254)","v":""},{"$f":"IF('保険料申告内訳名簿（一人親方団体控）'!L254=\"\",\"\",'保険料申告内訳名簿（一人親方団体控）'!L254)","v":""},{"$f":"IF('保険料申告内訳名簿（一人親方団体控）'!M254=\"\",\"\",'保険料申告内訳名簿（一人親方団体控）'!M254)","v":""},{"$f":"IF('保険料申告内訳名簿（一人親方団体控）'!N254=\"\",\"\",'保険料申告内訳名簿（一人親方団体控）'!N254)","v":""},{"$f":"IF('保険料申告内訳名簿（一人親方団体控）'!O254=\"\",\"\",'保険料申告内訳名簿（一人親方団体控）'!O254)","v":""},{"$f":"IF('保険料申告内訳名簿（一人親方団体控）'!P254=\"\",\"\",'保険料申告内訳名簿（一人親方団体控）'!P254)","v":""},{"$f":"IF('保険料申告内訳名簿（一人親方団体控）'!Q254=\"\",\"\",'保険料申告内訳名簿（一人親方団体控）'!Q254)","v":""},{"$f":"IF('保険料申告内訳名簿（一人親方団体控）'!R254=\"\",\"\",'保険料申告内訳名簿（一人親方団体控）'!R254)","v":""},{"$f":"IF('保険料申告内訳名簿（一人親方団体控）'!S254=\"\",\"\",'保険料申告内訳名簿（一人親方団体控）'!S254)","v":0},{"$f":"IF('保険料申告内訳名簿（一人親方団体控）'!T254=\"\",\"\",'保険料申告内訳名簿（一人親方団体控）'!T254)","v":""},{"$f":"IF('保険料申告内訳名簿（一人親方団体控）'!U254=\"\",\"\",'保険料申告内訳名簿（一人親方団体控）'!U254)","v":""},{"$f":"IF('保険料申告内訳名簿（一人親方団体控）'!V254=\"\",\"\",'保険料申告内訳名簿（一人親方団体控）'!V254)","v":""},{"$f":"IF('保険料申告内訳名簿（一人親方団体控）'!W254=\"\",\"\",'保険料申告内訳名簿（一人親方団体控）'!W254)","v":""},{"$f":"IF('保険料申告内訳名簿（一人親方団体控）'!X254=\"\",\"\",'保険料申告内訳名簿（一人親方団体控）'!X254)","v":""},{"$f":"IF('保険料申告内訳名簿（一人親方団体控）'!Y254=\"\",\"\",'保険料申告内訳名簿（一人親方団体控）'!Y254)","v":""},{"$f":"IF('保険料申告内訳名簿（一人親方団体控）'!Z254=\"\",\"\",'保険料申告内訳名簿（一人親方団体控）'!Z254)","v":""},{"$f":"IF('保険料申告内訳名簿（一人親方団体控）'!AA254=\"\",\"\",'保険料申告内訳名簿（一人親方団体控）'!AA254)","v":""},{"$f":"IF('保険料申告内訳名簿（一人親方団体控）'!AB254=\"\",\"\",'保険料申告内訳名簿（一人親方団体控）'!AB254)","v":""},{"$f":"IF('保険料申告内訳名簿（一人親方団体控）'!AC254=\"\",\"\",'保険料申告内訳名簿（一人親方団体控）'!AC254)","v":0},{"$f":"IF('保険料申告内訳名簿（一人親方団体控）'!AD254=\"\",\"\",'保険料申告内訳名簿（一人親方団体控）'!AD254)","v":""},{"$f":"IF('保険料申告内訳名簿（一人親方団体控）'!AE254=\"\",\"\",'保険料申告内訳名簿（一人親方団体控）'!AE254)","v":""},{"$f":"IF('保険料申告内訳名簿（一人親方団体控）'!AF254=\"\",\"\",'保険料申告内訳名簿（一人親方団体控）'!AF254)","v":""},{"$f":"IF('保険料申告内訳名簿（一人親方団体控）'!AG254=\"\",\"\",'保険料申告内訳名簿（一人親方団体控）'!AG254)","v":""},{"$f":"IF('保険料申告内訳名簿（一人親方団体控）'!AH254=\"\",\"\",'保険料申告内訳名簿（一人親方団体控）'!AH254)","v":""}]
[null,{"$f":"IF('保険料申告内訳名簿（一人親方団体控）'!B255=\"\",\"\",'保険料申告内訳名簿（一人親方団体控）'!B255)","v":""},{"$f":"IF('保険料申告内訳名簿（一人親方団体控）'!C255=\"\",\"\",'保険料申告内訳名簿（一人親方団体控）'!C255)","v":""},{"$f":"IF('保険料申告内訳名簿（一人親方団体控）'!D255=\"\",\"\",'保険料申告内訳名簿（一人親方団体控）'!D255)","v":""},{"$f":"IF('保険料申告内訳名簿（一人親方団体控）'!E255=\"\",\"\",'保険料申告内訳名簿（一人親方団体控）'!E255)","v":""},{"$f":"IF('保険料申告内訳名簿（一人親方団体控）'!F255=\"\",\"\",'保険料申告内訳名簿（一人親方団体控）'!F255)","v":""},{"$f":"IF('保険料申告内訳名簿（一人親方団体控）'!G255=\"\",\"\",'保険料申告内訳名簿（一人親方団体控）'!G255)","v":""},{"$f":"IF('保険料申告内訳名簿（一人親方団体控）'!H255=\"\",\"\",'保険料申告内訳名簿（一人親方団体控）'!H255)","v":""},{"$f":"IF('保険料申告内訳名簿（一人親方団体控）'!I255=\"\",\"\",'保険料申告内訳名簿（一人親方団体控）'!I255)","v":""},{"$f":"IF('保険料申告内訳名簿（一人親方団体控）'!J255=\"\",\"\",'保険料申告内訳名簿（一人親方団体控）'!J255)","v":""},{"$f":"IF('保険料申告内訳名簿（一人親方団体控）'!K255=\"\",\"\",'保険料申告内訳名簿（一人親方団体控）'!K255)","v":""},{"$f":"IF('保険料申告内訳名簿（一人親方団体控）'!L255=\"\",\"\",'保険料申告内訳名簿（一人親方団体控）'!L255)","v":""},{"$f":"IF('保険料申告内訳名簿（一人親方団体控）'!M255=\"\",\"\",'保険料申告内訳名簿（一人親方団体控）'!M255)","v":""},{"$f":"IF('保険料申告内訳名簿（一人親方団体控）'!N255=\"\",\"\",'保険料申告内訳名簿（一人親方団体控）'!N255)","v":""},{"$f":"IF('保険料申告内訳名簿（一人親方団体控）'!O255=\"\",\"\",'保険料申告内訳名簿（一人親方団体控）'!O255)","v":""},{"$f":"IF('保険料申告内訳名簿（一人親方団体控）'!P255=\"\",\"\",'保険料申告内訳名簿（一人親方団体控）'!P255)","v":""},{"$f":"IF('保険料申告内訳名簿（一人親方団体控）'!Q255=\"\",\"\",'保険料申告内訳名簿（一人親方団体控）'!Q255)","v":""},{"$f":"IF('保険料申告内訳名簿（一人親方団体控）'!R255=\"\",\"\",'保険料申告内訳名簿（一人親方団体控）'!R255)","v":""},{"$f":"IF('保険料申告内訳名簿（一人親方団体控）'!S255=\"\",\"\",'保険料申告内訳名簿（一人親方団体控）'!S255)","v":0},{"$f":"IF('保険料申告内訳名簿（一人親方団体控）'!T255=\"\",\"\",'保険料申告内訳名簿（一人親方団体控）'!T255)","v":""},{"$f":"IF('保険料申告内訳名簿（一人親方団体控）'!U255=\"\",\"\",'保険料申告内訳名簿（一人親方団体控）'!U255)","v":""},{"$f":"IF('保険料申告内訳名簿（一人親方団体控）'!V255=\"\",\"\",'保険料申告内訳名簿（一人親方団体控）'!V255)","v":""},{"$f":"IF('保険料申告内訳名簿（一人親方団体控）'!W255=\"\",\"\",'保険料申告内訳名簿（一人親方団体控）'!W255)","v":""},{"$f":"IF('保険料申告内訳名簿（一人親方団体控）'!X255=\"\",\"\",'保険料申告内訳名簿（一人親方団体控）'!X255)","v":""},{"$f":"IF('保険料申告内訳名簿（一人親方団体控）'!Y255=\"\",\"\",'保険料申告内訳名簿（一人親方団体控）'!Y255)","v":""},{"$f":"IF('保険料申告内訳名簿（一人親方団体控）'!Z255=\"\",\"\",'保険料申告内訳名簿（一人親方団体控）'!Z255)","v":""},{"$f":"IF('保険料申告内訳名簿（一人親方団体控）'!AA255=\"\",\"\",'保険料申告内訳名簿（一人親方団体控）'!AA255)","v":""},{"$f":"IF('保険料申告内訳名簿（一人親方団体控）'!AB255=\"\",\"\",'保険料申告内訳名簿（一人親方団体控）'!AB255)","v":""},{"$f":"IF('保険料申告内訳名簿（一人親方団体控）'!AC255=\"\",\"\",'保険料申告内訳名簿（一人親方団体控）'!AC255)","v":0},{"$f":"IF('保険料申告内訳名簿（一人親方団体控）'!AD255=\"\",\"\",'保険料申告内訳名簿（一人親方団体控）'!AD255)","v":""},{"$f":"IF('保険料申告内訳名簿（一人親方団体控）'!AE255=\"\",\"\",'保険料申告内訳名簿（一人親方団体控）'!AE255)","v":""},{"$f":"IF('保険料申告内訳名簿（一人親方団体控）'!AF255=\"\",\"\",'保険料申告内訳名簿（一人親方団体控）'!AF255)","v":""},{"$f":"IF('保険料申告内訳名簿（一人親方団体控）'!AG255=\"\",\"\",'保険料申告内訳名簿（一人親方団体控）'!AG255)","v":""},{"$f":"IF('保険料申告内訳名簿（一人親方団体控）'!AH255=\"\",\"\",'保険料申告内訳名簿（一人親方団体控）'!AH255)","v":""}]
[null,{"$f":"IF('保険料申告内訳名簿（一人親方団体控）'!B256=\"\",\"\",'保険料申告内訳名簿（一人親方団体控）'!B256)","v":""},{"$f":"IF('保険料申告内訳名簿（一人親方団体控）'!C256=\"\",\"\",'保険料申告内訳名簿（一人親方団体控）'!C256)","v":""},{"$f":"IF('保険料申告内訳名簿（一人親方団体控）'!D256=\"\",\"\",'保険料申告内訳名簿（一人親方団体控）'!D256)","v":""},{"$f":"IF('保険料申告内訳名簿（一人親方団体控）'!E256=\"\",\"\",'保険料申告内訳名簿（一人親方団体控）'!E256)","v":""},{"$f":"IF('保険料申告内訳名簿（一人親方団体控）'!F256=\"\",\"\",'保険料申告内訳名簿（一人親方団体控）'!F256)","v":""},{"$f":"IF('保険料申告内訳名簿（一人親方団体控）'!G256=\"\",\"\",'保険料申告内訳名簿（一人親方団体控）'!G256)","v":""},{"$f":"IF('保険料申告内訳名簿（一人親方団体控）'!H256=\"\",\"\",'保険料申告内訳名簿（一人親方団体控）'!H256)","v":""},{"$f":"IF('保険料申告内訳名簿（一人親方団体控）'!I256=\"\",\"\",'保険料申告内訳名簿（一人親方団体控）'!I256)","v":""},{"$f":"IF('保険料申告内訳名簿（一人親方団体控）'!J256=\"\",\"\",'保険料申告内訳名簿（一人親方団体控）'!J256)","v":""},{"$f":"IF('保険料申告内訳名簿（一人親方団体控）'!K256=\"\",\"\",'保険料申告内訳名簿（一人親方団体控）'!K256)","v":""},{"$f":"IF('保険料申告内訳名簿（一人親方団体控）'!L256=\"\",\"\",'保険料申告内訳名簿（一人親方団体控）'!L256)","v":""},{"$f":"IF('保険料申告内訳名簿（一人親方団体控）'!M256=\"\",\"\",'保険料申告内訳名簿（一人親方団体控）'!M256)","v":""},{"$f":"IF('保険料申告内訳名簿（一人親方団体控）'!N256=\"\",\"\",'保険料申告内訳名簿（一人親方団体控）'!N256)","v":""},{"$f":"IF('保険料申告内訳名簿（一人親方団体控）'!O256=\"\",\"\",'保険料申告内訳名簿（一人親方団体控）'!O256)","v":""},{"$f":"IF('保険料申告内訳名簿（一人親方団体控）'!P256=\"\",\"\",'保険料申告内訳名簿（一人親方団体控）'!P256)","v":""},{"$f":"IF('保険料申告内訳名簿（一人親方団体控）'!Q256=\"\",\"\",'保険料申告内訳名簿（一人親方団体控）'!Q256)","v":""},{"$f":"IF('保険料申告内訳名簿（一人親方団体控）'!R256=\"\",\"\",'保険料申告内訳名簿（一人親方団体控）'!R256)","v":""},{"$f":"IF('保険料申告内訳名簿（一人親方団体控）'!S256=\"\",\"\",'保険料申告内訳名簿（一人親方団体控）'!S256)","v":0},{"$f":"IF('保険料申告内訳名簿（一人親方団体控）'!T256=\"\",\"\",'保険料申告内訳名簿（一人親方団体控）'!T256)","v":""},{"$f":"IF('保険料申告内訳名簿（一人親方団体控）'!U256=\"\",\"\",'保険料申告内訳名簿（一人親方団体控）'!U256)","v":""},{"$f":"IF('保険料申告内訳名簿（一人親方団体控）'!V256=\"\",\"\",'保険料申告内訳名簿（一人親方団体控）'!V256)","v":""},{"$f":"IF('保険料申告内訳名簿（一人親方団体控）'!W256=\"\",\"\",'保険料申告内訳名簿（一人親方団体控）'!W256)","v":""},{"$f":"IF('保険料申告内訳名簿（一人親方団体控）'!X256=\"\",\"\",'保険料申告内訳名簿（一人親方団体控）'!X256)","v":""},{"$f":"IF('保険料申告内訳名簿（一人親方団体控）'!Y256=\"\",\"\",'保険料申告内訳名簿（一人親方団体控）'!Y256)","v":""},{"$f":"IF('保険料申告内訳名簿（一人親方団体控）'!Z256=\"\",\"\",'保険料申告内訳名簿（一人親方団体控）'!Z256)","v":""},{"$f":"IF('保険料申告内訳名簿（一人親方団体控）'!AA256=\"\",\"\",'保険料申告内訳名簿（一人親方団体控）'!AA256)","v":""},{"$f":"IF('保険料申告内訳名簿（一人親方団体控）'!AB256=\"\",\"\",'保険料申告内訳名簿（一人親方団体控）'!AB256)","v":""},{"$f":"IF('保険料申告内訳名簿（一人親方団体控）'!AC256=\"\",\"\",'保険料申告内訳名簿（一人親方団体控）'!AC256)","v":0},{"$f":"IF('保険料申告内訳名簿（一人親方団体控）'!AD256=\"\",\"\",'保険料申告内訳名簿（一人親方団体控）'!AD256)","v":""},{"$f":"IF('保険料申告内訳名簿（一人親方団体控）'!AE256=\"\",\"\",'保険料申告内訳名簿（一人親方団体控）'!AE256)","v":""},{"$f":"IF('保険料申告内訳名簿（一人親方団体控）'!AF256=\"\",\"\",'保険料申告内訳名簿（一人親方団体控）'!AF256)","v":""},{"$f":"IF('保険料申告内訳名簿（一人親方団体控）'!AG256=\"\",\"\",'保険料申告内訳名簿（一人親方団体控）'!AG256)","v":""},{"$f":"IF('保険料申告内訳名簿（一人親方団体控）'!AH256=\"\",\"\",'保険料申告内訳名簿（一人親方団体控）'!AH256)","v":""}]
[null,null,null,null,null,null,null,null,null,null,null,null,null,null,null,null,null,null,{"$f":"IF('保険料申告内訳名簿（一人親方団体控）'!S257=\"\",\"\",'保険料申告内訳名簿（一人親方団体控）'!S257)","v":0},{"$f":"IF('保険料申告内訳名簿（一人親方団体控）'!T257=\"\",\"\",'保険料申告内訳名簿（一人親方団体控）'!T257)","v":""},{"$f":"IF('保険料申告内訳名簿（一人親方団体控）'!U257=\"\",\"\",'保険料申告内訳名簿（一人親方団体控）'!U257)","v":""},{"$f":"IF('保険料申告内訳名簿（一人親方団体控）'!V257=\"\",\"\",'保険料申告内訳名簿（一人親方団体控）'!V257)","v":""},{"$f":"IF('保険料申告内訳名簿（一人親方団体控）'!W257=\"\",\"\",'保険料申告内訳名簿（一人親方団体控）'!W257)","v":""},{"$f":"IF('保険料申告内訳名簿（一人親方団体控）'!X257=\"\",\"\",'保険料申告内訳名簿（一人親方団体控）'!X257)","v":""},null,null,null,null,{"$f":"IF('保険料申告内訳名簿（一人親方団体控）'!AC257=\"\",\"\",'保険料申告内訳名簿（一人親方団体控）'!AC257)","v":0},{"$f":"IF('保険料申告内訳名簿（一人親方団体控）'!AD257=\"\",\"\",'保険料申告内訳名簿（一人親方団体控）'!AD257)","v":""},{"$f":"IF('保険料申告内訳名簿（一人親方団体控）'!AE257=\"\",\"\",'保険料申告内訳名簿（一人親方団体控）'!AE257)","v":""},{"$f":"IF('保険料申告内訳名簿（一人親方団体控）'!AF257=\"\",\"\",'保険料申告内訳名簿（一人親方団体控）'!AF257)","v":""},{"$f":"IF('保険料申告内訳名簿（一人親方団体控）'!AG257=\"\",\"\",'保険料申告内訳名簿（一人親方団体控）'!AG257)","v":""},{"$f":"IF('保険料申告内訳名簿（一人親方団体控）'!AH257=\"\",\"\",'保険料申告内訳名簿（一人親方団体控）'!AH257)","v":""}]
[]
[null,"（注）"]
[null,null,"１）　④欄は月割の対象となる方のみ記入して下さい。"]
[null,null,"２）　月割の対象となる場合の⑤保険料算定基礎額の算定方法"]
[null,null,"２）　月割の対象となる場合の③（給付基礎日額×365÷12）（円未満を切り上げてから）×加入月数"]
[]
[]
[null,"【島根局版】",null,null,null,null,null,null,null,null,null,null,null,null,null,null,null,null,null,null,null,null,null,null,null,null,"局用"]
[null,"第２種特別加入保険料申告内訳名簿"]
[null,"（一人親方等）"]
[null,null,null,null,null,null,null,null,null,null,null,null,null,null,null,null,null,null,null,null,null,null,null,null,"（",{"$f":"IF('保険料申告内訳名簿（一人親方団体控）'!Z268=\"\",\"\",'保険料申告内訳名簿（一人親方団体控）'!Z268)","v":0},{"$f":"IF('保険料申告内訳名簿（一人親方団体控）'!AA268=\"\",\"\",'保険料申告内訳名簿（一人親方団体控）'!AA268)","v":""},"枚のうち",null,{"$f":"IF('保険料申告内訳名簿（一人親方団体控）'!AD268=\"\",\"\",'保険料申告内訳名簿（一人親方団体控）'!AD268)","v":9},{"$f":"IF('保険料申告内訳名簿（一人親方団体控）'!AE268=\"\",\"\",'保険料申告内訳名簿（一人親方団体控）'!AE268)","v":""},"枚目",null,"）"]
[]
[null,"労働保険\n番　　　号",null,null,null,null,"府県",null,"所掌","管轄",null,"基幹番号",null,null,null,null,null,"枝番号",null,null,"事業場の\n所在地",null,null,{"$f":"IF('保険料申告内訳名簿（一人親方団体控）'!X270=\"\",\"\",'保険料申告内訳名簿（一人親方団体控）'!X270)","v":""},{"$f":"IF('保険料申告内訳名簿（一人親方団体控）'!Y270=\"\",\"\",'保険料申告内訳名簿（一人親方団体控）'!Y270)","v":""},{"$f":"IF('保険料申告内訳名簿（一人親方団体控）'!Z270=\"\",\"\",'保険料申告内訳名簿（一人親方団体控）'!Z270)","v":""},{"$f":"IF('保険料申告内訳名簿（一人親方団体控）'!AA270=\"\",\"\",'保険料申告内訳名簿（一人親方団体控）'!AA270)","v":""},{"$f":"IF('保険料申告内訳名簿（一人親方団体控）'!AB270=\"\",\"\",'保険料申告内訳名簿（一人親方団体控）'!AB270)","v":""},{"$f":"IF('保険料申告内訳名簿（一人親方団体控）'!AC270=\"\",\"\",'保険料申告内訳名簿（一人親方団体控）'!AC270)","v":""},{"$f":"IF('保険料申告内訳名簿（一人親方団体控）'!AD270=\"\",\"\",'保険料申告内訳名簿（一人親方団体控）'!AD270)","v":""},{"$f":"IF('保険料申告内訳名簿（一人親方団体控）'!AE270=\"\",\"\",'保険料申告内訳名簿（一人親方団体控）'!AE270)","v":""},{"$f":"IF('保険料申告内訳名簿（一人親方団体控）'!AF270=\"\",\"\",'保険料申告内訳名簿（一人親方団体控）'!AF270)","v":""},{"$f":"IF('保険料申告内訳名簿（一人親方団体控）'!AG270=\"\",\"\",'保険料申告内訳名簿（一人親方団体控）'!AG270)","v":""},{"$f":"IF('保険料申告内訳名簿（一人親方団体控）'!AH270=\"\",\"\",'保険料申告内訳名簿（一人親方団体控）'!AH270)","v":""}]
[null,null,null,null,null,null,"3","2",{"$f":"IF('保険料申告内訳名簿（一人親方団体控）'!I271=\"\",\"\",'保険料申告内訳名簿（一人親方団体控）'!I271)","v":""},{"$f":"IF('保険料申告内訳名簿（一人親方団体控）'!J271=\"\",\"\",'保険料申告内訳名簿（一人親方団体控）'!J271)","v":""},{"$f":"IF('保険料申告内訳名簿（一人親方団体控）'!K271=\"\",\"\",'保険料申告内訳名簿（一人親方団体控）'!K271)","v":""},{"$f":"IF('保険料申告内訳名簿（一人親方団体控）'!L271=\"\",\"\",'保険料申告内訳名簿（一人親方団体控）'!L271)","v":""},{"$f":"IF('保険料申告内訳名簿（一人親方団体控）'!M271=\"\",\"\",'保険料申告内訳名簿（一人親方団体控）'!M271)","v":""},{"$f":"IF('保険料申告内訳名簿（一人親方団体控）'!N271=\"\",\"\",'保険料申告内訳名簿（一人親方団体控）'!N271)","v":""},{"$f":"IF('保険料申告内訳名簿（一人親方団体控）'!O271=\"\",\"\",'保険料申告内訳名簿（一人親方団体控）'!O271)","v":""},{"$f":"IF('保険料申告内訳名簿（一人親方団体控）'!P271=\"\",\"\",'保険料申告内訳名簿（一人親方団体控）'!P271)","v":""},{"$f":"IF('保険料申告内訳名簿（一人親方団体控）'!Q271=\"\",\"\",'保険料申告内訳名簿（一人親方団体控）'!Q271)","v":""},{"$f":"IF('保険料申告内訳名簿（一人親方団体控）'!R271=\"\",\"\",'保険料申告内訳名簿（一人親方団体控）'!R271)","v":""},{"$f":"IF('保険料申告内訳名簿（一人親方団体控）'!S271=\"\",\"\",'保険料申告内訳名簿（一人親方団体控）'!S271)","v":""},{"$f":"IF('保険料申告内訳名簿（一人親方団体控）'!T271=\"\",\"\",'保険料申告内訳名簿（一人親方団体控）'!T271)","v":""},"事業場の\n名称",null,null,{"$f":"IF('保険料申告内訳名簿（一人親方団体控）'!X271=\"\",\"\",'保険料申告内訳名簿（一人親方団体控）'!X271)","v":""},{"$f":"IF('保険料申告内訳名簿（一人親方団体控）'!Y271=\"\",\"\",'保険料申告内訳名簿（一人親方団体控）'!Y271)","v":""},{"$f":"IF('保険料申告内訳名簿（一人親方団体控）'!Z271=\"\",\"\",'保険料申告内訳名簿（一人親方団体控）'!Z271)","v":""},{"$f":"IF('保険料申告内訳名簿（一人親方団体控）'!AA271=\"\",\"\",'保険料申告内訳名簿（一人親方団体控）'!AA271)","v":""},{"$f":"IF('保険料申告内訳名簿（一人親方団体控）'!AB271=\"\",\"\",'保険料申告内訳名簿（一人親方団体控）'!AB271)","v":""},{"$f":"IF('保険料申告内訳名簿（一人親方団体控）'!AC271=\"\",\"\",'保険料申告内訳名簿（一人親方団体控）'!AC271)","v":""},{"$f":"IF('保険料申告内訳名簿（一人親方団体控）'!AD271=\"\",\"\",'保険料申告内訳名簿（一人親方団体控）'!AD271)","v":""},{"$f":"IF('保険料申告内訳名簿（一人親方団体控）'!AE271=\"\",\"\",'保険料申告内訳名簿（一人親方団体控）'!AE271)","v":""},{"$f":"IF('保険料申告内訳名簿（一人親方団体控）'!AF271=\"\",\"\",'保険料申告内訳名簿（一人親方団体控）'!AF271)","v":""},{"$f":"IF('保険料申告内訳名簿（一人親方団体控）'!AG271=\"\",\"\",'保険料申告内訳名簿（一人親方団体控）'!AG271)","v":""},{"$f":"IF('保険料申告内訳名簿（一人親方団体控）'!AH271=\"\",\"\",'保険料申告内訳名簿（一人親方団体控）'!AH271)","v":""}]
[null,"①\n整理\n番号",null,"②\n氏名",null,null,null,null,null,null,null,null,null,null,"令 和",null,null,{"$f":"IF('保険料申告内訳名簿（一人親方団体控）'!R272=\"\",\"\",'保険料申告内訳名簿（一人親方団体控）'!R272)","v":""},{"$f":"IF('保険料申告内訳名簿（一人親方団体控）'!S272=\"\",\"\",'保険料申告内訳名簿（一人親方団体控）'!S272)","v":""},{"$f":"IF('保険料申告内訳名簿（一人親方団体控）'!T272=\"\",\"\",'保険料申告内訳名簿（一人親方団体控）'!T272)","v":""},null,null,null,"年 度 確 定 ","令 和",null,null,{"$f":"IF('保険料申告内訳名簿（一人親方団体控）'!AB272=\"\",\"\",'保険料申告内訳名簿（一人親方団体控）'!AB272)","v":""},{"$f":"IF('保険料申告内訳名簿（一人親方団体控）'!AC272=\"\",\"\",'保険料申告内訳名簿（一人親方団体控）'!AC272)","v":""},{"$f":"IF('保険料申告内訳名簿（一人親方団体控）'!AD272=\"\",\"\",'保険料申告内訳名簿（一人親方団体控）'!AD272)","v":""},null,null,null,"年 度 概 算 "]
[null,null,null,null,null,null,null,"③　\n給付基礎日額",null,null,null,"④年度中途加入・脱退",null,null,null,null,null,null,"⑤\n保険料算定基礎額",null,null,null,null,null,"⑥\n給付基礎日額",null,null,null,"⑦\n保険料算定基礎額"]
[null,null,null,null,null,null,null,null,null,null,null,"加入・脱退年月日",null,null,null,null,"加入月数"]
[null,{"$f":"IF('保険料申告内訳名簿（一人親方団体控）'!B275=\"\",\"\",'保険料申告内訳名簿（一人親方団体控）'!B275)","v":""},{"$f":"IF('保険料申告内訳名簿（一人親方団体控）'!C275=\"\",\"\",'保険料申告内訳名簿（一人親方団体控）'!C275)","v":""},{"$f":"IF('保険料申告内訳名簿（一人親方団体控）'!D275=\"\",\"\",'保険料申告内訳名簿（一人親方団体控）'!D275)","v":""},{"$f":"IF('保険料申告内訳名簿（一人親方団体控）'!E275=\"\",\"\",'保険料申告内訳名簿（一人親方団体控）'!E275)","v":""},{"$f":"IF('保険料申告内訳名簿（一人親方団体控）'!F275=\"\",\"\",'保険料申告内訳名簿（一人親方団体控）'!F275)","v":""},{"$f":"IF('保険料申告内訳名簿（一人親方団体控）'!G275=\"\",\"\",'保険料申告内訳名簿（一人親方団体控）'!G275)","v":""},{"$f":"IF('保険料申告内訳名簿（一人親方団体控）'!H275=\"\",\"\",'保険料申告内訳名簿（一人親方団体控）'!H275)","v":""},{"$f":"IF('保険料申告内訳名簿（一人親方団体控）'!I275=\"\",\"\",'保険料申告内訳名簿（一人親方団体控）'!I275)","v":""},{"$f":"IF('保険料申告内訳名簿（一人親方団体控）'!J275=\"\",\"\",'保険料申告内訳名簿（一人親方団体控）'!J275)","v":""},{"$f":"IF('保険料申告内訳名簿（一人親方団体控）'!K275=\"\",\"\",'保険料申告内訳名簿（一人親方団体控）'!K275)","v":""},{"$f":"IF('保険料申告内訳名簿（一人親方団体控）'!L275=\"\",\"\",'保険料申告内訳名簿（一人親方団体控）'!L275)","v":""},{"$f":"IF('保険料申告内訳名簿（一人親方団体控）'!M275=\"\",\"\",'保険料申告内訳名簿（一人親方団体控）'!M275)","v":""},{"$f":"IF('保険料申告内訳名簿（一人親方団体控）'!N275=\"\",\"\",'保険料申告内訳名簿（一人親方団体控）'!N275)","v":""},{"$f":"IF('保険料申告内訳名簿（一人親方団体控）'!O275=\"\",\"\",'保険料申告内訳名簿（一人親方団体控）'!O275)","v":""},{"$f":"IF('保険料申告内訳名簿（一人親方団体控）'!P275=\"\",\"\",'保険料申告内訳名簿（一人親方団体控）'!P275)","v":""},{"$f":"IF('保険料申告内訳名簿（一人親方団体控）'!Q275=\"\",\"\",'保険料申告内訳名簿（一人親方団体控）'!Q275)","v":""},{"$f":"IF('保険料申告内訳名簿（一人親方団体控）'!R275=\"\",\"\",'保険料申告内訳名簿（一人親方団体控）'!R275)","v":""},{"$f":"IF('保険料申告内訳名簿（一人親方団体控）'!S275=\"\",\"\",'保険料申告内訳名簿（一人親方団体控）'!S275)","v":0},{"$f":"IF('保険料申告内訳名簿（一人親方団体控）'!T275=\"\",\"\",'保険料申告内訳名簿（一人親方団体控）'!T275)","v":""},{"$f":"IF('保険料申告内訳名簿（一人親方団体控）'!U275=\"\",\"\",'保険料申告内訳名簿（一人親方団体控）'!U275)","v":""},{"$f":"IF('保険料申告内訳名簿（一人親方団体控）'!V275=\"\",\"\",'保険料申告内訳名簿（一人親方団体控）'!V275)","v":""},{"$f":"IF('保険料申告内訳名簿（一人親方団体控）'!W275=\"\",\"\",'保険料申告内訳名簿（一人親方団体控）'!W275)","v":""},{"$f":"IF('保険料申告内訳名簿（一人親方団体控）'!X275=\"\",\"\",'保険料申告内訳名簿（一人親方団体控）'!X275)","v":""},{"$f":"IF('保険料申告内訳名簿（一人親方団体控）'!Y275=\"\",\"\",'保険料申告内訳名簿（一人親方団体控）'!Y275)","v":""},{"$f":"IF('保険料申告内訳名簿（一人親方団体控）'!Z275=\"\",\"\",'保険料申告内訳名簿（一人親方団体控）'!Z275)","v":""},{"$f":"IF('保険料申告内訳名簿（一人親方団体控）'!AA275=\"\",\"\",'保険料申告内訳名簿（一人親方団体控）'!AA275)","v":""},{"$f":"IF('保険料申告内訳名簿（一人親方団体控）'!AB275=\"\",\"\",'保険料申告内訳名簿（一人親方団体控）'!AB275)","v":""},{"$f":"IF('保険料申告内訳名簿（一人親方団体控）'!AC275=\"\",\"\",'保険料申告内訳名簿（一人親方団体控）'!AC275)","v":0},{"$f":"IF('保険料申告内訳名簿（一人親方団体控）'!AD275=\"\",\"\",'保険料申告内訳名簿（一人親方団体控）'!AD275)","v":""},{"$f":"IF('保険料申告内訳名簿（一人親方団体控）'!AE275=\"\",\"\",'保険料申告内訳名簿（一人親方団体控）'!AE275)","v":""},{"$f":"IF('保険料申告内訳名簿（一人親方団体控）'!AF275=\"\",\"\",'保険料申告内訳名簿（一人親方団体控）'!AF275)","v":""},{"$f":"IF('保険料申告内訳名簿（一人親方団体控）'!AG275=\"\",\"\",'保険料申告内訳名簿（一人親方団体控）'!AG275)","v":""},{"$f":"IF('保険料申告内訳名簿（一人親方団体控）'!AH275=\"\",\"\",'保険料申告内訳名簿（一人親方団体控）'!AH275)","v":""}]
[null,{"$f":"IF('保険料申告内訳名簿（一人親方団体控）'!B276=\"\",\"\",'保険料申告内訳名簿（一人親方団体控）'!B276)","v":""},{"$f":"IF('保険料申告内訳名簿（一人親方団体控）'!C276=\"\",\"\",'保険料申告内訳名簿（一人親方団体控）'!C276)","v":""},{"$f":"IF('保険料申告内訳名簿（一人親方団体控）'!D276=\"\",\"\",'保険料申告内訳名簿（一人親方団体控）'!D276)","v":""},{"$f":"IF('保険料申告内訳名簿（一人親方団体控）'!E276=\"\",\"\",'保険料申告内訳名簿（一人親方団体控）'!E276)","v":""},{"$f":"IF('保険料申告内訳名簿（一人親方団体控）'!F276=\"\",\"\",'保険料申告内訳名簿（一人親方団体控）'!F276)","v":""},{"$f":"IF('保険料申告内訳名簿（一人親方団体控）'!G276=\"\",\"\",'保険料申告内訳名簿（一人親方団体控）'!G276)","v":""},{"$f":"IF('保険料申告内訳名簿（一人親方団体控）'!H276=\"\",\"\",'保険料申告内訳名簿（一人親方団体控）'!H276)","v":""},{"$f":"IF('保険料申告内訳名簿（一人親方団体控）'!I276=\"\",\"\",'保険料申告内訳名簿（一人親方団体控）'!I276)","v":""},{"$f":"IF('保険料申告内訳名簿（一人親方団体控）'!J276=\"\",\"\",'保険料申告内訳名簿（一人親方団体控）'!J276)","v":""},{"$f":"IF('保険料申告内訳名簿（一人親方団体控）'!K276=\"\",\"\",'保険料申告内訳名簿（一人親方団体控）'!K276)","v":""},{"$f":"IF('保険料申告内訳名簿（一人親方団体控）'!L276=\"\",\"\",'保険料申告内訳名簿（一人親方団体控）'!L276)","v":""},{"$f":"IF('保険料申告内訳名簿（一人親方団体控）'!M276=\"\",\"\",'保険料申告内訳名簿（一人親方団体控）'!M276)","v":""},{"$f":"IF('保険料申告内訳名簿（一人親方団体控）'!N276=\"\",\"\",'保険料申告内訳名簿（一人親方団体控）'!N276)","v":""},{"$f":"IF('保険料申告内訳名簿（一人親方団体控）'!O276=\"\",\"\",'保険料申告内訳名簿（一人親方団体控）'!O276)","v":""},{"$f":"IF('保険料申告内訳名簿（一人親方団体控）'!P276=\"\",\"\",'保険料申告内訳名簿（一人親方団体控）'!P276)","v":""},{"$f":"IF('保険料申告内訳名簿（一人親方団体控）'!Q276=\"\",\"\",'保険料申告内訳名簿（一人親方団体控）'!Q276)","v":""},{"$f":"IF('保険料申告内訳名簿（一人親方団体控）'!R276=\"\",\"\",'保険料申告内訳名簿（一人親方団体控）'!R276)","v":""},{"$f":"IF('保険料申告内訳名簿（一人親方団体控）'!S276=\"\",\"\",'保険料申告内訳名簿（一人親方団体控）'!S276)","v":0},{"$f":"IF('保険料申告内訳名簿（一人親方団体控）'!T276=\"\",\"\",'保険料申告内訳名簿（一人親方団体控）'!T276)","v":""},{"$f":"IF('保険料申告内訳名簿（一人親方団体控）'!U276=\"\",\"\",'保険料申告内訳名簿（一人親方団体控）'!U276)","v":""},{"$f":"IF('保険料申告内訳名簿（一人親方団体控）'!V276=\"\",\"\",'保険料申告内訳名簿（一人親方団体控）'!V276)","v":""},{"$f":"IF('保険料申告内訳名簿（一人親方団体控）'!W276=\"\",\"\",'保険料申告内訳名簿（一人親方団体控）'!W276)","v":""},{"$f":"IF('保険料申告内訳名簿（一人親方団体控）'!X276=\"\",\"\",'保険料申告内訳名簿（一人親方団体控）'!X276)","v":""},{"$f":"IF('保険料申告内訳名簿（一人親方団体控）'!Y276=\"\",\"\",'保険料申告内訳名簿（一人親方団体控）'!Y276)","v":""},{"$f":"IF('保険料申告内訳名簿（一人親方団体控）'!Z276=\"\",\"\",'保険料申告内訳名簿（一人親方団体控）'!Z276)","v":""},{"$f":"IF('保険料申告内訳名簿（一人親方団体控）'!AA276=\"\",\"\",'保険料申告内訳名簿（一人親方団体控）'!AA276)","v":""},{"$f":"IF('保険料申告内訳名簿（一人親方団体控）'!AB276=\"\",\"\",'保険料申告内訳名簿（一人親方団体控）'!AB276)","v":""},{"$f":"IF('保険料申告内訳名簿（一人親方団体控）'!AC276=\"\",\"\",'保険料申告内訳名簿（一人親方団体控）'!AC276)","v":0},{"$f":"IF('保険料申告内訳名簿（一人親方団体控）'!AD276=\"\",\"\",'保険料申告内訳名簿（一人親方団体控）'!AD276)","v":""},{"$f":"IF('保険料申告内訳名簿（一人親方団体控）'!AE276=\"\",\"\",'保険料申告内訳名簿（一人親方団体控）'!AE276)","v":""},{"$f":"IF('保険料申告内訳名簿（一人親方団体控）'!AF276=\"\",\"\",'保険料申告内訳名簿（一人親方団体控）'!AF276)","v":""},{"$f":"IF('保険料申告内訳名簿（一人親方団体控）'!AG276=\"\",\"\",'保険料申告内訳名簿（一人親方団体控）'!AG276)","v":""},{"$f":"IF('保険料申告内訳名簿（一人親方団体控）'!AH276=\"\",\"\",'保険料申告内訳名簿（一人親方団体控）'!AH276)","v":""}]
[null,{"$f":"IF('保険料申告内訳名簿（一人親方団体控）'!B277=\"\",\"\",'保険料申告内訳名簿（一人親方団体控）'!B277)","v":""},{"$f":"IF('保険料申告内訳名簿（一人親方団体控）'!C277=\"\",\"\",'保険料申告内訳名簿（一人親方団体控）'!C277)","v":""},{"$f":"IF('保険料申告内訳名簿（一人親方団体控）'!D277=\"\",\"\",'保険料申告内訳名簿（一人親方団体控）'!D277)","v":""},{"$f":"IF('保険料申告内訳名簿（一人親方団体控）'!E277=\"\",\"\",'保険料申告内訳名簿（一人親方団体控）'!E277)","v":""},{"$f":"IF('保険料申告内訳名簿（一人親方団体控）'!F277=\"\",\"\",'保険料申告内訳名簿（一人親方団体控）'!F277)","v":""},{"$f":"IF('保険料申告内訳名簿（一人親方団体控）'!G277=\"\",\"\",'保険料申告内訳名簿（一人親方団体控）'!G277)","v":""},{"$f":"IF('保険料申告内訳名簿（一人親方団体控）'!H277=\"\",\"\",'保険料申告内訳名簿（一人親方団体控）'!H277)","v":""},{"$f":"IF('保険料申告内訳名簿（一人親方団体控）'!I277=\"\",\"\",'保険料申告内訳名簿（一人親方団体控）'!I277)","v":""},{"$f":"IF('保険料申告内訳名簿（一人親方団体控）'!J277=\"\",\"\",'保険料申告内訳名簿（一人親方団体控）'!J277)","v":""},{"$f":"IF('保険料申告内訳名簿（一人親方団体控）'!K277=\"\",\"\",'保険料申告内訳名簿（一人親方団体控）'!K277)","v":""},{"$f":"IF('保険料申告内訳名簿（一人親方団体控）'!L277=\"\",\"\",'保険料申告内訳名簿（一人親方団体控）'!L277)","v":""},{"$f":"IF('保険料申告内訳名簿（一人親方団体控）'!M277=\"\",\"\",'保険料申告内訳名簿（一人親方団体控）'!M277)","v":""},{"$f":"IF('保険料申告内訳名簿（一人親方団体控）'!N277=\"\",\"\",'保険料申告内訳名簿（一人親方団体控）'!N277)","v":""},{"$f":"IF('保険料申告内訳名簿（一人親方団体控）'!O277=\"\",\"\",'保険料申告内訳名簿（一人親方団体控）'!O277)","v":""},{"$f":"IF('保険料申告内訳名簿（一人親方団体控）'!P277=\"\",\"\",'保険料申告内訳名簿（一人親方団体控）'!P277)","v":""},{"$f":"IF('保険料申告内訳名簿（一人親方団体控）'!Q277=\"\",\"\",'保険料申告内訳名簿（一人親方団体控）'!Q277)","v":""},{"$f":"IF('保険料申告内訳名簿（一人親方団体控）'!R277=\"\",\"\",'保険料申告内訳名簿（一人親方団体控）'!R277)","v":""},{"$f":"IF('保険料申告内訳名簿（一人親方団体控）'!S277=\"\",\"\",'保険料申告内訳名簿（一人親方団体控）'!S277)","v":0},{"$f":"IF('保険料申告内訳名簿（一人親方団体控）'!T277=\"\",\"\",'保険料申告内訳名簿（一人親方団体控）'!T277)","v":""},{"$f":"IF('保険料申告内訳名簿（一人親方団体控）'!U277=\"\",\"\",'保険料申告内訳名簿（一人親方団体控）'!U277)","v":""},{"$f":"IF('保険料申告内訳名簿（一人親方団体控）'!V277=\"\",\"\",'保険料申告内訳名簿（一人親方団体控）'!V277)","v":""},{"$f":"IF('保険料申告内訳名簿（一人親方団体控）'!W277=\"\",\"\",'保険料申告内訳名簿（一人親方団体控）'!W277)","v":""},{"$f":"IF('保険料申告内訳名簿（一人親方団体控）'!X277=\"\",\"\",'保険料申告内訳名簿（一人親方団体控）'!X277)","v":""},{"$f":"IF('保険料申告内訳名簿（一人親方団体控）'!Y277=\"\",\"\",'保険料申告内訳名簿（一人親方団体控）'!Y277)","v":""},{"$f":"IF('保険料申告内訳名簿（一人親方団体控）'!Z277=\"\",\"\",'保険料申告内訳名簿（一人親方団体控）'!Z277)","v":""},{"$f":"IF('保険料申告内訳名簿（一人親方団体控）'!AA277=\"\",\"\",'保険料申告内訳名簿（一人親方団体控）'!AA277)","v":""},{"$f":"IF('保険料申告内訳名簿（一人親方団体控）'!AB277=\"\",\"\",'保険料申告内訳名簿（一人親方団体控）'!AB277)","v":""},{"$f":"IF('保険料申告内訳名簿（一人親方団体控）'!AC277=\"\",\"\",'保険料申告内訳名簿（一人親方団体控）'!AC277)","v":0},{"$f":"IF('保険料申告内訳名簿（一人親方団体控）'!AD277=\"\",\"\",'保険料申告内訳名簿（一人親方団体控）'!AD277)","v":""},{"$f":"IF('保険料申告内訳名簿（一人親方団体控）'!AE277=\"\",\"\",'保険料申告内訳名簿（一人親方団体控）'!AE277)","v":""},{"$f":"IF('保険料申告内訳名簿（一人親方団体控）'!AF277=\"\",\"\",'保険料申告内訳名簿（一人親方団体控）'!AF277)","v":""},{"$f":"IF('保険料申告内訳名簿（一人親方団体控）'!AG277=\"\",\"\",'保険料申告内訳名簿（一人親方団体控）'!AG277)","v":""},{"$f":"IF('保険料申告内訳名簿（一人親方団体控）'!AH277=\"\",\"\",'保険料申告内訳名簿（一人親方団体控）'!AH277)","v":""}]
[null,{"$f":"IF('保険料申告内訳名簿（一人親方団体控）'!B278=\"\",\"\",'保険料申告内訳名簿（一人親方団体控）'!B278)","v":""},{"$f":"IF('保険料申告内訳名簿（一人親方団体控）'!C278=\"\",\"\",'保険料申告内訳名簿（一人親方団体控）'!C278)","v":""},{"$f":"IF('保険料申告内訳名簿（一人親方団体控）'!D278=\"\",\"\",'保険料申告内訳名簿（一人親方団体控）'!D278)","v":""},{"$f":"IF('保険料申告内訳名簿（一人親方団体控）'!E278=\"\",\"\",'保険料申告内訳名簿（一人親方団体控）'!E278)","v":""},{"$f":"IF('保険料申告内訳名簿（一人親方団体控）'!F278=\"\",\"\",'保険料申告内訳名簿（一人親方団体控）'!F278)","v":""},{"$f":"IF('保険料申告内訳名簿（一人親方団体控）'!G278=\"\",\"\",'保険料申告内訳名簿（一人親方団体控）'!G278)","v":""},{"$f":"IF('保険料申告内訳名簿（一人親方団体控）'!H278=\"\",\"\",'保険料申告内訳名簿（一人親方団体控）'!H278)","v":""},{"$f":"IF('保険料申告内訳名簿（一人親方団体控）'!I278=\"\",\"\",'保険料申告内訳名簿（一人親方団体控）'!I278)","v":""},{"$f":"IF('保険料申告内訳名簿（一人親方団体控）'!J278=\"\",\"\",'保険料申告内訳名簿（一人親方団体控）'!J278)","v":""},{"$f":"IF('保険料申告内訳名簿（一人親方団体控）'!K278=\"\",\"\",'保険料申告内訳名簿（一人親方団体控）'!K278)","v":""},{"$f":"IF('保険料申告内訳名簿（一人親方団体控）'!L278=\"\",\"\",'保険料申告内訳名簿（一人親方団体控）'!L278)","v":""},{"$f":"IF('保険料申告内訳名簿（一人親方団体控）'!M278=\"\",\"\",'保険料申告内訳名簿（一人親方団体控）'!M278)","v":""},{"$f":"IF('保険料申告内訳名簿（一人親方団体控）'!N278=\"\",\"\",'保険料申告内訳名簿（一人親方団体控）'!N278)","v":""},{"$f":"IF('保険料申告内訳名簿（一人親方団体控）'!O278=\"\",\"\",'保険料申告内訳名簿（一人親方団体控）'!O278)","v":""},{"$f":"IF('保険料申告内訳名簿（一人親方団体控）'!P278=\"\",\"\",'保険料申告内訳名簿（一人親方団体控）'!P278)","v":""},{"$f":"IF('保険料申告内訳名簿（一人親方団体控）'!Q278=\"\",\"\",'保険料申告内訳名簿（一人親方団体控）'!Q278)","v":""},{"$f":"IF('保険料申告内訳名簿（一人親方団体控）'!R278=\"\",\"\",'保険料申告内訳名簿（一人親方団体控）'!R278)","v":""},{"$f":"IF('保険料申告内訳名簿（一人親方団体控）'!S278=\"\",\"\",'保険料申告内訳名簿（一人親方団体控）'!S278)","v":0},{"$f":"IF('保険料申告内訳名簿（一人親方団体控）'!T278=\"\",\"\",'保険料申告内訳名簿（一人親方団体控）'!T278)","v":""},{"$f":"IF('保険料申告内訳名簿（一人親方団体控）'!U278=\"\",\"\",'保険料申告内訳名簿（一人親方団体控）'!U278)","v":""},{"$f":"IF('保険料申告内訳名簿（一人親方団体控）'!V278=\"\",\"\",'保険料申告内訳名簿（一人親方団体控）'!V278)","v":""},{"$f":"IF('保険料申告内訳名簿（一人親方団体控）'!W278=\"\",\"\",'保険料申告内訳名簿（一人親方団体控）'!W278)","v":""},{"$f":"IF('保険料申告内訳名簿（一人親方団体控）'!X278=\"\",\"\",'保険料申告内訳名簿（一人親方団体控）'!X278)","v":""},{"$f":"IF('保険料申告内訳名簿（一人親方団体控）'!Y278=\"\",\"\",'保険料申告内訳名簿（一人親方団体控）'!Y278)","v":""},{"$f":"IF('保険料申告内訳名簿（一人親方団体控）'!Z278=\"\",\"\",'保険料申告内訳名簿（一人親方団体控）'!Z278)","v":""},{"$f":"IF('保険料申告内訳名簿（一人親方団体控）'!AA278=\"\",\"\",'保険料申告内訳名簿（一人親方団体控）'!AA278)","v":""},{"$f":"IF('保険料申告内訳名簿（一人親方団体控）'!AB278=\"\",\"\",'保険料申告内訳名簿（一人親方団体控）'!AB278)","v":""},{"$f":"IF('保険料申告内訳名簿（一人親方団体控）'!AC278=\"\",\"\",'保険料申告内訳名簿（一人親方団体控）'!AC278)","v":0},{"$f":"IF('保険料申告内訳名簿（一人親方団体控）'!AD278=\"\",\"\",'保険料申告内訳名簿（一人親方団体控）'!AD278)","v":""},{"$f":"IF('保険料申告内訳名簿（一人親方団体控）'!AE278=\"\",\"\",'保険料申告内訳名簿（一人親方団体控）'!AE278)","v":""},{"$f":"IF('保険料申告内訳名簿（一人親方団体控）'!AF278=\"\",\"\",'保険料申告内訳名簿（一人親方団体控）'!AF278)","v":""},{"$f":"IF('保険料申告内訳名簿（一人親方団体控）'!AG278=\"\",\"\",'保険料申告内訳名簿（一人親方団体控）'!AG278)","v":""},{"$f":"IF('保険料申告内訳名簿（一人親方団体控）'!AH278=\"\",\"\",'保険料申告内訳名簿（一人親方団体控）'!AH278)","v":""}]
[null,{"$f":"IF('保険料申告内訳名簿（一人親方団体控）'!B279=\"\",\"\",'保険料申告内訳名簿（一人親方団体控）'!B279)","v":""},{"$f":"IF('保険料申告内訳名簿（一人親方団体控）'!C279=\"\",\"\",'保険料申告内訳名簿（一人親方団体控）'!C279)","v":""},{"$f":"IF('保険料申告内訳名簿（一人親方団体控）'!D279=\"\",\"\",'保険料申告内訳名簿（一人親方団体控）'!D279)","v":""},{"$f":"IF('保険料申告内訳名簿（一人親方団体控）'!E279=\"\",\"\",'保険料申告内訳名簿（一人親方団体控）'!E279)","v":""},{"$f":"IF('保険料申告内訳名簿（一人親方団体控）'!F279=\"\",\"\",'保険料申告内訳名簿（一人親方団体控）'!F279)","v":""},{"$f":"IF('保険料申告内訳名簿（一人親方団体控）'!G279=\"\",\"\",'保険料申告内訳名簿（一人親方団体控）'!G279)","v":""},{"$f":"IF('保険料申告内訳名簿（一人親方団体控）'!H279=\"\",\"\",'保険料申告内訳名簿（一人親方団体控）'!H279)","v":""},{"$f":"IF('保険料申告内訳名簿（一人親方団体控）'!I279=\"\",\"\",'保険料申告内訳名簿（一人親方団体控）'!I279)","v":""},{"$f":"IF('保険料申告内訳名簿（一人親方団体控）'!J279=\"\",\"\",'保険料申告内訳名簿（一人親方団体控）'!J279)","v":""},{"$f":"IF('保険料申告内訳名簿（一人親方団体控）'!K279=\"\",\"\",'保険料申告内訳名簿（一人親方団体控）'!K279)","v":""},{"$f":"IF('保険料申告内訳名簿（一人親方団体控）'!L279=\"\",\"\",'保険料申告内訳名簿（一人親方団体控）'!L279)","v":""},{"$f":"IF('保険料申告内訳名簿（一人親方団体控）'!M279=\"\",\"\",'保険料申告内訳名簿（一人親方団体控）'!M279)","v":""},{"$f":"IF('保険料申告内訳名簿（一人親方団体控）'!N279=\"\",\"\",'保険料申告内訳名簿（一人親方団体控）'!N279)","v":""},{"$f":"IF('保険料申告内訳名簿（一人親方団体控）'!O279=\"\",\"\",'保険料申告内訳名簿（一人親方団体控）'!O279)","v":""},{"$f":"IF('保険料申告内訳名簿（一人親方団体控）'!P279=\"\",\"\",'保険料申告内訳名簿（一人親方団体控）'!P279)","v":""},{"$f":"IF('保険料申告内訳名簿（一人親方団体控）'!Q279=\"\",\"\",'保険料申告内訳名簿（一人親方団体控）'!Q279)","v":""},{"$f":"IF('保険料申告内訳名簿（一人親方団体控）'!R279=\"\",\"\",'保険料申告内訳名簿（一人親方団体控）'!R279)","v":""},{"$f":"IF('保険料申告内訳名簿（一人親方団体控）'!S279=\"\",\"\",'保険料申告内訳名簿（一人親方団体控）'!S279)","v":0},{"$f":"IF('保険料申告内訳名簿（一人親方団体控）'!T279=\"\",\"\",'保険料申告内訳名簿（一人親方団体控）'!T279)","v":""},{"$f":"IF('保険料申告内訳名簿（一人親方団体控）'!U279=\"\",\"\",'保険料申告内訳名簿（一人親方団体控）'!U279)","v":""},{"$f":"IF('保険料申告内訳名簿（一人親方団体控）'!V279=\"\",\"\",'保険料申告内訳名簿（一人親方団体控）'!V279)","v":""},{"$f":"IF('保険料申告内訳名簿（一人親方団体控）'!W279=\"\",\"\",'保険料申告内訳名簿（一人親方団体控）'!W279)","v":""},{"$f":"IF('保険料申告内訳名簿（一人親方団体控）'!X279=\"\",\"\",'保険料申告内訳名簿（一人親方団体控）'!X279)","v":""},{"$f":"IF('保険料申告内訳名簿（一人親方団体控）'!Y279=\"\",\"\",'保険料申告内訳名簿（一人親方団体控）'!Y279)","v":""},{"$f":"IF('保険料申告内訳名簿（一人親方団体控）'!Z279=\"\",\"\",'保険料申告内訳名簿（一人親方団体控）'!Z279)","v":""},{"$f":"IF('保険料申告内訳名簿（一人親方団体控）'!AA279=\"\",\"\",'保険料申告内訳名簿（一人親方団体控）'!AA279)","v":""},{"$f":"IF('保険料申告内訳名簿（一人親方団体控）'!AB279=\"\",\"\",'保険料申告内訳名簿（一人親方団体控）'!AB279)","v":""},{"$f":"IF('保険料申告内訳名簿（一人親方団体控）'!AC279=\"\",\"\",'保険料申告内訳名簿（一人親方団体控）'!AC279)","v":0},{"$f":"IF('保険料申告内訳名簿（一人親方団体控）'!AD279=\"\",\"\",'保険料申告内訳名簿（一人親方団体控）'!AD279)","v":""},{"$f":"IF('保険料申告内訳名簿（一人親方団体控）'!AE279=\"\",\"\",'保険料申告内訳名簿（一人親方団体控）'!AE279)","v":""},{"$f":"IF('保険料申告内訳名簿（一人親方団体控）'!AF279=\"\",\"\",'保険料申告内訳名簿（一人親方団体控）'!AF279)","v":""},{"$f":"IF('保険料申告内訳名簿（一人親方団体控）'!AG279=\"\",\"\",'保険料申告内訳名簿（一人親方団体控）'!AG279)","v":""},{"$f":"IF('保険料申告内訳名簿（一人親方団体控）'!AH279=\"\",\"\",'保険料申告内訳名簿（一人親方団体控）'!AH279)","v":""}]
[null,{"$f":"IF('保険料申告内訳名簿（一人親方団体控）'!B280=\"\",\"\",'保険料申告内訳名簿（一人親方団体控）'!B280)","v":""},{"$f":"IF('保険料申告内訳名簿（一人親方団体控）'!C280=\"\",\"\",'保険料申告内訳名簿（一人親方団体控）'!C280)","v":""},{"$f":"IF('保険料申告内訳名簿（一人親方団体控）'!D280=\"\",\"\",'保険料申告内訳名簿（一人親方団体控）'!D280)","v":""},{"$f":"IF('保険料申告内訳名簿（一人親方団体控）'!E280=\"\",\"\",'保険料申告内訳名簿（一人親方団体控）'!E280)","v":""},{"$f":"IF('保険料申告内訳名簿（一人親方団体控）'!F280=\"\",\"\",'保険料申告内訳名簿（一人親方団体控）'!F280)","v":""},{"$f":"IF('保険料申告内訳名簿（一人親方団体控）'!G280=\"\",\"\",'保険料申告内訳名簿（一人親方団体控）'!G280)","v":""},{"$f":"IF('保険料申告内訳名簿（一人親方団体控）'!H280=\"\",\"\",'保険料申告内訳名簿（一人親方団体控）'!H280)","v":""},{"$f":"IF('保険料申告内訳名簿（一人親方団体控）'!I280=\"\",\"\",'保険料申告内訳名簿（一人親方団体控）'!I280)","v":""},{"$f":"IF('保険料申告内訳名簿（一人親方団体控）'!J280=\"\",\"\",'保険料申告内訳名簿（一人親方団体控）'!J280)","v":""},{"$f":"IF('保険料申告内訳名簿（一人親方団体控）'!K280=\"\",\"\",'保険料申告内訳名簿（一人親方団体控）'!K280)","v":""},{"$f":"IF('保険料申告内訳名簿（一人親方団体控）'!L280=\"\",\"\",'保険料申告内訳名簿（一人親方団体控）'!L280)","v":""},{"$f":"IF('保険料申告内訳名簿（一人親方団体控）'!M280=\"\",\"\",'保険料申告内訳名簿（一人親方団体控）'!M280)","v":""},{"$f":"IF('保険料申告内訳名簿（一人親方団体控）'!N280=\"\",\"\",'保険料申告内訳名簿（一人親方団体控）'!N280)","v":""},{"$f":"IF('保険料申告内訳名簿（一人親方団体控）'!O280=\"\",\"\",'保険料申告内訳名簿（一人親方団体控）'!O280)","v":""},{"$f":"IF('保険料申告内訳名簿（一人親方団体控）'!P280=\"\",\"\",'保険料申告内訳名簿（一人親方団体控）'!P280)","v":""},{"$f":"IF('保険料申告内訳名簿（一人親方団体控）'!Q280=\"\",\"\",'保険料申告内訳名簿（一人親方団体控）'!Q280)","v":""},{"$f":"IF('保険料申告内訳名簿（一人親方団体控）'!R280=\"\",\"\",'保険料申告内訳名簿（一人親方団体控）'!R280)","v":""},{"$f":"IF('保険料申告内訳名簿（一人親方団体控）'!S280=\"\",\"\",'保険料申告内訳名簿（一人親方団体控）'!S280)","v":0},{"$f":"IF('保険料申告内訳名簿（一人親方団体控）'!T280=\"\",\"\",'保険料申告内訳名簿（一人親方団体控）'!T280)","v":""},{"$f":"IF('保険料申告内訳名簿（一人親方団体控）'!U280=\"\",\"\",'保険料申告内訳名簿（一人親方団体控）'!U280)","v":""},{"$f":"IF('保険料申告内訳名簿（一人親方団体控）'!V280=\"\",\"\",'保険料申告内訳名簿（一人親方団体控）'!V280)","v":""},{"$f":"IF('保険料申告内訳名簿（一人親方団体控）'!W280=\"\",\"\",'保険料申告内訳名簿（一人親方団体控）'!W280)","v":""},{"$f":"IF('保険料申告内訳名簿（一人親方団体控）'!X280=\"\",\"\",'保険料申告内訳名簿（一人親方団体控）'!X280)","v":""},{"$f":"IF('保険料申告内訳名簿（一人親方団体控）'!Y280=\"\",\"\",'保険料申告内訳名簿（一人親方団体控）'!Y280)","v":""},{"$f":"IF('保険料申告内訳名簿（一人親方団体控）'!Z280=\"\",\"\",'保険料申告内訳名簿（一人親方団体控）'!Z280)","v":""},{"$f":"IF('保険料申告内訳名簿（一人親方団体控）'!AA280=\"\",\"\",'保険料申告内訳名簿（一人親方団体控）'!AA280)","v":""},{"$f":"IF('保険料申告内訳名簿（一人親方団体控）'!AB280=\"\",\"\",'保険料申告内訳名簿（一人親方団体控）'!AB280)","v":""},{"$f":"IF('保険料申告内訳名簿（一人親方団体控）'!AC280=\"\",\"\",'保険料申告内訳名簿（一人親方団体控）'!AC280)","v":0},{"$f":"IF('保険料申告内訳名簿（一人親方団体控）'!AD280=\"\",\"\",'保険料申告内訳名簿（一人親方団体控）'!AD280)","v":""},{"$f":"IF('保険料申告内訳名簿（一人親方団体控）'!AE280=\"\",\"\",'保険料申告内訳名簿（一人親方団体控）'!AE280)","v":""},{"$f":"IF('保険料申告内訳名簿（一人親方団体控）'!AF280=\"\",\"\",'保険料申告内訳名簿（一人親方団体控）'!AF280)","v":""},{"$f":"IF('保険料申告内訳名簿（一人親方団体控）'!AG280=\"\",\"\",'保険料申告内訳名簿（一人親方団体控）'!AG280)","v":""},{"$f":"IF('保険料申告内訳名簿（一人親方団体控）'!AH280=\"\",\"\",'保険料申告内訳名簿（一人親方団体控）'!AH280)","v":""}]
[null,{"$f":"IF('保険料申告内訳名簿（一人親方団体控）'!B281=\"\",\"\",'保険料申告内訳名簿（一人親方団体控）'!B281)","v":""},{"$f":"IF('保険料申告内訳名簿（一人親方団体控）'!C281=\"\",\"\",'保険料申告内訳名簿（一人親方団体控）'!C281)","v":""},{"$f":"IF('保険料申告内訳名簿（一人親方団体控）'!D281=\"\",\"\",'保険料申告内訳名簿（一人親方団体控）'!D281)","v":""},{"$f":"IF('保険料申告内訳名簿（一人親方団体控）'!E281=\"\",\"\",'保険料申告内訳名簿（一人親方団体控）'!E281)","v":""},{"$f":"IF('保険料申告内訳名簿（一人親方団体控）'!F281=\"\",\"\",'保険料申告内訳名簿（一人親方団体控）'!F281)","v":""},{"$f":"IF('保険料申告内訳名簿（一人親方団体控）'!G281=\"\",\"\",'保険料申告内訳名簿（一人親方団体控）'!G281)","v":""},{"$f":"IF('保険料申告内訳名簿（一人親方団体控）'!H281=\"\",\"\",'保険料申告内訳名簿（一人親方団体控）'!H281)","v":""},{"$f":"IF('保険料申告内訳名簿（一人親方団体控）'!I281=\"\",\"\",'保険料申告内訳名簿（一人親方団体控）'!I281)","v":""},{"$f":"IF('保険料申告内訳名簿（一人親方団体控）'!J281=\"\",\"\",'保険料申告内訳名簿（一人親方団体控）'!J281)","v":""},{"$f":"IF('保険料申告内訳名簿（一人親方団体控）'!K281=\"\",\"\",'保険料申告内訳名簿（一人親方団体控）'!K281)","v":""},{"$f":"IF('保険料申告内訳名簿（一人親方団体控）'!L281=\"\",\"\",'保険料申告内訳名簿（一人親方団体控）'!L281)","v":""},{"$f":"IF('保険料申告内訳名簿（一人親方団体控）'!M281=\"\",\"\",'保険料申告内訳名簿（一人親方団体控）'!M281)","v":""},{"$f":"IF('保険料申告内訳名簿（一人親方団体控）'!N281=\"\",\"\",'保険料申告内訳名簿（一人親方団体控）'!N281)","v":""},{"$f":"IF('保険料申告内訳名簿（一人親方団体控）'!O281=\"\",\"\",'保険料申告内訳名簿（一人親方団体控）'!O281)","v":""},{"$f":"IF('保険料申告内訳名簿（一人親方団体控）'!P281=\"\",\"\",'保険料申告内訳名簿（一人親方団体控）'!P281)","v":""},{"$f":"IF('保険料申告内訳名簿（一人親方団体控）'!Q281=\"\",\"\",'保険料申告内訳名簿（一人親方団体控）'!Q281)","v":""},{"$f":"IF('保険料申告内訳名簿（一人親方団体控）'!R281=\"\",\"\",'保険料申告内訳名簿（一人親方団体控）'!R281)","v":""},{"$f":"IF('保険料申告内訳名簿（一人親方団体控）'!S281=\"\",\"\",'保険料申告内訳名簿（一人親方団体控）'!S281)","v":0},{"$f":"IF('保険料申告内訳名簿（一人親方団体控）'!T281=\"\",\"\",'保険料申告内訳名簿（一人親方団体控）'!T281)","v":""},{"$f":"IF('保険料申告内訳名簿（一人親方団体控）'!U281=\"\",\"\",'保険料申告内訳名簿（一人親方団体控）'!U281)","v":""},{"$f":"IF('保険料申告内訳名簿（一人親方団体控）'!V281=\"\",\"\",'保険料申告内訳名簿（一人親方団体控）'!V281)","v":""},{"$f":"IF('保険料申告内訳名簿（一人親方団体控）'!W281=\"\",\"\",'保険料申告内訳名簿（一人親方団体控）'!W281)","v":""},{"$f":"IF('保険料申告内訳名簿（一人親方団体控）'!X281=\"\",\"\",'保険料申告内訳名簿（一人親方団体控）'!X281)","v":""},{"$f":"IF('保険料申告内訳名簿（一人親方団体控）'!Y281=\"\",\"\",'保険料申告内訳名簿（一人親方団体控）'!Y281)","v":""},{"$f":"IF('保険料申告内訳名簿（一人親方団体控）'!Z281=\"\",\"\",'保険料申告内訳名簿（一人親方団体控）'!Z281)","v":""},{"$f":"IF('保険料申告内訳名簿（一人親方団体控）'!AA281=\"\",\"\",'保険料申告内訳名簿（一人親方団体控）'!AA281)","v":""},{"$f":"IF('保険料申告内訳名簿（一人親方団体控）'!AB281=\"\",\"\",'保険料申告内訳名簿（一人親方団体控）'!AB281)","v":""},{"$f":"IF('保険料申告内訳名簿（一人親方団体控）'!AC281=\"\",\"\",'保険料申告内訳名簿（一人親方団体控）'!AC281)","v":0},{"$f":"IF('保険料申告内訳名簿（一人親方団体控）'!AD281=\"\",\"\",'保険料申告内訳名簿（一人親方団体控）'!AD281)","v":""},{"$f":"IF('保険料申告内訳名簿（一人親方団体控）'!AE281=\"\",\"\",'保険料申告内訳名簿（一人親方団体控）'!AE281)","v":""},{"$f":"IF('保険料申告内訳名簿（一人親方団体控）'!AF281=\"\",\"\",'保険料申告内訳名簿（一人親方団体控）'!AF281)","v":""},{"$f":"IF('保険料申告内訳名簿（一人親方団体控）'!AG281=\"\",\"\",'保険料申告内訳名簿（一人親方団体控）'!AG281)","v":""},{"$f":"IF('保険料申告内訳名簿（一人親方団体控）'!AH281=\"\",\"\",'保険料申告内訳名簿（一人親方団体控）'!AH281)","v":""}]
[null,{"$f":"IF('保険料申告内訳名簿（一人親方団体控）'!B282=\"\",\"\",'保険料申告内訳名簿（一人親方団体控）'!B282)","v":""},{"$f":"IF('保険料申告内訳名簿（一人親方団体控）'!C282=\"\",\"\",'保険料申告内訳名簿（一人親方団体控）'!C282)","v":""},{"$f":"IF('保険料申告内訳名簿（一人親方団体控）'!D282=\"\",\"\",'保険料申告内訳名簿（一人親方団体控）'!D282)","v":""},{"$f":"IF('保険料申告内訳名簿（一人親方団体控）'!E282=\"\",\"\",'保険料申告内訳名簿（一人親方団体控）'!E282)","v":""},{"$f":"IF('保険料申告内訳名簿（一人親方団体控）'!F282=\"\",\"\",'保険料申告内訳名簿（一人親方団体控）'!F282)","v":""},{"$f":"IF('保険料申告内訳名簿（一人親方団体控）'!G282=\"\",\"\",'保険料申告内訳名簿（一人親方団体控）'!G282)","v":""},{"$f":"IF('保険料申告内訳名簿（一人親方団体控）'!H282=\"\",\"\",'保険料申告内訳名簿（一人親方団体控）'!H282)","v":""},{"$f":"IF('保険料申告内訳名簿（一人親方団体控）'!I282=\"\",\"\",'保険料申告内訳名簿（一人親方団体控）'!I282)","v":""},{"$f":"IF('保険料申告内訳名簿（一人親方団体控）'!J282=\"\",\"\",'保険料申告内訳名簿（一人親方団体控）'!J282)","v":""},{"$f":"IF('保険料申告内訳名簿（一人親方団体控）'!K282=\"\",\"\",'保険料申告内訳名簿（一人親方団体控）'!K282)","v":""},{"$f":"IF('保険料申告内訳名簿（一人親方団体控）'!L282=\"\",\"\",'保険料申告内訳名簿（一人親方団体控）'!L282)","v":""},{"$f":"IF('保険料申告内訳名簿（一人親方団体控）'!M282=\"\",\"\",'保険料申告内訳名簿（一人親方団体控）'!M282)","v":""},{"$f":"IF('保険料申告内訳名簿（一人親方団体控）'!N282=\"\",\"\",'保険料申告内訳名簿（一人親方団体控）'!N282)","v":""},{"$f":"IF('保険料申告内訳名簿（一人親方団体控）'!O282=\"\",\"\",'保険料申告内訳名簿（一人親方団体控）'!O282)","v":""},{"$f":"IF('保険料申告内訳名簿（一人親方団体控）'!P282=\"\",\"\",'保険料申告内訳名簿（一人親方団体控）'!P282)","v":""},{"$f":"IF('保険料申告内訳名簿（一人親方団体控）'!Q282=\"\",\"\",'保険料申告内訳名簿（一人親方団体控）'!Q282)","v":""},{"$f":"IF('保険料申告内訳名簿（一人親方団体控）'!R282=\"\",\"\",'保険料申告内訳名簿（一人親方団体控）'!R282)","v":""},{"$f":"IF('保険料申告内訳名簿（一人親方団体控）'!S282=\"\",\"\",'保険料申告内訳名簿（一人親方団体控）'!S282)","v":0},{"$f":"IF('保険料申告内訳名簿（一人親方団体控）'!T282=\"\",\"\",'保険料申告内訳名簿（一人親方団体控）'!T282)","v":""},{"$f":"IF('保険料申告内訳名簿（一人親方団体控）'!U282=\"\",\"\",'保険料申告内訳名簿（一人親方団体控）'!U282)","v":""},{"$f":"IF('保険料申告内訳名簿（一人親方団体控）'!V282=\"\",\"\",'保険料申告内訳名簿（一人親方団体控）'!V282)","v":""},{"$f":"IF('保険料申告内訳名簿（一人親方団体控）'!W282=\"\",\"\",'保険料申告内訳名簿（一人親方団体控）'!W282)","v":""},{"$f":"IF('保険料申告内訳名簿（一人親方団体控）'!X282=\"\",\"\",'保険料申告内訳名簿（一人親方団体控）'!X282)","v":""},{"$f":"IF('保険料申告内訳名簿（一人親方団体控）'!Y282=\"\",\"\",'保険料申告内訳名簿（一人親方団体控）'!Y282)","v":""},{"$f":"IF('保険料申告内訳名簿（一人親方団体控）'!Z282=\"\",\"\",'保険料申告内訳名簿（一人親方団体控）'!Z282)","v":""},{"$f":"IF('保険料申告内訳名簿（一人親方団体控）'!AA282=\"\",\"\",'保険料申告内訳名簿（一人親方団体控）'!AA282)","v":""},{"$f":"IF('保険料申告内訳名簿（一人親方団体控）'!AB282=\"\",\"\",'保険料申告内訳名簿（一人親方団体控）'!AB282)","v":""},{"$f":"IF('保険料申告内訳名簿（一人親方団体控）'!AC282=\"\",\"\",'保険料申告内訳名簿（一人親方団体控）'!AC282)","v":0},{"$f":"IF('保険料申告内訳名簿（一人親方団体控）'!AD282=\"\",\"\",'保険料申告内訳名簿（一人親方団体控）'!AD282)","v":""},{"$f":"IF('保険料申告内訳名簿（一人親方団体控）'!AE282=\"\",\"\",'保険料申告内訳名簿（一人親方団体控）'!AE282)","v":""},{"$f":"IF('保険料申告内訳名簿（一人親方団体控）'!AF282=\"\",\"\",'保険料申告内訳名簿（一人親方団体控）'!AF282)","v":""},{"$f":"IF('保険料申告内訳名簿（一人親方団体控）'!AG282=\"\",\"\",'保険料申告内訳名簿（一人親方団体控）'!AG282)","v":""},{"$f":"IF('保険料申告内訳名簿（一人親方団体控）'!AH282=\"\",\"\",'保険料申告内訳名簿（一人親方団体控）'!AH282)","v":""}]
[null,{"$f":"IF('保険料申告内訳名簿（一人親方団体控）'!B283=\"\",\"\",'保険料申告内訳名簿（一人親方団体控）'!B283)","v":""},{"$f":"IF('保険料申告内訳名簿（一人親方団体控）'!C283=\"\",\"\",'保険料申告内訳名簿（一人親方団体控）'!C283)","v":""},{"$f":"IF('保険料申告内訳名簿（一人親方団体控）'!D283=\"\",\"\",'保険料申告内訳名簿（一人親方団体控）'!D283)","v":""},{"$f":"IF('保険料申告内訳名簿（一人親方団体控）'!E283=\"\",\"\",'保険料申告内訳名簿（一人親方団体控）'!E283)","v":""},{"$f":"IF('保険料申告内訳名簿（一人親方団体控）'!F283=\"\",\"\",'保険料申告内訳名簿（一人親方団体控）'!F283)","v":""},{"$f":"IF('保険料申告内訳名簿（一人親方団体控）'!G283=\"\",\"\",'保険料申告内訳名簿（一人親方団体控）'!G283)","v":""},{"$f":"IF('保険料申告内訳名簿（一人親方団体控）'!H283=\"\",\"\",'保険料申告内訳名簿（一人親方団体控）'!H283)","v":""},{"$f":"IF('保険料申告内訳名簿（一人親方団体控）'!I283=\"\",\"\",'保険料申告内訳名簿（一人親方団体控）'!I283)","v":""},{"$f":"IF('保険料申告内訳名簿（一人親方団体控）'!J283=\"\",\"\",'保険料申告内訳名簿（一人親方団体控）'!J283)","v":""},{"$f":"IF('保険料申告内訳名簿（一人親方団体控）'!K283=\"\",\"\",'保険料申告内訳名簿（一人親方団体控）'!K283)","v":""},{"$f":"IF('保険料申告内訳名簿（一人親方団体控）'!L283=\"\",\"\",'保険料申告内訳名簿（一人親方団体控）'!L283)","v":""},{"$f":"IF('保険料申告内訳名簿（一人親方団体控）'!M283=\"\",\"\",'保険料申告内訳名簿（一人親方団体控）'!M283)","v":""},{"$f":"IF('保険料申告内訳名簿（一人親方団体控）'!N283=\"\",\"\",'保険料申告内訳名簿（一人親方団体控）'!N283)","v":""},{"$f":"IF('保険料申告内訳名簿（一人親方団体控）'!O283=\"\",\"\",'保険料申告内訳名簿（一人親方団体控）'!O283)","v":""},{"$f":"IF('保険料申告内訳名簿（一人親方団体控）'!P283=\"\",\"\",'保険料申告内訳名簿（一人親方団体控）'!P283)","v":""},{"$f":"IF('保険料申告内訳名簿（一人親方団体控）'!Q283=\"\",\"\",'保険料申告内訳名簿（一人親方団体控）'!Q283)","v":""},{"$f":"IF('保険料申告内訳名簿（一人親方団体控）'!R283=\"\",\"\",'保険料申告内訳名簿（一人親方団体控）'!R283)","v":""},{"$f":"IF('保険料申告内訳名簿（一人親方団体控）'!S283=\"\",\"\",'保険料申告内訳名簿（一人親方団体控）'!S283)","v":0},{"$f":"IF('保険料申告内訳名簿（一人親方団体控）'!T283=\"\",\"\",'保険料申告内訳名簿（一人親方団体控）'!T283)","v":""},{"$f":"IF('保険料申告内訳名簿（一人親方団体控）'!U283=\"\",\"\",'保険料申告内訳名簿（一人親方団体控）'!U283)","v":""},{"$f":"IF('保険料申告内訳名簿（一人親方団体控）'!V283=\"\",\"\",'保険料申告内訳名簿（一人親方団体控）'!V283)","v":""},{"$f":"IF('保険料申告内訳名簿（一人親方団体控）'!W283=\"\",\"\",'保険料申告内訳名簿（一人親方団体控）'!W283)","v":""},{"$f":"IF('保険料申告内訳名簿（一人親方団体控）'!X283=\"\",\"\",'保険料申告内訳名簿（一人親方団体控）'!X283)","v":""},{"$f":"IF('保険料申告内訳名簿（一人親方団体控）'!Y283=\"\",\"\",'保険料申告内訳名簿（一人親方団体控）'!Y283)","v":""},{"$f":"IF('保険料申告内訳名簿（一人親方団体控）'!Z283=\"\",\"\",'保険料申告内訳名簿（一人親方団体控）'!Z283)","v":""},{"$f":"IF('保険料申告内訳名簿（一人親方団体控）'!AA283=\"\",\"\",'保険料申告内訳名簿（一人親方団体控）'!AA283)","v":""},{"$f":"IF('保険料申告内訳名簿（一人親方団体控）'!AB283=\"\",\"\",'保険料申告内訳名簿（一人親方団体控）'!AB283)","v":""},{"$f":"IF('保険料申告内訳名簿（一人親方団体控）'!AC283=\"\",\"\",'保険料申告内訳名簿（一人親方団体控）'!AC283)","v":0},{"$f":"IF('保険料申告内訳名簿（一人親方団体控）'!AD283=\"\",\"\",'保険料申告内訳名簿（一人親方団体控）'!AD283)","v":""},{"$f":"IF('保険料申告内訳名簿（一人親方団体控）'!AE283=\"\",\"\",'保険料申告内訳名簿（一人親方団体控）'!AE283)","v":""},{"$f":"IF('保険料申告内訳名簿（一人親方団体控）'!AF283=\"\",\"\",'保険料申告内訳名簿（一人親方団体控）'!AF283)","v":""},{"$f":"IF('保険料申告内訳名簿（一人親方団体控）'!AG283=\"\",\"\",'保険料申告内訳名簿（一人親方団体控）'!AG283)","v":""},{"$f":"IF('保険料申告内訳名簿（一人親方団体控）'!AH283=\"\",\"\",'保険料申告内訳名簿（一人親方団体控）'!AH283)","v":""}]
[null,{"$f":"IF('保険料申告内訳名簿（一人親方団体控）'!B284=\"\",\"\",'保険料申告内訳名簿（一人親方団体控）'!B284)","v":""},{"$f":"IF('保険料申告内訳名簿（一人親方団体控）'!C284=\"\",\"\",'保険料申告内訳名簿（一人親方団体控）'!C284)","v":""},{"$f":"IF('保険料申告内訳名簿（一人親方団体控）'!D284=\"\",\"\",'保険料申告内訳名簿（一人親方団体控）'!D284)","v":""},{"$f":"IF('保険料申告内訳名簿（一人親方団体控）'!E284=\"\",\"\",'保険料申告内訳名簿（一人親方団体控）'!E284)","v":""},{"$f":"IF('保険料申告内訳名簿（一人親方団体控）'!F284=\"\",\"\",'保険料申告内訳名簿（一人親方団体控）'!F284)","v":""},{"$f":"IF('保険料申告内訳名簿（一人親方団体控）'!G284=\"\",\"\",'保険料申告内訳名簿（一人親方団体控）'!G284)","v":""},{"$f":"IF('保険料申告内訳名簿（一人親方団体控）'!H284=\"\",\"\",'保険料申告内訳名簿（一人親方団体控）'!H284)","v":""},{"$f":"IF('保険料申告内訳名簿（一人親方団体控）'!I284=\"\",\"\",'保険料申告内訳名簿（一人親方団体控）'!I284)","v":""},{"$f":"IF('保険料申告内訳名簿（一人親方団体控）'!J284=\"\",\"\",'保険料申告内訳名簿（一人親方団体控）'!J284)","v":""},{"$f":"IF('保険料申告内訳名簿（一人親方団体控）'!K284=\"\",\"\",'保険料申告内訳名簿（一人親方団体控）'!K284)","v":""},{"$f":"IF('保険料申告内訳名簿（一人親方団体控）'!L284=\"\",\"\",'保険料申告内訳名簿（一人親方団体控）'!L284)","v":""},{"$f":"IF('保険料申告内訳名簿（一人親方団体控）'!M284=\"\",\"\",'保険料申告内訳名簿（一人親方団体控）'!M284)","v":""},{"$f":"IF('保険料申告内訳名簿（一人親方団体控）'!N284=\"\",\"\",'保険料申告内訳名簿（一人親方団体控）'!N284)","v":""},{"$f":"IF('保険料申告内訳名簿（一人親方団体控）'!O284=\"\",\"\",'保険料申告内訳名簿（一人親方団体控）'!O284)","v":""},{"$f":"IF('保険料申告内訳名簿（一人親方団体控）'!P284=\"\",\"\",'保険料申告内訳名簿（一人親方団体控）'!P284)","v":""},{"$f":"IF('保険料申告内訳名簿（一人親方団体控）'!Q284=\"\",\"\",'保険料申告内訳名簿（一人親方団体控）'!Q284)","v":""},{"$f":"IF('保険料申告内訳名簿（一人親方団体控）'!R284=\"\",\"\",'保険料申告内訳名簿（一人親方団体控）'!R284)","v":""},{"$f":"IF('保険料申告内訳名簿（一人親方団体控）'!S284=\"\",\"\",'保険料申告内訳名簿（一人親方団体控）'!S284)","v":0},{"$f":"IF('保険料申告内訳名簿（一人親方団体控）'!T284=\"\",\"\",'保険料申告内訳名簿（一人親方団体控）'!T284)","v":""},{"$f":"IF('保険料申告内訳名簿（一人親方団体控）'!U284=\"\",\"\",'保険料申告内訳名簿（一人親方団体控）'!U284)","v":""},{"$f":"IF('保険料申告内訳名簿（一人親方団体控）'!V284=\"\",\"\",'保険料申告内訳名簿（一人親方団体控）'!V284)","v":""},{"$f":"IF('保険料申告内訳名簿（一人親方団体控）'!W284=\"\",\"\",'保険料申告内訳名簿（一人親方団体控）'!W284)","v":""},{"$f":"IF('保険料申告内訳名簿（一人親方団体控）'!X284=\"\",\"\",'保険料申告内訳名簿（一人親方団体控）'!X284)","v":""},{"$f":"IF('保険料申告内訳名簿（一人親方団体控）'!Y284=\"\",\"\",'保険料申告内訳名簿（一人親方団体控）'!Y284)","v":""},{"$f":"IF('保険料申告内訳名簿（一人親方団体控）'!Z284=\"\",\"\",'保険料申告内訳名簿（一人親方団体控）'!Z284)","v":""},{"$f":"IF('保険料申告内訳名簿（一人親方団体控）'!AA284=\"\",\"\",'保険料申告内訳名簿（一人親方団体控）'!AA284)","v":""},{"$f":"IF('保険料申告内訳名簿（一人親方団体控）'!AB284=\"\",\"\",'保険料申告内訳名簿（一人親方団体控）'!AB284)","v":""},{"$f":"IF('保険料申告内訳名簿（一人親方団体控）'!AC284=\"\",\"\",'保険料申告内訳名簿（一人親方団体控）'!AC284)","v":0},{"$f":"IF('保険料申告内訳名簿（一人親方団体控）'!AD284=\"\",\"\",'保険料申告内訳名簿（一人親方団体控）'!AD284)","v":""},{"$f":"IF('保険料申告内訳名簿（一人親方団体控）'!AE284=\"\",\"\",'保険料申告内訳名簿（一人親方団体控）'!AE284)","v":""},{"$f":"IF('保険料申告内訳名簿（一人親方団体控）'!AF284=\"\",\"\",'保険料申告内訳名簿（一人親方団体控）'!AF284)","v":""},{"$f":"IF('保険料申告内訳名簿（一人親方団体控）'!AG284=\"\",\"\",'保険料申告内訳名簿（一人親方団体控）'!AG284)","v":""},{"$f":"IF('保険料申告内訳名簿（一人親方団体控）'!AH284=\"\",\"\",'保険料申告内訳名簿（一人親方団体控）'!AH284)","v":""}]
[null,{"$f":"IF('保険料申告内訳名簿（一人親方団体控）'!B285=\"\",\"\",'保険料申告内訳名簿（一人親方団体控）'!B285)","v":""},{"$f":"IF('保険料申告内訳名簿（一人親方団体控）'!C285=\"\",\"\",'保険料申告内訳名簿（一人親方団体控）'!C285)","v":""},{"$f":"IF('保険料申告内訳名簿（一人親方団体控）'!D285=\"\",\"\",'保険料申告内訳名簿（一人親方団体控）'!D285)","v":""},{"$f":"IF('保険料申告内訳名簿（一人親方団体控）'!E285=\"\",\"\",'保険料申告内訳名簿（一人親方団体控）'!E285)","v":""},{"$f":"IF('保険料申告内訳名簿（一人親方団体控）'!F285=\"\",\"\",'保険料申告内訳名簿（一人親方団体控）'!F285)","v":""},{"$f":"IF('保険料申告内訳名簿（一人親方団体控）'!G285=\"\",\"\",'保険料申告内訳名簿（一人親方団体控）'!G285)","v":""},{"$f":"IF('保険料申告内訳名簿（一人親方団体控）'!H285=\"\",\"\",'保険料申告内訳名簿（一人親方団体控）'!H285)","v":""},{"$f":"IF('保険料申告内訳名簿（一人親方団体控）'!I285=\"\",\"\",'保険料申告内訳名簿（一人親方団体控）'!I285)","v":""},{"$f":"IF('保険料申告内訳名簿（一人親方団体控）'!J285=\"\",\"\",'保険料申告内訳名簿（一人親方団体控）'!J285)","v":""},{"$f":"IF('保険料申告内訳名簿（一人親方団体控）'!K285=\"\",\"\",'保険料申告内訳名簿（一人親方団体控）'!K285)","v":""},{"$f":"IF('保険料申告内訳名簿（一人親方団体控）'!L285=\"\",\"\",'保険料申告内訳名簿（一人親方団体控）'!L285)","v":""},{"$f":"IF('保険料申告内訳名簿（一人親方団体控）'!M285=\"\",\"\",'保険料申告内訳名簿（一人親方団体控）'!M285)","v":""},{"$f":"IF('保険料申告内訳名簿（一人親方団体控）'!N285=\"\",\"\",'保険料申告内訳名簿（一人親方団体控）'!N285)","v":""},{"$f":"IF('保険料申告内訳名簿（一人親方団体控）'!O285=\"\",\"\",'保険料申告内訳名簿（一人親方団体控）'!O285)","v":""},{"$f":"IF('保険料申告内訳名簿（一人親方団体控）'!P285=\"\",\"\",'保険料申告内訳名簿（一人親方団体控）'!P285)","v":""},{"$f":"IF('保険料申告内訳名簿（一人親方団体控）'!Q285=\"\",\"\",'保険料申告内訳名簿（一人親方団体控）'!Q285)","v":""},{"$f":"IF('保険料申告内訳名簿（一人親方団体控）'!R285=\"\",\"\",'保険料申告内訳名簿（一人親方団体控）'!R285)","v":""},{"$f":"IF('保険料申告内訳名簿（一人親方団体控）'!S285=\"\",\"\",'保険料申告内訳名簿（一人親方団体控）'!S285)","v":0},{"$f":"IF('保険料申告内訳名簿（一人親方団体控）'!T285=\"\",\"\",'保険料申告内訳名簿（一人親方団体控）'!T285)","v":""},{"$f":"IF('保険料申告内訳名簿（一人親方団体控）'!U285=\"\",\"\",'保険料申告内訳名簿（一人親方団体控）'!U285)","v":""},{"$f":"IF('保険料申告内訳名簿（一人親方団体控）'!V285=\"\",\"\",'保険料申告内訳名簿（一人親方団体控）'!V285)","v":""},{"$f":"IF('保険料申告内訳名簿（一人親方団体控）'!W285=\"\",\"\",'保険料申告内訳名簿（一人親方団体控）'!W285)","v":""},{"$f":"IF('保険料申告内訳名簿（一人親方団体控）'!X285=\"\",\"\",'保険料申告内訳名簿（一人親方団体控）'!X285)","v":""},{"$f":"IF('保険料申告内訳名簿（一人親方団体控）'!Y285=\"\",\"\",'保険料申告内訳名簿（一人親方団体控）'!Y285)","v":""},{"$f":"IF('保険料申告内訳名簿（一人親方団体控）'!Z285=\"\",\"\",'保険料申告内訳名簿（一人親方団体控）'!Z285)","v":""},{"$f":"IF('保険料申告内訳名簿（一人親方団体控）'!AA285=\"\",\"\",'保険料申告内訳名簿（一人親方団体控）'!AA285)","v":""},{"$f":"IF('保険料申告内訳名簿（一人親方団体控）'!AB285=\"\",\"\",'保険料申告内訳名簿（一人親方団体控）'!AB285)","v":""},{"$f":"IF('保険料申告内訳名簿（一人親方団体控）'!AC285=\"\",\"\",'保険料申告内訳名簿（一人親方団体控）'!AC285)","v":0},{"$f":"IF('保険料申告内訳名簿（一人親方団体控）'!AD285=\"\",\"\",'保険料申告内訳名簿（一人親方団体控）'!AD285)","v":""},{"$f":"IF('保険料申告内訳名簿（一人親方団体控）'!AE285=\"\",\"\",'保険料申告内訳名簿（一人親方団体控）'!AE285)","v":""},{"$f":"IF('保険料申告内訳名簿（一人親方団体控）'!AF285=\"\",\"\",'保険料申告内訳名簿（一人親方団体控）'!AF285)","v":""},{"$f":"IF('保険料申告内訳名簿（一人親方団体控）'!AG285=\"\",\"\",'保険料申告内訳名簿（一人親方団体控）'!AG285)","v":""},{"$f":"IF('保険料申告内訳名簿（一人親方団体控）'!AH285=\"\",\"\",'保険料申告内訳名簿（一人親方団体控）'!AH285)","v":""}]
[null,{"$f":"IF('保険料申告内訳名簿（一人親方団体控）'!B286=\"\",\"\",'保険料申告内訳名簿（一人親方団体控）'!B286)","v":""},{"$f":"IF('保険料申告内訳名簿（一人親方団体控）'!C286=\"\",\"\",'保険料申告内訳名簿（一人親方団体控）'!C286)","v":""},{"$f":"IF('保険料申告内訳名簿（一人親方団体控）'!D286=\"\",\"\",'保険料申告内訳名簿（一人親方団体控）'!D286)","v":""},{"$f":"IF('保険料申告内訳名簿（一人親方団体控）'!E286=\"\",\"\",'保険料申告内訳名簿（一人親方団体控）'!E286)","v":""},{"$f":"IF('保険料申告内訳名簿（一人親方団体控）'!F286=\"\",\"\",'保険料申告内訳名簿（一人親方団体控）'!F286)","v":""},{"$f":"IF('保険料申告内訳名簿（一人親方団体控）'!G286=\"\",\"\",'保険料申告内訳名簿（一人親方団体控）'!G286)","v":""},{"$f":"IF('保険料申告内訳名簿（一人親方団体控）'!H286=\"\",\"\",'保険料申告内訳名簿（一人親方団体控）'!H286)","v":""},{"$f":"IF('保険料申告内訳名簿（一人親方団体控）'!I286=\"\",\"\",'保険料申告内訳名簿（一人親方団体控）'!I286)","v":""},{"$f":"IF('保険料申告内訳名簿（一人親方団体控）'!J286=\"\",\"\",'保険料申告内訳名簿（一人親方団体控）'!J286)","v":""},{"$f":"IF('保険料申告内訳名簿（一人親方団体控）'!K286=\"\",\"\",'保険料申告内訳名簿（一人親方団体控）'!K286)","v":""},{"$f":"IF('保険料申告内訳名簿（一人親方団体控）'!L286=\"\",\"\",'保険料申告内訳名簿（一人親方団体控）'!L286)","v":""},{"$f":"IF('保険料申告内訳名簿（一人親方団体控）'!M286=\"\",\"\",'保険料申告内訳名簿（一人親方団体控）'!M286)","v":""},{"$f":"IF('保険料申告内訳名簿（一人親方団体控）'!N286=\"\",\"\",'保険料申告内訳名簿（一人親方団体控）'!N286)","v":""},{"$f":"IF('保険料申告内訳名簿（一人親方団体控）'!O286=\"\",\"\",'保険料申告内訳名簿（一人親方団体控）'!O286)","v":""},{"$f":"IF('保険料申告内訳名簿（一人親方団体控）'!P286=\"\",\"\",'保険料申告内訳名簿（一人親方団体控）'!P286)","v":""},{"$f":"IF('保険料申告内訳名簿（一人親方団体控）'!Q286=\"\",\"\",'保険料申告内訳名簿（一人親方団体控）'!Q286)","v":""},{"$f":"IF('保険料申告内訳名簿（一人親方団体控）'!R286=\"\",\"\",'保険料申告内訳名簿（一人親方団体控）'!R286)","v":""},{"$f":"IF('保険料申告内訳名簿（一人親方団体控）'!S286=\"\",\"\",'保険料申告内訳名簿（一人親方団体控）'!S286)","v":0},{"$f":"IF('保険料申告内訳名簿（一人親方団体控）'!T286=\"\",\"\",'保険料申告内訳名簿（一人親方団体控）'!T286)","v":""},{"$f":"IF('保険料申告内訳名簿（一人親方団体控）'!U286=\"\",\"\",'保険料申告内訳名簿（一人親方団体控）'!U286)","v":""},{"$f":"IF('保険料申告内訳名簿（一人親方団体控）'!V286=\"\",\"\",'保険料申告内訳名簿（一人親方団体控）'!V286)","v":""},{"$f":"IF('保険料申告内訳名簿（一人親方団体控）'!W286=\"\",\"\",'保険料申告内訳名簿（一人親方団体控）'!W286)","v":""},{"$f":"IF('保険料申告内訳名簿（一人親方団体控）'!X286=\"\",\"\",'保険料申告内訳名簿（一人親方団体控）'!X286)","v":""},{"$f":"IF('保険料申告内訳名簿（一人親方団体控）'!Y286=\"\",\"\",'保険料申告内訳名簿（一人親方団体控）'!Y286)","v":""},{"$f":"IF('保険料申告内訳名簿（一人親方団体控）'!Z286=\"\",\"\",'保険料申告内訳名簿（一人親方団体控）'!Z286)","v":""},{"$f":"IF('保険料申告内訳名簿（一人親方団体控）'!AA286=\"\",\"\",'保険料申告内訳名簿（一人親方団体控）'!AA286)","v":""},{"$f":"IF('保険料申告内訳名簿（一人親方団体控）'!AB286=\"\",\"\",'保険料申告内訳名簿（一人親方団体控）'!AB286)","v":""},{"$f":"IF('保険料申告内訳名簿（一人親方団体控）'!AC286=\"\",\"\",'保険料申告内訳名簿（一人親方団体控）'!AC286)","v":0},{"$f":"IF('保険料申告内訳名簿（一人親方団体控）'!AD286=\"\",\"\",'保険料申告内訳名簿（一人親方団体控）'!AD286)","v":""},{"$f":"IF('保険料申告内訳名簿（一人親方団体控）'!AE286=\"\",\"\",'保険料申告内訳名簿（一人親方団体控）'!AE286)","v":""},{"$f":"IF('保険料申告内訳名簿（一人親方団体控）'!AF286=\"\",\"\",'保険料申告内訳名簿（一人親方団体控）'!AF286)","v":""},{"$f":"IF('保険料申告内訳名簿（一人親方団体控）'!AG286=\"\",\"\",'保険料申告内訳名簿（一人親方団体控）'!AG286)","v":""},{"$f":"IF('保険料申告内訳名簿（一人親方団体控）'!AH286=\"\",\"\",'保険料申告内訳名簿（一人親方団体控）'!AH286)","v":""}]
[null,{"$f":"IF('保険料申告内訳名簿（一人親方団体控）'!B287=\"\",\"\",'保険料申告内訳名簿（一人親方団体控）'!B287)","v":""},{"$f":"IF('保険料申告内訳名簿（一人親方団体控）'!C287=\"\",\"\",'保険料申告内訳名簿（一人親方団体控）'!C287)","v":""},{"$f":"IF('保険料申告内訳名簿（一人親方団体控）'!D287=\"\",\"\",'保険料申告内訳名簿（一人親方団体控）'!D287)","v":""},{"$f":"IF('保険料申告内訳名簿（一人親方団体控）'!E287=\"\",\"\",'保険料申告内訳名簿（一人親方団体控）'!E287)","v":""},{"$f":"IF('保険料申告内訳名簿（一人親方団体控）'!F287=\"\",\"\",'保険料申告内訳名簿（一人親方団体控）'!F287)","v":""},{"$f":"IF('保険料申告内訳名簿（一人親方団体控）'!G287=\"\",\"\",'保険料申告内訳名簿（一人親方団体控）'!G287)","v":""},{"$f":"IF('保険料申告内訳名簿（一人親方団体控）'!H287=\"\",\"\",'保険料申告内訳名簿（一人親方団体控）'!H287)","v":""},{"$f":"IF('保険料申告内訳名簿（一人親方団体控）'!I287=\"\",\"\",'保険料申告内訳名簿（一人親方団体控）'!I287)","v":""},{"$f":"IF('保険料申告内訳名簿（一人親方団体控）'!J287=\"\",\"\",'保険料申告内訳名簿（一人親方団体控）'!J287)","v":""},{"$f":"IF('保険料申告内訳名簿（一人親方団体控）'!K287=\"\",\"\",'保険料申告内訳名簿（一人親方団体控）'!K287)","v":""},{"$f":"IF('保険料申告内訳名簿（一人親方団体控）'!L287=\"\",\"\",'保険料申告内訳名簿（一人親方団体控）'!L287)","v":""},{"$f":"IF('保険料申告内訳名簿（一人親方団体控）'!M287=\"\",\"\",'保険料申告内訳名簿（一人親方団体控）'!M287)","v":""},{"$f":"IF('保険料申告内訳名簿（一人親方団体控）'!N287=\"\",\"\",'保険料申告内訳名簿（一人親方団体控）'!N287)","v":""},{"$f":"IF('保険料申告内訳名簿（一人親方団体控）'!O287=\"\",\"\",'保険料申告内訳名簿（一人親方団体控）'!O287)","v":""},{"$f":"IF('保険料申告内訳名簿（一人親方団体控）'!P287=\"\",\"\",'保険料申告内訳名簿（一人親方団体控）'!P287)","v":""},{"$f":"IF('保険料申告内訳名簿（一人親方団体控）'!Q287=\"\",\"\",'保険料申告内訳名簿（一人親方団体控）'!Q287)","v":""},{"$f":"IF('保険料申告内訳名簿（一人親方団体控）'!R287=\"\",\"\",'保険料申告内訳名簿（一人親方団体控）'!R287)","v":""},{"$f":"IF('保険料申告内訳名簿（一人親方団体控）'!S287=\"\",\"\",'保険料申告内訳名簿（一人親方団体控）'!S287)","v":0},{"$f":"IF('保険料申告内訳名簿（一人親方団体控）'!T287=\"\",\"\",'保険料申告内訳名簿（一人親方団体控）'!T287)","v":""},{"$f":"IF('保険料申告内訳名簿（一人親方団体控）'!U287=\"\",\"\",'保険料申告内訳名簿（一人親方団体控）'!U287)","v":""},{"$f":"IF('保険料申告内訳名簿（一人親方団体控）'!V287=\"\",\"\",'保険料申告内訳名簿（一人親方団体控）'!V287)","v":""},{"$f":"IF('保険料申告内訳名簿（一人親方団体控）'!W287=\"\",\"\",'保険料申告内訳名簿（一人親方団体控）'!W287)","v":""},{"$f":"IF('保険料申告内訳名簿（一人親方団体控）'!X287=\"\",\"\",'保険料申告内訳名簿（一人親方団体控）'!X287)","v":""},{"$f":"IF('保険料申告内訳名簿（一人親方団体控）'!Y287=\"\",\"\",'保険料申告内訳名簿（一人親方団体控）'!Y287)","v":""},{"$f":"IF('保険料申告内訳名簿（一人親方団体控）'!Z287=\"\",\"\",'保険料申告内訳名簿（一人親方団体控）'!Z287)","v":""},{"$f":"IF('保険料申告内訳名簿（一人親方団体控）'!AA287=\"\",\"\",'保険料申告内訳名簿（一人親方団体控）'!AA287)","v":""},{"$f":"IF('保険料申告内訳名簿（一人親方団体控）'!AB287=\"\",\"\",'保険料申告内訳名簿（一人親方団体控）'!AB287)","v":""},{"$f":"IF('保険料申告内訳名簿（一人親方団体控）'!AC287=\"\",\"\",'保険料申告内訳名簿（一人親方団体控）'!AC287)","v":0},{"$f":"IF('保険料申告内訳名簿（一人親方団体控）'!AD287=\"\",\"\",'保険料申告内訳名簿（一人親方団体控）'!AD287)","v":""},{"$f":"IF('保険料申告内訳名簿（一人親方団体控）'!AE287=\"\",\"\",'保険料申告内訳名簿（一人親方団体控）'!AE287)","v":""},{"$f":"IF('保険料申告内訳名簿（一人親方団体控）'!AF287=\"\",\"\",'保険料申告内訳名簿（一人親方団体控）'!AF287)","v":""},{"$f":"IF('保険料申告内訳名簿（一人親方団体控）'!AG287=\"\",\"\",'保険料申告内訳名簿（一人親方団体控）'!AG287)","v":""},{"$f":"IF('保険料申告内訳名簿（一人親方団体控）'!AH287=\"\",\"\",'保険料申告内訳名簿（一人親方団体控）'!AH287)","v":""}]
[null,{"$f":"IF('保険料申告内訳名簿（一人親方団体控）'!B288=\"\",\"\",'保険料申告内訳名簿（一人親方団体控）'!B288)","v":""},{"$f":"IF('保険料申告内訳名簿（一人親方団体控）'!C288=\"\",\"\",'保険料申告内訳名簿（一人親方団体控）'!C288)","v":""},{"$f":"IF('保険料申告内訳名簿（一人親方団体控）'!D288=\"\",\"\",'保険料申告内訳名簿（一人親方団体控）'!D288)","v":""},{"$f":"IF('保険料申告内訳名簿（一人親方団体控）'!E288=\"\",\"\",'保険料申告内訳名簿（一人親方団体控）'!E288)","v":""},{"$f":"IF('保険料申告内訳名簿（一人親方団体控）'!F288=\"\",\"\",'保険料申告内訳名簿（一人親方団体控）'!F288)","v":""},{"$f":"IF('保険料申告内訳名簿（一人親方団体控）'!G288=\"\",\"\",'保険料申告内訳名簿（一人親方団体控）'!G288)","v":""},{"$f":"IF('保険料申告内訳名簿（一人親方団体控）'!H288=\"\",\"\",'保険料申告内訳名簿（一人親方団体控）'!H288)","v":""},{"$f":"IF('保険料申告内訳名簿（一人親方団体控）'!I288=\"\",\"\",'保険料申告内訳名簿（一人親方団体控）'!I288)","v":""},{"$f":"IF('保険料申告内訳名簿（一人親方団体控）'!J288=\"\",\"\",'保険料申告内訳名簿（一人親方団体控）'!J288)","v":""},{"$f":"IF('保険料申告内訳名簿（一人親方団体控）'!K288=\"\",\"\",'保険料申告内訳名簿（一人親方団体控）'!K288)","v":""},{"$f":"IF('保険料申告内訳名簿（一人親方団体控）'!L288=\"\",\"\",'保険料申告内訳名簿（一人親方団体控）'!L288)","v":""},{"$f":"IF('保険料申告内訳名簿（一人親方団体控）'!M288=\"\",\"\",'保険料申告内訳名簿（一人親方団体控）'!M288)","v":""},{"$f":"IF('保険料申告内訳名簿（一人親方団体控）'!N288=\"\",\"\",'保険料申告内訳名簿（一人親方団体控）'!N288)","v":""},{"$f":"IF('保険料申告内訳名簿（一人親方団体控）'!O288=\"\",\"\",'保険料申告内訳名簿（一人親方団体控）'!O288)","v":""},{"$f":"IF('保険料申告内訳名簿（一人親方団体控）'!P288=\"\",\"\",'保険料申告内訳名簿（一人親方団体控）'!P288)","v":""},{"$f":"IF('保険料申告内訳名簿（一人親方団体控）'!Q288=\"\",\"\",'保険料申告内訳名簿（一人親方団体控）'!Q288)","v":""},{"$f":"IF('保険料申告内訳名簿（一人親方団体控）'!R288=\"\",\"\",'保険料申告内訳名簿（一人親方団体控）'!R288)","v":""},{"$f":"IF('保険料申告内訳名簿（一人親方団体控）'!S288=\"\",\"\",'保険料申告内訳名簿（一人親方団体控）'!S288)","v":0},{"$f":"IF('保険料申告内訳名簿（一人親方団体控）'!T288=\"\",\"\",'保険料申告内訳名簿（一人親方団体控）'!T288)","v":""},{"$f":"IF('保険料申告内訳名簿（一人親方団体控）'!U288=\"\",\"\",'保険料申告内訳名簿（一人親方団体控）'!U288)","v":""},{"$f":"IF('保険料申告内訳名簿（一人親方団体控）'!V288=\"\",\"\",'保険料申告内訳名簿（一人親方団体控）'!V288)","v":""},{"$f":"IF('保険料申告内訳名簿（一人親方団体控）'!W288=\"\",\"\",'保険料申告内訳名簿（一人親方団体控）'!W288)","v":""},{"$f":"IF('保険料申告内訳名簿（一人親方団体控）'!X288=\"\",\"\",'保険料申告内訳名簿（一人親方団体控）'!X288)","v":""},{"$f":"IF('保険料申告内訳名簿（一人親方団体控）'!Y288=\"\",\"\",'保険料申告内訳名簿（一人親方団体控）'!Y288)","v":""},{"$f":"IF('保険料申告内訳名簿（一人親方団体控）'!Z288=\"\",\"\",'保険料申告内訳名簿（一人親方団体控）'!Z288)","v":""},{"$f":"IF('保険料申告内訳名簿（一人親方団体控）'!AA288=\"\",\"\",'保険料申告内訳名簿（一人親方団体控）'!AA288)","v":""},{"$f":"IF('保険料申告内訳名簿（一人親方団体控）'!AB288=\"\",\"\",'保険料申告内訳名簿（一人親方団体控）'!AB288)","v":""},{"$f":"IF('保険料申告内訳名簿（一人親方団体控）'!AC288=\"\",\"\",'保険料申告内訳名簿（一人親方団体控）'!AC288)","v":0},{"$f":"IF('保険料申告内訳名簿（一人親方団体控）'!AD288=\"\",\"\",'保険料申告内訳名簿（一人親方団体控）'!AD288)","v":""},{"$f":"IF('保険料申告内訳名簿（一人親方団体控）'!AE288=\"\",\"\",'保険料申告内訳名簿（一人親方団体控）'!AE288)","v":""},{"$f":"IF('保険料申告内訳名簿（一人親方団体控）'!AF288=\"\",\"\",'保険料申告内訳名簿（一人親方団体控）'!AF288)","v":""},{"$f":"IF('保険料申告内訳名簿（一人親方団体控）'!AG288=\"\",\"\",'保険料申告内訳名簿（一人親方団体控）'!AG288)","v":""},{"$f":"IF('保険料申告内訳名簿（一人親方団体控）'!AH288=\"\",\"\",'保険料申告内訳名簿（一人親方団体控）'!AH288)","v":""}]
[null,{"$f":"IF('保険料申告内訳名簿（一人親方団体控）'!B289=\"\",\"\",'保険料申告内訳名簿（一人親方団体控）'!B289)","v":""},{"$f":"IF('保険料申告内訳名簿（一人親方団体控）'!C289=\"\",\"\",'保険料申告内訳名簿（一人親方団体控）'!C289)","v":""},{"$f":"IF('保険料申告内訳名簿（一人親方団体控）'!D289=\"\",\"\",'保険料申告内訳名簿（一人親方団体控）'!D289)","v":""},{"$f":"IF('保険料申告内訳名簿（一人親方団体控）'!E289=\"\",\"\",'保険料申告内訳名簿（一人親方団体控）'!E289)","v":""},{"$f":"IF('保険料申告内訳名簿（一人親方団体控）'!F289=\"\",\"\",'保険料申告内訳名簿（一人親方団体控）'!F289)","v":""},{"$f":"IF('保険料申告内訳名簿（一人親方団体控）'!G289=\"\",\"\",'保険料申告内訳名簿（一人親方団体控）'!G289)","v":""},{"$f":"IF('保険料申告内訳名簿（一人親方団体控）'!H289=\"\",\"\",'保険料申告内訳名簿（一人親方団体控）'!H289)","v":""},{"$f":"IF('保険料申告内訳名簿（一人親方団体控）'!I289=\"\",\"\",'保険料申告内訳名簿（一人親方団体控）'!I289)","v":""},{"$f":"IF('保険料申告内訳名簿（一人親方団体控）'!J289=\"\",\"\",'保険料申告内訳名簿（一人親方団体控）'!J289)","v":""},{"$f":"IF('保険料申告内訳名簿（一人親方団体控）'!K289=\"\",\"\",'保険料申告内訳名簿（一人親方団体控）'!K289)","v":""},{"$f":"IF('保険料申告内訳名簿（一人親方団体控）'!L289=\"\",\"\",'保険料申告内訳名簿（一人親方団体控）'!L289)","v":""},{"$f":"IF('保険料申告内訳名簿（一人親方団体控）'!M289=\"\",\"\",'保険料申告内訳名簿（一人親方団体控）'!M289)","v":""},{"$f":"IF('保険料申告内訳名簿（一人親方団体控）'!N289=\"\",\"\",'保険料申告内訳名簿（一人親方団体控）'!N289)","v":""},{"$f":"IF('保険料申告内訳名簿（一人親方団体控）'!O289=\"\",\"\",'保険料申告内訳名簿（一人親方団体控）'!O289)","v":""},{"$f":"IF('保険料申告内訳名簿（一人親方団体控）'!P289=\"\",\"\",'保険料申告内訳名簿（一人親方団体控）'!P289)","v":""},{"$f":"IF('保険料申告内訳名簿（一人親方団体控）'!Q289=\"\",\"\",'保険料申告内訳名簿（一人親方団体控）'!Q289)","v":""},{"$f":"IF('保険料申告内訳名簿（一人親方団体控）'!R289=\"\",\"\",'保険料申告内訳名簿（一人親方団体控）'!R289)","v":""},{"$f":"IF('保険料申告内訳名簿（一人親方団体控）'!S289=\"\",\"\",'保険料申告内訳名簿（一人親方団体控）'!S289)","v":0},{"$f":"IF('保険料申告内訳名簿（一人親方団体控）'!T289=\"\",\"\",'保険料申告内訳名簿（一人親方団体控）'!T289)","v":""},{"$f":"IF('保険料申告内訳名簿（一人親方団体控）'!U289=\"\",\"\",'保険料申告内訳名簿（一人親方団体控）'!U289)","v":""},{"$f":"IF('保険料申告内訳名簿（一人親方団体控）'!V289=\"\",\"\",'保険料申告内訳名簿（一人親方団体控）'!V289)","v":""},{"$f":"IF('保険料申告内訳名簿（一人親方団体控）'!W289=\"\",\"\",'保険料申告内訳名簿（一人親方団体控）'!W289)","v":""},{"$f":"IF('保険料申告内訳名簿（一人親方団体控）'!X289=\"\",\"\",'保険料申告内訳名簿（一人親方団体控）'!X289)","v":""},{"$f":"IF('保険料申告内訳名簿（一人親方団体控）'!Y289=\"\",\"\",'保険料申告内訳名簿（一人親方団体控）'!Y289)","v":""},{"$f":"IF('保険料申告内訳名簿（一人親方団体控）'!Z289=\"\",\"\",'保険料申告内訳名簿（一人親方団体控）'!Z289)","v":""},{"$f":"IF('保険料申告内訳名簿（一人親方団体控）'!AA289=\"\",\"\",'保険料申告内訳名簿（一人親方団体控）'!AA289)","v":""},{"$f":"IF('保険料申告内訳名簿（一人親方団体控）'!AB289=\"\",\"\",'保険料申告内訳名簿（一人親方団体控）'!AB289)","v":""},{"$f":"IF('保険料申告内訳名簿（一人親方団体控）'!AC289=\"\",\"\",'保険料申告内訳名簿（一人親方団体控）'!AC289)","v":0},{"$f":"IF('保険料申告内訳名簿（一人親方団体控）'!AD289=\"\",\"\",'保険料申告内訳名簿（一人親方団体控）'!AD289)","v":""},{"$f":"IF('保険料申告内訳名簿（一人親方団体控）'!AE289=\"\",\"\",'保険料申告内訳名簿（一人親方団体控）'!AE289)","v":""},{"$f":"IF('保険料申告内訳名簿（一人親方団体控）'!AF289=\"\",\"\",'保険料申告内訳名簿（一人親方団体控）'!AF289)","v":""},{"$f":"IF('保険料申告内訳名簿（一人親方団体控）'!AG289=\"\",\"\",'保険料申告内訳名簿（一人親方団体控）'!AG289)","v":""},{"$f":"IF('保険料申告内訳名簿（一人親方団体控）'!AH289=\"\",\"\",'保険料申告内訳名簿（一人親方団体控）'!AH289)","v":""}]
[null,null,null,null,null,null,null,null,null,null,null,null,null,null,null,null,null,null,{"$f":"IF('保険料申告内訳名簿（一人親方団体控）'!S290=\"\",\"\",'保険料申告内訳名簿（一人親方団体控）'!S290)","v":0},{"$f":"IF('保険料申告内訳名簿（一人親方団体控）'!T290=\"\",\"\",'保険料申告内訳名簿（一人親方団体控）'!T290)","v":""},{"$f":"IF('保険料申告内訳名簿（一人親方団体控）'!U290=\"\",\"\",'保険料申告内訳名簿（一人親方団体控）'!U290)","v":""},{"$f":"IF('保険料申告内訳名簿（一人親方団体控）'!V290=\"\",\"\",'保険料申告内訳名簿（一人親方団体控）'!V290)","v":""},{"$f":"IF('保険料申告内訳名簿（一人親方団体控）'!W290=\"\",\"\",'保険料申告内訳名簿（一人親方団体控）'!W290)","v":""},{"$f":"IF('保険料申告内訳名簿（一人親方団体控）'!X290=\"\",\"\",'保険料申告内訳名簿（一人親方団体控）'!X290)","v":""},null,null,null,null,{"$f":"IF('保険料申告内訳名簿（一人親方団体控）'!AC290=\"\",\"\",'保険料申告内訳名簿（一人親方団体控）'!AC290)","v":0},{"$f":"IF('保険料申告内訳名簿（一人親方団体控）'!AD290=\"\",\"\",'保険料申告内訳名簿（一人親方団体控）'!AD290)","v":""},{"$f":"IF('保険料申告内訳名簿（一人親方団体控）'!AE290=\"\",\"\",'保険料申告内訳名簿（一人親方団体控）'!AE290)","v":""},{"$f":"IF('保険料申告内訳名簿（一人親方団体控）'!AF290=\"\",\"\",'保険料申告内訳名簿（一人親方団体控）'!AF290)","v":""},{"$f":"IF('保険料申告内訳名簿（一人親方団体控）'!AG290=\"\",\"\",'保険料申告内訳名簿（一人親方団体控）'!AG290)","v":""},{"$f":"IF('保険料申告内訳名簿（一人親方団体控）'!AH290=\"\",\"\",'保険料申告内訳名簿（一人親方団体控）'!AH290)","v":""}]
[]
[null,"（注）"]
[null,null,"１）　④欄は月割の対象となる方のみ記入して下さい。"]
[null,null,"２）　月割の対象となる場合の⑤保険料算定基礎額の算定方法"]
[null,null,"２）　月割の対象となる場合の③（給付基礎日額×365÷12）（円未満を切り上げてから）×加入月数"]
[]
[]
[null,"【島根局版】",null,null,null,null,null,null,null,null,null,null,null,null,null,null,null,null,null,null,null,null,null,null,null,null,"局用"]
[null,"第２種特別加入保険料申告内訳名簿"]
[null,"（一人親方等）"]
[null,null,null,null,null,null,null,null,null,null,null,null,null,null,null,null,null,null,null,null,null,null,null,null,"（",{"$f":"IF('保険料申告内訳名簿（一人親方団体控）'!Z301=\"\",\"\",'保険料申告内訳名簿（一人親方団体控）'!Z301)","v":0},{"$f":"IF('保険料申告内訳名簿（一人親方団体控）'!AA301=\"\",\"\",'保険料申告内訳名簿（一人親方団体控）'!AA301)","v":""},"枚のうち",null,{"$f":"IF('保険料申告内訳名簿（一人親方団体控）'!AD301=\"\",\"\",'保険料申告内訳名簿（一人親方団体控）'!AD301)","v":10},{"$f":"IF('保険料申告内訳名簿（一人親方団体控）'!AE301=\"\",\"\",'保険料申告内訳名簿（一人親方団体控）'!AE301)","v":""},"枚目",null,"）"]
[]
[null,"労働保険\n番　　　号",null,null,null,null,"府県",null,"所掌","管轄",null,"基幹番号",null,null,null,null,null,"枝番号",null,null,"事業場の\n所在地",null,null,{"$f":"IF('保険料申告内訳名簿（一人親方団体控）'!X303=\"\",\"\",'保険料申告内訳名簿（一人親方団体控）'!X303)","v":""},{"$f":"IF('保険料申告内訳名簿（一人親方団体控）'!Y303=\"\",\"\",'保険料申告内訳名簿（一人親方団体控）'!Y303)","v":""},{"$f":"IF('保険料申告内訳名簿（一人親方団体控）'!Z303=\"\",\"\",'保険料申告内訳名簿（一人親方団体控）'!Z303)","v":""},{"$f":"IF('保険料申告内訳名簿（一人親方団体控）'!AA303=\"\",\"\",'保険料申告内訳名簿（一人親方団体控）'!AA303)","v":""},{"$f":"IF('保険料申告内訳名簿（一人親方団体控）'!AB303=\"\",\"\",'保険料申告内訳名簿（一人親方団体控）'!AB303)","v":""},{"$f":"IF('保険料申告内訳名簿（一人親方団体控）'!AC303=\"\",\"\",'保険料申告内訳名簿（一人親方団体控）'!AC303)","v":""},{"$f":"IF('保険料申告内訳名簿（一人親方団体控）'!AD303=\"\",\"\",'保険料申告内訳名簿（一人親方団体控）'!AD303)","v":""},{"$f":"IF('保険料申告内訳名簿（一人親方団体控）'!AE303=\"\",\"\",'保険料申告内訳名簿（一人親方団体控）'!AE303)","v":""},{"$f":"IF('保険料申告内訳名簿（一人親方団体控）'!AF303=\"\",\"\",'保険料申告内訳名簿（一人親方団体控）'!AF303)","v":""},{"$f":"IF('保険料申告内訳名簿（一人親方団体控）'!AG303=\"\",\"\",'保険料申告内訳名簿（一人親方団体控）'!AG303)","v":""},{"$f":"IF('保険料申告内訳名簿（一人親方団体控）'!AH303=\"\",\"\",'保険料申告内訳名簿（一人親方団体控）'!AH303)","v":""}]
[null,null,null,null,null,null,"3","2",{"$f":"IF('保険料申告内訳名簿（一人親方団体控）'!I304=\"\",\"\",'保険料申告内訳名簿（一人親方団体控）'!I304)","v":""},{"$f":"IF('保険料申告内訳名簿（一人親方団体控）'!J304=\"\",\"\",'保険料申告内訳名簿（一人親方団体控）'!J304)","v":""},{"$f":"IF('保険料申告内訳名簿（一人親方団体控）'!K304=\"\",\"\",'保険料申告内訳名簿（一人親方団体控）'!K304)","v":""},{"$f":"IF('保険料申告内訳名簿（一人親方団体控）'!L304=\"\",\"\",'保険料申告内訳名簿（一人親方団体控）'!L304)","v":""},{"$f":"IF('保険料申告内訳名簿（一人親方団体控）'!M304=\"\",\"\",'保険料申告内訳名簿（一人親方団体控）'!M304)","v":""},{"$f":"IF('保険料申告内訳名簿（一人親方団体控）'!N304=\"\",\"\",'保険料申告内訳名簿（一人親方団体控）'!N304)","v":""},{"$f":"IF('保険料申告内訳名簿（一人親方団体控）'!O304=\"\",\"\",'保険料申告内訳名簿（一人親方団体控）'!O304)","v":""},{"$f":"IF('保険料申告内訳名簿（一人親方団体控）'!P304=\"\",\"\",'保険料申告内訳名簿（一人親方団体控）'!P304)","v":""},{"$f":"IF('保険料申告内訳名簿（一人親方団体控）'!Q304=\"\",\"\",'保険料申告内訳名簿（一人親方団体控）'!Q304)","v":""},{"$f":"IF('保険料申告内訳名簿（一人親方団体控）'!R304=\"\",\"\",'保険料申告内訳名簿（一人親方団体控）'!R304)","v":""},{"$f":"IF('保険料申告内訳名簿（一人親方団体控）'!S304=\"\",\"\",'保険料申告内訳名簿（一人親方団体控）'!S304)","v":""},{"$f":"IF('保険料申告内訳名簿（一人親方団体控）'!T304=\"\",\"\",'保険料申告内訳名簿（一人親方団体控）'!T304)","v":""},"事業場の\n名称",null,null,{"$f":"IF('保険料申告内訳名簿（一人親方団体控）'!X304=\"\",\"\",'保険料申告内訳名簿（一人親方団体控）'!X304)","v":""},{"$f":"IF('保険料申告内訳名簿（一人親方団体控）'!Y304=\"\",\"\",'保険料申告内訳名簿（一人親方団体控）'!Y304)","v":""},{"$f":"IF('保険料申告内訳名簿（一人親方団体控）'!Z304=\"\",\"\",'保険料申告内訳名簿（一人親方団体控）'!Z304)","v":""},{"$f":"IF('保険料申告内訳名簿（一人親方団体控）'!AA304=\"\",\"\",'保険料申告内訳名簿（一人親方団体控）'!AA304)","v":""},{"$f":"IF('保険料申告内訳名簿（一人親方団体控）'!AB304=\"\",\"\",'保険料申告内訳名簿（一人親方団体控）'!AB304)","v":""},{"$f":"IF('保険料申告内訳名簿（一人親方団体控）'!AC304=\"\",\"\",'保険料申告内訳名簿（一人親方団体控）'!AC304)","v":""},{"$f":"IF('保険料申告内訳名簿（一人親方団体控）'!AD304=\"\",\"\",'保険料申告内訳名簿（一人親方団体控）'!AD304)","v":""},{"$f":"IF('保険料申告内訳名簿（一人親方団体控）'!AE304=\"\",\"\",'保険料申告内訳名簿（一人親方団体控）'!AE304)","v":""},{"$f":"IF('保険料申告内訳名簿（一人親方団体控）'!AF304=\"\",\"\",'保険料申告内訳名簿（一人親方団体控）'!AF304)","v":""},{"$f":"IF('保険料申告内訳名簿（一人親方団体控）'!AG304=\"\",\"\",'保険料申告内訳名簿（一人親方団体控）'!AG304)","v":""},{"$f":"IF('保険料申告内訳名簿（一人親方団体控）'!AH304=\"\",\"\",'保険料申告内訳名簿（一人親方団体控）'!AH304)","v":""}]
[null,"①\n整理\n番号",null,"②\n氏名",null,null,null,null,null,null,null,null,null,null,"令 和",null,null,{"$f":"IF('保険料申告内訳名簿（一人親方団体控）'!R305=\"\",\"\",'保険料申告内訳名簿（一人親方団体控）'!R305)","v":""},{"$f":"IF('保険料申告内訳名簿（一人親方団体控）'!S305=\"\",\"\",'保険料申告内訳名簿（一人親方団体控）'!S305)","v":""},{"$f":"IF('保険料申告内訳名簿（一人親方団体控）'!T305=\"\",\"\",'保険料申告内訳名簿（一人親方団体控）'!T305)","v":""},null,null,null,"年 度 確 定 ","令 和",null,null,{"$f":"IF('保険料申告内訳名簿（一人親方団体控）'!AB305=\"\",\"\",'保険料申告内訳名簿（一人親方団体控）'!AB305)","v":""},{"$f":"IF('保険料申告内訳名簿（一人親方団体控）'!AC305=\"\",\"\",'保険料申告内訳名簿（一人親方団体控）'!AC305)","v":""},{"$f":"IF('保険料申告内訳名簿（一人親方団体控）'!AD305=\"\",\"\",'保険料申告内訳名簿（一人親方団体控）'!AD305)","v":""},null,null,null,"年 度 概 算 "]
[null,null,null,null,null,null,null,"③　\n給付基礎日額",null,null,null,"④年度中途加入・脱退",null,null,null,null,null,null,"⑤\n保険料算定基礎額",null,null,null,null,null,"⑥\n給付基礎日額",null,null,null,"⑦\n保険料算定基礎額"]
[null,null,null,null,null,null,null,null,null,null,null,"加入・脱退年月日",null,null,null,null,"加入月数"]
[null,{"$f":"IF('保険料申告内訳名簿（一人親方団体控）'!B308=\"\",\"\",'保険料申告内訳名簿（一人親方団体控）'!B308)","v":""},{"$f":"IF('保険料申告内訳名簿（一人親方団体控）'!C308=\"\",\"\",'保険料申告内訳名簿（一人親方団体控）'!C308)","v":""},{"$f":"IF('保険料申告内訳名簿（一人親方団体控）'!D308=\"\",\"\",'保険料申告内訳名簿（一人親方団体控）'!D308)","v":""},{"$f":"IF('保険料申告内訳名簿（一人親方団体控）'!E308=\"\",\"\",'保険料申告内訳名簿（一人親方団体控）'!E308)","v":""},{"$f":"IF('保険料申告内訳名簿（一人親方団体控）'!F308=\"\",\"\",'保険料申告内訳名簿（一人親方団体控）'!F308)","v":""},{"$f":"IF('保険料申告内訳名簿（一人親方団体控）'!G308=\"\",\"\",'保険料申告内訳名簿（一人親方団体控）'!G308)","v":""},{"$f":"IF('保険料申告内訳名簿（一人親方団体控）'!H308=\"\",\"\",'保険料申告内訳名簿（一人親方団体控）'!H308)","v":""},{"$f":"IF('保険料申告内訳名簿（一人親方団体控）'!I308=\"\",\"\",'保険料申告内訳名簿（一人親方団体控）'!I308)","v":""},{"$f":"IF('保険料申告内訳名簿（一人親方団体控）'!J308=\"\",\"\",'保険料申告内訳名簿（一人親方団体控）'!J308)","v":""},{"$f":"IF('保険料申告内訳名簿（一人親方団体控）'!K308=\"\",\"\",'保険料申告内訳名簿（一人親方団体控）'!K308)","v":""},{"$f":"IF('保険料申告内訳名簿（一人親方団体控）'!L308=\"\",\"\",'保険料申告内訳名簿（一人親方団体控）'!L308)","v":""},{"$f":"IF('保険料申告内訳名簿（一人親方団体控）'!M308=\"\",\"\",'保険料申告内訳名簿（一人親方団体控）'!M308)","v":""},{"$f":"IF('保険料申告内訳名簿（一人親方団体控）'!N308=\"\",\"\",'保険料申告内訳名簿（一人親方団体控）'!N308)","v":""},{"$f":"IF('保険料申告内訳名簿（一人親方団体控）'!O308=\"\",\"\",'保険料申告内訳名簿（一人親方団体控）'!O308)","v":""},{"$f":"IF('保険料申告内訳名簿（一人親方団体控）'!P308=\"\",\"\",'保険料申告内訳名簿（一人親方団体控）'!P308)","v":""},{"$f":"IF('保険料申告内訳名簿（一人親方団体控）'!Q308=\"\",\"\",'保険料申告内訳名簿（一人親方団体控）'!Q308)","v":""},{"$f":"IF('保険料申告内訳名簿（一人親方団体控）'!R308=\"\",\"\",'保険料申告内訳名簿（一人親方団体控）'!R308)","v":""},{"$f":"IF('保険料申告内訳名簿（一人親方団体控）'!S308=\"\",\"\",'保険料申告内訳名簿（一人親方団体控）'!S308)","v":0},{"$f":"IF('保険料申告内訳名簿（一人親方団体控）'!T308=\"\",\"\",'保険料申告内訳名簿（一人親方団体控）'!T308)","v":""},{"$f":"IF('保険料申告内訳名簿（一人親方団体控）'!U308=\"\",\"\",'保険料申告内訳名簿（一人親方団体控）'!U308)","v":""},{"$f":"IF('保険料申告内訳名簿（一人親方団体控）'!V308=\"\",\"\",'保険料申告内訳名簿（一人親方団体控）'!V308)","v":""},{"$f":"IF('保険料申告内訳名簿（一人親方団体控）'!W308=\"\",\"\",'保険料申告内訳名簿（一人親方団体控）'!W308)","v":""},{"$f":"IF('保険料申告内訳名簿（一人親方団体控）'!X308=\"\",\"\",'保険料申告内訳名簿（一人親方団体控）'!X308)","v":""},{"$f":"IF('保険料申告内訳名簿（一人親方団体控）'!Y308=\"\",\"\",'保険料申告内訳名簿（一人親方団体控）'!Y308)","v":""},{"$f":"IF('保険料申告内訳名簿（一人親方団体控）'!Z308=\"\",\"\",'保険料申告内訳名簿（一人親方団体控）'!Z308)","v":""},{"$f":"IF('保険料申告内訳名簿（一人親方団体控）'!AA308=\"\",\"\",'保険料申告内訳名簿（一人親方団体控）'!AA308)","v":""},{"$f":"IF('保険料申告内訳名簿（一人親方団体控）'!AB308=\"\",\"\",'保険料申告内訳名簿（一人親方団体控）'!AB308)","v":""},{"$f":"IF('保険料申告内訳名簿（一人親方団体控）'!AC308=\"\",\"\",'保険料申告内訳名簿（一人親方団体控）'!AC308)","v":0},{"$f":"IF('保険料申告内訳名簿（一人親方団体控）'!AD308=\"\",\"\",'保険料申告内訳名簿（一人親方団体控）'!AD308)","v":""},{"$f":"IF('保険料申告内訳名簿（一人親方団体控）'!AE308=\"\",\"\",'保険料申告内訳名簿（一人親方団体控）'!AE308)","v":""},{"$f":"IF('保険料申告内訳名簿（一人親方団体控）'!AF308=\"\",\"\",'保険料申告内訳名簿（一人親方団体控）'!AF308)","v":""},{"$f":"IF('保険料申告内訳名簿（一人親方団体控）'!AG308=\"\",\"\",'保険料申告内訳名簿（一人親方団体控）'!AG308)","v":""},{"$f":"IF('保険料申告内訳名簿（一人親方団体控）'!AH308=\"\",\"\",'保険料申告内訳名簿（一人親方団体控）'!AH308)","v":""}]
[null,{"$f":"IF('保険料申告内訳名簿（一人親方団体控）'!B309=\"\",\"\",'保険料申告内訳名簿（一人親方団体控）'!B309)","v":""},{"$f":"IF('保険料申告内訳名簿（一人親方団体控）'!C309=\"\",\"\",'保険料申告内訳名簿（一人親方団体控）'!C309)","v":""},{"$f":"IF('保険料申告内訳名簿（一人親方団体控）'!D309=\"\",\"\",'保険料申告内訳名簿（一人親方団体控）'!D309)","v":""},{"$f":"IF('保険料申告内訳名簿（一人親方団体控）'!E309=\"\",\"\",'保険料申告内訳名簿（一人親方団体控）'!E309)","v":""},{"$f":"IF('保険料申告内訳名簿（一人親方団体控）'!F309=\"\",\"\",'保険料申告内訳名簿（一人親方団体控）'!F309)","v":""},{"$f":"IF('保険料申告内訳名簿（一人親方団体控）'!G309=\"\",\"\",'保険料申告内訳名簿（一人親方団体控）'!G309)","v":""},{"$f":"IF('保険料申告内訳名簿（一人親方団体控）'!H309=\"\",\"\",'保険料申告内訳名簿（一人親方団体控）'!H309)","v":""},{"$f":"IF('保険料申告内訳名簿（一人親方団体控）'!I309=\"\",\"\",'保険料申告内訳名簿（一人親方団体控）'!I309)","v":""},{"$f":"IF('保険料申告内訳名簿（一人親方団体控）'!J309=\"\",\"\",'保険料申告内訳名簿（一人親方団体控）'!J309)","v":""},{"$f":"IF('保険料申告内訳名簿（一人親方団体控）'!K309=\"\",\"\",'保険料申告内訳名簿（一人親方団体控）'!K309)","v":""},{"$f":"IF('保険料申告内訳名簿（一人親方団体控）'!L309=\"\",\"\",'保険料申告内訳名簿（一人親方団体控）'!L309)","v":""},{"$f":"IF('保険料申告内訳名簿（一人親方団体控）'!M309=\"\",\"\",'保険料申告内訳名簿（一人親方団体控）'!M309)","v":""},{"$f":"IF('保険料申告内訳名簿（一人親方団体控）'!N309=\"\",\"\",'保険料申告内訳名簿（一人親方団体控）'!N309)","v":""},{"$f":"IF('保険料申告内訳名簿（一人親方団体控）'!O309=\"\",\"\",'保険料申告内訳名簿（一人親方団体控）'!O309)","v":""},{"$f":"IF('保険料申告内訳名簿（一人親方団体控）'!P309=\"\",\"\",'保険料申告内訳名簿（一人親方団体控）'!P309)","v":""},{"$f":"IF('保険料申告内訳名簿（一人親方団体控）'!Q309=\"\",\"\",'保険料申告内訳名簿（一人親方団体控）'!Q309)","v":""},{"$f":"IF('保険料申告内訳名簿（一人親方団体控）'!R309=\"\",\"\",'保険料申告内訳名簿（一人親方団体控）'!R309)","v":""},{"$f":"IF('保険料申告内訳名簿（一人親方団体控）'!S309=\"\",\"\",'保険料申告内訳名簿（一人親方団体控）'!S309)","v":0},{"$f":"IF('保険料申告内訳名簿（一人親方団体控）'!T309=\"\",\"\",'保険料申告内訳名簿（一人親方団体控）'!T309)","v":""},{"$f":"IF('保険料申告内訳名簿（一人親方団体控）'!U309=\"\",\"\",'保険料申告内訳名簿（一人親方団体控）'!U309)","v":""},{"$f":"IF('保険料申告内訳名簿（一人親方団体控）'!V309=\"\",\"\",'保険料申告内訳名簿（一人親方団体控）'!V309)","v":""},{"$f":"IF('保険料申告内訳名簿（一人親方団体控）'!W309=\"\",\"\",'保険料申告内訳名簿（一人親方団体控）'!W309)","v":""},{"$f":"IF('保険料申告内訳名簿（一人親方団体控）'!X309=\"\",\"\",'保険料申告内訳名簿（一人親方団体控）'!X309)","v":""},{"$f":"IF('保険料申告内訳名簿（一人親方団体控）'!Y309=\"\",\"\",'保険料申告内訳名簿（一人親方団体控）'!Y309)","v":""},{"$f":"IF('保険料申告内訳名簿（一人親方団体控）'!Z309=\"\",\"\",'保険料申告内訳名簿（一人親方団体控）'!Z309)","v":""},{"$f":"IF('保険料申告内訳名簿（一人親方団体控）'!AA309=\"\",\"\",'保険料申告内訳名簿（一人親方団体控）'!AA309)","v":""},{"$f":"IF('保険料申告内訳名簿（一人親方団体控）'!AB309=\"\",\"\",'保険料申告内訳名簿（一人親方団体控）'!AB309)","v":""},{"$f":"IF('保険料申告内訳名簿（一人親方団体控）'!AC309=\"\",\"\",'保険料申告内訳名簿（一人親方団体控）'!AC309)","v":0},{"$f":"IF('保険料申告内訳名簿（一人親方団体控）'!AD309=\"\",\"\",'保険料申告内訳名簿（一人親方団体控）'!AD309)","v":""},{"$f":"IF('保険料申告内訳名簿（一人親方団体控）'!AE309=\"\",\"\",'保険料申告内訳名簿（一人親方団体控）'!AE309)","v":""},{"$f":"IF('保険料申告内訳名簿（一人親方団体控）'!AF309=\"\",\"\",'保険料申告内訳名簿（一人親方団体控）'!AF309)","v":""},{"$f":"IF('保険料申告内訳名簿（一人親方団体控）'!AG309=\"\",\"\",'保険料申告内訳名簿（一人親方団体控）'!AG309)","v":""},{"$f":"IF('保険料申告内訳名簿（一人親方団体控）'!AH309=\"\",\"\",'保険料申告内訳名簿（一人親方団体控）'!AH309)","v":""}]
[null,{"$f":"IF('保険料申告内訳名簿（一人親方団体控）'!B310=\"\",\"\",'保険料申告内訳名簿（一人親方団体控）'!B310)","v":""},{"$f":"IF('保険料申告内訳名簿（一人親方団体控）'!C310=\"\",\"\",'保険料申告内訳名簿（一人親方団体控）'!C310)","v":""},{"$f":"IF('保険料申告内訳名簿（一人親方団体控）'!D310=\"\",\"\",'保険料申告内訳名簿（一人親方団体控）'!D310)","v":""},{"$f":"IF('保険料申告内訳名簿（一人親方団体控）'!E310=\"\",\"\",'保険料申告内訳名簿（一人親方団体控）'!E310)","v":""},{"$f":"IF('保険料申告内訳名簿（一人親方団体控）'!F310=\"\",\"\",'保険料申告内訳名簿（一人親方団体控）'!F310)","v":""},{"$f":"IF('保険料申告内訳名簿（一人親方団体控）'!G310=\"\",\"\",'保険料申告内訳名簿（一人親方団体控）'!G310)","v":""},{"$f":"IF('保険料申告内訳名簿（一人親方団体控）'!H310=\"\",\"\",'保険料申告内訳名簿（一人親方団体控）'!H310)","v":""},{"$f":"IF('保険料申告内訳名簿（一人親方団体控）'!I310=\"\",\"\",'保険料申告内訳名簿（一人親方団体控）'!I310)","v":""},{"$f":"IF('保険料申告内訳名簿（一人親方団体控）'!J310=\"\",\"\",'保険料申告内訳名簿（一人親方団体控）'!J310)","v":""},{"$f":"IF('保険料申告内訳名簿（一人親方団体控）'!K310=\"\",\"\",'保険料申告内訳名簿（一人親方団体控）'!K310)","v":""},{"$f":"IF('保険料申告内訳名簿（一人親方団体控）'!L310=\"\",\"\",'保険料申告内訳名簿（一人親方団体控）'!L310)","v":""},{"$f":"IF('保険料申告内訳名簿（一人親方団体控）'!M310=\"\",\"\",'保険料申告内訳名簿（一人親方団体控）'!M310)","v":""},{"$f":"IF('保険料申告内訳名簿（一人親方団体控）'!N310=\"\",\"\",'保険料申告内訳名簿（一人親方団体控）'!N310)","v":""},{"$f":"IF('保険料申告内訳名簿（一人親方団体控）'!O310=\"\",\"\",'保険料申告内訳名簿（一人親方団体控）'!O310)","v":""},{"$f":"IF('保険料申告内訳名簿（一人親方団体控）'!P310=\"\",\"\",'保険料申告内訳名簿（一人親方団体控）'!P310)","v":""},{"$f":"IF('保険料申告内訳名簿（一人親方団体控）'!Q310=\"\",\"\",'保険料申告内訳名簿（一人親方団体控）'!Q310)","v":""},{"$f":"IF('保険料申告内訳名簿（一人親方団体控）'!R310=\"\",\"\",'保険料申告内訳名簿（一人親方団体控）'!R310)","v":""},{"$f":"IF('保険料申告内訳名簿（一人親方団体控）'!S310=\"\",\"\",'保険料申告内訳名簿（一人親方団体控）'!S310)","v":0},{"$f":"IF('保険料申告内訳名簿（一人親方団体控）'!T310=\"\",\"\",'保険料申告内訳名簿（一人親方団体控）'!T310)","v":""},{"$f":"IF('保険料申告内訳名簿（一人親方団体控）'!U310=\"\",\"\",'保険料申告内訳名簿（一人親方団体控）'!U310)","v":""},{"$f":"IF('保険料申告内訳名簿（一人親方団体控）'!V310=\"\",\"\",'保険料申告内訳名簿（一人親方団体控）'!V310)","v":""},{"$f":"IF('保険料申告内訳名簿（一人親方団体控）'!W310=\"\",\"\",'保険料申告内訳名簿（一人親方団体控）'!W310)","v":""},{"$f":"IF('保険料申告内訳名簿（一人親方団体控）'!X310=\"\",\"\",'保険料申告内訳名簿（一人親方団体控）'!X310)","v":""},{"$f":"IF('保険料申告内訳名簿（一人親方団体控）'!Y310=\"\",\"\",'保険料申告内訳名簿（一人親方団体控）'!Y310)","v":""},{"$f":"IF('保険料申告内訳名簿（一人親方団体控）'!Z310=\"\",\"\",'保険料申告内訳名簿（一人親方団体控）'!Z310)","v":""},{"$f":"IF('保険料申告内訳名簿（一人親方団体控）'!AA310=\"\",\"\",'保険料申告内訳名簿（一人親方団体控）'!AA310)","v":""},{"$f":"IF('保険料申告内訳名簿（一人親方団体控）'!AB310=\"\",\"\",'保険料申告内訳名簿（一人親方団体控）'!AB310)","v":""},{"$f":"IF('保険料申告内訳名簿（一人親方団体控）'!AC310=\"\",\"\",'保険料申告内訳名簿（一人親方団体控）'!AC310)","v":0},{"$f":"IF('保険料申告内訳名簿（一人親方団体控）'!AD310=\"\",\"\",'保険料申告内訳名簿（一人親方団体控）'!AD310)","v":""},{"$f":"IF('保険料申告内訳名簿（一人親方団体控）'!AE310=\"\",\"\",'保険料申告内訳名簿（一人親方団体控）'!AE310)","v":""},{"$f":"IF('保険料申告内訳名簿（一人親方団体控）'!AF310=\"\",\"\",'保険料申告内訳名簿（一人親方団体控）'!AF310)","v":""},{"$f":"IF('保険料申告内訳名簿（一人親方団体控）'!AG310=\"\",\"\",'保険料申告内訳名簿（一人親方団体控）'!AG310)","v":""},{"$f":"IF('保険料申告内訳名簿（一人親方団体控）'!AH310=\"\",\"\",'保険料申告内訳名簿（一人親方団体控）'!AH310)","v":""}]
[null,{"$f":"IF('保険料申告内訳名簿（一人親方団体控）'!B311=\"\",\"\",'保険料申告内訳名簿（一人親方団体控）'!B311)","v":""},{"$f":"IF('保険料申告内訳名簿（一人親方団体控）'!C311=\"\",\"\",'保険料申告内訳名簿（一人親方団体控）'!C311)","v":""},{"$f":"IF('保険料申告内訳名簿（一人親方団体控）'!D311=\"\",\"\",'保険料申告内訳名簿（一人親方団体控）'!D311)","v":""},{"$f":"IF('保険料申告内訳名簿（一人親方団体控）'!E311=\"\",\"\",'保険料申告内訳名簿（一人親方団体控）'!E311)","v":""},{"$f":"IF('保険料申告内訳名簿（一人親方団体控）'!F311=\"\",\"\",'保険料申告内訳名簿（一人親方団体控）'!F311)","v":""},{"$f":"IF('保険料申告内訳名簿（一人親方団体控）'!G311=\"\",\"\",'保険料申告内訳名簿（一人親方団体控）'!G311)","v":""},{"$f":"IF('保険料申告内訳名簿（一人親方団体控）'!H311=\"\",\"\",'保険料申告内訳名簿（一人親方団体控）'!H311)","v":""},{"$f":"IF('保険料申告内訳名簿（一人親方団体控）'!I311=\"\",\"\",'保険料申告内訳名簿（一人親方団体控）'!I311)","v":""},{"$f":"IF('保険料申告内訳名簿（一人親方団体控）'!J311=\"\",\"\",'保険料申告内訳名簿（一人親方団体控）'!J311)","v":""},{"$f":"IF('保険料申告内訳名簿（一人親方団体控）'!K311=\"\",\"\",'保険料申告内訳名簿（一人親方団体控）'!K311)","v":""},{"$f":"IF('保険料申告内訳名簿（一人親方団体控）'!L311=\"\",\"\",'保険料申告内訳名簿（一人親方団体控）'!L311)","v":""},{"$f":"IF('保険料申告内訳名簿（一人親方団体控）'!M311=\"\",\"\",'保険料申告内訳名簿（一人親方団体控）'!M311)","v":""},{"$f":"IF('保険料申告内訳名簿（一人親方団体控）'!N311=\"\",\"\",'保険料申告内訳名簿（一人親方団体控）'!N311)","v":""},{"$f":"IF('保険料申告内訳名簿（一人親方団体控）'!O311=\"\",\"\",'保険料申告内訳名簿（一人親方団体控）'!O311)","v":""},{"$f":"IF('保険料申告内訳名簿（一人親方団体控）'!P311=\"\",\"\",'保険料申告内訳名簿（一人親方団体控）'!P311)","v":""},{"$f":"IF('保険料申告内訳名簿（一人親方団体控）'!Q311=\"\",\"\",'保険料申告内訳名簿（一人親方団体控）'!Q311)","v":""},{"$f":"IF('保険料申告内訳名簿（一人親方団体控）'!R311=\"\",\"\",'保険料申告内訳名簿（一人親方団体控）'!R311)","v":""},{"$f":"IF('保険料申告内訳名簿（一人親方団体控）'!S311=\"\",\"\",'保険料申告内訳名簿（一人親方団体控）'!S311)","v":0},{"$f":"IF('保険料申告内訳名簿（一人親方団体控）'!T311=\"\",\"\",'保険料申告内訳名簿（一人親方団体控）'!T311)","v":""},{"$f":"IF('保険料申告内訳名簿（一人親方団体控）'!U311=\"\",\"\",'保険料申告内訳名簿（一人親方団体控）'!U311)","v":""},{"$f":"IF('保険料申告内訳名簿（一人親方団体控）'!V311=\"\",\"\",'保険料申告内訳名簿（一人親方団体控）'!V311)","v":""},{"$f":"IF('保険料申告内訳名簿（一人親方団体控）'!W311=\"\",\"\",'保険料申告内訳名簿（一人親方団体控）'!W311)","v":""},{"$f":"IF('保険料申告内訳名簿（一人親方団体控）'!X311=\"\",\"\",'保険料申告内訳名簿（一人親方団体控）'!X311)","v":""},{"$f":"IF('保険料申告内訳名簿（一人親方団体控）'!Y311=\"\",\"\",'保険料申告内訳名簿（一人親方団体控）'!Y311)","v":""},{"$f":"IF('保険料申告内訳名簿（一人親方団体控）'!Z311=\"\",\"\",'保険料申告内訳名簿（一人親方団体控）'!Z311)","v":""},{"$f":"IF('保険料申告内訳名簿（一人親方団体控）'!AA311=\"\",\"\",'保険料申告内訳名簿（一人親方団体控）'!AA311)","v":""},{"$f":"IF('保険料申告内訳名簿（一人親方団体控）'!AB311=\"\",\"\",'保険料申告内訳名簿（一人親方団体控）'!AB311)","v":""},{"$f":"IF('保険料申告内訳名簿（一人親方団体控）'!AC311=\"\",\"\",'保険料申告内訳名簿（一人親方団体控）'!AC311)","v":0},{"$f":"IF('保険料申告内訳名簿（一人親方団体控）'!AD311=\"\",\"\",'保険料申告内訳名簿（一人親方団体控）'!AD311)","v":""},{"$f":"IF('保険料申告内訳名簿（一人親方団体控）'!AE311=\"\",\"\",'保険料申告内訳名簿（一人親方団体控）'!AE311)","v":""},{"$f":"IF('保険料申告内訳名簿（一人親方団体控）'!AF311=\"\",\"\",'保険料申告内訳名簿（一人親方団体控）'!AF311)","v":""},{"$f":"IF('保険料申告内訳名簿（一人親方団体控）'!AG311=\"\",\"\",'保険料申告内訳名簿（一人親方団体控）'!AG311)","v":""},{"$f":"IF('保険料申告内訳名簿（一人親方団体控）'!AH311=\"\",\"\",'保険料申告内訳名簿（一人親方団体控）'!AH311)","v":""}]
[null,{"$f":"IF('保険料申告内訳名簿（一人親方団体控）'!B312=\"\",\"\",'保険料申告内訳名簿（一人親方団体控）'!B312)","v":""},{"$f":"IF('保険料申告内訳名簿（一人親方団体控）'!C312=\"\",\"\",'保険料申告内訳名簿（一人親方団体控）'!C312)","v":""},{"$f":"IF('保険料申告内訳名簿（一人親方団体控）'!D312=\"\",\"\",'保険料申告内訳名簿（一人親方団体控）'!D312)","v":""},{"$f":"IF('保険料申告内訳名簿（一人親方団体控）'!E312=\"\",\"\",'保険料申告内訳名簿（一人親方団体控）'!E312)","v":""},{"$f":"IF('保険料申告内訳名簿（一人親方団体控）'!F312=\"\",\"\",'保険料申告内訳名簿（一人親方団体控）'!F312)","v":""},{"$f":"IF('保険料申告内訳名簿（一人親方団体控）'!G312=\"\",\"\",'保険料申告内訳名簿（一人親方団体控）'!G312)","v":""},{"$f":"IF('保険料申告内訳名簿（一人親方団体控）'!H312=\"\",\"\",'保険料申告内訳名簿（一人親方団体控）'!H312)","v":""},{"$f":"IF('保険料申告内訳名簿（一人親方団体控）'!I312=\"\",\"\",'保険料申告内訳名簿（一人親方団体控）'!I312)","v":""},{"$f":"IF('保険料申告内訳名簿（一人親方団体控）'!J312=\"\",\"\",'保険料申告内訳名簿（一人親方団体控）'!J312)","v":""},{"$f":"IF('保険料申告内訳名簿（一人親方団体控）'!K312=\"\",\"\",'保険料申告内訳名簿（一人親方団体控）'!K312)","v":""},{"$f":"IF('保険料申告内訳名簿（一人親方団体控）'!L312=\"\",\"\",'保険料申告内訳名簿（一人親方団体控）'!L312)","v":""},{"$f":"IF('保険料申告内訳名簿（一人親方団体控）'!M312=\"\",\"\",'保険料申告内訳名簿（一人親方団体控）'!M312)","v":""},{"$f":"IF('保険料申告内訳名簿（一人親方団体控）'!N312=\"\",\"\",'保険料申告内訳名簿（一人親方団体控）'!N312)","v":""},{"$f":"IF('保険料申告内訳名簿（一人親方団体控）'!O312=\"\",\"\",'保険料申告内訳名簿（一人親方団体控）'!O312)","v":""},{"$f":"IF('保険料申告内訳名簿（一人親方団体控）'!P312=\"\",\"\",'保険料申告内訳名簿（一人親方団体控）'!P312)","v":""},{"$f":"IF('保険料申告内訳名簿（一人親方団体控）'!Q312=\"\",\"\",'保険料申告内訳名簿（一人親方団体控）'!Q312)","v":""},{"$f":"IF('保険料申告内訳名簿（一人親方団体控）'!R312=\"\",\"\",'保険料申告内訳名簿（一人親方団体控）'!R312)","v":""},{"$f":"IF('保険料申告内訳名簿（一人親方団体控）'!S312=\"\",\"\",'保険料申告内訳名簿（一人親方団体控）'!S312)","v":0},{"$f":"IF('保険料申告内訳名簿（一人親方団体控）'!T312=\"\",\"\",'保険料申告内訳名簿（一人親方団体控）'!T312)","v":""},{"$f":"IF('保険料申告内訳名簿（一人親方団体控）'!U312=\"\",\"\",'保険料申告内訳名簿（一人親方団体控）'!U312)","v":""},{"$f":"IF('保険料申告内訳名簿（一人親方団体控）'!V312=\"\",\"\",'保険料申告内訳名簿（一人親方団体控）'!V312)","v":""},{"$f":"IF('保険料申告内訳名簿（一人親方団体控）'!W312=\"\",\"\",'保険料申告内訳名簿（一人親方団体控）'!W312)","v":""},{"$f":"IF('保険料申告内訳名簿（一人親方団体控）'!X312=\"\",\"\",'保険料申告内訳名簿（一人親方団体控）'!X312)","v":""},{"$f":"IF('保険料申告内訳名簿（一人親方団体控）'!Y312=\"\",\"\",'保険料申告内訳名簿（一人親方団体控）'!Y312)","v":""},{"$f":"IF('保険料申告内訳名簿（一人親方団体控）'!Z312=\"\",\"\",'保険料申告内訳名簿（一人親方団体控）'!Z312)","v":""},{"$f":"IF('保険料申告内訳名簿（一人親方団体控）'!AA312=\"\",\"\",'保険料申告内訳名簿（一人親方団体控）'!AA312)","v":""},{"$f":"IF('保険料申告内訳名簿（一人親方団体控）'!AB312=\"\",\"\",'保険料申告内訳名簿（一人親方団体控）'!AB312)","v":""},{"$f":"IF('保険料申告内訳名簿（一人親方団体控）'!AC312=\"\",\"\",'保険料申告内訳名簿（一人親方団体控）'!AC312)","v":0},{"$f":"IF('保険料申告内訳名簿（一人親方団体控）'!AD312=\"\",\"\",'保険料申告内訳名簿（一人親方団体控）'!AD312)","v":""},{"$f":"IF('保険料申告内訳名簿（一人親方団体控）'!AE312=\"\",\"\",'保険料申告内訳名簿（一人親方団体控）'!AE312)","v":""},{"$f":"IF('保険料申告内訳名簿（一人親方団体控）'!AF312=\"\",\"\",'保険料申告内訳名簿（一人親方団体控）'!AF312)","v":""},{"$f":"IF('保険料申告内訳名簿（一人親方団体控）'!AG312=\"\",\"\",'保険料申告内訳名簿（一人親方団体控）'!AG312)","v":""},{"$f":"IF('保険料申告内訳名簿（一人親方団体控）'!AH312=\"\",\"\",'保険料申告内訳名簿（一人親方団体控）'!AH312)","v":""}]
[null,{"$f":"IF('保険料申告内訳名簿（一人親方団体控）'!B313=\"\",\"\",'保険料申告内訳名簿（一人親方団体控）'!B313)","v":""},{"$f":"IF('保険料申告内訳名簿（一人親方団体控）'!C313=\"\",\"\",'保険料申告内訳名簿（一人親方団体控）'!C313)","v":""},{"$f":"IF('保険料申告内訳名簿（一人親方団体控）'!D313=\"\",\"\",'保険料申告内訳名簿（一人親方団体控）'!D313)","v":""},{"$f":"IF('保険料申告内訳名簿（一人親方団体控）'!E313=\"\",\"\",'保険料申告内訳名簿（一人親方団体控）'!E313)","v":""},{"$f":"IF('保険料申告内訳名簿（一人親方団体控）'!F313=\"\",\"\",'保険料申告内訳名簿（一人親方団体控）'!F313)","v":""},{"$f":"IF('保険料申告内訳名簿（一人親方団体控）'!G313=\"\",\"\",'保険料申告内訳名簿（一人親方団体控）'!G313)","v":""},{"$f":"IF('保険料申告内訳名簿（一人親方団体控）'!H313=\"\",\"\",'保険料申告内訳名簿（一人親方団体控）'!H313)","v":""},{"$f":"IF('保険料申告内訳名簿（一人親方団体控）'!I313=\"\",\"\",'保険料申告内訳名簿（一人親方団体控）'!I313)","v":""},{"$f":"IF('保険料申告内訳名簿（一人親方団体控）'!J313=\"\",\"\",'保険料申告内訳名簿（一人親方団体控）'!J313)","v":""},{"$f":"IF('保険料申告内訳名簿（一人親方団体控）'!K313=\"\",\"\",'保険料申告内訳名簿（一人親方団体控）'!K313)","v":""},{"$f":"IF('保険料申告内訳名簿（一人親方団体控）'!L313=\"\",\"\",'保険料申告内訳名簿（一人親方団体控）'!L313)","v":""},{"$f":"IF('保険料申告内訳名簿（一人親方団体控）'!M313=\"\",\"\",'保険料申告内訳名簿（一人親方団体控）'!M313)","v":""},{"$f":"IF('保険料申告内訳名簿（一人親方団体控）'!N313=\"\",\"\",'保険料申告内訳名簿（一人親方団体控）'!N313)","v":""},{"$f":"IF('保険料申告内訳名簿（一人親方団体控）'!O313=\"\",\"\",'保険料申告内訳名簿（一人親方団体控）'!O313)","v":""},{"$f":"IF('保険料申告内訳名簿（一人親方団体控）'!P313=\"\",\"\",'保険料申告内訳名簿（一人親方団体控）'!P313)","v":""},{"$f":"IF('保険料申告内訳名簿（一人親方団体控）'!Q313=\"\",\"\",'保険料申告内訳名簿（一人親方団体控）'!Q313)","v":""},{"$f":"IF('保険料申告内訳名簿（一人親方団体控）'!R313=\"\",\"\",'保険料申告内訳名簿（一人親方団体控）'!R313)","v":""},{"$f":"IF('保険料申告内訳名簿（一人親方団体控）'!S313=\"\",\"\",'保険料申告内訳名簿（一人親方団体控）'!S313)","v":0},{"$f":"IF('保険料申告内訳名簿（一人親方団体控）'!T313=\"\",\"\",'保険料申告内訳名簿（一人親方団体控）'!T313)","v":""},{"$f":"IF('保険料申告内訳名簿（一人親方団体控）'!U313=\"\",\"\",'保険料申告内訳名簿（一人親方団体控）'!U313)","v":""},{"$f":"IF('保険料申告内訳名簿（一人親方団体控）'!V313=\"\",\"\",'保険料申告内訳名簿（一人親方団体控）'!V313)","v":""},{"$f":"IF('保険料申告内訳名簿（一人親方団体控）'!W313=\"\",\"\",'保険料申告内訳名簿（一人親方団体控）'!W313)","v":""},{"$f":"IF('保険料申告内訳名簿（一人親方団体控）'!X313=\"\",\"\",'保険料申告内訳名簿（一人親方団体控）'!X313)","v":""},{"$f":"IF('保険料申告内訳名簿（一人親方団体控）'!Y313=\"\",\"\",'保険料申告内訳名簿（一人親方団体控）'!Y313)","v":""},{"$f":"IF('保険料申告内訳名簿（一人親方団体控）'!Z313=\"\",\"\",'保険料申告内訳名簿（一人親方団体控）'!Z313)","v":""},{"$f":"IF('保険料申告内訳名簿（一人親方団体控）'!AA313=\"\",\"\",'保険料申告内訳名簿（一人親方団体控）'!AA313)","v":""},{"$f":"IF('保険料申告内訳名簿（一人親方団体控）'!AB313=\"\",\"\",'保険料申告内訳名簿（一人親方団体控）'!AB313)","v":""},{"$f":"IF('保険料申告内訳名簿（一人親方団体控）'!AC313=\"\",\"\",'保険料申告内訳名簿（一人親方団体控）'!AC313)","v":0},{"$f":"IF('保険料申告内訳名簿（一人親方団体控）'!AD313=\"\",\"\",'保険料申告内訳名簿（一人親方団体控）'!AD313)","v":""},{"$f":"IF('保険料申告内訳名簿（一人親方団体控）'!AE313=\"\",\"\",'保険料申告内訳名簿（一人親方団体控）'!AE313)","v":""},{"$f":"IF('保険料申告内訳名簿（一人親方団体控）'!AF313=\"\",\"\",'保険料申告内訳名簿（一人親方団体控）'!AF313)","v":""},{"$f":"IF('保険料申告内訳名簿（一人親方団体控）'!AG313=\"\",\"\",'保険料申告内訳名簿（一人親方団体控）'!AG313)","v":""},{"$f":"IF('保険料申告内訳名簿（一人親方団体控）'!AH313=\"\",\"\",'保険料申告内訳名簿（一人親方団体控）'!AH313)","v":""}]
[null,{"$f":"IF('保険料申告内訳名簿（一人親方団体控）'!B314=\"\",\"\",'保険料申告内訳名簿（一人親方団体控）'!B314)","v":""},{"$f":"IF('保険料申告内訳名簿（一人親方団体控）'!C314=\"\",\"\",'保険料申告内訳名簿（一人親方団体控）'!C314)","v":""},{"$f":"IF('保険料申告内訳名簿（一人親方団体控）'!D314=\"\",\"\",'保険料申告内訳名簿（一人親方団体控）'!D314)","v":""},{"$f":"IF('保険料申告内訳名簿（一人親方団体控）'!E314=\"\",\"\",'保険料申告内訳名簿（一人親方団体控）'!E314)","v":""},{"$f":"IF('保険料申告内訳名簿（一人親方団体控）'!F314=\"\",\"\",'保険料申告内訳名簿（一人親方団体控）'!F314)","v":""},{"$f":"IF('保険料申告内訳名簿（一人親方団体控）'!G314=\"\",\"\",'保険料申告内訳名簿（一人親方団体控）'!G314)","v":""},{"$f":"IF('保険料申告内訳名簿（一人親方団体控）'!H314=\"\",\"\",'保険料申告内訳名簿（一人親方団体控）'!H314)","v":""},{"$f":"IF('保険料申告内訳名簿（一人親方団体控）'!I314=\"\",\"\",'保険料申告内訳名簿（一人親方団体控）'!I314)","v":""},{"$f":"IF('保険料申告内訳名簿（一人親方団体控）'!J314=\"\",\"\",'保険料申告内訳名簿（一人親方団体控）'!J314)","v":""},{"$f":"IF('保険料申告内訳名簿（一人親方団体控）'!K314=\"\",\"\",'保険料申告内訳名簿（一人親方団体控）'!K314)","v":""},{"$f":"IF('保険料申告内訳名簿（一人親方団体控）'!L314=\"\",\"\",'保険料申告内訳名簿（一人親方団体控）'!L314)","v":""},{"$f":"IF('保険料申告内訳名簿（一人親方団体控）'!M314=\"\",\"\",'保険料申告内訳名簿（一人親方団体控）'!M314)","v":""},{"$f":"IF('保険料申告内訳名簿（一人親方団体控）'!N314=\"\",\"\",'保険料申告内訳名簿（一人親方団体控）'!N314)","v":""},{"$f":"IF('保険料申告内訳名簿（一人親方団体控）'!O314=\"\",\"\",'保険料申告内訳名簿（一人親方団体控）'!O314)","v":""},{"$f":"IF('保険料申告内訳名簿（一人親方団体控）'!P314=\"\",\"\",'保険料申告内訳名簿（一人親方団体控）'!P314)","v":""},{"$f":"IF('保険料申告内訳名簿（一人親方団体控）'!Q314=\"\",\"\",'保険料申告内訳名簿（一人親方団体控）'!Q314)","v":""},{"$f":"IF('保険料申告内訳名簿（一人親方団体控）'!R314=\"\",\"\",'保険料申告内訳名簿（一人親方団体控）'!R314)","v":""},{"$f":"IF('保険料申告内訳名簿（一人親方団体控）'!S314=\"\",\"\",'保険料申告内訳名簿（一人親方団体控）'!S314)","v":0},{"$f":"IF('保険料申告内訳名簿（一人親方団体控）'!T314=\"\",\"\",'保険料申告内訳名簿（一人親方団体控）'!T314)","v":""},{"$f":"IF('保険料申告内訳名簿（一人親方団体控）'!U314=\"\",\"\",'保険料申告内訳名簿（一人親方団体控）'!U314)","v":""},{"$f":"IF('保険料申告内訳名簿（一人親方団体控）'!V314=\"\",\"\",'保険料申告内訳名簿（一人親方団体控）'!V314)","v":""},{"$f":"IF('保険料申告内訳名簿（一人親方団体控）'!W314=\"\",\"\",'保険料申告内訳名簿（一人親方団体控）'!W314)","v":""},{"$f":"IF('保険料申告内訳名簿（一人親方団体控）'!X314=\"\",\"\",'保険料申告内訳名簿（一人親方団体控）'!X314)","v":""},{"$f":"IF('保険料申告内訳名簿（一人親方団体控）'!Y314=\"\",\"\",'保険料申告内訳名簿（一人親方団体控）'!Y314)","v":""},{"$f":"IF('保険料申告内訳名簿（一人親方団体控）'!Z314=\"\",\"\",'保険料申告内訳名簿（一人親方団体控）'!Z314)","v":""},{"$f":"IF('保険料申告内訳名簿（一人親方団体控）'!AA314=\"\",\"\",'保険料申告内訳名簿（一人親方団体控）'!AA314)","v":""},{"$f":"IF('保険料申告内訳名簿（一人親方団体控）'!AB314=\"\",\"\",'保険料申告内訳名簿（一人親方団体控）'!AB314)","v":""},{"$f":"IF('保険料申告内訳名簿（一人親方団体控）'!AC314=\"\",\"\",'保険料申告内訳名簿（一人親方団体控）'!AC314)","v":0},{"$f":"IF('保険料申告内訳名簿（一人親方団体控）'!AD314=\"\",\"\",'保険料申告内訳名簿（一人親方団体控）'!AD314)","v":""},{"$f":"IF('保険料申告内訳名簿（一人親方団体控）'!AE314=\"\",\"\",'保険料申告内訳名簿（一人親方団体控）'!AE314)","v":""},{"$f":"IF('保険料申告内訳名簿（一人親方団体控）'!AF314=\"\",\"\",'保険料申告内訳名簿（一人親方団体控）'!AF314)","v":""},{"$f":"IF('保険料申告内訳名簿（一人親方団体控）'!AG314=\"\",\"\",'保険料申告内訳名簿（一人親方団体控）'!AG314)","v":""},{"$f":"IF('保険料申告内訳名簿（一人親方団体控）'!AH314=\"\",\"\",'保険料申告内訳名簿（一人親方団体控）'!AH314)","v":""}]
[null,{"$f":"IF('保険料申告内訳名簿（一人親方団体控）'!B315=\"\",\"\",'保険料申告内訳名簿（一人親方団体控）'!B315)","v":""},{"$f":"IF('保険料申告内訳名簿（一人親方団体控）'!C315=\"\",\"\",'保険料申告内訳名簿（一人親方団体控）'!C315)","v":""},{"$f":"IF('保険料申告内訳名簿（一人親方団体控）'!D315=\"\",\"\",'保険料申告内訳名簿（一人親方団体控）'!D315)","v":""},{"$f":"IF('保険料申告内訳名簿（一人親方団体控）'!E315=\"\",\"\",'保険料申告内訳名簿（一人親方団体控）'!E315)","v":""},{"$f":"IF('保険料申告内訳名簿（一人親方団体控）'!F315=\"\",\"\",'保険料申告内訳名簿（一人親方団体控）'!F315)","v":""},{"$f":"IF('保険料申告内訳名簿（一人親方団体控）'!G315=\"\",\"\",'保険料申告内訳名簿（一人親方団体控）'!G315)","v":""},{"$f":"IF('保険料申告内訳名簿（一人親方団体控）'!H315=\"\",\"\",'保険料申告内訳名簿（一人親方団体控）'!H315)","v":""},{"$f":"IF('保険料申告内訳名簿（一人親方団体控）'!I315=\"\",\"\",'保険料申告内訳名簿（一人親方団体控）'!I315)","v":""},{"$f":"IF('保険料申告内訳名簿（一人親方団体控）'!J315=\"\",\"\",'保険料申告内訳名簿（一人親方団体控）'!J315)","v":""},{"$f":"IF('保険料申告内訳名簿（一人親方団体控）'!K315=\"\",\"\",'保険料申告内訳名簿（一人親方団体控）'!K315)","v":""},{"$f":"IF('保険料申告内訳名簿（一人親方団体控）'!L315=\"\",\"\",'保険料申告内訳名簿（一人親方団体控）'!L315)","v":""},{"$f":"IF('保険料申告内訳名簿（一人親方団体控）'!M315=\"\",\"\",'保険料申告内訳名簿（一人親方団体控）'!M315)","v":""},{"$f":"IF('保険料申告内訳名簿（一人親方団体控）'!N315=\"\",\"\",'保険料申告内訳名簿（一人親方団体控）'!N315)","v":""},{"$f":"IF('保険料申告内訳名簿（一人親方団体控）'!O315=\"\",\"\",'保険料申告内訳名簿（一人親方団体控）'!O315)","v":""},{"$f":"IF('保険料申告内訳名簿（一人親方団体控）'!P315=\"\",\"\",'保険料申告内訳名簿（一人親方団体控）'!P315)","v":""},{"$f":"IF('保険料申告内訳名簿（一人親方団体控）'!Q315=\"\",\"\",'保険料申告内訳名簿（一人親方団体控）'!Q315)","v":""},{"$f":"IF('保険料申告内訳名簿（一人親方団体控）'!R315=\"\",\"\",'保険料申告内訳名簿（一人親方団体控）'!R315)","v":""},{"$f":"IF('保険料申告内訳名簿（一人親方団体控）'!S315=\"\",\"\",'保険料申告内訳名簿（一人親方団体控）'!S315)","v":0},{"$f":"IF('保険料申告内訳名簿（一人親方団体控）'!T315=\"\",\"\",'保険料申告内訳名簿（一人親方団体控）'!T315)","v":""},{"$f":"IF('保険料申告内訳名簿（一人親方団体控）'!U315=\"\",\"\",'保険料申告内訳名簿（一人親方団体控）'!U315)","v":""},{"$f":"IF('保険料申告内訳名簿（一人親方団体控）'!V315=\"\",\"\",'保険料申告内訳名簿（一人親方団体控）'!V315)","v":""},{"$f":"IF('保険料申告内訳名簿（一人親方団体控）'!W315=\"\",\"\",'保険料申告内訳名簿（一人親方団体控）'!W315)","v":""},{"$f":"IF('保険料申告内訳名簿（一人親方団体控）'!X315=\"\",\"\",'保険料申告内訳名簿（一人親方団体控）'!X315)","v":""},{"$f":"IF('保険料申告内訳名簿（一人親方団体控）'!Y315=\"\",\"\",'保険料申告内訳名簿（一人親方団体控）'!Y315)","v":""},{"$f":"IF('保険料申告内訳名簿（一人親方団体控）'!Z315=\"\",\"\",'保険料申告内訳名簿（一人親方団体控）'!Z315)","v":""},{"$f":"IF('保険料申告内訳名簿（一人親方団体控）'!AA315=\"\",\"\",'保険料申告内訳名簿（一人親方団体控）'!AA315)","v":""},{"$f":"IF('保険料申告内訳名簿（一人親方団体控）'!AB315=\"\",\"\",'保険料申告内訳名簿（一人親方団体控）'!AB315)","v":""},{"$f":"IF('保険料申告内訳名簿（一人親方団体控）'!AC315=\"\",\"\",'保険料申告内訳名簿（一人親方団体控）'!AC315)","v":0},{"$f":"IF('保険料申告内訳名簿（一人親方団体控）'!AD315=\"\",\"\",'保険料申告内訳名簿（一人親方団体控）'!AD315)","v":""},{"$f":"IF('保険料申告内訳名簿（一人親方団体控）'!AE315=\"\",\"\",'保険料申告内訳名簿（一人親方団体控）'!AE315)","v":""},{"$f":"IF('保険料申告内訳名簿（一人親方団体控）'!AF315=\"\",\"\",'保険料申告内訳名簿（一人親方団体控）'!AF315)","v":""},{"$f":"IF('保険料申告内訳名簿（一人親方団体控）'!AG315=\"\",\"\",'保険料申告内訳名簿（一人親方団体控）'!AG315)","v":""},{"$f":"IF('保険料申告内訳名簿（一人親方団体控）'!AH315=\"\",\"\",'保険料申告内訳名簿（一人親方団体控）'!AH315)","v":""}]
[null,{"$f":"IF('保険料申告内訳名簿（一人親方団体控）'!B316=\"\",\"\",'保険料申告内訳名簿（一人親方団体控）'!B316)","v":""},{"$f":"IF('保険料申告内訳名簿（一人親方団体控）'!C316=\"\",\"\",'保険料申告内訳名簿（一人親方団体控）'!C316)","v":""},{"$f":"IF('保険料申告内訳名簿（一人親方団体控）'!D316=\"\",\"\",'保険料申告内訳名簿（一人親方団体控）'!D316)","v":""},{"$f":"IF('保険料申告内訳名簿（一人親方団体控）'!E316=\"\",\"\",'保険料申告内訳名簿（一人親方団体控）'!E316)","v":""},{"$f":"IF('保険料申告内訳名簿（一人親方団体控）'!F316=\"\",\"\",'保険料申告内訳名簿（一人親方団体控）'!F316)","v":""},{"$f":"IF('保険料申告内訳名簿（一人親方団体控）'!G316=\"\",\"\",'保険料申告内訳名簿（一人親方団体控）'!G316)","v":""},{"$f":"IF('保険料申告内訳名簿（一人親方団体控）'!H316=\"\",\"\",'保険料申告内訳名簿（一人親方団体控）'!H316)","v":""},{"$f":"IF('保険料申告内訳名簿（一人親方団体控）'!I316=\"\",\"\",'保険料申告内訳名簿（一人親方団体控）'!I316)","v":""},{"$f":"IF('保険料申告内訳名簿（一人親方団体控）'!J316=\"\",\"\",'保険料申告内訳名簿（一人親方団体控）'!J316)","v":""},{"$f":"IF('保険料申告内訳名簿（一人親方団体控）'!K316=\"\",\"\",'保険料申告内訳名簿（一人親方団体控）'!K316)","v":""},{"$f":"IF('保険料申告内訳名簿（一人親方団体控）'!L316=\"\",\"\",'保険料申告内訳名簿（一人親方団体控）'!L316)","v":""},{"$f":"IF('保険料申告内訳名簿（一人親方団体控）'!M316=\"\",\"\",'保険料申告内訳名簿（一人親方団体控）'!M316)","v":""},{"$f":"IF('保険料申告内訳名簿（一人親方団体控）'!N316=\"\",\"\",'保険料申告内訳名簿（一人親方団体控）'!N316)","v":""},{"$f":"IF('保険料申告内訳名簿（一人親方団体控）'!O316=\"\",\"\",'保険料申告内訳名簿（一人親方団体控）'!O316)","v":""},{"$f":"IF('保険料申告内訳名簿（一人親方団体控）'!P316=\"\",\"\",'保険料申告内訳名簿（一人親方団体控）'!P316)","v":""},{"$f":"IF('保険料申告内訳名簿（一人親方団体控）'!Q316=\"\",\"\",'保険料申告内訳名簿（一人親方団体控）'!Q316)","v":""},{"$f":"IF('保険料申告内訳名簿（一人親方団体控）'!R316=\"\",\"\",'保険料申告内訳名簿（一人親方団体控）'!R316)","v":""},{"$f":"IF('保険料申告内訳名簿（一人親方団体控）'!S316=\"\",\"\",'保険料申告内訳名簿（一人親方団体控）'!S316)","v":0},{"$f":"IF('保険料申告内訳名簿（一人親方団体控）'!T316=\"\",\"\",'保険料申告内訳名簿（一人親方団体控）'!T316)","v":""},{"$f":"IF('保険料申告内訳名簿（一人親方団体控）'!U316=\"\",\"\",'保険料申告内訳名簿（一人親方団体控）'!U316)","v":""},{"$f":"IF('保険料申告内訳名簿（一人親方団体控）'!V316=\"\",\"\",'保険料申告内訳名簿（一人親方団体控）'!V316)","v":""},{"$f":"IF('保険料申告内訳名簿（一人親方団体控）'!W316=\"\",\"\",'保険料申告内訳名簿（一人親方団体控）'!W316)","v":""},{"$f":"IF('保険料申告内訳名簿（一人親方団体控）'!X316=\"\",\"\",'保険料申告内訳名簿（一人親方団体控）'!X316)","v":""},{"$f":"IF('保険料申告内訳名簿（一人親方団体控）'!Y316=\"\",\"\",'保険料申告内訳名簿（一人親方団体控）'!Y316)","v":""},{"$f":"IF('保険料申告内訳名簿（一人親方団体控）'!Z316=\"\",\"\",'保険料申告内訳名簿（一人親方団体控）'!Z316)","v":""},{"$f":"IF('保険料申告内訳名簿（一人親方団体控）'!AA316=\"\",\"\",'保険料申告内訳名簿（一人親方団体控）'!AA316)","v":""},{"$f":"IF('保険料申告内訳名簿（一人親方団体控）'!AB316=\"\",\"\",'保険料申告内訳名簿（一人親方団体控）'!AB316)","v":""},{"$f":"IF('保険料申告内訳名簿（一人親方団体控）'!AC316=\"\",\"\",'保険料申告内訳名簿（一人親方団体控）'!AC316)","v":0},{"$f":"IF('保険料申告内訳名簿（一人親方団体控）'!AD316=\"\",\"\",'保険料申告内訳名簿（一人親方団体控）'!AD316)","v":""},{"$f":"IF('保険料申告内訳名簿（一人親方団体控）'!AE316=\"\",\"\",'保険料申告内訳名簿（一人親方団体控）'!AE316)","v":""},{"$f":"IF('保険料申告内訳名簿（一人親方団体控）'!AF316=\"\",\"\",'保険料申告内訳名簿（一人親方団体控）'!AF316)","v":""},{"$f":"IF('保険料申告内訳名簿（一人親方団体控）'!AG316=\"\",\"\",'保険料申告内訳名簿（一人親方団体控）'!AG316)","v":""},{"$f":"IF('保険料申告内訳名簿（一人親方団体控）'!AH316=\"\",\"\",'保険料申告内訳名簿（一人親方団体控）'!AH316)","v":""}]
[null,{"$f":"IF('保険料申告内訳名簿（一人親方団体控）'!B317=\"\",\"\",'保険料申告内訳名簿（一人親方団体控）'!B317)","v":""},{"$f":"IF('保険料申告内訳名簿（一人親方団体控）'!C317=\"\",\"\",'保険料申告内訳名簿（一人親方団体控）'!C317)","v":""},{"$f":"IF('保険料申告内訳名簿（一人親方団体控）'!D317=\"\",\"\",'保険料申告内訳名簿（一人親方団体控）'!D317)","v":""},{"$f":"IF('保険料申告内訳名簿（一人親方団体控）'!E317=\"\",\"\",'保険料申告内訳名簿（一人親方団体控）'!E317)","v":""},{"$f":"IF('保険料申告内訳名簿（一人親方団体控）'!F317=\"\",\"\",'保険料申告内訳名簿（一人親方団体控）'!F317)","v":""},{"$f":"IF('保険料申告内訳名簿（一人親方団体控）'!G317=\"\",\"\",'保険料申告内訳名簿（一人親方団体控）'!G317)","v":""},{"$f":"IF('保険料申告内訳名簿（一人親方団体控）'!H317=\"\",\"\",'保険料申告内訳名簿（一人親方団体控）'!H317)","v":""},{"$f":"IF('保険料申告内訳名簿（一人親方団体控）'!I317=\"\",\"\",'保険料申告内訳名簿（一人親方団体控）'!I317)","v":""},{"$f":"IF('保険料申告内訳名簿（一人親方団体控）'!J317=\"\",\"\",'保険料申告内訳名簿（一人親方団体控）'!J317)","v":""},{"$f":"IF('保険料申告内訳名簿（一人親方団体控）'!K317=\"\",\"\",'保険料申告内訳名簿（一人親方団体控）'!K317)","v":""},{"$f":"IF('保険料申告内訳名簿（一人親方団体控）'!L317=\"\",\"\",'保険料申告内訳名簿（一人親方団体控）'!L317)","v":""},{"$f":"IF('保険料申告内訳名簿（一人親方団体控）'!M317=\"\",\"\",'保険料申告内訳名簿（一人親方団体控）'!M317)","v":""},{"$f":"IF('保険料申告内訳名簿（一人親方団体控）'!N317=\"\",\"\",'保険料申告内訳名簿（一人親方団体控）'!N317)","v":""},{"$f":"IF('保険料申告内訳名簿（一人親方団体控）'!O317=\"\",\"\",'保険料申告内訳名簿（一人親方団体控）'!O317)","v":""},{"$f":"IF('保険料申告内訳名簿（一人親方団体控）'!P317=\"\",\"\",'保険料申告内訳名簿（一人親方団体控）'!P317)","v":""},{"$f":"IF('保険料申告内訳名簿（一人親方団体控）'!Q317=\"\",\"\",'保険料申告内訳名簿（一人親方団体控）'!Q317)","v":""},{"$f":"IF('保険料申告内訳名簿（一人親方団体控）'!R317=\"\",\"\",'保険料申告内訳名簿（一人親方団体控）'!R317)","v":""},{"$f":"IF('保険料申告内訳名簿（一人親方団体控）'!S317=\"\",\"\",'保険料申告内訳名簿（一人親方団体控）'!S317)","v":0},{"$f":"IF('保険料申告内訳名簿（一人親方団体控）'!T317=\"\",\"\",'保険料申告内訳名簿（一人親方団体控）'!T317)","v":""},{"$f":"IF('保険料申告内訳名簿（一人親方団体控）'!U317=\"\",\"\",'保険料申告内訳名簿（一人親方団体控）'!U317)","v":""},{"$f":"IF('保険料申告内訳名簿（一人親方団体控）'!V317=\"\",\"\",'保険料申告内訳名簿（一人親方団体控）'!V317)","v":""},{"$f":"IF('保険料申告内訳名簿（一人親方団体控）'!W317=\"\",\"\",'保険料申告内訳名簿（一人親方団体控）'!W317)","v":""},{"$f":"IF('保険料申告内訳名簿（一人親方団体控）'!X317=\"\",\"\",'保険料申告内訳名簿（一人親方団体控）'!X317)","v":""},{"$f":"IF('保険料申告内訳名簿（一人親方団体控）'!Y317=\"\",\"\",'保険料申告内訳名簿（一人親方団体控）'!Y317)","v":""},{"$f":"IF('保険料申告内訳名簿（一人親方団体控）'!Z317=\"\",\"\",'保険料申告内訳名簿（一人親方団体控）'!Z317)","v":""},{"$f":"IF('保険料申告内訳名簿（一人親方団体控）'!AA317=\"\",\"\",'保険料申告内訳名簿（一人親方団体控）'!AA317)","v":""},{"$f":"IF('保険料申告内訳名簿（一人親方団体控）'!AB317=\"\",\"\",'保険料申告内訳名簿（一人親方団体控）'!AB317)","v":""},{"$f":"IF('保険料申告内訳名簿（一人親方団体控）'!AC317=\"\",\"\",'保険料申告内訳名簿（一人親方団体控）'!AC317)","v":0},{"$f":"IF('保険料申告内訳名簿（一人親方団体控）'!AD317=\"\",\"\",'保険料申告内訳名簿（一人親方団体控）'!AD317)","v":""},{"$f":"IF('保険料申告内訳名簿（一人親方団体控）'!AE317=\"\",\"\",'保険料申告内訳名簿（一人親方団体控）'!AE317)","v":""},{"$f":"IF('保険料申告内訳名簿（一人親方団体控）'!AF317=\"\",\"\",'保険料申告内訳名簿（一人親方団体控）'!AF317)","v":""},{"$f":"IF('保険料申告内訳名簿（一人親方団体控）'!AG317=\"\",\"\",'保険料申告内訳名簿（一人親方団体控）'!AG317)","v":""},{"$f":"IF('保険料申告内訳名簿（一人親方団体控）'!AH317=\"\",\"\",'保険料申告内訳名簿（一人親方団体控）'!AH317)","v":""}]
[null,{"$f":"IF('保険料申告内訳名簿（一人親方団体控）'!B318=\"\",\"\",'保険料申告内訳名簿（一人親方団体控）'!B318)","v":""},{"$f":"IF('保険料申告内訳名簿（一人親方団体控）'!C318=\"\",\"\",'保険料申告内訳名簿（一人親方団体控）'!C318)","v":""},{"$f":"IF('保険料申告内訳名簿（一人親方団体控）'!D318=\"\",\"\",'保険料申告内訳名簿（一人親方団体控）'!D318)","v":""},{"$f":"IF('保険料申告内訳名簿（一人親方団体控）'!E318=\"\",\"\",'保険料申告内訳名簿（一人親方団体控）'!E318)","v":""},{"$f":"IF('保険料申告内訳名簿（一人親方団体控）'!F318=\"\",\"\",'保険料申告内訳名簿（一人親方団体控）'!F318)","v":""},{"$f":"IF('保険料申告内訳名簿（一人親方団体控）'!G318=\"\",\"\",'保険料申告内訳名簿（一人親方団体控）'!G318)","v":""},{"$f":"IF('保険料申告内訳名簿（一人親方団体控）'!H318=\"\",\"\",'保険料申告内訳名簿（一人親方団体控）'!H318)","v":""},{"$f":"IF('保険料申告内訳名簿（一人親方団体控）'!I318=\"\",\"\",'保険料申告内訳名簿（一人親方団体控）'!I318)","v":""},{"$f":"IF('保険料申告内訳名簿（一人親方団体控）'!J318=\"\",\"\",'保険料申告内訳名簿（一人親方団体控）'!J318)","v":""},{"$f":"IF('保険料申告内訳名簿（一人親方団体控）'!K318=\"\",\"\",'保険料申告内訳名簿（一人親方団体控）'!K318)","v":""},{"$f":"IF('保険料申告内訳名簿（一人親方団体控）'!L318=\"\",\"\",'保険料申告内訳名簿（一人親方団体控）'!L318)","v":""},{"$f":"IF('保険料申告内訳名簿（一人親方団体控）'!M318=\"\",\"\",'保険料申告内訳名簿（一人親方団体控）'!M318)","v":""},{"$f":"IF('保険料申告内訳名簿（一人親方団体控）'!N318=\"\",\"\",'保険料申告内訳名簿（一人親方団体控）'!N318)","v":""},{"$f":"IF('保険料申告内訳名簿（一人親方団体控）'!O318=\"\",\"\",'保険料申告内訳名簿（一人親方団体控）'!O318)","v":""},{"$f":"IF('保険料申告内訳名簿（一人親方団体控）'!P318=\"\",\"\",'保険料申告内訳名簿（一人親方団体控）'!P318)","v":""},{"$f":"IF('保険料申告内訳名簿（一人親方団体控）'!Q318=\"\",\"\",'保険料申告内訳名簿（一人親方団体控）'!Q318)","v":""},{"$f":"IF('保険料申告内訳名簿（一人親方団体控）'!R318=\"\",\"\",'保険料申告内訳名簿（一人親方団体控）'!R318)","v":""},{"$f":"IF('保険料申告内訳名簿（一人親方団体控）'!S318=\"\",\"\",'保険料申告内訳名簿（一人親方団体控）'!S318)","v":0},{"$f":"IF('保険料申告内訳名簿（一人親方団体控）'!T318=\"\",\"\",'保険料申告内訳名簿（一人親方団体控）'!T318)","v":""},{"$f":"IF('保険料申告内訳名簿（一人親方団体控）'!U318=\"\",\"\",'保険料申告内訳名簿（一人親方団体控）'!U318)","v":""},{"$f":"IF('保険料申告内訳名簿（一人親方団体控）'!V318=\"\",\"\",'保険料申告内訳名簿（一人親方団体控）'!V318)","v":""},{"$f":"IF('保険料申告内訳名簿（一人親方団体控）'!W318=\"\",\"\",'保険料申告内訳名簿（一人親方団体控）'!W318)","v":""},{"$f":"IF('保険料申告内訳名簿（一人親方団体控）'!X318=\"\",\"\",'保険料申告内訳名簿（一人親方団体控）'!X318)","v":""},{"$f":"IF('保険料申告内訳名簿（一人親方団体控）'!Y318=\"\",\"\",'保険料申告内訳名簿（一人親方団体控）'!Y318)","v":""},{"$f":"IF('保険料申告内訳名簿（一人親方団体控）'!Z318=\"\",\"\",'保険料申告内訳名簿（一人親方団体控）'!Z318)","v":""},{"$f":"IF('保険料申告内訳名簿（一人親方団体控）'!AA318=\"\",\"\",'保険料申告内訳名簿（一人親方団体控）'!AA318)","v":""},{"$f":"IF('保険料申告内訳名簿（一人親方団体控）'!AB318=\"\",\"\",'保険料申告内訳名簿（一人親方団体控）'!AB318)","v":""},{"$f":"IF('保険料申告内訳名簿（一人親方団体控）'!AC318=\"\",\"\",'保険料申告内訳名簿（一人親方団体控）'!AC318)","v":0},{"$f":"IF('保険料申告内訳名簿（一人親方団体控）'!AD318=\"\",\"\",'保険料申告内訳名簿（一人親方団体控）'!AD318)","v":""},{"$f":"IF('保険料申告内訳名簿（一人親方団体控）'!AE318=\"\",\"\",'保険料申告内訳名簿（一人親方団体控）'!AE318)","v":""},{"$f":"IF('保険料申告内訳名簿（一人親方団体控）'!AF318=\"\",\"\",'保険料申告内訳名簿（一人親方団体控）'!AF318)","v":""},{"$f":"IF('保険料申告内訳名簿（一人親方団体控）'!AG318=\"\",\"\",'保険料申告内訳名簿（一人親方団体控）'!AG318)","v":""},{"$f":"IF('保険料申告内訳名簿（一人親方団体控）'!AH318=\"\",\"\",'保険料申告内訳名簿（一人親方団体控）'!AH318)","v":""}]
[null,{"$f":"IF('保険料申告内訳名簿（一人親方団体控）'!B319=\"\",\"\",'保険料申告内訳名簿（一人親方団体控）'!B319)","v":""},{"$f":"IF('保険料申告内訳名簿（一人親方団体控）'!C319=\"\",\"\",'保険料申告内訳名簿（一人親方団体控）'!C319)","v":""},{"$f":"IF('保険料申告内訳名簿（一人親方団体控）'!D319=\"\",\"\",'保険料申告内訳名簿（一人親方団体控）'!D319)","v":""},{"$f":"IF('保険料申告内訳名簿（一人親方団体控）'!E319=\"\",\"\",'保険料申告内訳名簿（一人親方団体控）'!E319)","v":""},{"$f":"IF('保険料申告内訳名簿（一人親方団体控）'!F319=\"\",\"\",'保険料申告内訳名簿（一人親方団体控）'!F319)","v":""},{"$f":"IF('保険料申告内訳名簿（一人親方団体控）'!G319=\"\",\"\",'保険料申告内訳名簿（一人親方団体控）'!G319)","v":""},{"$f":"IF('保険料申告内訳名簿（一人親方団体控）'!H319=\"\",\"\",'保険料申告内訳名簿（一人親方団体控）'!H319)","v":""},{"$f":"IF('保険料申告内訳名簿（一人親方団体控）'!I319=\"\",\"\",'保険料申告内訳名簿（一人親方団体控）'!I319)","v":""},{"$f":"IF('保険料申告内訳名簿（一人親方団体控）'!J319=\"\",\"\",'保険料申告内訳名簿（一人親方団体控）'!J319)","v":""},{"$f":"IF('保険料申告内訳名簿（一人親方団体控）'!K319=\"\",\"\",'保険料申告内訳名簿（一人親方団体控）'!K319)","v":""},{"$f":"IF('保険料申告内訳名簿（一人親方団体控）'!L319=\"\",\"\",'保険料申告内訳名簿（一人親方団体控）'!L319)","v":""},{"$f":"IF('保険料申告内訳名簿（一人親方団体控）'!M319=\"\",\"\",'保険料申告内訳名簿（一人親方団体控）'!M319)","v":""},{"$f":"IF('保険料申告内訳名簿（一人親方団体控）'!N319=\"\",\"\",'保険料申告内訳名簿（一人親方団体控）'!N319)","v":""},{"$f":"IF('保険料申告内訳名簿（一人親方団体控）'!O319=\"\",\"\",'保険料申告内訳名簿（一人親方団体控）'!O319)","v":""},{"$f":"IF('保険料申告内訳名簿（一人親方団体控）'!P319=\"\",\"\",'保険料申告内訳名簿（一人親方団体控）'!P319)","v":""},{"$f":"IF('保険料申告内訳名簿（一人親方団体控）'!Q319=\"\",\"\",'保険料申告内訳名簿（一人親方団体控）'!Q319)","v":""},{"$f":"IF('保険料申告内訳名簿（一人親方団体控）'!R319=\"\",\"\",'保険料申告内訳名簿（一人親方団体控）'!R319)","v":""},{"$f":"IF('保険料申告内訳名簿（一人親方団体控）'!S319=\"\",\"\",'保険料申告内訳名簿（一人親方団体控）'!S319)","v":0},{"$f":"IF('保険料申告内訳名簿（一人親方団体控）'!T319=\"\",\"\",'保険料申告内訳名簿（一人親方団体控）'!T319)","v":""},{"$f":"IF('保険料申告内訳名簿（一人親方団体控）'!U319=\"\",\"\",'保険料申告内訳名簿（一人親方団体控）'!U319)","v":""},{"$f":"IF('保険料申告内訳名簿（一人親方団体控）'!V319=\"\",\"\",'保険料申告内訳名簿（一人親方団体控）'!V319)","v":""},{"$f":"IF('保険料申告内訳名簿（一人親方団体控）'!W319=\"\",\"\",'保険料申告内訳名簿（一人親方団体控）'!W319)","v":""},{"$f":"IF('保険料申告内訳名簿（一人親方団体控）'!X319=\"\",\"\",'保険料申告内訳名簿（一人親方団体控）'!X319)","v":""},{"$f":"IF('保険料申告内訳名簿（一人親方団体控）'!Y319=\"\",\"\",'保険料申告内訳名簿（一人親方団体控）'!Y319)","v":""},{"$f":"IF('保険料申告内訳名簿（一人親方団体控）'!Z319=\"\",\"\",'保険料申告内訳名簿（一人親方団体控）'!Z319)","v":""},{"$f":"IF('保険料申告内訳名簿（一人親方団体控）'!AA319=\"\",\"\",'保険料申告内訳名簿（一人親方団体控）'!AA319)","v":""},{"$f":"IF('保険料申告内訳名簿（一人親方団体控）'!AB319=\"\",\"\",'保険料申告内訳名簿（一人親方団体控）'!AB319)","v":""},{"$f":"IF('保険料申告内訳名簿（一人親方団体控）'!AC319=\"\",\"\",'保険料申告内訳名簿（一人親方団体控）'!AC319)","v":0},{"$f":"IF('保険料申告内訳名簿（一人親方団体控）'!AD319=\"\",\"\",'保険料申告内訳名簿（一人親方団体控）'!AD319)","v":""},{"$f":"IF('保険料申告内訳名簿（一人親方団体控）'!AE319=\"\",\"\",'保険料申告内訳名簿（一人親方団体控）'!AE319)","v":""},{"$f":"IF('保険料申告内訳名簿（一人親方団体控）'!AF319=\"\",\"\",'保険料申告内訳名簿（一人親方団体控）'!AF319)","v":""},{"$f":"IF('保険料申告内訳名簿（一人親方団体控）'!AG319=\"\",\"\",'保険料申告内訳名簿（一人親方団体控）'!AG319)","v":""},{"$f":"IF('保険料申告内訳名簿（一人親方団体控）'!AH319=\"\",\"\",'保険料申告内訳名簿（一人親方団体控）'!AH319)","v":""}]
[null,{"$f":"IF('保険料申告内訳名簿（一人親方団体控）'!B320=\"\",\"\",'保険料申告内訳名簿（一人親方団体控）'!B320)","v":""},{"$f":"IF('保険料申告内訳名簿（一人親方団体控）'!C320=\"\",\"\",'保険料申告内訳名簿（一人親方団体控）'!C320)","v":""},{"$f":"IF('保険料申告内訳名簿（一人親方団体控）'!D320=\"\",\"\",'保険料申告内訳名簿（一人親方団体控）'!D320)","v":""},{"$f":"IF('保険料申告内訳名簿（一人親方団体控）'!E320=\"\",\"\",'保険料申告内訳名簿（一人親方団体控）'!E320)","v":""},{"$f":"IF('保険料申告内訳名簿（一人親方団体控）'!F320=\"\",\"\",'保険料申告内訳名簿（一人親方団体控）'!F320)","v":""},{"$f":"IF('保険料申告内訳名簿（一人親方団体控）'!G320=\"\",\"\",'保険料申告内訳名簿（一人親方団体控）'!G320)","v":""},{"$f":"IF('保険料申告内訳名簿（一人親方団体控）'!H320=\"\",\"\",'保険料申告内訳名簿（一人親方団体控）'!H320)","v":""},{"$f":"IF('保険料申告内訳名簿（一人親方団体控）'!I320=\"\",\"\",'保険料申告内訳名簿（一人親方団体控）'!I320)","v":""},{"$f":"IF('保険料申告内訳名簿（一人親方団体控）'!J320=\"\",\"\",'保険料申告内訳名簿（一人親方団体控）'!J320)","v":""},{"$f":"IF('保険料申告内訳名簿（一人親方団体控）'!K320=\"\",\"\",'保険料申告内訳名簿（一人親方団体控）'!K320)","v":""},{"$f":"IF('保険料申告内訳名簿（一人親方団体控）'!L320=\"\",\"\",'保険料申告内訳名簿（一人親方団体控）'!L320)","v":""},{"$f":"IF('保険料申告内訳名簿（一人親方団体控）'!M320=\"\",\"\",'保険料申告内訳名簿（一人親方団体控）'!M320)","v":""},{"$f":"IF('保険料申告内訳名簿（一人親方団体控）'!N320=\"\",\"\",'保険料申告内訳名簿（一人親方団体控）'!N320)","v":""},{"$f":"IF('保険料申告内訳名簿（一人親方団体控）'!O320=\"\",\"\",'保険料申告内訳名簿（一人親方団体控）'!O320)","v":""},{"$f":"IF('保険料申告内訳名簿（一人親方団体控）'!P320=\"\",\"\",'保険料申告内訳名簿（一人親方団体控）'!P320)","v":""},{"$f":"IF('保険料申告内訳名簿（一人親方団体控）'!Q320=\"\",\"\",'保険料申告内訳名簿（一人親方団体控）'!Q320)","v":""},{"$f":"IF('保険料申告内訳名簿（一人親方団体控）'!R320=\"\",\"\",'保険料申告内訳名簿（一人親方団体控）'!R320)","v":""},{"$f":"IF('保険料申告内訳名簿（一人親方団体控）'!S320=\"\",\"\",'保険料申告内訳名簿（一人親方団体控）'!S320)","v":0},{"$f":"IF('保険料申告内訳名簿（一人親方団体控）'!T320=\"\",\"\",'保険料申告内訳名簿（一人親方団体控）'!T320)","v":""},{"$f":"IF('保険料申告内訳名簿（一人親方団体控）'!U320=\"\",\"\",'保険料申告内訳名簿（一人親方団体控）'!U320)","v":""},{"$f":"IF('保険料申告内訳名簿（一人親方団体控）'!V320=\"\",\"\",'保険料申告内訳名簿（一人親方団体控）'!V320)","v":""},{"$f":"IF('保険料申告内訳名簿（一人親方団体控）'!W320=\"\",\"\",'保険料申告内訳名簿（一人親方団体控）'!W320)","v":""},{"$f":"IF('保険料申告内訳名簿（一人親方団体控）'!X320=\"\",\"\",'保険料申告内訳名簿（一人親方団体控）'!X320)","v":""},{"$f":"IF('保険料申告内訳名簿（一人親方団体控）'!Y320=\"\",\"\",'保険料申告内訳名簿（一人親方団体控）'!Y320)","v":""},{"$f":"IF('保険料申告内訳名簿（一人親方団体控）'!Z320=\"\",\"\",'保険料申告内訳名簿（一人親方団体控）'!Z320)","v":""},{"$f":"IF('保険料申告内訳名簿（一人親方団体控）'!AA320=\"\",\"\",'保険料申告内訳名簿（一人親方団体控）'!AA320)","v":""},{"$f":"IF('保険料申告内訳名簿（一人親方団体控）'!AB320=\"\",\"\",'保険料申告内訳名簿（一人親方団体控）'!AB320)","v":""},{"$f":"IF('保険料申告内訳名簿（一人親方団体控）'!AC320=\"\",\"\",'保険料申告内訳名簿（一人親方団体控）'!AC320)","v":0},{"$f":"IF('保険料申告内訳名簿（一人親方団体控）'!AD320=\"\",\"\",'保険料申告内訳名簿（一人親方団体控）'!AD320)","v":""},{"$f":"IF('保険料申告内訳名簿（一人親方団体控）'!AE320=\"\",\"\",'保険料申告内訳名簿（一人親方団体控）'!AE320)","v":""},{"$f":"IF('保険料申告内訳名簿（一人親方団体控）'!AF320=\"\",\"\",'保険料申告内訳名簿（一人親方団体控）'!AF320)","v":""},{"$f":"IF('保険料申告内訳名簿（一人親方団体控）'!AG320=\"\",\"\",'保険料申告内訳名簿（一人親方団体控）'!AG320)","v":""},{"$f":"IF('保険料申告内訳名簿（一人親方団体控）'!AH320=\"\",\"\",'保険料申告内訳名簿（一人親方団体控）'!AH320)","v":""}]
[null,{"$f":"IF('保険料申告内訳名簿（一人親方団体控）'!B321=\"\",\"\",'保険料申告内訳名簿（一人親方団体控）'!B321)","v":""},{"$f":"IF('保険料申告内訳名簿（一人親方団体控）'!C321=\"\",\"\",'保険料申告内訳名簿（一人親方団体控）'!C321)","v":""},{"$f":"IF('保険料申告内訳名簿（一人親方団体控）'!D321=\"\",\"\",'保険料申告内訳名簿（一人親方団体控）'!D321)","v":""},{"$f":"IF('保険料申告内訳名簿（一人親方団体控）'!E321=\"\",\"\",'保険料申告内訳名簿（一人親方団体控）'!E321)","v":""},{"$f":"IF('保険料申告内訳名簿（一人親方団体控）'!F321=\"\",\"\",'保険料申告内訳名簿（一人親方団体控）'!F321)","v":""},{"$f":"IF('保険料申告内訳名簿（一人親方団体控）'!G321=\"\",\"\",'保険料申告内訳名簿（一人親方団体控）'!G321)","v":""},{"$f":"IF('保険料申告内訳名簿（一人親方団体控）'!H321=\"\",\"\",'保険料申告内訳名簿（一人親方団体控）'!H321)","v":""},{"$f":"IF('保険料申告内訳名簿（一人親方団体控）'!I321=\"\",\"\",'保険料申告内訳名簿（一人親方団体控）'!I321)","v":""},{"$f":"IF('保険料申告内訳名簿（一人親方団体控）'!J321=\"\",\"\",'保険料申告内訳名簿（一人親方団体控）'!J321)","v":""},{"$f":"IF('保険料申告内訳名簿（一人親方団体控）'!K321=\"\",\"\",'保険料申告内訳名簿（一人親方団体控）'!K321)","v":""},{"$f":"IF('保険料申告内訳名簿（一人親方団体控）'!L321=\"\",\"\",'保険料申告内訳名簿（一人親方団体控）'!L321)","v":""},{"$f":"IF('保険料申告内訳名簿（一人親方団体控）'!M321=\"\",\"\",'保険料申告内訳名簿（一人親方団体控）'!M321)","v":""},{"$f":"IF('保険料申告内訳名簿（一人親方団体控）'!N321=\"\",\"\",'保険料申告内訳名簿（一人親方団体控）'!N321)","v":""},{"$f":"IF('保険料申告内訳名簿（一人親方団体控）'!O321=\"\",\"\",'保険料申告内訳名簿（一人親方団体控）'!O321)","v":""},{"$f":"IF('保険料申告内訳名簿（一人親方団体控）'!P321=\"\",\"\",'保険料申告内訳名簿（一人親方団体控）'!P321)","v":""},{"$f":"IF('保険料申告内訳名簿（一人親方団体控）'!Q321=\"\",\"\",'保険料申告内訳名簿（一人親方団体控）'!Q321)","v":""},{"$f":"IF('保険料申告内訳名簿（一人親方団体控）'!R321=\"\",\"\",'保険料申告内訳名簿（一人親方団体控）'!R321)","v":""},{"$f":"IF('保険料申告内訳名簿（一人親方団体控）'!S321=\"\",\"\",'保険料申告内訳名簿（一人親方団体控）'!S321)","v":0},{"$f":"IF('保険料申告内訳名簿（一人親方団体控）'!T321=\"\",\"\",'保険料申告内訳名簿（一人親方団体控）'!T321)","v":""},{"$f":"IF('保険料申告内訳名簿（一人親方団体控）'!U321=\"\",\"\",'保険料申告内訳名簿（一人親方団体控）'!U321)","v":""},{"$f":"IF('保険料申告内訳名簿（一人親方団体控）'!V321=\"\",\"\",'保険料申告内訳名簿（一人親方団体控）'!V321)","v":""},{"$f":"IF('保険料申告内訳名簿（一人親方団体控）'!W321=\"\",\"\",'保険料申告内訳名簿（一人親方団体控）'!W321)","v":""},{"$f":"IF('保険料申告内訳名簿（一人親方団体控）'!X321=\"\",\"\",'保険料申告内訳名簿（一人親方団体控）'!X321)","v":""},{"$f":"IF('保険料申告内訳名簿（一人親方団体控）'!Y321=\"\",\"\",'保険料申告内訳名簿（一人親方団体控）'!Y321)","v":""},{"$f":"IF('保険料申告内訳名簿（一人親方団体控）'!Z321=\"\",\"\",'保険料申告内訳名簿（一人親方団体控）'!Z321)","v":""},{"$f":"IF('保険料申告内訳名簿（一人親方団体控）'!AA321=\"\",\"\",'保険料申告内訳名簿（一人親方団体控）'!AA321)","v":""},{"$f":"IF('保険料申告内訳名簿（一人親方団体控）'!AB321=\"\",\"\",'保険料申告内訳名簿（一人親方団体控）'!AB321)","v":""},{"$f":"IF('保険料申告内訳名簿（一人親方団体控）'!AC321=\"\",\"\",'保険料申告内訳名簿（一人親方団体控）'!AC321)","v":0},{"$f":"IF('保険料申告内訳名簿（一人親方団体控）'!AD321=\"\",\"\",'保険料申告内訳名簿（一人親方団体控）'!AD321)","v":""},{"$f":"IF('保険料申告内訳名簿（一人親方団体控）'!AE321=\"\",\"\",'保険料申告内訳名簿（一人親方団体控）'!AE321)","v":""},{"$f":"IF('保険料申告内訳名簿（一人親方団体控）'!AF321=\"\",\"\",'保険料申告内訳名簿（一人親方団体控）'!AF321)","v":""},{"$f":"IF('保険料申告内訳名簿（一人親方団体控）'!AG321=\"\",\"\",'保険料申告内訳名簿（一人親方団体控）'!AG321)","v":""},{"$f":"IF('保険料申告内訳名簿（一人親方団体控）'!AH321=\"\",\"\",'保険料申告内訳名簿（一人親方団体控）'!AH321)","v":""}]
[null,{"$f":"IF('保険料申告内訳名簿（一人親方団体控）'!B322=\"\",\"\",'保険料申告内訳名簿（一人親方団体控）'!B322)","v":""},{"$f":"IF('保険料申告内訳名簿（一人親方団体控）'!C322=\"\",\"\",'保険料申告内訳名簿（一人親方団体控）'!C322)","v":""},{"$f":"IF('保険料申告内訳名簿（一人親方団体控）'!D322=\"\",\"\",'保険料申告内訳名簿（一人親方団体控）'!D322)","v":""},{"$f":"IF('保険料申告内訳名簿（一人親方団体控）'!E322=\"\",\"\",'保険料申告内訳名簿（一人親方団体控）'!E322)","v":""},{"$f":"IF('保険料申告内訳名簿（一人親方団体控）'!F322=\"\",\"\",'保険料申告内訳名簿（一人親方団体控）'!F322)","v":""},{"$f":"IF('保険料申告内訳名簿（一人親方団体控）'!G322=\"\",\"\",'保険料申告内訳名簿（一人親方団体控）'!G322)","v":""},{"$f":"IF('保険料申告内訳名簿（一人親方団体控）'!H322=\"\",\"\",'保険料申告内訳名簿（一人親方団体控）'!H322)","v":""},{"$f":"IF('保険料申告内訳名簿（一人親方団体控）'!I322=\"\",\"\",'保険料申告内訳名簿（一人親方団体控）'!I322)","v":""},{"$f":"IF('保険料申告内訳名簿（一人親方団体控）'!J322=\"\",\"\",'保険料申告内訳名簿（一人親方団体控）'!J322)","v":""},{"$f":"IF('保険料申告内訳名簿（一人親方団体控）'!K322=\"\",\"\",'保険料申告内訳名簿（一人親方団体控）'!K322)","v":""},{"$f":"IF('保険料申告内訳名簿（一人親方団体控）'!L322=\"\",\"\",'保険料申告内訳名簿（一人親方団体控）'!L322)","v":""},{"$f":"IF('保険料申告内訳名簿（一人親方団体控）'!M322=\"\",\"\",'保険料申告内訳名簿（一人親方団体控）'!M322)","v":""},{"$f":"IF('保険料申告内訳名簿（一人親方団体控）'!N322=\"\",\"\",'保険料申告内訳名簿（一人親方団体控）'!N322)","v":""},{"$f":"IF('保険料申告内訳名簿（一人親方団体控）'!O322=\"\",\"\",'保険料申告内訳名簿（一人親方団体控）'!O322)","v":""},{"$f":"IF('保険料申告内訳名簿（一人親方団体控）'!P322=\"\",\"\",'保険料申告内訳名簿（一人親方団体控）'!P322)","v":""},{"$f":"IF('保険料申告内訳名簿（一人親方団体控）'!Q322=\"\",\"\",'保険料申告内訳名簿（一人親方団体控）'!Q322)","v":""},{"$f":"IF('保険料申告内訳名簿（一人親方団体控）'!R322=\"\",\"\",'保険料申告内訳名簿（一人親方団体控）'!R322)","v":""},{"$f":"IF('保険料申告内訳名簿（一人親方団体控）'!S322=\"\",\"\",'保険料申告内訳名簿（一人親方団体控）'!S322)","v":0},{"$f":"IF('保険料申告内訳名簿（一人親方団体控）'!T322=\"\",\"\",'保険料申告内訳名簿（一人親方団体控）'!T322)","v":""},{"$f":"IF('保険料申告内訳名簿（一人親方団体控）'!U322=\"\",\"\",'保険料申告内訳名簿（一人親方団体控）'!U322)","v":""},{"$f":"IF('保険料申告内訳名簿（一人親方団体控）'!V322=\"\",\"\",'保険料申告内訳名簿（一人親方団体控）'!V322)","v":""},{"$f":"IF('保険料申告内訳名簿（一人親方団体控）'!W322=\"\",\"\",'保険料申告内訳名簿（一人親方団体控）'!W322)","v":""},{"$f":"IF('保険料申告内訳名簿（一人親方団体控）'!X322=\"\",\"\",'保険料申告内訳名簿（一人親方団体控）'!X322)","v":""},{"$f":"IF('保険料申告内訳名簿（一人親方団体控）'!Y322=\"\",\"\",'保険料申告内訳名簿（一人親方団体控）'!Y322)","v":""},{"$f":"IF('保険料申告内訳名簿（一人親方団体控）'!Z322=\"\",\"\",'保険料申告内訳名簿（一人親方団体控）'!Z322)","v":""},{"$f":"IF('保険料申告内訳名簿（一人親方団体控）'!AA322=\"\",\"\",'保険料申告内訳名簿（一人親方団体控）'!AA322)","v":""},{"$f":"IF('保険料申告内訳名簿（一人親方団体控）'!AB322=\"\",\"\",'保険料申告内訳名簿（一人親方団体控）'!AB322)","v":""},{"$f":"IF('保険料申告内訳名簿（一人親方団体控）'!AC322=\"\",\"\",'保険料申告内訳名簿（一人親方団体控）'!AC322)","v":0},{"$f":"IF('保険料申告内訳名簿（一人親方団体控）'!AD322=\"\",\"\",'保険料申告内訳名簿（一人親方団体控）'!AD322)","v":""},{"$f":"IF('保険料申告内訳名簿（一人親方団体控）'!AE322=\"\",\"\",'保険料申告内訳名簿（一人親方団体控）'!AE322)","v":""},{"$f":"IF('保険料申告内訳名簿（一人親方団体控）'!AF322=\"\",\"\",'保険料申告内訳名簿（一人親方団体控）'!AF322)","v":""},{"$f":"IF('保険料申告内訳名簿（一人親方団体控）'!AG322=\"\",\"\",'保険料申告内訳名簿（一人親方団体控）'!AG322)","v":""},{"$f":"IF('保険料申告内訳名簿（一人親方団体控）'!AH322=\"\",\"\",'保険料申告内訳名簿（一人親方団体控）'!AH322)","v":""}]
[null,null,null,null,null,null,null,null,null,null,null,null,null,null,null,null,null,null,{"$f":"IF('保険料申告内訳名簿（一人親方団体控）'!S323=\"\",\"\",'保険料申告内訳名簿（一人親方団体控）'!S323)","v":0},{"$f":"IF('保険料申告内訳名簿（一人親方団体控）'!T323=\"\",\"\",'保険料申告内訳名簿（一人親方団体控）'!T323)","v":""},{"$f":"IF('保険料申告内訳名簿（一人親方団体控）'!U323=\"\",\"\",'保険料申告内訳名簿（一人親方団体控）'!U323)","v":""},{"$f":"IF('保険料申告内訳名簿（一人親方団体控）'!V323=\"\",\"\",'保険料申告内訳名簿（一人親方団体控）'!V323)","v":""},{"$f":"IF('保険料申告内訳名簿（一人親方団体控）'!W323=\"\",\"\",'保険料申告内訳名簿（一人親方団体控）'!W323)","v":""},{"$f":"IF('保険料申告内訳名簿（一人親方団体控）'!X323=\"\",\"\",'保険料申告内訳名簿（一人親方団体控）'!X323)","v":""},null,null,null,null,{"$f":"IF('保険料申告内訳名簿（一人親方団体控）'!AC323=\"\",\"\",'保険料申告内訳名簿（一人親方団体控）'!AC323)","v":0},{"$f":"IF('保険料申告内訳名簿（一人親方団体控）'!AD323=\"\",\"\",'保険料申告内訳名簿（一人親方団体控）'!AD323)","v":""},{"$f":"IF('保険料申告内訳名簿（一人親方団体控）'!AE323=\"\",\"\",'保険料申告内訳名簿（一人親方団体控）'!AE323)","v":""},{"$f":"IF('保険料申告内訳名簿（一人親方団体控）'!AF323=\"\",\"\",'保険料申告内訳名簿（一人親方団体控）'!AF323)","v":""},{"$f":"IF('保険料申告内訳名簿（一人親方団体控）'!AG323=\"\",\"\",'保険料申告内訳名簿（一人親方団体控）'!AG323)","v":""},{"$f":"IF('保険料申告内訳名簿（一人親方団体控）'!AH323=\"\",\"\",'保険料申告内訳名簿（一人親方団体控）'!AH323)","v":""}]
[]
[null,"（注）"]
[null,null,"１）　④欄は月割の対象となる方のみ記入して下さい。"]
[null,null,"２）　月割の対象となる場合の⑤保険料算定基礎額の算定方法"]
[null,null,"２）　月割の対象となる場合の③（給付基礎日額×365÷12）（円未満を切り上げてから）×加入月数"]

{"sheet":"マスタ","index":5,"n_rows":20,"n_cols":4,"rows_kept":20,"cut":false,"hidden":true,"merged":[]}
[]
[]
[null,"特別加入の継続","元号","給付基礎日額"]
[]
[null,"希望する","令和６",25000]
[null,"希望しない","令和７",24000]
[null,"該当なし","令和８",22000]
[null,null,"令和９",20000]
[null,null,"令和１０",18000]
[null,null,null,16000]
[null,null,null,14000]
[null,null,null,12000]
[null,null,null,10000]
[null,null,null,9000]
[null,null,null,8000]
[null,null,null,7000]
[null,null,null,6000]
[null,null,null,5000]
[null,null,null,4000]
[null,null,null,3500]