Workbook

Sheet 様式第１号（１枚目）
B1: 様式第１号
I2: 令和 8年度労働保険事務組合報奨金交付申請書(提出用) | BG2: （ | BI2: 枚のうち | BM2: 枚目）
B5: 下記のとおり報奨金の交付を請求します。 | N5: ● | Q5: 色の欄へ入力してください。 | AE5: 令和 | AI5: 年 | AL5: 月 | AO5: 日 | AR5: (振込を希望する金融機関)
O6: （数値の計欄については、自動入力されます） | AQ6: 金融機関 | AR6: （名称） | BE6: ゆうちょ銀行 | BF6: （名称）
AV7: 銀行 | BC7: 支店
B8: 佐賀 | K8: 労働保険事務組合の 名称 | AF8: 電話番号
I9: 労働局長 殿
AR10: （口座）
K11: 所在地 | AF11: 郵便番号 | AS11: 普通 | AW11: 第 | BC11: 号 | BF11: （所在地）
AR13: （名義人）
K14: 代表者氏名 | AF14: 作成者氏名
N19: ● | Q19: 色の欄へ入力してください。
O20: （数値の計欄については、自動入力されます）
B22: 【令和7年度概算・確定保険料納付状況】
B23: 基幹番号 | H23: ① | O23: 令和7年度概算・ 確定保険料に係る | W23: ④ | AB23: ⑤ | AG23: ⑥ | AL23: ⑦ | AQ23: ⑧ | AU23: ⑨ | AY23: ⑩ | BD23: 規模・保険関係別委託事業数
H24: 令和7年度確定 保険料総額 | AB24: ①に係る 納付済額 | AG24: ⑤のうち督促 を受けた額 | AL24: (⑤ － ⑥) | AQ24: ②に係る 納付済額 | AU24: ③に係る 納付済額 | AY24: (⑤＋⑧＋⑨)
O25: ② | S25: ③ | W25: (①＋②＋③) | BD25: ⑪ | BE25: 甲 | BH25: ⑫ | BI25: 乙
O26: 追徴金 | S26: 延滞金 | BD26: Ａ | BF26: Ｂ | BH26: Ａ | BJ26: Ｂ
W27: =SUM(H27:V27) -> 0 | AL27: =AB27-AG27 -> 0 | AY27: =AB27+AQ27+AU27 -> 0
W28: =SUM(H28:V28) -> 0 | AL28: =AB28-AG28 -> 0 | AY28: =AB28+AQ28+AU28 -> 0
W29: =SUM(H29:V29) -> 0 | AL29: =AB29-AG29 -> 0 | AY29: =AB29+AQ29+AU29 -> 0
W30: =SUM(H30:V30) -> 0 | AL30: =AB30-AG30 -> 0 | AY30: =AB30+AQ30+AU30 -> 0
W31: =SUM(H31:V31) -> 0 | AL31: =AB31-AG31 -> 0 | AY31: =AB31+AQ31+AU31 -> 0
W32: =SUM(H32:V32) -> 0 | AL32: =AB32-AG32 -> 0 | AY32: =AB32+AQ32+AU32 -> 0
W33: =SUM(H33:V33) -> 0 | AL33: =AB33-AG33 -> 0 | AY33: =AB33+AQ33+AU33 -> 0
W34: =SUM(H34:V34) -> 0 | AL34: =AB34-AG34 -> 0 | AY34: =AB34+AQ34+AU34 -> 0
W35: =SUM(H35:V35) -> 0 | AL35: =AB35-AG35 -> 0 | AY35: =AB35+AQ35+AU35 -> 0
W36: =SUM(H36:V36) -> 0 | AL36: =AB36-AG36 -> 0 | AY36: =AB36+AQ36+AU36 -> 0
W37: =SUM(H37:V37) -> 0 | AL37: =AB37-AG37 -> 0 | AY37: =AB37+AQ37+AU37 -> 0
W38: =SUM(H38:V38) -> 0 | AL38: =AB38-AG38 -> 0 | AY38: =AB38+AQ38+AU38 -> 0
... W41: =SUM(H41:V41) -> 0 | AL41: =AB41-AG41 -> 0 | AY41: =AB41+AQ41+AU41 -> 0
B42: 小計 | W42: イ | AL42: ロ | AY42: ハ | BD42: ニ | BF42: ホ | BH42: ヘ | BJ42: ト
H43: =SUM(H27:N41) -> 0 | O43: =SUM(O27:R41) -> 0 | S43: =SUM(S27:V41) -> 0 | W43: =SUM(W27:AA41) -> 0 | AB43: =SUM(AB27:AF41) -> 0 | AG43: =SUM(AG27:AK41) -> 0 | AL43: =SUM(AL27:AP41) -> 0 | AQ43: =SUM(AQ27:AT41) -> 0 | AU43: =SUM(AU27:AX41) -> 0 | AY43: =SUM(AY27:BC41) -> 0 | BD43: =SUM(BD27:BE41) -> 0 | BF43: =SUM(BF27:BG41) -> 0 | BH43: =SUM(BH27:BI41) -> 0 | BJ43: =SUM(BJ27:BK41) -> 0

Sheet 様式第１号（2枚目）
D1: ● | G1: 色の欄へ入力してください。 | BO1: ( 枚のうち 枚目)
E2: （数値の計については、自動入力されます）
B3: 【令和7年度算定基礎調査等に係る差額保険料納付状況】 | BA3: 【口座振替制採用の有無等】
B4: 基幹番号 | H4: 令和7年度算定基礎調査等に係る差額保険料 | V4: 差額保険料に係る | AB4: ⑰ | AH4: ⑱ | AM4: ⑲ | AQ4: ⑳ | AU4: ㉑
AH5: (⑬－⑭)に係る 納付済額 | AM5: ⑮に係る 納付済額 | AQ5: ⑯に係る 納付済額 | BA5: （１） 口座振替制採用の有無 | BI5: 選択▼
H6: ⑬ 増額分 | O6: ⑭ 減額分 | V6: ⑮ | Y6: ⑯ | AB6: (⑬－⑭＋⑮＋⑯) | AU6: (⑱＋⑲＋⑳) | BA6: =IF(OR(BI5="1",BI5="1及び2"),"○","") | BB6: １. 総コンシステムにより採用
V7: 追徴金 | Y7: 延滞金 | BA7: =IF(OR(BI5="2",BI5="1及び2"),"○","") | BB7: ２. 総コンシステム以外の方法により採用
AB8: =H8-O8+V8+Y8 -> 0 | AU8: =SUM(AH8:AT8) -> 0 | BA8: =IF(BI5="3","○","") | BB8: ３. 採用していない
AB9: =H9-O9+V9+Y9 -> 0 | AU9: =SUM(AH9:AT9) -> 0
AB10: =H10-O10+V10+Y10 -> 0 | AU10: =SUM(AH10:AT10) -> 0 | BA10: （２） 口座振替制利用率
AB11: =H11-O11+V11+Y11 -> 0 | AU11: =SUM(AH11:AT11) -> 0 | BB11: 全委託事業数
AB12: =H12-O12+V12+Y12 -> 0 | AU12: =SUM(AH12:AT12) -> 0
AB13: =H13-O13+V13+Y13 -> 0 | AU13: =SUM(AH13:AT13) -> 0 | BB13: 口座振替制利用事業数
AB14: =H14-O14+V14+Y14 -> 0 | AU14: =SUM(AH14:AT14) -> 0
AB15: =H15-O15+V15+Y15 -> 0 | AU15: =SUM(AH15:AT15) -> 0 | BB15: 口座振替制利用率 | BI15: =IF(BI5="3","0",ROUNDDOWN(BI13/BI11*100,1)) -> #DIV/0! | BN15: ％
AB16: =H16-O16+V16+Y16 -> 0 | AU16: =SUM(AH16:AT16) -> 0
AB17: =H17-O17+V17+Y17 -> 0 | AU17: =SUM(AH17:AT17) -> 0
B18: 小計 | O18: a | AB18: b | AU18: c
H19: =SUM(H8:N17) -> 0 | O19: =SUM(O8:U17) -> 0 | V19: =SUM(V8:X17) -> 0 | Y19: =SUM(Y8:AA17) -> 0 | AB19: =SUM(AB8:AG17) -> 0 | AH19: =SUM(AH8:AL17) -> 0 | AM19: =SUM(AM8:AP17) -> 0 | AQ19: =SUM(AQ8:AT17) -> 0 | AU19: =SUM(AU8:AY17) -> 0
B22: 前年度報奨金交付要件 労働保険料総額 | M22: 前年度報奨金交付要件 労働保険料納付済額
B24: d（イ＋b） | M24: e（ハ＋c）
B25: ='様式第１号（１枚目）'!W43+'様式第１号（2枚目）'!AB19 -> 0 | M25: ='様式第１号（１枚目）'!AY43+'様式第１号（2枚目）'!AU19 -> 0
AR27: ● | AU27: 色の欄へ入力してください。
B28: 【総 括】 | AS28: （数値の計については、自動入力されます）
B29: （１） 納付率等 | L29: （２） 報奨金算定基準日 | U29: （３） 定率及び定額による額（所定額）
B31: 納付率（ e／d ） | G31: =M25/B25*100 -> #DIV/0! | J31: ％ | L31: =IF(L33<>"○","○","") -> #DIV/0! | M31: １ | N31: ７／10 | V31: 定率分 | AD31: 定額分 | BB31: 合計
B33: 前年度保険料 滞納処分の有無 | G33: 無 | L33: =IF(AND(OR(BI5="1",BI5="2",BI5="1及び2"),BI15>=50),"○","") -> #DIV/0! | M33: ２ | N33: ７／17 | AD33: 12400 | AJ33: 6200 | AP33: 6200 | AV33: 3100
J35: 令和７年度報奨金交付 要件一般拠出金総額 | N35: ７／17の場合の理由 | R35: 令和７年度報奨金交付 要件一般拠出金納付済額 | V35: (ロ－a )×2.0／100 | AD35: ニ | AF35: ニ×12,400円 | AJ35: ホ | AL35: ホ×6,200円 | AP35: へ | AR35: へ×6,200円 | AV35: ト | AX35: ト×3,100円 | BB35: α | BD35: ㉒
V36: =ROUNDDOWN(('様式第１号（１枚目）'!AL43-'様式第１号（2枚目）'!O19)*2/100,0) -> 0 | AD36: ='様式第１号（１枚目）'!BD43 -> 0 | AF36: =AD36*12400 -> 0 | AJ36: ='様式第１号（１枚目）'!BF43 -> 0 | AL36: =AJ36*6200 -> 0 | AP36: ='様式第１号（１枚目）'!BH43 -> 0 | AR36: =AP36*6200 -> 0 | AV36: ='様式第１号（１枚目）'!BJ43 -> 0 | AX36: =AV36*3100 -> 0 | BB36: =IF(AD36+AJ36+AP36+AV36>1000,"1,000",AD36+AJ36+AP36+AV36) -> 0 | BD36: =ROUNDDOWN(V36+AF36+AL36+AR36+AX36,-2) -> 0
B41: ※ 調整措置による額（㉒＞（ロ－a）の場合） | O41: ※ ５％減額措置による減 | AB41: ※ 交付予定額 | AQ41: （事務組合名）
B42: ㉓（ロ－a） | M42: 円 | O42: ㉔ | Z42: 円 | AB42: ㉕ | AM42: 円
AB43: =IF(G31<95,"納付率が95%未満のため不支給",IF(BD36>=30000000,"上限3,000万円","")) -> #DIV/0!

Sheet 様式第１号（３枚目）
BM2: ( 枚のうち 枚目)
D5: 【令和７年度一般拠出金納付状況】
D6: 基幹番号 | J6: ① | Q6: ②
J7: 令和 8 年度 一般拠出金総額 | Q7: ①に係る 納付済額
Z11: ● | AC11: 色の欄へ入力してください。 | AV11: （事務組合名）
AA12: （数値の計については、自動入力されます）
D17: 合計 | J17: イ | K17: =SUM(J10:P16) -> 0 | Q17: ロ | R17: =SUM(Q10:U16) -> 0
D20: 【令和 年度算定基礎調査等に係る差額一般拠出金納付状況】
D21: 基幹番号 | J21: 令和 年度算定基礎調査等に係る差額一般拠出金 | X21: 差額一般拠出金に係る | AF21: ⑦ | AL21: ⑧ | AQ21: ⑨ | AU21: ⑩ | AY21: ⑪
AL22: (③－④)に係る 納付済額 | AQ22: ⑤に係る 納付済額 | AU22: ⑥に係る 納付済額
J23: ③ 増額分 | Q23: ④ 減額分 | X23: ⑤ 追徴金 | AB23: ⑥ 延滞金 | AF23: (③－④＋⑤＋⑥) | AY23: (⑧＋⑨＋⑩)
AF25: =J25-Q25+X25+AB25 -> 0 | AY25: =SUM(AL25:AX25) -> 0
AF26: =J26-Q26+X26+AB26 -> 0 | AY26: =SUM(AL26:AX26) -> 0
AF27: =J27-Q27+X27+AB27 -> 0 | AY27: =SUM(AL27:AX27) -> 0
AF28: =J28-Q28+X28+AB28 -> 0 | AY28: =SUM(AL28:AX28) -> 0
AF29: =J29-Q29+X29+AB29 -> 0 | AY29: =SUM(AL29:AX29) -> 0
AF30: =J30-Q30+X30+AB30 -> 0 | AY30: =SUM(AL30:AX30) -> 0
AF31: =J31-Q31+X31+AB31 -> 0 | AY31: =SUM(AL31:AX31) -> 0
D32: 合計 | J32: =SUM(J25:P31) -> 0 | Q32: a | R32: =SUM(Q25:W31) -> 0 | X32: =SUM(X25:AA31) -> 0 | AB32: =SUM(AB25:AE31) -> 0 | AF32: b | AG32: =SUM(AF25:AK31) -> 0 | AL32: =SUM(AL25:AP31) -> 0 | AQ32: =SUM(AQ25:AT31) -> 0 | AU32: =SUM(AU25:AX31) -> 0 | AY32: c | AZ32: =SUM(AY25:BC31) -> 0
D35: 合計 | J35: 令和７年度報奨金交付 要件一般拠出金総額 | R35: 令和７年度報奨金交付 要件一般拠出金納付済額
J37: d ( イ ＋ b ) | R37: e ( ロ ＋ c )
J38: =K17+AG32 -> 0 | R38: =R17+AZ32 -> 0
B40: 【総 括】
B41: （１） 納付率等 | Q41: （２） 報奨金算定基準日 | Z41: （３） 所定額（定率） | AS41: ※ ５％減額措置による減
Q42: ='様式第１号（2枚目）'!L31 -> #DIV/0! | R42: １ | S42: ７／1０ | AS42: ⑬ | BC42: 円
C43: 納付率（ e／d ） | I43: =R38/J38*100 -> #DIV/0! | P43: ％ | AA43: 所定額
Q44: ='様式第１号（2枚目）'!L33 -> #DIV/0! | R44: ２ | S44: ７／1７
C46: 前年度一般拠出金の 滞納処分の有無 | S46: ７／1７の場合の理由 | AA46: ⑫ | AB46: (ロ－a )×3.5／100 | AS46: ※ 交付予定額
AA47: =ROUNDDOWN((R17-R32)*3.5/100,-2) -> 0 | AS47: ⑭ | BC47: 円

Sheet 様式第１号の２
BO2: 様式第１号の２
BO4: ( 枚のうち 枚目)
AF5: （事務組合名）
C9: ㉖ | L9: ㉗ | P9: ㉘ | T9: ㉙ | X9: ㉚ | AB9: ㉛ | AF9: ㉜ | AK9: ㉝ | AO9: ㉞ | AS9: ㉟ | AW9: ㊱ | BA9: ㊲ | BE9: ㊳ | BI9: ㊴
C10: 口座振替納付書の労働保険番号 | L10: 第１期分等労働保険料の額 | P10: ㉗の労働保険料として口座振替納付日までに委託事業主から交付された額 | T10: 口座振替納付済額（現に口座振替納付した㉗の額） | X10: ㉗のうち口座振替納付後１週間以内に納付された額 | AB10: ㉘のうち算定対象事業※の前年度確定保険料不足額納付済額 | AF10: ル≦オの範囲内で口座振替納付されたものとする労働保険番号（該当するものに○を付し、（ ）に㉗の額を記入） | AK10: ㉛のうち口座振替納付されたものとするもの（㉜で○印を付したものについて㉛の額を転記） | AO10: 算定対象事業※の前年度概算保険料等納付済額（確定保険料の額を超えるときは、確定保険料の額） | AS10: ㉝+㉞（申請書の⑤の額） | AW10: 当年度一般拠出金の額 | BA10: ㊱の一般拠出金として口座振替納付日までに委託事業主から交付された額 | BE10: 口座振替納付済額（現に口座振替納付した㊱の額） | BI10: ㊱のうち口座振替納付後１週間以内に納付された額
C16: 基幹番号 | I16: 枝番号
AG17: （ | AH17: =IF(AF17="○",L17,"") | AJ17: ） | AS17: =SUM(AK17:AR17) -> 0
AG18: （ | AH18: =IF(AF18="○",L18,"") | AJ18: ） | AS18: =SUM(AK18:AR18) -> 0
AG19: （ | AH19: =IF(AF19="○",L19,"") | AJ19: ） | AS19: =SUM(AK19:AR19) -> 0
AG20: （ | AH20: =IF(AF20="○",L20,"") | AJ20: ） | AS20: =SUM(AK20:AR20) -> 0
AG21: （ | AH21: =IF(AF21="○",L21,"") | AJ21: ） | AS21: =SUM(AK21:AR21) -> 0
AG22: （ | AH22: =IF(AF22="○",L22,"") | AJ22: ） | AS22: =SUM(AK22:AR22) -> 0
AG23: （ | AH23: =IF(AF23="○",L23,"") | AJ23: ） | AS23: =SUM(AK23:AR23) -> 0
C24: 合 計 | P24: チ | T24: リ | X24: ヌ | AF24: ル
P25: =SUM(P17:S23) -> 0 | T25: =SUM(T17:W23) -> 0 | X25: =SUM(X17:AA23) -> 0 | AG25: （ | AH25: =SUM(AH17:AI23) -> 0 | AJ25: ） | AW25: =SUM(AW17:AZ23) -> 0 | BA25: =SUM(BA17:BD23) -> 0 | BE25: =SUM(BE17:BH23) -> 0 | BI25: =SUM(BI17:BL23) -> 0
AF26: オ
AJ28: チの額又は（リ＋ヌ）
AJ29: の額のうち低いほうの額
AF30: =IF(P25>(T25+X25),(T25+Y24),P25) -> 0
C34: ※「算定対象事業」とは、報奨金の申請に係る15人以下事業をいう。
C36: 注１ | E36: ㉖は、基幹番号の若い方から順に記入すること。（納付書に枝番号があるものは、基幹番号が同一のもので枝番号のないものの後に続けて記入する。）
C37: 注２ | E37: ㉛は、口座振替納付日までに交付を受けていた算定対象事業の前年度確定保険料不足額で、口座振替納付したものを含め、口座振替納付日から起算して７日を経過した日までに納付した額を記入すること。
E38: また、口座振替納付日までに事務組合へ納付されなかった算定対象事業の前年度確定保険料不足額の一覧表（未交付の算定対象事業場名（労働保険番号を付記）及びその未交付の前年度確定保険料不足額を記載した一覧
E39: 表）を添付すること。
C40: 注３ | E40: ㉜については、ルの額がオの額を超えない範囲内で、有利な順序で口座振替納付がなされたものとするよう事務組合が選択することができること。
C41: 注４ | E41: ㉞には、報奨金算定基準日までに納付した算定対象事業の前年度概算保険料、増加概算保険料及び保険料率の引上げによる追加徴収保険料の額（その額が前年度確定保険料の額を超えるときは、前年度確定保険料の額）
E42: の合計額を記入すること。

Sheet 様式第１号の３
BM2: 様式第１号の３
AJ4: （事務組合名） | BL4: ( 枚のうち 枚目)
C8: ㉖ | L8: ㉗ | Q8: ㉘ | V8: ㉙ | AA8: ㊵ | AD8: ㊶ | AI8: ㉞ | AN8: ㉟ | AS8: ㊱ | AX8: ㊲ | BC8: ㊳ | BH8: ㊴
C9: 口座振替納付書の労働保険番号 | L9: 第１期分等労働保険料の額 | Q9: ㉗の労働保険料として口座振替納付日までに委託事業主から交付された額 | V9: 口座振替納付済額（現に口座振替納付した㉗の額。口座振替納付されなかったものは、「振替不能」と記入） | AA9: 振替不能がやむを得ず生じた口座振替納付書（該当するものに○印を付す。） | AD9: 口座振替納付日から起算して７日を経過した日までに納付した算定対象事業※の前年度確定保険料不足額納付済額（㉚に「振替不能」と記したもので㊵に○を付さなかったものは「0」とする。） | AI9: 算定対象事業※の前年度概算保険料等納付済額（確定保険料の額を超えるときは、確定保険料の額） | AN9: ㊶+㉞（申請書の⑤の額） | AS9: 当年度一般拠出金の額 | AX9: ㊱の一般拠出金として口座振替納付日までに委託事業主から交付された額 | BC9: 口座振替納付済額（現に口座振替納付した㊱の額） | BH9: ㊱のうち口座振替納付後１週間以内に納付された額
C19: 基幹番号 | I19: 枝番号
AA20: =IF(V20="振替不能","○","") | AN20: =SUM(AD20:AM20) -> 0
AA21: =IF(V21="振替不能","○","") | AN21: =SUM(AD21:AM21) -> 0
AA22: =IF(V22="振替不能","○","") | AN22: =SUM(AD22:AM22) -> 0
AA23: =IF(V23="振替不能","○","") | AN23: =SUM(AD23:AM23) -> 0
AA24: =IF(V24="振替不能","○","") | AN24: =SUM(AD24:AM24) -> 0
AA25: =IF(V25="振替不能","○","") | AN25: =SUM(AD25:AM25) -> 0
AA26: =IF(V26="振替不能","○","") | AN26: =SUM(AD26:AM26) -> 0
C27: 合 計 | L27: =SUM(L20:P26) -> 0 | Q27: =SUM(Q20:U26) -> 0 | AS27: =SUM(AS20:AW26) -> 0 | AX27: =SUM(AX20:BB26) -> 0 | BC27: =SUM(BC20:BG26) -> 0 | BH27: =SUM(BH20:BL26) -> 0
C30: ※「算定対象事業」とは、報奨金の申請に係る15人以下事業をいう。
D32: 注１ | E32: ㉖は、基幹番号の若い方から順に記入すること。（納付書に枝番号があるものは、基幹番号が同一のもので枝番号のないものの後に続けて記入する。）
D33: 注２ | E33: ㊵の欄に○印を付したもの（㉗に記入した額と㉘に記入した額が同額であるものを除く。）に関しては、振替不能となった委託事業主からの労働保険料の未交付に関し、委託事業主に対して口座振替納付日までに２度以
E34: 上にわたり交付を請求したこと及び事務組合がその請求等に当たって確認した当該委託事業主から同日までに労働保険料の交付を受けられないこととなった事情を証する書面を添付すること。
D35: 注３ | E35: ㊶欄には、算定対象事業の前年度確定保険料不足額で、口座振替納付によったものを含め、口座振替納付日から起算して７日を経過した日までに納付したものの合計額を記入すること。
E36: なお、口座振替納付日から起算して７日を経過した日の翌日において納付していない当該算定対象事業の前年度確定保険料不足額の一覧表（未納付の算定対象事業場名（労働保険番号を付記）及びその未納付の前年度
E37: 確定保険料額を記載した一覧表）を添付すること。
D38: 注４ | E38: ㉞欄には、報奨金算定基準日までに納付した算定対象事業の前年度概算保険料、増加概算保険料及び保険料率の引上げによる追加徴収保険料の額（その額が前年度確定保険料の額を超えるときは、前年度確定保険料の額）
E39: の合計額を記入すること。
