{"text_format":"1","workbook":"xlsx","n_sheets":2,"sheets":["回答票 ","集計用（入力等不要です。）"],"not_rendered":{"charts":0,"images":0,"macros":0,"external_links":0,"defined_names":1,"comments":0,"pivot_tables":0},"unopened":[],"bounds":{"document_bytes":16777216,"sheet_cells":100000,"rows_first":2000,"rows_last":500,"rows_between":2000,"halvings":0,"cell_chars":16384,"cell_head_chars":4096},"cells_cut":0,"cells_raw":0,"read":"whole","date_system":"1900"}

{"sheet":"回答票 ","index":0,"n_rows":48,"n_cols":13,"rows_kept":48,"cut":false,"hidden":false,"merged":[[8,4,8,7],[9,4,9,7],[10,4,10,7],[7,0,7,7],[3,0,3,2],[3,3,3,11],[4,2,4,3],[4,5,4,11],[8,0,10,1],[8,2,10,3],[0,0,1,11],[2,0,2,11],[5,0,5,1],[5,2,5,3],[5,5,5,11],[4,0,4,1],[45,12,47,12],[20,12,22,12],[18,12,19,12],[23,12,27,12],[21,2,21,10],[22,2,22,10],[23,3,23,10],[46,2,46,10],[47,2,47,10],[45,2,45,10],[42,3,42,7],[43,3,43,7],[44,3,44,7],[32,3,32,10],[24,3,24,10],[31,3,31,10],[49,0,49,11],[7,8,7,11],[30,3,30,10],[36,2,36,10],[37,2,37,10],[38,2,38,10],[39,2,39,10],[25,3,25,10],[26,3,26,10],[27,3,27,10],[28,3,28,10],[29,3,29,10],[45,0,47,1],[41,0,44,1],[41,2,44,2],[41,3,41,5],[33,0,36,1],[37,0,40,1],[40,2,40,10],[28,0,32,1],[28,2,32,2],[33,2,33,10],[34,2,34,10],[35,2,35,10],[11,0,13,11],[20,0,22,1],[23,0,27,1],[23,2,27,2],[20,2,20,10],[14,0,17,1],[18,0,19,1],[18,2,19,2],[14,2,14,10],[18,3,18,10],[19,3,19,10],[16,2,16,10],[17,2,17,10],[15,2,15,10]]}
["送信先：沖縄労働局（健康安全課）あて\nメールアドレス：kenkouanzenka-okinawakyoku@mhlw.go.jp\n※ 送信先のメールアドレスがお間違えないことをご確認の上で送信してください。"]
[]
["　　　　　　　　　　　　　　  回答票　（当てはまる回答欄に〇を付けてください。）"]
["整理番号\n（当局が郵送した回答票をご確認ください。）"]
["店社名（法人名・支店名）",null,null,null,"所在地"]
["電話番号",null,null,null,"担当者職氏名"]
[]
["質問",null,null,null,null,null,null,null,"回答欄"]
["Q1",null,"(1)～(3)の有無のどちらかに\n〇を付けてください",null,"（1）建築物",null,null,null,"有",null,"無",null,{"$f":"IF(COUNTIF(J9:L9,\"〇\")=1,\"Q2-1にお進みください\",\"いずれかひとつを選択してください。\")","v":"いずれかひとつを選択してください。"}]
[null,null,null,null,"（2）工作物",null,null,null,"有",null,"無",null,{"$f":"IF(COUNTIF(J10:L10,\"〇\")=1,\"Q2-1にお進みください\",\"いずれかひとつを選択してください。\")","v":"いずれかひとつを選択してください。"}]
[null,null,null,null,"（3）鋼製の船舶",null,null,null,"有",null,"無",null,{"$f":"IF(COUNTIF(J11:L11,\"〇\")=1,\"Q2-1にお進みください\",\"いずれかひとつを選択してください。\")","v":"いずれかひとつを選択してください。"}]
["上記(1)～(3)に「有」に「〇」が１つでもついた場合は、Q2以下も回答してください。\n全て「無」の場合は、Q2以下の回答は不要です。"]
[]
[]
["Q2-1\n（複数回答可）",null,"(1)自社で調査を行っている"]
[null,null,"(2)外注（元請や下請等も含む）により調査を行っている"]
[null,null,"(3)発注者や所有者に石綿の有無を確認している"]
[null,null,"(4)石綿の事前調査は行っていない"]
["Q2-2",null,"Q2-1で(1)～(3)に１つ\nでも〇がついた場合","(1)調査結果を3年以上保存している（保存する予定）",null,null,null,null,null,null,null,null,{"$f":"IF(COUNTIF(L19:L20,\"〇\")=1,\"次にお進みください\",\"いずれかひとつを選択してください。\")","v":"いずれかひとつを選択してください。"}]
[null,null,null,"(2)調査結果を3年以上保存していない（保存しない予定）"]
["Q3-1",null,"(1)知っている",null,null,null,null,null,null,null,null,null,{"$f":"IF(COUNTIF(L21:L23,\"〇\")=1,\"次にお進みください\",\"いずれかひとつを選択してください。\")","v":"いずれかひとつを選択してください。"}]
[null,null,"(2)知らなかった"]
[null,null,"(3)建築物の解体・改修（リフォーム含む）を行う予定はない"]
["Q3-2",null,"Q3-1で(1)(2)に\n〇がついた場合","(1)既に取得している",null,null,null,null,null,null,null,null,{"$f":"IF(COUNTIF(L24:L28,\"〇\")=1,\"次にお進みください\",\"いずれかひとつを選択してください。\")","v":"いずれかひとつを選択してください。"}]
[null,null,null,"(2)今後取得する予定（概ね令和4年度までに）"]
[null,null,null,"(3)今後取得する予定（概ね令和5年10月1日までに）"]
[null,null,null,"(4)外注（元請や下請等も含む）にて対応するため取得を予定していない"]
[null,null,null,"(5)外注（元請や下請等も含む）にて対応しないが取得を予定していない"]
["Q3-3\n（複数回答可）",null,"Q3-2で(1)～(3)に\n〇がついた場合","(1)特定建築物石綿含有建材調査者"]
[null,null,null,"(2)一般建築物石綿含有建材調査者"]
[null,null,null,"(3)一戸建て建築物石綿含有建材調査者"]
[null,null,null,"(4)アスベスト調査診断協会への登録"]
[null,null,null,"(5)船舶石綿含有資材調査者"]
["Q4\n（複数回答可）",null,"(1)作業者が見やすい箇所に事前調査結果の概要を掲示している"]
[null,null,"(2)事前調査結果の記録の写しを現場に備え付けている"]
[null,null,"(3)周辺住民への事前調査結果の周知のための掲示を行っている"]
[null,null,"(4)事前調査結果の掲示や現場への備え付けは行っていない"]
["Q5\n（複数回答可）",null,"(1)知っている"]
[null,null,"(2)知らなかった"]
[null,null,"(3)該当する工事を行うことはない 又は、元請になることはない"]
[null,null,"(4)報告を行う予定はない"]
["Q6",null,"それぞれ措置の有無（非該当）に〇を付けてください。","(1)吹付材・保温材等の除去を行う際の負圧隔離",null,null,"有",null,"無",null,"非該当",null,{"$f":"IF(COUNTIF(H42:L42,\"〇\")=1,\"次にお進みください\",\"いずれかひとつを選択してください。\")","v":"いずれかひとつを選択してください。"}]
[null,null,null,"(2)建材等の湿潤化",null,null,null,null,"有",null,"無",null,{"$f":"IF(COUNTIF(H43:L43,\"〇\")=1,\"次にお進みください\",\"いずれかひとつを選択してください。\")","v":"いずれかひとつを選択してください。"}]
[null,null,null,"(3)作業者の呼吸用保護具の着用",null,null,null,null,"有",null,"無",null,{"$f":"IF(COUNTIF(H44:L44,\"〇\")=1,\"次にお進みください\",\"いずれかひとつを選択してください。\")","v":"いずれかひとつを選択してください。"}]
[null,null,null,"(4)石綿作業主任者の選任",null,null,null,null,"有",null,"無",null,{"$f":"IF(COUNTIF(H45:L45,\"〇\")=1,\"次にお進みください\",\"いずれかひとつを選択してください。\")","v":"いずれかひとつを選択してください。"}]
["Q7",null,"(1)知っている",null,null,null,null,null,null,null,null,null,{"$f":"IF(COUNTIF(L46:L48,\"〇\")=1,\"以上で終わりです。お疲れさまでした。\",\"いずれかひとつを選択してください。\")","v":"いずれかひとつを選択してください。"}]
[null,null,"(2)知らなかった"]
[null,null,"(3)写真や動画による記録を行う予定はない"]

{"sheet":"集計用（入力等不要です。）","index":1,"n_rows":3,"n_cols":37,"rows_kept":3,"cut":false,"hidden":false,"merged":[[0,0,0,2],[0,3,0,6],[0,7,0,8],[0,9,0,11],[0,12,0,16],[0,22,0,25],[0,26,0,29],[0,30,0,33],[0,34,0,36],[0,17,0,21]]}
["Ｑ１",null,null,"Ｑ２",null,null,null,"保存３年以上予定",null,"Ｑ３－１",null,null,"Ｑ３－２",null,null,null,null,"Ｑ３－３",null,null,null,null,"Ｑ４",null,null,null,"Ｑ５",null,null,null,"Ｑ６",null,null,null,"Ｑ７"]
["(1)","(2)","(3)","(1)","(2)","(3)","(4)","している。","していない。","(1)","(2)","(3)","(1)","(2)","(3)","(4)","(5)","特定調査者","一般調査者","一戸建て調査者","アスベスト調査診断協会登録","船舶","(1)","(2)","(3)","(4)","(1)","(2)","(3)","(4)","(1)","(2)","(3)","(4)","(1)","(2)","(3)"]
[{"$f":"'回答票 '!J9","v":0},{"$f":"'回答票 '!J10","v":0},{"$f":"'回答票 '!J11","v":0},{"$f":"'回答票 '!L15","v":0},{"$f":"'回答票 '!L16","v":0},{"$f":"'回答票 '!L17","v":0},{"$f":"'回答票 '!L18","v":0},{"$f":"'回答票 '!L19","v":0},{"$f":"'回答票 '!L20","v":0},{"$f":"'回答票 '!L21","v":0},{"$f":"'回答票 '!L22","v":0},{"$f":"'回答票 '!L23","v":0},{"$f":"'回答票 '!L24","v":0},{"$f":"'回答票 '!L25","v":0},{"$f":"'回答票 '!L26","v":0},{"$f":"'回答票 '!L27","v":0},{"$f":"'回答票 '!L28","v":0},{"$f":"'回答票 '!L29","v":0},{"$f":"'回答票 '!L30","v":0},{"$f":"'回答票 '!L31","v":0},{"$f":"'回答票 '!L32","v":0},{"$f":"'回答票 '!L33","v":0},{"$f":"'回答票 '!L34","v":0},{"$f":"'回答票 '!L35","v":0},{"$f":"'回答票 '!L36","v":0},{"$f":"'回答票 '!L37","v":0},{"$f":"'回答票 '!L38","v":0},{"$f":"'回答票 '!L39","v":0},{"$f":"'回答票 '!L40","v":0},{"$f":"'回答票 '!L41","v":0},{"$f":"'回答票 '!J42","v":0},{"$f":"'回答票 '!L43","v":0},{"$f":"'回答票 '!L44","v":0},{"$f":"'回答票 '!L45","v":0},{"$f":"'回答票 '!L46","v":0},{"$f":"'回答票 '!L47","v":0},{"$f":"'回答票 '!L48","v":0}]