{"text_format":"1","workbook":"xlsx","n_sheets":8,"sheets":["事業所に係る事項","労働者に係る事項","印刷用","選択肢","抽出率テーブル","役職・職種一覧表","在留資格番号表","満年齢・勤続年数早見表"],"not_rendered":{"charts":0,"images":3,"macros":1,"external_links":3,"defined_names":90,"comments":1,"pivot_tables":0},"unopened":[],"bounds":{"document_bytes":16777216,"sheet_cells":100000,"rows_first":2000,"rows_last":500,"rows_between":2000,"halvings":0,"cell_chars":16384,"cell_head_chars":4096},"cells_cut":0,"cells_raw":0,"read":"whole","date_system":"1900"}

{"sheet":"事業所に係る事項","index":0,"n_rows":100,"n_cols":230,"rows_kept":100,"cut":false,"hidden":false,"merged":[[3,2,4,10],[5,2,7,15],[5,17,7,61],[12,2,13,11],[12,12,13,41],[12,42,13,61],[9,2,11,11],[24,110,25,142],[9,12,11,41],[9,42,11,61],[15,10,23,61],[14,1,14,23],[12,63,14,107],[21,140,23,142],[12,110,14,124],[9,69,10,133],[11,63,11,107],[11,110,11,142],[18,125,23,137],[18,138,20,142],[15,110,23,124],[15,140,17,142],[26,1,26,95],[17,103,17,106],[17,85,17,90],[15,63,17,71],[15,1,23,9],[19,63,25,107],[16,73,16,82],[16,85,16,93],[24,1,25,9],[16,97,16,106],[24,10,25,61],[18,63,18,107],[17,91,17,102],[0,229,2,232],[0,167,2,177],[0,189,2,199],[0,178,2,184],[0,200,2,206],[0,211,2,221],[0,222,2,228],[3,69,4,133],[5,69,8,133],[0,155,2,166],[0,185,2,188],[0,207,2,210],[13,155,16,162],[12,125,17,137],[18,220,20,231],[18,210,20,219],[21,210,23,219],[11,194,16,231],[15,175,16,182],[21,175,22,182],[11,164,14,174],[12,138,14,142],[26,110,26,142],[11,183,26,191],[21,155,23,162],[12,155,12,162],[15,143,17,154],[18,143,20,154],[11,143,11,154],[11,155,11,162],[12,143,14,154],[17,156,18,161],[11,175,12,182],[24,143,26,154],[21,143,23,154],[20,155,20,162],[13,175,14,182],[15,164,26,174],[24,156,25,161],[18,194,26,206],[18,207,23,209],[21,220,23,231],[23,175,24,182],[19,175,20,182],[17,175,18,182],[24,207,26,219],[24,220,26,231],[25,175,26,182]]}
[null,null,null,null,null,null,null,null,null,null,null,null,null,null,null,null,null,null,null,null,null,null,null,null,null,null,null,null,null,null,null,null,null,null,null,null,null,null,null,null,null,null,null,null,null,null,null,null,null,null,null,null,null,null,null,null,null,null,null,null,null,null,null,null,null,null,null,null,null,null,null,null,null,null,null,null,null,null,null,null,null,null,null,null,null,null,null,null,null,null,null,null,null,null,null,null,null,null,null,null,null,null,null,null,null,null,null,null,null,null,null,null,null,null,null,null,null,null,null,null,null,null,null,null,null,null,null,null,null,null,null,null,null,null,null,null,null,null,null,null,null,null,null,null,null,null,null,null,null,null,null,null,null,null,null,"\n記入目安（人）",null,null,null,null,null,null,null,null,null,null,null,"正社員・\n正職員",null,null,null,null,null,null,null,null,null,null,{"$f":"IF(ISERROR(ROUNDUP(EN13/FA18,0)),0,ROUNDUP(EN13/FA18,0))","v":0},null,null,null,null,null,null,"人",null,null,null,"正社員・\n正職員以外",null,null,null,null,null,null,null,null,null,null,{"$f":"IF(ISERROR(ROUNDUP(EN19/FA18,0)),0,ROUNDUP(EN19/FA18,0))","v":0},null,null,null,null,null,null,"人",null,null,null,"臨時\n労働者",null,null,null,null,null,null,null,null,null,null,{"$f":"IF(ISERROR(ROUNDUP(IF(EN25/FA25<=250,EN25/FA25,250),0)),0,ROUNDUP(IF(EN25/FA25<=250,EN25/FA25,250),0))","v":0},null,null,null,null,null,null,"人"]
[]
[]
[null,null,null,null,null,null,null,null,null,null,null,null,null,null,null,null,null,null,null,null,null,null,null,null,null,null,null,null,null,null,null,null,null,null,null,null,null,null,null,null,null,null,null,null,null,null,null,null,null,null,null,null,null,null,null,null,null,null,null,null,null,null,null,null,null,null,null,null,null,"厚 生 労 働 省"]
[]
[null,null,"統計法に基づく\n基幹統計調査",null,null,null,null,null,null,null,null,null,null,null,null,null,null,"この調査票に記入された事項については、統計以外の目的に使ったり、他に漏らしたりすることはありません。",null,null,null,null,null,null,null,null,null,null,null,null,null,null,null,null,null,null,null,null,null,null,null,null,null,null,null,null,null,null,null,null,null,null,null,null,null,null,null,null,null,null,null,null,null,null,null,null,null,null,null,"賃金構造基本統計調査　調査票"]
[]
[]
[]
[null,null,"都道府県\n番号",null,null,null,null,null,null,null,null,null,"事業所一連番号",null,null,null,null,null,null,null,null,null,null,null,null,null,null,null,null,null,null,null,null,null,null,null,null,null,null,null,null,null,"産業分類番号",null,null,null,null,null,null,null,null,null,null,null,null,null,null,null,null,null,null,null,null,null,null,null,null,null,null,{"$f":"TODAY()","v":44740}]
[]
[null,null,null,null,null,null,null,null,null,null,null,null,null,null,null,null,null,null,null,null,null,null,null,null,null,null,null,null,null,null,null,null,null,null,null,null,null,null,null,null,null,null,null,null,null,null,null,null,null,null,null,null,null,null,null,null,null,null,null,null,null,null,null,"記入\n担当者\n氏名及び\n連絡先",null,null,null,null,null,null,null,null,null,null,null,null,null,null,null,null,null,null,null,null,null,null,null,null,null,null,null,null,null,null,null,null,null,null,null,null,null,null,null,null,null,null,null,null,null,null,"区分",null,null,null,null,null,null,null,null,null,null,null,null,null,null,null,null,null,null,null,null,null,null,null,null,null,null,null,null,null,null,null,null,"労働者数",null,null,null,null,null,null,null,null,null,null,null,"抽出率",null,null,null,null,null,null,null,null,"\n企業全体の常用労働者数",null,null,null,null,null,null,null,null,null,null,"1 5000人\n以上"]
[null,null,null,null,null,null,null,null,null,null,null,null,null,null,null,null,null,null,null,null,null,null,null,null,null,null,null,null,null,null,null,null,null,null,null,null,null,null,null,null,null,null,null,null,null,null,null,null,null,null,null,null,null,null,null,null,null,null,null,null,null,null,null,null,null,null,null,null,null,null,null,null,null,null,null,null,null,null,null,null,null,null,null,null,null,null,null,null,null,null,null,null,null,null,null,null,null,null,null,null,null,null,null,null,null,null,null,null,null,null,"\n事業所の\n常用労働者数\n\n",null,null,null,null,null,null,null,null,null,null,null,null,null,null,"正社員・正職員\n\n貴事業所において正社員・正職員とする者",null,null,null,null,null,null,null,null,null,null,null,null,"男女計",null,null,null,null,null,null,null,null,null,null,null,null,null,null,null,null,"常用労働者"]
[null,null,null,null,null,null,null,null,null,null,null,null,null,null,null,null,null,null,null,null,null,null,null,null,null,null,null,null,null,null,null,null,null,null,null,null,null,null,null,null,null,null,null,null,null,null,null,null,null,null,null,null,null,null,null,null,null,null,null,null,null,null,null,null,null,null,null,null,null,null,null,null,null,null,null,null,null,null,null,null,null,null,null,null,null,null,null,null,null,null,null,null,null,null,null,null,null,null,null,null,null,null,null,null,null,null,null,null,null,null,null,null,null,null,null,null,null,null,null,null,null,null,null,null,null,null,null,null,null,null,null,null,null,null,null,null,null,null,null,null,null,null,null,null,null,null,null,null,null,null,null,null,null,null,null,"\n１\n―",null,null,null,null,null,null,null,null,null,null,null,null,null,null,null,null,null,null,null,"2 1000～\n  4999人"]
[null,"１．事業所に係る事項"]
[null,"事業所の名称及び所在地",null,null,null,null,null,null,null,null,null,null,null,null,null,null,null,null,null,null,null,null,null,null,null,null,null,null,null,null,null,null,null,null,null,null,null,null,null,null,null,null,null,null,null,null,null,null,null,null,null,null,null,null,null,null,null,null,null,null,null,null,null,"連絡先\n電話番号",null,null,null,null,null,null,null,null,null,null,null,null,null,null,null,null,null,null,null,null,null,null,null,null,null,null,null,null,null,null,null,null,null,null,null,null,null,null,null,null,null,null,null,null,null,null,"常用労働者とは、\n・期間を定めずに\n　雇われている\n　労働者\n又は\n・１か月以上の\n　期間を定めて\n　雇われている\n　労働者\nをいいます。",null,null,null,null,null,null,null,null,null,null,null,null,null,null,null,null,null,null,null,null,null,null,null,null,null,null,null,null,null,"うち、女",null,null,null,null,null,null,null,null,null,null,null,null,null,null,null,null,null,null,null,null,null,null,null,"\n貴事業所が属する企業全体（本社、支社、工場、営業所等）の常用労働者の総数をいいます。",null,null,null,null,null,null,null,null,null,null,"3  500～\n   999人"]
[null,null,null,null,null,null,null,null,null,null,null,null,null,null,null,null,null,null,null,null,null,null,null,null,null,null,null,null,null,null,null,null,null,null,null,null,null,null,null,null,null,null,null,null,null,null,null,null,null,null,null,null,null,null,null,null,null,null,null,null,null,null,null,null,null,null,null,null,null,null,null,null,"(",null,null,null,null,null,null,null,null,null,null,")",null,null,null,null,null,null,null,null,null,null,null,"－"]
[null,null,null,null,null,null,null,null,null,null,null,null,null,null,null,null,null,null,null,null,null,null,null,null,null,null,null,null,null,null,null,null,null,null,null,null,null,null,null,null,null,null,null,null,null,null,null,null,null,null,null,null,null,null,null,null,null,null,null,null,null,null,null,null,null,null,null,null,null,null,null,null,null,null,null,null,null,null,null,null,null,null,null,null,null,"（内線",null,null,null,null,null,null,null,null,null,null,null,null,null,null,null,null,null,"番）",null,null,null,null,null,null,null,null,null,null,null,null,null,null,null,null,null,null,null,null,null,null,null,null,null,null,null,null,null,null,null,null,null,null,null,null,null,null,null,null,null,null,null,null,null,null,null,null,null,null,null,null,{"$f":"IF(OR(ISBLANK(アドレス_正社員・正職員_男女計_調査票),ISBLANK(アドレス_正社員・正職員以外_男女計_調査票)),\"\", IF(ISERROR(抽出率テーブル!D100), \"\", 抽出率テーブル!D100))","v":""},null,null,null,null,null,null,null,null,null,null,null,null,null,null,null,null,null,null,"4  300～\n  499人",null,null,null,null,null,null,null,null,null,null,null,null,null,null,null,null,null,"※この欄は最後にご記入ください"]
[null,null,null,null,null,null,null,null,null,null,null,null,null,null,null,null,null,null,null,null,null,null,null,null,null,null,null,null,null,null,null,null,null,null,null,null,null,null,null,null,null,null,null,null,null,null,null,null,null,null,null,null,null,null,null,null,null,null,null,null,null,null,null,"主要な生産品の名称又は事業の内容",null,null,null,null,null,null,null,null,null,null,null,null,null,null,null,null,null,null,null,null,null,null,null,null,null,null,null,null,null,null,null,null,null,null,null,null,null,null,null,null,null,null,null,null,null,null,null,null,null,null,null,null,null,null,null,null,null,null,null,null,null,"正社員・正職員以外\n\n常用労働者のうち「正社員・正職員」以外の者",null,null,null,null,null,null,null,null,null,null,null,null,"男女計",null,null,null,null,null,null,null,null,null,null,null,null,null,null,null,null,null,null,null,null,null,null,null,null,null,null,null,null,null,null,null,null,null,null,null,null,null,null,null,null,null,null,null,null,null,null,null,null,null,null,null,null,null,null,null,"記入労働者数\n\n※下の表部分(２．労働者に係る事項)に記入した人数（２枚目以降を含みます）を記入してください。",null,null,null,null,null,null,null,null,null,null,null,null,"常用労働者",null,null,"正社員・\n正職員\n（男女計）",null,null,null,null,null,null,null,null,null,{"$f":"COUNTIF(労働者に係る事項!C40:C439,1) + COUNTIF(労働者に係る事項!C40:C439,2)","v":0}]
[null,null,null,null,null,null,null,null,null,null,null,null,null,null,null,null,null,null,null,null,null,null,null,null,null,null,null,null,null,null,null,null,null,null,null,null,null,null,null,null,null,null,null,null,null,null,null,null,null,null,null,null,null,null,null,null,null,null,null,null,null,null,null,null,null,null,null,null,null,null,null,null,null,null,null,null,null,null,null,null,null,null,null,null,null,null,null,null,null,null,null,null,null,null,null,null,null,null,null,null,null,null,null,null,null,null,null,null,null,null,null,null,null,null,null,null,null,null,null,null,null,null,null,null,null,null,null,null,null,null,null,null,null,null,null,null,null,null,null,null,null,null,null,null,null,null,null,null,null,null,null,null,null,null,null,null,null,null,null,null,null,null,null,null,null,null,null,null,null,null,null,null,null,null,null,"5  100～\n   299人"]
[null,null,null,null,null,null,null,null,null,null,null,null,null,null,null,null,null,null,null,null,null,null,null,null,null,null,null,null,null,null,null,null,null,null,null,null,null,null,null,null,null,null,null,null,null,null,null,null,null,null,null,null,null,null,null,null,null,null,null,null,null,null,null,null,null,null,null,null,null,null,null,null,null,null,null,null,null,null,null,null,null,null,null,null,null,null,null,null,null,null,null,null,null,null,null,null,null,null,null,null,null,null,null,null,null,null,null,null,null,null,null,null,null,null,null,null,null,null,null,null,null,null,null,null,null,null,null,null,null,null,null,null,null,null,null,null,null,null,null,null,null,null,null,null,null,null,null,null,null,null,null,null,null,null,null,"臨時労働者"]
[null,null,null,null,null,null,null,null,null,null,null,null,null,null,null,null,null,null,null,null,null,null,null,null,null,null,null,null,null,null,null,null,null,null,null,null,null,null,null,null,null,null,null,null,null,null,null,null,null,null,null,null,null,null,null,null,null,null,null,null,null,null,null,null,null,null,null,null,null,null,null,null,null,null,null,null,null,null,null,null,null,null,null,null,null,null,null,null,null,null,null,null,null,null,null,null,null,null,null,null,null,null,null,null,null,null,null,null,null,null,null,null,null,null,null,null,null,null,null,null,null,null,null,null,null,null,null,null,null,null,null,null,null,null,null,null,null,null,null,null,"うち、女",null,null,null,null,null,null,null,null,null,null,null,null,null,null,"１\n―",null,null,null,null,null,null,null,null,null,null,null,null,null,null,null,null,null,null,null,"6   30～\n    99人",null,null,null,null,null,null,null,null,null,null,null,null,null,null,null,null,null,null,null,null,null,null,null,null,null,null,null,null,null,null,null,null,null,null,"正社員・\n正職員以外（男女計）",null,null,null,null,null,null,null,null,null,{"$f":"COUNTIF(労働者に係る事項!C40:C439,3) + COUNTIF(労働者に係る事項!C40:C439,4)","v":0}]
[]
[null,null,null,null,null,null,null,null,null,null,null,null,null,null,null,null,null,null,null,null,null,null,null,null,null,null,null,null,null,null,null,null,null,null,null,null,null,null,null,null,null,null,null,null,null,null,null,null,null,null,null,null,null,null,null,null,null,null,null,null,null,null,null,null,null,null,null,null,null,null,null,null,null,null,null,null,null,null,null,null,null,null,null,null,null,null,null,null,null,null,null,null,null,null,null,null,null,null,null,null,null,null,null,null,null,null,null,null,null,null,null,null,null,null,null,null,null,null,null,null,null,null,null,null,null,null,null,null,null,null,null,null,null,null,null,null,null,null,null,null,null,null,null,null,null,null,null,null,null,null,null,null,null,null,null,null,null,null,null,null,null,null,null,null,null,null,null,null,null,null,null,null,null,null,null,"7   10～\n    29人"]
[null,"法人番号",null,null,null,null,null,null,null,null,null,null,null,null,null,null,null,null,null,null,null,null,null,null,null,null,null,null,null,null,null,null,null,null,null,null,null,null,null,null,null,null,null,null,null,null,null,null,null,null,null,null,null,null,null,null,null,null,null,null,null,null,null,null,null,null,null,null,null,null,null,null,null,null,null,null,null,null,null,null,null,null,null,null,null,null,null,null,null,null,null,null,null,null,null,null,null,null,null,null,null,null,null,null,null,null,null,null,null,null,"事業所の臨時労働者数\n常用労働者に該当しない労働者",null,null,null,null,null,null,null,null,null,null,null,null,null,null,null,null,null,null,null,null,null,null,null,null,null,null,null,null,null,null,null,null,null,null,null,null,null,null,null,null,null,null,null,null,null,{"$f":"IF(事業所に係る事項!EN13+事業所に係る事項!EN19 = 0,\"\",IF(OR(事業所に係る事項!EN25=0,事業所に係る事項!EN25=\"\"),\"\",IF(事業所に係る事項!EN13+事業所に係る事項!EN19>=10,2,1)))","v":""},null,null,null,null,null,null,null,null,null,null,null,null,null,null,null,null,null,null,null,null,null,null,null,null,null,null,null,null,null,null,null,null,null,null,null,null,null,null,null,null,null,null,null,null,null,null,null,null,null,null,"臨時労働者",null,null,null,null,null,null,null,null,null,null,null,null,{"$f":"COUNTIF(労働者に係る事項!C40:C439,5)","v":0}]
[null,null,null,null,null,null,null,null,null,null,null,null,null,null,null,null,null,null,null,null,null,null,null,null,null,null,null,null,null,null,null,null,null,null,null,null,null,null,null,null,null,null,null,null,null,null,null,null,null,null,null,null,null,null,null,null,null,null,null,null,null,null,null,null,null,null,null,null,null,null,null,null,null,null,null,null,null,null,null,null,null,null,null,null,null,null,null,null,null,null,null,null,null,null,null,null,null,null,null,null,null,null,null,null,null,null,null,null,null,null,null,null,null,null,null,null,null,null,null,null,null,null,null,null,null,null,null,null,null,null,null,null,null,null,null,null,null,null,null,null,null,null,null,null,null,null,null,null,null,null,null,null,null,null,null,null,null,null,null,null,null,null,null,null,null,null,null,null,null,null,null,null,null,null,null,"8    5～\n     9人"]
[null,"（注）個人事業主の場合、法人番号欄は記入不要です。マイナンバー（個人番号）の記入はしないでください。",null,null,null,null,null,null,null,null,null,null,null,null,null,null,null,null,null,null,null,null,null,null,null,null,null,null,null,null,null,null,null,null,null,null,null,null,null,null,null,null,null,null,null,null,null,null,null,null,null,null,null,null,null,null,null,null,null,null,null,null,null,null,null,null,null,null,null,null,null,null,null,null,null,null,null,null,null,null,null,null,null,null,null,null,null,null,null,null,null,null,null,null,null,null,null,null,null,null,null,null,null,null,null,null,null,null,null,null,"(日々又は１か月未満の期間を定めて雇われている労働者)"]
[]
[]
[]
[]
[]
[]
[]
[]
[]
[]
[]
[]
[]
[]
[]
[]
[]
[]
[]
[]
[]
[]
[]
[]
[]
[]
[]
[]
[]
[]
[]
[]
[]
[]
[]
[]
[]
[]
[]
[]
[]
[]
[]
[]
[]
[]
[]
[]
[]
[]
[]
[]
[]
[]
[]
[]
[]
[]
[]
[]
[]
[]
[]
[]
[]
[]
[]
[]
[]
[]
[]
[]
[null,null,{"$f":"事業所に係る事項!EN13+事業所に係る事項!EN2","v":0}]

{"sheet":"労働者に係る事項","index":1,"n_rows":439,"n_cols":19,"rows_kept":439,"cut":false,"hidden":false,"merged":[[0,12,2,13],[0,14,0,15],[1,14,1,15],[2,14,2,15],[5,15,8,15],[4,18,8,18],[5,17,8,17],[5,16,8,16],[5,9,8,9],[5,10,8,10],[5,11,8,11],[5,12,8,12],[5,13,8,13],[5,14,8,14],[9,17,22,17],[9,18,22,18],[9,14,22,14],[9,15,22,15],[9,16,22,16],[0,5,2,5],[0,6,0,8],[17,5,18,5],[9,5,15,5],[3,0,3,2],[5,1,8,1],[5,0,8,0],[9,3,22,3],[9,4,22,4],[9,1,22,1],[9,2,22,2],[5,2,8,2],[5,3,8,3],[5,4,8,4],[5,5,8,5],[5,6,8,6],[9,7,22,7],[9,8,22,8],[0,9,0,10],[1,6,1,8],[1,9,1,10],[2,6,2,8],[2,9,2,10],[9,6,10,6],[5,7,8,7],[5,8,8,8],[11,6,22,6],[9,12,22,12],[9,13,22,13],[9,9,15,9],[16,9,22,9],[16,10,22,10],[9,10,15,10]]}
[null,null,null,null,null,"記入目安\n（人）","正社員・正職員",null,null,{"$f":"事業所に係る事項!FW1","v":0},null,null,"記入労働者数",null,"正社員・正職員",null,{"$f":"アドレス_記入_正社員・正職員_男女計_調査票","v":0}]
[null,null,null,null,null,null,"正社員・正職員以外",null,null,{"$f":"事業所に係る事項!GS1","v":0},null,null,null,null,"正社員・正職員以外",null,{"$f":"アドレス_記入_正社員・正職員以外_男女計_調査票","v":0}]
[null,null,null,null,null,null,"臨時労働者",null,null,{"$f":"事業所に係る事項!HO1","v":0},null,null,null,null,"臨時労働者",null,{"$f":"アドレス_記入_臨時労働者数_調査票","v":0}]
["２．労働者に係る事項"]
["(1)","(2)","(3)","(4)","(5)","(6)","(7)","(8)","(9)","(10)","(11)","(12)","(13)","(14)","(15)","(16)","(17)","(18)","備考\n(自由記述)"]
["一\n連\n番\n号","性","雇用形態","就業形態","最終学歴","新規学卒者","年齢\n(歳)","勤続\n年数\n(年)","役職\n番号","職種\n番号","経験年数","実労働\n日　数\n(日)","所定内\n実労働\n時間数\n(時間)","超　過\n実労働\n時間数\n(時間)","きまって\n支給する\n現金給与額\n(円)","(15)のうち\n超過労働\n給与額 \n(円)","昨年１年間の\n賞与、期末手当等特別給与額\n(円)","在留\n資格\n番号"]
[]
[]
[]
[null,"1.男\n2.女","1-4 常用労働者\n1. 正社員・正職員 期間の定め無\n2. 正社員・正職員 期間の定め有\n3. 正社員・正職員以外 期間の定め無\n4. 正社員・正職員以外 期間の定め有\n5. 臨時労働者　 ((2)，(3)，(7)，(10)，(12)～(16)のみ記入してください。)","1. 一般\n2. 短時間","1.中学\n2.高校\n3.専門学校\n4.高専･短大\n5.大学\n6.大学院\n9.不明","原則、本年３月に卒業等した者に該当する場合のみ記入してください。",null,"1年未満は0と記入してください。\n\n１年未満の端数は切り捨ててください。","事業所規模10人以上の事業所のみ記入してください。",null,"事業所規模10人以上の事業所のみ記入してください。他企業での経験も含みます。",null,"実労働時間数から超過実労働時間数を差し引いたもの\n","早出、残業、休日労働等","６月分として算定された給与（税込み）で、超過労働給与額、通勤手当、精皆勤手当、家族手当等を含みます。\n\n１か月を超え、３か月以内の期間で算定されるものも含みます。","時間外手当、\n深夜手当、\n休日手当、\n宿日直手当等","賞与、期末手当等の年間の支給額であり、毎月支給されるものは含みません。\n３か月を超えて算定されるものは含みます。","外国人労働者について記入してください。日本人及び特別永住者等は記入不要です。","以下について記入してください。\n・事業所で記入対象労働者を識別できる番号等\n・記入内容が特異な場合は、その理由"]
[]
[]
[]
[]
[]
[]
[null,null,null,null,null,null,null,null,null,null,"1. １年未満\n2. １～４年\n3. ５～９年\n4. 10～14年\n5. 15年以上"]
[null,null,null,null,null,"1.新規学卒者"]
[]
[]
[]
[]
[]
[]
[]
[]
[]
[]
[]
[]
[]
[]
[]
[]
[]
[]
[]
[]
[]
["01"]
["02"]
["03"]
["04"]
["05"]
["06"]
["07"]
["08"]
["09"]
["10"]
["11"]
["12"]
["13"]
["14"]
["15"]
["16"]
["17"]
["18"]
["19"]
["20"]
["21"]
["22"]
["23"]
["24"]
["25"]
["26"]
["27"]
["28"]
["29"]
["30"]
["31"]
["32"]
["33"]
["34"]
["35"]
["36"]
["37"]
["38"]
["39"]
["40"]
["41"]
["42"]
["43"]
["44"]
["45"]
["46"]
["47"]
["48"]
["49"]
["50"]
["51"]
["52"]
["53"]
["54"]
["55"]
["56"]
["57"]
["58"]
["59"]
["60"]
["61"]
["62"]
["63"]
["64"]
["65"]
["66"]
["67"]
["68"]
["69"]
["70"]
["71"]
["72"]
["73"]
["74"]
["75"]
["76"]
["77"]
["78"]
["79"]
["80"]
["81"]
["82"]
["83"]
["84"]
["85"]
["86"]
["87"]
["88"]
["89"]
["90"]
["91"]
["92"]
["93"]
["94"]
["95"]
["96"]
["97"]
["98"]
["99"]
["00"]
["01"]
["02"]
["03"]
["04"]
["05"]
["06"]
["07"]
["08"]
["09"]
["10"]
["11"]
["12"]
["13"]
["14"]
["15"]
["16"]
["17"]
["18"]
["19"]
["20"]
["21"]
["22"]
["23"]
["24"]
["25"]
["26"]
["27"]
["28"]
["29"]
["30"]
["31"]
["32"]
["33"]
["34"]
["35"]
["36"]
["37"]
["38"]
["39"]
["40"]
["41"]
["42"]
["43"]
["44"]
["45"]
["46"]
["47"]
["48"]
["49"]
["50"]
["51"]
["52"]
["53"]
["54"]
["55"]
["56"]
["57"]
["58"]
["59"]
["60"]
["61"]
["62"]
["63"]
["64"]
["65"]
["66"]
["67"]
["68"]
["69"]
["70"]
["71"]
["72"]
["73"]
["74"]
["75"]
["76"]
["77"]
["78"]
["79"]
["80"]
["81"]
["82"]
["83"]
["84"]
["85"]
["86"]
["87"]
["88"]
["89"]
["90"]
["91"]
["92"]
["93"]
["94"]
["95"]
["96"]
["97"]
["98"]
["99"]
["00"]
["01"]
["02"]
["03"]
["04"]
["05"]
["06"]
["07"]
["08"]
["09"]
["10"]
["11"]
["12"]
["13"]
["14"]
["15"]
["16"]
["17"]
["18"]
["19"]
["20"]
["21"]
["22"]
["23"]
["24"]
["25"]
["26"]
["27"]
["28"]
["29"]
["30"]
["31"]
["32"]
["33"]
["34"]
["35"]
["36"]
["37"]
["38"]
["39"]
["40"]
["41"]
["42"]
["43"]
["44"]
["45"]
["46"]
["47"]
["48"]
["49"]
["50"]
["51"]
["52"]
["53"]
["54"]
["55"]
["56"]
["57"]
["58"]
["59"]
["60"]
["61"]
["62"]
["63"]
["64"]
["65"]
["66"]
["67"]
["68"]
["69"]
["70"]
["71"]
["72"]
["73"]
["74"]
["75"]
["76"]
["77"]
["78"]
["79"]
["80"]
["81"]
["82"]
["83"]
["84"]
["85"]
["86"]
["87"]
["88"]
["89"]
["90"]
["91"]
["92"]
["93"]
["94"]
["95"]
["96"]
["97"]
["98"]
["99"]
["00"]
["01"]
["02"]
["03"]
["04"]
["05"]
["06"]
["07"]
["08"]
["09"]
["10"]
["11"]
["12"]
["13"]
["14"]
["15"]
["16"]
["17"]
["18"]
["19"]
["20"]
["21"]
["22"]
["23"]
["24"]
["25"]
["26"]
["27"]
["28"]
["29"]
["30"]
["31"]
["32"]
["33"]
["34"]
["35"]
["36"]
["37"]
["38"]
["39"]
["40"]
["41"]
["42"]
["43"]
["44"]
["45"]
["46"]
["47"]
["48"]
["49"]
["50"]
["51"]
["52"]
["53"]
["54"]
["55"]
["56"]
["57"]
["58"]
["59"]
["60"]
["61"]
["62"]
["63"]
["64"]
["65"]
["66"]
["67"]
["68"]
["69"]
["70"]
["71"]
["72"]
["73"]
["74"]
["75"]
["76"]
["77"]
["78"]
["79"]
["80"]
["81"]
["82"]
["83"]
["84"]
["85"]
["86"]
["87"]
["88"]
["89"]
["90"]
["91"]
["92"]
["93"]
["94"]
["95"]
["96"]
["97"]
["98"]
["99"]
["00"]

{"sheet":"印刷用","index":2,"n_rows":455,"n_cols":249,"rows_kept":455,"cut":false,"hidden":false,"merged":[[1,213,5,231],[21,235,23,247],[15,248,17,258],[18,248,20,258],[21,248,23,258],[15,235,20,237],[15,238,17,247],[18,238,20,247],[13,235,14,258],[453,202,453,209],[453,210,453,231],[454,1,454,3],[454,4,454,9],[454,10,454,39],[454,40,454,47],[454,48,454,75],[454,76,454,82],[454,83,454,88],[454,89,454,94],[454,95,454,101],[454,102,454,111],[454,112,454,128],[454,129,454,134],[454,135,454,141],[454,142,454,148],[454,149,454,167],[454,168,454,181],[454,182,454,201],[454,202,454,209],[454,210,454,231],[453,1,453,3],[453,4,453,9],[453,10,453,39],[453,40,453,47],[453,48,453,75],[453,76,453,82],[453,83,453,88],[453,89,453,94],[453,95,453,101],[453,102,453,111],[453,112,453,128],[453,129,453,134],[453,135,453,141],[453,142,453,148],[453,149,453,167],[453,168,453,181],[453,182,453,201],[451,202,451,209],[451,210,451,231],[452,202,452,209],[452,210,452,231],[452,1,452,3],[452,4,452,9],[452,10,452,39],[452,40,452,47],[452,48,452,75],[452,76,452,82],[452,83,452,88],[452,89,452,94],[452,95,452,101],[452,102,452,111],[452,112,452,128],[452,129,452,134],[452,135,452,141],[452,142,452,148],[452,149,452,167],[452,168,452,181],[452,182,452,201],[451,1,451,3],[451,4,451,9],[451,10,451,39],[451,40,451,47],[451,48,451,75],[451,76,451,82],[451,83,451,88],[451,89,451,94],[451,95,451,101],[451,102,451,111],[451,112,451,128],[451,129,451,134],[451,135,451,141],[451,142,451,148],[451,149,451,167],[451,168,451,181],[451,182,451,201],[449,202,449,209],[449,210,449,231],[450,1,450,3],[450,4,450,9],[450,10,450,39],[450,40,450,47],[450,48,450,75],[450,76,450,82],[450,83,450,88],[450,89,450,94],[450,95,450,101],[450,102,450,111],[450,112,450,128],[450,129,450,134],[450,135,450,141],[450,142,450,148],[450,149,450,167],[450,168,450,181],[450,182,450,201],[450,202,450,209],[450,210,450,231],[449,1,449,3],[449,4,449,9],[449,10,449,39],[449,40,449,47],[449,48,449,75],[449,76,449,82],[449,83,449,88],[449,89,449,94],[449,95,449,101],[449,102,449,111],[449,112,449,128],[449,129,449,134],[449,135,449,141],[449,142,449,148],[449,149,449,167],[449,168,449,181],[449,182,449,201],[447,202,447,209],[447,210,447,231],[448,1,448,3],[448,4,448,9],[448,10,448,39],[448,40,448,47],[448,48,448,75],[448,76,448,82],[448,83,448,88],[448,89,448,94],[448,95,448,101],[448,102,448,111],[448,112,448,128],[448,129,448,134],[448,135,448,141],[448,142,448,148],[448,149,448,167],[448,168,448,181],[448,182,448,201],[448,202,448,209],[448,210,448,231],[447,1,447,3],[447,4,447,9],[447,10,447,39],[447,40,447,47],[447,48,447,75],[447,76,447,82],[447,83,447,88],[447,89,447,94],[447,95,447,101],[447,102,447,111],[447,112,447,128],[447,129,447,134],[447,135,447,141],[447,142,447,148],[447,149,447,167],[447,168,447,181],[447,182,447,201],[445,202,445,209],[445,210,445,231],[446,1,446,3],[446,4,446,9],[446,10,446,39],[446,40,446,47],[446,48,446,75],[446,76,446,82],[446,83,446,88],[446,89,446,94],[446,95,446,101],[446,102,446,111],[446,112,446,128],[446,129,446,134],[446,135,446,141],[446,142,446,148],[446,149,446,167],[446,168,446,181],[446,182,446,201],[446,202,446,209],[446,210,446,231],[445,1,445,3],[445,4,445,9],[445,10,445,39],[445,40,445,47],[445,48,445,75],[445,76,445,82],[445,83,445,88],[445,89,445,94],[445,95,445,101],[445,102,445,111],[445,112,445,128],[445,129,445,134],[445,135,445,141],[445,142,445,148],[445,149,445,167],[445,168,445,181],[445,182,445,201],[443,202,443,209],[443,210,443,231],[444,1,444,3],[444,4,444,9],[444,10,444,39],[444,40,444,47],[444,48,444,75],[444,76,444,82],[444,83,444,88],[444,89,444,94],[444,95,444,101],[444,102,444,111],[444,112,444,128],[444,129,444,134],[444,135,444,141],[444,142,444,148],[444,149,444,167],[444,168,444,181],[444,182,444,201],[444,202,444,209],[444,210,444,231],[443,1,443,3],[443,4,443,9],[443,10,443,39],[443,40,443,47],[443,48,443,75],[443,76,443,82],[443,83,443,88],[443,89,443,94],[443,95,443,101],[443,102,443,111],[443,112,443,128],[443,129,443,134],[443,135,443,141],[443,142,443,148],[443,149,443,167],[443,168,443,181],[443,182,443,201],[441,202,441,209],[441,210,441,231],[442,1,442,3],[442,4,442,9],[442,10,442,39],[442,40,442,47],[442,48,442,75],[442,76,442,82],[442,83,442,88],[442,89,442,94],[442,95,442,101],[442,102,442,111],[442,112,442,128],[442,129,442,134],[442,135,442,141],[442,142,442,148],[442,149,442,167],[442,168,442,181],[442,182,442,201],[442,202,442,209],[442,210,442,231],[441,1,441,3],[441,4,441,9],[441,10,441,39],[441,40,441,47],[441,48,441,75],[441,76,441,82],[441,83,441,88],[441,89,441,94],[441,95,441,101],[441,102,441,111],[441,112,441,128],[441,129,441,134],[441,135,441,141],[441,142,441,148],[441,149,441,167],[441,168,441,181],[441,182,441,201],[439,202,439,209],[439,210,439,231],[440,1,440,3],[440,4,440,9],[440,10,440,39],[440,40,440,47],[440,48,440,75],[440,76,440,82],[440,83,440,88],[440,89,440,94],[440,95,440,101],[440,102,440,111],[440,112,440,128],[440,129,440,134],[440,135,440,141],[440,142,440,148],[440,149,440,167],[440,168,440,181],[440,182,440,201],[440,202,440,209],[440,210,440,231],[439,1,439,3],[439,4,439,9],[439,10,439,39],[439,40,439,47],[439,48,439,75],[439,76,439,82],[439,83,439,88],[439,89,439,94],[439,95,439,101],[439,102,439,111],[439,112,439,128],[439,129,439,134],[439,135,439,141],[439,142,439,148],[439,149,439,167],[439,168,439,181],[439,182,439,201],[437,202,437,209],[437,210,437,231],[438,1,438,3],[438,4,438,9],[438,10,438,39],[438,40,438,47],[438,48,438,75],[438,76,438,82],[438,83,438,88],[438,89,438,94],[438,95,438,101],[438,102,438,111],[438,112,438,128],[438,129,438,134],[438,135,438,141],[438,142,438,148],[438,149,438,167],[438,168,438,181],[438,182,438,201],[438,202,438,209],[438,210,438,231],[437,1,437,3],[437,4,437,9],[437,10,437,39],[437,40,437,47],[437,48,437,75],[437,76,437,82],[437,83,437,88],[437,89,437,94],[437,95,437,101],[437,102,437,111],[437,112,437,128],[437,129,437,134],[437,135,437,141],[437,142,437,148],[437,149,437,167],[437,168,437,181],[437,182,437,201],[435,202,435,209],[435,210,435,231],[436,1,436,3],[436,4,436,9],[436,10,436,39],[436,40,436,47],[436,48,436,75],[436,76,436,82],[436,83,436,88],[436,89,436,94],[436,95,436,101],[436,102,436,111],[436,112,436,128],[436,129,436,134],[436,135,436,141],[436,142,436,148],[436,149,436,167],[436,168,436,181],[436,182,436,201],[436,202,436,209],[436,210,436,231],[435,1,435,3],[435,4,435,9],[435,10,435,39],[435,40,435,47],[435,48,435,75],[435,76,435,82],[435,83,435,88],[435,89,435,94],[435,95,435,101],[435,102,435,111],[435,112,435,128],[435,129,435,134],[435,135,435,141],[435,142,435,148],[435,149,435,167],[435,168,435,181],[435,182,435,201],[433,202,433,209],[433,210,433,231],[434,1,434,3],[434,4,434,9],[434,10,434,39],[434,40,434,47],[434,48,434,75],[434,76,434,82],[434,83,434,88],[434,89,434,94],[434,95,434,101],[434,102,434,111],[434,112,434,128],[434,129,434,134],[434,135,434,141],[434,142,434,148],[434,149,434,167],[434,168,434,181],[434,182,434,201],[434,202,434,209],[434,210,434,231],[433,1,433,3],[433,4,433,9],[433,10,433,39],[433,40,433,47],[433,48,433,75],[433,76,433,82],[433,83,433,88],[433,89,433,94],[433,95,433,101],[433,102,433,111],[433,112,433,128],[433,129,433,134],[433,135,433,141],[433,142,433,148],[433,149,433,167],[433,168,433,181],[433,182,433,201],[431,202,431,209],[431,210,431,231],[432,1,432,3],[432,4,432,9],[432,10,432,39],[432,40,432,47],[432,48,432,75],[432,76,432,82],[432,83,432,88],[432,89,432,94],[432,95,432,101],[432,102,432,111],[432,112,432,128],[432,129,432,134],[432,135,432,141],[432,142,432,148],[432,149,432,167],[432,168,432,181],[432,182,432,201],[432,202,432,209],[432,210,432,231],[431,1,431,3],[431,4,431,9],[431,10,431,39],[431,40,431,47],[431,48,431,75],[431,76,431,82],[431,83,431,88],[431,89,431,94],[431,95,431,101],[431,102,431,111],[431,112,431,128],[431,129,431,134],[431,135,431,141],[431,142,431,148],[431,149,431,167],[431,168,431,181],[431,182,431,201],[429,202,429,209],[429,210,429,231],[430,1,430,3],[430,4,430,9],[430,10,430,39],[430,40,430,47],[430,48,430,75],[430,76,430,82],[430,83,430,88],[430,89,430,94],[430,95,430,101],[430,102,430,111],[430,112,430,128],[430,129,430,134],[430,135,430,141],[430,142,430,148],[430,149,430,167],[430,168,430,181],[430,182,430,201],[430,202,430,209],[430,210,430,231],[429,1,429,3],[429,4,429,9],[429,10,429,39],[429,40,429,47],[429,48,429,75],[429,76,429,82],[429,83,429,88],[429,89,429,94],[429,95,429,101],[429,102,429,111],[429,112,429,128],[429,129,429,134],[429,135,429,141],[429,142,429,148],[429,149,429,167],[429,168,429,181],[429,182,429,201],[427,202,427,209],[427,210,427,231],[428,1,428,3],[428,4,428,9],[428,10,428,39],[428,40,428,47],[428,48,428,75],[428,76,428,82],[428,83,428,88],[428,89,428,94],[428,95,428,101],[428,102,428,111],[428,112,428,128],[428,129,428,134],[428,135,428,141],[428,142,428,148],[428,149,428,167],[428,168,428,181],[428,182,428,201],[428,202,428,209],[428,210,428,231],[427,1,427,3],[427,4,427,9],[427,10,427,39],[427,40,427,47],[427,48,427,75],[427,76,427,82],[427,83,427,88],[427,89,427,94],[427,95,427,101],[427,102,427,111],[427,112,427,128],[427,129,427,134],[427,135,427,141],[427,142,427,148],[427,149,427,167],[427,168,427,181],[427,182,427,201],[425,202,425,209],[425,210,425,231],[426,1,426,3],[426,4,426,9],[426,10,426,39],[426,40,426,47],[426,48,426,75],[426,76,426,82],[426,83,426,88],[426,89,426,94],[426,95,426,101],[426,102,426,111],[426,112,426,128],[426,129,426,134],[426,135,426,141],[426,142,426,148],[426,149,426,167],[426,168,426,181],[426,182,426,201],[426,202,426,209],[426,210,426,231],[425,1,425,3],[425,4,425,9],[425,10,425,39],[425,40,425,47],[425,48,425,75],[425,76,425,82],[425,83,425,88],[425,89,425,94],[425,95,425,101],[425,102,425,111],[425,112,425,128],[425,129,425,134],[425,135,425,141],[425,142,425,148],[425,149,425,167],[425,168,425,181],[425,182,425,201],[423,202,423,209],[423,210,423,231],[424,1,424,3],[424,4,424,9],[424,10,424,39],[424,40,424,47],[424,48,424,75],[424,76,424,82],[424,83,424,88],[424,89,424,94],[424,95,424,101],[424,102,424,111],[424,112,424,128],[424,129,424,134],[424,135,424,141],[424,142,424,148],[424,149,424,167],[424,168,424,181],[424,182,424,201],[424,202,424,209],[424,210,424,231],[423,1,423,3],[423,4,423,9],[423,10,423,39],[423,40,423,47],[423,48,423,75],[423,76,423,82],[423,83,423,88],[423,89,423,94],[423,95,423,101],[423,102,423,111],[423,112,423,128],[423,129,423,134],[423,135,423,141],[423,142,423,148],[423,149,423,167],[423,168,423,181],[423,182,423,201],[421,202,421,209],[421,210,421,231],[422,1,422,3],[422,4,422,9],[422,10,422,39],[422,40,422,47],[422,48,422,75],[422,76,422,82],[422,83,422,88],[422,89,422,94],[422,95,422,101],[422,102,422,111],[422,112,422,128],[422,129,422,134],[422,135,422,141],[422,142,422,148],[422,149,422,167],[422,168,422,181],[422,182,422,201],[422,202,422,209],[422,210,422,231],[421,1,421,3],[421,4,421,9],[421,10,421,39],[421,40,421,47],[421,48,421,75],[421,76,421,82],[421,83,421,88],[421,89,421,94],[421,95,421,101],[421,102,421,111],[421,112,421,128],[421,129,421,134],[421,135,421,141],[421,142,421,148],[421,149,421,167],[421,168,421,181],[421,182,421,201],[419,202,419,209],[419,210,419,231],[420,1,420,3],[420,4,420,9],[420,10,420,39],[420,40,420,47],[420,48,420,75],[420,76,420,82],[420,83,420,88],[420,89,420,94],[420,95,420,101],[420,102,420,111],[420,112,420,128],[420,129,420,134],[420,135,420,141],[420,142,420,148],[420,149,420,167],[420,168,420,181],[420,182,420,201],[420,202,420,209],[420,210,420,231],[419,1,419,3],[419,4,419,9],[419,10,419,39],[419,40,419,47],[419,48,419,75],[419,76,419,82],[419,83,419,88],[419,89,419,94],[419,95,419,101],[419,102,419,111],[419,112,419,128],[419,129,419,134],[419,135,419,141],[419,142,419,148],[419,149,419,167],[419,168,419,181],[419,182,419,201],[417,202,417,209],[417,210,417,231],[418,1,418,3],[418,4,418,9],[418,10,418,39],[418,40,418,47],[418,48,418,75],[418,76,418,82],[418,83,418,88],[418,89,418,94],[418,95,418,101],[418,102,418,111],[418,112,418,128],[418,129,418,134],[418,135,418,141],[418,142,418,148],[418,149,418,167],[418,168,418,181],[418,182,418,201],[418,202,418,209],[418,210,418,231],[417,1,417,3],[417,4,417,9],[417,10,417,39],[417,40,417,47],[417,48,417,75],[417,76,417,82],[417,83,417,88],[417,89,417,94],[417,95,417,101],[417,102,417,111],[417,112,417,128],[417,129,417,134],[417,135,417,141],[417,142,417,148],[417,149,417,167],[417,168,417,181],[417,182,417,201],[415,202,415,209],[415,210,415,231],[416,1,416,3],[416,4,416,9],[416,10,416,39],[416,40,416,47],[416,48,416,75],[416,76,416,82],[416,83,416,88],[416,89,416,94],[416,95,416,101],[416,102,416,111],[416,112,416,128],[416,129,416,134],[416,135,416,141],[416,142,416,148],[416,149,416,167],[416,168,416,181],[416,182,416,201],[416,202,416,209],[416,210,416,231],[415,1,415,3],[415,4,415,9],[415,10,415,39],[415,40,415,47],[415,48,415,75],[415,76,415,82],[415,83,415,88],[415,89,415,94],[415,95,415,101],[415,102,415,111],[415,112,415,128],[415,129,415,134],[415,135,415,141],[415,142,415,148],[415,149,415,167],[415,168,415,181],[415,182,415,201],[413,202,413,209],[413,210,413,231],[414,1,414,3],[414,4,414,9],[414,10,414,39],[414,40,414,47],[414,48,414,75],[414,76,414,82],[414,83,414,88],[414,89,414,94],[414,95,414,101],[414,102,414,111],[414,112,414,128],[414,129,414,134],[414,135,414,141],[414,142,414,148],[414,149,414,167],[414,168,414,181],[414,182,414,201],[414,202,414,209],[414,210,414,231],[413,1,413,3],[413,4,413,9],[413,10,413,39],[413,40,413,47],[413,48,413,75],[413,76,413,82],[413,83,413,88],[413,89,413,94],[413,95,413,101],[413,102,413,111],[413,112,413,128],[413,129,413,134],[413,135,413,141],[413,142,413,148],[413,149,413,167],[413,168,413,181],[413,182,413,201],[411,202,411,209],[411,210,411,231],[412,1,412,3],[412,4,412,9],[412,10,412,39],[412,40,412,47],[412,48,412,75],[412,76,412,82],[412,83,412,88],[412,89,412,94],[412,95,412,101],[412,102,412,111],[412,112,412,128],[412,129,412,134],[412,135,412,141],[412,142,412,148],[412,149,412,167],[412,168,412,181],[412,182,412,201],[412,202,412,209],[412,210,412,231],[411,1,411,3],[411,4,411,9],[411,10,411,39],[411,40,411,47],[411,48,411,75],[411,76,411,82],[411,83,411,88],[411,89,411,94],[411,95,411,101],[411,102,411,111],[411,112,411,128],[411,129,411,134],[411,135,411,141],[411,142,411,148],[411,149,411,167],[411,168,411,181],[411,182,411,201],[409,202,409,209],[409,210,409,231],[410,1,410,3],[410,4,410,9],[410,10,410,39],[410,40,410,47],[410,48,410,75],[410,76,410,82],[410,83,410,88],[410,89,410,94],[410,95,410,101],[410,102,410,111],[410,112,410,128],[410,129,410,134],[410,135,410,141],[410,142,410,148],[410,149,410,167],[410,168,410,181],[410,182,410,201],[410,202,410,209],[410,210,410,231],[409,1,409,3],[409,4,409,9],[409,10,409,39],[409,40,409,47],[409,48,409,75],[409,76,409,82],[409,83,409,88],[409,89,409,94],[409,95,409,101],[409,102,409,111],[409,112,409,128],[409,129,409,134],[409,135,409,141],[409,142,409,148],[409,149,409,167],[409,168,409,181],[409,182,409,201],[407,202,407,209],[407,210,407,231],[408,1,408,3],[408,4,408,9],[408,10,408,39],[408,40,408,47],[408,48,408,75],[408,76,408,82],[408,83,408,88],[408,89,408,94],[408,95,408,101],[408,102,408,111],[408,112,408,128],[408,129,408,134],[408,135,408,141],[408,142,408,148],[408,149,408,167],[408,168,408,181],[408,182,408,201],[408,202,408,209],[408,210,408,231],[407,1,407,3],[407,4,407,9],[407,10,407,39],[407,40,407,47],[407,48,407,75],[407,76,407,82],[407,83,407,88],[407,89,407,94],[407,95,407,101],[407,102,407,111],[407,112,407,128],[407,129,407,134],[407,135,407,141],[407,142,407,148],[407,149,407,167],[407,168,407,181],[407,182,407,201],[405,202,405,209],[405,210,405,231],[406,1,406,3],[406,4,406,9],[406,10,406,39],[406,40,406,47],[406,48,406,75],[406,76,406,82],[406,83,406,88],[406,89,406,94],[406,95,406,101],[406,102,406,111],[406,112,406,128],[406,129,406,134],[406,135,406,141],[406,142,406,148],[406,149,406,167],[406,168,406,181],[406,182,406,201],[406,202,406,209],[406,210,406,231],[405,1,405,3],[405,4,405,9],[405,10,405,39],[405,40,405,47],[405,48,405,75],[405,76,405,82],[405,83,405,88],[405,89,405,94],[405,95,405,101],[405,102,405,111],[405,112,405,128],[405,129,405,134],[405,135,405,141],[405,142,405,148],[405,149,405,167],[405,168,405,181],[405,182,405,201],[403,202,403,209],[403,210,403,231],[404,1,404,3],[404,4,404,9],[404,10,404,39],[404,40,404,47],[404,48,404,75],[404,76,404,82],[404,83,404,88],[404,89,404,94],[404,95,404,101],[404,102,404,111],[404,112,404,128],[404,129,404,134],[404,135,404,141],[404,142,404,148],[404,149,404,167],[404,168,404,181],[404,182,404,201],[404,202,404,209],[404,210,404,231],[403,1,403,3],[403,4,403,9],[403,10,403,39],[403,40,403,47],[403,48,403,75],[403,76,403,82],[403,83,403,88],[403,89,403,94],[403,95,403,101],[403,102,403,111],[403,112,403,128],[403,129,403,134],[403,135,403,141],[403,142,403,148],[403,149,403,167],[403,168,403,181],[403,182,403,201],[401,202,401,209],[401,210,401,231],[402,1,402,3]],"merged_total":7838,"flags":["merged_cut"]}
[null,null,null,null,null,null,null,null,null,null,null,null,null,null,null,null,null,null,null,null,null,null,null,null,null,null,null,null,null,null,null,null,null,null,null,null,null,null,null,null,null,null,null,null,null,null,null,null,null,null,null,null,null,null,null,null,null,null,null,null,null,null,null,null,null,null,null,null,null,"厚 生 労 働 省"]
[null,null,null,null,null,null,null,null,null,null,null,null,null,null,null,null,null,null,null,null,null,null,null,null,null,null,null,null,null,null,null,null,null,null,null,null,null,null,null,null,null,null,null,null,null,null,null,null,null,null,null,null,null,null,null,null,null,null,null,null,null,null,null,null,null,null,null,null,null,null,null,null,null,null,null,null,null,null,null,null,null,null,null,null,null,null,null,null,null,null,null,null,null,null,null,null,null,null,null,null,null,null,null,null,null,null,null,null,null,null,null,null,null,null,null,null,null,null,null,null,null,null,null,null,null,null,null,null,null,null,null,null,null,null,null,null,null,null,null,null,null,null,null,null,null,null,null,null,null,null,null,null,null,null,null,null,null,null,null,null,null,null,null,null,null,null,null,null,null,null,null,null,null,null,null,null,null,null,null,null,null,null,null,null,null,null,null,null,null,null,null,null,null,null,null,null,null,null,null,null,null,null,null,null,null,null,null,null,null,null,null,null,null,"HP掲載版"]
[null,null,"統計法に基づく\n基幹統計調査",null,null,null,null,null,null,null,null,null,null,null,null,null,null,"この調査票に記入された事項については、統計以外の目的に使ったり、他に漏らしたりすることはありません。",null,null,null,null,null,null,null,null,null,null,null,null,null,null,null,null,null,null,null,null,null,null,null,null,null,null,null,null,null,null,null,null,null,null,null,null,null,null,null,null,null,null,null,null,null,null,null,null,null,null,null,"賃金構造基本統計調査　調査票"]
[]
[]
[]
[null,null,"都道府県\n番号",null,null,null,null,null,null,null,null,null,"事業所一連番号",null,null,null,null,null,null,null,null,null,null,null,null,null,null,null,null,null,null,null,null,null,null,null,null,null,null,null,null,null,"産業分類番号",null,null,null,null,null,null,null,null,null,null,null,null,null,null,null,null,null,null,null,null,null,null,null,null,null,null,{"$f":"事業所に係る事項!BR10","v":44740}]
[]
[null,null,null,null,null,null,null,null,null,null,null,null,null,null,null,null,null,null,null,null,null,null,null,null,null,null,null,null,null,null,null,null,null,null,null,null,null,null,null,null,null,null,null,null,null,null,null,null,null,null,null,null,null,null,null,null,null,null,null,null,null,null,null,"記入\n担当者\n氏名及び\n連絡先",null,null,null,null,null,null,null,null,null,null,null,null,null,null,null,null,null,null,null,null,null,null,null,null,null,null,null,null,null,null,null,null,null,null,null,null,null,null,null,null,null,null,null,null,null,null,"区分",null,null,null,null,null,null,null,null,null,null,null,null,null,null,null,null,null,null,null,null,null,null,null,null,null,null,null,null,null,null,null,null,"労働者数",null,null,null,null,null,null,null,null,null,null,null,"抽出率",null,null,null,null,null,null,null,null,"\n企業全体の常用労働者数",null,null,null,null,null,null,null,null,null,null,"1 5000人\n以上",null,null,null,null,null,null,null,{"$f":"事業所に係る事項!GB12&\"\"","v":""}]
[null,null,{"$f":"事業所に係る事項!C13&\"\"","v":""},null,null,null,null,null,null,null,null,null,{"$f":"事業所に係る事項!M13&\"\"","v":""},null,null,null,null,null,null,null,null,null,null,null,null,null,null,null,null,null,null,null,null,null,null,null,null,null,null,null,null,null,{"$f":"事業所に係る事項!AQ13&\"\"","v":""},null,null,null,null,null,null,null,null,null,null,null,null,null,null,null,null,null,null,null,null,{"$f":"事業所に係る事項!BL13&\"\"","v":""},null,null,null,null,null,null,null,null,null,null,null,null,null,null,null,null,null,null,null,null,null,null,null,null,null,null,null,null,null,null,null,null,null,null,null,null,null,null,null,null,null,null,null,null,null,null,"\n事業所の\n常用労働者数\n\n",null,null,null,null,null,null,null,null,null,null,null,null,null,null,"正社員・正職員\n\n貴事業所において正社員・正職員とする者",null,null,null,null,null,null,null,null,null,null,null,null,"男女計",null,null,null,null,{"$f":"事業所に係る事項!EN13&\"\"","v":""},null,null,null,null,null,null,null,null,null,null,null,"常用労働者"]
[null,null,null,null,null,null,null,null,null,null,null,null,null,null,null,null,null,null,null,null,null,null,null,null,null,null,null,null,null,null,null,null,null,null,null,null,null,null,null,null,null,null,null,null,null,null,null,null,null,null,null,null,null,null,null,null,null,null,null,null,null,null,null,null,null,null,null,null,null,null,null,null,null,null,null,null,null,null,null,null,null,null,null,null,null,null,null,null,null,null,null,null,null,null,null,null,null,null,null,null,null,null,null,null,null,null,null,null,null,null,null,null,null,null,null,null,null,null,null,null,null,null,null,null,null,null,null,null,null,null,null,null,null,null,null,null,null,null,null,null,null,null,null,null,null,null,null,null,null,null,null,null,null,null,null,"\n１\n―",null,null,null,null,null,null,null,null,null,null,null,null,null,null,null,null,null,null,null,"2 1000～\n  4999人"]
[null,"１．事業所に係る事項"]
[null,"事業所の名称及び所在地",null,null,null,null,null,null,null,null,{"$f":"事業所に係る事項!K16&\"\"","v":""},null,null,null,null,null,null,null,null,null,null,null,null,null,null,null,null,null,null,null,null,null,null,null,null,null,null,null,null,null,null,null,null,null,null,null,null,null,null,null,null,null,null,null,null,null,null,null,null,null,null,null,null,null,null,null,null,null,null,null,null,null,null,null,null,null,null,null,null,null,null,null,null,null,null,null,null,null,null,null,null,null,null,null,null,null,null,null,null,null,null,null,null,null,null,null,null,null,null,null,"常用労働者とは、\n・期間を定めずに\n　雇われている\n　労働者\n又は\n・１か月以上の\n　期間を定めて\n　雇われている\n　労働者\nをいいます。",null,null,null,null,null,null,null,null,null,null,null,null,null,null,null,null,null,null,null,null,null,null,null,null,null,null,null,null,null,"うち、女",null,null,{"$f":"事業所に係る事項!EN16&\"\"","v":""},null,null,null,null,null,null,null,null,null,null,null,null,null,null,null,null,null,null,null,null,"\n貴事業所が属する企業全体（本社、支社、工場、営業所等）の常用労働者の総数をいいます。",null,null,null,null,null,null,null,null,null,null,"3  500～\n   999人"]
[null,null,null,null,null,null,null,null,null,null,null,null,null,null,null,null,null,null,null,null,null,null,null,null,null,null,null,null,null,null,null,null,null,null,null,null,null,null,null,null,null,null,null,null,null,null,null,null,null,null,null,null,null,null,null,null,null,null,null,null,null,null,null,"連絡先\n電話番号",null,null,null,null,null,null,null,null,"(",{"$f":"事業所に係る事項!BV17&\"\"","v":""},null,null,null,null,null,null,null,null,null,")",null,{"$f":"事業所に係る事項!CH17&\"\"","v":""},null,null,null,null,null,null,null,null,null,"－",null,{"$f":"事業所に係る事項!CT17&\"\"","v":""},null,null,null,null,null,null,null,null,null,null,null,null,null,null,null,null,null,null,null,null,null,null,null,null,null,null,null,null,null,null,null,null,null,null,null,null,null,null,null,null,null,null,null,null,null,null,null,null,null,null,null,null,null,null,null,null,null,null,null,null,null,null,null,null,null,null,null,null,null,null,null,null,null,null,null,null,null,null,null,null,null,null,null,null,null,null,null,null,null,null,null,null,null,null,null,null,null,null,null,null,null,null,null,null,null,null,null,null,null,null,null,null,null,null,null,null,null,null,null,null,null,null,null,null,null,null,null,null,null,null,null,null,null,null,null,null,null,"記入目安\n（人）"]
[null,null,null,null,null,null,null,null,null,null,null,null,null,null,null,null,null,null,null,null,null,null,null,null,null,null,null,null,null,null,null,null,null,null,null,null,null,null,null,null,null,null,null,null,null,null,null,null,null,null,null,null,null,null,null,null,null,null,null,null,null,null,null,null,null,null,null,null,null,null,null,null,null,null,null,null,null,null,null,null,null,null,null,"（内線",null,null,null,null,null,{"$f":"事業所に係る事項!CN18&\"\"","v":""},null,null,null,null,null,null,null,null,null,null,null,null,null,null,"番）",null,null,null,null,null,null,null,null,null,null,null,null,null,null,null,null,null,null,null,null,null,null,null,null,null,null,null,null,null,null,null,null,null,null,null,null,null,null,null,null,null,null,null,null,null,null,null,null,null,null,null,{"$f":"事業所に係る事項!FA18&\"\"","v":""},null,null,null,null,null,null,null,null,null,null,null,null,null,null,null,null,null,null,"4  300～\n  499人",null,null,null,null,null,null,null,null,null,null,null,null,null,null,null,null,null,"※この欄は最後にご記入ください"]
[null,null,null,null,null,null,null,null,null,null,null,null,null,null,null,null,null,null,null,null,null,null,null,null,null,null,null,null,null,null,null,null,null,null,null,null,null,null,null,null,null,null,null,null,null,null,null,null,null,null,null,null,null,null,null,null,null,null,null,null,null,null,null,"主要な生産品の名称又は事業の内容",null,null,null,null,null,null,null,null,null,null,null,null,null,null,null,null,null,null,null,null,null,null,null,null,null,null,null,null,null,null,null,null,null,null,null,null,null,null,null,null,null,null,null,null,null,null,null,null,null,null,null,null,null,null,null,null,null,null,null,null,null,"正社員・正職員以外\n\n常用労働者のうち「正社員・正職員」以外の者",null,null,null,null,null,null,null,null,null,null,null,null,"男女計",null,null,null,null,{"$f":"アドレス_正社員・正職員以外_男女計_調査票&\"\"","v":""},null,null,null,null,null,null,null,null,null,null,null,null,null,null,null,null,null,null,null,null,null,null,null,null,null,null,null,null,null,null,null,null,null,null,null,null,null,null,null,null,null,null,null,null,null,null,null,null,null,null,"記入労働者数\n\n※下の表部分(２．労働者に係る事項)に記入した人数（２枚目以降を含みます）を記入してください。",null,null,null,null,null,null,null,null,null,null,null,null,"常用労働者",null,null,"正社員・\n正職員\n（男女計）",null,null,null,null,null,null,null,null,null,{"$f":"事業所に係る事項!HM19&\"\"","v":"0"},null,null,null,null,null,null,null,null,null,null,null,null,null,null,"常用労働者",null,null,"正社員・\n正職員\n（男女計）",null,null,null,null,null,null,null,null,null,{"$f":"事業所に係る事項!FW1&\"\"","v":"0"}]
[null,null,null,null,null,null,null,null,null,null,null,null,null,null,null,null,null,null,null,null,null,null,null,null,null,null,null,null,null,null,null,null,null,null,null,null,null,null,null,null,null,null,null,null,null,null,null,null,null,null,null,null,null,null,null,null,null,null,null,null,null,null,null,{"$f":"事業所に係る事項!BL20&\"\"","v":""},null,null,null,null,null,null,null,null,null,null,null,null,null,null,null,null,null,null,null,null,null,null,null,null,null,null,null,null,null,null,null,null,null,null,null,null,null,null,null,null,null,null,null,null,null,null,null,null,null,null,null,null,null,null,null,null,null,null,null,null,null,null,null,null,null,null,null,null,null,null,null,null,null,null,null,null,null,null,null,null,null,null,null,null,null,null,null,null,null,null,null,null,null,null,null,null,null,null,null,null,null,null,null,null,null,null,null,null,null,null,null,"5  100～\n   299人"]
[null,null,null,null,null,null,null,null,null,null,null,null,null,null,null,null,null,null,null,null,null,null,null,null,null,null,null,null,null,null,null,null,null,null,null,null,null,null,null,null,null,null,null,null,null,null,null,null,null,null,null,null,null,null,null,null,null,null,null,null,null,null,null,null,null,null,null,null,null,null,null,null,null,null,null,null,null,null,null,null,null,null,null,null,null,null,null,null,null,null,null,null,null,null,null,null,null,null,null,null,null,null,null,null,null,null,null,null,null,null,null,null,null,null,null,null,null,null,null,null,null,null,null,null,null,null,null,null,null,null,null,null,null,null,null,null,null,null,null,null,null,null,null,null,null,null,null,null,null,null,null,null,null,null,null,"臨時労働者"]
[null,null,null,null,null,null,null,null,null,null,null,null,null,null,null,null,null,null,null,null,null,null,null,null,null,null,null,null,null,null,null,null,null,null,null,null,null,null,null,null,null,null,null,null,null,null,null,null,null,null,null,null,null,null,null,null,null,null,null,null,null,null,null,null,null,null,null,null,null,null,null,null,null,null,null,null,null,null,null,null,null,null,null,null,null,null,null,null,null,null,null,null,null,null,null,null,null,null,null,null,null,null,null,null,null,null,null,null,null,null,null,null,null,null,null,null,null,null,null,null,null,null,null,null,null,null,null,null,null,null,null,null,null,null,null,null,null,null,null,null,"うち、女",null,null,{"$f":"事業所に係る事項!EN22&\"\"","v":""},null,null,null,null,null,null,null,null,null,null,null,"１\n―",null,null,null,null,null,null,null,null,null,null,null,null,null,null,null,null,null,null,null,"6   30～\n    99人",null,null,null,null,null,null,null,null,null,null,null,null,null,null,null,null,null,null,null,null,null,null,null,null,null,null,null,null,null,null,null,null,null,null,"正社員・\n正職員以外（男女計）",null,null,null,null,null,null,null,null,null,{"$f":"アドレス_記入_正社員・正職員以外_男女計_調査票&\"\"","v":"0"},null,null,null,null,null,null,null,null,null,null,null,null,null,null,null,null,null,"正社員・\n正職員以外（男女計）",null,null,null,null,null,null,null,null,null,{"$f":"事業所に係る事項!GS1&\"\"","v":"0"}]
[]
[null,null,null,null,null,null,null,null,null,null,null,null,null,null,null,null,null,null,null,null,null,null,null,null,null,null,null,null,null,null,null,null,null,null,null,null,null,null,null,null,null,null,null,null,null,null,null,null,null,null,null,null,null,null,null,null,null,null,null,null,null,null,null,null,null,null,null,null,null,null,null,null,null,null,null,null,null,null,null,null,null,null,null,null,null,null,null,null,null,null,null,null,null,null,null,null,null,null,null,null,null,null,null,null,null,null,null,null,null,null,null,null,null,null,null,null,null,null,null,null,null,null,null,null,null,null,null,null,null,null,null,null,null,null,null,null,null,null,null,null,null,null,null,null,null,null,null,null,null,null,null,null,null,null,null,null,null,null,null,null,null,null,null,null,null,null,null,null,null,null,null,null,null,null,null,"7   10～\n    29人"]
[null,"法人番号",null,null,null,null,null,null,null,null,{"$f":"事業所に係る事項!K25&\"\"","v":""},null,null,null,null,null,null,null,null,null,null,null,null,null,null,null,null,null,null,null,null,null,null,null,null,null,null,null,null,null,null,null,null,null,null,null,null,null,null,null,null,null,null,null,null,null,null,null,null,null,null,null,null,null,null,null,null,null,null,null,null,null,null,null,null,null,null,null,null,null,null,null,null,null,null,null,null,null,null,null,null,null,null,null,null,null,null,null,null,null,null,null,null,null,null,null,null,null,null,null,"事業所の臨時労働者数\n常用労働者に該当しない労働者\n 　日々又は１か月未満の期間を定めて雇われて\n 　いる労働者",null,null,null,null,null,null,null,null,null,null,null,null,null,null,null,null,null,null,null,null,null,null,null,null,null,null,null,null,null,null,null,null,{"$f":"事業所に係る事項!EN25&\"\"","v":""},null,null,null,null,null,null,null,null,null,null,null,null,{"$f":"事業所に係る事項!FA25&\"\"","v":""},null,null,null,null,null,null,null,null,null,null,null,null,null,null,null,null,null,null,null,null,null,null,null,null,null,null,null,null,null,null,null,null,null,null,null,null,null,null,null,null,null,null,null,null,null,null,null,null,null,null,"臨時労働者",null,null,null,null,null,null,null,null,null,null,null,null,{"$f":"アドレス_記入_臨時労働者数_調査票&\"\"","v":"0"},null,null,null,null,null,null,null,null,null,null,null,null,null,null,"臨時労働者",null,null,null,null,null,null,null,null,null,null,null,null,{"$f":"事業所に係る事項!HO1&\"\"","v":"0"}]
[null,null,null,null,null,null,null,null,null,null,null,null,null,null,null,null,null,null,null,null,null,null,null,null,null,null,null,null,null,null,null,null,null,null,null,null,null,null,null,null,null,null,null,null,null,null,null,null,null,null,null,null,null,null,null,null,null,null,null,null,null,null,null,null,null,null,null,null,null,null,null,null,null,null,null,null,null,null,null,null,null,null,null,null,null,null,null,null,null,null,null,null,null,null,null,null,null,null,null,null,null,null,null,null,null,null,null,null,null,null,null,null,null,null,null,null,null,null,null,null,null,null,null,null,null,null,null,null,null,null,null,null,null,null,null,null,null,null,null,null,null,null,null,null,null,null,null,null,null,null,null,null,null,null,null,null,null,null,null,null,null,null,null,null,null,null,null,null,null,null,null,null,null,null,null,"8    5～\n     9人"]
[null,"（注）個人事業主の場合、法人番号欄は記入不要です。マイナンバー（個人番号）の記入はしないでください。"]
[null,"２．労働者に係る事項"]
[]
[null,"(1)",null,null,"(2)",null,null,null,null,null,"(3)",null,null,null,null,null,null,null,null,null,null,null,null,null,null,null,null,null,null,null,null,null,null,null,null,null,null,null,null,null,"(4)",null,null,null,null,null,null,null,"(5)",null,null,null,null,null,null,null,null,null,null,null,null,null,null,null,null,null,null,null,null,null,null,null,null,null,null,null,"(6)",null,null,null,null,null,null,"(7)",null,null,null,null,null,"(8)",null,null,null,null,null,"(9)",null,null,null,null,null,null,"(10)",null,null,null,null,null,null,null,null,null,null,null,null,null,null,null,null,null,null,null,null,null,null,null,null,null,null,"(12)",null,null,null,null,null,"(13)",null,null,null,null,null,null,"(14)",null,null,null,null,null,null,"(15)",null,null,null,null,null,null,null,null,null,null,null,null,null,null,null,null,null,null,null,null,null,null,null,null,null,null,null,null,null,null,null,null,"(17)",null,null,null,null,null,null,null,null,null,null,null,null,null,null,null,null,null,null,null,"(18)",null,null,null,null,null,null,null,"備　　　　　考"]
[]
[]
[null,null,null,null,null,null,null,null,null,null,null,null,null,null,null,null,null,null,null,null,null,null,null,null,null,null,null,null,null,null,null,null,null,null,null,null,null,null,null,null,null,null,null,null,null,null,null,null,null,null,null,null,null,null,null,null,null,null,null,null,null,null,null,null,null,null,null,null,null,null,null,null,null,null,null,null,null,null,null,null,null,null,null,null,null,null,null,null,null,null,null,null,null,null,null,null,null,null,null,null,null,null,null,null,null,null,null,null,null,null,null,null,null,null,null,null,null,null,null,null,null,null,null,null,null,null,null,null,null,"実労働",null,null,null,null,null,"所定内",null,null,null,null,null,null,"超　過",null,null,null,null,null,null,"きまって支給する現金給与額"]
[null,"一連番号",null,null,"性",null,null,null,null,null,null,null,"雇用形態",null,null,null,null,null,null,null,null,null,null,null,null,null,null,null,null,null,null,null,null,null,null,null,null,null,null,null,"就業",null,null,null,null,null,null,null,"最終学歴",null,null,null,null,null,null,null,null,null,null,null,null,null,null,null,null,null,null,null,null,null,null,null,null,null,null,null,"新　規",null,null,null,null,null,null,"年齢",null,null,null,null,null,"勤続",null,null,null,null,null,"役職",null,null,null,null,null,null,"職種番号",null,null,null,null,null,null,null,null,null,null,null,null,null,null,null,null,null,null,null,null,null,null,null,null,null,null,null,null,null,null,null,null,null,null,null,null,null,null,null,null,null,null,null,null,null,null,null,null,null,null,null,null,null,null,null,null,null,null,null,null,null,null,null,null,null,null,null,null,null,null,null,null,null,null,null,null,null,null,null,null,"昨年１年間の賞与、",null,null,null,null,null,null,null,null,null,null,null,null,null,null,null,null,null,null,"在留資格",null,null,null,null,null,null,null,null,"以下について記入してください。\n・事業所で記入対象労働者を識別できる番号等\n・記入内容が特異な場合は、その理由"]
[null,null,null,null,null,null,null,null,null,null,null,null,null,null,null,null,null,null,null,null,null,null,null,null,null,null,null,null,null,null,null,null,null,null,null,null,null,null,null,null,null,null,null,null,null,null,null,null,null,null,null,null,null,null,null,null,null,null,null,null,null,null,null,null,null,null,null,null,null,null,null,null,null,null,null,null,null,null,null,null,null,null,null,null,null,null,null,null,null,null,null,null,null,null,null,null,null,null,null,null,null,null,null,null,null,null,null,null,null,null,null,null,null,null,null,null,null,null,null,null,null,null,null,null,null,null,null,null,null,"日　数",null,null,null,null,null,"実労働",null,null,null,null,null,null,"実労働"]
[null,null,null,null,null,null,null,null,null,null,null,null,null,null,null,null,null,null,null,null,null,null,null,null,null,null,null,null,null,null,null,null,null,null,null,null,null,null,null,null,"形態",null,null,null,null,null,null,null,null,null,null,null,null,null,null,null,null,null,null,null,null,null,null,null,null,null,null,null,null,null,null,null,null,null,null,null,"学卒者",null,null,null,null,null,null,null,null,null,null,null,null,"年数",null,null,null,null,null,"番号",null,null,null,null,null,null,null,null,null,null,null,null,null,null,null,null,null,null,null,null,null,null,null,null,null,null,null,null,null,null,null,null,null,null,null,null,null,null,null,null,null,null,null,null,null,null,null,null,null,null,null,null,null,null,null,null,null,null,null,null,null,null,null,null,null,null,null,null,null,null,null,null,null,null,null,null,null,null,null,null,null,null,null,null,null,null,"期末手当等特別給与額",null,null,null,null,null,null,null,null,null,null,null,null,null,null,null,null,null,null,null,"番号"]
[null,null,null,null,null,null,null,null,null,null,null,null,null,null,null,null,null,null,null,null,null,null,null,null,null,null,null,null,null,null,null,null,null,null,null,null,null,null,null,null,null,null,null,null,null,null,null,null,null,null,null,null,null,null,null,null,null,null,null,null,null,null,null,null,null,null,null,null,null,null,null,null,null,null,null,null,null,null,null,null,null,null,null,null,null,null,null,null,null,null,null,null,null,null,null,null,null,null,null,null,null,null,null,null,null,null,null,null,null,null,null,null,null,null,null,null,null,null,null,null,null,null,null,null,null,null,null,null,null,null,null,null,null,null,null,"時間数",null,null,null,null,null,null,"時間数",null,null,null,null,null,null,null,"６月分として算定された給与（税込み）で、超過労働給与額、通勤手当、精皆勤手当、家族手当等を含みます。\n１か月を超え、３か月以内の期間で算定されるものも含みます。",null,null,null,null,null,null,null,null,null,null,null,null,null,null,null,null,null,"(16)"]
[]
[null,null,null,null,null,null,null,null,null,null,null,null,null,null,null,null,null,null,null,null,null,null,null,null,null,null,null,null,null,null,null,null,null,null,null,null,null,null,null,null,null,null,null,null,null,null,null,null,null,null,null,null,null,null,null,null,null,null,null,null,null,null,null,null,null,null,null,null,null,null,null,null,null,null,null,null,"原則、本年３月に卒業等した者に該当する場合のみ記入してください。",null,null,null,null,null,null,null,null,null,null,null,null,"1年未満は0と記入してください。",null,null,null,null,null,"事業所規模10人以上の事業所のみ記入してください。",null,null,null,null,null,null,null,null,null,null,null,null,null,null,null,null,null,"(11)",null,null,null,null,null,null,null,null,null,null,null,null,null,null,null,null,null,null,null,null,null,null,null,null,null,null,null,null,null,null,null,null,null,null,null,null,null,null,null,null,null,null,null,null,null,null,null,null,null,null,null,null,null,null,null,null,null,null,null,null,null,null,null,null,null,null,null,null,null,null,null,null,null,null,null,null,null,null,null,null,null,null,null,null,null,null,null,null,"外国人労働者について記入してください。日本人及び特別永住者等は記入不要です。"]
[null,null,null,null,null,null,null,null,null,null,null,null,null,null,null,null,null,null,null,null,null,null,null,null,null,null,null,null,null,null,null,null,null,null,null,null,null,null,null,null,null,null,null,null,null,null,null,null,null,null,null,null,null,null,null,null,null,null,null,null,null,null,null,null,null,null,null,null,null,null,null,null,null,null,null,null,null,null,null,null,null,null,null,null,null,null,null,null,null,null,null,null,null,null,null,null,null,null,null,null,null,null,null,null,null,null,null,null,null,null,null,null,null,null,null,null,null,null,null,null,null,null,null,null,null,null,null,null,null,null,null,null,null,null,null,null,null,null,null,null,null,null,null,null,null,null,null,null,null,null,null,null,null,null,null,null,null,null,null,null,null,null,null,null,null,null,null,null,"(15)のうち",null,null,null,null,null,null,null,null,null,null,null,null,null,null,"賞与、期末手当等の年間の支給額であり、毎月支給されるものは含みません。\n３か月を超えて算定されるものは含みます。"]
[null,null,null,null,null,null,null,null,null,null,null,null,null,null,null,null,null,null,null,null,null,null,null,null,null,null,null,null,null,null,null,null,null,null,null,null,null,null,null,null,null,null,null,"「5臨時労働者」については、(2)，(3)，(7)，(10)，(12)～(16)のみ記入してください。",null,null,null,null,null,null,null,null,null,null,null,null,null,null,null,null,null,null,null,null,null,null,null,null,null,null,null,null,null,null,null,null,null,null,null,null,null,null,null,null,null,null,null,null,null,null,null,null,null,null,null,null,null,null,null,null,null,null,null,null,null,null,null,null,null,null,null,null,null,null,null,null,null,null,null,null,null,null,null,null,null,null,null,null,null,null,null,null,null,null,null,null,"30分以上は切り上げ、30分未満は切り捨ててください。"]
[null,null,null,null,null,null,null,null,null,null,"常用労働者",null,null,null,null,null,null,null,null,null,null,null,null,null,null,null,null,null,null,null,null,null,null,null,"臨時\n労働者",null,null,null,null,null,null,null,null,null,null,null,null,null,null,null,null,null,null,null,null,null,null,null,null,null,null,null,null,null,null,null,null,null,null,null,null,null,null,null,null,null,null,null,null,null,null,null,null,null,null,null,null,null,null,null,null,null,null,null,null,null,null,null,null,null,null,null,null,"１年未満の端数は切り捨ててください。",null,null,null,null,null,null,null,null,null,"経 験 年 数",null,null,null,null,null,null,null,null,null,null,null,null,null,null,null,null,null,null,null,null,null,null,null,null,null,null,null,null,null,null,null,null,null,null,null,null,null,null,null,null,null,null,null,null,null,null,null,null,null,null,null,null,null,null,"超過労働"]
[]
[null,null,null,null,null,null,null,null,null,null,null,null,null,null,null,null,null,null,null,null,null,null,null,null,null,null,null,null,null,null,null,null,null,null,null,null,null,null,null,null,null,null,null,null,null,null,null,null,null,null,null,null,null,null,null,null,null,null,null,null,null,null,null,null,null,null,null,null,null,null,null,null,null,null,null,null,null,null,null,null,null,null,null,null,null,null,null,null,null,null,null,null,null,null,null,null,null,null,null,null,null,null,null,null,null,null,null,null,null,null,null,null,null,null,null,null,null,null,null,null,null,null,null,null,null,null,null,null,null,null,null,null,null,null,null,null,null,null,null,null,null,null,null,null,null,null,null,null,null,null,null,null,null,null,null,null,null,null,null,null,null,null,null,null,null,null,null,null,"給与額"]
[null,null,null,null,null,null,null,null,null,null,null,null,null,null,null,null,null,null,null,null,null,null,null,null,null,null,null,null,null,null,null,null,null,null,null,null,null,null,null,null,null,null,null,null,null,null,null,null,null,null,null,null,null,null,null,null,null,null,null,null,null,null,null,null,null,null,null,null,null,null,null,null,null,null,null,null,null,null,null,null,null,null,null,null,null,null,null,null,null,null,null,null,null,null,null,null,null,null,null,null,null,null,null,null,null,null,null,null,null,null,null,null,null,"事業所規模10人以上の事業所のみ記入してください。他企業での経験も含みます。"]
[null,null,null,null,null,null,null,null,null,null,null,null,null,null,null,null,null,null,null,null,null,null,null,null,null,null,null,null,null,null,null,null,null,null,null,null,null,null,null,null,null,null,null,null,null,null,null,null,null,null,null,null,null,null,null,null,null,null,null,null,null,null,null,null,null,null,null,null,null,null,null,null,null,null,null,null,null,null,null,null,null,null,null,null,null,null,null,null,null,null,null,null,null,null,null,null,null,null,null,null,null,null,null,null,null,null,null,null,null,null,null,null,null,null,null,null,null,null,null,null,null,null,null,null,null,null,null,null,null,null,null,null,null,null,null,null,null,null,null,null,null,null,null,null,null,null,null,null,null,null,null,null,null,null,null,null,null,null,null,null,null,null,null,null,null,null,null,null,null,"時間外手当、\n深夜手当、\n休日手当、\n宿日直手当等"]
[]
[null,null,null,null,null,null,null,null,null,null,"正社員・正職員",null,null,null,null,null,null,null,null,null,null,null,"正社員・正職員\n以外",null,null,null,null,null,null,null,null,null,null,null,null,null,null,null,null,null,null,null,null,null,null,null,null,null,null,null,null,null,null,null,null,null,null,null,null,null,null,null,null,null,null,null,null,null,null,null,null,null,null,null,null,null,null,null,null,null,null,null,null,null,"１年未満の端数は切り捨ててください。"]
[null,null,null,null,null,null,null,null,null,null,null,null,null,null,null,null,null,null,null,null,null,null,null,null,null,null,null,null,null,null,null,null,null,null,null,null,null,null,null,null,null,null,null,null,null,null,null,null,null,null,null,null,null,null,null,null,null,null,null,null,null,null,null,null,null,null,null,null,null,null,null,null,null,null,null,null,null,null,null,null,null,null,null,null,null,null,null,null,null,null,null,null,null,null,null,null,null,null,null,null,null,null,null,null,null,null,null,null,null,null,null,null,null,null,null,null,null,null,null,null,null,null,null,null,null,null,null,null,null,null,"１か月間の合計について\n記入してください。"]
[]
[]
[]
[]
[null,null,null,null,"１",null,null,"２",null,null,"１",null,null,null,null,null,"２",null,null,null,null,null,"３",null,null,null,null,null,"４",null,null,null,null,null,"５",null,null,null,null,null,null,"１",null,null,"２",null,null,null,"１",null,null,null,"2",null,null,null,"3",null,null,null,4,null,null,null,"5",null,null,null,"6",null,null,null,"9",null,null,null,null,"１",null,null,null,null,null,"歳",null,null,null,null,null,"年",null,null,null,null,null,null,null,null,null,null,null,null,null,null,null,null,null,null,null,null,null,null,null,"１",null,null,"２",null,null,"３",null,null,"４",null,null,"５",null,null,null,"日",null,null,null,null,null,"時間",null,null,null,null,null,null,"時間",null,null,null,null,null,null,null,null,null,null,null,null,null,null,null,null,null,null,"円",null,null,null,null,null,null,null,null,null,null,null,null,null,"円",null,null,null,null,null,null,null,null,null,null,null,null,null,null,null,null,null,null,null,"円"]
[null,null,null,null,"男",null,null,"女",null,null,"期間の\n定め\n無",null,null,null,null,null,"期間の\n定め\n有",null,null,null,null,null,"期間の\n定め\n無",null,null,null,null,null,"期間の\n定め\n有",null,null,null,null,null,"臨時\n労働者",null,null,null,null,null,null,"一\n\n般",null,null,"短\n時\n間",null,null,null,"中学",null,null,null,"高校",null,null,null,"専門学校",null,null,null,"高専･短大",null,null,null,"大学",null,null,null,"大学院",null,null,null,"不明",null,null,null,null,"新規学卒者",null,null,null,null,null,null,null,null,null,null,null,null,null,null,null,null,null,null,null,null,null,null,null,null,null,null,null,null,null,null,null,null,null,null,null,"１",null,null,"１",null,null,"５",null,null,10,null,null,15]
[null,null,null,null,null,null,null,null,null,null,null,null,null,null,null,null,null,null,null,null,null,null,null,null,null,null,null,null,null,null,null,null,null,null,null,null,null,null,null,null,null,null,null,null,null,null,null,null,null,null,null,null,null,null,null,null,null,null,null,null,null,null,null,null,null,null,null,null,null,null,null,null,null,null,null,null,null,null,null,null,null,null,null,null,null,null,null,null,null,null,null,null,null,null,null,null,null,null,null,null,null,null,null,null,null,null,null,null,null,null,null,null,null,"年",null,null,"～",null,null,"～",null,null,"～",null,null,"年"]
[null,null,null,null,null,null,null,null,null,null,null,null,null,null,null,null,null,null,null,null,null,null,null,null,null,null,null,null,null,null,null,null,null,null,null,null,null,null,null,null,null,null,null,null,null,null,null,null,null,null,null,null,null,null,null,null,null,null,null,null,null,null,null,null,null,null,null,null,null,null,null,null,null,null,null,null,null,null,null,null,null,null,null,null,null,null,null,null,null,null,null,null,null,null,null,null,null,null,null,null,null,null,null,null,null,null,null,null,null,null,null,null,null,"未",null,null,"４",null,null,"９",null,null,14,null,null,"以"]
[null,null,null,null,null,null,null,null,null,null,null,null,null,null,null,null,null,null,null,null,null,null,null,null,null,null,null,null,null,null,null,null,null,null,null,null,null,null,null,null,null,null,null,null,null,null,null,null,null,null,null,null,null,null,null,null,null,null,null,null,null,null,null,null,null,null,null,null,null,null,null,null,null,null,null,null,null,null,null,null,null,null,null,null,null,null,null,null,null,null,null,null,null,null,null,null,null,null,null,null,null,null,null,null,null,null,null,null,null,null,null,null,null,"満",null,null,"年",null,null,"年",null,null,"年",null,null,"上"]
[null,"01",null,null,{"$f":"労働者に係る事項!B40&\"\"","v":""},null,null,null,null,null,{"$f":"労働者に係る事項!C40&\"\"","v":""},null,null,null,null,null,null,null,null,null,null,null,null,null,null,null,null,null,null,null,null,null,null,null,null,null,null,null,null,null,{"$f":"労働者に係る事項!D40&\"\"","v":""},null,null,null,null,null,null,null,{"$f":"労働者に係る事項!E40&\"\"","v":""},null,null,null,null,null,null,null,null,null,null,null,null,null,null,null,null,null,null,null,null,null,null,null,null,null,null,null,{"$f":"労働者に係る事項!F40&\"\"","v":""},null,null,null,null,null,null,{"$f":"労働者に係る事項!G40&\"\"","v":""},null,null,null,null,null,{"$f":"労働者に係る事項!H40&\"\"","v":""},null,null,null,null,null,{"$f":"労働者に係る事項!I40&\"\"","v":""},null,null,null,null,null,null,{"$f":"労働者に係る事項!J40&\"\"","v":""},null,null,null,null,null,null,null,null,null,{"$f":"労働者に係る事項!K40&\"\"","v":""},null,null,null,null,null,null,null,null,null,null,null,null,null,null,null,null,{"$f":"労働者に係る事項!L40&\"\"","v":""},null,null,null,null,null,{"$f":"労働者に係る事項!M40&\"\"","v":""},null,null,null,null,null,null,{"$f":"労働者に係る事項!N40&\"\"","v":""},null,null,null,null,null,null,{"$f":"IF(労働者に係る事項!O40=\"\",\"\",労働者に係る事項!O40)","v":""},null,null,null,null,null,null,null,null,null,null,null,null,null,null,null,null,null,null,{"$f":"IF(労働者に係る事項!P40=\"\",\"\",労働者に係る事項!P40)","v":""},null,null,null,null,null,null,null,null,null,null,null,null,null,{"$f":"IF(労働者に係る事項!Q40=\"\",\"\",労働者に係る事項!Q40)","v":""},null,null,null,null,null,null,null,null,null,null,null,null,null,null,null,null,null,null,null,{"$f":"労働者に係る事項!R40&\"\"","v":""},null,null,null,null,null,null,null,{"$f":"労働者に係る事項!S40&\"\"","v":""}]
[null,"02",null,null,{"$f":"労働者に係る事項!B41&\"\"","v":""},null,null,null,null,null,{"$f":"労働者に係る事項!C41&\"\"","v":""},null,null,null,null,null,null,null,null,null,null,null,null,null,null,null,null,null,null,null,null,null,null,null,null,null,null,null,null,null,{"$f":"労働者に係る事項!D41&\"\"","v":""},null,null,null,null,null,null,null,{"$f":"労働者に係る事項!E41&\"\"","v":""},null,null,null,null,null,null,null,null,null,null,null,null,null,null,null,null,null,null,null,null,null,null,null,null,null,null,null,{"$f":"労働者に係る事項!F41&\"\"","v":""},null,null,null,null,null,null,{"$f":"労働者に係る事項!G41&\"\"","v":""},null,null,null,null,null,{"$f":"労働者に係る事項!H41&\"\"","v":""},null,null,null,null,null,{"$f":"労働者に係る事項!I41&\"\"","v":""},null,null,null,null,null,null,{"$f":"労働者に係る事項!J41&\"\"","v":""},null,null,null,null,null,null,null,null,null,{"$f":"労働者に係る事項!K41&\"\"","v":""},null,null,null,null,null,null,null,null,null,null,null,null,null,null,null,null,{"$f":"労働者に係る事項!L41&\"\"","v":""},null,null,null,null,null,{"$f":"労働者に係る事項!M41&\"\"","v":""},null,null,null,null,null,null,{"$f":"労働者に係る事項!N41&\"\"","v":""},null,null,null,null,null,null,{"$f":"IF(労働者に係る事項!O41=\"\",\"\",労働者に係る事項!O41)","v":""},null,null,null,null,null,null,null,null,null,null,null,null,null,null,null,null,null,null,{"$f":"IF(労働者に係る事項!P41=\"\",\"\",労働者に係る事項!P41)","v":""},null,null,null,null,null,null,null,null,null,null,null,null,null,{"$f":"IF(労働者に係る事項!Q41=\"\",\"\",労働者に係る事項!Q41)","v":""},null,null,null,null,null,null,null,null,null,null,null,null,null,null,null,null,null,null,null,{"$f":"労働者に係る事項!R41&\"\"","v":""},null,null,null,null,null,null,null,{"$f":"労働者に係る事項!S41&\"\"","v":""}]
[null,"03",null,null,{"$f":"労働者に係る事項!B42&\"\"","v":""},null,null,null,null,null,{"$f":"労働者に係る事項!C42&\"\"","v":""},null,null,null,null,null,null,null,null,null,null,null,null,null,null,null,null,null,null,null,null,null,null,null,null,null,null,null,null,null,{"$f":"労働者に係る事項!D42&\"\"","v":""},null,null,null,null,null,null,null,{"$f":"労働者に係る事項!E42&\"\"","v":""},null,null,null,null,null,null,null,null,null,null,null,null,null,null,null,null,null,null,null,null,null,null,null,null,null,null,null,{"$f":"労働者に係る事項!F42&\"\"","v":""},null,null,null,null,null,null,{"$f":"労働者に係る事項!G42&\"\"","v":""},null,null,null,null,null,{"$f":"労働者に係る事項!H42&\"\"","v":""},null,null,null,null,null,{"$f":"労働者に係る事項!I42&\"\"","v":""},null,null,null,null,null,null,{"$f":"労働者に係る事項!J42&\"\"","v":""},null,null,null,null,null,null,null,null,null,{"$f":"労働者に係る事項!K42&\"\"","v":""},null,null,null,null,null,null,null,null,null,null,null,null,null,null,null,null,{"$f":"労働者に係る事項!L42&\"\"","v":""},null,null,null,null,null,{"$f":"労働者に係る事項!M42&\"\"","v":""},null,null,null,null,null,null,{"$f":"労働者に係る事項!N42&\"\"","v":""},null,null,null,null,null,null,{"$f":"IF(労働者に係る事項!O42=\"\",\"\",労働者に係る事項!O42)","v":""},null,null,null,null,null,null,null,null,null,null,null,null,null,null,null,null,null,null,{"$f":"IF(労働者に係る事項!P42=\"\",\"\",労働者に係る事項!P42)","v":""},null,null,null,null,null,null,null,null,null,null,null,null,null,{"$f":"IF(労働者に係る事項!Q42=\"\",\"\",労働者に係る事項!Q42)","v":""},null,null,null,null,null,null,null,null,null,null,null,null,null,null,null,null,null,null,null,{"$f":"労働者に係る事項!R42&\"\"","v":""},null,null,null,null,null,null,null,{"$f":"労働者に係る事項!S42&\"\"","v":""}]
[null,"04",null,null,{"$f":"労働者に係る事項!B43&\"\"","v":""},null,null,null,null,null,{"$f":"労働者に係る事項!C43&\"\"","v":""},null,null,null,null,null,null,null,null,null,null,null,null,null,null,null,null,null,null,null,null,null,null,null,null,null,null,null,null,null,{"$f":"労働者に係る事項!D43&\"\"","v":""},null,null,null,null,null,null,null,{"$f":"労働者に係る事項!E43&\"\"","v":""},null,null,null,null,null,null,null,null,null,null,null,null,null,null,null,null,null,null,null,null,null,null,null,null,null,null,null,{"$f":"労働者に係る事項!F43&\"\"","v":""},null,null,null,null,null,null,{"$f":"労働者に係る事項!G43&\"\"","v":""},null,null,null,null,null,{"$f":"労働者に係る事項!H43&\"\"","v":""},null,null,null,null,null,{"$f":"労働者に係る事項!I43&\"\"","v":""},null,null,null,null,null,null,{"$f":"労働者に係る事項!J43&\"\"","v":""},null,null,null,null,null,null,null,null,null,{"$f":"労働者に係る事項!K43&\"\"","v":""},null,null,null,null,null,null,null,null,null,null,null,null,null,null,null,null,{"$f":"労働者に係る事項!L43&\"\"","v":""},null,null,null,null,null,{"$f":"労働者に係る事項!M43&\"\"","v":""},null,null,null,null,null,null,{"$f":"労働者に係る事項!N43&\"\"","v":""},null,null,null,null,null,null,{"$f":"IF(労働者に係る事項!O43=\"\",\"\",労働者に係る事項!O43)","v":""},null,null,null,null,null,null,null,null,null,null,null,null,null,null,null,null,null,null,{"$f":"IF(労働者に係る事項!P43=\"\",\"\",労働者に係る事項!P43)","v":""},null,null,null,null,null,null,null,null,null,null,null,null,null,{"$f":"IF(労働者に係る事項!Q43=\"\",\"\",労働者に係る事項!Q43)","v":""},null,null,null,null,null,null,null,null,null,null,null,null,null,null,null,null,null,null,null,{"$f":"労働者に係る事項!R43&\"\"","v":""},null,null,null,null,null,null,null,{"$f":"労働者に係る事項!S43&\"\"","v":""}]
[null,"05",null,null,{"$f":"労働者に係る事項!B44&\"\"","v":""},null,null,null,null,null,{"$f":"労働者に係る事項!C44&\"\"","v":""},null,null,null,null,null,null,null,null,null,null,null,null,null,null,null,null,null,null,null,null,null,null,null,null,null,null,null,null,null,{"$f":"労働者に係る事項!D44&\"\"","v":""},null,null,null,null,null,null,null,{"$f":"労働者に係る事項!E44&\"\"","v":""},null,null,null,null,null,null,null,null,null,null,null,null,null,null,null,null,null,null,null,null,null,null,null,null,null,null,null,{"$f":"労働者に係る事項!F44&\"\"","v":""},null,null,null,null,null,null,{"$f":"労働者に係る事項!G44&\"\"","v":""},null,null,null,null,null,{"$f":"労働者に係る事項!H44&\"\"","v":""},null,null,null,null,null,{"$f":"労働者に係る事項!I44&\"\"","v":""},null,null,null,null,null,null,{"$f":"労働者に係る事項!J44&\"\"","v":""},null,null,null,null,null,null,null,null,null,{"$f":"労働者に係る事項!K44&\"\"","v":""},null,null,null,null,null,null,null,null,null,null,null,null,null,null,null,null,{"$f":"労働者に係る事項!L44&\"\"","v":""},null,null,null,null,null,{"$f":"労働者に係る事項!M44&\"\"","v":""},null,null,null,null,null,null,{"$f":"労働者に係る事項!N44&\"\"","v":""},null,null,null,null,null,null,{"$f":"IF(労働者に係る事項!O44=\"\",\"\",労働者に係る事項!O44)","v":""},null,null,null,null,null,null,null,null,null,null,null,null,null,null,null,null,null,null,{"$f":"IF(労働者に係る事項!P44=\"\",\"\",労働者に係る事項!P44)","v":""},null,null,null,null,null,null,null,null,null,null,null,null,null,{"$f":"IF(労働者に係る事項!Q44=\"\",\"\",労働者に係る事項!Q44)","v":""},null,null,null,null,null,null,null,null,null,null,null,null,null,null,null,null,null,null,null,{"$f":"労働者に係る事項!R44&\"\"","v":""},null,null,null,null,null,null,null,{"$f":"労働者に係る事項!S44&\"\"","v":""}]
[null,"06",null,null,{"$f":"労働者に係る事項!B45&\"\"","v":""},null,null,null,null,null,{"$f":"労働者に係る事項!C45&\"\"","v":""},null,null,null,null,null,null,null,null,null,null,null,null,null,null,null,null,null,null,null,null,null,null,null,null,null,null,null,null,null,{"$f":"労働者に係る事項!D45&\"\"","v":""},null,null,null,null,null,null,null,{"$f":"労働者に係る事項!E45&\"\"","v":""},null,null,null,null,null,null,null,null,null,null,null,null,null,null,null,null,null,null,null,null,null,null,null,null,null,null,null,{"$f":"労働者に係る事項!F45&\"\"","v":""},null,null,null,null,null,null,{"$f":"労働者に係る事項!G45&\"\"","v":""},null,null,null,null,null,{"$f":"労働者に係る事項!H45&\"\"","v":""},null,null,null,null,null,{"$f":"労働者に係る事項!I45&\"\"","v":""},null,null,null,null,null,null,{"$f":"労働者に係る事項!J45&\"\"","v":""},null,null,null,null,null,null,null,null,null,{"$f":"労働者に係る事項!K45&\"\"","v":""},null,null,null,null,null,null,null,null,null,null,null,null,null,null,null,null,{"$f":"労働者に係る事項!L45&\"\"","v":""},null,null,null,null,null,{"$f":"労働者に係る事項!M45&\"\"","v":""},null,null,null,null,null,null,{"$f":"労働者に係る事項!N45&\"\"","v":""},null,null,null,null,null,null,{"$f":"IF(労働者に係る事項!O45=\"\",\"\",労働者に係る事項!O45)","v":""},null,null,null,null,null,null,null,null,null,null,null,null,null,null,null,null,null,null,{"$f":"IF(労働者に係る事項!P45=\"\",\"\",労働者に係る事項!P45)","v":""},null,null,null,null,null,null,null,null,null,null,null,null,null,{"$f":"IF(労働者に係る事項!Q45=\"\",\"\",労働者に係る事項!Q45)","v":""},null,null,null,null,null,null,null,null,null,null,null,null,null,null,null,null,null,null,null,{"$f":"労働者に係る事項!R45&\"\"","v":""},null,null,null,null,null,null,null,{"$f":"労働者に係る事項!S45&\"\"","v":""}]
[null,"07",null,null,{"$f":"労働者に係る事項!B46&\"\"","v":""},null,null,null,null,null,{"$f":"労働者に係る事項!C46&\"\"","v":""},null,null,null,null,null,null,null,null,null,null,null,null,null,null,null,null,null,null,null,null,null,null,null,null,null,null,null,null,null,{"$f":"労働者に係る事項!D46&\"\"","v":""},null,null,null,null,null,null,null,{"$f":"労働者に係る事項!E46&\"\"","v":""},null,null,null,null,null,null,null,null,null,null,null,null,null,null,null,null,null,null,null,null,null,null,null,null,null,null,null,{"$f":"労働者に係る事項!F46&\"\"","v":""},null,null,null,null,null,null,{"$f":"労働者に係る事項!G46&\"\"","v":""},null,null,null,null,null,{"$f":"労働者に係る事項!H46&\"\"","v":""},null,null,null,null,null,{"$f":"労働者に係る事項!I46&\"\"","v":""},null,null,null,null,null,null,{"$f":"労働者に係る事項!J46&\"\"","v":""},null,null,null,null,null,null,null,null,null,{"$f":"労働者に係る事項!K46&\"\"","v":""},null,null,null,null,null,null,null,null,null,null,null,null,null,null,null,null,{"$f":"労働者に係る事項!L46&\"\"","v":""},null,null,null,null,null,{"$f":"労働者に係る事項!M46&\"\"","v":""},null,null,null,null,null,null,{"$f":"労働者に係る事項!N46&\"\"","v":""},null,null,null,null,null,null,{"$f":"IF(労働者に係る事項!O46=\"\",\"\",労働者に係る事項!O46)","v":""},null,null,null,null,null,null,null,null,null,null,null,null,null,null,null,null,null,null,{"$f":"IF(労働者に係る事項!P46=\"\",\"\",労働者に係る事項!P46)","v":""},null,null,null,null,null,null,null,null,null,null,null,null,null,{"$f":"IF(労働者に係る事項!Q46=\"\",\"\",労働者に係る事項!Q46)","v":""},null,null,null,null,null,null,null,null,null,null,null,null,null,null,null,null,null,null,null,{"$f":"労働者に係る事項!R46&\"\"","v":""},null,null,null,null,null,null,null,{"$f":"労働者に係る事項!S46&\"\"","v":""}]
[null,"08",null,null,{"$f":"労働者に係る事項!B47&\"\"","v":""},null,null,null,null,null,{"$f":"労働者に係る事項!C47&\"\"","v":""},null,null,null,null,null,null,null,null,null,null,null,null,null,null,null,null,null,null,null,null,null,null,null,null,null,null,null,null,null,{"$f":"労働者に係る事項!D47&\"\"","v":""},null,null,null,null,null,null,null,{"$f":"労働者に係る事項!E47&\"\"","v":""},null,null,null,null,null,null,null,null,null,null,null,null,null,null,null,null,null,null,null,null,null,null,null,null,null,null,null,{"$f":"労働者に係る事項!F47&\"\"","v":""},null,null,null,null,null,null,{"$f":"労働者に係る事項!G47&\"\"","v":""},null,null,null,null,null,{"$f":"労働者に係る事項!H47&\"\"","v":""},null,null,null,null,null,{"$f":"労働者に係る事項!I47&\"\"","v":""},null,null,null,null,null,null,{"$f":"労働者に係る事項!J47&\"\"","v":""},null,null,null,null,null,null,null,null,null,{"$f":"労働者に係る事項!K47&\"\"","v":""},null,null,null,null,null,null,null,null,null,null,null,null,null,null,null,null,{"$f":"労働者に係る事項!L47&\"\"","v":""},null,null,null,null,null,{"$f":"労働者に係る事項!M47&\"\"","v":""},null,null,null,null,null,null,{"$f":"労働者に係る事項!N47&\"\"","v":""},null,null,null,null,null,null,{"$f":"IF(労働者に係る事項!O47=\"\",\"\",労働者に係る事項!O47)","v":""},null,null,null,null,null,null,null,null,null,null,null,null,null,null,null,null,null,null,{"$f":"IF(労働者に係る事項!P47=\"\",\"\",労働者に係る事項!P47)","v":""},null,null,null,null,null,null,null,null,null,null,null,null,null,{"$f":"IF(労働者に係る事項!Q47=\"\",\"\",労働者に係る事項!Q47)","v":""},null,null,null,null,null,null,null,null,null,null,null,null,null,null,null,null,null,null,null,{"$f":"労働者に係る事項!R47&\"\"","v":""},null,null,null,null,null,null,null,{"$f":"労働者に係る事項!S47&\"\"","v":""}]
[null,"09",null,null,{"$f":"労働者に係る事項!B48&\"\"","v":""},null,null,null,null,null,{"$f":"労働者に係る事項!C48&\"\"","v":""},null,null,null,null,null,null,null,null,null,null,null,null,null,null,null,null,null,null,null,null,null,null,null,null,null,null,null,null,null,{"$f":"労働者に係る事項!D48&\"\"","v":""},null,null,null,null,null,null,null,{"$f":"労働者に係る事項!E48&\"\"","v":""},null,null,null,null,null,null,null,null,null,null,null,null,null,null,null,null,null,null,null,null,null,null,null,null,null,null,null,{"$f":"労働者に係る事項!F48&\"\"","v":""},null,null,null,null,null,null,{"$f":"労働者に係る事項!G48&\"\"","v":""},null,null,null,null,null,{"$f":"労働者に係る事項!H48&\"\"","v":""},null,null,null,null,null,{"$f":"労働者に係る事項!I48&\"\"","v":""},null,null,null,null,null,null,{"$f":"労働者に係る事項!J48&\"\"","v":""},null,null,null,null,null,null,null,null,null,{"$f":"労働者に係る事項!K48&\"\"","v":""},null,null,null,null,null,null,null,null,null,null,null,null,null,null,null,null,{"$f":"労働者に係る事項!L48&\"\"","v":""},null,null,null,null,null,{"$f":"労働者に係る事項!M48&\"\"","v":""},null,null,null,null,null,null,{"$f":"労働者に係る事項!N48&\"\"","v":""},null,null,null,null,null,null,{"$f":"IF(労働者に係る事項!O48=\"\",\"\",労働者に係る事項!O48)","v":""},null,null,null,null,null,null,null,null,null,null,null,null,null,null,null,null,null,null,{"$f":"IF(労働者に係る事項!P48=\"\",\"\",労働者に係る事項!P48)","v":""},null,null,null,null,null,null,null,null,null,null,null,null,null,{"$f":"IF(労働者に係る事項!Q48=\"\",\"\",労働者に係る事項!Q48)","v":""},null,null,null,null,null,null,null,null,null,null,null,null,null,null,null,null,null,null,null,{"$f":"労働者に係る事項!R48&\"\"","v":""},null,null,null,null,null,null,null,{"$f":"労働者に係る事項!S48&\"\"","v":""}]
[null,"10",null,null,{"$f":"労働者に係る事項!B49&\"\"","v":""},null,null,null,null,null,{"$f":"労働者に係る事項!C49&\"\"","v":""},null,null,null,null,null,null,null,null,null,null,null,null,null,null,null,null,null,null,null,null,null,null,null,null,null,null,null,null,null,{"$f":"労働者に係る事項!D49&\"\"","v":""},null,null,null,null,null,null,null,{"$f":"労働者に係る事項!E49&\"\"","v":""},null,null,null,null,null,null,null,null,null,null,null,null,null,null,null,null,null,null,null,null,null,null,null,null,null,null,null,{"$f":"労働者に係る事項!F49&\"\"","v":""},null,null,null,null,null,null,{"$f":"労働者に係る事項!G49&\"\"","v":""},null,null,null,null,null,{"$f":"労働者に係る事項!H49&\"\"","v":""},null,null,null,null,null,{"$f":"労働者に係る事項!I49&\"\"","v":""},null,null,null,null,null,null,{"$f":"労働者に係る事項!J49&\"\"","v":""},null,null,null,null,null,null,null,null,null,{"$f":"労働者に係る事項!K49&\"\"","v":""},null,null,null,null,null,null,null,null,null,null,null,null,null,null,null,null,{"$f":"労働者に係る事項!L49&\"\"","v":""},null,null,null,null,null,{"$f":"労働者に係る事項!M49&\"\"","v":""},null,null,null,null,null,null,{"$f":"労働者に係る事項!N49&\"\"","v":""},null,null,null,null,null,null,{"$f":"IF(労働者に係る事項!O49=\"\",\"\",労働者に係る事項!O49)","v":""},null,null,null,null,null,null,null,null,null,null,null,null,null,null,null,null,null,null,{"$f":"IF(労働者に係る事項!P49=\"\",\"\",労働者に係る事項!P49)","v":""},null,null,null,null,null,null,null,null,null,null,null,null,null,{"$f":"IF(労働者に係る事項!Q49=\"\",\"\",労働者に係る事項!Q49)","v":""},null,null,null,null,null,null,null,null,null,null,null,null,null,null,null,null,null,null,null,{"$f":"労働者に係る事項!R49&\"\"","v":""},null,null,null,null,null,null,null,{"$f":"労働者に係る事項!S49&\"\"","v":""}]
[null,"11",null,null,{"$f":"労働者に係る事項!B50&\"\"","v":""},null,null,null,null,null,{"$f":"労働者に係る事項!C50&\"\"","v":""},null,null,null,null,null,null,null,null,null,null,null,null,null,null,null,null,null,null,null,null,null,null,null,null,null,null,null,null,null,{"$f":"労働者に係る事項!D50&\"\"","v":""},null,null,null,null,null,null,null,{"$f":"労働者に係る事項!E50&\"\"","v":""},null,null,null,null,null,null,null,null,null,null,null,null,null,null,null,null,null,null,null,null,null,null,null,null,null,null,null,{"$f":"労働者に係る事項!F50&\"\"","v":""},null,null,null,null,null,null,{"$f":"労働者に係る事項!G50&\"\"","v":""},null,null,null,null,null,{"$f":"労働者に係る事項!H50&\"\"","v":""},null,null,null,null,null,{"$f":"労働者に係る事項!I50&\"\"","v":""},null,null,null,null,null,null,{"$f":"労働者に係る事項!J50&\"\"","v":""},null,null,null,null,null,null,null,null,null,{"$f":"労働者に係る事項!K50&\"\"","v":""},null,null,null,null,null,null,null,null,null,null,null,null,null,null,null,null,{"$f":"労働者に係る事項!L50&\"\"","v":""},null,null,null,null,null,{"$f":"労働者に係る事項!M50&\"\"","v":""},null,null,null,null,null,null,{"$f":"労働者に係る事項!N50&\"\"","v":""},null,null,null,null,null,null,{"$f":"IF(労働者に係る事項!O50=\"\",\"\",労働者に係る事項!O50)","v":""},null,null,null,null,null,null,null,null,null,null,null,null,null,null,null,null,null,null,{"$f":"IF(労働者に係る事項!P50=\"\",\"\",労働者に係る事項!P50)","v":""},null,null,null,null,null,null,null,null,null,null,null,null,null,{"$f":"IF(労働者に係る事項!Q50=\"\",\"\",労働者に係る事項!Q50)","v":""},null,null,null,null,null,null,null,null,null,null,null,null,null,null,null,null,null,null,null,{"$f":"労働者に係る事項!R50&\"\"","v":""},null,null,null,null,null,null,null,{"$f":"労働者に係る事項!S50&\"\"","v":""}]
[null,"12",null,null,{"$f":"労働者に係る事項!B51&\"\"","v":""},null,null,null,null,null,{"$f":"労働者に係る事項!C51&\"\"","v":""},null,null,null,null,null,null,null,null,null,null,null,null,null,null,null,null,null,null,null,null,null,null,null,null,null,null,null,null,null,{"$f":"労働者に係る事項!D51&\"\"","v":""},null,null,null,null,null,null,null,{"$f":"労働者に係る事項!E51&\"\"","v":""},null,null,null,null,null,null,null,null,null,null,null,null,null,null,null,null,null,null,null,null,null,null,null,null,null,null,null,{"$f":"労働者に係る事項!F51&\"\"","v":""},null,null,null,null,null,null,{"$f":"労働者に係る事項!G51&\"\"","v":""},null,null,null,null,null,{"$f":"労働者に係る事項!H51&\"\"","v":""},null,null,null,null,null,{"$f":"労働者に係る事項!I51&\"\"","v":""},null,null,null,null,null,null,{"$f":"労働者に係る事項!J51&\"\"","v":""},null,null,null,null,null,null,null,null,null,{"$f":"労働者に係る事項!K51&\"\"","v":""},null,null,null,null,null,null,null,null,null,null,null,null,null,null,null,null,{"$f":"労働者に係る事項!L51&\"\"","v":""},null,null,null,null,null,{"$f":"労働者に係る事項!M51&\"\"","v":""},null,null,null,null,null,null,{"$f":"労働者に係る事項!N51&\"\"","v":""},null,null,null,null,null,null,{"$f":"IF(労働者に係る事項!O51=\"\",\"\",労働者に係る事項!O51)","v":""},null,null,null,null,null,null,null,null,null,null,null,null,null,null,null,null,null,null,{"$f":"IF(労働者に係る事項!P51=\"\",\"\",労働者に係る事項!P51)","v":""},null,null,null,null,null,null,null,null,null,null,null,null,null,{"$f":"IF(労働者に係る事項!Q51=\"\",\"\",労働者に係る事項!Q51)","v":""},null,null,null,null,null,null,null,null,null,null,null,null,null,null,null,null,null,null,null,{"$f":"労働者に係る事項!R51&\"\"","v":""},null,null,null,null,null,null,null,{"$f":"労働者に係る事項!S51&\"\"","v":""}]
[null,"13",null,null,{"$f":"労働者に係る事項!B52&\"\"","v":""},null,null,null,null,null,{"$f":"労働者に係る事項!C52&\"\"","v":""},null,null,null,null,null,null,null,null,null,null,null,null,null,null,null,null,null,null,null,null,null,null,null,null,null,null,null,null,null,{"$f":"労働者に係る事項!D52&\"\"","v":""},null,null,null,null,null,null,null,{"$f":"労働者に係る事項!E52&\"\"","v":""},null,null,null,null,null,null,null,null,null,null,null,null,null,null,null,null,null,null,null,null,null,null,null,null,null,null,null,{"$f":"労働者に係る事項!F52&\"\"","v":""},null,null,null,null,null,null,{"$f":"労働者に係る事項!G52&\"\"","v":""},null,null,null,null,null,{"$f":"労働者に係る事項!H52&\"\"","v":""},null,null,null,null,null,{"$f":"労働者に係る事項!I52&\"\"","v":""},null,null,null,null,null,null,{"$f":"労働者に係る事項!J52&\"\"","v":""},null,null,null,null,null,null,null,null,null,{"$f":"労働者に係る事項!K52&\"\"","v":""},null,null,null,null,null,null,null,null,null,null,null,null,null,null,null,null,{"$f":"労働者に係る事項!L52&\"\"","v":""},null,null,null,null,null,{"$f":"労働者に係る事項!M52&\"\"","v":""},null,null,null,null,null,null,{"$f":"労働者に係る事項!N52&\"\"","v":""},null,null,null,null,null,null,{"$f":"IF(労働者に係る事項!O52=\"\",\"\",労働者に係る事項!O52)","v":""},null,null,null,null,null,null,null,null,null,null,null,null,null,null,null,null,null,null,{"$f":"IF(労働者に係る事項!P52=\"\",\"\",労働者に係る事項!P52)","v":""},null,null,null,null,null,null,null,null,null,null,null,null,null,{"$f":"IF(労働者に係る事項!Q52=\"\",\"\",労働者に係る事項!Q52)","v":""},null,null,null,null,null,null,null,null,null,null,null,null,null,null,null,null,null,null,null,{"$f":"労働者に係る事項!R52&\"\"","v":""},null,null,null,null,null,null,null,{"$f":"労働者に係る事項!S52&\"\"","v":""}]
[null,"14",null,null,{"$f":"労働者に係る事項!B53&\"\"","v":""},null,null,null,null,null,{"$f":"労働者に係る事項!C53&\"\"","v":""},null,null,null,null,null,null,null,null,null,null,null,null,null,null,null,null,null,null,null,null,null,null,null,null,null,null,null,null,null,{"$f":"労働者に係る事項!D53&\"\"","v":""},null,null,null,null,null,null,null,{"$f":"労働者に係る事項!E53&\"\"","v":""},null,null,null,null,null,null,null,null,null,null,null,null,null,null,null,null,null,null,null,null,null,null,null,null,null,null,null,{"$f":"労働者に係る事項!F53&\"\"","v":""},null,null,null,null,null,null,{"$f":"労働者に係る事項!G53&\"\"","v":""},null,null,null,null,null,{"$f":"労働者に係る事項!H53&\"\"","v":""},null,null,null,null,null,{"$f":"労働者に係る事項!I53&\"\"","v":""},null,null,null,null,null,null,{"$f":"労働者に係る事項!J53&\"\"","v":""},null,null,null,null,null,null,null,null,null,{"$f":"労働者に係る事項!K53&\"\"","v":""},null,null,null,null,null,null,null,null,null,null,null,null,null,null,null,null,{"$f":"労働者に係る事項!L53&\"\"","v":""},null,null,null,null,null,{"$f":"労働者に係る事項!M53&\"\"","v":""},null,null,null,null,null,null,{"$f":"労働者に係る事項!N53&\"\"","v":""},null,null,null,null,null,null,{"$f":"IF(労働者に係る事項!O53=\"\",\"\",労働者に係る事項!O53)","v":""},null,null,null,null,null,null,null,null,null,null,null,null,null,null,null,null,null,null,{"$f":"IF(労働者に係る事項!P53=\"\",\"\",労働者に係る事項!P53)","v":""},null,null,null,null,null,null,null,null,null,null,null,null,null,{"$f":"IF(労働者に係る事項!Q53=\"\",\"\",労働者に係る事項!Q53)","v":""},null,null,null,null,null,null,null,null,null,null,null,null,null,null,null,null,null,null,null,{"$f":"労働者に係る事項!R53&\"\"","v":""},null,null,null,null,null,null,null,{"$f":"労働者に係る事項!S53&\"\"","v":""}]
[null,"15",null,null,{"$f":"労働者に係る事項!B54&\"\"","v":""},null,null,null,null,null,{"$f":"労働者に係る事項!C54&\"\"","v":""},null,null,null,null,null,null,null,null,null,null,null,null,null,null,null,null,null,null,null,null,null,null,null,null,null,null,null,null,null,{"$f":"労働者に係る事項!D54&\"\"","v":""},null,null,null,null,null,null,null,{"$f":"労働者に係る事項!E54&\"\"","v":""},null,null,null,null,null,null,null,null,null,null,null,null,null,null,null,null,null,null,null,null,null,null,null,null,null,null,null,{"$f":"労働者に係る事項!F54&\"\"","v":""},null,null,null,null,null,null,{"$f":"労働者に係る事項!G54&\"\"","v":""},null,null,null,null,null,{"$f":"労働者に係る事項!H54&\"\"","v":""},null,null,null,null,null,{"$f":"労働者に係る事項!I54&\"\"","v":""},null,null,null,null,null,null,{"$f":"労働者に係る事項!J54&\"\"","v":""},null,null,null,null,null,null,null,null,null,{"$f":"労働者に係る事項!K54&\"\"","v":""},null,null,null,null,null,null,null,null,null,null,null,null,null,null,null,null,{"$f":"労働者に係る事項!L54&\"\"","v":""},null,null,null,null,null,{"$f":"労働者に係る事項!M54&\"\"","v":""},null,null,null,null,null,null,{"$f":"労働者に係る事項!N54&\"\"","v":""},null,null,null,null,null,null,{"$f":"IF(労働者に係る事項!O54=\"\",\"\",労働者に係る事項!O54)","v":""},null,null,null,null,null,null,null,null,null,null,null,null,null,null,null,null,null,null,{"$f":"IF(労働者に係る事項!P54=\"\",\"\",労働者に係る事項!P54)","v":""},null,null,null,null,null,null,null,null,null,null,null,null,null,{"$f":"IF(労働者に係る事項!Q54=\"\",\"\",労働者に係る事項!Q54)","v":""},null,null,null,null,null,null,null,null,null,null,null,null,null,null,null,null,null,null,null,{"$f":"労働者に係る事項!R54&\"\"","v":""},null,null,null,null,null,null,null,{"$f":"労働者に係る事項!S54&\"\"","v":""}]
[null,"16",null,null,{"$f":"労働者に係る事項!B55&\"\"","v":""},null,null,null,null,null,{"$f":"労働者に係る事項!C55&\"\"","v":""},null,null,null,null,null,null,null,null,null,null,null,null,null,null,null,null,null,null,null,null,null,null,null,null,null,null,null,null,null,{"$f":"労働者に係る事項!D55&\"\"","v":""},null,null,null,null,null,null,null,{"$f":"労働者に係る事項!E55&\"\"","v":""},null,null,null,null,null,null,null,null,null,null,null,null,null,null,null,null,null,null,null,null,null,null,null,null,null,null,null,{"$f":"労働者に係る事項!F55&\"\"","v":""},null,null,null,null,null,null,{"$f":"労働者に係る事項!G55&\"\"","v":""},null,null,null,null,null,{"$f":"労働者に係る事項!H55&\"\"","v":""},null,null,null,null,null,{"$f":"労働者に係る事項!I55&\"\"","v":""},null,null,null,null,null,null,{"$f":"労働者に係る事項!J55&\"\"","v":""},null,null,null,null,null,null,null,null,null,{"$f":"労働者に係る事項!K55&\"\"","v":""},null,null,null,null,null,null,null,null,null,null,null,null,null,null,null,null,{"$f":"労働者に係る事項!L55&\"\"","v":""},null,null,null,null,null,{"$f":"労働者に係る事項!M55&\"\"","v":""},null,null,null,null,null,null,{"$f":"労働者に係る事項!N55&\"\"","v":""},null,null,null,null,null,null,{"$f":"IF(労働者に係る事項!O55=\"\",\"\",労働者に係る事項!O55)","v":""},null,null,null,null,null,null,null,null,null,null,null,null,null,null,null,null,null,null,{"$f":"IF(労働者に係る事項!P55=\"\",\"\",労働者に係る事項!P55)","v":""},null,null,null,null,null,null,null,null,null,null,null,null,null,{"$f":"IF(労働者に係る事項!Q55=\"\",\"\",労働者に係る事項!Q55)","v":""},null,null,null,null,null,null,null,null,null,null,null,null,null,null,null,null,null,null,null,{"$f":"労働者に係る事項!R55&\"\"","v":""},null,null,null,null,null,null,null,{"$f":"労働者に係る事項!S55&\"\"","v":""}]
[null,"17",null,null,{"$f":"労働者に係る事項!B56&\"\"","v":""},null,null,null,null,null,{"$f":"労働者に係る事項!C56&\"\"","v":""},null,null,null,null,null,null,null,null,null,null,null,null,null,null,null,null,null,null,null,null,null,null,null,null,null,null,null,null,null,{"$f":"労働者に係る事項!D56&\"\"","v":""},null,null,null,null,null,null,null,{"$f":"労働者に係る事項!E56&\"\"","v":""},null,null,null,null,null,null,null,null,null,null,null,null,null,null,null,null,null,null,null,null,null,null,null,null,null,null,null,{"$f":"労働者に係る事項!F56&\"\"","v":""},null,null,null,null,null,null,{"$f":"労働者に係る事項!G56&\"\"","v":""},null,null,null,null,null,{"$f":"労働者に係る事項!H56&\"\"","v":""},null,null,null,null,null,{"$f":"労働者に係る事項!I56&\"\"","v":""},null,null,null,null,null,null,{"$f":"労働者に係る事項!J56&\"\"","v":""},null,null,null,null,null,null,null,null,null,{"$f":"労働者に係る事項!K56&\"\"","v":""},null,null,null,null,null,null,null,null,null,null,null,null,null,null,null,null,{"$f":"労働者に係る事項!L56&\"\"","v":""},null,null,null,null,null,{"$f":"労働者に係る事項!M56&\"\"","v":""},null,null,null,null,null,null,{"$f":"労働者に係る事項!N56&\"\"","v":""},null,null,null,null,null,null,{"$f":"IF(労働者に係る事項!O56=\"\",\"\",労働者に係る事項!O56)","v":""},null,null,null,null,null,null,null,null,null,null,null,null,null,null,null,null,null,null,{"$f":"IF(労働者に係る事項!P56=\"\",\"\",労働者に係る事項!P56)","v":""},null,null,null,null,null,null,null,null,null,null,null,null,null,{"$f":"IF(労働者に係る事項!Q56=\"\",\"\",労働者に係る事項!Q56)","v":""},null,null,null,null,null,null,null,null,null,null,null,null,null,null,null,null,null,null,null,{"$f":"労働者に係る事項!R56&\"\"","v":""},null,null,null,null,null,null,null,{"$f":"労働者に係る事項!S56&\"\"","v":""}]
[null,"18",null,null,{"$f":"労働者に係る事項!B57&\"\"","v":""},null,null,null,null,null,{"$f":"労働者に係る事項!C57&\"\"","v":""},null,null,null,null,null,null,null,null,null,null,null,null,null,null,null,null,null,null,null,null,null,null,null,null,null,null,null,null,null,{"$f":"労働者に係る事項!D57&\"\"","v":""},null,null,null,null,null,null,null,{"$f":"労働者に係る事項!E57&\"\"","v":""},null,null,null,null,null,null,null,null,null,null,null,null,null,null,null,null,null,null,null,null,null,null,null,null,null,null,null,{"$f":"労働者に係る事項!F57&\"\"","v":""},null,null,null,null,null,null,{"$f":"労働者に係る事項!G57&\"\"","v":""},null,null,null,null,null,{"$f":"労働者に係る事項!H57&\"\"","v":""},null,null,null,null,null,{"$f":"労働者に係る事項!I57&\"\"","v":""},null,null,null,null,null,null,{"$f":"労働者に係る事項!J57&\"\"","v":""},null,null,null,null,null,null,null,null,null,{"$f":"労働者に係る事項!K57&\"\"","v":""},null,null,null,null,null,null,null,null,null,null,null,null,null,null,null,null,{"$f":"労働者に係る事項!L57&\"\"","v":""},null,null,null,null,null,{"$f":"労働者に係る事項!M57&\"\"","v":""},null,null,null,null,null,null,{"$f":"労働者に係る事項!N57&\"\"","v":""},null,null,null,null,null,null,{"$f":"IF(労働者に係る事項!O57=\"\",\"\",労働者に係る事項!O57)","v":""},null,null,null,null,null,null,null,null,null,null,null,null,null,null,null,null,null,null,{"$f":"IF(労働者に係る事項!P57=\"\",\"\",労働者に係る事項!P57)","v":""},null,null,null,null,null,null,null,null,null,null,null,null,null,{"$f":"IF(労働者に係る事項!Q57=\"\",\"\",労働者に係る事項!Q57)","v":""},null,null,null,null,null,null,null,null,null,null,null,null,null,null,null,null,null,null,null,{"$f":"労働者に係る事項!R57&\"\"","v":""},null,null,null,null,null,null,null,{"$f":"労働者に係る事項!S57&\"\"","v":""}]
[null,"19",null,null,{"$f":"労働者に係る事項!B58&\"\"","v":""},null,null,null,null,null,{"$f":"労働者に係る事項!C58&\"\"","v":""},null,null,null,null,null,null,null,null,null,null,null,null,null,null,null,null,null,null,null,null,null,null,null,null,null,null,null,null,null,{"$f":"労働者に係る事項!D58&\"\"","v":""},null,null,null,null,null,null,null,{"$f":"労働者に係る事項!E58&\"\"","v":""},null,null,null,null,null,null,null,null,null,null,null,null,null,null,null,null,null,null,null,null,null,null,null,null,null,null,null,{"$f":"労働者に係る事項!F58&\"\"","v":""},null,null,null,null,null,null,{"$f":"労働者に係る事項!G58&\"\"","v":""},null,null,null,null,null,{"$f":"労働者に係る事項!H58&\"\"","v":""},null,null,null,null,null,{"$f":"労働者に係る事項!I58&\"\"","v":""},null,null,null,null,null,null,{"$f":"労働者に係る事項!J58&\"\"","v":""},null,null,null,null,null,null,null,null,null,{"$f":"労働者に係る事項!K58&\"\"","v":""},null,null,null,null,null,null,null,null,null,null,null,null,null,null,null,null,{"$f":"労働者に係る事項!L58&\"\"","v":""},null,null,null,null,null,{"$f":"労働者に係る事項!M58&\"\"","v":""},null,null,null,null,null,null,{"$f":"労働者に係る事項!N58&\"\"","v":""},null,null,null,null,null,null,{"$f":"IF(労働者に係る事項!O58=\"\",\"\",労働者に係る事項!O58)","v":""},null,null,null,null,null,null,null,null,null,null,null,null,null,null,null,null,null,null,{"$f":"IF(労働者に係る事項!P58=\"\",\"\",労働者に係る事項!P58)","v":""},null,null,null,null,null,null,null,null,null,null,null,null,null,{"$f":"IF(労働者に係る事項!Q58=\"\",\"\",労働者に係る事項!Q58)","v":""},null,null,null,null,null,null,null,null,null,null,null,null,null,null,null,null,null,null,null,{"$f":"労働者に係る事項!R58&\"\"","v":""},null,null,null,null,null,null,null,{"$f":"労働者に係る事項!S58&\"\"","v":""}]
[null,"20",null,null,{"$f":"労働者に係る事項!B59&\"\"","v":""},null,null,null,null,null,{"$f":"労働者に係る事項!C59&\"\"","v":""},null,null,null,null,null,null,null,null,null,null,null,null,null,null,null,null,null,null,null,null,null,null,null,null,null,null,null,null,null,{"$f":"労働者に係る事項!D59&\"\"","v":""},null,null,null,null,null,null,null,{"$f":"労働者に係る事項!E59&\"\"","v":""},null,null,null,null,null,null,null,null,null,null,null,null,null,null,null,null,null,null,null,null,null,null,null,null,null,null,null,{"$f":"労働者に係る事項!F59&\"\"","v":""},null,null,null,null,null,null,{"$f":"労働者に係る事項!G59&\"\"","v":""},null,null,null,null,null,{"$f":"労働者に係る事項!H59&\"\"","v":""},null,null,null,null,null,{"$f":"労働者に係る事項!I59&\"\"","v":""},null,null,null,null,null,null,{"$f":"労働者に係る事項!J59&\"\"","v":""},null,null,null,null,null,null,null,null,null,{"$f":"労働者に係る事項!K59&\"\"","v":""},null,null,null,null,null,null,null,null,null,null,null,null,null,null,null,null,{"$f":"労働者に係る事項!L59&\"\"","v":""},null,null,null,null,null,{"$f":"労働者に係る事項!M59&\"\"","v":""},null,null,null,null,null,null,{"$f":"労働者に係る事項!N59&\"\"","v":""},null,null,null,null,null,null,{"$f":"IF(労働者に係る事項!O59=\"\",\"\",労働者に係る事項!O59)","v":""},null,null,null,null,null,null,null,null,null,null,null,null,null,null,null,null,null,null,{"$f":"IF(労働者に係る事項!P59=\"\",\"\",労働者に係る事項!P59)","v":""},null,null,null,null,null,null,null,null,null,null,null,null,null,{"$f":"IF(労働者に係る事項!Q59=\"\",\"\",労働者に係る事項!Q59)","v":""},null,null,null,null,null,null,null,null,null,null,null,null,null,null,null,null,null,null,null,{"$f":"労働者に係る事項!R59&\"\"","v":""},null,null,null,null,null,null,null,{"$f":"労働者に係る事項!S59&\"\"","v":""}]
[null,"21",null,null,{"$f":"労働者に係る事項!B60&\"\"","v":""},null,null,null,null,null,{"$f":"労働者に係る事項!C60&\"\"","v":""},null,null,null,null,null,null,null,null,null,null,null,null,null,null,null,null,null,null,null,null,null,null,null,null,null,null,null,null,null,{"$f":"労働者に係る事項!D60&\"\"","v":""},null,null,null,null,null,null,null,{"$f":"労働者に係る事項!E60&\"\"","v":""},null,null,null,null,null,null,null,null,null,null,null,null,null,null,null,null,null,null,null,null,null,null,null,null,null,null,null,{"$f":"労働者に係る事項!F60&\"\"","v":""},null,null,null,null,null,null,{"$f":"労働者に係る事項!G60&\"\"","v":""},null,null,null,null,null,{"$f":"労働者に係る事項!H60&\"\"","v":""},null,null,null,null,null,{"$f":"労働者に係る事項!I60&\"\"","v":""},null,null,null,null,null,null,{"$f":"労働者に係る事項!J60&\"\"","v":""},null,null,null,null,null,null,null,null,null,{"$f":"労働者に係る事項!K60&\"\"","v":""},null,null,null,null,null,null,null,null,null,null,null,null,null,null,null,null,{"$f":"労働者に係る事項!L60&\"\"","v":""},null,null,null,null,null,{"$f":"労働者に係る事項!M60&\"\"","v":""},null,null,null,null,null,null,{"$f":"労働者に係る事項!N60&\"\"","v":""},null,null,null,null,null,null,{"$f":"IF(労働者に係る事項!O60=\"\",\"\",労働者に係る事項!O60)","v":""},null,null,null,null,null,null,null,null,null,null,null,null,null,null,null,null,null,null,{"$f":"IF(労働者に係る事項!P60=\"\",\"\",労働者に係る事項!P60)","v":""},null,null,null,null,null,null,null,null,null,null,null,null,null,{"$f":"IF(労働者に係る事項!Q60=\"\",\"\",労働者に係る事項!Q60)","v":""},null,null,null,null,null,null,null,null,null,null,null,null,null,null,null,null,null,null,null,{"$f":"労働者に係る事項!R60&\"\"","v":""},null,null,null,null,null,null,null,{"$f":"労働者に係る事項!S60&\"\"","v":""}]
[null,"22",null,null,{"$f":"労働者に係る事項!B61&\"\"","v":""},null,null,null,null,null,{"$f":"労働者に係る事項!C61&\"\"","v":""},null,null,null,null,null,null,null,null,null,null,null,null,null,null,null,null,null,null,null,null,null,null,null,null,null,null,null,null,null,{"$f":"労働者に係る事項!D61&\"\"","v":""},null,null,null,null,null,null,null,{"$f":"労働者に係る事項!E61&\"\"","v":""},null,null,null,null,null,null,null,null,null,null,null,null,null,null,null,null,null,null,null,null,null,null,null,null,null,null,null,{"$f":"労働者に係る事項!F61&\"\"","v":""},null,null,null,null,null,null,{"$f":"労働者に係る事項!G61&\"\"","v":""},null,null,null,null,null,{"$f":"労働者に係る事項!H61&\"\"","v":""},null,null,null,null,null,{"$f":"労働者に係る事項!I61&\"\"","v":""},null,null,null,null,null,null,{"$f":"労働者に係る事項!J61&\"\"","v":""},null,null,null,null,null,null,null,null,null,{"$f":"労働者に係る事項!K61&\"\"","v":""},null,null,null,null,null,null,null,null,null,null,null,null,null,null,null,null,{"$f":"労働者に係る事項!L61&\"\"","v":""},null,null,null,null,null,{"$f":"労働者に係る事項!M61&\"\"","v":""},null,null,null,null,null,null,{"$f":"労働者に係る事項!N61&\"\"","v":""},null,null,null,null,null,null,{"$f":"IF(労働者に係る事項!O61=\"\",\"\",労働者に係る事項!O61)","v":""},null,null,null,null,null,null,null,null,null,null,null,null,null,null,null,null,null,null,{"$f":"IF(労働者に係る事項!P61=\"\",\"\",労働者に係る事項!P61)","v":""},null,null,null,null,null,null,null,null,null,null,null,null,null,{"$f":"IF(労働者に係る事項!Q61=\"\",\"\",労働者に係る事項!Q61)","v":""},null,null,null,null,null,null,null,null,null,null,null,null,null,null,null,null,null,null,null,{"$f":"労働者に係る事項!R61&\"\"","v":""},null,null,null,null,null,null,null,{"$f":"労働者に係る事項!S61&\"\"","v":""}]
[null,"23",null,null,{"$f":"労働者に係る事項!B62&\"\"","v":""},null,null,null,null,null,{"$f":"労働者に係る事項!C62&\"\"","v":""},null,null,null,null,null,null,null,null,null,null,null,null,null,null,null,null,null,null,null,null,null,null,null,null,null,null,null,null,null,{"$f":"労働者に係る事項!D62&\"\"","v":""},null,null,null,null,null,null,null,{"$f":"労働者に係る事項!E62&\"\"","v":""},null,null,null,null,null,null,null,null,null,null,null,null,null,null,null,null,null,null,null,null,null,null,null,null,null,null,null,{"$f":"労働者に係る事項!F62&\"\"","v":""},null,null,null,null,null,null,{"$f":"労働者に係る事項!G62&\"\"","v":""},null,null,null,null,null,{"$f":"労働者に係る事項!H62&\"\"","v":""},null,null,null,null,null,{"$f":"労働者に係る事項!I62&\"\"","v":""},null,null,null,null,null,null,{"$f":"労働者に係る事項!J62&\"\"","v":""},null,null,null,null,null,null,null,null,null,{"$f":"労働者に係る事項!K62&\"\"","v":""},null,null,null,null,null,null,null,null,null,null,null,null,null,null,null,null,{"$f":"労働者に係る事項!L62&\"\"","v":""},null,null,null,null,null,{"$f":"労働者に係る事項!M62&\"\"","v":""},null,null,null,null,null,null,{"$f":"労働者に係る事項!N62&\"\"","v":""},null,null,null,null,null,null,{"$f":"IF(労働者に係る事項!O62=\"\",\"\",労働者に係る事項!O62)","v":""},null,null,null,null,null,null,null,null,null,null,null,null,null,null,null,null,null,null,{"$f":"IF(労働者に係る事項!P62=\"\",\"\",労働者に係る事項!P62)","v":""},null,null,null,null,null,null,null,null,null,null,null,null,null,{"$f":"IF(労働者に係る事項!Q62=\"\",\"\",労働者に係る事項!Q62)","v":""},null,null,null,null,null,null,null,null,null,null,null,null,null,null,null,null,null,null,null,{"$f":"労働者に係る事項!R62&\"\"","v":""},null,null,null,null,null,null,null,{"$f":"労働者に係る事項!S62&\"\"","v":""}]
[null,"24",null,null,{"$f":"労働者に係る事項!B63&\"\"","v":""},null,null,null,null,null,{"$f":"労働者に係る事項!C63&\"\"","v":""},null,null,null,null,null,null,null,null,null,null,null,null,null,null,null,null,null,null,null,null,null,null,null,null,null,null,null,null,null,{"$f":"労働者に係る事項!D63&\"\"","v":""},null,null,null,null,null,null,null,{"$f":"労働者に係る事項!E63&\"\"","v":""},null,null,null,null,null,null,null,null,null,null,null,null,null,null,null,null,null,null,null,null,null,null,null,null,null,null,null,{"$f":"労働者に係る事項!F63&\"\"","v":""},null,null,null,null,null,null,{"$f":"労働者に係る事項!G63&\"\"","v":""},null,null,null,null,null,{"$f":"労働者に係る事項!H63&\"\"","v":""},null,null,null,null,null,{"$f":"労働者に係る事項!I63&\"\"","v":""},null,null,null,null,null,null,{"$f":"労働者に係る事項!J63&\"\"","v":""},null,null,null,null,null,null,null,null,null,{"$f":"労働者に係る事項!K63&\"\"","v":""},null,null,null,null,null,null,null,null,null,null,null,null,null,null,null,null,{"$f":"労働者に係る事項!L63&\"\"","v":""},null,null,null,null,null,{"$f":"労働者に係る事項!M63&\"\"","v":""},null,null,null,null,null,null,{"$f":"労働者に係る事項!N63&\"\"","v":""},null,null,null,null,null,null,{"$f":"IF(労働者に係る事項!O63=\"\",\"\",労働者に係る事項!O63)","v":""},null,null,null,null,null,null,null,null,null,null,null,null,null,null,null,null,null,null,{"$f":"IF(労働者に係る事項!P63=\"\",\"\",労働者に係る事項!P63)","v":""},null,null,null,null,null,null,null,null,null,null,null,null,null,{"$f":"IF(労働者に係る事項!Q63=\"\",\"\",労働者に係る事項!Q63)","v":""},null,null,null,null,null,null,null,null,null,null,null,null,null,null,null,null,null,null,null,{"$f":"労働者に係る事項!R63&\"\"","v":""},null,null,null,null,null,null,null,{"$f":"労働者に係る事項!S63&\"\"","v":""}]
[null,"25",null,null,{"$f":"労働者に係る事項!B64&\"\"","v":""},null,null,null,null,null,{"$f":"労働者に係る事項!C64&\"\"","v":""},null,null,null,null,null,null,null,null,null,null,null,null,null,null,null,null,null,null,null,null,null,null,null,null,null,null,null,null,null,{"$f":"労働者に係る事項!D64&\"\"","v":""},null,null,null,null,null,null,null,{"$f":"労働者に係る事項!E64&\"\"","v":""},null,null,null,null,null,null,null,null,null,null,null,null,null,null,null,null,null,null,null,null,null,null,null,null,null,null,null,{"$f":"労働者に係る事項!F64&\"\"","v":""},null,null,null,null,null,null,{"$f":"労働者に係る事項!G64&\"\"","v":""},null,null,null,null,null,{"$f":"労働者に係る事項!H64&\"\"","v":""},null,null,null,null,null,{"$f":"労働者に係る事項!I64&\"\"","v":""},null,null,null,null,null,null,{"$f":"労働者に係る事項!J64&\"\"","v":""},null,null,null,null,null,null,null,null,null,{"$f":"労働者に係る事項!K64&\"\"","v":""},null,null,null,null,null,null,null,null,null,null,null,null,null,null,null,null,{"$f":"労働者に係る事項!L64&\"\"","v":""},null,null,null,null,null,{"$f":"労働者に係る事項!M64&\"\"","v":""},null,null,null,null,null,null,{"$f":"労働者に係る事項!N64&\"\"","v":""},null,null,null,null,null,null,{"$f":"IF(労働者に係る事項!O64=\"\",\"\",労働者に係る事項!O64)","v":""},null,null,null,null,null,null,null,null,null,null,null,null,null,null,null,null,null,null,{"$f":"IF(労働者に係る事項!P64=\"\",\"\",労働者に係る事項!P64)","v":""},null,null,null,null,null,null,null,null,null,null,null,null,null,{"$f":"IF(労働者に係る事項!Q64=\"\",\"\",労働者に係る事項!Q64)","v":""},null,null,null,null,null,null,null,null,null,null,null,null,null,null,null,null,null,null,null,{"$f":"労働者に係る事項!R64&\"\"","v":""},null,null,null,null,null,null,null,{"$f":"労働者に係る事項!S64&\"\"","v":""}]
[null,"26",null,null,{"$f":"労働者に係る事項!B65&\"\"","v":""},null,null,null,null,null,{"$f":"労働者に係る事項!C65&\"\"","v":""},null,null,null,null,null,null,null,null,null,null,null,null,null,null,null,null,null,null,null,null,null,null,null,null,null,null,null,null,null,{"$f":"労働者に係る事項!D65&\"\"","v":""},null,null,null,null,null,null,null,{"$f":"労働者に係る事項!E65&\"\"","v":""},null,null,null,null,null,null,null,null,null,null,null,null,null,null,null,null,null,null,null,null,null,null,null,null,null,null,null,{"$f":"労働者に係る事項!F65&\"\"","v":""},null,null,null,null,null,null,{"$f":"労働者に係る事項!G65&\"\"","v":""},null,null,null,null,null,{"$f":"労働者に係る事項!H65&\"\"","v":""},null,null,null,null,null,{"$f":"労働者に係る事項!I65&\"\"","v":""},null,null,null,null,null,null,{"$f":"労働者に係る事項!J65&\"\"","v":""},null,null,null,null,null,null,null,null,null,{"$f":"労働者に係る事項!K65&\"\"","v":""},null,null,null,null,null,null,null,null,null,null,null,null,null,null,null,null,{"$f":"労働者に係る事項!L65&\"\"","v":""},null,null,null,null,null,{"$f":"労働者に係る事項!M65&\"\"","v":""},null,null,null,null,null,null,{"$f":"労働者に係る事項!N65&\"\"","v":""},null,null,null,null,null,null,{"$f":"IF(労働者に係る事項!O65=\"\",\"\",労働者に係る事項!O65)","v":""},null,null,null,null,null,null,null,null,null,null,null,null,null,null,null,null,null,null,{"$f":"IF(労働者に係る事項!P65=\"\",\"\",労働者に係る事項!P65)","v":""},null,null,null,null,null,null,null,null,null,null,null,null,null,{"$f":"IF(労働者に係る事項!Q65=\"\",\"\",労働者に係る事項!Q65)","v":""},null,null,null,null,null,null,null,null,null,null,null,null,null,null,null,null,null,null,null,{"$f":"労働者に係る事項!R65&\"\"","v":""},null,null,null,null,null,null,null,{"$f":"労働者に係る事項!S65&\"\"","v":""}]
[null,"27",null,null,{"$f":"労働者に係る事項!B66&\"\"","v":""},null,null,null,null,null,{"$f":"労働者に係る事項!C66&\"\"","v":""},null,null,null,null,null,null,null,null,null,null,null,null,null,null,null,null,null,null,null,null,null,null,null,null,null,null,null,null,null,{"$f":"労働者に係る事項!D66&\"\"","v":""},null,null,null,null,null,null,null,{"$f":"労働者に係る事項!E66&\"\"","v":""},null,null,null,null,null,null,null,null,null,null,null,null,null,null,null,null,null,null,null,null,null,null,null,null,null,null,null,{"$f":"労働者に係る事項!F66&\"\"","v":""},null,null,null,null,null,null,{"$f":"労働者に係る事項!G66&\"\"","v":""},null,null,null,null,null,{"$f":"労働者に係る事項!H66&\"\"","v":""},null,null,null,null,null,{"$f":"労働者に係る事項!I66&\"\"","v":""},null,null,null,null,null,null,{"$f":"労働者に係る事項!J66&\"\"","v":""},null,null,null,null,null,null,null,null,null,{"$f":"労働者に係る事項!K66&\"\"","v":""},null,null,null,null,null,null,null,null,null,null,null,null,null,null,null,null,{"$f":"労働者に係る事項!L66&\"\"","v":""},null,null,null,null,null,{"$f":"労働者に係る事項!M66&\"\"","v":""},null,null,null,null,null,null,{"$f":"労働者に係る事項!N66&\"\"","v":""},null,null,null,null,null,null,{"$f":"IF(労働者に係る事項!O66=\"\",\"\",労働者に係る事項!O66)","v":""},null,null,null,null,null,null,null,null,null,null,null,null,null,null,null,null,null,null,{"$f":"IF(労働者に係る事項!P66=\"\",\"\",労働者に係る事項!P66)","v":""},null,null,null,null,null,null,null,null,null,null,null,null,null,{"$f":"IF(労働者に係る事項!Q66=\"\",\"\",労働者に係る事項!Q66)","v":""},null,null,null,null,null,null,null,null,null,null,null,null,null,null,null,null,null,null,null,{"$f":"労働者に係る事項!R66&\"\"","v":""},null,null,null,null,null,null,null,{"$f":"労働者に係る事項!S66&\"\"","v":""}]
[null,"28",null,null,{"$f":"労働者に係る事項!B67&\"\"","v":""},null,null,null,null,null,{"$f":"労働者に係る事項!C67&\"\"","v":""},null,null,null,null,null,null,null,null,null,null,null,null,null,null,null,null,null,null,null,null,null,null,null,null,null,null,null,null,null,{"$f":"労働者に係る事項!D67&\"\"","v":""},null,null,null,null,null,null,null,{"$f":"労働者に係る事項!E67&\"\"","v":""},null,null,null,null,null,null,null,null,null,null,null,null,null,null,null,null,null,null,null,null,null,null,null,null,null,null,null,{"$f":"労働者に係る事項!F67&\"\"","v":""},null,null,null,null,null,null,{"$f":"労働者に係る事項!G67&\"\"","v":""},null,null,null,null,null,{"$f":"労働者に係る事項!H67&\"\"","v":""},null,null,null,null,null,{"$f":"労働者に係る事項!I67&\"\"","v":""},null,null,null,null,null,null,{"$f":"労働者に係る事項!J67&\"\"","v":""},null,null,null,null,null,null,null,null,null,{"$f":"労働者に係る事項!K67&\"\"","v":""},null,null,null,null,null,null,null,null,null,null,null,null,null,null,null,null,{"$f":"労働者に係る事項!L67&\"\"","v":""},null,null,null,null,null,{"$f":"労働者に係る事項!M67&\"\"","v":""},null,null,null,null,null,null,{"$f":"労働者に係る事項!N67&\"\"","v":""},null,null,null,null,null,null,{"$f":"IF(労働者に係る事項!O67=\"\",\"\",労働者に係る事項!O67)","v":""},null,null,null,null,null,null,null,null,null,null,null,null,null,null,null,null,null,null,{"$f":"IF(労働者に係る事項!P67=\"\",\"\",労働者に係る事項!P67)","v":""},null,null,null,null,null,null,null,null,null,null,null,null,null,{"$f":"IF(労働者に係る事項!Q67=\"\",\"\",労働者に係る事項!Q67)","v":""},null,null,null,null,null,null,null,null,null,null,null,null,null,null,null,null,null,null,null,{"$f":"労働者に係る事項!R67&\"\"","v":""},null,null,null,null,null,null,null,{"$f":"労働者に係る事項!S67&\"\"","v":""}]
[null,"29",null,null,{"$f":"労働者に係る事項!B68&\"\"","v":""},null,null,null,null,null,{"$f":"労働者に係る事項!C68&\"\"","v":""},null,null,null,null,null,null,null,null,null,null,null,null,null,null,null,null,null,null,null,null,null,null,null,null,null,null,null,null,null,{"$f":"労働者に係る事項!D68&\"\"","v":""},null,null,null,null,null,null,null,{"$f":"労働者に係る事項!E68&\"\"","v":""},null,null,null,null,null,null,null,null,null,null,null,null,null,null,null,null,null,null,null,null,null,null,null,null,null,null,null,{"$f":"労働者に係る事項!F68&\"\"","v":""},null,null,null,null,null,null,{"$f":"労働者に係る事項!G68&\"\"","v":""},null,null,null,null,null,{"$f":"労働者に係る事項!H68&\"\"","v":""},null,null,null,null,null,{"$f":"労働者に係る事項!I68&\"\"","v":""},null,null,null,null,null,null,{"$f":"労働者に係る事項!J68&\"\"","v":""},null,null,null,null,null,null,null,null,null,{"$f":"労働者に係る事項!K68&\"\"","v":""},null,null,null,null,null,null,null,null,null,null,null,null,null,null,null,null,{"$f":"労働者に係る事項!L68&\"\"","v":""},null,null,null,null,null,{"$f":"労働者に係る事項!M68&\"\"","v":""},null,null,null,null,null,null,{"$f":"労働者に係る事項!N68&\"\"","v":""},null,null,null,null,null,null,{"$f":"IF(労働者に係る事項!O68=\"\",\"\",労働者に係る事項!O68)","v":""},null,null,null,null,null,null,null,null,null,null,null,null,null,null,null,null,null,null,{"$f":"IF(労働者に係る事項!P68=\"\",\"\",労働者に係る事項!P68)","v":""},null,null,null,null,null,null,null,null,null,null,null,null,null,{"$f":"IF(労働者に係る事項!Q68=\"\",\"\",労働者に係る事項!Q68)","v":""},null,null,null,null,null,null,null,null,null,null,null,null,null,null,null,null,null,null,null,{"$f":"労働者に係る事項!R68&\"\"","v":""},null,null,null,null,null,null,null,{"$f":"労働者に係る事項!S68&\"\"","v":""}]
[null,"30",null,null,{"$f":"労働者に係る事項!B69&\"\"","v":""},null,null,null,null,null,{"$f":"労働者に係る事項!C69&\"\"","v":""},null,null,null,null,null,null,null,null,null,null,null,null,null,null,null,null,null,null,null,null,null,null,null,null,null,null,null,null,null,{"$f":"労働者に係る事項!D69&\"\"","v":""},null,null,null,null,null,null,null,{"$f":"労働者に係る事項!E69&\"\"","v":""},null,null,null,null,null,null,null,null,null,null,null,null,null,null,null,null,null,null,null,null,null,null,null,null,null,null,null,{"$f":"労働者に係る事項!F69&\"\"","v":""},null,null,null,null,null,null,{"$f":"労働者に係る事項!G69&\"\"","v":""},null,null,null,null,null,{"$f":"労働者に係る事項!H69&\"\"","v":""},null,null,null,null,null,{"$f":"労働者に係る事項!I69&\"\"","v":""},null,null,null,null,null,null,{"$f":"労働者に係る事項!J69&\"\"","v":""},null,null,null,null,null,null,null,null,null,{"$f":"労働者に係る事項!K69&\"\"","v":""},null,null,null,null,null,null,null,null,null,null,null,null,null,null,null,null,{"$f":"労働者に係る事項!L69&\"\"","v":""},null,null,null,null,null,{"$f":"労働者に係る事項!M69&\"\"","v":""},null,null,null,null,null,null,{"$f":"労働者に係る事項!N69&\"\"","v":""},null,null,null,null,null,null,{"$f":"IF(労働者に係る事項!O69=\"\",\"\",労働者に係る事項!O69)","v":""},null,null,null,null,null,null,null,null,null,null,null,null,null,null,null,null,null,null,{"$f":"IF(労働者に係る事項!P69=\"\",\"\",労働者に係る事項!P69)","v":""},null,null,null,null,null,null,null,null,null,null,null,null,null,{"$f":"IF(労働者に係る事項!Q69=\"\",\"\",労働者に係る事項!Q69)","v":""},null,null,null,null,null,null,null,null,null,null,null,null,null,null,null,null,null,null,null,{"$f":"労働者に係る事項!R69&\"\"","v":""},null,null,null,null,null,null,null,{"$f":"労働者に係る事項!S69&\"\"","v":""}]
[null,"31",null,null,{"$f":"労働者に係る事項!B70&\"\"","v":""},null,null,null,null,null,{"$f":"労働者に係る事項!C70&\"\"","v":""},null,null,null,null,null,null,null,null,null,null,null,null,null,null,null,null,null,null,null,null,null,null,null,null,null,null,null,null,null,{"$f":"労働者に係る事項!D70&\"\"","v":""},null,null,null,null,null,null,null,{"$f":"労働者に係る事項!E70&\"\"","v":""},null,null,null,null,null,null,null,null,null,null,null,null,null,null,null,null,null,null,null,null,null,null,null,null,null,null,null,{"$f":"労働者に係る事項!F70&\"\"","v":""},null,null,null,null,null,null,{"$f":"労働者に係る事項!G70&\"\"","v":""},null,null,null,null,null,{"$f":"労働者に係る事項!H70&\"\"","v":""},null,null,null,null,null,{"$f":"労働者に係る事項!I70&\"\"","v":""},null,null,null,null,null,null,{"$f":"労働者に係る事項!J70&\"\"","v":""},null,null,null,null,null,null,null,null,null,{"$f":"労働者に係る事項!K70&\"\"","v":""},null,null,null,null,null,null,null,null,null,null,null,null,null,null,null,null,{"$f":"労働者に係る事項!L70&\"\"","v":""},null,null,null,null,null,{"$f":"労働者に係る事項!M70&\"\"","v":""},null,null,null,null,null,null,{"$f":"労働者に係る事項!N70&\"\"","v":""},null,null,null,null,null,null,{"$f":"IF(労働者に係る事項!O70=\"\",\"\",労働者に係る事項!O70)","v":""},null,null,null,null,null,null,null,null,null,null,null,null,null,null,null,null,null,null,{"$f":"IF(労働者に係る事項!P70=\"\",\"\",労働者に係る事項!P70)","v":""},null,null,null,null,null,null,null,null,null,null,null,null,null,{"$f":"IF(労働者に係る事項!Q70=\"\",\"\",労働者に係る事項!Q70)","v":""},null,null,null,null,null,null,null,null,null,null,null,null,null,null,null,null,null,null,null,{"$f":"労働者に係る事項!R70&\"\"","v":""},null,null,null,null,null,null,null,{"$f":"労働者に係る事項!S70&\"\"","v":""}]
[null,"32",null,null,{"$f":"労働者に係る事項!B71&\"\"","v":""},null,null,null,null,null,{"$f":"労働者に係る事項!C71&\"\"","v":""},null,null,null,null,null,null,null,null,null,null,null,null,null,null,null,null,null,null,null,null,null,null,null,null,null,null,null,null,null,{"$f":"労働者に係る事項!D71&\"\"","v":""},null,null,null,null,null,null,null,{"$f":"労働者に係る事項!E71&\"\"","v":""},null,null,null,null,null,null,null,null,null,null,null,null,null,null,null,null,null,null,null,null,null,null,null,null,null,null,null,{"$f":"労働者に係る事項!F71&\"\"","v":""},null,null,null,null,null,null,{"$f":"労働者に係る事項!G71&\"\"","v":""},null,null,null,null,null,{"$f":"労働者に係る事項!H71&\"\"","v":""},null,null,null,null,null,{"$f":"労働者に係る事項!I71&\"\"","v":""},null,null,null,null,null,null,{"$f":"労働者に係る事項!J71&\"\"","v":""},null,null,null,null,null,null,null,null,null,{"$f":"労働者に係る事項!K71&\"\"","v":""},null,null,null,null,null,null,null,null,null,null,null,null,null,null,null,null,{"$f":"労働者に係る事項!L71&\"\"","v":""},null,null,null,null,null,{"$f":"労働者に係る事項!M71&\"\"","v":""},null,null,null,null,null,null,{"$f":"労働者に係る事項!N71&\"\"","v":""},null,null,null,null,null,null,{"$f":"IF(労働者に係る事項!O71=\"\",\"\",労働者に係る事項!O71)","v":""},null,null,null,null,null,null,null,null,null,null,null,null,null,null,null,null,null,null,{"$f":"IF(労働者に係る事項!P71=\"\",\"\",労働者に係る事項!P71)","v":""},null,null,null,null,null,null,null,null,null,null,null,null,null,{"$f":"IF(労働者に係る事項!Q71=\"\",\"\",労働者に係る事項!Q71)","v":""},null,null,null,null,null,null,null,null,null,null,null,null,null,null,null,null,null,null,null,{"$f":"労働者に係る事項!R71&\"\"","v":""},null,null,null,null,null,null,null,{"$f":"労働者に係る事項!S71&\"\"","v":""}]
[null,"33",null,null,{"$f":"労働者に係る事項!B72&\"\"","v":""},null,null,null,null,null,{"$f":"労働者に係る事項!C72&\"\"","v":""},null,null,null,null,null,null,null,null,null,null,null,null,null,null,null,null,null,null,null,null,null,null,null,null,null,null,null,null,null,{"$f":"労働者に係る事項!D72&\"\"","v":""},null,null,null,null,null,null,null,{"$f":"労働者に係る事項!E72&\"\"","v":""},null,null,null,null,null,null,null,null,null,null,null,null,null,null,null,null,null,null,null,null,null,null,null,null,null,null,null,{"$f":"労働者に係る事項!F72&\"\"","v":""},null,null,null,null,null,null,{"$f":"労働者に係る事項!G72&\"\"","v":""},null,null,null,null,null,{"$f":"労働者に係る事項!H72&\"\"","v":""},null,null,null,null,null,{"$f":"労働者に係る事項!I72&\"\"","v":""},null,null,null,null,null,null,{"$f":"労働者に係る事項!J72&\"\"","v":""},null,null,null,null,null,null,null,null,null,{"$f":"労働者に係る事項!K72&\"\"","v":""},null,null,null,null,null,null,null,null,null,null,null,null,null,null,null,null,{"$f":"労働者に係る事項!L72&\"\"","v":""},null,null,null,null,null,{"$f":"労働者に係る事項!M72&\"\"","v":""},null,null,null,null,null,null,{"$f":"労働者に係る事項!N72&\"\"","v":""},null,null,null,null,null,null,{"$f":"IF(労働者に係る事項!O72=\"\",\"\",労働者に係る事項!O72)","v":""},null,null,null,null,null,null,null,null,null,null,null,null,null,null,null,null,null,null,{"$f":"IF(労働者に係る事項!P72=\"\",\"\",労働者に係る事項!P72)","v":""},null,null,null,null,null,null,null,null,null,null,null,null,null,{"$f":"IF(労働者に係る事項!Q72=\"\",\"\",労働者に係る事項!Q72)","v":""},null,null,null,null,null,null,null,null,null,null,null,null,null,null,null,null,null,null,null,{"$f":"労働者に係る事項!R72&\"\"","v":""},null,null,null,null,null,null,null,{"$f":"労働者に係る事項!S72&\"\"","v":""}]
[null,"34",null,null,{"$f":"労働者に係る事項!B73&\"\"","v":""},null,null,null,null,null,{"$f":"労働者に係る事項!C73&\"\"","v":""},null,null,null,null,null,null,null,null,null,null,null,null,null,null,null,null,null,null,null,null,null,null,null,null,null,null,null,null,null,{"$f":"労働者に係る事項!D73&\"\"","v":""},null,null,null,null,null,null,null,{"$f":"労働者に係る事項!E73&\"\"","v":""},null,null,null,null,null,null,null,null,null,null,null,null,null,null,null,null,null,null,null,null,null,null,null,null,null,null,null,{"$f":"労働者に係る事項!F73&\"\"","v":""},null,null,null,null,null,null,{"$f":"労働者に係る事項!G73&\"\"","v":""},null,null,null,null,null,{"$f":"労働者に係る事項!H73&\"\"","v":""},null,null,null,null,null,{"$f":"労働者に係る事項!I73&\"\"","v":""},null,null,null,null,null,null,{"$f":"労働者に係る事項!J73&\"\"","v":""},null,null,null,null,null,null,null,null,null,{"$f":"労働者に係る事項!K73&\"\"","v":""},null,null,null,null,null,null,null,null,null,null,null,null,null,null,null,null,{"$f":"労働者に係る事項!L73&\"\"","v":""},null,null,null,null,null,{"$f":"労働者に係る事項!M73&\"\"","v":""},null,null,null,null,null,null,{"$f":"労働者に係る事項!N73&\"\"","v":""},null,null,null,null,null,null,{"$f":"IF(労働者に係る事項!O73=\"\",\"\",労働者に係る事項!O73)","v":""},null,null,null,null,null,null,null,null,null,null,null,null,null,null,null,null,null,null,{"$f":"IF(労働者に係る事項!P73=\"\",\"\",労働者に係る事項!P73)","v":""},null,null,null,null,null,null,null,null,null,null,null,null,null,{"$f":"IF(労働者に係る事項!Q73=\"\",\"\",労働者に係る事項!Q73)","v":""},null,null,null,null,null,null,null,null,null,null,null,null,null,null,null,null,null,null,null,{"$f":"労働者に係る事項!R73&\"\"","v":""},null,null,null,null,null,null,null,{"$f":"労働者に係る事項!S73&\"\"","v":""}]
[null,"35",null,null,{"$f":"労働者に係る事項!B74&\"\"","v":""},null,null,null,null,null,{"$f":"労働者に係る事項!C74&\"\"","v":""},null,null,null,null,null,null,null,null,null,null,null,null,null,null,null,null,null,null,null,null,null,null,null,null,null,null,null,null,null,{"$f":"労働者に係る事項!D74&\"\"","v":""},null,null,null,null,null,null,null,{"$f":"労働者に係る事項!E74&\"\"","v":""},null,null,null,null,null,null,null,null,null,null,null,null,null,null,null,null,null,null,null,null,null,null,null,null,null,null,null,{"$f":"労働者に係る事項!F74&\"\"","v":""},null,null,null,null,null,null,{"$f":"労働者に係る事項!G74&\"\"","v":""},null,null,null,null,null,{"$f":"労働者に係る事項!H74&\"\"","v":""},null,null,null,null,null,{"$f":"労働者に係る事項!I74&\"\"","v":""},null,null,null,null,null,null,{"$f":"労働者に係る事項!J74&\"\"","v":""},null,null,null,null,null,null,null,null,null,{"$f":"労働者に係る事項!K74&\"\"","v":""},null,null,null,null,null,null,null,null,null,null,null,null,null,null,null,null,{"$f":"労働者に係る事項!L74&\"\"","v":""},null,null,null,null,null,{"$f":"労働者に係る事項!M74&\"\"","v":""},null,null,null,null,null,null,{"$f":"労働者に係る事項!N74&\"\"","v":""},null,null,null,null,null,null,{"$f":"IF(労働者に係る事項!O74=\"\",\"\",労働者に係る事項!O74)","v":""},null,null,null,null,null,null,null,null,null,null,null,null,null,null,null,null,null,null,{"$f":"IF(労働者に係る事項!P74=\"\",\"\",労働者に係る事項!P74)","v":""},null,null,null,null,null,null,null,null,null,null,null,null,null,{"$f":"IF(労働者に係る事項!Q74=\"\",\"\",労働者に係る事項!Q74)","v":""},null,null,null,null,null,null,null,null,null,null,null,null,null,null,null,null,null,null,null,{"$f":"労働者に係る事項!R74&\"\"","v":""},null,null,null,null,null,null,null,{"$f":"労働者に係る事項!S74&\"\"","v":""}]
[null,"36",null,null,{"$f":"労働者に係る事項!B75&\"\"","v":""},null,null,null,null,null,{"$f":"労働者に係る事項!C75&\"\"","v":""},null,null,null,null,null,null,null,null,null,null,null,null,null,null,null,null,null,null,null,null,null,null,null,null,null,null,null,null,null,{"$f":"労働者に係る事項!D75&\"\"","v":""},null,null,null,null,null,null,null,{"$f":"労働者に係る事項!E75&\"\"","v":""},null,null,null,null,null,null,null,null,null,null,null,null,null,null,null,null,null,null,null,null,null,null,null,null,null,null,null,{"$f":"労働者に係る事項!F75&\"\"","v":""},null,null,null,null,null,null,{"$f":"労働者に係る事項!G75&\"\"","v":""},null,null,null,null,null,{"$f":"労働者に係る事項!H75&\"\"","v":""},null,null,null,null,null,{"$f":"労働者に係る事項!I75&\"\"","v":""},null,null,null,null,null,null,{"$f":"労働者に係る事項!J75&\"\"","v":""},null,null,null,null,null,null,null,null,null,{"$f":"労働者に係る事項!K75&\"\"","v":""},null,null,null,null,null,null,null,null,null,null,null,null,null,null,null,null,{"$f":"労働者に係る事項!L75&\"\"","v":""},null,null,null,null,null,{"$f":"労働者に係る事項!M75&\"\"","v":""},null,null,null,null,null,null,{"$f":"労働者に係る事項!N75&\"\"","v":""},null,null,null,null,null,null,{"$f":"IF(労働者に係る事項!O75=\"\",\"\",労働者に係る事項!O75)","v":""},null,null,null,null,null,null,null,null,null,null,null,null,null,null,null,null,null,null,{"$f":"IF(労働者に係る事項!P75=\"\",\"\",労働者に係る事項!P75)","v":""},null,null,null,null,null,null,null,null,null,null,null,null,null,{"$f":"IF(労働者に係る事項!Q75=\"\",\"\",労働者に係る事項!Q75)","v":""},null,null,null,null,null,null,null,null,null,null,null,null,null,null,null,null,null,null,null,{"$f":"労働者に係る事項!R75&\"\"","v":""},null,null,null,null,null,null,null,{"$f":"労働者に係る事項!S75&\"\"","v":""}]
[null,"37",null,null,{"$f":"労働者に係る事項!B76&\"\"","v":""},null,null,null,null,null,{"$f":"労働者に係る事項!C76&\"\"","v":""},null,null,null,null,null,null,null,null,null,null,null,null,null,null,null,null,null,null,null,null,null,null,null,null,null,null,null,null,null,{"$f":"労働者に係る事項!D76&\"\"","v":""},null,null,null,null,null,null,null,{"$f":"労働者に係る事項!E76&\"\"","v":""},null,null,null,null,null,null,null,null,null,null,null,null,null,null,null,null,null,null,null,null,null,null,null,null,null,null,null,{"$f":"労働者に係る事項!F76&\"\"","v":""},null,null,null,null,null,null,{"$f":"労働者に係る事項!G76&\"\"","v":""},null,null,null,null,null,{"$f":"労働者に係る事項!H76&\"\"","v":""},null,null,null,null,null,{"$f":"労働者に係る事項!I76&\"\"","v":""},null,null,null,null,null,null,{"$f":"労働者に係る事項!J76&\"\"","v":""},null,null,null,null,null,null,null,null,null,{"$f":"労働者に係る事項!K76&\"\"","v":""},null,null,null,null,null,null,null,null,null,null,null,null,null,null,null,null,{"$f":"労働者に係る事項!L76&\"\"","v":""},null,null,null,null,null,{"$f":"労働者に係る事項!M76&\"\"","v":""},null,null,null,null,null,null,{"$f":"労働者に係る事項!N76&\"\"","v":""},null,null,null,null,null,null,{"$f":"IF(労働者に係る事項!O76=\"\",\"\",労働者に係る事項!O76)","v":""},null,null,null,null,null,null,null,null,null,null,null,null,null,null,null,null,null,null,{"$f":"IF(労働者に係る事項!P76=\"\",\"\",労働者に係る事項!P76)","v":""},null,null,null,null,null,null,null,null,null,null,null,null,null,{"$f":"IF(労働者に係る事項!Q76=\"\",\"\",労働者に係る事項!Q76)","v":""},null,null,null,null,null,null,null,null,null,null,null,null,null,null,null,null,null,null,null,{"$f":"労働者に係る事項!R76&\"\"","v":""},null,null,null,null,null,null,null,{"$f":"労働者に係る事項!S76&\"\"","v":""}]
[null,"38",null,null,{"$f":"労働者に係る事項!B77&\"\"","v":""},null,null,null,null,null,{"$f":"労働者に係る事項!C77&\"\"","v":""},null,null,null,null,null,null,null,null,null,null,null,null,null,null,null,null,null,null,null,null,null,null,null,null,null,null,null,null,null,{"$f":"労働者に係る事項!D77&\"\"","v":""},null,null,null,null,null,null,null,{"$f":"労働者に係る事項!E77&\"\"","v":""},null,null,null,null,null,null,null,null,null,null,null,null,null,null,null,null,null,null,null,null,null,null,null,null,null,null,null,{"$f":"労働者に係る事項!F77&\"\"","v":""},null,null,null,null,null,null,{"$f":"労働者に係る事項!G77&\"\"","v":""},null,null,null,null,null,{"$f":"労働者に係る事項!H77&\"\"","v":""},null,null,null,null,null,{"$f":"労働者に係る事項!I77&\"\"","v":""},null,null,null,null,null,null,{"$f":"労働者に係る事項!J77&\"\"","v":""},null,null,null,null,null,null,null,null,null,{"$f":"労働者に係る事項!K77&\"\"","v":""},null,null,null,null,null,null,null,null,null,null,null,null,null,null,null,null,{"$f":"労働者に係る事項!L77&\"\"","v":""},null,null,null,null,null,{"$f":"労働者に係る事項!M77&\"\"","v":""},null,null,null,null,null,null,{"$f":"労働者に係る事項!N77&\"\"","v":""},null,null,null,null,null,null,{"$f":"IF(労働者に係る事項!O77=\"\",\"\",労働者に係る事項!O77)","v":""},null,null,null,null,null,null,null,null,null,null,null,null,null,null,null,null,null,null,{"$f":"IF(労働者に係る事項!P77=\"\",\"\",労働者に係る事項!P77)","v":""},null,null,null,null,null,null,null,null,null,null,null,null,null,{"$f":"IF(労働者に係る事項!Q77=\"\",\"\",労働者に係る事項!Q77)","v":""},null,null,null,null,null,null,null,null,null,null,null,null,null,null,null,null,null,null,null,{"$f":"労働者に係る事項!R77&\"\"","v":""},null,null,null,null,null,null,null,{"$f":"労働者に係る事項!S77&\"\"","v":""}]
[null,"39",null,null,{"$f":"労働者に係る事項!B78&\"\"","v":""},null,null,null,null,null,{"$f":"労働者に係る事項!C78&\"\"","v":""},null,null,null,null,null,null,null,null,null,null,null,null,null,null,null,null,null,null,null,null,null,null,null,null,null,null,null,null,null,{"$f":"労働者に係る事項!D78&\"\"","v":""},null,null,null,null,null,null,null,{"$f":"労働者に係る事項!E78&\"\"","v":""},null,null,null,null,null,null,null,null,null,null,null,null,null,null,null,null,null,null,null,null,null,null,null,null,null,null,null,{"$f":"労働者に係る事項!F78&\"\"","v":""},null,null,null,null,null,null,{"$f":"労働者に係る事項!G78&\"\"","v":""},null,null,null,null,null,{"$f":"労働者に係る事項!H78&\"\"","v":""},null,null,null,null,null,{"$f":"労働者に係る事項!I78&\"\"","v":""},null,null,null,null,null,null,{"$f":"労働者に係る事項!J78&\"\"","v":""},null,null,null,null,null,null,null,null,null,{"$f":"労働者に係る事項!K78&\"\"","v":""},null,null,null,null,null,null,null,null,null,null,null,null,null,null,null,null,{"$f":"労働者に係る事項!L78&\"\"","v":""},null,null,null,null,null,{"$f":"労働者に係る事項!M78&\"\"","v":""},null,null,null,null,null,null,{"$f":"労働者に係る事項!N78&\"\"","v":""},null,null,null,null,null,null,{"$f":"IF(労働者に係る事項!O78=\"\",\"\",労働者に係る事項!O78)","v":""},null,null,null,null,null,null,null,null,null,null,null,null,null,null,null,null,null,null,{"$f":"IF(労働者に係る事項!P78=\"\",\"\",労働者に係る事項!P78)","v":""},null,null,null,null,null,null,null,null,null,null,null,null,null,{"$f":"IF(労働者に係る事項!Q78=\"\",\"\",労働者に係る事項!Q78)","v":""},null,null,null,null,null,null,null,null,null,null,null,null,null,null,null,null,null,null,null,{"$f":"労働者に係る事項!R78&\"\"","v":""},null,null,null,null,null,null,null,{"$f":"労働者に係る事項!S78&\"\"","v":""}]
[null,"40",null,null,{"$f":"労働者に係る事項!B79&\"\"","v":""},null,null,null,null,null,{"$f":"労働者に係る事項!C79&\"\"","v":""},null,null,null,null,null,null,null,null,null,null,null,null,null,null,null,null,null,null,null,null,null,null,null,null,null,null,null,null,null,{"$f":"労働者に係る事項!D79&\"\"","v":""},null,null,null,null,null,null,null,{"$f":"労働者に係る事項!E79&\"\"","v":""},null,null,null,null,null,null,null,null,null,null,null,null,null,null,null,null,null,null,null,null,null,null,null,null,null,null,null,{"$f":"労働者に係る事項!F79&\"\"","v":""},null,null,null,null,null,null,{"$f":"労働者に係る事項!G79&\"\"","v":""},null,null,null,null,null,{"$f":"労働者に係る事項!H79&\"\"","v":""},null,null,null,null,null,{"$f":"労働者に係る事項!I79&\"\"","v":""},null,null,null,null,null,null,{"$f":"労働者に係る事項!J79&\"\"","v":""},null,null,null,null,null,null,null,null,null,{"$f":"労働者に係る事項!K79&\"\"","v":""},null,null,null,null,null,null,null,null,null,null,null,null,null,null,null,null,{"$f":"労働者に係る事項!L79&\"\"","v":""},null,null,null,null,null,{"$f":"労働者に係る事項!M79&\"\"","v":""},null,null,null,null,null,null,{"$f":"労働者に係る事項!N79&\"\"","v":""},null,null,null,null,null,null,{"$f":"IF(労働者に係る事項!O79=\"\",\"\",労働者に係る事項!O79)","v":""},null,null,null,null,null,null,null,null,null,null,null,null,null,null,null,null,null,null,{"$f":"IF(労働者に係る事項!P79=\"\",\"\",労働者に係る事項!P79)","v":""},null,null,null,null,null,null,null,null,null,null,null,null,null,{"$f":"IF(労働者に係る事項!Q79=\"\",\"\",労働者に係る事項!Q79)","v":""},null,null,null,null,null,null,null,null,null,null,null,null,null,null,null,null,null,null,null,{"$f":"労働者に係る事項!R79&\"\"","v":""},null,null,null,null,null,null,null,{"$f":"労働者に係る事項!S79&\"\"","v":""}]
[null,"41",null,null,{"$f":"労働者に係る事項!B80&\"\"","v":""},null,null,null,null,null,{"$f":"労働者に係る事項!C80&\"\"","v":""},null,null,null,null,null,null,null,null,null,null,null,null,null,null,null,null,null,null,null,null,null,null,null,null,null,null,null,null,null,{"$f":"労働者に係る事項!D80&\"\"","v":""},null,null,null,null,null,null,null,{"$f":"労働者に係る事項!E80&\"\"","v":""},null,null,null,null,null,null,null,null,null,null,null,null,null,null,null,null,null,null,null,null,null,null,null,null,null,null,null,{"$f":"労働者に係る事項!F80&\"\"","v":""},null,null,null,null,null,null,{"$f":"労働者に係る事項!G80&\"\"","v":""},null,null,null,null,null,{"$f":"労働者に係る事項!H80&\"\"","v":""},null,null,null,null,null,{"$f":"労働者に係る事項!I80&\"\"","v":""},null,null,null,null,null,null,{"$f":"労働者に係る事項!J80&\"\"","v":""},null,null,null,null,null,null,null,null,null,{"$f":"労働者に係る事項!K80&\"\"","v":""},null,null,null,null,null,null,null,null,null,null,null,null,null,null,null,null,{"$f":"労働者に係る事項!L80&\"\"","v":""},null,null,null,null,null,{"$f":"労働者に係る事項!M80&\"\"","v":""},null,null,null,null,null,null,{"$f":"労働者に係る事項!N80&\"\"","v":""},null,null,null,null,null,null,{"$f":"IF(労働者に係る事項!O80=\"\",\"\",労働者に係る事項!O80)","v":""},null,null,null,null,null,null,null,null,null,null,null,null,null,null,null,null,null,null,{"$f":"IF(労働者に係る事項!P80=\"\",\"\",労働者に係る事項!P80)","v":""},null,null,null,null,null,null,null,null,null,null,null,null,null,{"$f":"IF(労働者に係る事項!Q80=\"\",\"\",労働者に係る事項!Q80)","v":""},null,null,null,null,null,null,null,null,null,null,null,null,null,null,null,null,null,null,null,{"$f":"労働者に係る事項!R80&\"\"","v":""},null,null,null,null,null,null,null,{"$f":"労働者に係る事項!S80&\"\"","v":""}]
[null,"42",null,null,{"$f":"労働者に係る事項!B81&\"\"","v":""},null,null,null,null,null,{"$f":"労働者に係る事項!C81&\"\"","v":""},null,null,null,null,null,null,null,null,null,null,null,null,null,null,null,null,null,null,null,null,null,null,null,null,null,null,null,null,null,{"$f":"労働者に係る事項!D81&\"\"","v":""},null,null,null,null,null,null,null,{"$f":"労働者に係る事項!E81&\"\"","v":""},null,null,null,null,null,null,null,null,null,null,null,null,null,null,null,null,null,null,null,null,null,null,null,null,null,null,null,{"$f":"労働者に係る事項!F81&\"\"","v":""},null,null,null,null,null,null,{"$f":"労働者に係る事項!G81&\"\"","v":""},null,null,null,null,null,{"$f":"労働者に係る事項!H81&\"\"","v":""},null,null,null,null,null,{"$f":"労働者に係る事項!I81&\"\"","v":""},null,null,null,null,null,null,{"$f":"労働者に係る事項!J81&\"\"","v":""},null,null,null,null,null,null,null,null,null,{"$f":"労働者に係る事項!K81&\"\"","v":""},null,null,null,null,null,null,null,null,null,null,null,null,null,null,null,null,{"$f":"労働者に係る事項!L81&\"\"","v":""},null,null,null,null,null,{"$f":"労働者に係る事項!M81&\"\"","v":""},null,null,null,null,null,null,{"$f":"労働者に係る事項!N81&\"\"","v":""},null,null,null,null,null,null,{"$f":"IF(労働者に係る事項!O81=\"\",\"\",労働者に係る事項!O81)","v":""},null,null,null,null,null,null,null,null,null,null,null,null,null,null,null,null,null,null,{"$f":"IF(労働者に係る事項!P81=\"\",\"\",労働者に係る事項!P81)","v":""},null,null,null,null,null,null,null,null,null,null,null,null,null,{"$f":"IF(労働者に係る事項!Q81=\"\",\"\",労働者に係る事項!Q81)","v":""},null,null,null,null,null,null,null,null,null,null,null,null,null,null,null,null,null,null,null,{"$f":"労働者に係る事項!R81&\"\"","v":""},null,null,null,null,null,null,null,{"$f":"労働者に係る事項!S81&\"\"","v":""}]
[null,"43",null,null,{"$f":"労働者に係る事項!B82&\"\"","v":""},null,null,null,null,null,{"$f":"労働者に係る事項!C82&\"\"","v":""},null,null,null,null,null,null,null,null,null,null,null,null,null,null,null,null,null,null,null,null,null,null,null,null,null,null,null,null,null,{"$f":"労働者に係る事項!D82&\"\"","v":""},null,null,null,null,null,null,null,{"$f":"労働者に係る事項!E82&\"\"","v":""},null,null,null,null,null,null,null,null,null,null,null,null,null,null,null,null,null,null,null,null,null,null,null,null,null,null,null,{"$f":"労働者に係る事項!F82&\"\"","v":""},null,null,null,null,null,null,{"$f":"労働者に係る事項!G82&\"\"","v":""},null,null,null,null,null,{"$f":"労働者に係る事項!H82&\"\"","v":""},null,null,null,null,null,{"$f":"労働者に係る事項!I82&\"\"","v":""},null,null,null,null,null,null,{"$f":"労働者に係る事項!J82&\"\"","v":""},null,null,null,null,null,null,null,null,null,{"$f":"労働者に係る事項!K82&\"\"","v":""},null,null,null,null,null,null,null,null,null,null,null,null,null,null,null,null,{"$f":"労働者に係る事項!L82&\"\"","v":""},null,null,null,null,null,{"$f":"労働者に係る事項!M82&\"\"","v":""},null,null,null,null,null,null,{"$f":"労働者に係る事項!N82&\"\"","v":""},null,null,null,null,null,null,{"$f":"IF(労働者に係る事項!O82=\"\",\"\",労働者に係る事項!O82)","v":""},null,null,null,null,null,null,null,null,null,null,null,null,null,null,null,null,null,null,{"$f":"IF(労働者に係る事項!P82=\"\",\"\",労働者に係る事項!P82)","v":""},null,null,null,null,null,null,null,null,null,null,null,null,null,{"$f":"IF(労働者に係る事項!Q82=\"\",\"\",労働者に係る事項!Q82)","v":""},null,null,null,null,null,null,null,null,null,null,null,null,null,null,null,null,null,null,null,{"$f":"労働者に係る事項!R82&\"\"","v":""},null,null,null,null,null,null,null,{"$f":"労働者に係る事項!S82&\"\"","v":""}]
[null,"44",null,null,{"$f":"労働者に係る事項!B83&\"\"","v":""},null,null,null,null,null,{"$f":"労働者に係る事項!C83&\"\"","v":""},null,null,null,null,null,null,null,null,null,null,null,null,null,null,null,null,null,null,null,null,null,null,null,null,null,null,null,null,null,{"$f":"労働者に係る事項!D83&\"\"","v":""},null,null,null,null,null,null,null,{"$f":"労働者に係る事項!E83&\"\"","v":""},null,null,null,null,null,null,null,null,null,null,null,null,null,null,null,null,null,null,null,null,null,null,null,null,null,null,null,{"$f":"労働者に係る事項!F83&\"\"","v":""},null,null,null,null,null,null,{"$f":"労働者に係る事項!G83&\"\"","v":""},null,null,null,null,null,{"$f":"労働者に係る事項!H83&\"\"","v":""},null,null,null,null,null,{"$f":"労働者に係る事項!I83&\"\"","v":""},null,null,null,null,null,null,{"$f":"労働者に係る事項!J83&\"\"","v":""},null,null,null,null,null,null,null,null,null,{"$f":"労働者に係る事項!K83&\"\"","v":""},null,null,null,null,null,null,null,null,null,null,null,null,null,null,null,null,{"$f":"労働者に係る事項!L83&\"\"","v":""},null,null,null,null,null,{"$f":"労働者に係る事項!M83&\"\"","v":""},null,null,null,null,null,null,{"$f":"労働者に係る事項!N83&\"\"","v":""},null,null,null,null,null,null,{"$f":"IF(労働者に係る事項!O83=\"\",\"\",労働者に係る事項!O83)","v":""},null,null,null,null,null,null,null,null,null,null,null,null,null,null,null,null,null,null,{"$f":"IF(労働者に係る事項!P83=\"\",\"\",労働者に係る事項!P83)","v":""},null,null,null,null,null,null,null,null,null,null,null,null,null,{"$f":"IF(労働者に係る事項!Q83=\"\",\"\",労働者に係る事項!Q83)","v":""},null,null,null,null,null,null,null,null,null,null,null,null,null,null,null,null,null,null,null,{"$f":"労働者に係る事項!R83&\"\"","v":""},null,null,null,null,null,null,null,{"$f":"労働者に係る事項!S83&\"\"","v":""}]
[null,"45",null,null,{"$f":"労働者に係る事項!B84&\"\"","v":""},null,null,null,null,null,{"$f":"労働者に係る事項!C84&\"\"","v":""},null,null,null,null,null,null,null,null,null,null,null,null,null,null,null,null,null,null,null,null,null,null,null,null,null,null,null,null,null,{"$f":"労働者に係る事項!D84&\"\"","v":""},null,null,null,null,null,null,null,{"$f":"労働者に係る事項!E84&\"\"","v":""},null,null,null,null,null,null,null,null,null,null,null,null,null,null,null,null,null,null,null,null,null,null,null,null,null,null,null,{"$f":"労働者に係る事項!F84&\"\"","v":""},null,null,null,null,null,null,{"$f":"労働者に係る事項!G84&\"\"","v":""},null,null,null,null,null,{"$f":"労働者に係る事項!H84&\"\"","v":""},null,null,null,null,null,{"$f":"労働者に係る事項!I84&\"\"","v":""},null,null,null,null,null,null,{"$f":"労働者に係る事項!J84&\"\"","v":""},null,null,null,null,null,null,null,null,null,{"$f":"労働者に係る事項!K84&\"\"","v":""},null,null,null,null,null,null,null,null,null,null,null,null,null,null,null,null,{"$f":"労働者に係る事項!L84&\"\"","v":""},null,null,null,null,null,{"$f":"労働者に係る事項!M84&\"\"","v":""},null,null,null,null,null,null,{"$f":"労働者に係る事項!N84&\"\"","v":""},null,null,null,null,null,null,{"$f":"IF(労働者に係る事項!O84=\"\",\"\",労働者に係る事項!O84)","v":""},null,null,null,null,null,null,null,null,null,null,null,null,null,null,null,null,null,null,{"$f":"IF(労働者に係る事項!P84=\"\",\"\",労働者に係る事項!P84)","v":""},null,null,null,null,null,null,null,null,null,null,null,null,null,{"$f":"IF(労働者に係る事項!Q84=\"\",\"\",労働者に係る事項!Q84)","v":""},null,null,null,null,null,null,null,null,null,null,null,null,null,null,null,null,null,null,null,{"$f":"労働者に係る事項!R84&\"\"","v":""},null,null,null,null,null,null,null,{"$f":"労働者に係る事項!S84&\"\"","v":""}]
[null,"46",null,null,{"$f":"労働者に係る事項!B85&\"\"","v":""},null,null,null,null,null,{"$f":"労働者に係る事項!C85&\"\"","v":""},null,null,null,null,null,null,null,null,null,null,null,null,null,null,null,null,null,null,null,null,null,null,null,null,null,null,null,null,null,{"$f":"労働者に係る事項!D85&\"\"","v":""},null,null,null,null,null,null,null,{"$f":"労働者に係る事項!E85&\"\"","v":""},null,null,null,null,null,null,null,null,null,null,null,null,null,null,null,null,null,null,null,null,null,null,null,null,null,null,null,{"$f":"労働者に係る事項!F85&\"\"","v":""},null,null,null,null,null,null,{"$f":"労働者に係る事項!G85&\"\"","v":""},null,null,null,null,null,{"$f":"労働者に係る事項!H85&\"\"","v":""},null,null,null,null,null,{"$f":"労働者に係る事項!I85&\"\"","v":""},null,null,null,null,null,null,{"$f":"労働者に係る事項!J85&\"\"","v":""},null,null,null,null,null,null,null,null,null,{"$f":"労働者に係る事項!K85&\"\"","v":""},null,null,null,null,null,null,null,null,null,null,null,null,null,null,null,null,{"$f":"労働者に係る事項!L85&\"\"","v":""},null,null,null,null,null,{"$f":"労働者に係る事項!M85&\"\"","v":""},null,null,null,null,null,null,{"$f":"労働者に係る事項!N85&\"\"","v":""},null,null,null,null,null,null,{"$f":"IF(労働者に係る事項!O85=\"\",\"\",労働者に係る事項!O85)","v":""},null,null,null,null,null,null,null,null,null,null,null,null,null,null,null,null,null,null,{"$f":"IF(労働者に係る事項!P85=\"\",\"\",労働者に係る事項!P85)","v":""},null,null,null,null,null,null,null,null,null,null,null,null,null,{"$f":"IF(労働者に係る事項!Q85=\"\",\"\",労働者に係る事項!Q85)","v":""},null,null,null,null,null,null,null,null,null,null,null,null,null,null,null,null,null,null,null,{"$f":"労働者に係る事項!R85&\"\"","v":""},null,null,null,null,null,null,null,{"$f":"労働者に係る事項!S85&\"\"","v":""}]
[null,"47",null,null,{"$f":"労働者に係る事項!B86&\"\"","v":""},null,null,null,null,null,{"$f":"労働者に係る事項!C86&\"\"","v":""},null,null,null,null,null,null,null,null,null,null,null,null,null,null,null,null,null,null,null,null,null,null,null,null,null,null,null,null,null,{"$f":"労働者に係る事項!D86&\"\"","v":""},null,null,null,null,null,null,null,{"$f":"労働者に係る事項!E86&\"\"","v":""},null,null,null,null,null,null,null,null,null,null,null,null,null,null,null,null,null,null,null,null,null,null,null,null,null,null,null,{"$f":"労働者に係る事項!F86&\"\"","v":""},null,null,null,null,null,null,{"$f":"労働者に係る事項!G86&\"\"","v":""},null,null,null,null,null,{"$f":"労働者に係る事項!H86&\"\"","v":""},null,null,null,null,null,{"$f":"労働者に係る事項!I86&\"\"","v":""},null,null,null,null,null,null,{"$f":"労働者に係る事項!J86&\"\"","v":""},null,null,null,null,null,null,null,null,null,{"$f":"労働者に係る事項!K86&\"\"","v":""},null,null,null,null,null,null,null,null,null,null,null,null,null,null,null,null,{"$f":"労働者に係る事項!L86&\"\"","v":""},null,null,null,null,null,{"$f":"労働者に係る事項!M86&\"\"","v":""},null,null,null,null,null,null,{"$f":"労働者に係る事項!N86&\"\"","v":""},null,null,null,null,null,null,{"$f":"IF(労働者に係る事項!O86=\"\",\"\",労働者に係る事項!O86)","v":""},null,null,null,null,null,null,null,null,null,null,null,null,null,null,null,null,null,null,{"$f":"IF(労働者に係る事項!P86=\"\",\"\",労働者に係る事項!P86)","v":""},null,null,null,null,null,null,null,null,null,null,null,null,null,{"$f":"IF(労働者に係る事項!Q86=\"\",\"\",労働者に係る事項!Q86)","v":""},null,null,null,null,null,null,null,null,null,null,null,null,null,null,null,null,null,null,null,{"$f":"労働者に係る事項!R86&\"\"","v":""},null,null,null,null,null,null,null,{"$f":"労働者に係る事項!S86&\"\"","v":""}]
[null,"48",null,null,{"$f":"労働者に係る事項!B87&\"\"","v":""},null,null,null,null,null,{"$f":"労働者に係る事項!C87&\"\"","v":""},null,null,null,null,null,null,null,null,null,null,null,null,null,null,null,null,null,null,null,null,null,null,null,null,null,null,null,null,null,{"$f":"労働者に係る事項!D87&\"\"","v":""},null,null,null,null,null,null,null,{"$f":"労働者に係る事項!E87&\"\"","v":""},null,null,null,null,null,null,null,null,null,null,null,null,null,null,null,null,null,null,null,null,null,null,null,null,null,null,null,{"$f":"労働者に係る事項!F87&\"\"","v":""},null,null,null,null,null,null,{"$f":"労働者に係る事項!G87&\"\"","v":""},null,null,null,null,null,{"$f":"労働者に係る事項!H87&\"\"","v":""},null,null,null,null,null,{"$f":"労働者に係る事項!I87&\"\"","v":""},null,null,null,null,null,null,{"$f":"労働者に係る事項!J87&\"\"","v":""},null,null,null,null,null,null,null,null,null,{"$f":"労働者に係る事項!K87&\"\"","v":""},null,null,null,null,null,null,null,null,null,null,null,null,null,null,null,null,{"$f":"労働者に係る事項!L87&\"\"","v":""},null,null,null,null,null,{"$f":"労働者に係る事項!M87&\"\"","v":""},null,null,null,null,null,null,{"$f":"労働者に係る事項!N87&\"\"","v":""},null,null,null,null,null,null,{"$f":"IF(労働者に係る事項!O87=\"\",\"\",労働者に係る事項!O87)","v":""},null,null,null,null,null,null,null,null,null,null,null,null,null,null,null,null,null,null,{"$f":"IF(労働者に係る事項!P87=\"\",\"\",労働者に係る事項!P87)","v":""},null,null,null,null,null,null,null,null,null,null,null,null,null,{"$f":"IF(労働者に係る事項!Q87=\"\",\"\",労働者に係る事項!Q87)","v":""},null,null,null,null,null,null,null,null,null,null,null,null,null,null,null,null,null,null,null,{"$f":"労働者に係る事項!R87&\"\"","v":""},null,null,null,null,null,null,null,{"$f":"労働者に係る事項!S87&\"\"","v":""}]
[null,"49",null,null,{"$f":"労働者に係る事項!B88&\"\"","v":""},null,null,null,null,null,{"$f":"労働者に係る事項!C88&\"\"","v":""},null,null,null,null,null,null,null,null,null,null,null,null,null,null,null,null,null,null,null,null,null,null,null,null,null,null,null,null,null,{"$f":"労働者に係る事項!D88&\"\"","v":""},null,null,null,null,null,null,null,{"$f":"労働者に係る事項!E88&\"\"","v":""},null,null,null,null,null,null,null,null,null,null,null,null,null,null,null,null,null,null,null,null,null,null,null,null,null,null,null,{"$f":"労働者に係る事項!F88&\"\"","v":""},null,null,null,null,null,null,{"$f":"労働者に係る事項!G88&\"\"","v":""},null,null,null,null,null,{"$f":"労働者に係る事項!H88&\"\"","v":""},null,null,null,null,null,{"$f":"労働者に係る事項!I88&\"\"","v":""},null,null,null,null,null,null,{"$f":"労働者に係る事項!J88&\"\"","v":""},null,null,null,null,null,null,null,null,null,{"$f":"労働者に係る事項!K88&\"\"","v":""},null,null,null,null,null,null,null,null,null,null,null,null,null,null,null,null,{"$f":"労働者に係る事項!L88&\"\"","v":""},null,null,null,null,null,{"$f":"労働者に係る事項!M88&\"\"","v":""},null,null,null,null,null,null,{"$f":"労働者に係る事項!N88&\"\"","v":""},null,null,null,null,null,null,{"$f":"IF(労働者に係る事項!O88=\"\",\"\",労働者に係る事項!O88)","v":""},null,null,null,null,null,null,null,null,null,null,null,null,null,null,null,null,null,null,{"$f":"IF(労働者に係る事項!P88=\"\",\"\",労働者に係る事項!P88)","v":""},null,null,null,null,null,null,null,null,null,null,null,null,null,{"$f":"IF(労働者に係る事項!Q88=\"\",\"\",労働者に係る事項!Q88)","v":""},null,null,null,null,null,null,null,null,null,null,null,null,null,null,null,null,null,null,null,{"$f":"労働者に係る事項!R88&\"\"","v":""},null,null,null,null,null,null,null,{"$f":"労働者に係る事項!S88&\"\"","v":""}]
[null,"50",null,null,{"$f":"労働者に係る事項!B89&\"\"","v":""},null,null,null,null,null,{"$f":"労働者に係る事項!C89&\"\"","v":""},null,null,null,null,null,null,null,null,null,null,null,null,null,null,null,null,null,null,null,null,null,null,null,null,null,null,null,null,null,{"$f":"労働者に係る事項!D89&\"\"","v":""},null,null,null,null,null,null,null,{"$f":"労働者に係る事項!E89&\"\"","v":""},null,null,null,null,null,null,null,null,null,null,null,null,null,null,null,null,null,null,null,null,null,null,null,null,null,null,null,{"$f":"労働者に係る事項!F89&\"\"","v":""},null,null,null,null,null,null,{"$f":"労働者に係る事項!G89&\"\"","v":""},null,null,null,null,null,{"$f":"労働者に係る事項!H89&\"\"","v":""},null,null,null,null,null,{"$f":"労働者に係る事項!I89&\"\"","v":""},null,null,null,null,null,null,{"$f":"労働者に係る事項!J89&\"\"","v":""},null,null,null,null,null,null,null,null,null,{"$f":"労働者に係る事項!K89&\"\"","v":""},null,null,null,null,null,null,null,null,null,null,null,null,null,null,null,null,{"$f":"労働者に係る事項!L89&\"\"","v":""},null,null,null,null,null,{"$f":"労働者に係る事項!M89&\"\"","v":""},null,null,null,null,null,null,{"$f":"労働者に係る事項!N89&\"\"","v":""},null,null,null,null,null,null,{"$f":"IF(労働者に係る事項!O89=\"\",\"\",労働者に係る事項!O89)","v":""},null,null,null,null,null,null,null,null,null,null,null,null,null,null,null,null,null,null,{"$f":"IF(労働者に係る事項!P89=\"\",\"\",労働者に係る事項!P89)","v":""},null,null,null,null,null,null,null,null,null,null,null,null,null,{"$f":"IF(労働者に係る事項!Q89=\"\",\"\",労働者に係る事項!Q89)","v":""},null,null,null,null,null,null,null,null,null,null,null,null,null,null,null,null,null,null,null,{"$f":"労働者に係る事項!R89&\"\"","v":""},null,null,null,null,null,null,null,{"$f":"労働者に係る事項!S89&\"\"","v":""}]
[null,"51",null,null,{"$f":"労働者に係る事項!B90&\"\"","v":""},null,null,null,null,null,{"$f":"労働者に係る事項!C90&\"\"","v":""},null,null,null,null,null,null,null,null,null,null,null,null,null,null,null,null,null,null,null,null,null,null,null,null,null,null,null,null,null,{"$f":"労働者に係る事項!D90&\"\"","v":""},null,null,null,null,null,null,null,{"$f":"労働者に係る事項!E90&\"\"","v":""},null,null,null,null,null,null,null,null,null,null,null,null,null,null,null,null,null,null,null,null,null,null,null,null,null,null,null,{"$f":"労働者に係る事項!F90&\"\"","v":""},null,null,null,null,null,null,{"$f":"労働者に係る事項!G90&\"\"","v":""},null,null,null,null,null,{"$f":"労働者に係る事項!H90&\"\"","v":""},null,null,null,null,null,{"$f":"労働者に係る事項!I90&\"\"","v":""},null,null,null,null,null,null,{"$f":"労働者に係る事項!J90&\"\"","v":""},null,null,null,null,null,null,null,null,null,{"$f":"労働者に係る事項!K90&\"\"","v":""},null,null,null,null,null,null,null,null,null,null,null,null,null,null,null,null,{"$f":"労働者に係る事項!L90&\"\"","v":""},null,null,null,null,null,{"$f":"労働者に係る事項!M90&\"\"","v":""},null,null,null,null,null,null,{"$f":"労働者に係る事項!N90&\"\"","v":""},null,null,null,null,null,null,{"$f":"IF(労働者に係る事項!O90=\"\",\"\",労働者に係る事項!O90)","v":""},null,null,null,null,null,null,null,null,null,null,null,null,null,null,null,null,null,null,{"$f":"IF(労働者に係る事項!P90=\"\",\"\",労働者に係る事項!P90)","v":""},null,null,null,null,null,null,null,null,null,null,null,null,null,{"$f":"IF(労働者に係る事項!Q90=\"\",\"\",労働者に係る事項!Q90)","v":""},null,null,null,null,null,null,null,null,null,null,null,null,null,null,null,null,null,null,null,{"$f":"労働者に係る事項!R90&\"\"","v":""},null,null,null,null,null,null,null,{"$f":"労働者に係る事項!S90&\"\"","v":""}]
[null,"52",null,null,{"$f":"労働者に係る事項!B91&\"\"","v":""},null,null,null,null,null,{"$f":"労働者に係る事項!C91&\"\"","v":""},null,null,null,null,null,null,null,null,null,null,null,null,null,null,null,null,null,null,null,null,null,null,null,null,null,null,null,null,null,{"$f":"労働者に係る事項!D91&\"\"","v":""},null,null,null,null,null,null,null,{"$f":"労働者に係る事項!E91&\"\"","v":""},null,null,null,null,null,null,null,null,null,null,null,null,null,null,null,null,null,null,null,null,null,null,null,null,null,null,null,{"$f":"労働者に係る事項!F91&\"\"","v":""},null,null,null,null,null,null,{"$f":"労働者に係る事項!G91&\"\"","v":""},null,null,null,null,null,{"$f":"労働者に係る事項!H91&\"\"","v":""},null,null,null,null,null,{"$f":"労働者に係る事項!I91&\"\"","v":""},null,null,null,null,null,null,{"$f":"労働者に係る事項!J91&\"\"","v":""},null,null,null,null,null,null,null,null,null,{"$f":"労働者に係る事項!K91&\"\"","v":""},null,null,null,null,null,null,null,null,null,null,null,null,null,null,null,null,{"$f":"労働者に係る事項!L91&\"\"","v":""},null,null,null,null,null,{"$f":"労働者に係る事項!M91&\"\"","v":""},null,null,null,null,null,null,{"$f":"労働者に係る事項!N91&\"\"","v":""},null,null,null,null,null,null,{"$f":"IF(労働者に係る事項!O91=\"\",\"\",労働者に係る事項!O91)","v":""},null,null,null,null,null,null,null,null,null,null,null,null,null,null,null,null,null,null,{"$f":"IF(労働者に係る事項!P91=\"\",\"\",労働者に係る事項!P91)","v":""},null,null,null,null,null,null,null,null,null,null,null,null,null,{"$f":"IF(労働者に係る事項!Q91=\"\",\"\",労働者に係る事項!Q91)","v":""},null,null,null,null,null,null,null,null,null,null,null,null,null,null,null,null,null,null,null,{"$f":"労働者に係る事項!R91&\"\"","v":""},null,null,null,null,null,null,null,{"$f":"労働者に係る事項!S91&\"\"","v":""}]
[null,"53",null,null,{"$f":"労働者に係る事項!B92&\"\"","v":""},null,null,null,null,null,{"$f":"労働者に係る事項!C92&\"\"","v":""},null,null,null,null,null,null,null,null,null,null,null,null,null,null,null,null,null,null,null,null,null,null,null,null,null,null,null,null,null,{"$f":"労働者に係る事項!D92&\"\"","v":""},null,null,null,null,null,null,null,{"$f":"労働者に係る事項!E92&\"\"","v":""},null,null,null,null,null,null,null,null,null,null,null,null,null,null,null,null,null,null,null,null,null,null,null,null,null,null,null,{"$f":"労働者に係る事項!F92&\"\"","v":""},null,null,null,null,null,null,{"$f":"労働者に係る事項!G92&\"\"","v":""},null,null,null,null,null,{"$f":"労働者に係る事項!H92&\"\"","v":""},null,null,null,null,null,{"$f":"労働者に係る事項!I92&\"\"","v":""},null,null,null,null,null,null,{"$f":"労働者に係る事項!J92&\"\"","v":""},null,null,null,null,null,null,null,null,null,{"$f":"労働者に係る事項!K92&\"\"","v":""},null,null,null,null,null,null,null,null,null,null,null,null,null,null,null,null,{"$f":"労働者に係る事項!L92&\"\"","v":""},null,null,null,null,null,{"$f":"労働者に係る事項!M92&\"\"","v":""},null,null,null,null,null,null,{"$f":"労働者に係る事項!N92&\"\"","v":""},null,null,null,null,null,null,{"$f":"IF(労働者に係る事項!O92=\"\",\"\",労働者に係る事項!O92)","v":""},null,null,null,null,null,null,null,null,null,null,null,null,null,null,null,null,null,null,{"$f":"IF(労働者に係る事項!P92=\"\",\"\",労働者に係る事項!P92)","v":""},null,null,null,null,null,null,null,null,null,null,null,null,null,{"$f":"IF(労働者に係る事項!Q92=\"\",\"\",労働者に係る事項!Q92)","v":""},null,null,null,null,null,null,null,null,null,null,null,null,null,null,null,null,null,null,null,{"$f":"労働者に係る事項!R92&\"\"","v":""},null,null,null,null,null,null,null,{"$f":"労働者に係る事項!S92&\"\"","v":""}]
[null,"54",null,null,{"$f":"労働者に係る事項!B93&\"\"","v":""},null,null,null,null,null,{"$f":"労働者に係る事項!C93&\"\"","v":""},null,null,null,null,null,null,null,null,null,null,null,null,null,null,null,null,null,null,null,null,null,null,null,null,null,null,null,null,null,{"$f":"労働者に係る事項!D93&\"\"","v":""},null,null,null,null,null,null,null,{"$f":"労働者に係る事項!E93&\"\"","v":""},null,null,null,null,null,null,null,null,null,null,null,null,null,null,null,null,null,null,null,null,null,null,null,null,null,null,null,{"$f":"労働者に係る事項!F93&\"\"","v":""},null,null,null,null,null,null,{"$f":"労働者に係る事項!G93&\"\"","v":""},null,null,null,null,null,{"$f":"労働者に係る事項!H93&\"\"","v":""},null,null,null,null,null,{"$f":"労働者に係る事項!I93&\"\"","v":""},null,null,null,null,null,null,{"$f":"労働者に係る事項!J93&\"\"","v":""},null,null,null,null,null,null,null,null,null,{"$f":"労働者に係る事項!K93&\"\"","v":""},null,null,null,null,null,null,null,null,null,null,null,null,null,null,null,null,{"$f":"労働者に係る事項!L93&\"\"","v":""},null,null,null,null,null,{"$f":"労働者に係る事項!M93&\"\"","v":""},null,null,null,null,null,null,{"$f":"労働者に係る事項!N93&\"\"","v":""},null,null,null,null,null,null,{"$f":"IF(労働者に係る事項!O93=\"\",\"\",労働者に係る事項!O93)","v":""},null,null,null,null,null,null,null,null,null,null,null,null,null,null,null,null,null,null,{"$f":"IF(労働者に係る事項!P93=\"\",\"\",労働者に係る事項!P93)","v":""},null,null,null,null,null,null,null,null,null,null,null,null,null,{"$f":"IF(労働者に係る事項!Q93=\"\",\"\",労働者に係る事項!Q93)","v":""},null,null,null,null,null,null,null,null,null,null,null,null,null,null,null,null,null,null,null,{"$f":"労働者に係る事項!R93&\"\"","v":""},null,null,null,null,null,null,null,{"$f":"労働者に係る事項!S93&\"\"","v":""}]
[null,"55",null,null,{"$f":"労働者に係る事項!B94&\"\"","v":""},null,null,null,null,null,{"$f":"労働者に係る事項!C94&\"\"","v":""},null,null,null,null,null,null,null,null,null,null,null,null,null,null,null,null,null,null,null,null,null,null,null,null,null,null,null,null,null,{"$f":"労働者に係る事項!D94&\"\"","v":""},null,null,null,null,null,null,null,{"$f":"労働者に係る事項!E94&\"\"","v":""},null,null,null,null,null,null,null,null,null,null,null,null,null,null,null,null,null,null,null,null,null,null,null,null,null,null,null,{"$f":"労働者に係る事項!F94&\"\"","v":""},null,null,null,null,null,null,{"$f":"労働者に係る事項!G94&\"\"","v":""},null,null,null,null,null,{"$f":"労働者に係る事項!H94&\"\"","v":""},null,null,null,null,null,{"$f":"労働者に係る事項!I94&\"\"","v":""},null,null,null,null,null,null,{"$f":"労働者に係る事項!J94&\"\"","v":""},null,null,null,null,null,null,null,null,null,{"$f":"労働者に係る事項!K94&\"\"","v":""},null,null,null,null,null,null,null,null,null,null,null,null,null,null,null,null,{"$f":"労働者に係る事項!L94&\"\"","v":""},null,null,null,null,null,{"$f":"労働者に係る事項!M94&\"\"","v":""},null,null,null,null,null,null,{"$f":"労働者に係る事項!N94&\"\"","v":""},null,null,null,null,null,null,{"$f":"IF(労働者に係る事項!O94=\"\",\"\",労働者に係る事項!O94)","v":""},null,null,null,null,null,null,null,null,null,null,null,null,null,null,null,null,null,null,{"$f":"IF(労働者に係る事項!P94=\"\",\"\",労働者に係る事項!P94)","v":""},null,null,null,null,null,null,null,null,null,null,null,null,null,{"$f":"IF(労働者に係る事項!Q94=\"\",\"\",労働者に係る事項!Q94)","v":""},null,null,null,null,null,null,null,null,null,null,null,null,null,null,null,null,null,null,null,{"$f":"労働者に係る事項!R94&\"\"","v":""},null,null,null,null,null,null,null,{"$f":"労働者に係る事項!S94&\"\"","v":""}]
[null,"56",null,null,{"$f":"労働者に係る事項!B95&\"\"","v":""},null,null,null,null,null,{"$f":"労働者に係る事項!C95&\"\"","v":""},null,null,null,null,null,null,null,null,null,null,null,null,null,null,null,null,null,null,null,null,null,null,null,null,null,null,null,null,null,{"$f":"労働者に係る事項!D95&\"\"","v":""},null,null,null,null,null,null,null,{"$f":"労働者に係る事項!E95&\"\"","v":""},null,null,null,null,null,null,null,null,null,null,null,null,null,null,null,null,null,null,null,null,null,null,null,null,null,null,null,{"$f":"労働者に係る事項!F95&\"\"","v":""},null,null,null,null,null,null,{"$f":"労働者に係る事項!G95&\"\"","v":""},null,null,null,null,null,{"$f":"労働者に係る事項!H95&\"\"","v":""},null,null,null,null,null,{"$f":"労働者に係る事項!I95&\"\"","v":""},null,null,null,null,null,null,{"$f":"労働者に係る事項!J95&\"\"","v":""},null,null,null,null,null,null,null,null,null,{"$f":"労働者に係る事項!K95&\"\"","v":""},null,null,null,null,null,null,null,null,null,null,null,null,null,null,null,null,{"$f":"労働者に係る事項!L95&\"\"","v":""},null,null,null,null,null,{"$f":"労働者に係る事項!M95&\"\"","v":""},null,null,null,null,null,null,{"$f":"労働者に係る事項!N95&\"\"","v":""},null,null,null,null,null,null,{"$f":"IF(労働者に係る事項!O95=\"\",\"\",労働者に係る事項!O95)","v":""},null,null,null,null,null,null,null,null,null,null,null,null,null,null,null,null,null,null,{"$f":"IF(労働者に係る事項!P95=\"\",\"\",労働者に係る事項!P95)","v":""},null,null,null,null,null,null,null,null,null,null,null,null,null,{"$f":"IF(労働者に係る事項!Q95=\"\",\"\",労働者に係る事項!Q95)","v":""},null,null,null,null,null,null,null,null,null,null,null,null,null,null,null,null,null,null,null,{"$f":"労働者に係る事項!R95&\"\"","v":""},null,null,null,null,null,null,null,{"$f":"労働者に係る事項!S95&\"\"","v":""}]
[null,"57",null,null,{"$f":"労働者に係る事項!B96&\"\"","v":""},null,null,null,null,null,{"$f":"労働者に係る事項!C96&\"\"","v":""},null,null,null,null,null,null,null,null,null,null,null,null,null,null,null,null,null,null,null,null,null,null,null,null,null,null,null,null,null,{"$f":"労働者に係る事項!D96&\"\"","v":""},null,null,null,null,null,null,null,{"$f":"労働者に係る事項!E96&\"\"","v":""},null,null,null,null,null,null,null,null,null,null,null,null,null,null,null,null,null,null,null,null,null,null,null,null,null,null,null,{"$f":"労働者に係る事項!F96&\"\"","v":""},null,null,null,null,null,null,{"$f":"労働者に係る事項!G96&\"\"","v":""},null,null,null,null,null,{"$f":"労働者に係る事項!H96&\"\"","v":""},null,null,null,null,null,{"$f":"労働者に係る事項!I96&\"\"","v":""},null,null,null,null,null,null,{"$f":"労働者に係る事項!J96&\"\"","v":""},null,null,null,null,null,null,null,null,null,{"$f":"労働者に係る事項!K96&\"\"","v":""},null,null,null,null,null,null,null,null,null,null,null,null,null,null,null,null,{"$f":"労働者に係る事項!L96&\"\"","v":""},null,null,null,null,null,{"$f":"労働者に係る事項!M96&\"\"","v":""},null,null,null,null,null,null,{"$f":"労働者に係る事項!N96&\"\"","v":""},null,null,null,null,null,null,{"$f":"IF(労働者に係る事項!O96=\"\",\"\",労働者に係る事項!O96)","v":""},null,null,null,null,null,null,null,null,null,null,null,null,null,null,null,null,null,null,{"$f":"IF(労働者に係る事項!P96=\"\",\"\",労働者に係る事項!P96)","v":""},null,null,null,null,null,null,null,null,null,null,null,null,null,{"$f":"IF(労働者に係る事項!Q96=\"\",\"\",労働者に係る事項!Q96)","v":""},null,null,null,null,null,null,null,null,null,null,null,null,null,null,null,null,null,null,null,{"$f":"労働者に係る事項!R96&\"\"","v":""},null,null,null,null,null,null,null,{"$f":"労働者に係る事項!S96&\"\"","v":""}]
[null,"58",null,null,{"$f":"労働者に係る事項!B97&\"\"","v":""},null,null,null,null,null,{"$f":"労働者に係る事項!C97&\"\"","v":""},null,null,null,null,null,null,null,null,null,null,null,null,null,null,null,null,null,null,null,null,null,null,null,null,null,null,null,null,null,{"$f":"労働者に係る事項!D97&\"\"","v":""},null,null,null,null,null,null,null,{"$f":"労働者に係る事項!E97&\"\"","v":""},null,null,null,null,null,null,null,null,null,null,null,null,null,null,null,null,null,null,null,null,null,null,null,null,null,null,null,{"$f":"労働者に係る事項!F97&\"\"","v":""},null,null,null,null,null,null,{"$f":"労働者に係る事項!G97&\"\"","v":""},null,null,null,null,null,{"$f":"労働者に係る事項!H97&\"\"","v":""},null,null,null,null,null,{"$f":"労働者に係る事項!I97&\"\"","v":""},null,null,null,null,null,null,{"$f":"労働者に係る事項!J97&\"\"","v":""},null,null,null,null,null,null,null,null,null,{"$f":"労働者に係る事項!K97&\"\"","v":""},null,null,null,null,null,null,null,null,null,null,null,null,null,null,null,null,{"$f":"労働者に係る事項!L97&\"\"","v":""},null,null,null,null,null,{"$f":"労働者に係る事項!M97&\"\"","v":""},null,null,null,null,null,null,{"$f":"労働者に係る事項!N97&\"\"","v":""},null,null,null,null,null,null,{"$f":"IF(労働者に係る事項!O97=\"\",\"\",労働者に係る事項!O97)","v":""},null,null,null,null,null,null,null,null,null,null,null,null,null,null,null,null,null,null,{"$f":"IF(労働者に係る事項!P97=\"\",\"\",労働者に係る事項!P97)","v":""},null,null,null,null,null,null,null,null,null,null,null,null,null,{"$f":"IF(労働者に係る事項!Q97=\"\",\"\",労働者に係る事項!Q97)","v":""},null,null,null,null,null,null,null,null,null,null,null,null,null,null,null,null,null,null,null,{"$f":"労働者に係る事項!R97&\"\"","v":""},null,null,null,null,null,null,null,{"$f":"労働者に係る事項!S97&\"\"","v":""}]
[null,"59",null,null,{"$f":"労働者に係る事項!B98&\"\"","v":""},null,null,null,null,null,{"$f":"労働者に係る事項!C98&\"\"","v":""},null,null,null,null,null,null,null,null,null,null,null,null,null,null,null,null,null,null,null,null,null,null,null,null,null,null,null,null,null,{"$f":"労働者に係る事項!D98&\"\"","v":""},null,null,null,null,null,null,null,{"$f":"労働者に係る事項!E98&\"\"","v":""},null,null,null,null,null,null,null,null,null,null,null,null,null,null,null,null,null,null,null,null,null,null,null,null,null,null,null,{"$f":"労働者に係る事項!F98&\"\"","v":""},null,null,null,null,null,null,{"$f":"労働者に係る事項!G98&\"\"","v":""},null,null,null,null,null,{"$f":"労働者に係る事項!H98&\"\"","v":""},null,null,null,null,null,{"$f":"労働者に係る事項!I98&\"\"","v":""},null,null,null,null,null,null,{"$f":"労働者に係る事項!J98&\"\"","v":""},null,null,null,null,null,null,null,null,null,{"$f":"労働者に係る事項!K98&\"\"","v":""},null,null,null,null,null,null,null,null,null,null,null,null,null,null,null,null,{"$f":"労働者に係る事項!L98&\"\"","v":""},null,null,null,null,null,{"$f":"労働者に係る事項!M98&\"\"","v":""},null,null,null,null,null,null,{"$f":"労働者に係る事項!N98&\"\"","v":""},null,null,null,null,null,null,{"$f":"IF(労働者に係る事項!O98=\"\",\"\",労働者に係る事項!O98)","v":""},null,null,null,null,null,null,null,null,null,null,null,null,null,null,null,null,null,null,{"$f":"IF(労働者に係る事項!P98=\"\",\"\",労働者に係る事項!P98)","v":""},null,null,null,null,null,null,null,null,null,null,null,null,null,{"$f":"IF(労働者に係る事項!Q98=\"\",\"\",労働者に係る事項!Q98)","v":""},null,null,null,null,null,null,null,null,null,null,null,null,null,null,null,null,null,null,null,{"$f":"労働者に係る事項!R98&\"\"","v":""},null,null,null,null,null,null,null,{"$f":"労働者に係る事項!S98&\"\"","v":""}]
[null,"60",null,null,{"$f":"労働者に係る事項!B99&\"\"","v":""},null,null,null,null,null,{"$f":"労働者に係る事項!C99&\"\"","v":""},null,null,null,null,null,null,null,null,null,null,null,null,null,null,null,null,null,null,null,null,null,null,null,null,null,null,null,null,null,{"$f":"労働者に係る事項!D99&\"\"","v":""},null,null,null,null,null,null,null,{"$f":"労働者に係る事項!E99&\"\"","v":""},null,null,null,null,null,null,null,null,null,null,null,null,null,null,null,null,null,null,null,null,null,null,null,null,null,null,null,{"$f":"労働者に係る事項!F99&\"\"","v":""},null,null,null,null,null,null,{"$f":"労働者に係る事項!G99&\"\"","v":""},null,null,null,null,null,{"$f":"労働者に係る事項!H99&\"\"","v":""},null,null,null,null,null,{"$f":"労働者に係る事項!I99&\"\"","v":""},null,null,null,null,null,null,{"$f":"労働者に係る事項!J99&\"\"","v":""},null,null,null,null,null,null,null,null,null,{"$f":"労働者に係る事項!K99&\"\"","v":""},null,null,null,null,null,null,null,null,null,null,null,null,null,null,null,null,{"$f":"労働者に係る事項!L99&\"\"","v":""},null,null,null,null,null,{"$f":"労働者に係る事項!M99&\"\"","v":""},null,null,null,null,null,null,{"$f":"労働者に係る事項!N99&\"\"","v":""},null,null,null,null,null,null,{"$f":"IF(労働者に係る事項!O99=\"\",\"\",労働者に係る事項!O99)","v":""},null,null,null,null,null,null,null,null,null,null,null,null,null,null,null,null,null,null,{"$f":"IF(労働者に係る事項!P99=\"\",\"\",労働者に係る事項!P99)","v":""},null,null,null,null,null,null,null,null,null,null,null,null,null,{"$f":"IF(労働者に係る事項!Q99=\"\",\"\",労働者に係る事項!Q99)","v":""},null,null,null,null,null,null,null,null,null,null,null,null,null,null,null,null,null,null,null,{"$f":"労働者に係る事項!R99&\"\"","v":""},null,null,null,null,null,null,null,{"$f":"労働者に係る事項!S99&\"\"","v":""}]
[null,"61",null,null,{"$f":"労働者に係る事項!B100&\"\"","v":""},null,null,null,null,null,{"$f":"労働者に係る事項!C100&\"\"","v":""},null,null,null,null,null,null,null,null,null,null,null,null,null,null,null,null,null,null,null,null,null,null,null,null,null,null,null,null,null,{"$f":"労働者に係る事項!D100&\"\"","v":""},null,null,null,null,null,null,null,{"$f":"労働者に係る事項!E100&\"\"","v":""},null,null,null,null,null,null,null,null,null,null,null,null,null,null,null,null,null,null,null,null,null,null,null,null,null,null,null,{"$f":"労働者に係る事項!F100&\"\"","v":""},null,null,null,null,null,null,{"$f":"労働者に係る事項!G100&\"\"","v":""},null,null,null,null,null,{"$f":"労働者に係る事項!H100&\"\"","v":""},null,null,null,null,null,{"$f":"労働者に係る事項!I100&\"\"","v":""},null,null,null,null,null,null,{"$f":"労働者に係る事項!J100&\"\"","v":""},null,null,null,null,null,null,null,null,null,{"$f":"労働者に係る事項!K100&\"\"","v":""},null,null,null,null,null,null,null,null,null,null,null,null,null,null,null,null,{"$f":"労働者に係る事項!L100&\"\"","v":""},null,null,null,null,null,{"$f":"労働者に係る事項!M100&\"\"","v":""},null,null,null,null,null,null,{"$f":"労働者に係る事項!N100&\"\"","v":""},null,null,null,null,null,null,{"$f":"IF(労働者に係る事項!O100=\"\",\"\",労働者に係る事項!O100)","v":""},null,null,null,null,null,null,null,null,null,null,null,null,null,null,null,null,null,null,{"$f":"IF(労働者に係る事項!P100=\"\",\"\",労働者に係る事項!P100)","v":""},null,null,null,null,null,null,null,null,null,null,null,null,null,{"$f":"IF(労働者に係る事項!Q100=\"\",\"\",労働者に係る事項!Q100)","v":""},null,null,null,null,null,null,null,null,null,null,null,null,null,null,null,null,null,null,null,{"$f":"労働者に係る事項!R100&\"\"","v":""},null,null,null,null,null,null,null,{"$f":"労働者に係る事項!S100&\"\"","v":""}]
[null,"62",null,null,{"$f":"労働者に係る事項!B101&\"\"","v":""},null,null,null,null,null,{"$f":"労働者に係る事項!C101&\"\"","v":""},null,null,null,null,null,null,null,null,null,null,null,null,null,null,null,null,null,null,null,null,null,null,null,null,null,null,null,null,null,{"$f":"労働者に係る事項!D101&\"\"","v":""},null,null,null,null,null,null,null,{"$f":"労働者に係る事項!E101&\"\"","v":""},null,null,null,null,null,null,null,null,null,null,null,null,null,null,null,null,null,null,null,null,null,null,null,null,null,null,null,{"$f":"労働者に係る事項!F101&\"\"","v":""},null,null,null,null,null,null,{"$f":"労働者に係る事項!G101&\"\"","v":""},null,null,null,null,null,{"$f":"労働者に係る事項!H101&\"\"","v":""},null,null,null,null,null,{"$f":"労働者に係る事項!I101&\"\"","v":""},null,null,null,null,null,null,{"$f":"労働者に係る事項!J101&\"\"","v":""},null,null,null,null,null,null,null,null,null,{"$f":"労働者に係る事項!K101&\"\"","v":""},null,null,null,null,null,null,null,null,null,null,null,null,null,null,null,null,{"$f":"労働者に係る事項!L101&\"\"","v":""},null,null,null,null,null,{"$f":"労働者に係る事項!M101&\"\"","v":""},null,null,null,null,null,null,{"$f":"労働者に係る事項!N101&\"\"","v":""},null,null,null,null,null,null,{"$f":"IF(労働者に係る事項!O101=\"\",\"\",労働者に係る事項!O101)","v":""},null,null,null,null,null,null,null,null,null,null,null,null,null,null,null,null,null,null,{"$f":"IF(労働者に係る事項!P101=\"\",\"\",労働者に係る事項!P101)","v":""},null,null,null,null,null,null,null,null,null,null,null,null,null,{"$f":"IF(労働者に係る事項!Q101=\"\",\"\",労働者に係る事項!Q101)","v":""},null,null,null,null,null,null,null,null,null,null,null,null,null,null,null,null,null,null,null,{"$f":"労働者に係る事項!R101&\"\"","v":""},null,null,null,null,null,null,null,{"$f":"労働者に係る事項!S101&\"\"","v":""}]
[null,"63",null,null,{"$f":"労働者に係る事項!B102&\"\"","v":""},null,null,null,null,null,{"$f":"労働者に係る事項!C102&\"\"","v":""},null,null,null,null,null,null,null,null,null,null,null,null,null,null,null,null,null,null,null,null,null,null,null,null,null,null,null,null,null,{"$f":"労働者に係る事項!D102&\"\"","v":""},null,null,null,null,null,null,null,{"$f":"労働者に係る事項!E102&\"\"","v":""},null,null,null,null,null,null,null,null,null,null,null,null,null,null,null,null,null,null,null,null,null,null,null,null,null,null,null,{"$f":"労働者に係る事項!F102&\"\"","v":""},null,null,null,null,null,null,{"$f":"労働者に係る事項!G102&\"\"","v":""},null,null,null,null,null,{"$f":"労働者に係る事項!H102&\"\"","v":""},null,null,null,null,null,{"$f":"労働者に係る事項!I102&\"\"","v":""},null,null,null,null,null,null,{"$f":"労働者に係る事項!J102&\"\"","v":""},null,null,null,null,null,null,null,null,null,{"$f":"労働者に係る事項!K102&\"\"","v":""},null,null,null,null,null,null,null,null,null,null,null,null,null,null,null,null,{"$f":"労働者に係る事項!L102&\"\"","v":""},null,null,null,null,null,{"$f":"労働者に係る事項!M102&\"\"","v":""},null,null,null,null,null,null,{"$f":"労働者に係る事項!N102&\"\"","v":""},null,null,null,null,null,null,{"$f":"IF(労働者に係る事項!O102=\"\",\"\",労働者に係る事項!O102)","v":""},null,null,null,null,null,null,null,null,null,null,null,null,null,null,null,null,null,null,{"$f":"IF(労働者に係る事項!P102=\"\",\"\",労働者に係る事項!P102)","v":""},null,null,null,null,null,null,null,null,null,null,null,null,null,{"$f":"IF(労働者に係る事項!Q102=\"\",\"\",労働者に係る事項!Q102)","v":""},null,null,null,null,null,null,null,null,null,null,null,null,null,null,null,null,null,null,null,{"$f":"労働者に係る事項!R102&\"\"","v":""},null,null,null,null,null,null,null,{"$f":"労働者に係る事項!S102&\"\"","v":""}]
[null,"64",null,null,{"$f":"労働者に係る事項!B103&\"\"","v":""},null,null,null,null,null,{"$f":"労働者に係る事項!C103&\"\"","v":""},null,null,null,null,null,null,null,null,null,null,null,null,null,null,null,null,null,null,null,null,null,null,null,null,null,null,null,null,null,{"$f":"労働者に係る事項!D103&\"\"","v":""},null,null,null,null,null,null,null,{"$f":"労働者に係る事項!E103&\"\"","v":""},null,null,null,null,null,null,null,null,null,null,null,null,null,null,null,null,null,null,null,null,null,null,null,null,null,null,null,{"$f":"労働者に係る事項!F103&\"\"","v":""},null,null,null,null,null,null,{"$f":"労働者に係る事項!G103&\"\"","v":""},null,null,null,null,null,{"$f":"労働者に係る事項!H103&\"\"","v":""},null,null,null,null,null,{"$f":"労働者に係る事項!I103&\"\"","v":""},null,null,null,null,null,null,{"$f":"労働者に係る事項!J103&\"\"","v":""},null,null,null,null,null,null,null,null,null,{"$f":"労働者に係る事項!K103&\"\"","v":""},null,null,null,null,null,null,null,null,null,null,null,null,null,null,null,null,{"$f":"労働者に係る事項!L103&\"\"","v":""},null,null,null,null,null,{"$f":"労働者に係る事項!M103&\"\"","v":""},null,null,null,null,null,null,{"$f":"労働者に係る事項!N103&\"\"","v":""},null,null,null,null,null,null,{"$f":"IF(労働者に係る事項!O103=\"\",\"\",労働者に係る事項!O103)","v":""},null,null,null,null,null,null,null,null,null,null,null,null,null,null,null,null,null,null,{"$f":"IF(労働者に係る事項!P103=\"\",\"\",労働者に係る事項!P103)","v":""},null,null,null,null,null,null,null,null,null,null,null,null,null,{"$f":"IF(労働者に係る事項!Q103=\"\",\"\",労働者に係る事項!Q103)","v":""},null,null,null,null,null,null,null,null,null,null,null,null,null,null,null,null,null,null,null,{"$f":"労働者に係る事項!R103&\"\"","v":""},null,null,null,null,null,null,null,{"$f":"労働者に係る事項!S103&\"\"","v":""}]
[null,"65",null,null,{"$f":"労働者に係る事項!B104&\"\"","v":""},null,null,null,null,null,{"$f":"労働者に係る事項!C104&\"\"","v":""},null,null,null,null,null,null,null,null,null,null,null,null,null,null,null,null,null,null,null,null,null,null,null,null,null,null,null,null,null,{"$f":"労働者に係る事項!D104&\"\"","v":""},null,null,null,null,null,null,null,{"$f":"労働者に係る事項!E104&\"\"","v":""},null,null,null,null,null,null,null,null,null,null,null,null,null,null,null,null,null,null,null,null,null,null,null,null,null,null,null,{"$f":"労働者に係る事項!F104&\"\"","v":""},null,null,null,null,null,null,{"$f":"労働者に係る事項!G104&\"\"","v":""},null,null,null,null,null,{"$f":"労働者に係る事項!H104&\"\"","v":""},null,null,null,null,null,{"$f":"労働者に係る事項!I104&\"\"","v":""},null,null,null,null,null,null,{"$f":"労働者に係る事項!J104&\"\"","v":""},null,null,null,null,null,null,null,null,null,{"$f":"労働者に係る事項!K104&\"\"","v":""},null,null,null,null,null,null,null,null,null,null,null,null,null,null,null,null,{"$f":"労働者に係る事項!L104&\"\"","v":""},null,null,null,null,null,{"$f":"労働者に係る事項!M104&\"\"","v":""},null,null,null,null,null,null,{"$f":"労働者に係る事項!N104&\"\"","v":""},null,null,null,null,null,null,{"$f":"IF(労働者に係る事項!O104=\"\",\"\",労働者に係る事項!O104)","v":""},null,null,null,null,null,null,null,null,null,null,null,null,null,null,null,null,null,null,{"$f":"IF(労働者に係る事項!P104=\"\",\"\",労働者に係る事項!P104)","v":""},null,null,null,null,null,null,null,null,null,null,null,null,null,{"$f":"IF(労働者に係る事項!Q104=\"\",\"\",労働者に係る事項!Q104)","v":""},null,null,null,null,null,null,null,null,null,null,null,null,null,null,null,null,null,null,null,{"$f":"労働者に係る事項!R104&\"\"","v":""},null,null,null,null,null,null,null,{"$f":"労働者に係る事項!S104&\"\"","v":""}]
[null,"66",null,null,{"$f":"労働者に係る事項!B105&\"\"","v":""},null,null,null,null,null,{"$f":"労働者に係る事項!C105&\"\"","v":""},null,null,null,null,null,null,null,null,null,null,null,null,null,null,null,null,null,null,null,null,null,null,null,null,null,null,null,null,null,{"$f":"労働者に係る事項!D105&\"\"","v":""},null,null,null,null,null,null,null,{"$f":"労働者に係る事項!E105&\"\"","v":""},null,null,null,null,null,null,null,null,null,null,null,null,null,null,null,null,null,null,null,null,null,null,null,null,null,null,null,{"$f":"労働者に係る事項!F105&\"\"","v":""},null,null,null,null,null,null,{"$f":"労働者に係る事項!G105&\"\"","v":""},null,null,null,null,null,{"$f":"労働者に係る事項!H105&\"\"","v":""},null,null,null,null,null,{"$f":"労働者に係る事項!I105&\"\"","v":""},null,null,null,null,null,null,{"$f":"労働者に係る事項!J105&\"\"","v":""},null,null,null,null,null,null,null,null,null,{"$f":"労働者に係る事項!K105&\"\"","v":""},null,null,null,null,null,null,null,null,null,null,null,null,null,null,null,null,{"$f":"労働者に係る事項!L105&\"\"","v":""},null,null,null,null,null,{"$f":"労働者に係る事項!M105&\"\"","v":""},null,null,null,null,null,null,{"$f":"労働者に係る事項!N105&\"\"","v":""},null,null,null,null,null,null,{"$f":"IF(労働者に係る事項!O105=\"\",\"\",労働者に係る事項!O105)","v":""},null,null,null,null,null,null,null,null,null,null,null,null,null,null,null,null,null,null,{"$f":"IF(労働者に係る事項!P105=\"\",\"\",労働者に係る事項!P105)","v":""},null,null,null,null,null,null,null,null,null,null,null,null,null,{"$f":"IF(労働者に係る事項!Q105=\"\",\"\",労働者に係る事項!Q105)","v":""},null,null,null,null,null,null,null,null,null,null,null,null,null,null,null,null,null,null,null,{"$f":"労働者に係る事項!R105&\"\"","v":""},null,null,null,null,null,null,null,{"$f":"労働者に係る事項!S105&\"\"","v":""}]
[null,"67",null,null,{"$f":"労働者に係る事項!B106&\"\"","v":""},null,null,null,null,null,{"$f":"労働者に係る事項!C106&\"\"","v":""},null,null,null,null,null,null,null,null,null,null,null,null,null,null,null,null,null,null,null,null,null,null,null,null,null,null,null,null,null,{"$f":"労働者に係る事項!D106&\"\"","v":""},null,null,null,null,null,null,null,{"$f":"労働者に係る事項!E106&\"\"","v":""},null,null,null,null,null,null,null,null,null,null,null,null,null,null,null,null,null,null,null,null,null,null,null,null,null,null,null,{"$f":"労働者に係る事項!F106&\"\"","v":""},null,null,null,null,null,null,{"$f":"労働者に係る事項!G106&\"\"","v":""},null,null,null,null,null,{"$f":"労働者に係る事項!H106&\"\"","v":""},null,null,null,null,null,{"$f":"労働者に係る事項!I106&\"\"","v":""},null,null,null,null,null,null,{"$f":"労働者に係る事項!J106&\"\"","v":""},null,null,null,null,null,null,null,null,null,{"$f":"労働者に係る事項!K106&\"\"","v":""},null,null,null,null,null,null,null,null,null,null,null,null,null,null,null,null,{"$f":"労働者に係る事項!L106&\"\"","v":""},null,null,null,null,null,{"$f":"労働者に係る事項!M106&\"\"","v":""},null,null,null,null,null,null,{"$f":"労働者に係る事項!N106&\"\"","v":""},null,null,null,null,null,null,{"$f":"IF(労働者に係る事項!O106=\"\",\"\",労働者に係る事項!O106)","v":""},null,null,null,null,null,null,null,null,null,null,null,null,null,null,null,null,null,null,{"$f":"IF(労働者に係る事項!P106=\"\",\"\",労働者に係る事項!P106)","v":""},null,null,null,null,null,null,null,null,null,null,null,null,null,{"$f":"IF(労働者に係る事項!Q106=\"\",\"\",労働者に係る事項!Q106)","v":""},null,null,null,null,null,null,null,null,null,null,null,null,null,null,null,null,null,null,null,{"$f":"労働者に係る事項!R106&\"\"","v":""},null,null,null,null,null,null,null,{"$f":"労働者に係る事項!S106&\"\"","v":""}]
[null,"68",null,null,{"$f":"労働者に係る事項!B107&\"\"","v":""},null,null,null,null,null,{"$f":"労働者に係る事項!C107&\"\"","v":""},null,null,null,null,null,null,null,null,null,null,null,null,null,null,null,null,null,null,null,null,null,null,null,null,null,null,null,null,null,{"$f":"労働者に係る事項!D107&\"\"","v":""},null,null,null,null,null,null,null,{"$f":"労働者に係る事項!E107&\"\"","v":""},null,null,null,null,null,null,null,null,null,null,null,null,null,null,null,null,null,null,null,null,null,null,null,null,null,null,null,{"$f":"労働者に係る事項!F107&\"\"","v":""},null,null,null,null,null,null,{"$f":"労働者に係る事項!G107&\"\"","v":""},null,null,null,null,null,{"$f":"労働者に係る事項!H107&\"\"","v":""},null,null,null,null,null,{"$f":"労働者に係る事項!I107&\"\"","v":""},null,null,null,null,null,null,{"$f":"労働者に係る事項!J107&\"\"","v":""},null,null,null,null,null,null,null,null,null,{"$f":"労働者に係る事項!K107&\"\"","v":""},null,null,null,null,null,null,null,null,null,null,null,null,null,null,null,null,{"$f":"労働者に係る事項!L107&\"\"","v":""},null,null,null,null,null,{"$f":"労働者に係る事項!M107&\"\"","v":""},null,null,null,null,null,null,{"$f":"労働者に係る事項!N107&\"\"","v":""},null,null,null,null,null,null,{"$f":"IF(労働者に係る事項!O107=\"\",\"\",労働者に係る事項!O107)","v":""},null,null,null,null,null,null,null,null,null,null,null,null,null,null,null,null,null,null,{"$f":"IF(労働者に係る事項!P107=\"\",\"\",労働者に係る事項!P107)","v":""},null,null,null,null,null,null,null,null,null,null,null,null,null,{"$f":"IF(労働者に係る事項!Q107=\"\",\"\",労働者に係る事項!Q107)","v":""},null,null,null,null,null,null,null,null,null,null,null,null,null,null,null,null,null,null,null,{"$f":"労働者に係る事項!R107&\"\"","v":""},null,null,null,null,null,null,null,{"$f":"労働者に係る事項!S107&\"\"","v":""}]
[null,"69",null,null,{"$f":"労働者に係る事項!B108&\"\"","v":""},null,null,null,null,null,{"$f":"労働者に係る事項!C108&\"\"","v":""},null,null,null,null,null,null,null,null,null,null,null,null,null,null,null,null,null,null,null,null,null,null,null,null,null,null,null,null,null,{"$f":"労働者に係る事項!D108&\"\"","v":""},null,null,null,null,null,null,null,{"$f":"労働者に係る事項!E108&\"\"","v":""},null,null,null,null,null,null,null,null,null,null,null,null,null,null,null,null,null,null,null,null,null,null,null,null,null,null,null,{"$f":"労働者に係る事項!F108&\"\"","v":""},null,null,null,null,null,null,{"$f":"労働者に係る事項!G108&\"\"","v":""},null,null,null,null,null,{"$f":"労働者に係る事項!H108&\"\"","v":""},null,null,null,null,null,{"$f":"労働者に係る事項!I108&\"\"","v":""},null,null,null,null,null,null,{"$f":"労働者に係る事項!J108&\"\"","v":""},null,null,null,null,null,null,null,null,null,{"$f":"労働者に係る事項!K108&\"\"","v":""},null,null,null,null,null,null,null,null,null,null,null,null,null,null,null,null,{"$f":"労働者に係る事項!L108&\"\"","v":""},null,null,null,null,null,{"$f":"労働者に係る事項!M108&\"\"","v":""},null,null,null,null,null,null,{"$f":"労働者に係る事項!N108&\"\"","v":""},null,null,null,null,null,null,{"$f":"IF(労働者に係る事項!O108=\"\",\"\",労働者に係る事項!O108)","v":""},null,null,null,null,null,null,null,null,null,null,null,null,null,null,null,null,null,null,{"$f":"IF(労働者に係る事項!P108=\"\",\"\",労働者に係る事項!P108)","v":""},null,null,null,null,null,null,null,null,null,null,null,null,null,{"$f":"IF(労働者に係る事項!Q108=\"\",\"\",労働者に係る事項!Q108)","v":""},null,null,null,null,null,null,null,null,null,null,null,null,null,null,null,null,null,null,null,{"$f":"労働者に係る事項!R108&\"\"","v":""},null,null,null,null,null,null,null,{"$f":"労働者に係る事項!S108&\"\"","v":""}]
[null,"70",null,null,{"$f":"労働者に係る事項!B109&\"\"","v":""},null,null,null,null,null,{"$f":"労働者に係る事項!C109&\"\"","v":""},null,null,null,null,null,null,null,null,null,null,null,null,null,null,null,null,null,null,null,null,null,null,null,null,null,null,null,null,null,{"$f":"労働者に係る事項!D109&\"\"","v":""},null,null,null,null,null,null,null,{"$f":"労働者に係る事項!E109&\"\"","v":""},null,null,null,null,null,null,null,null,null,null,null,null,null,null,null,null,null,null,null,null,null,null,null,null,null,null,null,{"$f":"労働者に係る事項!F109&\"\"","v":""},null,null,null,null,null,null,{"$f":"労働者に係る事項!G109&\"\"","v":""},null,null,null,null,null,{"$f":"労働者に係る事項!H109&\"\"","v":""},null,null,null,null,null,{"$f":"労働者に係る事項!I109&\"\"","v":""},null,null,null,null,null,null,{"$f":"労働者に係る事項!J109&\"\"","v":""},null,null,null,null,null,null,null,null,null,{"$f":"労働者に係る事項!K109&\"\"","v":""},null,null,null,null,null,null,null,null,null,null,null,null,null,null,null,null,{"$f":"労働者に係る事項!L109&\"\"","v":""},null,null,null,null,null,{"$f":"労働者に係る事項!M109&\"\"","v":""},null,null,null,null,null,null,{"$f":"労働者に係る事項!N109&\"\"","v":""},null,null,null,null,null,null,{"$f":"IF(労働者に係る事項!O109=\"\",\"\",労働者に係る事項!O109)","v":""},null,null,null,null,null,null,null,null,null,null,null,null,null,null,null,null,null,null,{"$f":"IF(労働者に係る事項!P109=\"\",\"\",労働者に係る事項!P109)","v":""},null,null,null,null,null,null,null,null,null,null,null,null,null,{"$f":"IF(労働者に係る事項!Q109=\"\",\"\",労働者に係る事項!Q109)","v":""},null,null,null,null,null,null,null,null,null,null,null,null,null,null,null,null,null,null,null,{"$f":"労働者に係る事項!R109&\"\"","v":""},null,null,null,null,null,null,null,{"$f":"労働者に係る事項!S109&\"\"","v":""}]
[null,"71",null,null,{"$f":"労働者に係る事項!B110&\"\"","v":""},null,null,null,null,null,{"$f":"労働者に係る事項!C110&\"\"","v":""},null,null,null,null,null,null,null,null,null,null,null,null,null,null,null,null,null,null,null,null,null,null,null,null,null,null,null,null,null,{"$f":"労働者に係る事項!D110&\"\"","v":""},null,null,null,null,null,null,null,{"$f":"労働者に係る事項!E110&\"\"","v":""},null,null,null,null,null,null,null,null,null,null,null,null,null,null,null,null,null,null,null,null,null,null,null,null,null,null,null,{"$f":"労働者に係る事項!F110&\"\"","v":""},null,null,null,null,null,null,{"$f":"労働者に係る事項!G110&\"\"","v":""},null,null,null,null,null,{"$f":"労働者に係る事項!H110&\"\"","v":""},null,null,null,null,null,{"$f":"労働者に係る事項!I110&\"\"","v":""},null,null,null,null,null,null,{"$f":"労働者に係る事項!J110&\"\"","v":""},null,null,null,null,null,null,null,null,null,{"$f":"労働者に係る事項!K110&\"\"","v":""},null,null,null,null,null,null,null,null,null,null,null,null,null,null,null,null,{"$f":"労働者に係る事項!L110&\"\"","v":""},null,null,null,null,null,{"$f":"労働者に係る事項!M110&\"\"","v":""},null,null,null,null,null,null,{"$f":"労働者に係る事項!N110&\"\"","v":""},null,null,null,null,null,null,{"$f":"IF(労働者に係る事項!O110=\"\",\"\",労働者に係る事項!O110)","v":""},null,null,null,null,null,null,null,null,null,null,null,null,null,null,null,null,null,null,{"$f":"IF(労働者に係る事項!P110=\"\",\"\",労働者に係る事項!P110)","v":""},null,null,null,null,null,null,null,null,null,null,null,null,null,{"$f":"IF(労働者に係る事項!Q110=\"\",\"\",労働者に係る事項!Q110)","v":""},null,null,null,null,null,null,null,null,null,null,null,null,null,null,null,null,null,null,null,{"$f":"労働者に係る事項!R110&\"\"","v":""},null,null,null,null,null,null,null,{"$f":"労働者に係る事項!S110&\"\"","v":""}]
[null,"72",null,null,{"$f":"労働者に係る事項!B111&\"\"","v":""},null,null,null,null,null,{"$f":"労働者に係る事項!C111&\"\"","v":""},null,null,null,null,null,null,null,null,null,null,null,null,null,null,null,null,null,null,null,null,null,null,null,null,null,null,null,null,null,{"$f":"労働者に係る事項!D111&\"\"","v":""},null,null,null,null,null,null,null,{"$f":"労働者に係る事項!E111&\"\"","v":""},null,null,null,null,null,null,null,null,null,null,null,null,null,null,null,null,null,null,null,null,null,null,null,null,null,null,null,{"$f":"労働者に係る事項!F111&\"\"","v":""},null,null,null,null,null,null,{"$f":"労働者に係る事項!G111&\"\"","v":""},null,null,null,null,null,{"$f":"労働者に係る事項!H111&\"\"","v":""},null,null,null,null,null,{"$f":"労働者に係る事項!I111&\"\"","v":""},null,null,null,null,null,null,{"$f":"労働者に係る事項!J111&\"\"","v":""},null,null,null,null,null,null,null,null,null,{"$f":"労働者に係る事項!K111&\"\"","v":""},null,null,null,null,null,null,null,null,null,null,null,null,null,null,null,null,{"$f":"労働者に係る事項!L111&\"\"","v":""},null,null,null,null,null,{"$f":"労働者に係る事項!M111&\"\"","v":""},null,null,null,null,null,null,{"$f":"労働者に係る事項!N111&\"\"","v":""},null,null,null,null,null,null,{"$f":"IF(労働者に係る事項!O111=\"\",\"\",労働者に係る事項!O111)","v":""},null,null,null,null,null,null,null,null,null,null,null,null,null,null,null,null,null,null,{"$f":"IF(労働者に係る事項!P111=\"\",\"\",労働者に係る事項!P111)","v":""},null,null,null,null,null,null,null,null,null,null,null,null,null,{"$f":"IF(労働者に係る事項!Q111=\"\",\"\",労働者に係る事項!Q111)","v":""},null,null,null,null,null,null,null,null,null,null,null,null,null,null,null,null,null,null,null,{"$f":"労働者に係る事項!R111&\"\"","v":""},null,null,null,null,null,null,null,{"$f":"労働者に係る事項!S111&\"\"","v":""}]
[null,"73",null,null,{"$f":"労働者に係る事項!B112&\"\"","v":""},null,null,null,null,null,{"$f":"労働者に係る事項!C112&\"\"","v":""},null,null,null,null,null,null,null,null,null,null,null,null,null,null,null,null,null,null,null,null,null,null,null,null,null,null,null,null,null,{"$f":"労働者に係る事項!D112&\"\"","v":""},null,null,null,null,null,null,null,{"$f":"労働者に係る事項!E112&\"\"","v":""},null,null,null,null,null,null,null,null,null,null,null,null,null,null,null,null,null,null,null,null,null,null,null,null,null,null,null,{"$f":"労働者に係る事項!F112&\"\"","v":""},null,null,null,null,null,null,{"$f":"労働者に係る事項!G112&\"\"","v":""},null,null,null,null,null,{"$f":"労働者に係る事項!H112&\"\"","v":""},null,null,null,null,null,{"$f":"労働者に係る事項!I112&\"\"","v":""},null,null,null,null,null,null,{"$f":"労働者に係る事項!J112&\"\"","v":""},null,null,null,null,null,null,null,null,null,{"$f":"労働者に係る事項!K112&\"\"","v":""},null,null,null,null,null,null,null,null,null,null,null,null,null,null,null,null,{"$f":"労働者に係る事項!L112&\"\"","v":""},null,null,null,null,null,{"$f":"労働者に係る事項!M112&\"\"","v":""},null,null,null,null,null,null,{"$f":"労働者に係る事項!N112&\"\"","v":""},null,null,null,null,null,null,{"$f":"IF(労働者に係る事項!O112=\"\",\"\",労働者に係る事項!O112)","v":""},null,null,null,null,null,null,null,null,null,null,null,null,null,null,null,null,null,null,{"$f":"IF(労働者に係る事項!P112=\"\",\"\",労働者に係る事項!P112)","v":""},null,null,null,null,null,null,null,null,null,null,null,null,null,{"$f":"IF(労働者に係る事項!Q112=\"\",\"\",労働者に係る事項!Q112)","v":""},null,null,null,null,null,null,null,null,null,null,null,null,null,null,null,null,null,null,null,{"$f":"労働者に係る事項!R112&\"\"","v":""},null,null,null,null,null,null,null,{"$f":"労働者に係る事項!S112&\"\"","v":""}]
[null,"74",null,null,{"$f":"労働者に係る事項!B113&\"\"","v":""},null,null,null,null,null,{"$f":"労働者に係る事項!C113&\"\"","v":""},null,null,null,null,null,null,null,null,null,null,null,null,null,null,null,null,null,null,null,null,null,null,null,null,null,null,null,null,null,{"$f":"労働者に係る事項!D113&\"\"","v":""},null,null,null,null,null,null,null,{"$f":"労働者に係る事項!E113&\"\"","v":""},null,null,null,null,null,null,null,null,null,null,null,null,null,null,null,null,null,null,null,null,null,null,null,null,null,null,null,{"$f":"労働者に係る事項!F113&\"\"","v":""},null,null,null,null,null,null,{"$f":"労働者に係る事項!G113&\"\"","v":""},null,null,null,null,null,{"$f":"労働者に係る事項!H113&\"\"","v":""},null,null,null,null,null,{"$f":"労働者に係る事項!I113&\"\"","v":""},null,null,null,null,null,null,{"$f":"労働者に係る事項!J113&\"\"","v":""},null,null,null,null,null,null,null,null,null,{"$f":"労働者に係る事項!K113&\"\"","v":""},null,null,null,null,null,null,null,null,null,null,null,null,null,null,null,null,{"$f":"労働者に係る事項!L113&\"\"","v":""},null,null,null,null,null,{"$f":"労働者に係る事項!M113&\"\"","v":""},null,null,null,null,null,null,{"$f":"労働者に係る事項!N113&\"\"","v":""},null,null,null,null,null,null,{"$f":"IF(労働者に係る事項!O113=\"\",\"\",労働者に係る事項!O113)","v":""},null,null,null,null,null,null,null,null,null,null,null,null,null,null,null,null,null,null,{"$f":"IF(労働者に係る事項!P113=\"\",\"\",労働者に係る事項!P113)","v":""},null,null,null,null,null,null,null,null,null,null,null,null,null,{"$f":"IF(労働者に係る事項!Q113=\"\",\"\",労働者に係る事項!Q113)","v":""},null,null,null,null,null,null,null,null,null,null,null,null,null,null,null,null,null,null,null,{"$f":"労働者に係る事項!R113&\"\"","v":""},null,null,null,null,null,null,null,{"$f":"労働者に係る事項!S113&\"\"","v":""}]
[null,"75",null,null,{"$f":"労働者に係る事項!B114&\"\"","v":""},null,null,null,null,null,{"$f":"労働者に係る事項!C114&\"\"","v":""},null,null,null,null,null,null,null,null,null,null,null,null,null,null,null,null,null,null,null,null,null,null,null,null,null,null,null,null,null,{"$f":"労働者に係る事項!D114&\"\"","v":""},null,null,null,null,null,null,null,{"$f":"労働者に係る事項!E114&\"\"","v":""},null,null,null,null,null,null,null,null,null,null,null,null,null,null,null,null,null,null,null,null,null,null,null,null,null,null,null,{"$f":"労働者に係る事項!F114&\"\"","v":""},null,null,null,null,null,null,{"$f":"労働者に係る事項!G114&\"\"","v":""},null,null,null,null,null,{"$f":"労働者に係る事項!H114&\"\"","v":""},null,null,null,null,null,{"$f":"労働者に係る事項!I114&\"\"","v":""},null,null,null,null,null,null,{"$f":"労働者に係る事項!J114&\"\"","v":""},null,null,null,null,null,null,null,null,null,{"$f":"労働者に係る事項!K114&\"\"","v":""},null,null,null,null,null,null,null,null,null,null,null,null,null,null,null,null,{"$f":"労働者に係る事項!L114&\"\"","v":""},null,null,null,null,null,{"$f":"労働者に係る事項!M114&\"\"","v":""},null,null,null,null,null,null,{"$f":"労働者に係る事項!N114&\"\"","v":""},null,null,null,null,null,null,{"$f":"IF(労働者に係る事項!O114=\"\",\"\",労働者に係る事項!O114)","v":""},null,null,null,null,null,null,null,null,null,null,null,null,null,null,null,null,null,null,{"$f":"IF(労働者に係る事項!P114=\"\",\"\",労働者に係る事項!P114)","v":""},null,null,null,null,null,null,null,null,null,null,null,null,null,{"$f":"IF(労働者に係る事項!Q114=\"\",\"\",労働者に係る事項!Q114)","v":""},null,null,null,null,null,null,null,null,null,null,null,null,null,null,null,null,null,null,null,{"$f":"労働者に係る事項!R114&\"\"","v":""},null,null,null,null,null,null,null,{"$f":"労働者に係る事項!S114&\"\"","v":""}]
[null,"76",null,null,{"$f":"労働者に係る事項!B115&\"\"","v":""},null,null,null,null,null,{"$f":"労働者に係る事項!C115&\"\"","v":""},null,null,null,null,null,null,null,null,null,null,null,null,null,null,null,null,null,null,null,null,null,null,null,null,null,null,null,null,null,{"$f":"労働者に係る事項!D115&\"\"","v":""},null,null,null,null,null,null,null,{"$f":"労働者に係る事項!E115&\"\"","v":""},null,null,null,null,null,null,null,null,null,null,null,null,null,null,null,null,null,null,null,null,null,null,null,null,null,null,null,{"$f":"労働者に係る事項!F115&\"\"","v":""},null,null,null,null,null,null,{"$f":"労働者に係る事項!G115&\"\"","v":""},null,null,null,null,null,{"$f":"労働者に係る事項!H115&\"\"","v":""},null,null,null,null,null,{"$f":"労働者に係る事項!I115&\"\"","v":""},null,null,null,null,null,null,{"$f":"労働者に係る事項!J115&\"\"","v":""},null,null,null,null,null,null,null,null,null,{"$f":"労働者に係る事項!K115&\"\"","v":""},null,null,null,null,null,null,null,null,null,null,null,null,null,null,null,null,{"$f":"労働者に係る事項!L115&\"\"","v":""},null,null,null,null,null,{"$f":"労働者に係る事項!M115&\"\"","v":""},null,null,null,null,null,null,{"$f":"労働者に係る事項!N115&\"\"","v":""},null,null,null,null,null,null,{"$f":"IF(労働者に係る事項!O115=\"\",\"\",労働者に係る事項!O115)","v":""},null,null,null,null,null,null,null,null,null,null,null,null,null,null,null,null,null,null,{"$f":"IF(労働者に係る事項!P115=\"\",\"\",労働者に係る事項!P115)","v":""},null,null,null,null,null,null,null,null,null,null,null,null,null,{"$f":"IF(労働者に係る事項!Q115=\"\",\"\",労働者に係る事項!Q115)","v":""},null,null,null,null,null,null,null,null,null,null,null,null,null,null,null,null,null,null,null,{"$f":"労働者に係る事項!R115&\"\"","v":""},null,null,null,null,null,null,null,{"$f":"労働者に係る事項!S115&\"\"","v":""}]
[null,"77",null,null,{"$f":"労働者に係る事項!B116&\"\"","v":""},null,null,null,null,null,{"$f":"労働者に係る事項!C116&\"\"","v":""},null,null,null,null,null,null,null,null,null,null,null,null,null,null,null,null,null,null,null,null,null,null,null,null,null,null,null,null,null,{"$f":"労働者に係る事項!D116&\"\"","v":""},null,null,null,null,null,null,null,{"$f":"労働者に係る事項!E116&\"\"","v":""},null,null,null,null,null,null,null,null,null,null,null,null,null,null,null,null,null,null,null,null,null,null,null,null,null,null,null,{"$f":"労働者に係る事項!F116&\"\"","v":""},null,null,null,null,null,null,{"$f":"労働者に係る事項!G116&\"\"","v":""},null,null,null,null,null,{"$f":"労働者に係る事項!H116&\"\"","v":""},null,null,null,null,null,{"$f":"労働者に係る事項!I116&\"\"","v":""},null,null,null,null,null,null,{"$f":"労働者に係る事項!J116&\"\"","v":""},null,null,null,null,null,null,null,null,null,{"$f":"労働者に係る事項!K116&\"\"","v":""},null,null,null,null,null,null,null,null,null,null,null,null,null,null,null,null,{"$f":"労働者に係る事項!L116&\"\"","v":""},null,null,null,null,null,{"$f":"労働者に係る事項!M116&\"\"","v":""},null,null,null,null,null,null,{"$f":"労働者に係る事項!N116&\"\"","v":""},null,null,null,null,null,null,{"$f":"IF(労働者に係る事項!O116=\"\",\"\",労働者に係る事項!O116)","v":""},null,null,null,null,null,null,null,null,null,null,null,null,null,null,null,null,null,null,{"$f":"IF(労働者に係る事項!P116=\"\",\"\",労働者に係る事項!P116)","v":""},null,null,null,null,null,null,null,null,null,null,null,null,null,{"$f":"IF(労働者に係る事項!Q116=\"\",\"\",労働者に係る事項!Q116)","v":""},null,null,null,null,null,null,null,null,null,null,null,null,null,null,null,null,null,null,null,{"$f":"労働者に係る事項!R116&\"\"","v":""},null,null,null,null,null,null,null,{"$f":"労働者に係る事項!S116&\"\"","v":""}]
[null,"78",null,null,{"$f":"労働者に係る事項!B117&\"\"","v":""},null,null,null,null,null,{"$f":"労働者に係る事項!C117&\"\"","v":""},null,null,null,null,null,null,null,null,null,null,null,null,null,null,null,null,null,null,null,null,null,null,null,null,null,null,null,null,null,{"$f":"労働者に係る事項!D117&\"\"","v":""},null,null,null,null,null,null,null,{"$f":"労働者に係る事項!E117&\"\"","v":""},null,null,null,null,null,null,null,null,null,null,null,null,null,null,null,null,null,null,null,null,null,null,null,null,null,null,null,{"$f":"労働者に係る事項!F117&\"\"","v":""},null,null,null,null,null,null,{"$f":"労働者に係る事項!G117&\"\"","v":""},null,null,null,null,null,{"$f":"労働者に係る事項!H117&\"\"","v":""},null,null,null,null,null,{"$f":"労働者に係る事項!I117&\"\"","v":""},null,null,null,null,null,null,{"$f":"労働者に係る事項!J117&\"\"","v":""},null,null,null,null,null,null,null,null,null,{"$f":"労働者に係る事項!K117&\"\"","v":""},null,null,null,null,null,null,null,null,null,null,null,null,null,null,null,null,{"$f":"労働者に係る事項!L117&\"\"","v":""},null,null,null,null,null,{"$f":"労働者に係る事項!M117&\"\"","v":""},null,null,null,null,null,null,{"$f":"労働者に係る事項!N117&\"\"","v":""},null,null,null,null,null,null,{"$f":"IF(労働者に係る事項!O117=\"\",\"\",労働者に係る事項!O117)","v":""},null,null,null,null,null,null,null,null,null,null,null,null,null,null,null,null,null,null,{"$f":"IF(労働者に係る事項!P117=\"\",\"\",労働者に係る事項!P117)","v":""},null,null,null,null,null,null,null,null,null,null,null,null,null,{"$f":"IF(労働者に係る事項!Q117=\"\",\"\",労働者に係る事項!Q117)","v":""},null,null,null,null,null,null,null,null,null,null,null,null,null,null,null,null,null,null,null,{"$f":"労働者に係る事項!R117&\"\"","v":""},null,null,null,null,null,null,null,{"$f":"労働者に係る事項!S117&\"\"","v":""}]
[null,"79",null,null,{"$f":"労働者に係る事項!B118&\"\"","v":""},null,null,null,null,null,{"$f":"労働者に係る事項!C118&\"\"","v":""},null,null,null,null,null,null,null,null,null,null,null,null,null,null,null,null,null,null,null,null,null,null,null,null,null,null,null,null,null,{"$f":"労働者に係る事項!D118&\"\"","v":""},null,null,null,null,null,null,null,{"$f":"労働者に係る事項!E118&\"\"","v":""},null,null,null,null,null,null,null,null,null,null,null,null,null,null,null,null,null,null,null,null,null,null,null,null,null,null,null,{"$f":"労働者に係る事項!F118&\"\"","v":""},null,null,null,null,null,null,{"$f":"労働者に係る事項!G118&\"\"","v":""},null,null,null,null,null,{"$f":"労働者に係る事項!H118&\"\"","v":""},null,null,null,null,null,{"$f":"労働者に係る事項!I118&\"\"","v":""},null,null,null,null,null,null,{"$f":"労働者に係る事項!J118&\"\"","v":""},null,null,null,null,null,null,null,null,null,{"$f":"労働者に係る事項!K118&\"\"","v":""},null,null,null,null,null,null,null,null,null,null,null,null,null,null,null,null,{"$f":"労働者に係る事項!L118&\"\"","v":""},null,null,null,null,null,{"$f":"労働者に係る事項!M118&\"\"","v":""},null,null,null,null,null,null,{"$f":"労働者に係る事項!N118&\"\"","v":""},null,null,null,null,null,null,{"$f":"IF(労働者に係る事項!O118=\"\",\"\",労働者に係る事項!O118)","v":""},null,null,null,null,null,null,null,null,null,null,null,null,null,null,null,null,null,null,{"$f":"IF(労働者に係る事項!P118=\"\",\"\",労働者に係る事項!P118)","v":""},null,null,null,null,null,null,null,null,null,null,null,null,null,{"$f":"IF(労働者に係る事項!Q118=\"\",\"\",労働者に係る事項!Q118)","v":""},null,null,null,null,null,null,null,null,null,null,null,null,null,null,null,null,null,null,null,{"$f":"労働者に係る事項!R118&\"\"","v":""},null,null,null,null,null,null,null,{"$f":"労働者に係る事項!S118&\"\"","v":""}]
[null,"80",null,null,{"$f":"労働者に係る事項!B119&\"\"","v":""},null,null,null,null,null,{"$f":"労働者に係る事項!C119&\"\"","v":""},null,null,null,null,null,null,null,null,null,null,null,null,null,null,null,null,null,null,null,null,null,null,null,null,null,null,null,null,null,{"$f":"労働者に係る事項!D119&\"\"","v":""},null,null,null,null,null,null,null,{"$f":"労働者に係る事項!E119&\"\"","v":""},null,null,null,null,null,null,null,null,null,null,null,null,null,null,null,null,null,null,null,null,null,null,null,null,null,null,null,{"$f":"労働者に係る事項!F119&\"\"","v":""},null,null,null,null,null,null,{"$f":"労働者に係る事項!G119&\"\"","v":""},null,null,null,null,null,{"$f":"労働者に係る事項!H119&\"\"","v":""},null,null,null,null,null,{"$f":"労働者に係る事項!I119&\"\"","v":""},null,null,null,null,null,null,{"$f":"労働者に係る事項!J119&\"\"","v":""},null,null,null,null,null,null,null,null,null,{"$f":"労働者に係る事項!K119&\"\"","v":""},null,null,null,null,null,null,null,null,null,null,null,null,null,null,null,null,{"$f":"労働者に係る事項!L119&\"\"","v":""},null,null,null,null,null,{"$f":"労働者に係る事項!M119&\"\"","v":""},null,null,null,null,null,null,{"$f":"労働者に係る事項!N119&\"\"","v":""},null,null,null,null,null,null,{"$f":"IF(労働者に係る事項!O119=\"\",\"\",労働者に係る事項!O119)","v":""},null,null,null,null,null,null,null,null,null,null,null,null,null,null,null,null,null,null,{"$f":"IF(労働者に係る事項!P119=\"\",\"\",労働者に係る事項!P119)","v":""},null,null,null,null,null,null,null,null,null,null,null,null,null,{"$f":"IF(労働者に係る事項!Q119=\"\",\"\",労働者に係る事項!Q119)","v":""},null,null,null,null,null,null,null,null,null,null,null,null,null,null,null,null,null,null,null,{"$f":"労働者に係る事項!R119&\"\"","v":""},null,null,null,null,null,null,null,{"$f":"労働者に係る事項!S119&\"\"","v":""}]
[null,"81",null,null,{"$f":"労働者に係る事項!B120&\"\"","v":""},null,null,null,null,null,{"$f":"労働者に係る事項!C120&\"\"","v":""},null,null,null,null,null,null,null,null,null,null,null,null,null,null,null,null,null,null,null,null,null,null,null,null,null,null,null,null,null,{"$f":"労働者に係る事項!D120&\"\"","v":""},null,null,null,null,null,null,null,{"$f":"労働者に係る事項!E120&\"\"","v":""},null,null,null,null,null,null,null,null,null,null,null,null,null,null,null,null,null,null,null,null,null,null,null,null,null,null,null,{"$f":"労働者に係る事項!F120&\"\"","v":""},null,null,null,null,null,null,{"$f":"労働者に係る事項!G120&\"\"","v":""},null,null,null,null,null,{"$f":"労働者に係る事項!H120&\"\"","v":""},null,null,null,null,null,{"$f":"労働者に係る事項!I120&\"\"","v":""},null,null,null,null,null,null,{"$f":"労働者に係る事項!J120&\"\"","v":""},null,null,null,null,null,null,null,null,null,{"$f":"労働者に係る事項!K120&\"\"","v":""},null,null,null,null,null,null,null,null,null,null,null,null,null,null,null,null,{"$f":"労働者に係る事項!L120&\"\"","v":""},null,null,null,null,null,{"$f":"労働者に係る事項!M120&\"\"","v":""},null,null,null,null,null,null,{"$f":"労働者に係る事項!N120&\"\"","v":""},null,null,null,null,null,null,{"$f":"IF(労働者に係る事項!O120=\"\",\"\",労働者に係る事項!O120)","v":""},null,null,null,null,null,null,null,null,null,null,null,null,null,null,null,null,null,null,{"$f":"IF(労働者に係る事項!P120=\"\",\"\",労働者に係る事項!P120)","v":""},null,null,null,null,null,null,null,null,null,null,null,null,null,{"$f":"IF(労働者に係る事項!Q120=\"\",\"\",労働者に係る事項!Q120)","v":""},null,null,null,null,null,null,null,null,null,null,null,null,null,null,null,null,null,null,null,{"$f":"労働者に係る事項!R120&\"\"","v":""},null,null,null,null,null,null,null,{"$f":"労働者に係る事項!S120&\"\"","v":""}]
[null,"82",null,null,{"$f":"労働者に係る事項!B121&\"\"","v":""},null,null,null,null,null,{"$f":"労働者に係る事項!C121&\"\"","v":""},null,null,null,null,null,null,null,null,null,null,null,null,null,null,null,null,null,null,null,null,null,null,null,null,null,null,null,null,null,{"$f":"労働者に係る事項!D121&\"\"","v":""},null,null,null,null,null,null,null,{"$f":"労働者に係る事項!E121&\"\"","v":""},null,null,null,null,null,null,null,null,null,null,null,null,null,null,null,null,null,null,null,null,null,null,null,null,null,null,null,{"$f":"労働者に係る事項!F121&\"\"","v":""},null,null,null,null,null,null,{"$f":"労働者に係る事項!G121&\"\"","v":""},null,null,null,null,null,{"$f":"労働者に係る事項!H121&\"\"","v":""},null,null,null,null,null,{"$f":"労働者に係る事項!I121&\"\"","v":""},null,null,null,null,null,null,{"$f":"労働者に係る事項!J121&\"\"","v":""},null,null,null,null,null,null,null,null,null,{"$f":"労働者に係る事項!K121&\"\"","v":""},null,null,null,null,null,null,null,null,null,null,null,null,null,null,null,null,{"$f":"労働者に係る事項!L121&\"\"","v":""},null,null,null,null,null,{"$f":"労働者に係る事項!M121&\"\"","v":""},null,null,null,null,null,null,{"$f":"労働者に係る事項!N121&\"\"","v":""},null,null,null,null,null,null,{"$f":"IF(労働者に係る事項!O121=\"\",\"\",労働者に係る事項!O121)","v":""},null,null,null,null,null,null,null,null,null,null,null,null,null,null,null,null,null,null,{"$f":"IF(労働者に係る事項!P121=\"\",\"\",労働者に係る事項!P121)","v":""},null,null,null,null,null,null,null,null,null,null,null,null,null,{"$f":"IF(労働者に係る事項!Q121=\"\",\"\",労働者に係る事項!Q121)","v":""},null,null,null,null,null,null,null,null,null,null,null,null,null,null,null,null,null,null,null,{"$f":"労働者に係る事項!R121&\"\"","v":""},null,null,null,null,null,null,null,{"$f":"労働者に係る事項!S121&\"\"","v":""}]
[null,"83",null,null,{"$f":"労働者に係る事項!B122&\"\"","v":""},null,null,null,null,null,{"$f":"労働者に係る事項!C122&\"\"","v":""},null,null,null,null,null,null,null,null,null,null,null,null,null,null,null,null,null,null,null,null,null,null,null,null,null,null,null,null,null,{"$f":"労働者に係る事項!D122&\"\"","v":""},null,null,null,null,null,null,null,{"$f":"労働者に係る事項!E122&\"\"","v":""},null,null,null,null,null,null,null,null,null,null,null,null,null,null,null,null,null,null,null,null,null,null,null,null,null,null,null,{"$f":"労働者に係る事項!F122&\"\"","v":""},null,null,null,null,null,null,{"$f":"労働者に係る事項!G122&\"\"","v":""},null,null,null,null,null,{"$f":"労働者に係る事項!H122&\"\"","v":""},null,null,null,null,null,{"$f":"労働者に係る事項!I122&\"\"","v":""},null,null,null,null,null,null,{"$f":"労働者に係る事項!J122&\"\"","v":""},null,null,null,null,null,null,null,null,null,{"$f":"労働者に係る事項!K122&\"\"","v":""},null,null,null,null,null,null,null,null,null,null,null,null,null,null,null,null,{"$f":"労働者に係る事項!L122&\"\"","v":""},null,null,null,null,null,{"$f":"労働者に係る事項!M122&\"\"","v":""},null,null,null,null,null,null,{"$f":"労働者に係る事項!N122&\"\"","v":""},null,null,null,null,null,null,{"$f":"IF(労働者に係る事項!O122=\"\",\"\",労働者に係る事項!O122)","v":""},null,null,null,null,null,null,null,null,null,null,null,null,null,null,null,null,null,null,{"$f":"IF(労働者に係る事項!P122=\"\",\"\",労働者に係る事項!P122)","v":""},null,null,null,null,null,null,null,null,null,null,null,null,null,{"$f":"IF(労働者に係る事項!Q122=\"\",\"\",労働者に係る事項!Q122)","v":""},null,null,null,null,null,null,null,null,null,null,null,null,null,null,null,null,null,null,null,{"$f":"労働者に係る事項!R122&\"\"","v":""},null,null,null,null,null,null,null,{"$f":"労働者に係る事項!S122&\"\"","v":""}]
[null,"84",null,null,{"$f":"労働者に係る事項!B123&\"\"","v":""},null,null,null,null,null,{"$f":"労働者に係る事項!C123&\"\"","v":""},null,null,null,null,null,null,null,null,null,null,null,null,null,null,null,null,null,null,null,null,null,null,null,null,null,null,null,null,null,{"$f":"労働者に係る事項!D123&\"\"","v":""},null,null,null,null,null,null,null,{"$f":"労働者に係る事項!E123&\"\"","v":""},null,null,null,null,null,null,null,null,null,null,null,null,null,null,null,null,null,null,null,null,null,null,null,null,null,null,null,{"$f":"労働者に係る事項!F123&\"\"","v":""},null,null,null,null,null,null,{"$f":"労働者に係る事項!G123&\"\"","v":""},null,null,null,null,null,{"$f":"労働者に係る事項!H123&\"\"","v":""},null,null,null,null,null,{"$f":"労働者に係る事項!I123&\"\"","v":""},null,null,null,null,null,null,{"$f":"労働者に係る事項!J123&\"\"","v":""},null,null,null,null,null,null,null,null,null,{"$f":"労働者に係る事項!K123&\"\"","v":""},null,null,null,null,null,null,null,null,null,null,null,null,null,null,null,null,{"$f":"労働者に係る事項!L123&\"\"","v":""},null,null,null,null,null,{"$f":"労働者に係る事項!M123&\"\"","v":""},null,null,null,null,null,null,{"$f":"労働者に係る事項!N123&\"\"","v":""},null,null,null,null,null,null,{"$f":"IF(労働者に係る事項!O123=\"\",\"\",労働者に係る事項!O123)","v":""},null,null,null,null,null,null,null,null,null,null,null,null,null,null,null,null,null,null,{"$f":"IF(労働者に係る事項!P123=\"\",\"\",労働者に係る事項!P123)","v":""},null,null,null,null,null,null,null,null,null,null,null,null,null,{"$f":"IF(労働者に係る事項!Q123=\"\",\"\",労働者に係る事項!Q123)","v":""},null,null,null,null,null,null,null,null,null,null,null,null,null,null,null,null,null,null,null,{"$f":"労働者に係る事項!R123&\"\"","v":""},null,null,null,null,null,null,null,{"$f":"労働者に係る事項!S123&\"\"","v":""}]
[null,"85",null,null,{"$f":"労働者に係る事項!B124&\"\"","v":""},null,null,null,null,null,{"$f":"労働者に係る事項!C124&\"\"","v":""},null,null,null,null,null,null,null,null,null,null,null,null,null,null,null,null,null,null,null,null,null,null,null,null,null,null,null,null,null,{"$f":"労働者に係る事項!D124&\"\"","v":""},null,null,null,null,null,null,null,{"$f":"労働者に係る事項!E124&\"\"","v":""},null,null,null,null,null,null,null,null,null,null,null,null,null,null,null,null,null,null,null,null,null,null,null,null,null,null,null,{"$f":"労働者に係る事項!F124&\"\"","v":""},null,null,null,null,null,null,{"$f":"労働者に係る事項!G124&\"\"","v":""},null,null,null,null,null,{"$f":"労働者に係る事項!H124&\"\"","v":""},null,null,null,null,null,{"$f":"労働者に係る事項!I124&\"\"","v":""},null,null,null,null,null,null,{"$f":"労働者に係る事項!J124&\"\"","v":""},null,null,null,null,null,null,null,null,null,{"$f":"労働者に係る事項!K124&\"\"","v":""},null,null,null,null,null,null,null,null,null,null,null,null,null,null,null,null,{"$f":"労働者に係る事項!L124&\"\"","v":""},null,null,null,null,null,{"$f":"労働者に係る事項!M124&\"\"","v":""},null,null,null,null,null,null,{"$f":"労働者に係る事項!N124&\"\"","v":""},null,null,null,null,null,null,{"$f":"IF(労働者に係る事項!O124=\"\",\"\",労働者に係る事項!O124)","v":""},null,null,null,null,null,null,null,null,null,null,null,null,null,null,null,null,null,null,{"$f":"IF(労働者に係る事項!P124=\"\",\"\",労働者に係る事項!P124)","v":""},null,null,null,null,null,null,null,null,null,null,null,null,null,{"$f":"IF(労働者に係る事項!Q124=\"\",\"\",労働者に係る事項!Q124)","v":""},null,null,null,null,null,null,null,null,null,null,null,null,null,null,null,null,null,null,null,{"$f":"労働者に係る事項!R124&\"\"","v":""},null,null,null,null,null,null,null,{"$f":"労働者に係る事項!S124&\"\"","v":""}]
[null,"86",null,null,{"$f":"労働者に係る事項!B125&\"\"","v":""},null,null,null,null,null,{"$f":"労働者に係る事項!C125&\"\"","v":""},null,null,null,null,null,null,null,null,null,null,null,null,null,null,null,null,null,null,null,null,null,null,null,null,null,null,null,null,null,{"$f":"労働者に係る事項!D125&\"\"","v":""},null,null,null,null,null,null,null,{"$f":"労働者に係る事項!E125&\"\"","v":""},null,null,null,null,null,null,null,null,null,null,null,null,null,null,null,null,null,null,null,null,null,null,null,null,null,null,null,{"$f":"労働者に係る事項!F125&\"\"","v":""},null,null,null,null,null,null,{"$f":"労働者に係る事項!G125&\"\"","v":""},null,null,null,null,null,{"$f":"労働者に係る事項!H125&\"\"","v":""},null,null,null,null,null,{"$f":"労働者に係る事項!I125&\"\"","v":""},null,null,null,null,null,null,{"$f":"労働者に係る事項!J125&\"\"","v":""},null,null,null,null,null,null,null,null,null,{"$f":"労働者に係る事項!K125&\"\"","v":""},null,null,null,null,null,null,null,null,null,null,null,null,null,null,null,null,{"$f":"労働者に係る事項!L125&\"\"","v":""},null,null,null,null,null,{"$f":"労働者に係る事項!M125&\"\"","v":""},null,null,null,null,null,null,{"$f":"労働者に係る事項!N125&\"\"","v":""},null,null,null,null,null,null,{"$f":"IF(労働者に係る事項!O125=\"\",\"\",労働者に係る事項!O125)","v":""},null,null,null,null,null,null,null,null,null,null,null,null,null,null,null,null,null,null,{"$f":"IF(労働者に係る事項!P125=\"\",\"\",労働者に係る事項!P125)","v":""},null,null,null,null,null,null,null,null,null,null,null,null,null,{"$f":"IF(労働者に係る事項!Q125=\"\",\"\",労働者に係る事項!Q125)","v":""},null,null,null,null,null,null,null,null,null,null,null,null,null,null,null,null,null,null,null,{"$f":"労働者に係る事項!R125&\"\"","v":""},null,null,null,null,null,null,null,{"$f":"労働者に係る事項!S125&\"\"","v":""}]
[null,"87",null,null,{"$f":"労働者に係る事項!B126&\"\"","v":""},null,null,null,null,null,{"$f":"労働者に係る事項!C126&\"\"","v":""},null,null,null,null,null,null,null,null,null,null,null,null,null,null,null,null,null,null,null,null,null,null,null,null,null,null,null,null,null,{"$f":"労働者に係る事項!D126&\"\"","v":""},null,null,null,null,null,null,null,{"$f":"労働者に係る事項!E126&\"\"","v":""},null,null,null,null,null,null,null,null,null,null,null,null,null,null,null,null,null,null,null,null,null,null,null,null,null,null,null,{"$f":"労働者に係る事項!F126&\"\"","v":""},null,null,null,null,null,null,{"$f":"労働者に係る事項!G126&\"\"","v":""},null,null,null,null,null,{"$f":"労働者に係る事項!H126&\"\"","v":""},null,null,null,null,null,{"$f":"労働者に係る事項!I126&\"\"","v":""},null,null,null,null,null,null,{"$f":"労働者に係る事項!J126&\"\"","v":""},null,null,null,null,null,null,null,null,null,{"$f":"労働者に係る事項!K126&\"\"","v":""},null,null,null,null,null,null,null,null,null,null,null,null,null,null,null,null,{"$f":"労働者に係る事項!L126&\"\"","v":""},null,null,null,null,null,{"$f":"労働者に係る事項!M126&\"\"","v":""},null,null,null,null,null,null,{"$f":"労働者に係る事項!N126&\"\"","v":""},null,null,null,null,null,null,{"$f":"IF(労働者に係る事項!O126=\"\",\"\",労働者に係る事項!O126)","v":""},null,null,null,null,null,null,null,null,null,null,null,null,null,null,null,null,null,null,{"$f":"IF(労働者に係る事項!P126=\"\",\"\",労働者に係る事項!P126)","v":""},null,null,null,null,null,null,null,null,null,null,null,null,null,{"$f":"IF(労働者に係る事項!Q126=\"\",\"\",労働者に係る事項!Q126)","v":""},null,null,null,null,null,null,null,null,null,null,null,null,null,null,null,null,null,null,null,{"$f":"労働者に係る事項!R126&\"\"","v":""},null,null,null,null,null,null,null,{"$f":"労働者に係る事項!S126&\"\"","v":""}]
[null,"88",null,null,{"$f":"労働者に係る事項!B127&\"\"","v":""},null,null,null,null,null,{"$f":"労働者に係る事項!C127&\"\"","v":""},null,null,null,null,null,null,null,null,null,null,null,null,null,null,null,null,null,null,null,null,null,null,null,null,null,null,null,null,null,{"$f":"労働者に係る事項!D127&\"\"","v":""},null,null,null,null,null,null,null,{"$f":"労働者に係る事項!E127&\"\"","v":""},null,null,null,null,null,null,null,null,null,null,null,null,null,null,null,null,null,null,null,null,null,null,null,null,null,null,null,{"$f":"労働者に係る事項!F127&\"\"","v":""},null,null,null,null,null,null,{"$f":"労働者に係る事項!G127&\"\"","v":""},null,null,null,null,null,{"$f":"労働者に係る事項!H127&\"\"","v":""},null,null,null,null,null,{"$f":"労働者に係る事項!I127&\"\"","v":""},null,null,null,null,null,null,{"$f":"労働者に係る事項!J127&\"\"","v":""},null,null,null,null,null,null,null,null,null,{"$f":"労働者に係る事項!K127&\"\"","v":""},null,null,null,null,null,null,null,null,null,null,null,null,null,null,null,null,{"$f":"労働者に係る事項!L127&\"\"","v":""},null,null,null,null,null,{"$f":"労働者に係る事項!M127&\"\"","v":""},null,null,null,null,null,null,{"$f":"労働者に係る事項!N127&\"\"","v":""},null,null,null,null,null,null,{"$f":"IF(労働者に係る事項!O127=\"\",\"\",労働者に係る事項!O127)","v":""},null,null,null,null,null,null,null,null,null,null,null,null,null,null,null,null,null,null,{"$f":"IF(労働者に係る事項!P127=\"\",\"\",労働者に係る事項!P127)","v":""},null,null,null,null,null,null,null,null,null,null,null,null,null,{"$f":"IF(労働者に係る事項!Q127=\"\",\"\",労働者に係る事項!Q127)","v":""},null,null,null,null,null,null,null,null,null,null,null,null,null,null,null,null,null,null,null,{"$f":"労働者に係る事項!R127&\"\"","v":""},null,null,null,null,null,null,null,{"$f":"労働者に係る事項!S127&\"\"","v":""}]
[null,"89",null,null,{"$f":"労働者に係る事項!B128&\"\"","v":""},null,null,null,null,null,{"$f":"労働者に係る事項!C128&\"\"","v":""},null,null,null,null,null,null,null,null,null,null,null,null,null,null,null,null,null,null,null,null,null,null,null,null,null,null,null,null,null,{"$f":"労働者に係る事項!D128&\"\"","v":""},null,null,null,null,null,null,null,{"$f":"労働者に係る事項!E128&\"\"","v":""},null,null,null,null,null,null,null,null,null,null,null,null,null,null,null,null,null,null,null,null,null,null,null,null,null,null,null,{"$f":"労働者に係る事項!F128&\"\"","v":""},null,null,null,null,null,null,{"$f":"労働者に係る事項!G128&\"\"","v":""},null,null,null,null,null,{"$f":"労働者に係る事項!H128&\"\"","v":""},null,null,null,null,null,{"$f":"労働者に係る事項!I128&\"\"","v":""},null,null,null,null,null,null,{"$f":"労働者に係る事項!J128&\"\"","v":""},null,null,null,null,null,null,null,null,null,{"$f":"労働者に係る事項!K128&\"\"","v":""},null,null,null,null,null,null,null,null,null,null,null,null,null,null,null,null,{"$f":"労働者に係る事項!L128&\"\"","v":""},null,null,null,null,null,{"$f":"労働者に係る事項!M128&\"\"","v":""},null,null,null,null,null,null,{"$f":"労働者に係る事項!N128&\"\"","v":""},null,null,null,null,null,null,{"$f":"IF(労働者に係る事項!O128=\"\",\"\",労働者に係る事項!O128)","v":""},null,null,null,null,null,null,null,null,null,null,null,null,null,null,null,null,null,null,{"$f":"IF(労働者に係る事項!P128=\"\",\"\",労働者に係る事項!P128)","v":""},null,null,null,null,null,null,null,null,null,null,null,null,null,{"$f":"IF(労働者に係る事項!Q128=\"\",\"\",労働者に係る事項!Q128)","v":""},null,null,null,null,null,null,null,null,null,null,null,null,null,null,null,null,null,null,null,{"$f":"労働者に係る事項!R128&\"\"","v":""},null,null,null,null,null,null,null,{"$f":"労働者に係る事項!S128&\"\"","v":""}]
[null,"90",null,null,{"$f":"労働者に係る事項!B129&\"\"","v":""},null,null,null,null,null,{"$f":"労働者に係る事項!C129&\"\"","v":""},null,null,null,null,null,null,null,null,null,null,null,null,null,null,null,null,null,null,null,null,null,null,null,null,null,null,null,null,null,{"$f":"労働者に係る事項!D129&\"\"","v":""},null,null,null,null,null,null,null,{"$f":"労働者に係る事項!E129&\"\"","v":""},null,null,null,null,null,null,null,null,null,null,null,null,null,null,null,null,null,null,null,null,null,null,null,null,null,null,null,{"$f":"労働者に係る事項!F129&\"\"","v":""},null,null,null,null,null,null,{"$f":"労働者に係る事項!G129&\"\"","v":""},null,null,null,null,null,{"$f":"労働者に係る事項!H129&\"\"","v":""},null,null,null,null,null,{"$f":"労働者に係る事項!I129&\"\"","v":""},null,null,null,null,null,null,{"$f":"労働者に係る事項!J129&\"\"","v":""},null,null,null,null,null,null,null,null,null,{"$f":"労働者に係る事項!K129&\"\"","v":""},null,null,null,null,null,null,null,null,null,null,null,null,null,null,null,null,{"$f":"労働者に係る事項!L129&\"\"","v":""},null,null,null,null,null,{"$f":"労働者に係る事項!M129&\"\"","v":""},null,null,null,null,null,null,{"$f":"労働者に係る事項!N129&\"\"","v":""},null,null,null,null,null,null,{"$f":"IF(労働者に係る事項!O129=\"\",\"\",労働者に係る事項!O129)","v":""},null,null,null,null,null,null,null,null,null,null,null,null,null,null,null,null,null,null,{"$f":"IF(労働者に係る事項!P129=\"\",\"\",労働者に係る事項!P129)","v":""},null,null,null,null,null,null,null,null,null,null,null,null,null,{"$f":"IF(労働者に係る事項!Q129=\"\",\"\",労働者に係る事項!Q129)","v":""},null,null,null,null,null,null,null,null,null,null,null,null,null,null,null,null,null,null,null,{"$f":"労働者に係る事項!R129&\"\"","v":""},null,null,null,null,null,null,null,{"$f":"労働者に係る事項!S129&\"\"","v":""}]
[null,"91",null,null,{"$f":"労働者に係る事項!B130&\"\"","v":""},null,null,null,null,null,{"$f":"労働者に係る事項!C130&\"\"","v":""},null,null,null,null,null,null,null,null,null,null,null,null,null,null,null,null,null,null,null,null,null,null,null,null,null,null,null,null,null,{"$f":"労働者に係る事項!D130&\"\"","v":""},null,null,null,null,null,null,null,{"$f":"労働者に係る事項!E130&\"\"","v":""},null,null,null,null,null,null,null,null,null,null,null,null,null,null,null,null,null,null,null,null,null,null,null,null,null,null,null,{"$f":"労働者に係る事項!F130&\"\"","v":""},null,null,null,null,null,null,{"$f":"労働者に係る事項!G130&\"\"","v":""},null,null,null,null,null,{"$f":"労働者に係る事項!H130&\"\"","v":""},null,null,null,null,null,{"$f":"労働者に係る事項!I130&\"\"","v":""},null,null,null,null,null,null,{"$f":"労働者に係る事項!J130&\"\"","v":""},null,null,null,null,null,null,null,null,null,{"$f":"労働者に係る事項!K130&\"\"","v":""},null,null,null,null,null,null,null,null,null,null,null,null,null,null,null,null,{"$f":"労働者に係る事項!L130&\"\"","v":""},null,null,null,null,null,{"$f":"労働者に係る事項!M130&\"\"","v":""},null,null,null,null,null,null,{"$f":"労働者に係る事項!N130&\"\"","v":""},null,null,null,null,null,null,{"$f":"IF(労働者に係る事項!O130=\"\",\"\",労働者に係る事項!O130)","v":""},null,null,null,null,null,null,null,null,null,null,null,null,null,null,null,null,null,null,{"$f":"IF(労働者に係る事項!P130=\"\",\"\",労働者に係る事項!P130)","v":""},null,null,null,null,null,null,null,null,null,null,null,null,null,{"$f":"IF(労働者に係る事項!Q130=\"\",\"\",労働者に係る事項!Q130)","v":""},null,null,null,null,null,null,null,null,null,null,null,null,null,null,null,null,null,null,null,{"$f":"労働者に係る事項!R130&\"\"","v":""},null,null,null,null,null,null,null,{"$f":"労働者に係る事項!S130&\"\"","v":""}]
[null,"92",null,null,{"$f":"労働者に係る事項!B131&\"\"","v":""},null,null,null,null,null,{"$f":"労働者に係る事項!C131&\"\"","v":""},null,null,null,null,null,null,null,null,null,null,null,null,null,null,null,null,null,null,null,null,null,null,null,null,null,null,null,null,null,{"$f":"労働者に係る事項!D131&\"\"","v":""},null,null,null,null,null,null,null,{"$f":"労働者に係る事項!E131&\"\"","v":""},null,null,null,null,null,null,null,null,null,null,null,null,null,null,null,null,null,null,null,null,null,null,null,null,null,null,null,{"$f":"労働者に係る事項!F131&\"\"","v":""},null,null,null,null,null,null,{"$f":"労働者に係る事項!G131&\"\"","v":""},null,null,null,null,null,{"$f":"労働者に係る事項!H131&\"\"","v":""},null,null,null,null,null,{"$f":"労働者に係る事項!I131&\"\"","v":""},null,null,null,null,null,null,{"$f":"労働者に係る事項!J131&\"\"","v":""},null,null,null,null,null,null,null,null,null,{"$f":"労働者に係る事項!K131&\"\"","v":""},null,null,null,null,null,null,null,null,null,null,null,null,null,null,null,null,{"$f":"労働者に係る事項!L131&\"\"","v":""},null,null,null,null,null,{"$f":"労働者に係る事項!M131&\"\"","v":""},null,null,null,null,null,null,{"$f":"労働者に係る事項!N131&\"\"","v":""},null,null,null,null,null,null,{"$f":"IF(労働者に係る事項!O131=\"\",\"\",労働者に係る事項!O131)","v":""},null,null,null,null,null,null,null,null,null,null,null,null,null,null,null,null,null,null,{"$f":"IF(労働者に係る事項!P131=\"\",\"\",労働者に係る事項!P131)","v":""},null,null,null,null,null,null,null,null,null,null,null,null,null,{"$f":"IF(労働者に係る事項!Q131=\"\",\"\",労働者に係る事項!Q131)","v":""},null,null,null,null,null,null,null,null,null,null,null,null,null,null,null,null,null,null,null,{"$f":"労働者に係る事項!R131&\"\"","v":""},null,null,null,null,null,null,null,{"$f":"労働者に係る事項!S131&\"\"","v":""}]
[null,"93",null,null,{"$f":"労働者に係る事項!B132&\"\"","v":""},null,null,null,null,null,{"$f":"労働者に係る事項!C132&\"\"","v":""},null,null,null,null,null,null,null,null,null,null,null,null,null,null,null,null,null,null,null,null,null,null,null,null,null,null,null,null,null,{"$f":"労働者に係る事項!D132&\"\"","v":""},null,null,null,null,null,null,null,{"$f":"労働者に係る事項!E132&\"\"","v":""},null,null,null,null,null,null,null,null,null,null,null,null,null,null,null,null,null,null,null,null,null,null,null,null,null,null,null,{"$f":"労働者に係る事項!F132&\"\"","v":""},null,null,null,null,null,null,{"$f":"労働者に係る事項!G132&\"\"","v":""},null,null,null,null,null,{"$f":"労働者に係る事項!H132&\"\"","v":""},null,null,null,null,null,{"$f":"労働者に係る事項!I132&\"\"","v":""},null,null,null,null,null,null,{"$f":"労働者に係る事項!J132&\"\"","v":""},null,null,null,null,null,null,null,null,null,{"$f":"労働者に係る事項!K132&\"\"","v":""},null,null,null,null,null,null,null,null,null,null,null,null,null,null,null,null,{"$f":"労働者に係る事項!L132&\"\"","v":""},null,null,null,null,null,{"$f":"労働者に係る事項!M132&\"\"","v":""},null,null,null,null,null,null,{"$f":"労働者に係る事項!N132&\"\"","v":""},null,null,null,null,null,null,{"$f":"IF(労働者に係る事項!O132=\"\",\"\",労働者に係る事項!O132)","v":""},null,null,null,null,null,null,null,null,null,null,null,null,null,null,null,null,null,null,{"$f":"IF(労働者に係る事項!P132=\"\",\"\",労働者に係る事項!P132)","v":""},null,null,null,null,null,null,null,null,null,null,null,null,null,{"$f":"IF(労働者に係る事項!Q132=\"\",\"\",労働者に係る事項!Q132)","v":""},null,null,null,null,null,null,null,null,null,null,null,null,null,null,null,null,null,null,null,{"$f":"労働者に係る事項!R132&\"\"","v":""},null,null,null,null,null,null,null,{"$f":"労働者に係る事項!S132&\"\"","v":""}]
[null,"94",null,null,{"$f":"労働者に係る事項!B133&\"\"","v":""},null,null,null,null,null,{"$f":"労働者に係る事項!C133&\"\"","v":""},null,null,null,null,null,null,null,null,null,null,null,null,null,null,null,null,null,null,null,null,null,null,null,null,null,null,null,null,null,{"$f":"労働者に係る事項!D133&\"\"","v":""},null,null,null,null,null,null,null,{"$f":"労働者に係る事項!E133&\"\"","v":""},null,null,null,null,null,null,null,null,null,null,null,null,null,null,null,null,null,null,null,null,null,null,null,null,null,null,null,{"$f":"労働者に係る事項!F133&\"\"","v":""},null,null,null,null,null,null,{"$f":"労働者に係る事項!G133&\"\"","v":""},null,null,null,null,null,{"$f":"労働者に係る事項!H133&\"\"","v":""},null,null,null,null,null,{"$f":"労働者に係る事項!I133&\"\"","v":""},null,null,null,null,null,null,{"$f":"労働者に係る事項!J133&\"\"","v":""},null,null,null,null,null,null,null,null,null,{"$f":"労働者に係る事項!K133&\"\"","v":""},null,null,null,null,null,null,null,null,null,null,null,null,null,null,null,null,{"$f":"労働者に係る事項!L133&\"\"","v":""},null,null,null,null,null,{"$f":"労働者に係る事項!M133&\"\"","v":""},null,null,null,null,null,null,{"$f":"労働者に係る事項!N133&\"\"","v":""},null,null,null,null,null,null,{"$f":"IF(労働者に係る事項!O133=\"\",\"\",労働者に係る事項!O133)","v":""},null,null,null,null,null,null,null,null,null,null,null,null,null,null,null,null,null,null,{"$f":"IF(労働者に係る事項!P133=\"\",\"\",労働者に係る事項!P133)","v":""},null,null,null,null,null,null,null,null,null,null,null,null,null,{"$f":"IF(労働者に係る事項!Q133=\"\",\"\",労働者に係る事項!Q133)","v":""},null,null,null,null,null,null,null,null,null,null,null,null,null,null,null,null,null,null,null,{"$f":"労働者に係る事項!R133&\"\"","v":""},null,null,null,null,null,null,null,{"$f":"労働者に係る事項!S133&\"\"","v":""}]
[null,"95",null,null,{"$f":"労働者に係る事項!B134&\"\"","v":""},null,null,null,null,null,{"$f":"労働者に係る事項!C134&\"\"","v":""},null,null,null,null,null,null,null,null,null,null,null,null,null,null,null,null,null,null,null,null,null,null,null,null,null,null,null,null,null,{"$f":"労働者に係る事項!D134&\"\"","v":""},null,null,null,null,null,null,null,{"$f":"労働者に係る事項!E134&\"\"","v":""},null,null,null,null,null,null,null,null,null,null,null,null,null,null,null,null,null,null,null,null,null,null,null,null,null,null,null,{"$f":"労働者に係る事項!F134&\"\"","v":""},null,null,null,null,null,null,{"$f":"労働者に係る事項!G134&\"\"","v":""},null,null,null,null,null,{"$f":"労働者に係る事項!H134&\"\"","v":""},null,null,null,null,null,{"$f":"労働者に係る事項!I134&\"\"","v":""},null,null,null,null,null,null,{"$f":"労働者に係る事項!J134&\"\"","v":""},null,null,null,null,null,null,null,null,null,{"$f":"労働者に係る事項!K134&\"\"","v":""},null,null,null,null,null,null,null,null,null,null,null,null,null,null,null,null,{"$f":"労働者に係る事項!L134&\"\"","v":""},null,null,null,null,null,{"$f":"労働者に係る事項!M134&\"\"","v":""},null,null,null,null,null,null,{"$f":"労働者に係る事項!N134&\"\"","v":""},null,null,null,null,null,null,{"$f":"IF(労働者に係る事項!O134=\"\",\"\",労働者に係る事項!O134)","v":""},null,null,null,null,null,null,null,null,null,null,null,null,null,null,null,null,null,null,{"$f":"IF(労働者に係る事項!P134=\"\",\"\",労働者に係る事項!P134)","v":""},null,null,null,null,null,null,null,null,null,null,null,null,null,{"$f":"IF(労働者に係る事項!Q134=\"\",\"\",労働者に係る事項!Q134)","v":""},null,null,null,null,null,null,null,null,null,null,null,null,null,null,null,null,null,null,null,{"$f":"労働者に係る事項!R134&\"\"","v":""},null,null,null,null,null,null,null,{"$f":"労働者に係る事項!S134&\"\"","v":""}]
[null,"96",null,null,{"$f":"労働者に係る事項!B135&\"\"","v":""},null,null,null,null,null,{"$f":"労働者に係る事項!C135&\"\"","v":""},null,null,null,null,null,null,null,null,null,null,null,null,null,null,null,null,null,null,null,null,null,null,null,null,null,null,null,null,null,{"$f":"労働者に係る事項!D135&\"\"","v":""},null,null,null,null,null,null,null,{"$f":"労働者に係る事項!E135&\"\"","v":""},null,null,null,null,null,null,null,null,null,null,null,null,null,null,null,null,null,null,null,null,null,null,null,null,null,null,null,{"$f":"労働者に係る事項!F135&\"\"","v":""},null,null,null,null,null,null,{"$f":"労働者に係る事項!G135&\"\"","v":""},null,null,null,null,null,{"$f":"労働者に係る事項!H135&\"\"","v":""},null,null,null,null,null,{"$f":"労働者に係る事項!I135&\"\"","v":""},null,null,null,null,null,null,{"$f":"労働者に係る事項!J135&\"\"","v":""},null,null,null,null,null,null,null,null,null,{"$f":"労働者に係る事項!K135&\"\"","v":""},null,null,null,null,null,null,null,null,null,null,null,null,null,null,null,null,{"$f":"労働者に係る事項!L135&\"\"","v":""},null,null,null,null,null,{"$f":"労働者に係る事項!M135&\"\"","v":""},null,null,null,null,null,null,{"$f":"労働者に係る事項!N135&\"\"","v":""},null,null,null,null,null,null,{"$f":"IF(労働者に係る事項!O135=\"\",\"\",労働者に係る事項!O135)","v":""},null,null,null,null,null,null,null,null,null,null,null,null,null,null,null,null,null,null,{"$f":"IF(労働者に係る事項!P135=\"\",\"\",労働者に係る事項!P135)","v":""},null,null,null,null,null,null,null,null,null,null,null,null,null,{"$f":"IF(労働者に係る事項!Q135=\"\",\"\",労働者に係る事項!Q135)","v":""},null,null,null,null,null,null,null,null,null,null,null,null,null,null,null,null,null,null,null,{"$f":"労働者に係る事項!R135&\"\"","v":""},null,null,null,null,null,null,null,{"$f":"労働者に係る事項!S135&\"\"","v":""}]
[null,"97",null,null,{"$f":"労働者に係る事項!B136&\"\"","v":""},null,null,null,null,null,{"$f":"労働者に係る事項!C136&\"\"","v":""},null,null,null,null,null,null,null,null,null,null,null,null,null,null,null,null,null,null,null,null,null,null,null,null,null,null,null,null,null,{"$f":"労働者に係る事項!D136&\"\"","v":""},null,null,null,null,null,null,null,{"$f":"労働者に係る事項!E136&\"\"","v":""},null,null,null,null,null,null,null,null,null,null,null,null,null,null,null,null,null,null,null,null,null,null,null,null,null,null,null,{"$f":"労働者に係る事項!F136&\"\"","v":""},null,null,null,null,null,null,{"$f":"労働者に係る事項!G136&\"\"","v":""},null,null,null,null,null,{"$f":"労働者に係る事項!H136&\"\"","v":""},null,null,null,null,null,{"$f":"労働者に係る事項!I136&\"\"","v":""},null,null,null,null,null,null,{"$f":"労働者に係る事項!J136&\"\"","v":""},null,null,null,null,null,null,null,null,null,{"$f":"労働者に係る事項!K136&\"\"","v":""},null,null,null,null,null,null,null,null,null,null,null,null,null,null,null,null,{"$f":"労働者に係る事項!L136&\"\"","v":""},null,null,null,null,null,{"$f":"労働者に係る事項!M136&\"\"","v":""},null,null,null,null,null,null,{"$f":"労働者に係る事項!N136&\"\"","v":""},null,null,null,null,null,null,{"$f":"IF(労働者に係る事項!O136=\"\",\"\",労働者に係る事項!O136)","v":""},null,null,null,null,null,null,null,null,null,null,null,null,null,null,null,null,null,null,{"$f":"IF(労働者に係る事項!P136=\"\",\"\",労働者に係る事項!P136)","v":""},null,null,null,null,null,null,null,null,null,null,null,null,null,{"$f":"IF(労働者に係る事項!Q136=\"\",\"\",労働者に係る事項!Q136)","v":""},null,null,null,null,null,null,null,null,null,null,null,null,null,null,null,null,null,null,null,{"$f":"労働者に係る事項!R136&\"\"","v":""},null,null,null,null,null,null,null,{"$f":"労働者に係る事項!S136&\"\"","v":""}]
[null,"98",null,null,{"$f":"労働者に係る事項!B137&\"\"","v":""},null,null,null,null,null,{"$f":"労働者に係る事項!C137&\"\"","v":""},null,null,null,null,null,null,null,null,null,null,null,null,null,null,null,null,null,null,null,null,null,null,null,null,null,null,null,null,null,{"$f":"労働者に係る事項!D137&\"\"","v":""},null,null,null,null,null,null,null,{"$f":"労働者に係る事項!E137&\"\"","v":""},null,null,null,null,null,null,null,null,null,null,null,null,null,null,null,null,null,null,null,null,null,null,null,null,null,null,null,{"$f":"労働者に係る事項!F137&\"\"","v":""},null,null,null,null,null,null,{"$f":"労働者に係る事項!G137&\"\"","v":""},null,null,null,null,null,{"$f":"労働者に係る事項!H137&\"\"","v":""},null,null,null,null,null,{"$f":"労働者に係る事項!I137&\"\"","v":""},null,null,null,null,null,null,{"$f":"労働者に係る事項!J137&\"\"","v":""},null,null,null,null,null,null,null,null,null,{"$f":"労働者に係る事項!K137&\"\"","v":""},null,null,null,null,null,null,null,null,null,null,null,null,null,null,null,null,{"$f":"労働者に係る事項!L137&\"\"","v":""},null,null,null,null,null,{"$f":"労働者に係る事項!M137&\"\"","v":""},null,null,null,null,null,null,{"$f":"労働者に係る事項!N137&\"\"","v":""},null,null,null,null,null,null,{"$f":"IF(労働者に係る事項!O137=\"\",\"\",労働者に係る事項!O137)","v":""},null,null,null,null,null,null,null,null,null,null,null,null,null,null,null,null,null,null,{"$f":"IF(労働者に係る事項!P137=\"\",\"\",労働者に係る事項!P137)","v":""},null,null,null,null,null,null,null,null,null,null,null,null,null,{"$f":"IF(労働者に係る事項!Q137=\"\",\"\",労働者に係る事項!Q137)","v":""},null,null,null,null,null,null,null,null,null,null,null,null,null,null,null,null,null,null,null,{"$f":"労働者に係る事項!R137&\"\"","v":""},null,null,null,null,null,null,null,{"$f":"労働者に係る事項!S137&\"\"","v":""}]
[null,"99",null,null,{"$f":"労働者に係る事項!B138&\"\"","v":""},null,null,null,null,null,{"$f":"労働者に係る事項!C138&\"\"","v":""},null,null,null,null,null,null,null,null,null,null,null,null,null,null,null,null,null,null,null,null,null,null,null,null,null,null,null,null,null,{"$f":"労働者に係る事項!D138&\"\"","v":""},null,null,null,null,null,null,null,{"$f":"労働者に係る事項!E138&\"\"","v":""},null,null,null,null,null,null,null,null,null,null,null,null,null,null,null,null,null,null,null,null,null,null,null,null,null,null,null,{"$f":"労働者に係る事項!F138&\"\"","v":""},null,null,null,null,null,null,{"$f":"労働者に係る事項!G138&\"\"","v":""},null,null,null,null,null,{"$f":"労働者に係る事項!H138&\"\"","v":""},null,null,null,null,null,{"$f":"労働者に係る事項!I138&\"\"","v":""},null,null,null,null,null,null,{"$f":"労働者に係る事項!J138&\"\"","v":""},null,null,null,null,null,null,null,null,null,{"$f":"労働者に係る事項!K138&\"\"","v":""},null,null,null,null,null,null,null,null,null,null,null,null,null,null,null,null,{"$f":"労働者に係る事項!L138&\"\"","v":""},null,null,null,null,null,{"$f":"労働者に係る事項!M138&\"\"","v":""},null,null,null,null,null,null,{"$f":"労働者に係る事項!N138&\"\"","v":""},null,null,null,null,null,null,{"$f":"IF(労働者に係る事項!O138=\"\",\"\",労働者に係る事項!O138)","v":""},null,null,null,null,null,null,null,null,null,null,null,null,null,null,null,null,null,null,{"$f":"IF(労働者に係る事項!P138=\"\",\"\",労働者に係る事項!P138)","v":""},null,null,null,null,null,null,null,null,null,null,null,null,null,{"$f":"IF(労働者に係る事項!Q138=\"\",\"\",労働者に係る事項!Q138)","v":""},null,null,null,null,null,null,null,null,null,null,null,null,null,null,null,null,null,null,null,{"$f":"労働者に係る事項!R138&\"\"","v":""},null,null,null,null,null,null,null,{"$f":"労働者に係る事項!S138&\"\"","v":""}]
[null,"00",null,null,{"$f":"労働者に係る事項!B139&\"\"","v":""},null,null,null,null,null,{"$f":"労働者に係る事項!C139&\"\"","v":""},null,null,null,null,null,null,null,null,null,null,null,null,null,null,null,null,null,null,null,null,null,null,null,null,null,null,null,null,null,{"$f":"労働者に係る事項!D139&\"\"","v":""},null,null,null,null,null,null,null,{"$f":"労働者に係る事項!E139&\"\"","v":""},null,null,null,null,null,null,null,null,null,null,null,null,null,null,null,null,null,null,null,null,null,null,null,null,null,null,null,{"$f":"労働者に係る事項!F139&\"\"","v":""},null,null,null,null,null,null,{"$f":"労働者に係る事項!G139&\"\"","v":""},null,null,null,null,null,{"$f":"労働者に係る事項!H139&\"\"","v":""},null,null,null,null,null,{"$f":"労働者に係る事項!I139&\"\"","v":""},null,null,null,null,null,null,{"$f":"労働者に係る事項!J139&\"\"","v":""},null,null,null,null,null,null,null,null,null,{"$f":"労働者に係る事項!K139&\"\"","v":""},null,null,null,null,null,null,null,null,null,null,null,null,null,null,null,null,{"$f":"労働者に係る事項!L139&\"\"","v":""},null,null,null,null,null,{"$f":"労働者に係る事項!M139&\"\"","v":""},null,null,null,null,null,null,{"$f":"労働者に係る事項!N139&\"\"","v":""},null,null,null,null,null,null,{"$f":"IF(労働者に係る事項!O139=\"\",\"\",労働者に係る事項!O139)","v":""},null,null,null,null,null,null,null,null,null,null,null,null,null,null,null,null,null,null,{"$f":"IF(労働者に係る事項!P139=\"\",\"\",労働者に係る事項!P139)","v":""},null,null,null,null,null,null,null,null,null,null,null,null,null,{"$f":"IF(労働者に係る事項!Q139=\"\",\"\",労働者に係る事項!Q139)","v":""},null,null,null,null,null,null,null,null,null,null,null,null,null,null,null,null,null,null,null,{"$f":"労働者に係る事項!R139&\"\"","v":""},null,null,null,null,null,null,null,{"$f":"労働者に係る事項!S139&\"\"","v":""}]
[null,"01",null,null,{"$f":"労働者に係る事項!B140&\"\"","v":""},null,null,null,null,null,{"$f":"労働者に係る事項!C140&\"\"","v":""},null,null,null,null,null,null,null,null,null,null,null,null,null,null,null,null,null,null,null,null,null,null,null,null,null,null,null,null,null,{"$f":"労働者に係る事項!D140&\"\"","v":""},null,null,null,null,null,null,null,{"$f":"労働者に係る事項!E140&\"\"","v":""},null,null,null,null,null,null,null,null,null,null,null,null,null,null,null,null,null,null,null,null,null,null,null,null,null,null,null,{"$f":"労働者に係る事項!F140&\"\"","v":""},null,null,null,null,null,null,{"$f":"労働者に係る事項!G140&\"\"","v":""},null,null,null,null,null,{"$f":"労働者に係る事項!H140&\"\"","v":""},null,null,null,null,null,{"$f":"労働者に係る事項!I140&\"\"","v":""},null,null,null,null,null,null,{"$f":"労働者に係る事項!J140&\"\"","v":""},null,null,null,null,null,null,null,null,null,{"$f":"労働者に係る事項!K140&\"\"","v":""},null,null,null,null,null,null,null,null,null,null,null,null,null,null,null,null,{"$f":"労働者に係る事項!L140&\"\"","v":""},null,null,null,null,null,{"$f":"労働者に係る事項!M140&\"\"","v":""},null,null,null,null,null,null,{"$f":"労働者に係る事項!N140&\"\"","v":""},null,null,null,null,null,null,{"$f":"IF(労働者に係る事項!O140=\"\",\"\",労働者に係る事項!O140)","v":""},null,null,null,null,null,null,null,null,null,null,null,null,null,null,null,null,null,null,{"$f":"IF(労働者に係る事項!P140=\"\",\"\",労働者に係る事項!P140)","v":""},null,null,null,null,null,null,null,null,null,null,null,null,null,{"$f":"IF(労働者に係る事項!Q140=\"\",\"\",労働者に係る事項!Q140)","v":""},null,null,null,null,null,null,null,null,null,null,null,null,null,null,null,null,null,null,null,{"$f":"労働者に係る事項!R140&\"\"","v":""},null,null,null,null,null,null,null,{"$f":"労働者に係る事項!S140&\"\"","v":""}]
[null,"02",null,null,{"$f":"労働者に係る事項!B141&\"\"","v":""},null,null,null,null,null,{"$f":"労働者に係る事項!C141&\"\"","v":""},null,null,null,null,null,null,null,null,null,null,null,null,null,null,null,null,null,null,null,null,null,null,null,null,null,null,null,null,null,{"$f":"労働者に係る事項!D141&\"\"","v":""},null,null,null,null,null,null,null,{"$f":"労働者に係る事項!E141&\"\"","v":""},null,null,null,null,null,null,null,null,null,null,null,null,null,null,null,null,null,null,null,null,null,null,null,null,null,null,null,{"$f":"労働者に係る事項!F141&\"\"","v":""},null,null,null,null,null,null,{"$f":"労働者に係る事項!G141&\"\"","v":""},null,null,null,null,null,{"$f":"労働者に係る事項!H141&\"\"","v":""},null,null,null,null,null,{"$f":"労働者に係る事項!I141&\"\"","v":""},null,null,null,null,null,null,{"$f":"労働者に係る事項!J141&\"\"","v":""},null,null,null,null,null,null,null,null,null,{"$f":"労働者に係る事項!K141&\"\"","v":""},null,null,null,null,null,null,null,null,null,null,null,null,null,null,null,null,{"$f":"労働者に係る事項!L141&\"\"","v":""},null,null,null,null,null,{"$f":"労働者に係る事項!M141&\"\"","v":""},null,null,null,null,null,null,{"$f":"労働者に係る事項!N141&\"\"","v":""},null,null,null,null,null,null,{"$f":"IF(労働者に係る事項!O141=\"\",\"\",労働者に係る事項!O141)","v":""},null,null,null,null,null,null,null,null,null,null,null,null,null,null,null,null,null,null,{"$f":"IF(労働者に係る事項!P141=\"\",\"\",労働者に係る事項!P141)","v":""},null,null,null,null,null,null,null,null,null,null,null,null,null,{"$f":"IF(労働者に係る事項!Q141=\"\",\"\",労働者に係る事項!Q141)","v":""},null,null,null,null,null,null,null,null,null,null,null,null,null,null,null,null,null,null,null,{"$f":"労働者に係る事項!R141&\"\"","v":""},null,null,null,null,null,null,null,{"$f":"労働者に係る事項!S141&\"\"","v":""}]
[null,"03",null,null,{"$f":"労働者に係る事項!B142&\"\"","v":""},null,null,null,null,null,{"$f":"労働者に係る事項!C142&\"\"","v":""},null,null,null,null,null,null,null,null,null,null,null,null,null,null,null,null,null,null,null,null,null,null,null,null,null,null,null,null,null,{"$f":"労働者に係る事項!D142&\"\"","v":""},null,null,null,null,null,null,null,{"$f":"労働者に係る事項!E142&\"\"","v":""},null,null,null,null,null,null,null,null,null,null,null,null,null,null,null,null,null,null,null,null,null,null,null,null,null,null,null,{"$f":"労働者に係る事項!F142&\"\"","v":""},null,null,null,null,null,null,{"$f":"労働者に係る事項!G142&\"\"","v":""},null,null,null,null,null,{"$f":"労働者に係る事項!H142&\"\"","v":""},null,null,null,null,null,{"$f":"労働者に係る事項!I142&\"\"","v":""},null,null,null,null,null,null,{"$f":"労働者に係る事項!J142&\"\"","v":""},null,null,null,null,null,null,null,null,null,{"$f":"労働者に係る事項!K142&\"\"","v":""},null,null,null,null,null,null,null,null,null,null,null,null,null,null,null,null,{"$f":"労働者に係る事項!L142&\"\"","v":""},null,null,null,null,null,{"$f":"労働者に係る事項!M142&\"\"","v":""},null,null,null,null,null,null,{"$f":"労働者に係る事項!N142&\"\"","v":""},null,null,null,null,null,null,{"$f":"IF(労働者に係る事項!O142=\"\",\"\",労働者に係る事項!O142)","v":""},null,null,null,null,null,null,null,null,null,null,null,null,null,null,null,null,null,null,{"$f":"IF(労働者に係る事項!P142=\"\",\"\",労働者に係る事項!P142)","v":""},null,null,null,null,null,null,null,null,null,null,null,null,null,{"$f":"IF(労働者に係る事項!Q142=\"\",\"\",労働者に係る事項!Q142)","v":""},null,null,null,null,null,null,null,null,null,null,null,null,null,null,null,null,null,null,null,{"$f":"労働者に係る事項!R142&\"\"","v":""},null,null,null,null,null,null,null,{"$f":"労働者に係る事項!S142&\"\"","v":""}]
[null,"04",null,null,{"$f":"労働者に係る事項!B143&\"\"","v":""},null,null,null,null,null,{"$f":"労働者に係る事項!C143&\"\"","v":""},null,null,null,null,null,null,null,null,null,null,null,null,null,null,null,null,null,null,null,null,null,null,null,null,null,null,null,null,null,{"$f":"労働者に係る事項!D143&\"\"","v":""},null,null,null,null,null,null,null,{"$f":"労働者に係る事項!E143&\"\"","v":""},null,null,null,null,null,null,null,null,null,null,null,null,null,null,null,null,null,null,null,null,null,null,null,null,null,null,null,{"$f":"労働者に係る事項!F143&\"\"","v":""},null,null,null,null,null,null,{"$f":"労働者に係る事項!G143&\"\"","v":""},null,null,null,null,null,{"$f":"労働者に係る事項!H143&\"\"","v":""},null,null,null,null,null,{"$f":"労働者に係る事項!I143&\"\"","v":""},null,null,null,null,null,null,{"$f":"労働者に係る事項!J143&\"\"","v":""},null,null,null,null,null,null,null,null,null,{"$f":"労働者に係る事項!K143&\"\"","v":""},null,null,null,null,null,null,null,null,null,null,null,null,null,null,null,null,{"$f":"労働者に係る事項!L143&\"\"","v":""},null,null,null,null,null,{"$f":"労働者に係る事項!M143&\"\"","v":""},null,null,null,null,null,null,{"$f":"労働者に係る事項!N143&\"\"","v":""},null,null,null,null,null,null,{"$f":"IF(労働者に係る事項!O143=\"\",\"\",労働者に係る事項!O143)","v":""},null,null,null,null,null,null,null,null,null,null,null,null,null,null,null,null,null,null,{"$f":"IF(労働者に係る事項!P143=\"\",\"\",労働者に係る事項!P143)","v":""},null,null,null,null,null,null,null,null,null,null,null,null,null,{"$f":"IF(労働者に係る事項!Q143=\"\",\"\",労働者に係る事項!Q143)","v":""},null,null,null,null,null,null,null,null,null,null,null,null,null,null,null,null,null,null,null,{"$f":"労働者に係る事項!R143&\"\"","v":""},null,null,null,null,null,null,null,{"$f":"労働者に係る事項!S143&\"\"","v":""}]
[null,"05",null,null,{"$f":"労働者に係る事項!B144&\"\"","v":""},null,null,null,null,null,{"$f":"労働者に係る事項!C144&\"\"","v":""},null,null,null,null,null,null,null,null,null,null,null,null,null,null,null,null,null,null,null,null,null,null,null,null,null,null,null,null,null,{"$f":"労働者に係る事項!D144&\"\"","v":""},null,null,null,null,null,null,null,{"$f":"労働者に係る事項!E144&\"\"","v":""},null,null,null,null,null,null,null,null,null,null,null,null,null,null,null,null,null,null,null,null,null,null,null,null,null,null,null,{"$f":"労働者に係る事項!F144&\"\"","v":""},null,null,null,null,null,null,{"$f":"労働者に係る事項!G144&\"\"","v":""},null,null,null,null,null,{"$f":"労働者に係る事項!H144&\"\"","v":""},null,null,null,null,null,{"$f":"労働者に係る事項!I144&\"\"","v":""},null,null,null,null,null,null,{"$f":"労働者に係る事項!J144&\"\"","v":""},null,null,null,null,null,null,null,null,null,{"$f":"労働者に係る事項!K144&\"\"","v":""},null,null,null,null,null,null,null,null,null,null,null,null,null,null,null,null,{"$f":"労働者に係る事項!L144&\"\"","v":""},null,null,null,null,null,{"$f":"労働者に係る事項!M144&\"\"","v":""},null,null,null,null,null,null,{"$f":"労働者に係る事項!N144&\"\"","v":""},null,null,null,null,null,null,{"$f":"IF(労働者に係る事項!O144=\"\",\"\",労働者に係る事項!O144)","v":""},null,null,null,null,null,null,null,null,null,null,null,null,null,null,null,null,null,null,{"$f":"IF(労働者に係る事項!P144=\"\",\"\",労働者に係る事項!P144)","v":""},null,null,null,null,null,null,null,null,null,null,null,null,null,{"$f":"IF(労働者に係る事項!Q144=\"\",\"\",労働者に係る事項!Q144)","v":""},null,null,null,null,null,null,null,null,null,null,null,null,null,null,null,null,null,null,null,{"$f":"労働者に係る事項!R144&\"\"","v":""},null,null,null,null,null,null,null,{"$f":"労働者に係る事項!S144&\"\"","v":""}]
[null,"06",null,null,{"$f":"労働者に係る事項!B145&\"\"","v":""},null,null,null,null,null,{"$f":"労働者に係る事項!C145&\"\"","v":""},null,null,null,null,null,null,null,null,null,null,null,null,null,null,null,null,null,null,null,null,null,null,null,null,null,null,null,null,null,{"$f":"労働者に係る事項!D145&\"\"","v":""},null,null,null,null,null,null,null,{"$f":"労働者に係る事項!E145&\"\"","v":""},null,null,null,null,null,null,null,null,null,null,null,null,null,null,null,null,null,null,null,null,null,null,null,null,null,null,null,{"$f":"労働者に係る事項!F145&\"\"","v":""},null,null,null,null,null,null,{"$f":"労働者に係る事項!G145&\"\"","v":""},null,null,null,null,null,{"$f":"労働者に係る事項!H145&\"\"","v":""},null,null,null,null,null,{"$f":"労働者に係る事項!I145&\"\"","v":""},null,null,null,null,null,null,{"$f":"労働者に係る事項!J145&\"\"","v":""},null,null,null,null,null,null,null,null,null,{"$f":"労働者に係る事項!K145&\"\"","v":""},null,null,null,null,null,null,null,null,null,null,null,null,null,null,null,null,{"$f":"労働者に係る事項!L145&\"\"","v":""},null,null,null,null,null,{"$f":"労働者に係る事項!M145&\"\"","v":""},null,null,null,null,null,null,{"$f":"労働者に係る事項!N145&\"\"","v":""},null,null,null,null,null,null,{"$f":"IF(労働者に係る事項!O145=\"\",\"\",労働者に係る事項!O145)","v":""},null,null,null,null,null,null,null,null,null,null,null,null,null,null,null,null,null,null,{"$f":"IF(労働者に係る事項!P145=\"\",\"\",労働者に係る事項!P145)","v":""},null,null,null,null,null,null,null,null,null,null,null,null,null,{"$f":"IF(労働者に係る事項!Q145=\"\",\"\",労働者に係る事項!Q145)","v":""},null,null,null,null,null,null,null,null,null,null,null,null,null,null,null,null,null,null,null,{"$f":"労働者に係る事項!R145&\"\"","v":""},null,null,null,null,null,null,null,{"$f":"労働者に係る事項!S145&\"\"","v":""}]
[null,"07",null,null,{"$f":"労働者に係る事項!B146&\"\"","v":""},null,null,null,null,null,{"$f":"労働者に係る事項!C146&\"\"","v":""},null,null,null,null,null,null,null,null,null,null,null,null,null,null,null,null,null,null,null,null,null,null,null,null,null,null,null,null,null,{"$f":"労働者に係る事項!D146&\"\"","v":""},null,null,null,null,null,null,null,{"$f":"労働者に係る事項!E146&\"\"","v":""},null,null,null,null,null,null,null,null,null,null,null,null,null,null,null,null,null,null,null,null,null,null,null,null,null,null,null,{"$f":"労働者に係る事項!F146&\"\"","v":""},null,null,null,null,null,null,{"$f":"労働者に係る事項!G146&\"\"","v":""},null,null,null,null,null,{"$f":"労働者に係る事項!H146&\"\"","v":""},null,null,null,null,null,{"$f":"労働者に係る事項!I146&\"\"","v":""},null,null,null,null,null,null,{"$f":"労働者に係る事項!J146&\"\"","v":""},null,null,null,null,null,null,null,null,null,{"$f":"労働者に係る事項!K146&\"\"","v":""},null,null,null,null,null,null,null,null,null,null,null,null,null,null,null,null,{"$f":"労働者に係る事項!L146&\"\"","v":""},null,null,null,null,null,{"$f":"労働者に係る事項!M146&\"\"","v":""},null,null,null,null,null,null,{"$f":"労働者に係る事項!N146&\"\"","v":""},null,null,null,null,null,null,{"$f":"IF(労働者に係る事項!O146=\"\",\"\",労働者に係る事項!O146)","v":""},null,null,null,null,null,null,null,null,null,null,null,null,null,null,null,null,null,null,{"$f":"IF(労働者に係る事項!P146=\"\",\"\",労働者に係る事項!P146)","v":""},null,null,null,null,null,null,null,null,null,null,null,null,null,{"$f":"IF(労働者に係る事項!Q146=\"\",\"\",労働者に係る事項!Q146)","v":""},null,null,null,null,null,null,null,null,null,null,null,null,null,null,null,null,null,null,null,{"$f":"労働者に係る事項!R146&\"\"","v":""},null,null,null,null,null,null,null,{"$f":"労働者に係る事項!S146&\"\"","v":""}]
[null,"08",null,null,{"$f":"労働者に係る事項!B147&\"\"","v":""},null,null,null,null,null,{"$f":"労働者に係る事項!C147&\"\"","v":""},null,null,null,null,null,null,null,null,null,null,null,null,null,null,null,null,null,null,null,null,null,null,null,null,null,null,null,null,null,{"$f":"労働者に係る事項!D147&\"\"","v":""},null,null,null,null,null,null,null,{"$f":"労働者に係る事項!E147&\"\"","v":""},null,null,null,null,null,null,null,null,null,null,null,null,null,null,null,null,null,null,null,null,null,null,null,null,null,null,null,{"$f":"労働者に係る事項!F147&\"\"","v":""},null,null,null,null,null,null,{"$f":"労働者に係る事項!G147&\"\"","v":""},null,null,null,null,null,{"$f":"労働者に係る事項!H147&\"\"","v":""},null,null,null,null,null,{"$f":"労働者に係る事項!I147&\"\"","v":""},null,null,null,null,null,null,{"$f":"労働者に係る事項!J147&\"\"","v":""},null,null,null,null,null,null,null,null,null,{"$f":"労働者に係る事項!K147&\"\"","v":""},null,null,null,null,null,null,null,null,null,null,null,null,null,null,null,null,{"$f":"労働者に係る事項!L147&\"\"","v":""},null,null,null,null,null,{"$f":"労働者に係る事項!M147&\"\"","v":""},null,null,null,null,null,null,{"$f":"労働者に係る事項!N147&\"\"","v":""},null,null,null,null,null,null,{"$f":"IF(労働者に係る事項!O147=\"\",\"\",労働者に係る事項!O147)","v":""},null,null,null,null,null,null,null,null,null,null,null,null,null,null,null,null,null,null,{"$f":"IF(労働者に係る事項!P147=\"\",\"\",労働者に係る事項!P147)","v":""},null,null,null,null,null,null,null,null,null,null,null,null,null,{"$f":"IF(労働者に係る事項!Q147=\"\",\"\",労働者に係る事項!Q147)","v":""},null,null,null,null,null,null,null,null,null,null,null,null,null,null,null,null,null,null,null,{"$f":"労働者に係る事項!R147&\"\"","v":""},null,null,null,null,null,null,null,{"$f":"労働者に係る事項!S147&\"\"","v":""}]
[null,"09",null,null,{"$f":"労働者に係る事項!B148&\"\"","v":""},null,null,null,null,null,{"$f":"労働者に係る事項!C148&\"\"","v":""},null,null,null,null,null,null,null,null,null,null,null,null,null,null,null,null,null,null,null,null,null,null,null,null,null,null,null,null,null,{"$f":"労働者に係る事項!D148&\"\"","v":""},null,null,null,null,null,null,null,{"$f":"労働者に係る事項!E148&\"\"","v":""},null,null,null,null,null,null,null,null,null,null,null,null,null,null,null,null,null,null,null,null,null,null,null,null,null,null,null,{"$f":"労働者に係る事項!F148&\"\"","v":""},null,null,null,null,null,null,{"$f":"労働者に係る事項!G148&\"\"","v":""},null,null,null,null,null,{"$f":"労働者に係る事項!H148&\"\"","v":""},null,null,null,null,null,{"$f":"労働者に係る事項!I148&\"\"","v":""},null,null,null,null,null,null,{"$f":"労働者に係る事項!J148&\"\"","v":""},null,null,null,null,null,null,null,null,null,{"$f":"労働者に係る事項!K148&\"\"","v":""},null,null,null,null,null,null,null,null,null,null,null,null,null,null,null,null,{"$f":"労働者に係る事項!L148&\"\"","v":""},null,null,null,null,null,{"$f":"労働者に係る事項!M148&\"\"","v":""},null,null,null,null,null,null,{"$f":"労働者に係る事項!N148&\"\"","v":""},null,null,null,null,null,null,{"$f":"IF(労働者に係る事項!O148=\"\",\"\",労働者に係る事項!O148)","v":""},null,null,null,null,null,null,null,null,null,null,null,null,null,null,null,null,null,null,{"$f":"IF(労働者に係る事項!P148=\"\",\"\",労働者に係る事項!P148)","v":""},null,null,null,null,null,null,null,null,null,null,null,null,null,{"$f":"IF(労働者に係る事項!Q148=\"\",\"\",労働者に係る事項!Q148)","v":""},null,null,null,null,null,null,null,null,null,null,null,null,null,null,null,null,null,null,null,{"$f":"労働者に係る事項!R148&\"\"","v":""},null,null,null,null,null,null,null,{"$f":"労働者に係る事項!S148&\"\"","v":""}]
[null,"10",null,null,{"$f":"労働者に係る事項!B149&\"\"","v":""},null,null,null,null,null,{"$f":"労働者に係る事項!C149&\"\"","v":""},null,null,null,null,null,null,null,null,null,null,null,null,null,null,null,null,null,null,null,null,null,null,null,null,null,null,null,null,null,{"$f":"労働者に係る事項!D149&\"\"","v":""},null,null,null,null,null,null,null,{"$f":"労働者に係る事項!E149&\"\"","v":""},null,null,null,null,null,null,null,null,null,null,null,null,null,null,null,null,null,null,null,null,null,null,null,null,null,null,null,{"$f":"労働者に係る事項!F149&\"\"","v":""},null,null,null,null,null,null,{"$f":"労働者に係る事項!G149&\"\"","v":""},null,null,null,null,null,{"$f":"労働者に係る事項!H149&\"\"","v":""},null,null,null,null,null,{"$f":"労働者に係る事項!I149&\"\"","v":""},null,null,null,null,null,null,{"$f":"労働者に係る事項!J149&\"\"","v":""},null,null,null,null,null,null,null,null,null,{"$f":"労働者に係る事項!K149&\"\"","v":""},null,null,null,null,null,null,null,null,null,null,null,null,null,null,null,null,{"$f":"労働者に係る事項!L149&\"\"","v":""},null,null,null,null,null,{"$f":"労働者に係る事項!M149&\"\"","v":""},null,null,null,null,null,null,{"$f":"労働者に係る事項!N149&\"\"","v":""},null,null,null,null,null,null,{"$f":"IF(労働者に係る事項!O149=\"\",\"\",労働者に係る事項!O149)","v":""},null,null,null,null,null,null,null,null,null,null,null,null,null,null,null,null,null,null,{"$f":"IF(労働者に係る事項!P149=\"\",\"\",労働者に係る事項!P149)","v":""},null,null,null,null,null,null,null,null,null,null,null,null,null,{"$f":"IF(労働者に係る事項!Q149=\"\",\"\",労働者に係る事項!Q149)","v":""},null,null,null,null,null,null,null,null,null,null,null,null,null,null,null,null,null,null,null,{"$f":"労働者に係る事項!R149&\"\"","v":""},null,null,null,null,null,null,null,{"$f":"労働者に係る事項!S149&\"\"","v":""}]
[null,"11",null,null,{"$f":"労働者に係る事項!B150&\"\"","v":""},null,null,null,null,null,{"$f":"労働者に係る事項!C150&\"\"","v":""},null,null,null,null,null,null,null,null,null,null,null,null,null,null,null,null,null,null,null,null,null,null,null,null,null,null,null,null,null,{"$f":"労働者に係る事項!D150&\"\"","v":""},null,null,null,null,null,null,null,{"$f":"労働者に係る事項!E150&\"\"","v":""},null,null,null,null,null,null,null,null,null,null,null,null,null,null,null,null,null,null,null,null,null,null,null,null,null,null,null,{"$f":"労働者に係る事項!F150&\"\"","v":""},null,null,null,null,null,null,{"$f":"労働者に係る事項!G150&\"\"","v":""},null,null,null,null,null,{"$f":"労働者に係る事項!H150&\"\"","v":""},null,null,null,null,null,{"$f":"労働者に係る事項!I150&\"\"","v":""},null,null,null,null,null,null,{"$f":"労働者に係る事項!J150&\"\"","v":""},null,null,null,null,null,null,null,null,null,{"$f":"労働者に係る事項!K150&\"\"","v":""},null,null,null,null,null,null,null,null,null,null,null,null,null,null,null,null,{"$f":"労働者に係る事項!L150&\"\"","v":""},null,null,null,null,null,{"$f":"労働者に係る事項!M150&\"\"","v":""},null,null,null,null,null,null,{"$f":"労働者に係る事項!N150&\"\"","v":""},null,null,null,null,null,null,{"$f":"IF(労働者に係る事項!O150=\"\",\"\",労働者に係る事項!O150)","v":""},null,null,null,null,null,null,null,null,null,null,null,null,null,null,null,null,null,null,{"$f":"IF(労働者に係る事項!P150=\"\",\"\",労働者に係る事項!P150)","v":""},null,null,null,null,null,null,null,null,null,null,null,null,null,{"$f":"IF(労働者に係る事項!Q150=\"\",\"\",労働者に係る事項!Q150)","v":""},null,null,null,null,null,null,null,null,null,null,null,null,null,null,null,null,null,null,null,{"$f":"労働者に係る事項!R150&\"\"","v":""},null,null,null,null,null,null,null,{"$f":"労働者に係る事項!S150&\"\"","v":""}]
[null,"12",null,null,{"$f":"労働者に係る事項!B151&\"\"","v":""},null,null,null,null,null,{"$f":"労働者に係る事項!C151&\"\"","v":""},null,null,null,null,null,null,null,null,null,null,null,null,null,null,null,null,null,null,null,null,null,null,null,null,null,null,null,null,null,{"$f":"労働者に係る事項!D151&\"\"","v":""},null,null,null,null,null,null,null,{"$f":"労働者に係る事項!E151&\"\"","v":""},null,null,null,null,null,null,null,null,null,null,null,null,null,null,null,null,null,null,null,null,null,null,null,null,null,null,null,{"$f":"労働者に係る事項!F151&\"\"","v":""},null,null,null,null,null,null,{"$f":"労働者に係る事項!G151&\"\"","v":""},null,null,null,null,null,{"$f":"労働者に係る事項!H151&\"\"","v":""},null,null,null,null,null,{"$f":"労働者に係る事項!I151&\"\"","v":""},null,null,null,null,null,null,{"$f":"労働者に係る事項!J151&\"\"","v":""},null,null,null,null,null,null,null,null,null,{"$f":"労働者に係る事項!K151&\"\"","v":""},null,null,null,null,null,null,null,null,null,null,null,null,null,null,null,null,{"$f":"労働者に係る事項!L151&\"\"","v":""},null,null,null,null,null,{"$f":"労働者に係る事項!M151&\"\"","v":""},null,null,null,null,null,null,{"$f":"労働者に係る事項!N151&\"\"","v":""},null,null,null,null,null,null,{"$f":"IF(労働者に係る事項!O151=\"\",\"\",労働者に係る事項!O151)","v":""},null,null,null,null,null,null,null,null,null,null,null,null,null,null,null,null,null,null,{"$f":"IF(労働者に係る事項!P151=\"\",\"\",労働者に係る事項!P151)","v":""},null,null,null,null,null,null,null,null,null,null,null,null,null,{"$f":"IF(労働者に係る事項!Q151=\"\",\"\",労働者に係る事項!Q151)","v":""},null,null,null,null,null,null,null,null,null,null,null,null,null,null,null,null,null,null,null,{"$f":"労働者に係る事項!R151&\"\"","v":""},null,null,null,null,null,null,null,{"$f":"労働者に係る事項!S151&\"\"","v":""}]
[null,"13",null,null,{"$f":"労働者に係る事項!B152&\"\"","v":""},null,null,null,null,null,{"$f":"労働者に係る事項!C152&\"\"","v":""},null,null,null,null,null,null,null,null,null,null,null,null,null,null,null,null,null,null,null,null,null,null,null,null,null,null,null,null,null,{"$f":"労働者に係る事項!D152&\"\"","v":""},null,null,null,null,null,null,null,{"$f":"労働者に係る事項!E152&\"\"","v":""},null,null,null,null,null,null,null,null,null,null,null,null,null,null,null,null,null,null,null,null,null,null,null,null,null,null,null,{"$f":"労働者に係る事項!F152&\"\"","v":""},null,null,null,null,null,null,{"$f":"労働者に係る事項!G152&\"\"","v":""},null,null,null,null,null,{"$f":"労働者に係る事項!H152&\"\"","v":""},null,null,null,null,null,{"$f":"労働者に係る事項!I152&\"\"","v":""},null,null,null,null,null,null,{"$f":"労働者に係る事項!J152&\"\"","v":""},null,null,null,null,null,null,null,null,null,{"$f":"労働者に係る事項!K152&\"\"","v":""},null,null,null,null,null,null,null,null,null,null,null,null,null,null,null,null,{"$f":"労働者に係る事項!L152&\"\"","v":""},null,null,null,null,null,{"$f":"労働者に係る事項!M152&\"\"","v":""},null,null,null,null,null,null,{"$f":"労働者に係る事項!N152&\"\"","v":""},null,null,null,null,null,null,{"$f":"IF(労働者に係る事項!O152=\"\",\"\",労働者に係る事項!O152)","v":""},null,null,null,null,null,null,null,null,null,null,null,null,null,null,null,null,null,null,{"$f":"IF(労働者に係る事項!P152=\"\",\"\",労働者に係る事項!P152)","v":""},null,null,null,null,null,null,null,null,null,null,null,null,null,{"$f":"IF(労働者に係る事項!Q152=\"\",\"\",労働者に係る事項!Q152)","v":""},null,null,null,null,null,null,null,null,null,null,null,null,null,null,null,null,null,null,null,{"$f":"労働者に係る事項!R152&\"\"","v":""},null,null,null,null,null,null,null,{"$f":"労働者に係る事項!S152&\"\"","v":""}]
[null,"14",null,null,{"$f":"労働者に係る事項!B153&\"\"","v":""},null,null,null,null,null,{"$f":"労働者に係る事項!C153&\"\"","v":""},null,null,null,null,null,null,null,null,null,null,null,null,null,null,null,null,null,null,null,null,null,null,null,null,null,null,null,null,null,{"$f":"労働者に係る事項!D153&\"\"","v":""},null,null,null,null,null,null,null,{"$f":"労働者に係る事項!E153&\"\"","v":""},null,null,null,null,null,null,null,null,null,null,null,null,null,null,null,null,null,null,null,null,null,null,null,null,null,null,null,{"$f":"労働者に係る事項!F153&\"\"","v":""},null,null,null,null,null,null,{"$f":"労働者に係る事項!G153&\"\"","v":""},null,null,null,null,null,{"$f":"労働者に係る事項!H153&\"\"","v":""},null,null,null,null,null,{"$f":"労働者に係る事項!I153&\"\"","v":""},null,null,null,null,null,null,{"$f":"労働者に係る事項!J153&\"\"","v":""},null,null,null,null,null,null,null,null,null,{"$f":"労働者に係る事項!K153&\"\"","v":""},null,null,null,null,null,null,null,null,null,null,null,null,null,null,null,null,{"$f":"労働者に係る事項!L153&\"\"","v":""},null,null,null,null,null,{"$f":"労働者に係る事項!M153&\"\"","v":""},null,null,null,null,null,null,{"$f":"労働者に係る事項!N153&\"\"","v":""},null,null,null,null,null,null,{"$f":"IF(労働者に係る事項!O153=\"\",\"\",労働者に係る事項!O153)","v":""},null,null,null,null,null,null,null,null,null,null,null,null,null,null,null,null,null,null,{"$f":"IF(労働者に係る事項!P153=\"\",\"\",労働者に係る事項!P153)","v":""},null,null,null,null,null,null,null,null,null,null,null,null,null,{"$f":"IF(労働者に係る事項!Q153=\"\",\"\",労働者に係る事項!Q153)","v":""},null,null,null,null,null,null,null,null,null,null,null,null,null,null,null,null,null,null,null,{"$f":"労働者に係る事項!R153&\"\"","v":""},null,null,null,null,null,null,null,{"$f":"労働者に係る事項!S153&\"\"","v":""}]
[null,"15",null,null,{"$f":"労働者に係る事項!B154&\"\"","v":""},null,null,null,null,null,{"$f":"労働者に係る事項!C154&\"\"","v":""},null,null,null,null,null,null,null,null,null,null,null,null,null,null,null,null,null,null,null,null,null,null,null,null,null,null,null,null,null,{"$f":"労働者に係る事項!D154&\"\"","v":""},null,null,null,null,null,null,null,{"$f":"労働者に係る事項!E154&\"\"","v":""},null,null,null,null,null,null,null,null,null,null,null,null,null,null,null,null,null,null,null,null,null,null,null,null,null,null,null,{"$f":"労働者に係る事項!F154&\"\"","v":""},null,null,null,null,null,null,{"$f":"労働者に係る事項!G154&\"\"","v":""},null,null,null,null,null,{"$f":"労働者に係る事項!H154&\"\"","v":""},null,null,null,null,null,{"$f":"労働者に係る事項!I154&\"\"","v":""},null,null,null,null,null,null,{"$f":"労働者に係る事項!J154&\"\"","v":""},null,null,null,null,null,null,null,null,null,{"$f":"労働者に係る事項!K154&\"\"","v":""},null,null,null,null,null,null,null,null,null,null,null,null,null,null,null,null,{"$f":"労働者に係る事項!L154&\"\"","v":""},null,null,null,null,null,{"$f":"労働者に係る事項!M154&\"\"","v":""},null,null,null,null,null,null,{"$f":"労働者に係る事項!N154&\"\"","v":""},null,null,null,null,null,null,{"$f":"IF(労働者に係る事項!O154=\"\",\"\",労働者に係る事項!O154)","v":""},null,null,null,null,null,null,null,null,null,null,null,null,null,null,null,null,null,null,{"$f":"IF(労働者に係る事項!P154=\"\",\"\",労働者に係る事項!P154)","v":""},null,null,null,null,null,null,null,null,null,null,null,null,null,{"$f":"IF(労働者に係る事項!Q154=\"\",\"\",労働者に係る事項!Q154)","v":""},null,null,null,null,null,null,null,null,null,null,null,null,null,null,null,null,null,null,null,{"$f":"労働者に係る事項!R154&\"\"","v":""},null,null,null,null,null,null,null,{"$f":"労働者に係る事項!S154&\"\"","v":""}]
[null,"16",null,null,{"$f":"労働者に係る事項!B155&\"\"","v":""},null,null,null,null,null,{"$f":"労働者に係る事項!C155&\"\"","v":""},null,null,null,null,null,null,null,null,null,null,null,null,null,null,null,null,null,null,null,null,null,null,null,null,null,null,null,null,null,{"$f":"労働者に係る事項!D155&\"\"","v":""},null,null,null,null,null,null,null,{"$f":"労働者に係る事項!E155&\"\"","v":""},null,null,null,null,null,null,null,null,null,null,null,null,null,null,null,null,null,null,null,null,null,null,null,null,null,null,null,{"$f":"労働者に係る事項!F155&\"\"","v":""},null,null,null,null,null,null,{"$f":"労働者に係る事項!G155&\"\"","v":""},null,null,null,null,null,{"$f":"労働者に係る事項!H155&\"\"","v":""},null,null,null,null,null,{"$f":"労働者に係る事項!I155&\"\"","v":""},null,null,null,null,null,null,{"$f":"労働者に係る事項!J155&\"\"","v":""},null,null,null,null,null,null,null,null,null,{"$f":"労働者に係る事項!K155&\"\"","v":""},null,null,null,null,null,null,null,null,null,null,null,null,null,null,null,null,{"$f":"労働者に係る事項!L155&\"\"","v":""},null,null,null,null,null,{"$f":"労働者に係る事項!M155&\"\"","v":""},null,null,null,null,null,null,{"$f":"労働者に係る事項!N155&\"\"","v":""},null,null,null,null,null,null,{"$f":"IF(労働者に係る事項!O155=\"\",\"\",労働者に係る事項!O155)","v":""},null,null,null,null,null,null,null,null,null,null,null,null,null,null,null,null,null,null,{"$f":"IF(労働者に係る事項!P155=\"\",\"\",労働者に係る事項!P155)","v":""},null,null,null,null,null,null,null,null,null,null,null,null,null,{"$f":"IF(労働者に係る事項!Q155=\"\",\"\",労働者に係る事項!Q155)","v":""},null,null,null,null,null,null,null,null,null,null,null,null,null,null,null,null,null,null,null,{"$f":"労働者に係る事項!R155&\"\"","v":""},null,null,null,null,null,null,null,{"$f":"労働者に係る事項!S155&\"\"","v":""}]
[null,"17",null,null,{"$f":"労働者に係る事項!B156&\"\"","v":""},null,null,null,null,null,{"$f":"労働者に係る事項!C156&\"\"","v":""},null,null,null,null,null,null,null,null,null,null,null,null,null,null,null,null,null,null,null,null,null,null,null,null,null,null,null,null,null,{"$f":"労働者に係る事項!D156&\"\"","v":""},null,null,null,null,null,null,null,{"$f":"労働者に係る事項!E156&\"\"","v":""},null,null,null,null,null,null,null,null,null,null,null,null,null,null,null,null,null,null,null,null,null,null,null,null,null,null,null,{"$f":"労働者に係る事項!F156&\"\"","v":""},null,null,null,null,null,null,{"$f":"労働者に係る事項!G156&\"\"","v":""},null,null,null,null,null,{"$f":"労働者に係る事項!H156&\"\"","v":""},null,null,null,null,null,{"$f":"労働者に係る事項!I156&\"\"","v":""},null,null,null,null,null,null,{"$f":"労働者に係る事項!J156&\"\"","v":""},null,null,null,null,null,null,null,null,null,{"$f":"労働者に係る事項!K156&\"\"","v":""},null,null,null,null,null,null,null,null,null,null,null,null,null,null,null,null,{"$f":"労働者に係る事項!L156&\"\"","v":""},null,null,null,null,null,{"$f":"労働者に係る事項!M156&\"\"","v":""},null,null,null,null,null,null,{"$f":"労働者に係る事項!N156&\"\"","v":""},null,null,null,null,null,null,{"$f":"IF(労働者に係る事項!O156=\"\",\"\",労働者に係る事項!O156)","v":""},null,null,null,null,null,null,null,null,null,null,null,null,null,null,null,null,null,null,{"$f":"IF(労働者に係る事項!P156=\"\",\"\",労働者に係る事項!P156)","v":""},null,null,null,null,null,null,null,null,null,null,null,null,null,{"$f":"IF(労働者に係る事項!Q156=\"\",\"\",労働者に係る事項!Q156)","v":""},null,null,null,null,null,null,null,null,null,null,null,null,null,null,null,null,null,null,null,{"$f":"労働者に係る事項!R156&\"\"","v":""},null,null,null,null,null,null,null,{"$f":"労働者に係る事項!S156&\"\"","v":""}]
[null,"18",null,null,{"$f":"労働者に係る事項!B157&\"\"","v":""},null,null,null,null,null,{"$f":"労働者に係る事項!C157&\"\"","v":""},null,null,null,null,null,null,null,null,null,null,null,null,null,null,null,null,null,null,null,null,null,null,null,null,null,null,null,null,null,{"$f":"労働者に係る事項!D157&\"\"","v":""},null,null,null,null,null,null,null,{"$f":"労働者に係る事項!E157&\"\"","v":""},null,null,null,null,null,null,null,null,null,null,null,null,null,null,null,null,null,null,null,null,null,null,null,null,null,null,null,{"$f":"労働者に係る事項!F157&\"\"","v":""},null,null,null,null,null,null,{"$f":"労働者に係る事項!G157&\"\"","v":""},null,null,null,null,null,{"$f":"労働者に係る事項!H157&\"\"","v":""},null,null,null,null,null,{"$f":"労働者に係る事項!I157&\"\"","v":""},null,null,null,null,null,null,{"$f":"労働者に係る事項!J157&\"\"","v":""},null,null,null,null,null,null,null,null,null,{"$f":"労働者に係る事項!K157&\"\"","v":""},null,null,null,null,null,null,null,null,null,null,null,null,null,null,null,null,{"$f":"労働者に係る事項!L157&\"\"","v":""},null,null,null,null,null,{"$f":"労働者に係る事項!M157&\"\"","v":""},null,null,null,null,null,null,{"$f":"労働者に係る事項!N157&\"\"","v":""},null,null,null,null,null,null,{"$f":"IF(労働者に係る事項!O157=\"\",\"\",労働者に係る事項!O157)","v":""},null,null,null,null,null,null,null,null,null,null,null,null,null,null,null,null,null,null,{"$f":"IF(労働者に係る事項!P157=\"\",\"\",労働者に係る事項!P157)","v":""},null,null,null,null,null,null,null,null,null,null,null,null,null,{"$f":"IF(労働者に係る事項!Q157=\"\",\"\",労働者に係る事項!Q157)","v":""},null,null,null,null,null,null,null,null,null,null,null,null,null,null,null,null,null,null,null,{"$f":"労働者に係る事項!R157&\"\"","v":""},null,null,null,null,null,null,null,{"$f":"労働者に係る事項!S157&\"\"","v":""}]
[null,"19",null,null,{"$f":"労働者に係る事項!B158&\"\"","v":""},null,null,null,null,null,{"$f":"労働者に係る事項!C158&\"\"","v":""},null,null,null,null,null,null,null,null,null,null,null,null,null,null,null,null,null,null,null,null,null,null,null,null,null,null,null,null,null,{"$f":"労働者に係る事項!D158&\"\"","v":""},null,null,null,null,null,null,null,{"$f":"労働者に係る事項!E158&\"\"","v":""},null,null,null,null,null,null,null,null,null,null,null,null,null,null,null,null,null,null,null,null,null,null,null,null,null,null,null,{"$f":"労働者に係る事項!F158&\"\"","v":""},null,null,null,null,null,null,{"$f":"労働者に係る事項!G158&\"\"","v":""},null,null,null,null,null,{"$f":"労働者に係る事項!H158&\"\"","v":""},null,null,null,null,null,{"$f":"労働者に係る事項!I158&\"\"","v":""},null,null,null,null,null,null,{"$f":"労働者に係る事項!J158&\"\"","v":""},null,null,null,null,null,null,null,null,null,{"$f":"労働者に係る事項!K158&\"\"","v":""},null,null,null,null,null,null,null,null,null,null,null,null,null,null,null,null,{"$f":"労働者に係る事項!L158&\"\"","v":""},null,null,null,null,null,{"$f":"労働者に係る事項!M158&\"\"","v":""},null,null,null,null,null,null,{"$f":"労働者に係る事項!N158&\"\"","v":""},null,null,null,null,null,null,{"$f":"IF(労働者に係る事項!O158=\"\",\"\",労働者に係る事項!O158)","v":""},null,null,null,null,null,null,null,null,null,null,null,null,null,null,null,null,null,null,{"$f":"IF(労働者に係る事項!P158=\"\",\"\",労働者に係る事項!P158)","v":""},null,null,null,null,null,null,null,null,null,null,null,null,null,{"$f":"IF(労働者に係る事項!Q158=\"\",\"\",労働者に係る事項!Q158)","v":""},null,null,null,null,null,null,null,null,null,null,null,null,null,null,null,null,null,null,null,{"$f":"労働者に係る事項!R158&\"\"","v":""},null,null,null,null,null,null,null,{"$f":"労働者に係る事項!S158&\"\"","v":""}]
[null,"20",null,null,{"$f":"労働者に係る事項!B159&\"\"","v":""},null,null,null,null,null,{"$f":"労働者に係る事項!C159&\"\"","v":""},null,null,null,null,null,null,null,null,null,null,null,null,null,null,null,null,null,null,null,null,null,null,null,null,null,null,null,null,null,{"$f":"労働者に係る事項!D159&\"\"","v":""},null,null,null,null,null,null,null,{"$f":"労働者に係る事項!E159&\"\"","v":""},null,null,null,null,null,null,null,null,null,null,null,null,null,null,null,null,null,null,null,null,null,null,null,null,null,null,null,{"$f":"労働者に係る事項!F159&\"\"","v":""},null,null,null,null,null,null,{"$f":"労働者に係る事項!G159&\"\"","v":""},null,null,null,null,null,{"$f":"労働者に係る事項!H159&\"\"","v":""},null,null,null,null,null,{"$f":"労働者に係る事項!I159&\"\"","v":""},null,null,null,null,null,null,{"$f":"労働者に係る事項!J159&\"\"","v":""},null,null,null,null,null,null,null,null,null,{"$f":"労働者に係る事項!K159&\"\"","v":""},null,null,null,null,null,null,null,null,null,null,null,null,null,null,null,null,{"$f":"労働者に係る事項!L159&\"\"","v":""},null,null,null,null,null,{"$f":"労働者に係る事項!M159&\"\"","v":""},null,null,null,null,null,null,{"$f":"労働者に係る事項!N159&\"\"","v":""},null,null,null,null,null,null,{"$f":"IF(労働者に係る事項!O159=\"\",\"\",労働者に係る事項!O159)","v":""},null,null,null,null,null,null,null,null,null,null,null,null,null,null,null,null,null,null,{"$f":"IF(労働者に係る事項!P159=\"\",\"\",労働者に係る事項!P159)","v":""},null,null,null,null,null,null,null,null,null,null,null,null,null,{"$f":"IF(労働者に係る事項!Q159=\"\",\"\",労働者に係る事項!Q159)","v":""},null,null,null,null,null,null,null,null,null,null,null,null,null,null,null,null,null,null,null,{"$f":"労働者に係る事項!R159&\"\"","v":""},null,null,null,null,null,null,null,{"$f":"労働者に係る事項!S159&\"\"","v":""}]
[null,"21",null,null,{"$f":"労働者に係る事項!B160&\"\"","v":""},null,null,null,null,null,{"$f":"労働者に係る事項!C160&\"\"","v":""},null,null,null,null,null,null,null,null,null,null,null,null,null,null,null,null,null,null,null,null,null,null,null,null,null,null,null,null,null,{"$f":"労働者に係る事項!D160&\"\"","v":""},null,null,null,null,null,null,null,{"$f":"労働者に係る事項!E160&\"\"","v":""},null,null,null,null,null,null,null,null,null,null,null,null,null,null,null,null,null,null,null,null,null,null,null,null,null,null,null,{"$f":"労働者に係る事項!F160&\"\"","v":""},null,null,null,null,null,null,{"$f":"労働者に係る事項!G160&\"\"","v":""},null,null,null,null,null,{"$f":"労働者に係る事項!H160&\"\"","v":""},null,null,null,null,null,{"$f":"労働者に係る事項!I160&\"\"","v":""},null,null,null,null,null,null,{"$f":"労働者に係る事項!J160&\"\"","v":""},null,null,null,null,null,null,null,null,null,{"$f":"労働者に係る事項!K160&\"\"","v":""},null,null,null,null,null,null,null,null,null,null,null,null,null,null,null,null,{"$f":"労働者に係る事項!L160&\"\"","v":""},null,null,null,null,null,{"$f":"労働者に係る事項!M160&\"\"","v":""},null,null,null,null,null,null,{"$f":"労働者に係る事項!N160&\"\"","v":""},null,null,null,null,null,null,{"$f":"IF(労働者に係る事項!O160=\"\",\"\",労働者に係る事項!O160)","v":""},null,null,null,null,null,null,null,null,null,null,null,null,null,null,null,null,null,null,{"$f":"IF(労働者に係る事項!P160=\"\",\"\",労働者に係る事項!P160)","v":""},null,null,null,null,null,null,null,null,null,null,null,null,null,{"$f":"IF(労働者に係る事項!Q160=\"\",\"\",労働者に係る事項!Q160)","v":""},null,null,null,null,null,null,null,null,null,null,null,null,null,null,null,null,null,null,null,{"$f":"労働者に係る事項!R160&\"\"","v":""},null,null,null,null,null,null,null,{"$f":"労働者に係る事項!S160&\"\"","v":""}]
[null,"22",null,null,{"$f":"労働者に係る事項!B161&\"\"","v":""},null,null,null,null,null,{"$f":"労働者に係る事項!C161&\"\"","v":""},null,null,null,null,null,null,null,null,null,null,null,null,null,null,null,null,null,null,null,null,null,null,null,null,null,null,null,null,null,{"$f":"労働者に係る事項!D161&\"\"","v":""},null,null,null,null,null,null,null,{"$f":"労働者に係る事項!E161&\"\"","v":""},null,null,null,null,null,null,null,null,null,null,null,null,null,null,null,null,null,null,null,null,null,null,null,null,null,null,null,{"$f":"労働者に係る事項!F161&\"\"","v":""},null,null,null,null,null,null,{"$f":"労働者に係る事項!G161&\"\"","v":""},null,null,null,null,null,{"$f":"労働者に係る事項!H161&\"\"","v":""},null,null,null,null,null,{"$f":"労働者に係る事項!I161&\"\"","v":""},null,null,null,null,null,null,{"$f":"労働者に係る事項!J161&\"\"","v":""},null,null,null,null,null,null,null,null,null,{"$f":"労働者に係る事項!K161&\"\"","v":""},null,null,null,null,null,null,null,null,null,null,null,null,null,null,null,null,{"$f":"労働者に係る事項!L161&\"\"","v":""},null,null,null,null,null,{"$f":"労働者に係る事項!M161&\"\"","v":""},null,null,null,null,null,null,{"$f":"労働者に係る事項!N161&\"\"","v":""},null,null,null,null,null,null,{"$f":"IF(労働者に係る事項!O161=\"\",\"\",労働者に係る事項!O161)","v":""},null,null,null,null,null,null,null,null,null,null,null,null,null,null,null,null,null,null,{"$f":"IF(労働者に係る事項!P161=\"\",\"\",労働者に係る事項!P161)","v":""},null,null,null,null,null,null,null,null,null,null,null,null,null,{"$f":"IF(労働者に係る事項!Q161=\"\",\"\",労働者に係る事項!Q161)","v":""},null,null,null,null,null,null,null,null,null,null,null,null,null,null,null,null,null,null,null,{"$f":"労働者に係る事項!R161&\"\"","v":""},null,null,null,null,null,null,null,{"$f":"労働者に係る事項!S161&\"\"","v":""}]
[null,"23",null,null,{"$f":"労働者に係る事項!B162&\"\"","v":""},null,null,null,null,null,{"$f":"労働者に係る事項!C162&\"\"","v":""},null,null,null,null,null,null,null,null,null,null,null,null,null,null,null,null,null,null,null,null,null,null,null,null,null,null,null,null,null,{"$f":"労働者に係る事項!D162&\"\"","v":""},null,null,null,null,null,null,null,{"$f":"労働者に係る事項!E162&\"\"","v":""},null,null,null,null,null,null,null,null,null,null,null,null,null,null,null,null,null,null,null,null,null,null,null,null,null,null,null,{"$f":"労働者に係る事項!F162&\"\"","v":""},null,null,null,null,null,null,{"$f":"労働者に係る事項!G162&\"\"","v":""},null,null,null,null,null,{"$f":"労働者に係る事項!H162&\"\"","v":""},null,null,null,null,null,{"$f":"労働者に係る事項!I162&\"\"","v":""},null,null,null,null,null,null,{"$f":"労働者に係る事項!J162&\"\"","v":""},null,null,null,null,null,null,null,null,null,{"$f":"労働者に係る事項!K162&\"\"","v":""},null,null,null,null,null,null,null,null,null,null,null,null,null,null,null,null,{"$f":"労働者に係る事項!L162&\"\"","v":""},null,null,null,null,null,{"$f":"労働者に係る事項!M162&\"\"","v":""},null,null,null,null,null,null,{"$f":"労働者に係る事項!N162&\"\"","v":""},null,null,null,null,null,null,{"$f":"IF(労働者に係る事項!O162=\"\",\"\",労働者に係る事項!O162)","v":""},null,null,null,null,null,null,null,null,null,null,null,null,null,null,null,null,null,null,{"$f":"IF(労働者に係る事項!P162=\"\",\"\",労働者に係る事項!P162)","v":""},null,null,null,null,null,null,null,null,null,null,null,null,null,{"$f":"IF(労働者に係る事項!Q162=\"\",\"\",労働者に係る事項!Q162)","v":""},null,null,null,null,null,null,null,null,null,null,null,null,null,null,null,null,null,null,null,{"$f":"労働者に係る事項!R162&\"\"","v":""},null,null,null,null,null,null,null,{"$f":"労働者に係る事項!S162&\"\"","v":""}]
[null,"24",null,null,{"$f":"労働者に係る事項!B163&\"\"","v":""},null,null,null,null,null,{"$f":"労働者に係る事項!C163&\"\"","v":""},null,null,null,null,null,null,null,null,null,null,null,null,null,null,null,null,null,null,null,null,null,null,null,null,null,null,null,null,null,{"$f":"労働者に係る事項!D163&\"\"","v":""},null,null,null,null,null,null,null,{"$f":"労働者に係る事項!E163&\"\"","v":""},null,null,null,null,null,null,null,null,null,null,null,null,null,null,null,null,null,null,null,null,null,null,null,null,null,null,null,{"$f":"労働者に係る事項!F163&\"\"","v":""},null,null,null,null,null,null,{"$f":"労働者に係る事項!G163&\"\"","v":""},null,null,null,null,null,{"$f":"労働者に係る事項!H163&\"\"","v":""},null,null,null,null,null,{"$f":"労働者に係る事項!I163&\"\"","v":""},null,null,null,null,null,null,{"$f":"労働者に係る事項!J163&\"\"","v":""},null,null,null,null,null,null,null,null,null,{"$f":"労働者に係る事項!K163&\"\"","v":""},null,null,null,null,null,null,null,null,null,null,null,null,null,null,null,null,{"$f":"労働者に係る事項!L163&\"\"","v":""},null,null,null,null,null,{"$f":"労働者に係る事項!M163&\"\"","v":""},null,null,null,null,null,null,{"$f":"労働者に係る事項!N163&\"\"","v":""},null,null,null,null,null,null,{"$f":"IF(労働者に係る事項!O163=\"\",\"\",労働者に係る事項!O163)","v":""},null,null,null,null,null,null,null,null,null,null,null,null,null,null,null,null,null,null,{"$f":"IF(労働者に係る事項!P163=\"\",\"\",労働者に係る事項!P163)","v":""},null,null,null,null,null,null,null,null,null,null,null,null,null,{"$f":"IF(労働者に係る事項!Q163=\"\",\"\",労働者に係る事項!Q163)","v":""},null,null,null,null,null,null,null,null,null,null,null,null,null,null,null,null,null,null,null,{"$f":"労働者に係る事項!R163&\"\"","v":""},null,null,null,null,null,null,null,{"$f":"労働者に係る事項!S163&\"\"","v":""}]
[null,"25",null,null,{"$f":"労働者に係る事項!B164&\"\"","v":""},null,null,null,null,null,{"$f":"労働者に係る事項!C164&\"\"","v":""},null,null,null,null,null,null,null,null,null,null,null,null,null,null,null,null,null,null,null,null,null,null,null,null,null,null,null,null,null,{"$f":"労働者に係る事項!D164&\"\"","v":""},null,null,null,null,null,null,null,{"$f":"労働者に係る事項!E164&\"\"","v":""},null,null,null,null,null,null,null,null,null,null,null,null,null,null,null,null,null,null,null,null,null,null,null,null,null,null,null,{"$f":"労働者に係る事項!F164&\"\"","v":""},null,null,null,null,null,null,{"$f":"労働者に係る事項!G164&\"\"","v":""},null,null,null,null,null,{"$f":"労働者に係る事項!H164&\"\"","v":""},null,null,null,null,null,{"$f":"労働者に係る事項!I164&\"\"","v":""},null,null,null,null,null,null,{"$f":"労働者に係る事項!J164&\"\"","v":""},null,null,null,null,null,null,null,null,null,{"$f":"労働者に係る事項!K164&\"\"","v":""},null,null,null,null,null,null,null,null,null,null,null,null,null,null,null,null,{"$f":"労働者に係る事項!L164&\"\"","v":""},null,null,null,null,null,{"$f":"労働者に係る事項!M164&\"\"","v":""},null,null,null,null,null,null,{"$f":"労働者に係る事項!N164&\"\"","v":""},null,null,null,null,null,null,{"$f":"IF(労働者に係る事項!O164=\"\",\"\",労働者に係る事項!O164)","v":""},null,null,null,null,null,null,null,null,null,null,null,null,null,null,null,null,null,null,{"$f":"IF(労働者に係る事項!P164=\"\",\"\",労働者に係る事項!P164)","v":""},null,null,null,null,null,null,null,null,null,null,null,null,null,{"$f":"IF(労働者に係る事項!Q164=\"\",\"\",労働者に係る事項!Q164)","v":""},null,null,null,null,null,null,null,null,null,null,null,null,null,null,null,null,null,null,null,{"$f":"労働者に係る事項!R164&\"\"","v":""},null,null,null,null,null,null,null,{"$f":"労働者に係る事項!S164&\"\"","v":""}]
[null,"26",null,null,{"$f":"労働者に係る事項!B165&\"\"","v":""},null,null,null,null,null,{"$f":"労働者に係る事項!C165&\"\"","v":""},null,null,null,null,null,null,null,null,null,null,null,null,null,null,null,null,null,null,null,null,null,null,null,null,null,null,null,null,null,{"$f":"労働者に係る事項!D165&\"\"","v":""},null,null,null,null,null,null,null,{"$f":"労働者に係る事項!E165&\"\"","v":""},null,null,null,null,null,null,null,null,null,null,null,null,null,null,null,null,null,null,null,null,null,null,null,null,null,null,null,{"$f":"労働者に係る事項!F165&\"\"","v":""},null,null,null,null,null,null,{"$f":"労働者に係る事項!G165&\"\"","v":""},null,null,null,null,null,{"$f":"労働者に係る事項!H165&\"\"","v":""},null,null,null,null,null,{"$f":"労働者に係る事項!I165&\"\"","v":""},null,null,null,null,null,null,{"$f":"労働者に係る事項!J165&\"\"","v":""},null,null,null,null,null,null,null,null,null,{"$f":"労働者に係る事項!K165&\"\"","v":""},null,null,null,null,null,null,null,null,null,null,null,null,null,null,null,null,{"$f":"労働者に係る事項!L165&\"\"","v":""},null,null,null,null,null,{"$f":"労働者に係る事項!M165&\"\"","v":""},null,null,null,null,null,null,{"$f":"労働者に係る事項!N165&\"\"","v":""},null,null,null,null,null,null,{"$f":"IF(労働者に係る事項!O165=\"\",\"\",労働者に係る事項!O165)","v":""},null,null,null,null,null,null,null,null,null,null,null,null,null,null,null,null,null,null,{"$f":"IF(労働者に係る事項!P165=\"\",\"\",労働者に係る事項!P165)","v":""},null,null,null,null,null,null,null,null,null,null,null,null,null,{"$f":"IF(労働者に係る事項!Q165=\"\",\"\",労働者に係る事項!Q165)","v":""},null,null,null,null,null,null,null,null,null,null,null,null,null,null,null,null,null,null,null,{"$f":"労働者に係る事項!R165&\"\"","v":""},null,null,null,null,null,null,null,{"$f":"労働者に係る事項!S165&\"\"","v":""}]
[null,"27",null,null,{"$f":"労働者に係る事項!B166&\"\"","v":""},null,null,null,null,null,{"$f":"労働者に係る事項!C166&\"\"","v":""},null,null,null,null,null,null,null,null,null,null,null,null,null,null,null,null,null,null,null,null,null,null,null,null,null,null,null,null,null,{"$f":"労働者に係る事項!D166&\"\"","v":""},null,null,null,null,null,null,null,{"$f":"労働者に係る事項!E166&\"\"","v":""},null,null,null,null,null,null,null,null,null,null,null,null,null,null,null,null,null,null,null,null,null,null,null,null,null,null,null,{"$f":"労働者に係る事項!F166&\"\"","v":""},null,null,null,null,null,null,{"$f":"労働者に係る事項!G166&\"\"","v":""},null,null,null,null,null,{"$f":"労働者に係る事項!H166&\"\"","v":""},null,null,null,null,null,{"$f":"労働者に係る事項!I166&\"\"","v":""},null,null,null,null,null,null,{"$f":"労働者に係る事項!J166&\"\"","v":""},null,null,null,null,null,null,null,null,null,{"$f":"労働者に係る事項!K166&\"\"","v":""},null,null,null,null,null,null,null,null,null,null,null,null,null,null,null,null,{"$f":"労働者に係る事項!L166&\"\"","v":""},null,null,null,null,null,{"$f":"労働者に係る事項!M166&\"\"","v":""},null,null,null,null,null,null,{"$f":"労働者に係る事項!N166&\"\"","v":""},null,null,null,null,null,null,{"$f":"IF(労働者に係る事項!O166=\"\",\"\",労働者に係る事項!O166)","v":""},null,null,null,null,null,null,null,null,null,null,null,null,null,null,null,null,null,null,{"$f":"IF(労働者に係る事項!P166=\"\",\"\",労働者に係る事項!P166)","v":""},null,null,null,null,null,null,null,null,null,null,null,null,null,{"$f":"IF(労働者に係る事項!Q166=\"\",\"\",労働者に係る事項!Q166)","v":""},null,null,null,null,null,null,null,null,null,null,null,null,null,null,null,null,null,null,null,{"$f":"労働者に係る事項!R166&\"\"","v":""},null,null,null,null,null,null,null,{"$f":"労働者に係る事項!S166&\"\"","v":""}]
[null,"28",null,null,{"$f":"労働者に係る事項!B167&\"\"","v":""},null,null,null,null,null,{"$f":"労働者に係る事項!C167&\"\"","v":""},null,null,null,null,null,null,null,null,null,null,null,null,null,null,null,null,null,null,null,null,null,null,null,null,null,null,null,null,null,{"$f":"労働者に係る事項!D167&\"\"","v":""},null,null,null,null,null,null,null,{"$f":"労働者に係る事項!E167&\"\"","v":""},null,null,null,null,null,null,null,null,null,null,null,null,null,null,null,null,null,null,null,null,null,null,null,null,null,null,null,{"$f":"労働者に係る事項!F167&\"\"","v":""},null,null,null,null,null,null,{"$f":"労働者に係る事項!G167&\"\"","v":""},null,null,null,null,null,{"$f":"労働者に係る事項!H167&\"\"","v":""},null,null,null,null,null,{"$f":"労働者に係る事項!I167&\"\"","v":""},null,null,null,null,null,null,{"$f":"労働者に係る事項!J167&\"\"","v":""},null,null,null,null,null,null,null,null,null,{"$f":"労働者に係る事項!K167&\"\"","v":""},null,null,null,null,null,null,null,null,null,null,null,null,null,null,null,null,{"$f":"労働者に係る事項!L167&\"\"","v":""},null,null,null,null,null,{"$f":"労働者に係る事項!M167&\"\"","v":""},null,null,null,null,null,null,{"$f":"労働者に係る事項!N167&\"\"","v":""},null,null,null,null,null,null,{"$f":"IF(労働者に係る事項!O167=\"\",\"\",労働者に係る事項!O167)","v":""},null,null,null,null,null,null,null,null,null,null,null,null,null,null,null,null,null,null,{"$f":"IF(労働者に係る事項!P167=\"\",\"\",労働者に係る事項!P167)","v":""},null,null,null,null,null,null,null,null,null,null,null,null,null,{"$f":"IF(労働者に係る事項!Q167=\"\",\"\",労働者に係る事項!Q167)","v":""},null,null,null,null,null,null,null,null,null,null,null,null,null,null,null,null,null,null,null,{"$f":"労働者に係る事項!R167&\"\"","v":""},null,null,null,null,null,null,null,{"$f":"労働者に係る事項!S167&\"\"","v":""}]
[null,"29",null,null,{"$f":"労働者に係る事項!B168&\"\"","v":""},null,null,null,null,null,{"$f":"労働者に係る事項!C168&\"\"","v":""},null,null,null,null,null,null,null,null,null,null,null,null,null,null,null,null,null,null,null,null,null,null,null,null,null,null,null,null,null,{"$f":"労働者に係る事項!D168&\"\"","v":""},null,null,null,null,null,null,null,{"$f":"労働者に係る事項!E168&\"\"","v":""},null,null,null,null,null,null,null,null,null,null,null,null,null,null,null,null,null,null,null,null,null,null,null,null,null,null,null,{"$f":"労働者に係る事項!F168&\"\"","v":""},null,null,null,null,null,null,{"$f":"労働者に係る事項!G168&\"\"","v":""},null,null,null,null,null,{"$f":"労働者に係る事項!H168&\"\"","v":""},null,null,null,null,null,{"$f":"労働者に係る事項!I168&\"\"","v":""},null,null,null,null,null,null,{"$f":"労働者に係る事項!J168&\"\"","v":""},null,null,null,null,null,null,null,null,null,{"$f":"労働者に係る事項!K168&\"\"","v":""},null,null,null,null,null,null,null,null,null,null,null,null,null,null,null,null,{"$f":"労働者に係る事項!L168&\"\"","v":""},null,null,null,null,null,{"$f":"労働者に係る事項!M168&\"\"","v":""},null,null,null,null,null,null,{"$f":"労働者に係る事項!N168&\"\"","v":""},null,null,null,null,null,null,{"$f":"IF(労働者に係る事項!O168=\"\",\"\",労働者に係る事項!O168)","v":""},null,null,null,null,null,null,null,null,null,null,null,null,null,null,null,null,null,null,{"$f":"IF(労働者に係る事項!P168=\"\",\"\",労働者に係る事項!P168)","v":""},null,null,null,null,null,null,null,null,null,null,null,null,null,{"$f":"IF(労働者に係る事項!Q168=\"\",\"\",労働者に係る事項!Q168)","v":""},null,null,null,null,null,null,null,null,null,null,null,null,null,null,null,null,null,null,null,{"$f":"労働者に係る事項!R168&\"\"","v":""},null,null,null,null,null,null,null,{"$f":"労働者に係る事項!S168&\"\"","v":""}]
[null,"30",null,null,{"$f":"労働者に係る事項!B169&\"\"","v":""},null,null,null,null,null,{"$f":"労働者に係る事項!C169&\"\"","v":""},null,null,null,null,null,null,null,null,null,null,null,null,null,null,null,null,null,null,null,null,null,null,null,null,null,null,null,null,null,{"$f":"労働者に係る事項!D169&\"\"","v":""},null,null,null,null,null,null,null,{"$f":"労働者に係る事項!E169&\"\"","v":""},null,null,null,null,null,null,null,null,null,null,null,null,null,null,null,null,null,null,null,null,null,null,null,null,null,null,null,{"$f":"労働者に係る事項!F169&\"\"","v":""},null,null,null,null,null,null,{"$f":"労働者に係る事項!G169&\"\"","v":""},null,null,null,null,null,{"$f":"労働者に係る事項!H169&\"\"","v":""},null,null,null,null,null,{"$f":"労働者に係る事項!I169&\"\"","v":""},null,null,null,null,null,null,{"$f":"労働者に係る事項!J169&\"\"","v":""},null,null,null,null,null,null,null,null,null,{"$f":"労働者に係る事項!K169&\"\"","v":""},null,null,null,null,null,null,null,null,null,null,null,null,null,null,null,null,{"$f":"労働者に係る事項!L169&\"\"","v":""},null,null,null,null,null,{"$f":"労働者に係る事項!M169&\"\"","v":""},null,null,null,null,null,null,{"$f":"労働者に係る事項!N169&\"\"","v":""},null,null,null,null,null,null,{"$f":"IF(労働者に係る事項!O169=\"\",\"\",労働者に係る事項!O169)","v":""},null,null,null,null,null,null,null,null,null,null,null,null,null,null,null,null,null,null,{"$f":"IF(労働者に係る事項!P169=\"\",\"\",労働者に係る事項!P169)","v":""},null,null,null,null,null,null,null,null,null,null,null,null,null,{"$f":"IF(労働者に係る事項!Q169=\"\",\"\",労働者に係る事項!Q169)","v":""},null,null,null,null,null,null,null,null,null,null,null,null,null,null,null,null,null,null,null,{"$f":"労働者に係る事項!R169&\"\"","v":""},null,null,null,null,null,null,null,{"$f":"労働者に係る事項!S169&\"\"","v":""}]
[null,"31",null,null,{"$f":"労働者に係る事項!B170&\"\"","v":""},null,null,null,null,null,{"$f":"労働者に係る事項!C170&\"\"","v":""},null,null,null,null,null,null,null,null,null,null,null,null,null,null,null,null,null,null,null,null,null,null,null,null,null,null,null,null,null,{"$f":"労働者に係る事項!D170&\"\"","v":""},null,null,null,null,null,null,null,{"$f":"労働者に係る事項!E170&\"\"","v":""},null,null,null,null,null,null,null,null,null,null,null,null,null,null,null,null,null,null,null,null,null,null,null,null,null,null,null,{"$f":"労働者に係る事項!F170&\"\"","v":""},null,null,null,null,null,null,{"$f":"労働者に係る事項!G170&\"\"","v":""},null,null,null,null,null,{"$f":"労働者に係る事項!H170&\"\"","v":""},null,null,null,null,null,{"$f":"労働者に係る事項!I170&\"\"","v":""},null,null,null,null,null,null,{"$f":"労働者に係る事項!J170&\"\"","v":""},null,null,null,null,null,null,null,null,null,{"$f":"労働者に係る事項!K170&\"\"","v":""},null,null,null,null,null,null,null,null,null,null,null,null,null,null,null,null,{"$f":"労働者に係る事項!L170&\"\"","v":""},null,null,null,null,null,{"$f":"労働者に係る事項!M170&\"\"","v":""},null,null,null,null,null,null,{"$f":"労働者に係る事項!N170&\"\"","v":""},null,null,null,null,null,null,{"$f":"IF(労働者に係る事項!O170=\"\",\"\",労働者に係る事項!O170)","v":""},null,null,null,null,null,null,null,null,null,null,null,null,null,null,null,null,null,null,{"$f":"IF(労働者に係る事項!P170=\"\",\"\",労働者に係る事項!P170)","v":""},null,null,null,null,null,null,null,null,null,null,null,null,null,{"$f":"IF(労働者に係る事項!Q170=\"\",\"\",労働者に係る事項!Q170)","v":""},null,null,null,null,null,null,null,null,null,null,null,null,null,null,null,null,null,null,null,{"$f":"労働者に係る事項!R170&\"\"","v":""},null,null,null,null,null,null,null,{"$f":"労働者に係る事項!S170&\"\"","v":""}]
[null,"32",null,null,{"$f":"労働者に係る事項!B171&\"\"","v":""},null,null,null,null,null,{"$f":"労働者に係る事項!C171&\"\"","v":""},null,null,null,null,null,null,null,null,null,null,null,null,null,null,null,null,null,null,null,null,null,null,null,null,null,null,null,null,null,{"$f":"労働者に係る事項!D171&\"\"","v":""},null,null,null,null,null,null,null,{"$f":"労働者に係る事項!E171&\"\"","v":""},null,null,null,null,null,null,null,null,null,null,null,null,null,null,null,null,null,null,null,null,null,null,null,null,null,null,null,{"$f":"労働者に係る事項!F171&\"\"","v":""},null,null,null,null,null,null,{"$f":"労働者に係る事項!G171&\"\"","v":""},null,null,null,null,null,{"$f":"労働者に係る事項!H171&\"\"","v":""},null,null,null,null,null,{"$f":"労働者に係る事項!I171&\"\"","v":""},null,null,null,null,null,null,{"$f":"労働者に係る事項!J171&\"\"","v":""},null,null,null,null,null,null,null,null,null,{"$f":"労働者に係る事項!K171&\"\"","v":""},null,null,null,null,null,null,null,null,null,null,null,null,null,null,null,null,{"$f":"労働者に係る事項!L171&\"\"","v":""},null,null,null,null,null,{"$f":"労働者に係る事項!M171&\"\"","v":""},null,null,null,null,null,null,{"$f":"労働者に係る事項!N171&\"\"","v":""},null,null,null,null,null,null,{"$f":"IF(労働者に係る事項!O171=\"\",\"\",労働者に係る事項!O171)","v":""},null,null,null,null,null,null,null,null,null,null,null,null,null,null,null,null,null,null,{"$f":"IF(労働者に係る事項!P171=\"\",\"\",労働者に係る事項!P171)","v":""},null,null,null,null,null,null,null,null,null,null,null,null,null,{"$f":"IF(労働者に係る事項!Q171=\"\",\"\",労働者に係る事項!Q171)","v":""},null,null,null,null,null,null,null,null,null,null,null,null,null,null,null,null,null,null,null,{"$f":"労働者に係る事項!R171&\"\"","v":""},null,null,null,null,null,null,null,{"$f":"労働者に係る事項!S171&\"\"","v":""}]
[null,"33",null,null,{"$f":"労働者に係る事項!B172&\"\"","v":""},null,null,null,null,null,{"$f":"労働者に係る事項!C172&\"\"","v":""},null,null,null,null,null,null,null,null,null,null,null,null,null,null,null,null,null,null,null,null,null,null,null,null,null,null,null,null,null,{"$f":"労働者に係る事項!D172&\"\"","v":""},null,null,null,null,null,null,null,{"$f":"労働者に係る事項!E172&\"\"","v":""},null,null,null,null,null,null,null,null,null,null,null,null,null,null,null,null,null,null,null,null,null,null,null,null,null,null,null,{"$f":"労働者に係る事項!F172&\"\"","v":""},null,null,null,null,null,null,{"$f":"労働者に係る事項!G172&\"\"","v":""},null,null,null,null,null,{"$f":"労働者に係る事項!H172&\"\"","v":""},null,null,null,null,null,{"$f":"労働者に係る事項!I172&\"\"","v":""},null,null,null,null,null,null,{"$f":"労働者に係る事項!J172&\"\"","v":""},null,null,null,null,null,null,null,null,null,{"$f":"労働者に係る事項!K172&\"\"","v":""},null,null,null,null,null,null,null,null,null,null,null,null,null,null,null,null,{"$f":"労働者に係る事項!L172&\"\"","v":""},null,null,null,null,null,{"$f":"労働者に係る事項!M172&\"\"","v":""},null,null,null,null,null,null,{"$f":"労働者に係る事項!N172&\"\"","v":""},null,null,null,null,null,null,{"$f":"IF(労働者に係る事項!O172=\"\",\"\",労働者に係る事項!O172)","v":""},null,null,null,null,null,null,null,null,null,null,null,null,null,null,null,null,null,null,{"$f":"IF(労働者に係る事項!P172=\"\",\"\",労働者に係る事項!P172)","v":""},null,null,null,null,null,null,null,null,null,null,null,null,null,{"$f":"IF(労働者に係る事項!Q172=\"\",\"\",労働者に係る事項!Q172)","v":""},null,null,null,null,null,null,null,null,null,null,null,null,null,null,null,null,null,null,null,{"$f":"労働者に係る事項!R172&\"\"","v":""},null,null,null,null,null,null,null,{"$f":"労働者に係る事項!S172&\"\"","v":""}]
[null,"34",null,null,{"$f":"労働者に係る事項!B173&\"\"","v":""},null,null,null,null,null,{"$f":"労働者に係る事項!C173&\"\"","v":""},null,null,null,null,null,null,null,null,null,null,null,null,null,null,null,null,null,null,null,null,null,null,null,null,null,null,null,null,null,{"$f":"労働者に係る事項!D173&\"\"","v":""},null,null,null,null,null,null,null,{"$f":"労働者に係る事項!E173&\"\"","v":""},null,null,null,null,null,null,null,null,null,null,null,null,null,null,null,null,null,null,null,null,null,null,null,null,null,null,null,{"$f":"労働者に係る事項!F173&\"\"","v":""},null,null,null,null,null,null,{"$f":"労働者に係る事項!G173&\"\"","v":""},null,null,null,null,null,{"$f":"労働者に係る事項!H173&\"\"","v":""},null,null,null,null,null,{"$f":"労働者に係る事項!I173&\"\"","v":""},null,null,null,null,null,null,{"$f":"労働者に係る事項!J173&\"\"","v":""},null,null,null,null,null,null,null,null,null,{"$f":"労働者に係る事項!K173&\"\"","v":""},null,null,null,null,null,null,null,null,null,null,null,null,null,null,null,null,{"$f":"労働者に係る事項!L173&\"\"","v":""},null,null,null,null,null,{"$f":"労働者に係る事項!M173&\"\"","v":""},null,null,null,null,null,null,{"$f":"労働者に係る事項!N173&\"\"","v":""},null,null,null,null,null,null,{"$f":"IF(労働者に係る事項!O173=\"\",\"\",労働者に係る事項!O173)","v":""},null,null,null,null,null,null,null,null,null,null,null,null,null,null,null,null,null,null,{"$f":"IF(労働者に係る事項!P173=\"\",\"\",労働者に係る事項!P173)","v":""},null,null,null,null,null,null,null,null,null,null,null,null,null,{"$f":"IF(労働者に係る事項!Q173=\"\",\"\",労働者に係る事項!Q173)","v":""},null,null,null,null,null,null,null,null,null,null,null,null,null,null,null,null,null,null,null,{"$f":"労働者に係る事項!R173&\"\"","v":""},null,null,null,null,null,null,null,{"$f":"労働者に係る事項!S173&\"\"","v":""}]
[null,"35",null,null,{"$f":"労働者に係る事項!B174&\"\"","v":""},null,null,null,null,null,{"$f":"労働者に係る事項!C174&\"\"","v":""},null,null,null,null,null,null,null,null,null,null,null,null,null,null,null,null,null,null,null,null,null,null,null,null,null,null,null,null,null,{"$f":"労働者に係る事項!D174&\"\"","v":""},null,null,null,null,null,null,null,{"$f":"労働者に係る事項!E174&\"\"","v":""},null,null,null,null,null,null,null,null,null,null,null,null,null,null,null,null,null,null,null,null,null,null,null,null,null,null,null,{"$f":"労働者に係る事項!F174&\"\"","v":""},null,null,null,null,null,null,{"$f":"労働者に係る事項!G174&\"\"","v":""},null,null,null,null,null,{"$f":"労働者に係る事項!H174&\"\"","v":""},null,null,null,null,null,{"$f":"労働者に係る事項!I174&\"\"","v":""},null,null,null,null,null,null,{"$f":"労働者に係る事項!J174&\"\"","v":""},null,null,null,null,null,null,null,null,null,{"$f":"労働者に係る事項!K174&\"\"","v":""},null,null,null,null,null,null,null,null,null,null,null,null,null,null,null,null,{"$f":"労働者に係る事項!L174&\"\"","v":""},null,null,null,null,null,{"$f":"労働者に係る事項!M174&\"\"","v":""},null,null,null,null,null,null,{"$f":"労働者に係る事項!N174&\"\"","v":""},null,null,null,null,null,null,{"$f":"IF(労働者に係る事項!O174=\"\",\"\",労働者に係る事項!O174)","v":""},null,null,null,null,null,null,null,null,null,null,null,null,null,null,null,null,null,null,{"$f":"IF(労働者に係る事項!P174=\"\",\"\",労働者に係る事項!P174)","v":""},null,null,null,null,null,null,null,null,null,null,null,null,null,{"$f":"IF(労働者に係る事項!Q174=\"\",\"\",労働者に係る事項!Q174)","v":""},null,null,null,null,null,null,null,null,null,null,null,null,null,null,null,null,null,null,null,{"$f":"労働者に係る事項!R174&\"\"","v":""},null,null,null,null,null,null,null,{"$f":"労働者に係る事項!S174&\"\"","v":""}]
[null,"36",null,null,{"$f":"労働者に係る事項!B175&\"\"","v":""},null,null,null,null,null,{"$f":"労働者に係る事項!C175&\"\"","v":""},null,null,null,null,null,null,null,null,null,null,null,null,null,null,null,null,null,null,null,null,null,null,null,null,null,null,null,null,null,{"$f":"労働者に係る事項!D175&\"\"","v":""},null,null,null,null,null,null,null,{"$f":"労働者に係る事項!E175&\"\"","v":""},null,null,null,null,null,null,null,null,null,null,null,null,null,null,null,null,null,null,null,null,null,null,null,null,null,null,null,{"$f":"労働者に係る事項!F175&\"\"","v":""},null,null,null,null,null,null,{"$f":"労働者に係る事項!G175&\"\"","v":""},null,null,null,null,null,{"$f":"労働者に係る事項!H175&\"\"","v":""},null,null,null,null,null,{"$f":"労働者に係る事項!I175&\"\"","v":""},null,null,null,null,null,null,{"$f":"労働者に係る事項!J175&\"\"","v":""},null,null,null,null,null,null,null,null,null,{"$f":"労働者に係る事項!K175&\"\"","v":""},null,null,null,null,null,null,null,null,null,null,null,null,null,null,null,null,{"$f":"労働者に係る事項!L175&\"\"","v":""},null,null,null,null,null,{"$f":"労働者に係る事項!M175&\"\"","v":""},null,null,null,null,null,null,{"$f":"労働者に係る事項!N175&\"\"","v":""},null,null,null,null,null,null,{"$f":"IF(労働者に係る事項!O175=\"\",\"\",労働者に係る事項!O175)","v":""},null,null,null,null,null,null,null,null,null,null,null,null,null,null,null,null,null,null,{"$f":"IF(労働者に係る事項!P175=\"\",\"\",労働者に係る事項!P175)","v":""},null,null,null,null,null,null,null,null,null,null,null,null,null,{"$f":"IF(労働者に係る事項!Q175=\"\",\"\",労働者に係る事項!Q175)","v":""},null,null,null,null,null,null,null,null,null,null,null,null,null,null,null,null,null,null,null,{"$f":"労働者に係る事項!R175&\"\"","v":""},null,null,null,null,null,null,null,{"$f":"労働者に係る事項!S175&\"\"","v":""}]
[null,"37",null,null,{"$f":"労働者に係る事項!B176&\"\"","v":""},null,null,null,null,null,{"$f":"労働者に係る事項!C176&\"\"","v":""},null,null,null,null,null,null,null,null,null,null,null,null,null,null,null,null,null,null,null,null,null,null,null,null,null,null,null,null,null,{"$f":"労働者に係る事項!D176&\"\"","v":""},null,null,null,null,null,null,null,{"$f":"労働者に係る事項!E176&\"\"","v":""},null,null,null,null,null,null,null,null,null,null,null,null,null,null,null,null,null,null,null,null,null,null,null,null,null,null,null,{"$f":"労働者に係る事項!F176&\"\"","v":""},null,null,null,null,null,null,{"$f":"労働者に係る事項!G176&\"\"","v":""},null,null,null,null,null,{"$f":"労働者に係る事項!H176&\"\"","v":""},null,null,null,null,null,{"$f":"労働者に係る事項!I176&\"\"","v":""},null,null,null,null,null,null,{"$f":"労働者に係る事項!J176&\"\"","v":""},null,null,null,null,null,null,null,null,null,{"$f":"労働者に係る事項!K176&\"\"","v":""},null,null,null,null,null,null,null,null,null,null,null,null,null,null,null,null,{"$f":"労働者に係る事項!L176&\"\"","v":""},null,null,null,null,null,{"$f":"労働者に係る事項!M176&\"\"","v":""},null,null,null,null,null,null,{"$f":"労働者に係る事項!N176&\"\"","v":""},null,null,null,null,null,null,{"$f":"IF(労働者に係る事項!O176=\"\",\"\",労働者に係る事項!O176)","v":""},null,null,null,null,null,null,null,null,null,null,null,null,null,null,null,null,null,null,{"$f":"IF(労働者に係る事項!P176=\"\",\"\",労働者に係る事項!P176)","v":""},null,null,null,null,null,null,null,null,null,null,null,null,null,{"$f":"IF(労働者に係る事項!Q176=\"\",\"\",労働者に係る事項!Q176)","v":""},null,null,null,null,null,null,null,null,null,null,null,null,null,null,null,null,null,null,null,{"$f":"労働者に係る事項!R176&\"\"","v":""},null,null,null,null,null,null,null,{"$f":"労働者に係る事項!S176&\"\"","v":""}]
[null,"38",null,null,{"$f":"労働者に係る事項!B177&\"\"","v":""},null,null,null,null,null,{"$f":"労働者に係る事項!C177&\"\"","v":""},null,null,null,null,null,null,null,null,null,null,null,null,null,null,null,null,null,null,null,null,null,null,null,null,null,null,null,null,null,{"$f":"労働者に係る事項!D177&\"\"","v":""},null,null,null,null,null,null,null,{"$f":"労働者に係る事項!E177&\"\"","v":""},null,null,null,null,null,null,null,null,null,null,null,null,null,null,null,null,null,null,null,null,null,null,null,null,null,null,null,{"$f":"労働者に係る事項!F177&\"\"","v":""},null,null,null,null,null,null,{"$f":"労働者に係る事項!G177&\"\"","v":""},null,null,null,null,null,{"$f":"労働者に係る事項!H177&\"\"","v":""},null,null,null,null,null,{"$f":"労働者に係る事項!I177&\"\"","v":""},null,null,null,null,null,null,{"$f":"労働者に係る事項!J177&\"\"","v":""},null,null,null,null,null,null,null,null,null,{"$f":"労働者に係る事項!K177&\"\"","v":""},null,null,null,null,null,null,null,null,null,null,null,null,null,null,null,null,{"$f":"労働者に係る事項!L177&\"\"","v":""},null,null,null,null,null,{"$f":"労働者に係る事項!M177&\"\"","v":""},null,null,null,null,null,null,{"$f":"労働者に係る事項!N177&\"\"","v":""},null,null,null,null,null,null,{"$f":"IF(労働者に係る事項!O177=\"\",\"\",労働者に係る事項!O177)","v":""},null,null,null,null,null,null,null,null,null,null,null,null,null,null,null,null,null,null,{"$f":"IF(労働者に係る事項!P177=\"\",\"\",労働者に係る事項!P177)","v":""},null,null,null,null,null,null,null,null,null,null,null,null,null,{"$f":"IF(労働者に係る事項!Q177=\"\",\"\",労働者に係る事項!Q177)","v":""},null,null,null,null,null,null,null,null,null,null,null,null,null,null,null,null,null,null,null,{"$f":"労働者に係る事項!R177&\"\"","v":""},null,null,null,null,null,null,null,{"$f":"労働者に係る事項!S177&\"\"","v":""}]
[null,"39",null,null,{"$f":"労働者に係る事項!B178&\"\"","v":""},null,null,null,null,null,{"$f":"労働者に係る事項!C178&\"\"","v":""},null,null,null,null,null,null,null,null,null,null,null,null,null,null,null,null,null,null,null,null,null,null,null,null,null,null,null,null,null,{"$f":"労働者に係る事項!D178&\"\"","v":""},null,null,null,null,null,null,null,{"$f":"労働者に係る事項!E178&\"\"","v":""},null,null,null,null,null,null,null,null,null,null,null,null,null,null,null,null,null,null,null,null,null,null,null,null,null,null,null,{"$f":"労働者に係る事項!F178&\"\"","v":""},null,null,null,null,null,null,{"$f":"労働者に係る事項!G178&\"\"","v":""},null,null,null,null,null,{"$f":"労働者に係る事項!H178&\"\"","v":""},null,null,null,null,null,{"$f":"労働者に係る事項!I178&\"\"","v":""},null,null,null,null,null,null,{"$f":"労働者に係る事項!J178&\"\"","v":""},null,null,null,null,null,null,null,null,null,{"$f":"労働者に係る事項!K178&\"\"","v":""},null,null,null,null,null,null,null,null,null,null,null,null,null,null,null,null,{"$f":"労働者に係る事項!L178&\"\"","v":""},null,null,null,null,null,{"$f":"労働者に係る事項!M178&\"\"","v":""},null,null,null,null,null,null,{"$f":"労働者に係る事項!N178&\"\"","v":""},null,null,null,null,null,null,{"$f":"IF(労働者に係る事項!O178=\"\",\"\",労働者に係る事項!O178)","v":""},null,null,null,null,null,null,null,null,null,null,null,null,null,null,null,null,null,null,{"$f":"IF(労働者に係る事項!P178=\"\",\"\",労働者に係る事項!P178)","v":""},null,null,null,null,null,null,null,null,null,null,null,null,null,{"$f":"IF(労働者に係る事項!Q178=\"\",\"\",労働者に係る事項!Q178)","v":""},null,null,null,null,null,null,null,null,null,null,null,null,null,null,null,null,null,null,null,{"$f":"労働者に係る事項!R178&\"\"","v":""},null,null,null,null,null,null,null,{"$f":"労働者に係る事項!S178&\"\"","v":""}]
[null,"40",null,null,{"$f":"労働者に係る事項!B179&\"\"","v":""},null,null,null,null,null,{"$f":"労働者に係る事項!C179&\"\"","v":""},null,null,null,null,null,null,null,null,null,null,null,null,null,null,null,null,null,null,null,null,null,null,null,null,null,null,null,null,null,{"$f":"労働者に係る事項!D179&\"\"","v":""},null,null,null,null,null,null,null,{"$f":"労働者に係る事項!E179&\"\"","v":""},null,null,null,null,null,null,null,null,null,null,null,null,null,null,null,null,null,null,null,null,null,null,null,null,null,null,null,{"$f":"労働者に係る事項!F179&\"\"","v":""},null,null,null,null,null,null,{"$f":"労働者に係る事項!G179&\"\"","v":""},null,null,null,null,null,{"$f":"労働者に係る事項!H179&\"\"","v":""},null,null,null,null,null,{"$f":"労働者に係る事項!I179&\"\"","v":""},null,null,null,null,null,null,{"$f":"労働者に係る事項!J179&\"\"","v":""},null,null,null,null,null,null,null,null,null,{"$f":"労働者に係る事項!K179&\"\"","v":""},null,null,null,null,null,null,null,null,null,null,null,null,null,null,null,null,{"$f":"労働者に係る事項!L179&\"\"","v":""},null,null,null,null,null,{"$f":"労働者に係る事項!M179&\"\"","v":""},null,null,null,null,null,null,{"$f":"労働者に係る事項!N179&\"\"","v":""},null,null,null,null,null,null,{"$f":"IF(労働者に係る事項!O179=\"\",\"\",労働者に係る事項!O179)","v":""},null,null,null,null,null,null,null,null,null,null,null,null,null,null,null,null,null,null,{"$f":"IF(労働者に係る事項!P179=\"\",\"\",労働者に係る事項!P179)","v":""},null,null,null,null,null,null,null,null,null,null,null,null,null,{"$f":"IF(労働者に係る事項!Q179=\"\",\"\",労働者に係る事項!Q179)","v":""},null,null,null,null,null,null,null,null,null,null,null,null,null,null,null,null,null,null,null,{"$f":"労働者に係る事項!R179&\"\"","v":""},null,null,null,null,null,null,null,{"$f":"労働者に係る事項!S179&\"\"","v":""}]
[null,"41",null,null,{"$f":"労働者に係る事項!B180&\"\"","v":""},null,null,null,null,null,{"$f":"労働者に係る事項!C180&\"\"","v":""},null,null,null,null,null,null,null,null,null,null,null,null,null,null,null,null,null,null,null,null,null,null,null,null,null,null,null,null,null,{"$f":"労働者に係る事項!D180&\"\"","v":""},null,null,null,null,null,null,null,{"$f":"労働者に係る事項!E180&\"\"","v":""},null,null,null,null,null,null,null,null,null,null,null,null,null,null,null,null,null,null,null,null,null,null,null,null,null,null,null,{"$f":"労働者に係る事項!F180&\"\"","v":""},null,null,null,null,null,null,{"$f":"労働者に係る事項!G180&\"\"","v":""},null,null,null,null,null,{"$f":"労働者に係る事項!H180&\"\"","v":""},null,null,null,null,null,{"$f":"労働者に係る事項!I180&\"\"","v":""},null,null,null,null,null,null,{"$f":"労働者に係る事項!J180&\"\"","v":""},null,null,null,null,null,null,null,null,null,{"$f":"労働者に係る事項!K180&\"\"","v":""},null,null,null,null,null,null,null,null,null,null,null,null,null,null,null,null,{"$f":"労働者に係る事項!L180&\"\"","v":""},null,null,null,null,null,{"$f":"労働者に係る事項!M180&\"\"","v":""},null,null,null,null,null,null,{"$f":"労働者に係る事項!N180&\"\"","v":""},null,null,null,null,null,null,{"$f":"IF(労働者に係る事項!O180=\"\",\"\",労働者に係る事項!O180)","v":""},null,null,null,null,null,null,null,null,null,null,null,null,null,null,null,null,null,null,{"$f":"IF(労働者に係る事項!P180=\"\",\"\",労働者に係る事項!P180)","v":""},null,null,null,null,null,null,null,null,null,null,null,null,null,{"$f":"IF(労働者に係る事項!Q180=\"\",\"\",労働者に係る事項!Q180)","v":""},null,null,null,null,null,null,null,null,null,null,null,null,null,null,null,null,null,null,null,{"$f":"労働者に係る事項!R180&\"\"","v":""},null,null,null,null,null,null,null,{"$f":"労働者に係る事項!S180&\"\"","v":""}]
[null,"42",null,null,{"$f":"労働者に係る事項!B181&\"\"","v":""},null,null,null,null,null,{"$f":"労働者に係る事項!C181&\"\"","v":""},null,null,null,null,null,null,null,null,null,null,null,null,null,null,null,null,null,null,null,null,null,null,null,null,null,null,null,null,null,{"$f":"労働者に係る事項!D181&\"\"","v":""},null,null,null,null,null,null,null,{"$f":"労働者に係る事項!E181&\"\"","v":""},null,null,null,null,null,null,null,null,null,null,null,null,null,null,null,null,null,null,null,null,null,null,null,null,null,null,null,{"$f":"労働者に係る事項!F181&\"\"","v":""},null,null,null,null,null,null,{"$f":"労働者に係る事項!G181&\"\"","v":""},null,null,null,null,null,{"$f":"労働者に係る事項!H181&\"\"","v":""},null,null,null,null,null,{"$f":"労働者に係る事項!I181&\"\"","v":""},null,null,null,null,null,null,{"$f":"労働者に係る事項!J181&\"\"","v":""},null,null,null,null,null,null,null,null,null,{"$f":"労働者に係る事項!K181&\"\"","v":""},null,null,null,null,null,null,null,null,null,null,null,null,null,null,null,null,{"$f":"労働者に係る事項!L181&\"\"","v":""},null,null,null,null,null,{"$f":"労働者に係る事項!M181&\"\"","v":""},null,null,null,null,null,null,{"$f":"労働者に係る事項!N181&\"\"","v":""},null,null,null,null,null,null,{"$f":"IF(労働者に係る事項!O181=\"\",\"\",労働者に係る事項!O181)","v":""},null,null,null,null,null,null,null,null,null,null,null,null,null,null,null,null,null,null,{"$f":"IF(労働者に係る事項!P181=\"\",\"\",労働者に係る事項!P181)","v":""},null,null,null,null,null,null,null,null,null,null,null,null,null,{"$f":"IF(労働者に係る事項!Q181=\"\",\"\",労働者に係る事項!Q181)","v":""},null,null,null,null,null,null,null,null,null,null,null,null,null,null,null,null,null,null,null,{"$f":"労働者に係る事項!R181&\"\"","v":""},null,null,null,null,null,null,null,{"$f":"労働者に係る事項!S181&\"\"","v":""}]
[null,"43",null,null,{"$f":"労働者に係る事項!B182&\"\"","v":""},null,null,null,null,null,{"$f":"労働者に係る事項!C182&\"\"","v":""},null,null,null,null,null,null,null,null,null,null,null,null,null,null,null,null,null,null,null,null,null,null,null,null,null,null,null,null,null,{"$f":"労働者に係る事項!D182&\"\"","v":""},null,null,null,null,null,null,null,{"$f":"労働者に係る事項!E182&\"\"","v":""},null,null,null,null,null,null,null,null,null,null,null,null,null,null,null,null,null,null,null,null,null,null,null,null,null,null,null,{"$f":"労働者に係る事項!F182&\"\"","v":""},null,null,null,null,null,null,{"$f":"労働者に係る事項!G182&\"\"","v":""},null,null,null,null,null,{"$f":"労働者に係る事項!H182&\"\"","v":""},null,null,null,null,null,{"$f":"労働者に係る事項!I182&\"\"","v":""},null,null,null,null,null,null,{"$f":"労働者に係る事項!J182&\"\"","v":""},null,null,null,null,null,null,null,null,null,{"$f":"労働者に係る事項!K182&\"\"","v":""},null,null,null,null,null,null,null,null,null,null,null,null,null,null,null,null,{"$f":"労働者に係る事項!L182&\"\"","v":""},null,null,null,null,null,{"$f":"労働者に係る事項!M182&\"\"","v":""},null,null,null,null,null,null,{"$f":"労働者に係る事項!N182&\"\"","v":""},null,null,null,null,null,null,{"$f":"IF(労働者に係る事項!O182=\"\",\"\",労働者に係る事項!O182)","v":""},null,null,null,null,null,null,null,null,null,null,null,null,null,null,null,null,null,null,{"$f":"IF(労働者に係る事項!P182=\"\",\"\",労働者に係る事項!P182)","v":""},null,null,null,null,null,null,null,null,null,null,null,null,null,{"$f":"IF(労働者に係る事項!Q182=\"\",\"\",労働者に係る事項!Q182)","v":""},null,null,null,null,null,null,null,null,null,null,null,null,null,null,null,null,null,null,null,{"$f":"労働者に係る事項!R182&\"\"","v":""},null,null,null,null,null,null,null,{"$f":"労働者に係る事項!S182&\"\"","v":""}]
[null,"44",null,null,{"$f":"労働者に係る事項!B183&\"\"","v":""},null,null,null,null,null,{"$f":"労働者に係る事項!C183&\"\"","v":""},null,null,null,null,null,null,null,null,null,null,null,null,null,null,null,null,null,null,null,null,null,null,null,null,null,null,null,null,null,{"$f":"労働者に係る事項!D183&\"\"","v":""},null,null,null,null,null,null,null,{"$f":"労働者に係る事項!E183&\"\"","v":""},null,null,null,null,null,null,null,null,null,null,null,null,null,null,null,null,null,null,null,null,null,null,null,null,null,null,null,{"$f":"労働者に係る事項!F183&\"\"","v":""},null,null,null,null,null,null,{"$f":"労働者に係る事項!G183&\"\"","v":""},null,null,null,null,null,{"$f":"労働者に係る事項!H183&\"\"","v":""},null,null,null,null,null,{"$f":"労働者に係る事項!I183&\"\"","v":""},null,null,null,null,null,null,{"$f":"労働者に係る事項!J183&\"\"","v":""},null,null,null,null,null,null,null,null,null,{"$f":"労働者に係る事項!K183&\"\"","v":""},null,null,null,null,null,null,null,null,null,null,null,null,null,null,null,null,{"$f":"労働者に係る事項!L183&\"\"","v":""},null,null,null,null,null,{"$f":"労働者に係る事項!M183&\"\"","v":""},null,null,null,null,null,null,{"$f":"労働者に係る事項!N183&\"\"","v":""},null,null,null,null,null,null,{"$f":"IF(労働者に係る事項!O183=\"\",\"\",労働者に係る事項!O183)","v":""},null,null,null,null,null,null,null,null,null,null,null,null,null,null,null,null,null,null,{"$f":"IF(労働者に係る事項!P183=\"\",\"\",労働者に係る事項!P183)","v":""},null,null,null,null,null,null,null,null,null,null,null,null,null,{"$f":"IF(労働者に係る事項!Q183=\"\",\"\",労働者に係る事項!Q183)","v":""},null,null,null,null,null,null,null,null,null,null,null,null,null,null,null,null,null,null,null,{"$f":"労働者に係る事項!R183&\"\"","v":""},null,null,null,null,null,null,null,{"$f":"労働者に係る事項!S183&\"\"","v":""}]
[null,"45",null,null,{"$f":"労働者に係る事項!B184&\"\"","v":""},null,null,null,null,null,{"$f":"労働者に係る事項!C184&\"\"","v":""},null,null,null,null,null,null,null,null,null,null,null,null,null,null,null,null,null,null,null,null,null,null,null,null,null,null,null,null,null,{"$f":"労働者に係る事項!D184&\"\"","v":""},null,null,null,null,null,null,null,{"$f":"労働者に係る事項!E184&\"\"","v":""},null,null,null,null,null,null,null,null,null,null,null,null,null,null,null,null,null,null,null,null,null,null,null,null,null,null,null,{"$f":"労働者に係る事項!F184&\"\"","v":""},null,null,null,null,null,null,{"$f":"労働者に係る事項!G184&\"\"","v":""},null,null,null,null,null,{"$f":"労働者に係る事項!H184&\"\"","v":""},null,null,null,null,null,{"$f":"労働者に係る事項!I184&\"\"","v":""},null,null,null,null,null,null,{"$f":"労働者に係る事項!J184&\"\"","v":""},null,null,null,null,null,null,null,null,null,{"$f":"労働者に係る事項!K184&\"\"","v":""},null,null,null,null,null,null,null,null,null,null,null,null,null,null,null,null,{"$f":"労働者に係る事項!L184&\"\"","v":""},null,null,null,null,null,{"$f":"労働者に係る事項!M184&\"\"","v":""},null,null,null,null,null,null,{"$f":"労働者に係る事項!N184&\"\"","v":""},null,null,null,null,null,null,{"$f":"IF(労働者に係る事項!O184=\"\",\"\",労働者に係る事項!O184)","v":""},null,null,null,null,null,null,null,null,null,null,null,null,null,null,null,null,null,null,{"$f":"IF(労働者に係る事項!P184=\"\",\"\",労働者に係る事項!P184)","v":""},null,null,null,null,null,null,null,null,null,null,null,null,null,{"$f":"IF(労働者に係る事項!Q184=\"\",\"\",労働者に係る事項!Q184)","v":""},null,null,null,null,null,null,null,null,null,null,null,null,null,null,null,null,null,null,null,{"$f":"労働者に係る事項!R184&\"\"","v":""},null,null,null,null,null,null,null,{"$f":"労働者に係る事項!S184&\"\"","v":""}]
[null,"46",null,null,{"$f":"労働者に係る事項!B185&\"\"","v":""},null,null,null,null,null,{"$f":"労働者に係る事項!C185&\"\"","v":""},null,null,null,null,null,null,null,null,null,null,null,null,null,null,null,null,null,null,null,null,null,null,null,null,null,null,null,null,null,{"$f":"労働者に係る事項!D185&\"\"","v":""},null,null,null,null,null,null,null,{"$f":"労働者に係る事項!E185&\"\"","v":""},null,null,null,null,null,null,null,null,null,null,null,null,null,null,null,null,null,null,null,null,null,null,null,null,null,null,null,{"$f":"労働者に係る事項!F185&\"\"","v":""},null,null,null,null,null,null,{"$f":"労働者に係る事項!G185&\"\"","v":""},null,null,null,null,null,{"$f":"労働者に係る事項!H185&\"\"","v":""},null,null,null,null,null,{"$f":"労働者に係る事項!I185&\"\"","v":""},null,null,null,null,null,null,{"$f":"労働者に係る事項!J185&\"\"","v":""},null,null,null,null,null,null,null,null,null,{"$f":"労働者に係る事項!K185&\"\"","v":""},null,null,null,null,null,null,null,null,null,null,null,null,null,null,null,null,{"$f":"労働者に係る事項!L185&\"\"","v":""},null,null,null,null,null,{"$f":"労働者に係る事項!M185&\"\"","v":""},null,null,null,null,null,null,{"$f":"労働者に係る事項!N185&\"\"","v":""},null,null,null,null,null,null,{"$f":"IF(労働者に係る事項!O185=\"\",\"\",労働者に係る事項!O185)","v":""},null,null,null,null,null,null,null,null,null,null,null,null,null,null,null,null,null,null,{"$f":"IF(労働者に係る事項!P185=\"\",\"\",労働者に係る事項!P185)","v":""},null,null,null,null,null,null,null,null,null,null,null,null,null,{"$f":"IF(労働者に係る事項!Q185=\"\",\"\",労働者に係る事項!Q185)","v":""},null,null,null,null,null,null,null,null,null,null,null,null,null,null,null,null,null,null,null,{"$f":"労働者に係る事項!R185&\"\"","v":""},null,null,null,null,null,null,null,{"$f":"労働者に係る事項!S185&\"\"","v":""}]
[null,"47",null,null,{"$f":"労働者に係る事項!B186&\"\"","v":""},null,null,null,null,null,{"$f":"労働者に係る事項!C186&\"\"","v":""},null,null,null,null,null,null,null,null,null,null,null,null,null,null,null,null,null,null,null,null,null,null,null,null,null,null,null,null,null,{"$f":"労働者に係る事項!D186&\"\"","v":""},null,null,null,null,null,null,null,{"$f":"労働者に係る事項!E186&\"\"","v":""},null,null,null,null,null,null,null,null,null,null,null,null,null,null,null,null,null,null,null,null,null,null,null,null,null,null,null,{"$f":"労働者に係る事項!F186&\"\"","v":""},null,null,null,null,null,null,{"$f":"労働者に係る事項!G186&\"\"","v":""},null,null,null,null,null,{"$f":"労働者に係る事項!H186&\"\"","v":""},null,null,null,null,null,{"$f":"労働者に係る事項!I186&\"\"","v":""},null,null,null,null,null,null,{"$f":"労働者に係る事項!J186&\"\"","v":""},null,null,null,null,null,null,null,null,null,{"$f":"労働者に係る事項!K186&\"\"","v":""},null,null,null,null,null,null,null,null,null,null,null,null,null,null,null,null,{"$f":"労働者に係る事項!L186&\"\"","v":""},null,null,null,null,null,{"$f":"労働者に係る事項!M186&\"\"","v":""},null,null,null,null,null,null,{"$f":"労働者に係る事項!N186&\"\"","v":""},null,null,null,null,null,null,{"$f":"IF(労働者に係る事項!O186=\"\",\"\",労働者に係る事項!O186)","v":""},null,null,null,null,null,null,null,null,null,null,null,null,null,null,null,null,null,null,{"$f":"IF(労働者に係る事項!P186=\"\",\"\",労働者に係る事項!P186)","v":""},null,null,null,null,null,null,null,null,null,null,null,null,null,{"$f":"IF(労働者に係る事項!Q186=\"\",\"\",労働者に係る事項!Q186)","v":""},null,null,null,null,null,null,null,null,null,null,null,null,null,null,null,null,null,null,null,{"$f":"労働者に係る事項!R186&\"\"","v":""},null,null,null,null,null,null,null,{"$f":"労働者に係る事項!S186&\"\"","v":""}]
[null,"48",null,null,{"$f":"労働者に係る事項!B187&\"\"","v":""},null,null,null,null,null,{"$f":"労働者に係る事項!C187&\"\"","v":""},null,null,null,null,null,null,null,null,null,null,null,null,null,null,null,null,null,null,null,null,null,null,null,null,null,null,null,null,null,{"$f":"労働者に係る事項!D187&\"\"","v":""},null,null,null,null,null,null,null,{"$f":"労働者に係る事項!E187&\"\"","v":""},null,null,null,null,null,null,null,null,null,null,null,null,null,null,null,null,null,null,null,null,null,null,null,null,null,null,null,{"$f":"労働者に係る事項!F187&\"\"","v":""},null,null,null,null,null,null,{"$f":"労働者に係る事項!G187&\"\"","v":""},null,null,null,null,null,{"$f":"労働者に係る事項!H187&\"\"","v":""},null,null,null,null,null,{"$f":"労働者に係る事項!I187&\"\"","v":""},null,null,null,null,null,null,{"$f":"労働者に係る事項!J187&\"\"","v":""},null,null,null,null,null,null,null,null,null,{"$f":"労働者に係る事項!K187&\"\"","v":""},null,null,null,null,null,null,null,null,null,null,null,null,null,null,null,null,{"$f":"労働者に係る事項!L187&\"\"","v":""},null,null,null,null,null,{"$f":"労働者に係る事項!M187&\"\"","v":""},null,null,null,null,null,null,{"$f":"労働者に係る事項!N187&\"\"","v":""},null,null,null,null,null,null,{"$f":"IF(労働者に係る事項!O187=\"\",\"\",労働者に係る事項!O187)","v":""},null,null,null,null,null,null,null,null,null,null,null,null,null,null,null,null,null,null,{"$f":"IF(労働者に係る事項!P187=\"\",\"\",労働者に係る事項!P187)","v":""},null,null,null,null,null,null,null,null,null,null,null,null,null,{"$f":"IF(労働者に係る事項!Q187=\"\",\"\",労働者に係る事項!Q187)","v":""},null,null,null,null,null,null,null,null,null,null,null,null,null,null,null,null,null,null,null,{"$f":"労働者に係る事項!R187&\"\"","v":""},null,null,null,null,null,null,null,{"$f":"労働者に係る事項!S187&\"\"","v":""}]
[null,"49",null,null,{"$f":"労働者に係る事項!B188&\"\"","v":""},null,null,null,null,null,{"$f":"労働者に係る事項!C188&\"\"","v":""},null,null,null,null,null,null,null,null,null,null,null,null,null,null,null,null,null,null,null,null,null,null,null,null,null,null,null,null,null,{"$f":"労働者に係る事項!D188&\"\"","v":""},null,null,null,null,null,null,null,{"$f":"労働者に係る事項!E188&\"\"","v":""},null,null,null,null,null,null,null,null,null,null,null,null,null,null,null,null,null,null,null,null,null,null,null,null,null,null,null,{"$f":"労働者に係る事項!F188&\"\"","v":""},null,null,null,null,null,null,{"$f":"労働者に係る事項!G188&\"\"","v":""},null,null,null,null,null,{"$f":"労働者に係る事項!H188&\"\"","v":""},null,null,null,null,null,{"$f":"労働者に係る事項!I188&\"\"","v":""},null,null,null,null,null,null,{"$f":"労働者に係る事項!J188&\"\"","v":""},null,null,null,null,null,null,null,null,null,{"$f":"労働者に係る事項!K188&\"\"","v":""},null,null,null,null,null,null,null,null,null,null,null,null,null,null,null,null,{"$f":"労働者に係る事項!L188&\"\"","v":""},null,null,null,null,null,{"$f":"労働者に係る事項!M188&\"\"","v":""},null,null,null,null,null,null,{"$f":"労働者に係る事項!N188&\"\"","v":""},null,null,null,null,null,null,{"$f":"IF(労働者に係る事項!O188=\"\",\"\",労働者に係る事項!O188)","v":""},null,null,null,null,null,null,null,null,null,null,null,null,null,null,null,null,null,null,{"$f":"IF(労働者に係る事項!P188=\"\",\"\",労働者に係る事項!P188)","v":""},null,null,null,null,null,null,null,null,null,null,null,null,null,{"$f":"IF(労働者に係る事項!Q188=\"\",\"\",労働者に係る事項!Q188)","v":""},null,null,null,null,null,null,null,null,null,null,null,null,null,null,null,null,null,null,null,{"$f":"労働者に係る事項!R188&\"\"","v":""},null,null,null,null,null,null,null,{"$f":"労働者に係る事項!S188&\"\"","v":""}]
[null,"50",null,null,{"$f":"労働者に係る事項!B189&\"\"","v":""},null,null,null,null,null,{"$f":"労働者に係る事項!C189&\"\"","v":""},null,null,null,null,null,null,null,null,null,null,null,null,null,null,null,null,null,null,null,null,null,null,null,null,null,null,null,null,null,{"$f":"労働者に係る事項!D189&\"\"","v":""},null,null,null,null,null,null,null,{"$f":"労働者に係る事項!E189&\"\"","v":""},null,null,null,null,null,null,null,null,null,null,null,null,null,null,null,null,null,null,null,null,null,null,null,null,null,null,null,{"$f":"労働者に係る事項!F189&\"\"","v":""},null,null,null,null,null,null,{"$f":"労働者に係る事項!G189&\"\"","v":""},null,null,null,null,null,{"$f":"労働者に係る事項!H189&\"\"","v":""},null,null,null,null,null,{"$f":"労働者に係る事項!I189&\"\"","v":""},null,null,null,null,null,null,{"$f":"労働者に係る事項!J189&\"\"","v":""},null,null,null,null,null,null,null,null,null,{"$f":"労働者に係る事項!K189&\"\"","v":""},null,null,null,null,null,null,null,null,null,null,null,null,null,null,null,null,{"$f":"労働者に係る事項!L189&\"\"","v":""},null,null,null,null,null,{"$f":"労働者に係る事項!M189&\"\"","v":""},null,null,null,null,null,null,{"$f":"労働者に係る事項!N189&\"\"","v":""},null,null,null,null,null,null,{"$f":"IF(労働者に係る事項!O189=\"\",\"\",労働者に係る事項!O189)","v":""},null,null,null,null,null,null,null,null,null,null,null,null,null,null,null,null,null,null,{"$f":"IF(労働者に係る事項!P189=\"\",\"\",労働者に係る事項!P189)","v":""},null,null,null,null,null,null,null,null,null,null,null,null,null,{"$f":"IF(労働者に係る事項!Q189=\"\",\"\",労働者に係る事項!Q189)","v":""},null,null,null,null,null,null,null,null,null,null,null,null,null,null,null,null,null,null,null,{"$f":"労働者に係る事項!R189&\"\"","v":""},null,null,null,null,null,null,null,{"$f":"労働者に係る事項!S189&\"\"","v":""}]
[null,"51",null,null,{"$f":"労働者に係る事項!B190&\"\"","v":""},null,null,null,null,null,{"$f":"労働者に係る事項!C190&\"\"","v":""},null,null,null,null,null,null,null,null,null,null,null,null,null,null,null,null,null,null,null,null,null,null,null,null,null,null,null,null,null,{"$f":"労働者に係る事項!D190&\"\"","v":""},null,null,null,null,null,null,null,{"$f":"労働者に係る事項!E190&\"\"","v":""},null,null,null,null,null,null,null,null,null,null,null,null,null,null,null,null,null,null,null,null,null,null,null,null,null,null,null,{"$f":"労働者に係る事項!F190&\"\"","v":""},null,null,null,null,null,null,{"$f":"労働者に係る事項!G190&\"\"","v":""},null,null,null,null,null,{"$f":"労働者に係る事項!H190&\"\"","v":""},null,null,null,null,null,{"$f":"労働者に係る事項!I190&\"\"","v":""},null,null,null,null,null,null,{"$f":"労働者に係る事項!J190&\"\"","v":""},null,null,null,null,null,null,null,null,null,{"$f":"労働者に係る事項!K190&\"\"","v":""},null,null,null,null,null,null,null,null,null,null,null,null,null,null,null,null,{"$f":"労働者に係る事項!L190&\"\"","v":""},null,null,null,null,null,{"$f":"労働者に係る事項!M190&\"\"","v":""},null,null,null,null,null,null,{"$f":"労働者に係る事項!N190&\"\"","v":""},null,null,null,null,null,null,{"$f":"IF(労働者に係る事項!O190=\"\",\"\",労働者に係る事項!O190)","v":""},null,null,null,null,null,null,null,null,null,null,null,null,null,null,null,null,null,null,{"$f":"IF(労働者に係る事項!P190=\"\",\"\",労働者に係る事項!P190)","v":""},null,null,null,null,null,null,null,null,null,null,null,null,null,{"$f":"IF(労働者に係る事項!Q190=\"\",\"\",労働者に係る事項!Q190)","v":""},null,null,null,null,null,null,null,null,null,null,null,null,null,null,null,null,null,null,null,{"$f":"労働者に係る事項!R190&\"\"","v":""},null,null,null,null,null,null,null,{"$f":"労働者に係る事項!S190&\"\"","v":""}]
[null,"52",null,null,{"$f":"労働者に係る事項!B191&\"\"","v":""},null,null,null,null,null,{"$f":"労働者に係る事項!C191&\"\"","v":""},null,null,null,null,null,null,null,null,null,null,null,null,null,null,null,null,null,null,null,null,null,null,null,null,null,null,null,null,null,{"$f":"労働者に係る事項!D191&\"\"","v":""},null,null,null,null,null,null,null,{"$f":"労働者に係る事項!E191&\"\"","v":""},null,null,null,null,null,null,null,null,null,null,null,null,null,null,null,null,null,null,null,null,null,null,null,null,null,null,null,{"$f":"労働者に係る事項!F191&\"\"","v":""},null,null,null,null,null,null,{"$f":"労働者に係る事項!G191&\"\"","v":""},null,null,null,null,null,{"$f":"労働者に係る事項!H191&\"\"","v":""},null,null,null,null,null,{"$f":"労働者に係る事項!I191&\"\"","v":""},null,null,null,null,null,null,{"$f":"労働者に係る事項!J191&\"\"","v":""},null,null,null,null,null,null,null,null,null,{"$f":"労働者に係る事項!K191&\"\"","v":""},null,null,null,null,null,null,null,null,null,null,null,null,null,null,null,null,{"$f":"労働者に係る事項!L191&\"\"","v":""},null,null,null,null,null,{"$f":"労働者に係る事項!M191&\"\"","v":""},null,null,null,null,null,null,{"$f":"労働者に係る事項!N191&\"\"","v":""},null,null,null,null,null,null,{"$f":"IF(労働者に係る事項!O191=\"\",\"\",労働者に係る事項!O191)","v":""},null,null,null,null,null,null,null,null,null,null,null,null,null,null,null,null,null,null,{"$f":"IF(労働者に係る事項!P191=\"\",\"\",労働者に係る事項!P191)","v":""},null,null,null,null,null,null,null,null,null,null,null,null,null,{"$f":"IF(労働者に係る事項!Q191=\"\",\"\",労働者に係る事項!Q191)","v":""},null,null,null,null,null,null,null,null,null,null,null,null,null,null,null,null,null,null,null,{"$f":"労働者に係る事項!R191&\"\"","v":""},null,null,null,null,null,null,null,{"$f":"労働者に係る事項!S191&\"\"","v":""}]
[null,"53",null,null,{"$f":"労働者に係る事項!B192&\"\"","v":""},null,null,null,null,null,{"$f":"労働者に係る事項!C192&\"\"","v":""},null,null,null,null,null,null,null,null,null,null,null,null,null,null,null,null,null,null,null,null,null,null,null,null,null,null,null,null,null,{"$f":"労働者に係る事項!D192&\"\"","v":""},null,null,null,null,null,null,null,{"$f":"労働者に係る事項!E192&\"\"","v":""},null,null,null,null,null,null,null,null,null,null,null,null,null,null,null,null,null,null,null,null,null,null,null,null,null,null,null,{"$f":"労働者に係る事項!F192&\"\"","v":""},null,null,null,null,null,null,{"$f":"労働者に係る事項!G192&\"\"","v":""},null,null,null,null,null,{"$f":"労働者に係る事項!H192&\"\"","v":""},null,null,null,null,null,{"$f":"労働者に係る事項!I192&\"\"","v":""},null,null,null,null,null,null,{"$f":"労働者に係る事項!J192&\"\"","v":""},null,null,null,null,null,null,null,null,null,{"$f":"労働者に係る事項!K192&\"\"","v":""},null,null,null,null,null,null,null,null,null,null,null,null,null,null,null,null,{"$f":"労働者に係る事項!L192&\"\"","v":""},null,null,null,null,null,{"$f":"労働者に係る事項!M192&\"\"","v":""},null,null,null,null,null,null,{"$f":"労働者に係る事項!N192&\"\"","v":""},null,null,null,null,null,null,{"$f":"IF(労働者に係る事項!O192=\"\",\"\",労働者に係る事項!O192)","v":""},null,null,null,null,null,null,null,null,null,null,null,null,null,null,null,null,null,null,{"$f":"IF(労働者に係る事項!P192=\"\",\"\",労働者に係る事項!P192)","v":""},null,null,null,null,null,null,null,null,null,null,null,null,null,{"$f":"IF(労働者に係る事項!Q192=\"\",\"\",労働者に係る事項!Q192)","v":""},null,null,null,null,null,null,null,null,null,null,null,null,null,null,null,null,null,null,null,{"$f":"労働者に係る事項!R192&\"\"","v":""},null,null,null,null,null,null,null,{"$f":"労働者に係る事項!S192&\"\"","v":""}]
[null,"54",null,null,{"$f":"労働者に係る事項!B193&\"\"","v":""},null,null,null,null,null,{"$f":"労働者に係る事項!C193&\"\"","v":""},null,null,null,null,null,null,null,null,null,null,null,null,null,null,null,null,null,null,null,null,null,null,null,null,null,null,null,null,null,{"$f":"労働者に係る事項!D193&\"\"","v":""},null,null,null,null,null,null,null,{"$f":"労働者に係る事項!E193&\"\"","v":""},null,null,null,null,null,null,null,null,null,null,null,null,null,null,null,null,null,null,null,null,null,null,null,null,null,null,null,{"$f":"労働者に係る事項!F193&\"\"","v":""},null,null,null,null,null,null,{"$f":"労働者に係る事項!G193&\"\"","v":""},null,null,null,null,null,{"$f":"労働者に係る事項!H193&\"\"","v":""},null,null,null,null,null,{"$f":"労働者に係る事項!I193&\"\"","v":""},null,null,null,null,null,null,{"$f":"労働者に係る事項!J193&\"\"","v":""},null,null,null,null,null,null,null,null,null,{"$f":"労働者に係る事項!K193&\"\"","v":""},null,null,null,null,null,null,null,null,null,null,null,null,null,null,null,null,{"$f":"労働者に係る事項!L193&\"\"","v":""},null,null,null,null,null,{"$f":"労働者に係る事項!M193&\"\"","v":""},null,null,null,null,null,null,{"$f":"労働者に係る事項!N193&\"\"","v":""},null,null,null,null,null,null,{"$f":"IF(労働者に係る事項!O193=\"\",\"\",労働者に係る事項!O193)","v":""},null,null,null,null,null,null,null,null,null,null,null,null,null,null,null,null,null,null,{"$f":"IF(労働者に係る事項!P193=\"\",\"\",労働者に係る事項!P193)","v":""},null,null,null,null,null,null,null,null,null,null,null,null,null,{"$f":"IF(労働者に係る事項!Q193=\"\",\"\",労働者に係る事項!Q193)","v":""},null,null,null,null,null,null,null,null,null,null,null,null,null,null,null,null,null,null,null,{"$f":"労働者に係る事項!R193&\"\"","v":""},null,null,null,null,null,null,null,{"$f":"労働者に係る事項!S193&\"\"","v":""}]
[null,"55",null,null,{"$f":"労働者に係る事項!B194&\"\"","v":""},null,null,null,null,null,{"$f":"労働者に係る事項!C194&\"\"","v":""},null,null,null,null,null,null,null,null,null,null,null,null,null,null,null,null,null,null,null,null,null,null,null,null,null,null,null,null,null,{"$f":"労働者に係る事項!D194&\"\"","v":""},null,null,null,null,null,null,null,{"$f":"労働者に係る事項!E194&\"\"","v":""},null,null,null,null,null,null,null,null,null,null,null,null,null,null,null,null,null,null,null,null,null,null,null,null,null,null,null,{"$f":"労働者に係る事項!F194&\"\"","v":""},null,null,null,null,null,null,{"$f":"労働者に係る事項!G194&\"\"","v":""},null,null,null,null,null,{"$f":"労働者に係る事項!H194&\"\"","v":""},null,null,null,null,null,{"$f":"労働者に係る事項!I194&\"\"","v":""},null,null,null,null,null,null,{"$f":"労働者に係る事項!J194&\"\"","v":""},null,null,null,null,null,null,null,null,null,{"$f":"労働者に係る事項!K194&\"\"","v":""},null,null,null,null,null,null,null,null,null,null,null,null,null,null,null,null,{"$f":"労働者に係る事項!L194&\"\"","v":""},null,null,null,null,null,{"$f":"労働者に係る事項!M194&\"\"","v":""},null,null,null,null,null,null,{"$f":"労働者に係る事項!N194&\"\"","v":""},null,null,null,null,null,null,{"$f":"IF(労働者に係る事項!O194=\"\",\"\",労働者に係る事項!O194)","v":""},null,null,null,null,null,null,null,null,null,null,null,null,null,null,null,null,null,null,{"$f":"IF(労働者に係る事項!P194=\"\",\"\",労働者に係る事項!P194)","v":""},null,null,null,null,null,null,null,null,null,null,null,null,null,{"$f":"IF(労働者に係る事項!Q194=\"\",\"\",労働者に係る事項!Q194)","v":""},null,null,null,null,null,null,null,null,null,null,null,null,null,null,null,null,null,null,null,{"$f":"労働者に係る事項!R194&\"\"","v":""},null,null,null,null,null,null,null,{"$f":"労働者に係る事項!S194&\"\"","v":""}]
[null,"56",null,null,{"$f":"労働者に係る事項!B195&\"\"","v":""},null,null,null,null,null,{"$f":"労働者に係る事項!C195&\"\"","v":""},null,null,null,null,null,null,null,null,null,null,null,null,null,null,null,null,null,null,null,null,null,null,null,null,null,null,null,null,null,{"$f":"労働者に係る事項!D195&\"\"","v":""},null,null,null,null,null,null,null,{"$f":"労働者に係る事項!E195&\"\"","v":""},null,null,null,null,null,null,null,null,null,null,null,null,null,null,null,null,null,null,null,null,null,null,null,null,null,null,null,{"$f":"労働者に係る事項!F195&\"\"","v":""},null,null,null,null,null,null,{"$f":"労働者に係る事項!G195&\"\"","v":""},null,null,null,null,null,{"$f":"労働者に係る事項!H195&\"\"","v":""},null,null,null,null,null,{"$f":"労働者に係る事項!I195&\"\"","v":""},null,null,null,null,null,null,{"$f":"労働者に係る事項!J195&\"\"","v":""},null,null,null,null,null,null,null,null,null,{"$f":"労働者に係る事項!K195&\"\"","v":""},null,null,null,null,null,null,null,null,null,null,null,null,null,null,null,null,{"$f":"労働者に係る事項!L195&\"\"","v":""},null,null,null,null,null,{"$f":"労働者に係る事項!M195&\"\"","v":""},null,null,null,null,null,null,{"$f":"労働者に係る事項!N195&\"\"","v":""},null,null,null,null,null,null,{"$f":"IF(労働者に係る事項!O195=\"\",\"\",労働者に係る事項!O195)","v":""},null,null,null,null,null,null,null,null,null,null,null,null,null,null,null,null,null,null,{"$f":"IF(労働者に係る事項!P195=\"\",\"\",労働者に係る事項!P195)","v":""},null,null,null,null,null,null,null,null,null,null,null,null,null,{"$f":"IF(労働者に係る事項!Q195=\"\",\"\",労働者に係る事項!Q195)","v":""},null,null,null,null,null,null,null,null,null,null,null,null,null,null,null,null,null,null,null,{"$f":"労働者に係る事項!R195&\"\"","v":""},null,null,null,null,null,null,null,{"$f":"労働者に係る事項!S195&\"\"","v":""}]
[null,"57",null,null,{"$f":"労働者に係る事項!B196&\"\"","v":""},null,null,null,null,null,{"$f":"労働者に係る事項!C196&\"\"","v":""},null,null,null,null,null,null,null,null,null,null,null,null,null,null,null,null,null,null,null,null,null,null,null,null,null,null,null,null,null,{"$f":"労働者に係る事項!D196&\"\"","v":""},null,null,null,null,null,null,null,{"$f":"労働者に係る事項!E196&\"\"","v":""},null,null,null,null,null,null,null,null,null,null,null,null,null,null,null,null,null,null,null,null,null,null,null,null,null,null,null,{"$f":"労働者に係る事項!F196&\"\"","v":""},null,null,null,null,null,null,{"$f":"労働者に係る事項!G196&\"\"","v":""},null,null,null,null,null,{"$f":"労働者に係る事項!H196&\"\"","v":""},null,null,null,null,null,{"$f":"労働者に係る事項!I196&\"\"","v":""},null,null,null,null,null,null,{"$f":"労働者に係る事項!J196&\"\"","v":""},null,null,null,null,null,null,null,null,null,{"$f":"労働者に係る事項!K196&\"\"","v":""},null,null,null,null,null,null,null,null,null,null,null,null,null,null,null,null,{"$f":"労働者に係る事項!L196&\"\"","v":""},null,null,null,null,null,{"$f":"労働者に係る事項!M196&\"\"","v":""},null,null,null,null,null,null,{"$f":"労働者に係る事項!N196&\"\"","v":""},null,null,null,null,null,null,{"$f":"IF(労働者に係る事項!O196=\"\",\"\",労働者に係る事項!O196)","v":""},null,null,null,null,null,null,null,null,null,null,null,null,null,null,null,null,null,null,{"$f":"IF(労働者に係る事項!P196=\"\",\"\",労働者に係る事項!P196)","v":""},null,null,null,null,null,null,null,null,null,null,null,null,null,{"$f":"IF(労働者に係る事項!Q196=\"\",\"\",労働者に係る事項!Q196)","v":""},null,null,null,null,null,null,null,null,null,null,null,null,null,null,null,null,null,null,null,{"$f":"労働者に係る事項!R196&\"\"","v":""},null,null,null,null,null,null,null,{"$f":"労働者に係る事項!S196&\"\"","v":""}]
[null,"58",null,null,{"$f":"労働者に係る事項!B197&\"\"","v":""},null,null,null,null,null,{"$f":"労働者に係る事項!C197&\"\"","v":""},null,null,null,null,null,null,null,null,null,null,null,null,null,null,null,null,null,null,null,null,null,null,null,null,null,null,null,null,null,{"$f":"労働者に係る事項!D197&\"\"","v":""},null,null,null,null,null,null,null,{"$f":"労働者に係る事項!E197&\"\"","v":""},null,null,null,null,null,null,null,null,null,null,null,null,null,null,null,null,null,null,null,null,null,null,null,null,null,null,null,{"$f":"労働者に係る事項!F197&\"\"","v":""},null,null,null,null,null,null,{"$f":"労働者に係る事項!G197&\"\"","v":""},null,null,null,null,null,{"$f":"労働者に係る事項!H197&\"\"","v":""},null,null,null,null,null,{"$f":"労働者に係る事項!I197&\"\"","v":""},null,null,null,null,null,null,{"$f":"労働者に係る事項!J197&\"\"","v":""},null,null,null,null,null,null,null,null,null,{"$f":"労働者に係る事項!K197&\"\"","v":""},null,null,null,null,null,null,null,null,null,null,null,null,null,null,null,null,{"$f":"労働者に係る事項!L197&\"\"","v":""},null,null,null,null,null,{"$f":"労働者に係る事項!M197&\"\"","v":""},null,null,null,null,null,null,{"$f":"労働者に係る事項!N197&\"\"","v":""},null,null,null,null,null,null,{"$f":"IF(労働者に係る事項!O197=\"\",\"\",労働者に係る事項!O197)","v":""},null,null,null,null,null,null,null,null,null,null,null,null,null,null,null,null,null,null,{"$f":"IF(労働者に係る事項!P197=\"\",\"\",労働者に係る事項!P197)","v":""},null,null,null,null,null,null,null,null,null,null,null,null,null,{"$f":"IF(労働者に係る事項!Q197=\"\",\"\",労働者に係る事項!Q197)","v":""},null,null,null,null,null,null,null,null,null,null,null,null,null,null,null,null,null,null,null,{"$f":"労働者に係る事項!R197&\"\"","v":""},null,null,null,null,null,null,null,{"$f":"労働者に係る事項!S197&\"\"","v":""}]
[null,"59",null,null,{"$f":"労働者に係る事項!B198&\"\"","v":""},null,null,null,null,null,{"$f":"労働者に係る事項!C198&\"\"","v":""},null,null,null,null,null,null,null,null,null,null,null,null,null,null,null,null,null,null,null,null,null,null,null,null,null,null,null,null,null,{"$f":"労働者に係る事項!D198&\"\"","v":""},null,null,null,null,null,null,null,{"$f":"労働者に係る事項!E198&\"\"","v":""},null,null,null,null,null,null,null,null,null,null,null,null,null,null,null,null,null,null,null,null,null,null,null,null,null,null,null,{"$f":"労働者に係る事項!F198&\"\"","v":""},null,null,null,null,null,null,{"$f":"労働者に係る事項!G198&\"\"","v":""},null,null,null,null,null,{"$f":"労働者に係る事項!H198&\"\"","v":""},null,null,null,null,null,{"$f":"労働者に係る事項!I198&\"\"","v":""},null,null,null,null,null,null,{"$f":"労働者に係る事項!J198&\"\"","v":""},null,null,null,null,null,null,null,null,null,{"$f":"労働者に係る事項!K198&\"\"","v":""},null,null,null,null,null,null,null,null,null,null,null,null,null,null,null,null,{"$f":"労働者に係る事項!L198&\"\"","v":""},null,null,null,null,null,{"$f":"労働者に係る事項!M198&\"\"","v":""},null,null,null,null,null,null,{"$f":"労働者に係る事項!N198&\"\"","v":""},null,null,null,null,null,null,{"$f":"IF(労働者に係る事項!O198=\"\",\"\",労働者に係る事項!O198)","v":""},null,null,null,null,null,null,null,null,null,null,null,null,null,null,null,null,null,null,{"$f":"IF(労働者に係る事項!P198=\"\",\"\",労働者に係る事項!P198)","v":""},null,null,null,null,null,null,null,null,null,null,null,null,null,{"$f":"IF(労働者に係る事項!Q198=\"\",\"\",労働者に係る事項!Q198)","v":""},null,null,null,null,null,null,null,null,null,null,null,null,null,null,null,null,null,null,null,{"$f":"労働者に係る事項!R198&\"\"","v":""},null,null,null,null,null,null,null,{"$f":"労働者に係る事項!S198&\"\"","v":""}]
[null,"60",null,null,{"$f":"労働者に係る事項!B199&\"\"","v":""},null,null,null,null,null,{"$f":"労働者に係る事項!C199&\"\"","v":""},null,null,null,null,null,null,null,null,null,null,null,null,null,null,null,null,null,null,null,null,null,null,null,null,null,null,null,null,null,{"$f":"労働者に係る事項!D199&\"\"","v":""},null,null,null,null,null,null,null,{"$f":"労働者に係る事項!E199&\"\"","v":""},null,null,null,null,null,null,null,null,null,null,null,null,null,null,null,null,null,null,null,null,null,null,null,null,null,null,null,{"$f":"労働者に係る事項!F199&\"\"","v":""},null,null,null,null,null,null,{"$f":"労働者に係る事項!G199&\"\"","v":""},null,null,null,null,null,{"$f":"労働者に係る事項!H199&\"\"","v":""},null,null,null,null,null,{"$f":"労働者に係る事項!I199&\"\"","v":""},null,null,null,null,null,null,{"$f":"労働者に係る事項!J199&\"\"","v":""},null,null,null,null,null,null,null,null,null,{"$f":"労働者に係る事項!K199&\"\"","v":""},null,null,null,null,null,null,null,null,null,null,null,null,null,null,null,null,{"$f":"労働者に係る事項!L199&\"\"","v":""},null,null,null,null,null,{"$f":"労働者に係る事項!M199&\"\"","v":""},null,null,null,null,null,null,{"$f":"労働者に係る事項!N199&\"\"","v":""},null,null,null,null,null,null,{"$f":"IF(労働者に係る事項!O199=\"\",\"\",労働者に係る事項!O199)","v":""},null,null,null,null,null,null,null,null,null,null,null,null,null,null,null,null,null,null,{"$f":"IF(労働者に係る事項!P199=\"\",\"\",労働者に係る事項!P199)","v":""},null,null,null,null,null,null,null,null,null,null,null,null,null,{"$f":"IF(労働者に係る事項!Q199=\"\",\"\",労働者に係る事項!Q199)","v":""},null,null,null,null,null,null,null,null,null,null,null,null,null,null,null,null,null,null,null,{"$f":"労働者に係る事項!R199&\"\"","v":""},null,null,null,null,null,null,null,{"$f":"労働者に係る事項!S199&\"\"","v":""}]
[null,"61",null,null,{"$f":"労働者に係る事項!B200&\"\"","v":""},null,null,null,null,null,{"$f":"労働者に係る事項!C200&\"\"","v":""},null,null,null,null,null,null,null,null,null,null,null,null,null,null,null,null,null,null,null,null,null,null,null,null,null,null,null,null,null,{"$f":"労働者に係る事項!D200&\"\"","v":""},null,null,null,null,null,null,null,{"$f":"労働者に係る事項!E200&\"\"","v":""},null,null,null,null,null,null,null,null,null,null,null,null,null,null,null,null,null,null,null,null,null,null,null,null,null,null,null,{"$f":"労働者に係る事項!F200&\"\"","v":""},null,null,null,null,null,null,{"$f":"労働者に係る事項!G200&\"\"","v":""},null,null,null,null,null,{"$f":"労働者に係る事項!H200&\"\"","v":""},null,null,null,null,null,{"$f":"労働者に係る事項!I200&\"\"","v":""},null,null,null,null,null,null,{"$f":"労働者に係る事項!J200&\"\"","v":""},null,null,null,null,null,null,null,null,null,{"$f":"労働者に係る事項!K200&\"\"","v":""},null,null,null,null,null,null,null,null,null,null,null,null,null,null,null,null,{"$f":"労働者に係る事項!L200&\"\"","v":""},null,null,null,null,null,{"$f":"労働者に係る事項!M200&\"\"","v":""},null,null,null,null,null,null,{"$f":"労働者に係る事項!N200&\"\"","v":""},null,null,null,null,null,null,{"$f":"IF(労働者に係る事項!O200=\"\",\"\",労働者に係る事項!O200)","v":""},null,null,null,null,null,null,null,null,null,null,null,null,null,null,null,null,null,null,{"$f":"IF(労働者に係る事項!P200=\"\",\"\",労働者に係る事項!P200)","v":""},null,null,null,null,null,null,null,null,null,null,null,null,null,{"$f":"IF(労働者に係る事項!Q200=\"\",\"\",労働者に係る事項!Q200)","v":""},null,null,null,null,null,null,null,null,null,null,null,null,null,null,null,null,null,null,null,{"$f":"労働者に係る事項!R200&\"\"","v":""},null,null,null,null,null,null,null,{"$f":"労働者に係る事項!S200&\"\"","v":""}]
[null,"62",null,null,{"$f":"労働者に係る事項!B201&\"\"","v":""},null,null,null,null,null,{"$f":"労働者に係る事項!C201&\"\"","v":""},null,null,null,null,null,null,null,null,null,null,null,null,null,null,null,null,null,null,null,null,null,null,null,null,null,null,null,null,null,{"$f":"労働者に係る事項!D201&\"\"","v":""},null,null,null,null,null,null,null,{"$f":"労働者に係る事項!E201&\"\"","v":""},null,null,null,null,null,null,null,null,null,null,null,null,null,null,null,null,null,null,null,null,null,null,null,null,null,null,null,{"$f":"労働者に係る事項!F201&\"\"","v":""},null,null,null,null,null,null,{"$f":"労働者に係る事項!G201&\"\"","v":""},null,null,null,null,null,{"$f":"労働者に係る事項!H201&\"\"","v":""},null,null,null,null,null,{"$f":"労働者に係る事項!I201&\"\"","v":""},null,null,null,null,null,null,{"$f":"労働者に係る事項!J201&\"\"","v":""},null,null,null,null,null,null,null,null,null,{"$f":"労働者に係る事項!K201&\"\"","v":""},null,null,null,null,null,null,null,null,null,null,null,null,null,null,null,null,{"$f":"労働者に係る事項!L201&\"\"","v":""},null,null,null,null,null,{"$f":"労働者に係る事項!M201&\"\"","v":""},null,null,null,null,null,null,{"$f":"労働者に係る事項!N201&\"\"","v":""},null,null,null,null,null,null,{"$f":"IF(労働者に係る事項!O201=\"\",\"\",労働者に係る事項!O201)","v":""},null,null,null,null,null,null,null,null,null,null,null,null,null,null,null,null,null,null,{"$f":"IF(労働者に係る事項!P201=\"\",\"\",労働者に係る事項!P201)","v":""},null,null,null,null,null,null,null,null,null,null,null,null,null,{"$f":"IF(労働者に係る事項!Q201=\"\",\"\",労働者に係る事項!Q201)","v":""},null,null,null,null,null,null,null,null,null,null,null,null,null,null,null,null,null,null,null,{"$f":"労働者に係る事項!R201&\"\"","v":""},null,null,null,null,null,null,null,{"$f":"労働者に係る事項!S201&\"\"","v":""}]
[null,"63",null,null,{"$f":"労働者に係る事項!B202&\"\"","v":""},null,null,null,null,null,{"$f":"労働者に係る事項!C202&\"\"","v":""},null,null,null,null,null,null,null,null,null,null,null,null,null,null,null,null,null,null,null,null,null,null,null,null,null,null,null,null,null,{"$f":"労働者に係る事項!D202&\"\"","v":""},null,null,null,null,null,null,null,{"$f":"労働者に係る事項!E202&\"\"","v":""},null,null,null,null,null,null,null,null,null,null,null,null,null,null,null,null,null,null,null,null,null,null,null,null,null,null,null,{"$f":"労働者に係る事項!F202&\"\"","v":""},null,null,null,null,null,null,{"$f":"労働者に係る事項!G202&\"\"","v":""},null,null,null,null,null,{"$f":"労働者に係る事項!H202&\"\"","v":""},null,null,null,null,null,{"$f":"労働者に係る事項!I202&\"\"","v":""},null,null,null,null,null,null,{"$f":"労働者に係る事項!J202&\"\"","v":""},null,null,null,null,null,null,null,null,null,{"$f":"労働者に係る事項!K202&\"\"","v":""},null,null,null,null,null,null,null,null,null,null,null,null,null,null,null,null,{"$f":"労働者に係る事項!L202&\"\"","v":""},null,null,null,null,null,{"$f":"労働者に係る事項!M202&\"\"","v":""},null,null,null,null,null,null,{"$f":"労働者に係る事項!N202&\"\"","v":""},null,null,null,null,null,null,{"$f":"IF(労働者に係る事項!O202=\"\",\"\",労働者に係る事項!O202)","v":""},null,null,null,null,null,null,null,null,null,null,null,null,null,null,null,null,null,null,{"$f":"IF(労働者に係る事項!P202=\"\",\"\",労働者に係る事項!P202)","v":""},null,null,null,null,null,null,null,null,null,null,null,null,null,{"$f":"IF(労働者に係る事項!Q202=\"\",\"\",労働者に係る事項!Q202)","v":""},null,null,null,null,null,null,null,null,null,null,null,null,null,null,null,null,null,null,null,{"$f":"労働者に係る事項!R202&\"\"","v":""},null,null,null,null,null,null,null,{"$f":"労働者に係る事項!S202&\"\"","v":""}]
[null,"64",null,null,{"$f":"労働者に係る事項!B203&\"\"","v":""},null,null,null,null,null,{"$f":"労働者に係る事項!C203&\"\"","v":""},null,null,null,null,null,null,null,null,null,null,null,null,null,null,null,null,null,null,null,null,null,null,null,null,null,null,null,null,null,{"$f":"労働者に係る事項!D203&\"\"","v":""},null,null,null,null,null,null,null,{"$f":"労働者に係る事項!E203&\"\"","v":""},null,null,null,null,null,null,null,null,null,null,null,null,null,null,null,null,null,null,null,null,null,null,null,null,null,null,null,{"$f":"労働者に係る事項!F203&\"\"","v":""},null,null,null,null,null,null,{"$f":"労働者に係る事項!G203&\"\"","v":""},null,null,null,null,null,{"$f":"労働者に係る事項!H203&\"\"","v":""},null,null,null,null,null,{"$f":"労働者に係る事項!I203&\"\"","v":""},null,null,null,null,null,null,{"$f":"労働者に係る事項!J203&\"\"","v":""},null,null,null,null,null,null,null,null,null,{"$f":"労働者に係る事項!K203&\"\"","v":""},null,null,null,null,null,null,null,null,null,null,null,null,null,null,null,null,{"$f":"労働者に係る事項!L203&\"\"","v":""},null,null,null,null,null,{"$f":"労働者に係る事項!M203&\"\"","v":""},null,null,null,null,null,null,{"$f":"労働者に係る事項!N203&\"\"","v":""},null,null,null,null,null,null,{"$f":"IF(労働者に係る事項!O203=\"\",\"\",労働者に係る事項!O203)","v":""},null,null,null,null,null,null,null,null,null,null,null,null,null,null,null,null,null,null,{"$f":"IF(労働者に係る事項!P203=\"\",\"\",労働者に係る事項!P203)","v":""},null,null,null,null,null,null,null,null,null,null,null,null,null,{"$f":"IF(労働者に係る事項!Q203=\"\",\"\",労働者に係る事項!Q203)","v":""},null,null,null,null,null,null,null,null,null,null,null,null,null,null,null,null,null,null,null,{"$f":"労働者に係る事項!R203&\"\"","v":""},null,null,null,null,null,null,null,{"$f":"労働者に係る事項!S203&\"\"","v":""}]
[null,"65",null,null,{"$f":"労働者に係る事項!B204&\"\"","v":""},null,null,null,null,null,{"$f":"労働者に係る事項!C204&\"\"","v":""},null,null,null,null,null,null,null,null,null,null,null,null,null,null,null,null,null,null,null,null,null,null,null,null,null,null,null,null,null,{"$f":"労働者に係る事項!D204&\"\"","v":""},null,null,null,null,null,null,null,{"$f":"労働者に係る事項!E204&\"\"","v":""},null,null,null,null,null,null,null,null,null,null,null,null,null,null,null,null,null,null,null,null,null,null,null,null,null,null,null,{"$f":"労働者に係る事項!F204&\"\"","v":""},null,null,null,null,null,null,{"$f":"労働者に係る事項!G204&\"\"","v":""},null,null,null,null,null,{"$f":"労働者に係る事項!H204&\"\"","v":""},null,null,null,null,null,{"$f":"労働者に係る事項!I204&\"\"","v":""},null,null,null,null,null,null,{"$f":"労働者に係る事項!J204&\"\"","v":""},null,null,null,null,null,null,null,null,null,{"$f":"労働者に係る事項!K204&\"\"","v":""},null,null,null,null,null,null,null,null,null,null,null,null,null,null,null,null,{"$f":"労働者に係る事項!L204&\"\"","v":""},null,null,null,null,null,{"$f":"労働者に係る事項!M204&\"\"","v":""},null,null,null,null,null,null,{"$f":"労働者に係る事項!N204&\"\"","v":""},null,null,null,null,null,null,{"$f":"IF(労働者に係る事項!O204=\"\",\"\",労働者に係る事項!O204)","v":""},null,null,null,null,null,null,null,null,null,null,null,null,null,null,null,null,null,null,{"$f":"IF(労働者に係る事項!P204=\"\",\"\",労働者に係る事項!P204)","v":""},null,null,null,null,null,null,null,null,null,null,null,null,null,{"$f":"IF(労働者に係る事項!Q204=\"\",\"\",労働者に係る事項!Q204)","v":""},null,null,null,null,null,null,null,null,null,null,null,null,null,null,null,null,null,null,null,{"$f":"労働者に係る事項!R204&\"\"","v":""},null,null,null,null,null,null,null,{"$f":"労働者に係る事項!S204&\"\"","v":""}]
[null,"66",null,null,{"$f":"労働者に係る事項!B205&\"\"","v":""},null,null,null,null,null,{"$f":"労働者に係る事項!C205&\"\"","v":""},null,null,null,null,null,null,null,null,null,null,null,null,null,null,null,null,null,null,null,null,null,null,null,null,null,null,null,null,null,{"$f":"労働者に係る事項!D205&\"\"","v":""},null,null,null,null,null,null,null,{"$f":"労働者に係る事項!E205&\"\"","v":""},null,null,null,null,null,null,null,null,null,null,null,null,null,null,null,null,null,null,null,null,null,null,null,null,null,null,null,{"$f":"労働者に係る事項!F205&\"\"","v":""},null,null,null,null,null,null,{"$f":"労働者に係る事項!G205&\"\"","v":""},null,null,null,null,null,{"$f":"労働者に係る事項!H205&\"\"","v":""},null,null,null,null,null,{"$f":"労働者に係る事項!I205&\"\"","v":""},null,null,null,null,null,null,{"$f":"労働者に係る事項!J205&\"\"","v":""},null,null,null,null,null,null,null,null,null,{"$f":"労働者に係る事項!K205&\"\"","v":""},null,null,null,null,null,null,null,null,null,null,null,null,null,null,null,null,{"$f":"労働者に係る事項!L205&\"\"","v":""},null,null,null,null,null,{"$f":"労働者に係る事項!M205&\"\"","v":""},null,null,null,null,null,null,{"$f":"労働者に係る事項!N205&\"\"","v":""},null,null,null,null,null,null,{"$f":"IF(労働者に係る事項!O205=\"\",\"\",労働者に係る事項!O205)","v":""},null,null,null,null,null,null,null,null,null,null,null,null,null,null,null,null,null,null,{"$f":"IF(労働者に係る事項!P205=\"\",\"\",労働者に係る事項!P205)","v":""},null,null,null,null,null,null,null,null,null,null,null,null,null,{"$f":"IF(労働者に係る事項!Q205=\"\",\"\",労働者に係る事項!Q205)","v":""},null,null,null,null,null,null,null,null,null,null,null,null,null,null,null,null,null,null,null,{"$f":"労働者に係る事項!R205&\"\"","v":""},null,null,null,null,null,null,null,{"$f":"労働者に係る事項!S205&\"\"","v":""}]
[null,"67",null,null,{"$f":"労働者に係る事項!B206&\"\"","v":""},null,null,null,null,null,{"$f":"労働者に係る事項!C206&\"\"","v":""},null,null,null,null,null,null,null,null,null,null,null,null,null,null,null,null,null,null,null,null,null,null,null,null,null,null,null,null,null,{"$f":"労働者に係る事項!D206&\"\"","v":""},null,null,null,null,null,null,null,{"$f":"労働者に係る事項!E206&\"\"","v":""},null,null,null,null,null,null,null,null,null,null,null,null,null,null,null,null,null,null,null,null,null,null,null,null,null,null,null,{"$f":"労働者に係る事項!F206&\"\"","v":""},null,null,null,null,null,null,{"$f":"労働者に係る事項!G206&\"\"","v":""},null,null,null,null,null,{"$f":"労働者に係る事項!H206&\"\"","v":""},null,null,null,null,null,{"$f":"労働者に係る事項!I206&\"\"","v":""},null,null,null,null,null,null,{"$f":"労働者に係る事項!J206&\"\"","v":""},null,null,null,null,null,null,null,null,null,{"$f":"労働者に係る事項!K206&\"\"","v":""},null,null,null,null,null,null,null,null,null,null,null,null,null,null,null,null,{"$f":"労働者に係る事項!L206&\"\"","v":""},null,null,null,null,null,{"$f":"労働者に係る事項!M206&\"\"","v":""},null,null,null,null,null,null,{"$f":"労働者に係る事項!N206&\"\"","v":""},null,null,null,null,null,null,{"$f":"IF(労働者に係る事項!O206=\"\",\"\",労働者に係る事項!O206)","v":""},null,null,null,null,null,null,null,null,null,null,null,null,null,null,null,null,null,null,{"$f":"IF(労働者に係る事項!P206=\"\",\"\",労働者に係る事項!P206)","v":""},null,null,null,null,null,null,null,null,null,null,null,null,null,{"$f":"IF(労働者に係る事項!Q206=\"\",\"\",労働者に係る事項!Q206)","v":""},null,null,null,null,null,null,null,null,null,null,null,null,null,null,null,null,null,null,null,{"$f":"労働者に係る事項!R206&\"\"","v":""},null,null,null,null,null,null,null,{"$f":"労働者に係る事項!S206&\"\"","v":""}]
[null,"68",null,null,{"$f":"労働者に係る事項!B207&\"\"","v":""},null,null,null,null,null,{"$f":"労働者に係る事項!C207&\"\"","v":""},null,null,null,null,null,null,null,null,null,null,null,null,null,null,null,null,null,null,null,null,null,null,null,null,null,null,null,null,null,{"$f":"労働者に係る事項!D207&\"\"","v":""},null,null,null,null,null,null,null,{"$f":"労働者に係る事項!E207&\"\"","v":""},null,null,null,null,null,null,null,null,null,null,null,null,null,null,null,null,null,null,null,null,null,null,null,null,null,null,null,{"$f":"労働者に係る事項!F207&\"\"","v":""},null,null,null,null,null,null,{"$f":"労働者に係る事項!G207&\"\"","v":""},null,null,null,null,null,{"$f":"労働者に係る事項!H207&\"\"","v":""},null,null,null,null,null,{"$f":"労働者に係る事項!I207&\"\"","v":""},null,null,null,null,null,null,{"$f":"労働者に係る事項!J207&\"\"","v":""},null,null,null,null,null,null,null,null,null,{"$f":"労働者に係る事項!K207&\"\"","v":""},null,null,null,null,null,null,null,null,null,null,null,null,null,null,null,null,{"$f":"労働者に係る事項!L207&\"\"","v":""},null,null,null,null,null,{"$f":"労働者に係る事項!M207&\"\"","v":""},null,null,null,null,null,null,{"$f":"労働者に係る事項!N207&\"\"","v":""},null,null,null,null,null,null,{"$f":"IF(労働者に係る事項!O207=\"\",\"\",労働者に係る事項!O207)","v":""},null,null,null,null,null,null,null,null,null,null,null,null,null,null,null,null,null,null,{"$f":"IF(労働者に係る事項!P207=\"\",\"\",労働者に係る事項!P207)","v":""},null,null,null,null,null,null,null,null,null,null,null,null,null,{"$f":"IF(労働者に係る事項!Q207=\"\",\"\",労働者に係る事項!Q207)","v":""},null,null,null,null,null,null,null,null,null,null,null,null,null,null,null,null,null,null,null,{"$f":"労働者に係る事項!R207&\"\"","v":""},null,null,null,null,null,null,null,{"$f":"労働者に係る事項!S207&\"\"","v":""}]
[null,"69",null,null,{"$f":"労働者に係る事項!B208&\"\"","v":""},null,null,null,null,null,{"$f":"労働者に係る事項!C208&\"\"","v":""},null,null,null,null,null,null,null,null,null,null,null,null,null,null,null,null,null,null,null,null,null,null,null,null,null,null,null,null,null,{"$f":"労働者に係る事項!D208&\"\"","v":""},null,null,null,null,null,null,null,{"$f":"労働者に係る事項!E208&\"\"","v":""},null,null,null,null,null,null,null,null,null,null,null,null,null,null,null,null,null,null,null,null,null,null,null,null,null,null,null,{"$f":"労働者に係る事項!F208&\"\"","v":""},null,null,null,null,null,null,{"$f":"労働者に係る事項!G208&\"\"","v":""},null,null,null,null,null,{"$f":"労働者に係る事項!H208&\"\"","v":""},null,null,null,null,null,{"$f":"労働者に係る事項!I208&\"\"","v":""},null,null,null,null,null,null,{"$f":"労働者に係る事項!J208&\"\"","v":""},null,null,null,null,null,null,null,null,null,{"$f":"労働者に係る事項!K208&\"\"","v":""},null,null,null,null,null,null,null,null,null,null,null,null,null,null,null,null,{"$f":"労働者に係る事項!L208&\"\"","v":""},null,null,null,null,null,{"$f":"労働者に係る事項!M208&\"\"","v":""},null,null,null,null,null,null,{"$f":"労働者に係る事項!N208&\"\"","v":""},null,null,null,null,null,null,{"$f":"IF(労働者に係る事項!O208=\"\",\"\",労働者に係る事項!O208)","v":""},null,null,null,null,null,null,null,null,null,null,null,null,null,null,null,null,null,null,{"$f":"IF(労働者に係る事項!P208=\"\",\"\",労働者に係る事項!P208)","v":""},null,null,null,null,null,null,null,null,null,null,null,null,null,{"$f":"IF(労働者に係る事項!Q208=\"\",\"\",労働者に係る事項!Q208)","v":""},null,null,null,null,null,null,null,null,null,null,null,null,null,null,null,null,null,null,null,{"$f":"労働者に係る事項!R208&\"\"","v":""},null,null,null,null,null,null,null,{"$f":"労働者に係る事項!S208&\"\"","v":""}]
[null,"70",null,null,{"$f":"労働者に係る事項!B209&\"\"","v":""},null,null,null,null,null,{"$f":"労働者に係る事項!C209&\"\"","v":""},null,null,null,null,null,null,null,null,null,null,null,null,null,null,null,null,null,null,null,null,null,null,null,null,null,null,null,null,null,{"$f":"労働者に係る事項!D209&\"\"","v":""},null,null,null,null,null,null,null,{"$f":"労働者に係る事項!E209&\"\"","v":""},null,null,null,null,null,null,null,null,null,null,null,null,null,null,null,null,null,null,null,null,null,null,null,null,null,null,null,{"$f":"労働者に係る事項!F209&\"\"","v":""},null,null,null,null,null,null,{"$f":"労働者に係る事項!G209&\"\"","v":""},null,null,null,null,null,{"$f":"労働者に係る事項!H209&\"\"","v":""},null,null,null,null,null,{"$f":"労働者に係る事項!I209&\"\"","v":""},null,null,null,null,null,null,{"$f":"労働者に係る事項!J209&\"\"","v":""},null,null,null,null,null,null,null,null,null,{"$f":"労働者に係る事項!K209&\"\"","v":""},null,null,null,null,null,null,null,null,null,null,null,null,null,null,null,null,{"$f":"労働者に係る事項!L209&\"\"","v":""},null,null,null,null,null,{"$f":"労働者に係る事項!M209&\"\"","v":""},null,null,null,null,null,null,{"$f":"労働者に係る事項!N209&\"\"","v":""},null,null,null,null,null,null,{"$f":"IF(労働者に係る事項!O209=\"\",\"\",労働者に係る事項!O209)","v":""},null,null,null,null,null,null,null,null,null,null,null,null,null,null,null,null,null,null,{"$f":"IF(労働者に係る事項!P209=\"\",\"\",労働者に係る事項!P209)","v":""},null,null,null,null,null,null,null,null,null,null,null,null,null,{"$f":"IF(労働者に係る事項!Q209=\"\",\"\",労働者に係る事項!Q209)","v":""},null,null,null,null,null,null,null,null,null,null,null,null,null,null,null,null,null,null,null,{"$f":"労働者に係る事項!R209&\"\"","v":""},null,null,null,null,null,null,null,{"$f":"労働者に係る事項!S209&\"\"","v":""}]
[null,"71",null,null,{"$f":"労働者に係る事項!B210&\"\"","v":""},null,null,null,null,null,{"$f":"労働者に係る事項!C210&\"\"","v":""},null,null,null,null,null,null,null,null,null,null,null,null,null,null,null,null,null,null,null,null,null,null,null,null,null,null,null,null,null,{"$f":"労働者に係る事項!D210&\"\"","v":""},null,null,null,null,null,null,null,{"$f":"労働者に係る事項!E210&\"\"","v":""},null,null,null,null,null,null,null,null,null,null,null,null,null,null,null,null,null,null,null,null,null,null,null,null,null,null,null,{"$f":"労働者に係る事項!F210&\"\"","v":""},null,null,null,null,null,null,{"$f":"労働者に係る事項!G210&\"\"","v":""},null,null,null,null,null,{"$f":"労働者に係る事項!H210&\"\"","v":""},null,null,null,null,null,{"$f":"労働者に係る事項!I210&\"\"","v":""},null,null,null,null,null,null,{"$f":"労働者に係る事項!J210&\"\"","v":""},null,null,null,null,null,null,null,null,null,{"$f":"労働者に係る事項!K210&\"\"","v":""},null,null,null,null,null,null,null,null,null,null,null,null,null,null,null,null,{"$f":"労働者に係る事項!L210&\"\"","v":""},null,null,null,null,null,{"$f":"労働者に係る事項!M210&\"\"","v":""},null,null,null,null,null,null,{"$f":"労働者に係る事項!N210&\"\"","v":""},null,null,null,null,null,null,{"$f":"IF(労働者に係る事項!O210=\"\",\"\",労働者に係る事項!O210)","v":""},null,null,null,null,null,null,null,null,null,null,null,null,null,null,null,null,null,null,{"$f":"IF(労働者に係る事項!P210=\"\",\"\",労働者に係る事項!P210)","v":""},null,null,null,null,null,null,null,null,null,null,null,null,null,{"$f":"IF(労働者に係る事項!Q210=\"\",\"\",労働者に係る事項!Q210)","v":""},null,null,null,null,null,null,null,null,null,null,null,null,null,null,null,null,null,null,null,{"$f":"労働者に係る事項!R210&\"\"","v":""},null,null,null,null,null,null,null,{"$f":"労働者に係る事項!S210&\"\"","v":""}]
[null,"72",null,null,{"$f":"労働者に係る事項!B211&\"\"","v":""},null,null,null,null,null,{"$f":"労働者に係る事項!C211&\"\"","v":""},null,null,null,null,null,null,null,null,null,null,null,null,null,null,null,null,null,null,null,null,null,null,null,null,null,null,null,null,null,{"$f":"労働者に係る事項!D211&\"\"","v":""},null,null,null,null,null,null,null,{"$f":"労働者に係る事項!E211&\"\"","v":""},null,null,null,null,null,null,null,null,null,null,null,null,null,null,null,null,null,null,null,null,null,null,null,null,null,null,null,{"$f":"労働者に係る事項!F211&\"\"","v":""},null,null,null,null,null,null,{"$f":"労働者に係る事項!G211&\"\"","v":""},null,null,null,null,null,{"$f":"労働者に係る事項!H211&\"\"","v":""},null,null,null,null,null,{"$f":"労働者に係る事項!I211&\"\"","v":""},null,null,null,null,null,null,{"$f":"労働者に係る事項!J211&\"\"","v":""},null,null,null,null,null,null,null,null,null,{"$f":"労働者に係る事項!K211&\"\"","v":""},null,null,null,null,null,null,null,null,null,null,null,null,null,null,null,null,{"$f":"労働者に係る事項!L211&\"\"","v":""},null,null,null,null,null,{"$f":"労働者に係る事項!M211&\"\"","v":""},null,null,null,null,null,null,{"$f":"労働者に係る事項!N211&\"\"","v":""},null,null,null,null,null,null,{"$f":"IF(労働者に係る事項!O211=\"\",\"\",労働者に係る事項!O211)","v":""},null,null,null,null,null,null,null,null,null,null,null,null,null,null,null,null,null,null,{"$f":"IF(労働者に係る事項!P211=\"\",\"\",労働者に係る事項!P211)","v":""},null,null,null,null,null,null,null,null,null,null,null,null,null,{"$f":"IF(労働者に係る事項!Q211=\"\",\"\",労働者に係る事項!Q211)","v":""},null,null,null,null,null,null,null,null,null,null,null,null,null,null,null,null,null,null,null,{"$f":"労働者に係る事項!R211&\"\"","v":""},null,null,null,null,null,null,null,{"$f":"労働者に係る事項!S211&\"\"","v":""}]
[null,"73",null,null,{"$f":"労働者に係る事項!B212&\"\"","v":""},null,null,null,null,null,{"$f":"労働者に係る事項!C212&\"\"","v":""},null,null,null,null,null,null,null,null,null,null,null,null,null,null,null,null,null,null,null,null,null,null,null,null,null,null,null,null,null,{"$f":"労働者に係る事項!D212&\"\"","v":""},null,null,null,null,null,null,null,{"$f":"労働者に係る事項!E212&\"\"","v":""},null,null,null,null,null,null,null,null,null,null,null,null,null,null,null,null,null,null,null,null,null,null,null,null,null,null,null,{"$f":"労働者に係る事項!F212&\"\"","v":""},null,null,null,null,null,null,{"$f":"労働者に係る事項!G212&\"\"","v":""},null,null,null,null,null,{"$f":"労働者に係る事項!H212&\"\"","v":""},null,null,null,null,null,{"$f":"労働者に係る事項!I212&\"\"","v":""},null,null,null,null,null,null,{"$f":"労働者に係る事項!J212&\"\"","v":""},null,null,null,null,null,null,null,null,null,{"$f":"労働者に係る事項!K212&\"\"","v":""},null,null,null,null,null,null,null,null,null,null,null,null,null,null,null,null,{"$f":"労働者に係る事項!L212&\"\"","v":""},null,null,null,null,null,{"$f":"労働者に係る事項!M212&\"\"","v":""},null,null,null,null,null,null,{"$f":"労働者に係る事項!N212&\"\"","v":""},null,null,null,null,null,null,{"$f":"IF(労働者に係る事項!O212=\"\",\"\",労働者に係る事項!O212)","v":""},null,null,null,null,null,null,null,null,null,null,null,null,null,null,null,null,null,null,{"$f":"IF(労働者に係る事項!P212=\"\",\"\",労働者に係る事項!P212)","v":""},null,null,null,null,null,null,null,null,null,null,null,null,null,{"$f":"IF(労働者に係る事項!Q212=\"\",\"\",労働者に係る事項!Q212)","v":""},null,null,null,null,null,null,null,null,null,null,null,null,null,null,null,null,null,null,null,{"$f":"労働者に係る事項!R212&\"\"","v":""},null,null,null,null,null,null,null,{"$f":"労働者に係る事項!S212&\"\"","v":""}]
[null,"74",null,null,{"$f":"労働者に係る事項!B213&\"\"","v":""},null,null,null,null,null,{"$f":"労働者に係る事項!C213&\"\"","v":""},null,null,null,null,null,null,null,null,null,null,null,null,null,null,null,null,null,null,null,null,null,null,null,null,null,null,null,null,null,{"$f":"労働者に係る事項!D213&\"\"","v":""},null,null,null,null,null,null,null,{"$f":"労働者に係る事項!E213&\"\"","v":""},null,null,null,null,null,null,null,null,null,null,null,null,null,null,null,null,null,null,null,null,null,null,null,null,null,null,null,{"$f":"労働者に係る事項!F213&\"\"","v":""},null,null,null,null,null,null,{"$f":"労働者に係る事項!G213&\"\"","v":""},null,null,null,null,null,{"$f":"労働者に係る事項!H213&\"\"","v":""},null,null,null,null,null,{"$f":"労働者に係る事項!I213&\"\"","v":""},null,null,null,null,null,null,{"$f":"労働者に係る事項!J213&\"\"","v":""},null,null,null,null,null,null,null,null,null,{"$f":"労働者に係る事項!K213&\"\"","v":""},null,null,null,null,null,null,null,null,null,null,null,null,null,null,null,null,{"$f":"労働者に係る事項!L213&\"\"","v":""},null,null,null,null,null,{"$f":"労働者に係る事項!M213&\"\"","v":""},null,null,null,null,null,null,{"$f":"労働者に係る事項!N213&\"\"","v":""},null,null,null,null,null,null,{"$f":"IF(労働者に係る事項!O213=\"\",\"\",労働者に係る事項!O213)","v":""},null,null,null,null,null,null,null,null,null,null,null,null,null,null,null,null,null,null,{"$f":"IF(労働者に係る事項!P213=\"\",\"\",労働者に係る事項!P213)","v":""},null,null,null,null,null,null,null,null,null,null,null,null,null,{"$f":"IF(労働者に係る事項!Q213=\"\",\"\",労働者に係る事項!Q213)","v":""},null,null,null,null,null,null,null,null,null,null,null,null,null,null,null,null,null,null,null,{"$f":"労働者に係る事項!R213&\"\"","v":""},null,null,null,null,null,null,null,{"$f":"労働者に係る事項!S213&\"\"","v":""}]
[null,"75",null,null,{"$f":"労働者に係る事項!B214&\"\"","v":""},null,null,null,null,null,{"$f":"労働者に係る事項!C214&\"\"","v":""},null,null,null,null,null,null,null,null,null,null,null,null,null,null,null,null,null,null,null,null,null,null,null,null,null,null,null,null,null,{"$f":"労働者に係る事項!D214&\"\"","v":""},null,null,null,null,null,null,null,{"$f":"労働者に係る事項!E214&\"\"","v":""},null,null,null,null,null,null,null,null,null,null,null,null,null,null,null,null,null,null,null,null,null,null,null,null,null,null,null,{"$f":"労働者に係る事項!F214&\"\"","v":""},null,null,null,null,null,null,{"$f":"労働者に係る事項!G214&\"\"","v":""},null,null,null,null,null,{"$f":"労働者に係る事項!H214&\"\"","v":""},null,null,null,null,null,{"$f":"労働者に係る事項!I214&\"\"","v":""},null,null,null,null,null,null,{"$f":"労働者に係る事項!J214&\"\"","v":""},null,null,null,null,null,null,null,null,null,{"$f":"労働者に係る事項!K214&\"\"","v":""},null,null,null,null,null,null,null,null,null,null,null,null,null,null,null,null,{"$f":"労働者に係る事項!L214&\"\"","v":""},null,null,null,null,null,{"$f":"労働者に係る事項!M214&\"\"","v":""},null,null,null,null,null,null,{"$f":"労働者に係る事項!N214&\"\"","v":""},null,null,null,null,null,null,{"$f":"IF(労働者に係る事項!O214=\"\",\"\",労働者に係る事項!O214)","v":""},null,null,null,null,null,null,null,null,null,null,null,null,null,null,null,null,null,null,{"$f":"IF(労働者に係る事項!P214=\"\",\"\",労働者に係る事項!P214)","v":""},null,null,null,null,null,null,null,null,null,null,null,null,null,{"$f":"IF(労働者に係る事項!Q214=\"\",\"\",労働者に係る事項!Q214)","v":""},null,null,null,null,null,null,null,null,null,null,null,null,null,null,null,null,null,null,null,{"$f":"労働者に係る事項!R214&\"\"","v":""},null,null,null,null,null,null,null,{"$f":"労働者に係る事項!S214&\"\"","v":""}]
[null,"76",null,null,{"$f":"労働者に係る事項!B215&\"\"","v":""},null,null,null,null,null,{"$f":"労働者に係る事項!C215&\"\"","v":""},null,null,null,null,null,null,null,null,null,null,null,null,null,null,null,null,null,null,null,null,null,null,null,null,null,null,null,null,null,{"$f":"労働者に係る事項!D215&\"\"","v":""},null,null,null,null,null,null,null,{"$f":"労働者に係る事項!E215&\"\"","v":""},null,null,null,null,null,null,null,null,null,null,null,null,null,null,null,null,null,null,null,null,null,null,null,null,null,null,null,{"$f":"労働者に係る事項!F215&\"\"","v":""},null,null,null,null,null,null,{"$f":"労働者に係る事項!G215&\"\"","v":""},null,null,null,null,null,{"$f":"労働者に係る事項!H215&\"\"","v":""},null,null,null,null,null,{"$f":"労働者に係る事項!I215&\"\"","v":""},null,null,null,null,null,null,{"$f":"労働者に係る事項!J215&\"\"","v":""},null,null,null,null,null,null,null,null,null,{"$f":"労働者に係る事項!K215&\"\"","v":""},null,null,null,null,null,null,null,null,null,null,null,null,null,null,null,null,{"$f":"労働者に係る事項!L215&\"\"","v":""},null,null,null,null,null,{"$f":"労働者に係る事項!M215&\"\"","v":""},null,null,null,null,null,null,{"$f":"労働者に係る事項!N215&\"\"","v":""},null,null,null,null,null,null,{"$f":"IF(労働者に係る事項!O215=\"\",\"\",労働者に係る事項!O215)","v":""},null,null,null,null,null,null,null,null,null,null,null,null,null,null,null,null,null,null,{"$f":"IF(労働者に係る事項!P215=\"\",\"\",労働者に係る事項!P215)","v":""},null,null,null,null,null,null,null,null,null,null,null,null,null,{"$f":"IF(労働者に係る事項!Q215=\"\",\"\",労働者に係る事項!Q215)","v":""},null,null,null,null,null,null,null,null,null,null,null,null,null,null,null,null,null,null,null,{"$f":"労働者に係る事項!R215&\"\"","v":""},null,null,null,null,null,null,null,{"$f":"労働者に係る事項!S215&\"\"","v":""}]
[null,"77",null,null,{"$f":"労働者に係る事項!B216&\"\"","v":""},null,null,null,null,null,{"$f":"労働者に係る事項!C216&\"\"","v":""},null,null,null,null,null,null,null,null,null,null,null,null,null,null,null,null,null,null,null,null,null,null,null,null,null,null,null,null,null,{"$f":"労働者に係る事項!D216&\"\"","v":""},null,null,null,null,null,null,null,{"$f":"労働者に係る事項!E216&\"\"","v":""},null,null,null,null,null,null,null,null,null,null,null,null,null,null,null,null,null,null,null,null,null,null,null,null,null,null,null,{"$f":"労働者に係る事項!F216&\"\"","v":""},null,null,null,null,null,null,{"$f":"労働者に係る事項!G216&\"\"","v":""},null,null,null,null,null,{"$f":"労働者に係る事項!H216&\"\"","v":""},null,null,null,null,null,{"$f":"労働者に係る事項!I216&\"\"","v":""},null,null,null,null,null,null,{"$f":"労働者に係る事項!J216&\"\"","v":""},null,null,null,null,null,null,null,null,null,{"$f":"労働者に係る事項!K216&\"\"","v":""},null,null,null,null,null,null,null,null,null,null,null,null,null,null,null,null,{"$f":"労働者に係る事項!L216&\"\"","v":""},null,null,null,null,null,{"$f":"労働者に係る事項!M216&\"\"","v":""},null,null,null,null,null,null,{"$f":"労働者に係る事項!N216&\"\"","v":""},null,null,null,null,null,null,{"$f":"IF(労働者に係る事項!O216=\"\",\"\",労働者に係る事項!O216)","v":""},null,null,null,null,null,null,null,null,null,null,null,null,null,null,null,null,null,null,{"$f":"IF(労働者に係る事項!P216=\"\",\"\",労働者に係る事項!P216)","v":""},null,null,null,null,null,null,null,null,null,null,null,null,null,{"$f":"IF(労働者に係る事項!Q216=\"\",\"\",労働者に係る事項!Q216)","v":""},null,null,null,null,null,null,null,null,null,null,null,null,null,null,null,null,null,null,null,{"$f":"労働者に係る事項!R216&\"\"","v":""},null,null,null,null,null,null,null,{"$f":"労働者に係る事項!S216&\"\"","v":""}]
[null,"78",null,null,{"$f":"労働者に係る事項!B217&\"\"","v":""},null,null,null,null,null,{"$f":"労働者に係る事項!C217&\"\"","v":""},null,null,null,null,null,null,null,null,null,null,null,null,null,null,null,null,null,null,null,null,null,null,null,null,null,null,null,null,null,{"$f":"労働者に係る事項!D217&\"\"","v":""},null,null,null,null,null,null,null,{"$f":"労働者に係る事項!E217&\"\"","v":""},null,null,null,null,null,null,null,null,null,null,null,null,null,null,null,null,null,null,null,null,null,null,null,null,null,null,null,{"$f":"労働者に係る事項!F217&\"\"","v":""},null,null,null,null,null,null,{"$f":"労働者に係る事項!G217&\"\"","v":""},null,null,null,null,null,{"$f":"労働者に係る事項!H217&\"\"","v":""},null,null,null,null,null,{"$f":"労働者に係る事項!I217&\"\"","v":""},null,null,null,null,null,null,{"$f":"労働者に係る事項!J217&\"\"","v":""},null,null,null,null,null,null,null,null,null,{"$f":"労働者に係る事項!K217&\"\"","v":""},null,null,null,null,null,null,null,null,null,null,null,null,null,null,null,null,{"$f":"労働者に係る事項!L217&\"\"","v":""},null,null,null,null,null,{"$f":"労働者に係る事項!M217&\"\"","v":""},null,null,null,null,null,null,{"$f":"労働者に係る事項!N217&\"\"","v":""},null,null,null,null,null,null,{"$f":"IF(労働者に係る事項!O217=\"\",\"\",労働者に係る事項!O217)","v":""},null,null,null,null,null,null,null,null,null,null,null,null,null,null,null,null,null,null,{"$f":"IF(労働者に係る事項!P217=\"\",\"\",労働者に係る事項!P217)","v":""},null,null,null,null,null,null,null,null,null,null,null,null,null,{"$f":"IF(労働者に係る事項!Q217=\"\",\"\",労働者に係る事項!Q217)","v":""},null,null,null,null,null,null,null,null,null,null,null,null,null,null,null,null,null,null,null,{"$f":"労働者に係る事項!R217&\"\"","v":""},null,null,null,null,null,null,null,{"$f":"労働者に係る事項!S217&\"\"","v":""}]
[null,"79",null,null,{"$f":"労働者に係る事項!B218&\"\"","v":""},null,null,null,null,null,{"$f":"労働者に係る事項!C218&\"\"","v":""},null,null,null,null,null,null,null,null,null,null,null,null,null,null,null,null,null,null,null,null,null,null,null,null,null,null,null,null,null,{"$f":"労働者に係る事項!D218&\"\"","v":""},null,null,null,null,null,null,null,{"$f":"労働者に係る事項!E218&\"\"","v":""},null,null,null,null,null,null,null,null,null,null,null,null,null,null,null,null,null,null,null,null,null,null,null,null,null,null,null,{"$f":"労働者に係る事項!F218&\"\"","v":""},null,null,null,null,null,null,{"$f":"労働者に係る事項!G218&\"\"","v":""},null,null,null,null,null,{"$f":"労働者に係る事項!H218&\"\"","v":""},null,null,null,null,null,{"$f":"労働者に係る事項!I218&\"\"","v":""},null,null,null,null,null,null,{"$f":"労働者に係る事項!J218&\"\"","v":""},null,null,null,null,null,null,null,null,null,{"$f":"労働者に係る事項!K218&\"\"","v":""},null,null,null,null,null,null,null,null,null,null,null,null,null,null,null,null,{"$f":"労働者に係る事項!L218&\"\"","v":""},null,null,null,null,null,{"$f":"労働者に係る事項!M218&\"\"","v":""},null,null,null,null,null,null,{"$f":"労働者に係る事項!N218&\"\"","v":""},null,null,null,null,null,null,{"$f":"IF(労働者に係る事項!O218=\"\",\"\",労働者に係る事項!O218)","v":""},null,null,null,null,null,null,null,null,null,null,null,null,null,null,null,null,null,null,{"$f":"IF(労働者に係る事項!P218=\"\",\"\",労働者に係る事項!P218)","v":""},null,null,null,null,null,null,null,null,null,null,null,null,null,{"$f":"IF(労働者に係る事項!Q218=\"\",\"\",労働者に係る事項!Q218)","v":""},null,null,null,null,null,null,null,null,null,null,null,null,null,null,null,null,null,null,null,{"$f":"労働者に係る事項!R218&\"\"","v":""},null,null,null,null,null,null,null,{"$f":"労働者に係る事項!S218&\"\"","v":""}]
[null,"80",null,null,{"$f":"労働者に係る事項!B219&\"\"","v":""},null,null,null,null,null,{"$f":"労働者に係る事項!C219&\"\"","v":""},null,null,null,null,null,null,null,null,null,null,null,null,null,null,null,null,null,null,null,null,null,null,null,null,null,null,null,null,null,{"$f":"労働者に係る事項!D219&\"\"","v":""},null,null,null,null,null,null,null,{"$f":"労働者に係る事項!E219&\"\"","v":""},null,null,null,null,null,null,null,null,null,null,null,null,null,null,null,null,null,null,null,null,null,null,null,null,null,null,null,{"$f":"労働者に係る事項!F219&\"\"","v":""},null,null,null,null,null,null,{"$f":"労働者に係る事項!G219&\"\"","v":""},null,null,null,null,null,{"$f":"労働者に係る事項!H219&\"\"","v":""},null,null,null,null,null,{"$f":"労働者に係る事項!I219&\"\"","v":""},null,null,null,null,null,null,{"$f":"労働者に係る事項!J219&\"\"","v":""},null,null,null,null,null,null,null,null,null,{"$f":"労働者に係る事項!K219&\"\"","v":""},null,null,null,null,null,null,null,null,null,null,null,null,null,null,null,null,{"$f":"労働者に係る事項!L219&\"\"","v":""},null,null,null,null,null,{"$f":"労働者に係る事項!M219&\"\"","v":""},null,null,null,null,null,null,{"$f":"労働者に係る事項!N219&\"\"","v":""},null,null,null,null,null,null,{"$f":"IF(労働者に係る事項!O219=\"\",\"\",労働者に係る事項!O219)","v":""},null,null,null,null,null,null,null,null,null,null,null,null,null,null,null,null,null,null,{"$f":"IF(労働者に係る事項!P219=\"\",\"\",労働者に係る事項!P219)","v":""},null,null,null,null,null,null,null,null,null,null,null,null,null,{"$f":"IF(労働者に係る事項!Q219=\"\",\"\",労働者に係る事項!Q219)","v":""},null,null,null,null,null,null,null,null,null,null,null,null,null,null,null,null,null,null,null,{"$f":"労働者に係る事項!R219&\"\"","v":""},null,null,null,null,null,null,null,{"$f":"労働者に係る事項!S219&\"\"","v":""}]
[null,"81",null,null,{"$f":"労働者に係る事項!B220&\"\"","v":""},null,null,null,null,null,{"$f":"労働者に係る事項!C220&\"\"","v":""},null,null,null,null,null,null,null,null,null,null,null,null,null,null,null,null,null,null,null,null,null,null,null,null,null,null,null,null,null,{"$f":"労働者に係る事項!D220&\"\"","v":""},null,null,null,null,null,null,null,{"$f":"労働者に係る事項!E220&\"\"","v":""},null,null,null,null,null,null,null,null,null,null,null,null,null,null,null,null,null,null,null,null,null,null,null,null,null,null,null,{"$f":"労働者に係る事項!F220&\"\"","v":""},null,null,null,null,null,null,{"$f":"労働者に係る事項!G220&\"\"","v":""},null,null,null,null,null,{"$f":"労働者に係る事項!H220&\"\"","v":""},null,null,null,null,null,{"$f":"労働者に係る事項!I220&\"\"","v":""},null,null,null,null,null,null,{"$f":"労働者に係る事項!J220&\"\"","v":""},null,null,null,null,null,null,null,null,null,{"$f":"労働者に係る事項!K220&\"\"","v":""},null,null,null,null,null,null,null,null,null,null,null,null,null,null,null,null,{"$f":"労働者に係る事項!L220&\"\"","v":""},null,null,null,null,null,{"$f":"労働者に係る事項!M220&\"\"","v":""},null,null,null,null,null,null,{"$f":"労働者に係る事項!N220&\"\"","v":""},null,null,null,null,null,null,{"$f":"IF(労働者に係る事項!O220=\"\",\"\",労働者に係る事項!O220)","v":""},null,null,null,null,null,null,null,null,null,null,null,null,null,null,null,null,null,null,{"$f":"IF(労働者に係る事項!P220=\"\",\"\",労働者に係る事項!P220)","v":""},null,null,null,null,null,null,null,null,null,null,null,null,null,{"$f":"IF(労働者に係る事項!Q220=\"\",\"\",労働者に係る事項!Q220)","v":""},null,null,null,null,null,null,null,null,null,null,null,null,null,null,null,null,null,null,null,{"$f":"労働者に係る事項!R220&\"\"","v":""},null,null,null,null,null,null,null,{"$f":"労働者に係る事項!S220&\"\"","v":""}]
[null,"82",null,null,{"$f":"労働者に係る事項!B221&\"\"","v":""},null,null,null,null,null,{"$f":"労働者に係る事項!C221&\"\"","v":""},null,null,null,null,null,null,null,null,null,null,null,null,null,null,null,null,null,null,null,null,null,null,null,null,null,null,null,null,null,{"$f":"労働者に係る事項!D221&\"\"","v":""},null,null,null,null,null,null,null,{"$f":"労働者に係る事項!E221&\"\"","v":""},null,null,null,null,null,null,null,null,null,null,null,null,null,null,null,null,null,null,null,null,null,null,null,null,null,null,null,{"$f":"労働者に係る事項!F221&\"\"","v":""},null,null,null,null,null,null,{"$f":"労働者に係る事項!G221&\"\"","v":""},null,null,null,null,null,{"$f":"労働者に係る事項!H221&\"\"","v":""},null,null,null,null,null,{"$f":"労働者に係る事項!I221&\"\"","v":""},null,null,null,null,null,null,{"$f":"労働者に係る事項!J221&\"\"","v":""},null,null,null,null,null,null,null,null,null,{"$f":"労働者に係る事項!K221&\"\"","v":""},null,null,null,null,null,null,null,null,null,null,null,null,null,null,null,null,{"$f":"労働者に係る事項!L221&\"\"","v":""},null,null,null,null,null,{"$f":"労働者に係る事項!M221&\"\"","v":""},null,null,null,null,null,null,{"$f":"労働者に係る事項!N221&\"\"","v":""},null,null,null,null,null,null,{"$f":"IF(労働者に係る事項!O221=\"\",\"\",労働者に係る事項!O221)","v":""},null,null,null,null,null,null,null,null,null,null,null,null,null,null,null,null,null,null,{"$f":"IF(労働者に係る事項!P221=\"\",\"\",労働者に係る事項!P221)","v":""},null,null,null,null,null,null,null,null,null,null,null,null,null,{"$f":"IF(労働者に係る事項!Q221=\"\",\"\",労働者に係る事項!Q221)","v":""},null,null,null,null,null,null,null,null,null,null,null,null,null,null,null,null,null,null,null,{"$f":"労働者に係る事項!R221&\"\"","v":""},null,null,null,null,null,null,null,{"$f":"労働者に係る事項!S221&\"\"","v":""}]
[null,"83",null,null,{"$f":"労働者に係る事項!B222&\"\"","v":""},null,null,null,null,null,{"$f":"労働者に係る事項!C222&\"\"","v":""},null,null,null,null,null,null,null,null,null,null,null,null,null,null,null,null,null,null,null,null,null,null,null,null,null,null,null,null,null,{"$f":"労働者に係る事項!D222&\"\"","v":""},null,null,null,null,null,null,null,{"$f":"労働者に係る事項!E222&\"\"","v":""},null,null,null,null,null,null,null,null,null,null,null,null,null,null,null,null,null,null,null,null,null,null,null,null,null,null,null,{"$f":"労働者に係る事項!F222&\"\"","v":""},null,null,null,null,null,null,{"$f":"労働者に係る事項!G222&\"\"","v":""},null,null,null,null,null,{"$f":"労働者に係る事項!H222&\"\"","v":""},null,null,null,null,null,{"$f":"労働者に係る事項!I222&\"\"","v":""},null,null,null,null,null,null,{"$f":"労働者に係る事項!J222&\"\"","v":""},null,null,null,null,null,null,null,null,null,{"$f":"労働者に係る事項!K222&\"\"","v":""},null,null,null,null,null,null,null,null,null,null,null,null,null,null,null,null,{"$f":"労働者に係る事項!L222&\"\"","v":""},null,null,null,null,null,{"$f":"労働者に係る事項!M222&\"\"","v":""},null,null,null,null,null,null,{"$f":"労働者に係る事項!N222&\"\"","v":""},null,null,null,null,null,null,{"$f":"IF(労働者に係る事項!O222=\"\",\"\",労働者に係る事項!O222)","v":""},null,null,null,null,null,null,null,null,null,null,null,null,null,null,null,null,null,null,{"$f":"IF(労働者に係る事項!P222=\"\",\"\",労働者に係る事項!P222)","v":""},null,null,null,null,null,null,null,null,null,null,null,null,null,{"$f":"IF(労働者に係る事項!Q222=\"\",\"\",労働者に係る事項!Q222)","v":""},null,null,null,null,null,null,null,null,null,null,null,null,null,null,null,null,null,null,null,{"$f":"労働者に係る事項!R222&\"\"","v":""},null,null,null,null,null,null,null,{"$f":"労働者に係る事項!S222&\"\"","v":""}]
[null,"84",null,null,{"$f":"労働者に係る事項!B223&\"\"","v":""},null,null,null,null,null,{"$f":"労働者に係る事項!C223&\"\"","v":""},null,null,null,null,null,null,null,null,null,null,null,null,null,null,null,null,null,null,null,null,null,null,null,null,null,null,null,null,null,{"$f":"労働者に係る事項!D223&\"\"","v":""},null,null,null,null,null,null,null,{"$f":"労働者に係る事項!E223&\"\"","v":""},null,null,null,null,null,null,null,null,null,null,null,null,null,null,null,null,null,null,null,null,null,null,null,null,null,null,null,{"$f":"労働者に係る事項!F223&\"\"","v":""},null,null,null,null,null,null,{"$f":"労働者に係る事項!G223&\"\"","v":""},null,null,null,null,null,{"$f":"労働者に係る事項!H223&\"\"","v":""},null,null,null,null,null,{"$f":"労働者に係る事項!I223&\"\"","v":""},null,null,null,null,null,null,{"$f":"労働者に係る事項!J223&\"\"","v":""},null,null,null,null,null,null,null,null,null,{"$f":"労働者に係る事項!K223&\"\"","v":""},null,null,null,null,null,null,null,null,null,null,null,null,null,null,null,null,{"$f":"労働者に係る事項!L223&\"\"","v":""},null,null,null,null,null,{"$f":"労働者に係る事項!M223&\"\"","v":""},null,null,null,null,null,null,{"$f":"労働者に係る事項!N223&\"\"","v":""},null,null,null,null,null,null,{"$f":"IF(労働者に係る事項!O223=\"\",\"\",労働者に係る事項!O223)","v":""},null,null,null,null,null,null,null,null,null,null,null,null,null,null,null,null,null,null,{"$f":"IF(労働者に係る事項!P223=\"\",\"\",労働者に係る事項!P223)","v":""},null,null,null,null,null,null,null,null,null,null,null,null,null,{"$f":"IF(労働者に係る事項!Q223=\"\",\"\",労働者に係る事項!Q223)","v":""},null,null,null,null,null,null,null,null,null,null,null,null,null,null,null,null,null,null,null,{"$f":"労働者に係る事項!R223&\"\"","v":""},null,null,null,null,null,null,null,{"$f":"労働者に係る事項!S223&\"\"","v":""}]
[null,"85",null,null,{"$f":"労働者に係る事項!B224&\"\"","v":""},null,null,null,null,null,{"$f":"労働者に係る事項!C224&\"\"","v":""},null,null,null,null,null,null,null,null,null,null,null,null,null,null,null,null,null,null,null,null,null,null,null,null,null,null,null,null,null,{"$f":"労働者に係る事項!D224&\"\"","v":""},null,null,null,null,null,null,null,{"$f":"労働者に係る事項!E224&\"\"","v":""},null,null,null,null,null,null,null,null,null,null,null,null,null,null,null,null,null,null,null,null,null,null,null,null,null,null,null,{"$f":"労働者に係る事項!F224&\"\"","v":""},null,null,null,null,null,null,{"$f":"労働者に係る事項!G224&\"\"","v":""},null,null,null,null,null,{"$f":"労働者に係る事項!H224&\"\"","v":""},null,null,null,null,null,{"$f":"労働者に係る事項!I224&\"\"","v":""},null,null,null,null,null,null,{"$f":"労働者に係る事項!J224&\"\"","v":""},null,null,null,null,null,null,null,null,null,{"$f":"労働者に係る事項!K224&\"\"","v":""},null,null,null,null,null,null,null,null,null,null,null,null,null,null,null,null,{"$f":"労働者に係る事項!L224&\"\"","v":""},null,null,null,null,null,{"$f":"労働者に係る事項!M224&\"\"","v":""},null,null,null,null,null,null,{"$f":"労働者に係る事項!N224&\"\"","v":""},null,null,null,null,null,null,{"$f":"IF(労働者に係る事項!O224=\"\",\"\",労働者に係る事項!O224)","v":""},null,null,null,null,null,null,null,null,null,null,null,null,null,null,null,null,null,null,{"$f":"IF(労働者に係る事項!P224=\"\",\"\",労働者に係る事項!P224)","v":""},null,null,null,null,null,null,null,null,null,null,null,null,null,{"$f":"IF(労働者に係る事項!Q224=\"\",\"\",労働者に係る事項!Q224)","v":""},null,null,null,null,null,null,null,null,null,null,null,null,null,null,null,null,null,null,null,{"$f":"労働者に係る事項!R224&\"\"","v":""},null,null,null,null,null,null,null,{"$f":"労働者に係る事項!S224&\"\"","v":""}]
[null,"86",null,null,{"$f":"労働者に係る事項!B225&\"\"","v":""},null,null,null,null,null,{"$f":"労働者に係る事項!C225&\"\"","v":""},null,null,null,null,null,null,null,null,null,null,null,null,null,null,null,null,null,null,null,null,null,null,null,null,null,null,null,null,null,{"$f":"労働者に係る事項!D225&\"\"","v":""},null,null,null,null,null,null,null,{"$f":"労働者に係る事項!E225&\"\"","v":""},null,null,null,null,null,null,null,null,null,null,null,null,null,null,null,null,null,null,null,null,null,null,null,null,null,null,null,{"$f":"労働者に係る事項!F225&\"\"","v":""},null,null,null,null,null,null,{"$f":"労働者に係る事項!G225&\"\"","v":""},null,null,null,null,null,{"$f":"労働者に係る事項!H225&\"\"","v":""},null,null,null,null,null,{"$f":"労働者に係る事項!I225&\"\"","v":""},null,null,null,null,null,null,{"$f":"労働者に係る事項!J225&\"\"","v":""},null,null,null,null,null,null,null,null,null,{"$f":"労働者に係る事項!K225&\"\"","v":""},null,null,null,null,null,null,null,null,null,null,null,null,null,null,null,null,{"$f":"労働者に係る事項!L225&\"\"","v":""},null,null,null,null,null,{"$f":"労働者に係る事項!M225&\"\"","v":""},null,null,null,null,null,null,{"$f":"労働者に係る事項!N225&\"\"","v":""},null,null,null,null,null,null,{"$f":"IF(労働者に係る事項!O225=\"\",\"\",労働者に係る事項!O225)","v":""},null,null,null,null,null,null,null,null,null,null,null,null,null,null,null,null,null,null,{"$f":"IF(労働者に係る事項!P225=\"\",\"\",労働者に係る事項!P225)","v":""},null,null,null,null,null,null,null,null,null,null,null,null,null,{"$f":"IF(労働者に係る事項!Q225=\"\",\"\",労働者に係る事項!Q225)","v":""},null,null,null,null,null,null,null,null,null,null,null,null,null,null,null,null,null,null,null,{"$f":"労働者に係る事項!R225&\"\"","v":""},null,null,null,null,null,null,null,{"$f":"労働者に係る事項!S225&\"\"","v":""}]
[null,"87",null,null,{"$f":"労働者に係る事項!B226&\"\"","v":""},null,null,null,null,null,{"$f":"労働者に係る事項!C226&\"\"","v":""},null,null,null,null,null,null,null,null,null,null,null,null,null,null,null,null,null,null,null,null,null,null,null,null,null,null,null,null,null,{"$f":"労働者に係る事項!D226&\"\"","v":""},null,null,null,null,null,null,null,{"$f":"労働者に係る事項!E226&\"\"","v":""},null,null,null,null,null,null,null,null,null,null,null,null,null,null,null,null,null,null,null,null,null,null,null,null,null,null,null,{"$f":"労働者に係る事項!F226&\"\"","v":""},null,null,null,null,null,null,{"$f":"労働者に係る事項!G226&\"\"","v":""},null,null,null,null,null,{"$f":"労働者に係る事項!H226&\"\"","v":""},null,null,null,null,null,{"$f":"労働者に係る事項!I226&\"\"","v":""},null,null,null,null,null,null,{"$f":"労働者に係る事項!J226&\"\"","v":""},null,null,null,null,null,null,null,null,null,{"$f":"労働者に係る事項!K226&\"\"","v":""},null,null,null,null,null,null,null,null,null,null,null,null,null,null,null,null,{"$f":"労働者に係る事項!L226&\"\"","v":""},null,null,null,null,null,{"$f":"労働者に係る事項!M226&\"\"","v":""},null,null,null,null,null,null,{"$f":"労働者に係る事項!N226&\"\"","v":""},null,null,null,null,null,null,{"$f":"IF(労働者に係る事項!O226=\"\",\"\",労働者に係る事項!O226)","v":""},null,null,null,null,null,null,null,null,null,null,null,null,null,null,null,null,null,null,{"$f":"IF(労働者に係る事項!P226=\"\",\"\",労働者に係る事項!P226)","v":""},null,null,null,null,null,null,null,null,null,null,null,null,null,{"$f":"IF(労働者に係る事項!Q226=\"\",\"\",労働者に係る事項!Q226)","v":""},null,null,null,null,null,null,null,null,null,null,null,null,null,null,null,null,null,null,null,{"$f":"労働者に係る事項!R226&\"\"","v":""},null,null,null,null,null,null,null,{"$f":"労働者に係る事項!S226&\"\"","v":""}]
[null,"88",null,null,{"$f":"労働者に係る事項!B227&\"\"","v":""},null,null,null,null,null,{"$f":"労働者に係る事項!C227&\"\"","v":""},null,null,null,null,null,null,null,null,null,null,null,null,null,null,null,null,null,null,null,null,null,null,null,null,null,null,null,null,null,{"$f":"労働者に係る事項!D227&\"\"","v":""},null,null,null,null,null,null,null,{"$f":"労働者に係る事項!E227&\"\"","v":""},null,null,null,null,null,null,null,null,null,null,null,null,null,null,null,null,null,null,null,null,null,null,null,null,null,null,null,{"$f":"労働者に係る事項!F227&\"\"","v":""},null,null,null,null,null,null,{"$f":"労働者に係る事項!G227&\"\"","v":""},null,null,null,null,null,{"$f":"労働者に係る事項!H227&\"\"","v":""},null,null,null,null,null,{"$f":"労働者に係る事項!I227&\"\"","v":""},null,null,null,null,null,null,{"$f":"労働者に係る事項!J227&\"\"","v":""},null,null,null,null,null,null,null,null,null,{"$f":"労働者に係る事項!K227&\"\"","v":""},null,null,null,null,null,null,null,null,null,null,null,null,null,null,null,null,{"$f":"労働者に係る事項!L227&\"\"","v":""},null,null,null,null,null,{"$f":"労働者に係る事項!M227&\"\"","v":""},null,null,null,null,null,null,{"$f":"労働者に係る事項!N227&\"\"","v":""},null,null,null,null,null,null,{"$f":"IF(労働者に係る事項!O227=\"\",\"\",労働者に係る事項!O227)","v":""},null,null,null,null,null,null,null,null,null,null,null,null,null,null,null,null,null,null,{"$f":"IF(労働者に係る事項!P227=\"\",\"\",労働者に係る事項!P227)","v":""},null,null,null,null,null,null,null,null,null,null,null,null,null,{"$f":"IF(労働者に係る事項!Q227=\"\",\"\",労働者に係る事項!Q227)","v":""},null,null,null,null,null,null,null,null,null,null,null,null,null,null,null,null,null,null,null,{"$f":"労働者に係る事項!R227&\"\"","v":""},null,null,null,null,null,null,null,{"$f":"労働者に係る事項!S227&\"\"","v":""}]
[null,"89",null,null,{"$f":"労働者に係る事項!B228&\"\"","v":""},null,null,null,null,null,{"$f":"労働者に係る事項!C228&\"\"","v":""},null,null,null,null,null,null,null,null,null,null,null,null,null,null,null,null,null,null,null,null,null,null,null,null,null,null,null,null,null,{"$f":"労働者に係る事項!D228&\"\"","v":""},null,null,null,null,null,null,null,{"$f":"労働者に係る事項!E228&\"\"","v":""},null,null,null,null,null,null,null,null,null,null,null,null,null,null,null,null,null,null,null,null,null,null,null,null,null,null,null,{"$f":"労働者に係る事項!F228&\"\"","v":""},null,null,null,null,null,null,{"$f":"労働者に係る事項!G228&\"\"","v":""},null,null,null,null,null,{"$f":"労働者に係る事項!H228&\"\"","v":""},null,null,null,null,null,{"$f":"労働者に係る事項!I228&\"\"","v":""},null,null,null,null,null,null,{"$f":"労働者に係る事項!J228&\"\"","v":""},null,null,null,null,null,null,null,null,null,{"$f":"労働者に係る事項!K228&\"\"","v":""},null,null,null,null,null,null,null,null,null,null,null,null,null,null,null,null,{"$f":"労働者に係る事項!L228&\"\"","v":""},null,null,null,null,null,{"$f":"労働者に係る事項!M228&\"\"","v":""},null,null,null,null,null,null,{"$f":"労働者に係る事項!N228&\"\"","v":""},null,null,null,null,null,null,{"$f":"IF(労働者に係る事項!O228=\"\",\"\",労働者に係る事項!O228)","v":""},null,null,null,null,null,null,null,null,null,null,null,null,null,null,null,null,null,null,{"$f":"IF(労働者に係る事項!P228=\"\",\"\",労働者に係る事項!P228)","v":""},null,null,null,null,null,null,null,null,null,null,null,null,null,{"$f":"IF(労働者に係る事項!Q228=\"\",\"\",労働者に係る事項!Q228)","v":""},null,null,null,null,null,null,null,null,null,null,null,null,null,null,null,null,null,null,null,{"$f":"労働者に係る事項!R228&\"\"","v":""},null,null,null,null,null,null,null,{"$f":"労働者に係る事項!S228&\"\"","v":""}]
[null,"90",null,null,{"$f":"労働者に係る事項!B229&\"\"","v":""},null,null,null,null,null,{"$f":"労働者に係る事項!C229&\"\"","v":""},null,null,null,null,null,null,null,null,null,null,null,null,null,null,null,null,null,null,null,null,null,null,null,null,null,null,null,null,null,{"$f":"労働者に係る事項!D229&\"\"","v":""},null,null,null,null,null,null,null,{"$f":"労働者に係る事項!E229&\"\"","v":""},null,null,null,null,null,null,null,null,null,null,null,null,null,null,null,null,null,null,null,null,null,null,null,null,null,null,null,{"$f":"労働者に係る事項!F229&\"\"","v":""},null,null,null,null,null,null,{"$f":"労働者に係る事項!G229&\"\"","v":""},null,null,null,null,null,{"$f":"労働者に係る事項!H229&\"\"","v":""},null,null,null,null,null,{"$f":"労働者に係る事項!I229&\"\"","v":""},null,null,null,null,null,null,{"$f":"労働者に係る事項!J229&\"\"","v":""},null,null,null,null,null,null,null,null,null,{"$f":"労働者に係る事項!K229&\"\"","v":""},null,null,null,null,null,null,null,null,null,null,null,null,null,null,null,null,{"$f":"労働者に係る事項!L229&\"\"","v":""},null,null,null,null,null,{"$f":"労働者に係る事項!M229&\"\"","v":""},null,null,null,null,null,null,{"$f":"労働者に係る事項!N229&\"\"","v":""},null,null,null,null,null,null,{"$f":"IF(労働者に係る事項!O229=\"\",\"\",労働者に係る事項!O229)","v":""},null,null,null,null,null,null,null,null,null,null,null,null,null,null,null,null,null,null,{"$f":"IF(労働者に係る事項!P229=\"\",\"\",労働者に係る事項!P229)","v":""},null,null,null,null,null,null,null,null,null,null,null,null,null,{"$f":"IF(労働者に係る事項!Q229=\"\",\"\",労働者に係る事項!Q229)","v":""},null,null,null,null,null,null,null,null,null,null,null,null,null,null,null,null,null,null,null,{"$f":"労働者に係る事項!R229&\"\"","v":""},null,null,null,null,null,null,null,{"$f":"労働者に係る事項!S229&\"\"","v":""}]
[null,"91",null,null,{"$f":"労働者に係る事項!B230&\"\"","v":""},null,null,null,null,null,{"$f":"労働者に係る事項!C230&\"\"","v":""},null,null,null,null,null,null,null,null,null,null,null,null,null,null,null,null,null,null,null,null,null,null,null,null,null,null,null,null,null,{"$f":"労働者に係る事項!D230&\"\"","v":""},null,null,null,null,null,null,null,{"$f":"労働者に係る事項!E230&\"\"","v":""},null,null,null,null,null,null,null,null,null,null,null,null,null,null,null,null,null,null,null,null,null,null,null,null,null,null,null,{"$f":"労働者に係る事項!F230&\"\"","v":""},null,null,null,null,null,null,{"$f":"労働者に係る事項!G230&\"\"","v":""},null,null,null,null,null,{"$f":"労働者に係る事項!H230&\"\"","v":""},null,null,null,null,null,{"$f":"労働者に係る事項!I230&\"\"","v":""},null,null,null,null,null,null,{"$f":"労働者に係る事項!J230&\"\"","v":""},null,null,null,null,null,null,null,null,null,{"$f":"労働者に係る事項!K230&\"\"","v":""},null,null,null,null,null,null,null,null,null,null,null,null,null,null,null,null,{"$f":"労働者に係る事項!L230&\"\"","v":""},null,null,null,null,null,{"$f":"労働者に係る事項!M230&\"\"","v":""},null,null,null,null,null,null,{"$f":"労働者に係る事項!N230&\"\"","v":""},null,null,null,null,null,null,{"$f":"IF(労働者に係る事項!O230=\"\",\"\",労働者に係る事項!O230)","v":""},null,null,null,null,null,null,null,null,null,null,null,null,null,null,null,null,null,null,{"$f":"IF(労働者に係る事項!P230=\"\",\"\",労働者に係る事項!P230)","v":""},null,null,null,null,null,null,null,null,null,null,null,null,null,{"$f":"IF(労働者に係る事項!Q230=\"\",\"\",労働者に係る事項!Q230)","v":""},null,null,null,null,null,null,null,null,null,null,null,null,null,null,null,null,null,null,null,{"$f":"労働者に係る事項!R230&\"\"","v":""},null,null,null,null,null,null,null,{"$f":"労働者に係る事項!S230&\"\"","v":""}]
[null,"92",null,null,{"$f":"労働者に係る事項!B231&\"\"","v":""},null,null,null,null,null,{"$f":"労働者に係る事項!C231&\"\"","v":""},null,null,null,null,null,null,null,null,null,null,null,null,null,null,null,null,null,null,null,null,null,null,null,null,null,null,null,null,null,{"$f":"労働者に係る事項!D231&\"\"","v":""},null,null,null,null,null,null,null,{"$f":"労働者に係る事項!E231&\"\"","v":""},null,null,null,null,null,null,null,null,null,null,null,null,null,null,null,null,null,null,null,null,null,null,null,null,null,null,null,{"$f":"労働者に係る事項!F231&\"\"","v":""},null,null,null,null,null,null,{"$f":"労働者に係る事項!G231&\"\"","v":""},null,null,null,null,null,{"$f":"労働者に係る事項!H231&\"\"","v":""},null,null,null,null,null,{"$f":"労働者に係る事項!I231&\"\"","v":""},null,null,null,null,null,null,{"$f":"労働者に係る事項!J231&\"\"","v":""},null,null,null,null,null,null,null,null,null,{"$f":"労働者に係る事項!K231&\"\"","v":""},null,null,null,null,null,null,null,null,null,null,null,null,null,null,null,null,{"$f":"労働者に係る事項!L231&\"\"","v":""},null,null,null,null,null,{"$f":"労働者に係る事項!M231&\"\"","v":""},null,null,null,null,null,null,{"$f":"労働者に係る事項!N231&\"\"","v":""},null,null,null,null,null,null,{"$f":"IF(労働者に係る事項!O231=\"\",\"\",労働者に係る事項!O231)","v":""},null,null,null,null,null,null,null,null,null,null,null,null,null,null,null,null,null,null,{"$f":"IF(労働者に係る事項!P231=\"\",\"\",労働者に係る事項!P231)","v":""},null,null,null,null,null,null,null,null,null,null,null,null,null,{"$f":"IF(労働者に係る事項!Q231=\"\",\"\",労働者に係る事項!Q231)","v":""},null,null,null,null,null,null,null,null,null,null,null,null,null,null,null,null,null,null,null,{"$f":"労働者に係る事項!R231&\"\"","v":""},null,null,null,null,null,null,null,{"$f":"労働者に係る事項!S231&\"\"","v":""}]
[null,"93",null,null,{"$f":"労働者に係る事項!B232&\"\"","v":""},null,null,null,null,null,{"$f":"労働者に係る事項!C232&\"\"","v":""},null,null,null,null,null,null,null,null,null,null,null,null,null,null,null,null,null,null,null,null,null,null,null,null,null,null,null,null,null,{"$f":"労働者に係る事項!D232&\"\"","v":""},null,null,null,null,null,null,null,{"$f":"労働者に係る事項!E232&\"\"","v":""},null,null,null,null,null,null,null,null,null,null,null,null,null,null,null,null,null,null,null,null,null,null,null,null,null,null,null,{"$f":"労働者に係る事項!F232&\"\"","v":""},null,null,null,null,null,null,{"$f":"労働者に係る事項!G232&\"\"","v":""},null,null,null,null,null,{"$f":"労働者に係る事項!H232&\"\"","v":""},null,null,null,null,null,{"$f":"労働者に係る事項!I232&\"\"","v":""},null,null,null,null,null,null,{"$f":"労働者に係る事項!J232&\"\"","v":""},null,null,null,null,null,null,null,null,null,{"$f":"労働者に係る事項!K232&\"\"","v":""},null,null,null,null,null,null,null,null,null,null,null,null,null,null,null,null,{"$f":"労働者に係る事項!L232&\"\"","v":""},null,null,null,null,null,{"$f":"労働者に係る事項!M232&\"\"","v":""},null,null,null,null,null,null,{"$f":"労働者に係る事項!N232&\"\"","v":""},null,null,null,null,null,null,{"$f":"IF(労働者に係る事項!O232=\"\",\"\",労働者に係る事項!O232)","v":""},null,null,null,null,null,null,null,null,null,null,null,null,null,null,null,null,null,null,{"$f":"IF(労働者に係る事項!P232=\"\",\"\",労働者に係る事項!P232)","v":""},null,null,null,null,null,null,null,null,null,null,null,null,null,{"$f":"IF(労働者に係る事項!Q232=\"\",\"\",労働者に係る事項!Q232)","v":""},null,null,null,null,null,null,null,null,null,null,null,null,null,null,null,null,null,null,null,{"$f":"労働者に係る事項!R232&\"\"","v":""},null,null,null,null,null,null,null,{"$f":"労働者に係る事項!S232&\"\"","v":""}]
[null,"94",null,null,{"$f":"労働者に係る事項!B233&\"\"","v":""},null,null,null,null,null,{"$f":"労働者に係る事項!C233&\"\"","v":""},null,null,null,null,null,null,null,null,null,null,null,null,null,null,null,null,null,null,null,null,null,null,null,null,null,null,null,null,null,{"$f":"労働者に係る事項!D233&\"\"","v":""},null,null,null,null,null,null,null,{"$f":"労働者に係る事項!E233&\"\"","v":""},null,null,null,null,null,null,null,null,null,null,null,null,null,null,null,null,null,null,null,null,null,null,null,null,null,null,null,{"$f":"労働者に係る事項!F233&\"\"","v":""},null,null,null,null,null,null,{"$f":"労働者に係る事項!G233&\"\"","v":""},null,null,null,null,null,{"$f":"労働者に係る事項!H233&\"\"","v":""},null,null,null,null,null,{"$f":"労働者に係る事項!I233&\"\"","v":""},null,null,null,null,null,null,{"$f":"労働者に係る事項!J233&\"\"","v":""},null,null,null,null,null,null,null,null,null,{"$f":"労働者に係る事項!K233&\"\"","v":""},null,null,null,null,null,null,null,null,null,null,null,null,null,null,null,null,{"$f":"労働者に係る事項!L233&\"\"","v":""},null,null,null,null,null,{"$f":"労働者に係る事項!M233&\"\"","v":""},null,null,null,null,null,null,{"$f":"労働者に係る事項!N233&\"\"","v":""},null,null,null,null,null,null,{"$f":"IF(労働者に係る事項!O233=\"\",\"\",労働者に係る事項!O233)","v":""},null,null,null,null,null,null,null,null,null,null,null,null,null,null,null,null,null,null,{"$f":"IF(労働者に係る事項!P233=\"\",\"\",労働者に係る事項!P233)","v":""},null,null,null,null,null,null,null,null,null,null,null,null,null,{"$f":"IF(労働者に係る事項!Q233=\"\",\"\",労働者に係る事項!Q233)","v":""},null,null,null,null,null,null,null,null,null,null,null,null,null,null,null,null,null,null,null,{"$f":"労働者に係る事項!R233&\"\"","v":""},null,null,null,null,null,null,null,{"$f":"労働者に係る事項!S233&\"\"","v":""}]
[null,"95",null,null,{"$f":"労働者に係る事項!B234&\"\"","v":""},null,null,null,null,null,{"$f":"労働者に係る事項!C234&\"\"","v":""},null,null,null,null,null,null,null,null,null,null,null,null,null,null,null,null,null,null,null,null,null,null,null,null,null,null,null,null,null,{"$f":"労働者に係る事項!D234&\"\"","v":""},null,null,null,null,null,null,null,{"$f":"労働者に係る事項!E234&\"\"","v":""},null,null,null,null,null,null,null,null,null,null,null,null,null,null,null,null,null,null,null,null,null,null,null,null,null,null,null,{"$f":"労働者に係る事項!F234&\"\"","v":""},null,null,null,null,null,null,{"$f":"労働者に係る事項!G234&\"\"","v":""},null,null,null,null,null,{"$f":"労働者に係る事項!H234&\"\"","v":""},null,null,null,null,null,{"$f":"労働者に係る事項!I234&\"\"","v":""},null,null,null,null,null,null,{"$f":"労働者に係る事項!J234&\"\"","v":""},null,null,null,null,null,null,null,null,null,{"$f":"労働者に係る事項!K234&\"\"","v":""},null,null,null,null,null,null,null,null,null,null,null,null,null,null,null,null,{"$f":"労働者に係る事項!L234&\"\"","v":""},null,null,null,null,null,{"$f":"労働者に係る事項!M234&\"\"","v":""},null,null,null,null,null,null,{"$f":"労働者に係る事項!N234&\"\"","v":""},null,null,null,null,null,null,{"$f":"IF(労働者に係る事項!O234=\"\",\"\",労働者に係る事項!O234)","v":""},null,null,null,null,null,null,null,null,null,null,null,null,null,null,null,null,null,null,{"$f":"IF(労働者に係る事項!P234=\"\",\"\",労働者に係る事項!P234)","v":""},null,null,null,null,null,null,null,null,null,null,null,null,null,{"$f":"IF(労働者に係る事項!Q234=\"\",\"\",労働者に係る事項!Q234)","v":""},null,null,null,null,null,null,null,null,null,null,null,null,null,null,null,null,null,null,null,{"$f":"労働者に係る事項!R234&\"\"","v":""},null,null,null,null,null,null,null,{"$f":"労働者に係る事項!S234&\"\"","v":""}]
[null,"96",null,null,{"$f":"労働者に係る事項!B235&\"\"","v":""},null,null,null,null,null,{"$f":"労働者に係る事項!C235&\"\"","v":""},null,null,null,null,null,null,null,null,null,null,null,null,null,null,null,null,null,null,null,null,null,null,null,null,null,null,null,null,null,{"$f":"労働者に係る事項!D235&\"\"","v":""},null,null,null,null,null,null,null,{"$f":"労働者に係る事項!E235&\"\"","v":""},null,null,null,null,null,null,null,null,null,null,null,null,null,null,null,null,null,null,null,null,null,null,null,null,null,null,null,{"$f":"労働者に係る事項!F235&\"\"","v":""},null,null,null,null,null,null,{"$f":"労働者に係る事項!G235&\"\"","v":""},null,null,null,null,null,{"$f":"労働者に係る事項!H235&\"\"","v":""},null,null,null,null,null,{"$f":"労働者に係る事項!I235&\"\"","v":""},null,null,null,null,null,null,{"$f":"労働者に係る事項!J235&\"\"","v":""},null,null,null,null,null,null,null,null,null,{"$f":"労働者に係る事項!K235&\"\"","v":""},null,null,null,null,null,null,null,null,null,null,null,null,null,null,null,null,{"$f":"労働者に係る事項!L235&\"\"","v":""},null,null,null,null,null,{"$f":"労働者に係る事項!M235&\"\"","v":""},null,null,null,null,null,null,{"$f":"労働者に係る事項!N235&\"\"","v":""},null,null,null,null,null,null,{"$f":"IF(労働者に係る事項!O235=\"\",\"\",労働者に係る事項!O235)","v":""},null,null,null,null,null,null,null,null,null,null,null,null,null,null,null,null,null,null,{"$f":"IF(労働者に係る事項!P235=\"\",\"\",労働者に係る事項!P235)","v":""},null,null,null,null,null,null,null,null,null,null,null,null,null,{"$f":"IF(労働者に係る事項!Q235=\"\",\"\",労働者に係る事項!Q235)","v":""},null,null,null,null,null,null,null,null,null,null,null,null,null,null,null,null,null,null,null,{"$f":"労働者に係る事項!R235&\"\"","v":""},null,null,null,null,null,null,null,{"$f":"労働者に係る事項!S235&\"\"","v":""}]
[null,"97",null,null,{"$f":"労働者に係る事項!B236&\"\"","v":""},null,null,null,null,null,{"$f":"労働者に係る事項!C236&\"\"","v":""},null,null,null,null,null,null,null,null,null,null,null,null,null,null,null,null,null,null,null,null,null,null,null,null,null,null,null,null,null,{"$f":"労働者に係る事項!D236&\"\"","v":""},null,null,null,null,null,null,null,{"$f":"労働者に係る事項!E236&\"\"","v":""},null,null,null,null,null,null,null,null,null,null,null,null,null,null,null,null,null,null,null,null,null,null,null,null,null,null,null,{"$f":"労働者に係る事項!F236&\"\"","v":""},null,null,null,null,null,null,{"$f":"労働者に係る事項!G236&\"\"","v":""},null,null,null,null,null,{"$f":"労働者に係る事項!H236&\"\"","v":""},null,null,null,null,null,{"$f":"労働者に係る事項!I236&\"\"","v":""},null,null,null,null,null,null,{"$f":"労働者に係る事項!J236&\"\"","v":""},null,null,null,null,null,null,null,null,null,{"$f":"労働者に係る事項!K236&\"\"","v":""},null,null,null,null,null,null,null,null,null,null,null,null,null,null,null,null,{"$f":"労働者に係る事項!L236&\"\"","v":""},null,null,null,null,null,{"$f":"労働者に係る事項!M236&\"\"","v":""},null,null,null,null,null,null,{"$f":"労働者に係る事項!N236&\"\"","v":""},null,null,null,null,null,null,{"$f":"IF(労働者に係る事項!O236=\"\",\"\",労働者に係る事項!O236)","v":""},null,null,null,null,null,null,null,null,null,null,null,null,null,null,null,null,null,null,{"$f":"IF(労働者に係る事項!P236=\"\",\"\",労働者に係る事項!P236)","v":""},null,null,null,null,null,null,null,null,null,null,null,null,null,{"$f":"IF(労働者に係る事項!Q236=\"\",\"\",労働者に係る事項!Q236)","v":""},null,null,null,null,null,null,null,null,null,null,null,null,null,null,null,null,null,null,null,{"$f":"労働者に係る事項!R236&\"\"","v":""},null,null,null,null,null,null,null,{"$f":"労働者に係る事項!S236&\"\"","v":""}]
[null,"98",null,null,{"$f":"労働者に係る事項!B237&\"\"","v":""},null,null,null,null,null,{"$f":"労働者に係る事項!C237&\"\"","v":""},null,null,null,null,null,null,null,null,null,null,null,null,null,null,null,null,null,null,null,null,null,null,null,null,null,null,null,null,null,{"$f":"労働者に係る事項!D237&\"\"","v":""},null,null,null,null,null,null,null,{"$f":"労働者に係る事項!E237&\"\"","v":""},null,null,null,null,null,null,null,null,null,null,null,null,null,null,null,null,null,null,null,null,null,null,null,null,null,null,null,{"$f":"労働者に係る事項!F237&\"\"","v":""},null,null,null,null,null,null,{"$f":"労働者に係る事項!G237&\"\"","v":""},null,null,null,null,null,{"$f":"労働者に係る事項!H237&\"\"","v":""},null,null,null,null,null,{"$f":"労働者に係る事項!I237&\"\"","v":""},null,null,null,null,null,null,{"$f":"労働者に係る事項!J237&\"\"","v":""},null,null,null,null,null,null,null,null,null,{"$f":"労働者に係る事項!K237&\"\"","v":""},null,null,null,null,null,null,null,null,null,null,null,null,null,null,null,null,{"$f":"労働者に係る事項!L237&\"\"","v":""},null,null,null,null,null,{"$f":"労働者に係る事項!M237&\"\"","v":""},null,null,null,null,null,null,{"$f":"労働者に係る事項!N237&\"\"","v":""},null,null,null,null,null,null,{"$f":"IF(労働者に係る事項!O237=\"\",\"\",労働者に係る事項!O237)","v":""},null,null,null,null,null,null,null,null,null,null,null,null,null,null,null,null,null,null,{"$f":"IF(労働者に係る事項!P237=\"\",\"\",労働者に係る事項!P237)","v":""},null,null,null,null,null,null,null,null,null,null,null,null,null,{"$f":"IF(労働者に係る事項!Q237=\"\",\"\",労働者に係る事項!Q237)","v":""},null,null,null,null,null,null,null,null,null,null,null,null,null,null,null,null,null,null,null,{"$f":"労働者に係る事項!R237&\"\"","v":""},null,null,null,null,null,null,null,{"$f":"労働者に係る事項!S237&\"\"","v":""}]
[null,"99",null,null,{"$f":"労働者に係る事項!B238&\"\"","v":""},null,null,null,null,null,{"$f":"労働者に係る事項!C238&\"\"","v":""},null,null,null,null,null,null,null,null,null,null,null,null,null,null,null,null,null,null,null,null,null,null,null,null,null,null,null,null,null,{"$f":"労働者に係る事項!D238&\"\"","v":""},null,null,null,null,null,null,null,{"$f":"労働者に係る事項!E238&\"\"","v":""},null,null,null,null,null,null,null,null,null,null,null,null,null,null,null,null,null,null,null,null,null,null,null,null,null,null,null,{"$f":"労働者に係る事項!F238&\"\"","v":""},null,null,null,null,null,null,{"$f":"労働者に係る事項!G238&\"\"","v":""},null,null,null,null,null,{"$f":"労働者に係る事項!H238&\"\"","v":""},null,null,null,null,null,{"$f":"労働者に係る事項!I238&\"\"","v":""},null,null,null,null,null,null,{"$f":"労働者に係る事項!J238&\"\"","v":""},null,null,null,null,null,null,null,null,null,{"$f":"労働者に係る事項!K238&\"\"","v":""},null,null,null,null,null,null,null,null,null,null,null,null,null,null,null,null,{"$f":"労働者に係る事項!L238&\"\"","v":""},null,null,null,null,null,{"$f":"労働者に係る事項!M238&\"\"","v":""},null,null,null,null,null,null,{"$f":"労働者に係る事項!N238&\"\"","v":""},null,null,null,null,null,null,{"$f":"IF(労働者に係る事項!O238=\"\",\"\",労働者に係る事項!O238)","v":""},null,null,null,null,null,null,null,null,null,null,null,null,null,null,null,null,null,null,{"$f":"IF(労働者に係る事項!P238=\"\",\"\",労働者に係る事項!P238)","v":""},null,null,null,null,null,null,null,null,null,null,null,null,null,{"$f":"IF(労働者に係る事項!Q238=\"\",\"\",労働者に係る事項!Q238)","v":""},null,null,null,null,null,null,null,null,null,null,null,null,null,null,null,null,null,null,null,{"$f":"労働者に係る事項!R238&\"\"","v":""},null,null,null,null,null,null,null,{"$f":"労働者に係る事項!S238&\"\"","v":""}]
[null,"00",null,null,{"$f":"労働者に係る事項!B239&\"\"","v":""},null,null,null,null,null,{"$f":"労働者に係る事項!C239&\"\"","v":""},null,null,null,null,null,null,null,null,null,null,null,null,null,null,null,null,null,null,null,null,null,null,null,null,null,null,null,null,null,{"$f":"労働者に係る事項!D239&\"\"","v":""},null,null,null,null,null,null,null,{"$f":"労働者に係る事項!E239&\"\"","v":""},null,null,null,null,null,null,null,null,null,null,null,null,null,null,null,null,null,null,null,null,null,null,null,null,null,null,null,{"$f":"労働者に係る事項!F239&\"\"","v":""},null,null,null,null,null,null,{"$f":"労働者に係る事項!G239&\"\"","v":""},null,null,null,null,null,{"$f":"労働者に係る事項!H239&\"\"","v":""},null,null,null,null,null,{"$f":"労働者に係る事項!I239&\"\"","v":""},null,null,null,null,null,null,{"$f":"労働者に係る事項!J239&\"\"","v":""},null,null,null,null,null,null,null,null,null,{"$f":"労働者に係る事項!K239&\"\"","v":""},null,null,null,null,null,null,null,null,null,null,null,null,null,null,null,null,{"$f":"労働者に係る事項!L239&\"\"","v":""},null,null,null,null,null,{"$f":"労働者に係る事項!M239&\"\"","v":""},null,null,null,null,null,null,{"$f":"労働者に係る事項!N239&\"\"","v":""},null,null,null,null,null,null,{"$f":"IF(労働者に係る事項!O239=\"\",\"\",労働者に係る事項!O239)","v":""},null,null,null,null,null,null,null,null,null,null,null,null,null,null,null,null,null,null,{"$f":"IF(労働者に係る事項!P239=\"\",\"\",労働者に係る事項!P239)","v":""},null,null,null,null,null,null,null,null,null,null,null,null,null,{"$f":"IF(労働者に係る事項!Q239=\"\",\"\",労働者に係る事項!Q239)","v":""},null,null,null,null,null,null,null,null,null,null,null,null,null,null,null,null,null,null,null,{"$f":"労働者に係る事項!R239&\"\"","v":""},null,null,null,null,null,null,null,{"$f":"労働者に係る事項!S239&\"\"","v":""}]
[null,"01",null,null,{"$f":"労働者に係る事項!B240&\"\"","v":""},null,null,null,null,null,{"$f":"労働者に係る事項!C240&\"\"","v":""},null,null,null,null,null,null,null,null,null,null,null,null,null,null,null,null,null,null,null,null,null,null,null,null,null,null,null,null,null,{"$f":"労働者に係る事項!D240&\"\"","v":""},null,null,null,null,null,null,null,{"$f":"労働者に係る事項!E240&\"\"","v":""},null,null,null,null,null,null,null,null,null,null,null,null,null,null,null,null,null,null,null,null,null,null,null,null,null,null,null,{"$f":"労働者に係る事項!F240&\"\"","v":""},null,null,null,null,null,null,{"$f":"労働者に係る事項!G240&\"\"","v":""},null,null,null,null,null,{"$f":"労働者に係る事項!H240&\"\"","v":""},null,null,null,null,null,{"$f":"労働者に係る事項!I240&\"\"","v":""},null,null,null,null,null,null,{"$f":"労働者に係る事項!J240&\"\"","v":""},null,null,null,null,null,null,null,null,null,{"$f":"労働者に係る事項!K240&\"\"","v":""},null,null,null,null,null,null,null,null,null,null,null,null,null,null,null,null,{"$f":"労働者に係る事項!L240&\"\"","v":""},null,null,null,null,null,{"$f":"労働者に係る事項!M240&\"\"","v":""},null,null,null,null,null,null,{"$f":"労働者に係る事項!N240&\"\"","v":""},null,null,null,null,null,null,{"$f":"IF(労働者に係る事項!O240=\"\",\"\",労働者に係る事項!O240)","v":""},null,null,null,null,null,null,null,null,null,null,null,null,null,null,null,null,null,null,{"$f":"IF(労働者に係る事項!P240=\"\",\"\",労働者に係る事項!P240)","v":""},null,null,null,null,null,null,null,null,null,null,null,null,null,{"$f":"IF(労働者に係る事項!Q240=\"\",\"\",労働者に係る事項!Q240)","v":""},null,null,null,null,null,null,null,null,null,null,null,null,null,null,null,null,null,null,null,{"$f":"労働者に係る事項!R240&\"\"","v":""},null,null,null,null,null,null,null,{"$f":"労働者に係る事項!S240&\"\"","v":""}]
[null,"02",null,null,{"$f":"労働者に係る事項!B241&\"\"","v":""},null,null,null,null,null,{"$f":"労働者に係る事項!C241&\"\"","v":""},null,null,null,null,null,null,null,null,null,null,null,null,null,null,null,null,null,null,null,null,null,null,null,null,null,null,null,null,null,{"$f":"労働者に係る事項!D241&\"\"","v":""},null,null,null,null,null,null,null,{"$f":"労働者に係る事項!E241&\"\"","v":""},null,null,null,null,null,null,null,null,null,null,null,null,null,null,null,null,null,null,null,null,null,null,null,null,null,null,null,{"$f":"労働者に係る事項!F241&\"\"","v":""},null,null,null,null,null,null,{"$f":"労働者に係る事項!G241&\"\"","v":""},null,null,null,null,null,{"$f":"労働者に係る事項!H241&\"\"","v":""},null,null,null,null,null,{"$f":"労働者に係る事項!I241&\"\"","v":""},null,null,null,null,null,null,{"$f":"労働者に係る事項!J241&\"\"","v":""},null,null,null,null,null,null,null,null,null,{"$f":"労働者に係る事項!K241&\"\"","v":""},null,null,null,null,null,null,null,null,null,null,null,null,null,null,null,null,{"$f":"労働者に係る事項!L241&\"\"","v":""},null,null,null,null,null,{"$f":"労働者に係る事項!M241&\"\"","v":""},null,null,null,null,null,null,{"$f":"労働者に係る事項!N241&\"\"","v":""},null,null,null,null,null,null,{"$f":"IF(労働者に係る事項!O241=\"\",\"\",労働者に係る事項!O241)","v":""},null,null,null,null,null,null,null,null,null,null,null,null,null,null,null,null,null,null,{"$f":"IF(労働者に係る事項!P241=\"\",\"\",労働者に係る事項!P241)","v":""},null,null,null,null,null,null,null,null,null,null,null,null,null,{"$f":"IF(労働者に係る事項!Q241=\"\",\"\",労働者に係る事項!Q241)","v":""},null,null,null,null,null,null,null,null,null,null,null,null,null,null,null,null,null,null,null,{"$f":"労働者に係る事項!R241&\"\"","v":""},null,null,null,null,null,null,null,{"$f":"労働者に係る事項!S241&\"\"","v":""}]
[null,"03",null,null,{"$f":"労働者に係る事項!B242&\"\"","v":""},null,null,null,null,null,{"$f":"労働者に係る事項!C242&\"\"","v":""},null,null,null,null,null,null,null,null,null,null,null,null,null,null,null,null,null,null,null,null,null,null,null,null,null,null,null,null,null,{"$f":"労働者に係る事項!D242&\"\"","v":""},null,null,null,null,null,null,null,{"$f":"労働者に係る事項!E242&\"\"","v":""},null,null,null,null,null,null,null,null,null,null,null,null,null,null,null,null,null,null,null,null,null,null,null,null,null,null,null,{"$f":"労働者に係る事項!F242&\"\"","v":""},null,null,null,null,null,null,{"$f":"労働者に係る事項!G242&\"\"","v":""},null,null,null,null,null,{"$f":"労働者に係る事項!H242&\"\"","v":""},null,null,null,null,null,{"$f":"労働者に係る事項!I242&\"\"","v":""},null,null,null,null,null,null,{"$f":"労働者に係る事項!J242&\"\"","v":""},null,null,null,null,null,null,null,null,null,{"$f":"労働者に係る事項!K242&\"\"","v":""},null,null,null,null,null,null,null,null,null,null,null,null,null,null,null,null,{"$f":"労働者に係る事項!L242&\"\"","v":""},null,null,null,null,null,{"$f":"労働者に係る事項!M242&\"\"","v":""},null,null,null,null,null,null,{"$f":"労働者に係る事項!N242&\"\"","v":""},null,null,null,null,null,null,{"$f":"IF(労働者に係る事項!O242=\"\",\"\",労働者に係る事項!O242)","v":""},null,null,null,null,null,null,null,null,null,null,null,null,null,null,null,null,null,null,{"$f":"IF(労働者に係る事項!P242=\"\",\"\",労働者に係る事項!P242)","v":""},null,null,null,null,null,null,null,null,null,null,null,null,null,{"$f":"IF(労働者に係る事項!Q242=\"\",\"\",労働者に係る事項!Q242)","v":""},null,null,null,null,null,null,null,null,null,null,null,null,null,null,null,null,null,null,null,{"$f":"労働者に係る事項!R242&\"\"","v":""},null,null,null,null,null,null,null,{"$f":"労働者に係る事項!S242&\"\"","v":""}]
[null,"04",null,null,{"$f":"労働者に係る事項!B243&\"\"","v":""},null,null,null,null,null,{"$f":"労働者に係る事項!C243&\"\"","v":""},null,null,null,null,null,null,null,null,null,null,null,null,null,null,null,null,null,null,null,null,null,null,null,null,null,null,null,null,null,{"$f":"労働者に係る事項!D243&\"\"","v":""},null,null,null,null,null,null,null,{"$f":"労働者に係る事項!E243&\"\"","v":""},null,null,null,null,null,null,null,null,null,null,null,null,null,null,null,null,null,null,null,null,null,null,null,null,null,null,null,{"$f":"労働者に係る事項!F243&\"\"","v":""},null,null,null,null,null,null,{"$f":"労働者に係る事項!G243&\"\"","v":""},null,null,null,null,null,{"$f":"労働者に係る事項!H243&\"\"","v":""},null,null,null,null,null,{"$f":"労働者に係る事項!I243&\"\"","v":""},null,null,null,null,null,null,{"$f":"労働者に係る事項!J243&\"\"","v":""},null,null,null,null,null,null,null,null,null,{"$f":"労働者に係る事項!K243&\"\"","v":""},null,null,null,null,null,null,null,null,null,null,null,null,null,null,null,null,{"$f":"労働者に係る事項!L243&\"\"","v":""},null,null,null,null,null,{"$f":"労働者に係る事項!M243&\"\"","v":""},null,null,null,null,null,null,{"$f":"労働者に係る事項!N243&\"\"","v":""},null,null,null,null,null,null,{"$f":"IF(労働者に係る事項!O243=\"\",\"\",労働者に係る事項!O243)","v":""},null,null,null,null,null,null,null,null,null,null,null,null,null,null,null,null,null,null,{"$f":"IF(労働者に係る事項!P243=\"\",\"\",労働者に係る事項!P243)","v":""},null,null,null,null,null,null,null,null,null,null,null,null,null,{"$f":"IF(労働者に係る事項!Q243=\"\",\"\",労働者に係る事項!Q243)","v":""},null,null,null,null,null,null,null,null,null,null,null,null,null,null,null,null,null,null,null,{"$f":"労働者に係る事項!R243&\"\"","v":""},null,null,null,null,null,null,null,{"$f":"労働者に係る事項!S243&\"\"","v":""}]
[null,"05",null,null,{"$f":"労働者に係る事項!B244&\"\"","v":""},null,null,null,null,null,{"$f":"労働者に係る事項!C244&\"\"","v":""},null,null,null,null,null,null,null,null,null,null,null,null,null,null,null,null,null,null,null,null,null,null,null,null,null,null,null,null,null,{"$f":"労働者に係る事項!D244&\"\"","v":""},null,null,null,null,null,null,null,{"$f":"労働者に係る事項!E244&\"\"","v":""},null,null,null,null,null,null,null,null,null,null,null,null,null,null,null,null,null,null,null,null,null,null,null,null,null,null,null,{"$f":"労働者に係る事項!F244&\"\"","v":""},null,null,null,null,null,null,{"$f":"労働者に係る事項!G244&\"\"","v":""},null,null,null,null,null,{"$f":"労働者に係る事項!H244&\"\"","v":""},null,null,null,null,null,{"$f":"労働者に係る事項!I244&\"\"","v":""},null,null,null,null,null,null,{"$f":"労働者に係る事項!J244&\"\"","v":""},null,null,null,null,null,null,null,null,null,{"$f":"労働者に係る事項!K244&\"\"","v":""},null,null,null,null,null,null,null,null,null,null,null,null,null,null,null,null,{"$f":"労働者に係る事項!L244&\"\"","v":""},null,null,null,null,null,{"$f":"労働者に係る事項!M244&\"\"","v":""},null,null,null,null,null,null,{"$f":"労働者に係る事項!N244&\"\"","v":""},null,null,null,null,null,null,{"$f":"IF(労働者に係る事項!O244=\"\",\"\",労働者に係る事項!O244)","v":""},null,null,null,null,null,null,null,null,null,null,null,null,null,null,null,null,null,null,{"$f":"IF(労働者に係る事項!P244=\"\",\"\",労働者に係る事項!P244)","v":""},null,null,null,null,null,null,null,null,null,null,null,null,null,{"$f":"IF(労働者に係る事項!Q244=\"\",\"\",労働者に係る事項!Q244)","v":""},null,null,null,null,null,null,null,null,null,null,null,null,null,null,null,null,null,null,null,{"$f":"労働者に係る事項!R244&\"\"","v":""},null,null,null,null,null,null,null,{"$f":"労働者に係る事項!S244&\"\"","v":""}]
[null,"06",null,null,{"$f":"労働者に係る事項!B245&\"\"","v":""},null,null,null,null,null,{"$f":"労働者に係る事項!C245&\"\"","v":""},null,null,null,null,null,null,null,null,null,null,null,null,null,null,null,null,null,null,null,null,null,null,null,null,null,null,null,null,null,{"$f":"労働者に係る事項!D245&\"\"","v":""},null,null,null,null,null,null,null,{"$f":"労働者に係る事項!E245&\"\"","v":""},null,null,null,null,null,null,null,null,null,null,null,null,null,null,null,null,null,null,null,null,null,null,null,null,null,null,null,{"$f":"労働者に係る事項!F245&\"\"","v":""},null,null,null,null,null,null,{"$f":"労働者に係る事項!G245&\"\"","v":""},null,null,null,null,null,{"$f":"労働者に係る事項!H245&\"\"","v":""},null,null,null,null,null,{"$f":"労働者に係る事項!I245&\"\"","v":""},null,null,null,null,null,null,{"$f":"労働者に係る事項!J245&\"\"","v":""},null,null,null,null,null,null,null,null,null,{"$f":"労働者に係る事項!K245&\"\"","v":""},null,null,null,null,null,null,null,null,null,null,null,null,null,null,null,null,{"$f":"労働者に係る事項!L245&\"\"","v":""},null,null,null,null,null,{"$f":"労働者に係る事項!M245&\"\"","v":""},null,null,null,null,null,null,{"$f":"労働者に係る事項!N245&\"\"","v":""},null,null,null,null,null,null,{"$f":"IF(労働者に係る事項!O245=\"\",\"\",労働者に係る事項!O245)","v":""},null,null,null,null,null,null,null,null,null,null,null,null,null,null,null,null,null,null,{"$f":"IF(労働者に係る事項!P245=\"\",\"\",労働者に係る事項!P245)","v":""},null,null,null,null,null,null,null,null,null,null,null,null,null,{"$f":"IF(労働者に係る事項!Q245=\"\",\"\",労働者に係る事項!Q245)","v":""},null,null,null,null,null,null,null,null,null,null,null,null,null,null,null,null,null,null,null,{"$f":"労働者に係る事項!R245&\"\"","v":""},null,null,null,null,null,null,null,{"$f":"労働者に係る事項!S245&\"\"","v":""}]
[null,"07",null,null,{"$f":"労働者に係る事項!B246&\"\"","v":""},null,null,null,null,null,{"$f":"労働者に係る事項!C246&\"\"","v":""},null,null,null,null,null,null,null,null,null,null,null,null,null,null,null,null,null,null,null,null,null,null,null,null,null,null,null,null,null,{"$f":"労働者に係る事項!D246&\"\"","v":""},null,null,null,null,null,null,null,{"$f":"労働者に係る事項!E246&\"\"","v":""},null,null,null,null,null,null,null,null,null,null,null,null,null,null,null,null,null,null,null,null,null,null,null,null,null,null,null,{"$f":"労働者に係る事項!F246&\"\"","v":""},null,null,null,null,null,null,{"$f":"労働者に係る事項!G246&\"\"","v":""},null,null,null,null,null,{"$f":"労働者に係る事項!H246&\"\"","v":""},null,null,null,null,null,{"$f":"労働者に係る事項!I246&\"\"","v":""},null,null,null,null,null,null,{"$f":"労働者に係る事項!J246&\"\"","v":""},null,null,null,null,null,null,null,null,null,{"$f":"労働者に係る事項!K246&\"\"","v":""},null,null,null,null,null,null,null,null,null,null,null,null,null,null,null,null,{"$f":"労働者に係る事項!L246&\"\"","v":""},null,null,null,null,null,{"$f":"労働者に係る事項!M246&\"\"","v":""},null,null,null,null,null,null,{"$f":"労働者に係る事項!N246&\"\"","v":""},null,null,null,null,null,null,{"$f":"IF(労働者に係る事項!O246=\"\",\"\",労働者に係る事項!O246)","v":""},null,null,null,null,null,null,null,null,null,null,null,null,null,null,null,null,null,null,{"$f":"IF(労働者に係る事項!P246=\"\",\"\",労働者に係る事項!P246)","v":""},null,null,null,null,null,null,null,null,null,null,null,null,null,{"$f":"IF(労働者に係る事項!Q246=\"\",\"\",労働者に係る事項!Q246)","v":""},null,null,null,null,null,null,null,null,null,null,null,null,null,null,null,null,null,null,null,{"$f":"労働者に係る事項!R246&\"\"","v":""},null,null,null,null,null,null,null,{"$f":"労働者に係る事項!S246&\"\"","v":""}]
[null,"08",null,null,{"$f":"労働者に係る事項!B247&\"\"","v":""},null,null,null,null,null,{"$f":"労働者に係る事項!C247&\"\"","v":""},null,null,null,null,null,null,null,null,null,null,null,null,null,null,null,null,null,null,null,null,null,null,null,null,null,null,null,null,null,{"$f":"労働者に係る事項!D247&\"\"","v":""},null,null,null,null,null,null,null,{"$f":"労働者に係る事項!E247&\"\"","v":""},null,null,null,null,null,null,null,null,null,null,null,null,null,null,null,null,null,null,null,null,null,null,null,null,null,null,null,{"$f":"労働者に係る事項!F247&\"\"","v":""},null,null,null,null,null,null,{"$f":"労働者に係る事項!G247&\"\"","v":""},null,null,null,null,null,{"$f":"労働者に係る事項!H247&\"\"","v":""},null,null,null,null,null,{"$f":"労働者に係る事項!I247&\"\"","v":""},null,null,null,null,null,null,{"$f":"労働者に係る事項!J247&\"\"","v":""},null,null,null,null,null,null,null,null,null,{"$f":"労働者に係る事項!K247&\"\"","v":""},null,null,null,null,null,null,null,null,null,null,null,null,null,null,null,null,{"$f":"労働者に係る事項!L247&\"\"","v":""},null,null,null,null,null,{"$f":"労働者に係る事項!M247&\"\"","v":""},null,null,null,null,null,null,{"$f":"労働者に係る事項!N247&\"\"","v":""},null,null,null,null,null,null,{"$f":"IF(労働者に係る事項!O247=\"\",\"\",労働者に係る事項!O247)","v":""},null,null,null,null,null,null,null,null,null,null,null,null,null,null,null,null,null,null,{"$f":"IF(労働者に係る事項!P247=\"\",\"\",労働者に係る事項!P247)","v":""},null,null,null,null,null,null,null,null,null,null,null,null,null,{"$f":"IF(労働者に係る事項!Q247=\"\",\"\",労働者に係る事項!Q247)","v":""},null,null,null,null,null,null,null,null,null,null,null,null,null,null,null,null,null,null,null,{"$f":"労働者に係る事項!R247&\"\"","v":""},null,null,null,null,null,null,null,{"$f":"労働者に係る事項!S247&\"\"","v":""}]
[null,"09",null,null,{"$f":"労働者に係る事項!B248&\"\"","v":""},null,null,null,null,null,{"$f":"労働者に係る事項!C248&\"\"","v":""},null,null,null,null,null,null,null,null,null,null,null,null,null,null,null,null,null,null,null,null,null,null,null,null,null,null,null,null,null,{"$f":"労働者に係る事項!D248&\"\"","v":""},null,null,null,null,null,null,null,{"$f":"労働者に係る事項!E248&\"\"","v":""},null,null,null,null,null,null,null,null,null,null,null,null,null,null,null,null,null,null,null,null,null,null,null,null,null,null,null,{"$f":"労働者に係る事項!F248&\"\"","v":""},null,null,null,null,null,null,{"$f":"労働者に係る事項!G248&\"\"","v":""},null,null,null,null,null,{"$f":"労働者に係る事項!H248&\"\"","v":""},null,null,null,null,null,{"$f":"労働者に係る事項!I248&\"\"","v":""},null,null,null,null,null,null,{"$f":"労働者に係る事項!J248&\"\"","v":""},null,null,null,null,null,null,null,null,null,{"$f":"労働者に係る事項!K248&\"\"","v":""},null,null,null,null,null,null,null,null,null,null,null,null,null,null,null,null,{"$f":"労働者に係る事項!L248&\"\"","v":""},null,null,null,null,null,{"$f":"労働者に係る事項!M248&\"\"","v":""},null,null,null,null,null,null,{"$f":"労働者に係る事項!N248&\"\"","v":""},null,null,null,null,null,null,{"$f":"IF(労働者に係る事項!O248=\"\",\"\",労働者に係る事項!O248)","v":""},null,null,null,null,null,null,null,null,null,null,null,null,null,null,null,null,null,null,{"$f":"IF(労働者に係る事項!P248=\"\",\"\",労働者に係る事項!P248)","v":""},null,null,null,null,null,null,null,null,null,null,null,null,null,{"$f":"IF(労働者に係る事項!Q248=\"\",\"\",労働者に係る事項!Q248)","v":""},null,null,null,null,null,null,null,null,null,null,null,null,null,null,null,null,null,null,null,{"$f":"労働者に係る事項!R248&\"\"","v":""},null,null,null,null,null,null,null,{"$f":"労働者に係る事項!S248&\"\"","v":""}]
[null,"10",null,null,{"$f":"労働者に係る事項!B249&\"\"","v":""},null,null,null,null,null,{"$f":"労働者に係る事項!C249&\"\"","v":""},null,null,null,null,null,null,null,null,null,null,null,null,null,null,null,null,null,null,null,null,null,null,null,null,null,null,null,null,null,{"$f":"労働者に係る事項!D249&\"\"","v":""},null,null,null,null,null,null,null,{"$f":"労働者に係る事項!E249&\"\"","v":""},null,null,null,null,null,null,null,null,null,null,null,null,null,null,null,null,null,null,null,null,null,null,null,null,null,null,null,{"$f":"労働者に係る事項!F249&\"\"","v":""},null,null,null,null,null,null,{"$f":"労働者に係る事項!G249&\"\"","v":""},null,null,null,null,null,{"$f":"労働者に係る事項!H249&\"\"","v":""},null,null,null,null,null,{"$f":"労働者に係る事項!I249&\"\"","v":""},null,null,null,null,null,null,{"$f":"労働者に係る事項!J249&\"\"","v":""},null,null,null,null,null,null,null,null,null,{"$f":"労働者に係る事項!K249&\"\"","v":""},null,null,null,null,null,null,null,null,null,null,null,null,null,null,null,null,{"$f":"労働者に係る事項!L249&\"\"","v":""},null,null,null,null,null,{"$f":"労働者に係る事項!M249&\"\"","v":""},null,null,null,null,null,null,{"$f":"労働者に係る事項!N249&\"\"","v":""},null,null,null,null,null,null,{"$f":"IF(労働者に係る事項!O249=\"\",\"\",労働者に係る事項!O249)","v":""},null,null,null,null,null,null,null,null,null,null,null,null,null,null,null,null,null,null,{"$f":"IF(労働者に係る事項!P249=\"\",\"\",労働者に係る事項!P249)","v":""},null,null,null,null,null,null,null,null,null,null,null,null,null,{"$f":"IF(労働者に係る事項!Q249=\"\",\"\",労働者に係る事項!Q249)","v":""},null,null,null,null,null,null,null,null,null,null,null,null,null,null,null,null,null,null,null,{"$f":"労働者に係る事項!R249&\"\"","v":""},null,null,null,null,null,null,null,{"$f":"労働者に係る事項!S249&\"\"","v":""}]
[null,"11",null,null,{"$f":"労働者に係る事項!B250&\"\"","v":""},null,null,null,null,null,{"$f":"労働者に係る事項!C250&\"\"","v":""},null,null,null,null,null,null,null,null,null,null,null,null,null,null,null,null,null,null,null,null,null,null,null,null,null,null,null,null,null,{"$f":"労働者に係る事項!D250&\"\"","v":""},null,null,null,null,null,null,null,{"$f":"労働者に係る事項!E250&\"\"","v":""},null,null,null,null,null,null,null,null,null,null,null,null,null,null,null,null,null,null,null,null,null,null,null,null,null,null,null,{"$f":"労働者に係る事項!F250&\"\"","v":""},null,null,null,null,null,null,{"$f":"労働者に係る事項!G250&\"\"","v":""},null,null,null,null,null,{"$f":"労働者に係る事項!H250&\"\"","v":""},null,null,null,null,null,{"$f":"労働者に係る事項!I250&\"\"","v":""},null,null,null,null,null,null,{"$f":"労働者に係る事項!J250&\"\"","v":""},null,null,null,null,null,null,null,null,null,{"$f":"労働者に係る事項!K250&\"\"","v":""},null,null,null,null,null,null,null,null,null,null,null,null,null,null,null,null,{"$f":"労働者に係る事項!L250&\"\"","v":""},null,null,null,null,null,{"$f":"労働者に係る事項!M250&\"\"","v":""},null,null,null,null,null,null,{"$f":"労働者に係る事項!N250&\"\"","v":""},null,null,null,null,null,null,{"$f":"IF(労働者に係る事項!O250=\"\",\"\",労働者に係る事項!O250)","v":""},null,null,null,null,null,null,null,null,null,null,null,null,null,null,null,null,null,null,{"$f":"IF(労働者に係る事項!P250=\"\",\"\",労働者に係る事項!P250)","v":""},null,null,null,null,null,null,null,null,null,null,null,null,null,{"$f":"IF(労働者に係る事項!Q250=\"\",\"\",労働者に係る事項!Q250)","v":""},null,null,null,null,null,null,null,null,null,null,null,null,null,null,null,null,null,null,null,{"$f":"労働者に係る事項!R250&\"\"","v":""},null,null,null,null,null,null,null,{"$f":"労働者に係る事項!S250&\"\"","v":""}]
[null,"12",null,null,{"$f":"労働者に係る事項!B251&\"\"","v":""},null,null,null,null,null,{"$f":"労働者に係る事項!C251&\"\"","v":""},null,null,null,null,null,null,null,null,null,null,null,null,null,null,null,null,null,null,null,null,null,null,null,null,null,null,null,null,null,{"$f":"労働者に係る事項!D251&\"\"","v":""},null,null,null,null,null,null,null,{"$f":"労働者に係る事項!E251&\"\"","v":""},null,null,null,null,null,null,null,null,null,null,null,null,null,null,null,null,null,null,null,null,null,null,null,null,null,null,null,{"$f":"労働者に係る事項!F251&\"\"","v":""},null,null,null,null,null,null,{"$f":"労働者に係る事項!G251&\"\"","v":""},null,null,null,null,null,{"$f":"労働者に係る事項!H251&\"\"","v":""},null,null,null,null,null,{"$f":"労働者に係る事項!I251&\"\"","v":""},null,null,null,null,null,null,{"$f":"労働者に係る事項!J251&\"\"","v":""},null,null,null,null,null,null,null,null,null,{"$f":"労働者に係る事項!K251&\"\"","v":""},null,null,null,null,null,null,null,null,null,null,null,null,null,null,null,null,{"$f":"労働者に係る事項!L251&\"\"","v":""},null,null,null,null,null,{"$f":"労働者に係る事項!M251&\"\"","v":""},null,null,null,null,null,null,{"$f":"労働者に係る事項!N251&\"\"","v":""},null,null,null,null,null,null,{"$f":"IF(労働者に係る事項!O251=\"\",\"\",労働者に係る事項!O251)","v":""},null,null,null,null,null,null,null,null,null,null,null,null,null,null,null,null,null,null,{"$f":"IF(労働者に係る事項!P251=\"\",\"\",労働者に係る事項!P251)","v":""},null,null,null,null,null,null,null,null,null,null,null,null,null,{"$f":"IF(労働者に係る事項!Q251=\"\",\"\",労働者に係る事項!Q251)","v":""},null,null,null,null,null,null,null,null,null,null,null,null,null,null,null,null,null,null,null,{"$f":"労働者に係る事項!R251&\"\"","v":""},null,null,null,null,null,null,null,{"$f":"労働者に係る事項!S251&\"\"","v":""}]
[null,"13",null,null,{"$f":"労働者に係る事項!B252&\"\"","v":""},null,null,null,null,null,{"$f":"労働者に係る事項!C252&\"\"","v":""},null,null,null,null,null,null,null,null,null,null,null,null,null,null,null,null,null,null,null,null,null,null,null,null,null,null,null,null,null,{"$f":"労働者に係る事項!D252&\"\"","v":""},null,null,null,null,null,null,null,{"$f":"労働者に係る事項!E252&\"\"","v":""},null,null,null,null,null,null,null,null,null,null,null,null,null,null,null,null,null,null,null,null,null,null,null,null,null,null,null,{"$f":"労働者に係る事項!F252&\"\"","v":""},null,null,null,null,null,null,{"$f":"労働者に係る事項!G252&\"\"","v":""},null,null,null,null,null,{"$f":"労働者に係る事項!H252&\"\"","v":""},null,null,null,null,null,{"$f":"労働者に係る事項!I252&\"\"","v":""},null,null,null,null,null,null,{"$f":"労働者に係る事項!J252&\"\"","v":""},null,null,null,null,null,null,null,null,null,{"$f":"労働者に係る事項!K252&\"\"","v":""},null,null,null,null,null,null,null,null,null,null,null,null,null,null,null,null,{"$f":"労働者に係る事項!L252&\"\"","v":""},null,null,null,null,null,{"$f":"労働者に係る事項!M252&\"\"","v":""},null,null,null,null,null,null,{"$f":"労働者に係る事項!N252&\"\"","v":""},null,null,null,null,null,null,{"$f":"IF(労働者に係る事項!O252=\"\",\"\",労働者に係る事項!O252)","v":""},null,null,null,null,null,null,null,null,null,null,null,null,null,null,null,null,null,null,{"$f":"IF(労働者に係る事項!P252=\"\",\"\",労働者に係る事項!P252)","v":""},null,null,null,null,null,null,null,null,null,null,null,null,null,{"$f":"IF(労働者に係る事項!Q252=\"\",\"\",労働者に係る事項!Q252)","v":""},null,null,null,null,null,null,null,null,null,null,null,null,null,null,null,null,null,null,null,{"$f":"労働者に係る事項!R252&\"\"","v":""},null,null,null,null,null,null,null,{"$f":"労働者に係る事項!S252&\"\"","v":""}]
[null,"14",null,null,{"$f":"労働者に係る事項!B253&\"\"","v":""},null,null,null,null,null,{"$f":"労働者に係る事項!C253&\"\"","v":""},null,null,null,null,null,null,null,null,null,null,null,null,null,null,null,null,null,null,null,null,null,null,null,null,null,null,null,null,null,{"$f":"労働者に係る事項!D253&\"\"","v":""},null,null,null,null,null,null,null,{"$f":"労働者に係る事項!E253&\"\"","v":""},null,null,null,null,null,null,null,null,null,null,null,null,null,null,null,null,null,null,null,null,null,null,null,null,null,null,null,{"$f":"労働者に係る事項!F253&\"\"","v":""},null,null,null,null,null,null,{"$f":"労働者に係る事項!G253&\"\"","v":""},null,null,null,null,null,{"$f":"労働者に係る事項!H253&\"\"","v":""},null,null,null,null,null,{"$f":"労働者に係る事項!I253&\"\"","v":""},null,null,null,null,null,null,{"$f":"労働者に係る事項!J253&\"\"","v":""},null,null,null,null,null,null,null,null,null,{"$f":"労働者に係る事項!K253&\"\"","v":""},null,null,null,null,null,null,null,null,null,null,null,null,null,null,null,null,{"$f":"労働者に係る事項!L253&\"\"","v":""},null,null,null,null,null,{"$f":"労働者に係る事項!M253&\"\"","v":""},null,null,null,null,null,null,{"$f":"労働者に係る事項!N253&\"\"","v":""},null,null,null,null,null,null,{"$f":"IF(労働者に係る事項!O253=\"\",\"\",労働者に係る事項!O253)","v":""},null,null,null,null,null,null,null,null,null,null,null,null,null,null,null,null,null,null,{"$f":"IF(労働者に係る事項!P253=\"\",\"\",労働者に係る事項!P253)","v":""},null,null,null,null,null,null,null,null,null,null,null,null,null,{"$f":"IF(労働者に係る事項!Q253=\"\",\"\",労働者に係る事項!Q253)","v":""},null,null,null,null,null,null,null,null,null,null,null,null,null,null,null,null,null,null,null,{"$f":"労働者に係る事項!R253&\"\"","v":""},null,null,null,null,null,null,null,{"$f":"労働者に係る事項!S253&\"\"","v":""}]
[null,"15",null,null,{"$f":"労働者に係る事項!B254&\"\"","v":""},null,null,null,null,null,{"$f":"労働者に係る事項!C254&\"\"","v":""},null,null,null,null,null,null,null,null,null,null,null,null,null,null,null,null,null,null,null,null,null,null,null,null,null,null,null,null,null,{"$f":"労働者に係る事項!D254&\"\"","v":""},null,null,null,null,null,null,null,{"$f":"労働者に係る事項!E254&\"\"","v":""},null,null,null,null,null,null,null,null,null,null,null,null,null,null,null,null,null,null,null,null,null,null,null,null,null,null,null,{"$f":"労働者に係る事項!F254&\"\"","v":""},null,null,null,null,null,null,{"$f":"労働者に係る事項!G254&\"\"","v":""},null,null,null,null,null,{"$f":"労働者に係る事項!H254&\"\"","v":""},null,null,null,null,null,{"$f":"労働者に係る事項!I254&\"\"","v":""},null,null,null,null,null,null,{"$f":"労働者に係る事項!J254&\"\"","v":""},null,null,null,null,null,null,null,null,null,{"$f":"労働者に係る事項!K254&\"\"","v":""},null,null,null,null,null,null,null,null,null,null,null,null,null,null,null,null,{"$f":"労働者に係る事項!L254&\"\"","v":""},null,null,null,null,null,{"$f":"労働者に係る事項!M254&\"\"","v":""},null,null,null,null,null,null,{"$f":"労働者に係る事項!N254&\"\"","v":""},null,null,null,null,null,null,{"$f":"IF(労働者に係る事項!O254=\"\",\"\",労働者に係る事項!O254)","v":""},null,null,null,null,null,null,null,null,null,null,null,null,null,null,null,null,null,null,{"$f":"IF(労働者に係る事項!P254=\"\",\"\",労働者に係る事項!P254)","v":""},null,null,null,null,null,null,null,null,null,null,null,null,null,{"$f":"IF(労働者に係る事項!Q254=\"\",\"\",労働者に係る事項!Q254)","v":""},null,null,null,null,null,null,null,null,null,null,null,null,null,null,null,null,null,null,null,{"$f":"労働者に係る事項!R254&\"\"","v":""},null,null,null,null,null,null,null,{"$f":"労働者に係る事項!S254&\"\"","v":""}]
[null,"16",null,null,{"$f":"労働者に係る事項!B255&\"\"","v":""},null,null,null,null,null,{"$f":"労働者に係る事項!C255&\"\"","v":""},null,null,null,null,null,null,null,null,null,null,null,null,null,null,null,null,null,null,null,null,null,null,null,null,null,null,null,null,null,{"$f":"労働者に係る事項!D255&\"\"","v":""},null,null,null,null,null,null,null,{"$f":"労働者に係る事項!E255&\"\"","v":""},null,null,null,null,null,null,null,null,null,null,null,null,null,null,null,null,null,null,null,null,null,null,null,null,null,null,null,{"$f":"労働者に係る事項!F255&\"\"","v":""},null,null,null,null,null,null,{"$f":"労働者に係る事項!G255&\"\"","v":""},null,null,null,null,null,{"$f":"労働者に係る事項!H255&\"\"","v":""},null,null,null,null,null,{"$f":"労働者に係る事項!I255&\"\"","v":""},null,null,null,null,null,null,{"$f":"労働者に係る事項!J255&\"\"","v":""},null,null,null,null,null,null,null,null,null,{"$f":"労働者に係る事項!K255&\"\"","v":""},null,null,null,null,null,null,null,null,null,null,null,null,null,null,null,null,{"$f":"労働者に係る事項!L255&\"\"","v":""},null,null,null,null,null,{"$f":"労働者に係る事項!M255&\"\"","v":""},null,null,null,null,null,null,{"$f":"労働者に係る事項!N255&\"\"","v":""},null,null,null,null,null,null,{"$f":"IF(労働者に係る事項!O255=\"\",\"\",労働者に係る事項!O255)","v":""},null,null,null,null,null,null,null,null,null,null,null,null,null,null,null,null,null,null,{"$f":"IF(労働者に係る事項!P255=\"\",\"\",労働者に係る事項!P255)","v":""},null,null,null,null,null,null,null,null,null,null,null,null,null,{"$f":"IF(労働者に係る事項!Q255=\"\",\"\",労働者に係る事項!Q255)","v":""},null,null,null,null,null,null,null,null,null,null,null,null,null,null,null,null,null,null,null,{"$f":"労働者に係る事項!R255&\"\"","v":""},null,null,null,null,null,null,null,{"$f":"労働者に係る事項!S255&\"\"","v":""}]
[null,"17",null,null,{"$f":"労働者に係る事項!B256&\"\"","v":""},null,null,null,null,null,{"$f":"労働者に係る事項!C256&\"\"","v":""},null,null,null,null,null,null,null,null,null,null,null,null,null,null,null,null,null,null,null,null,null,null,null,null,null,null,null,null,null,{"$f":"労働者に係る事項!D256&\"\"","v":""},null,null,null,null,null,null,null,{"$f":"労働者に係る事項!E256&\"\"","v":""},null,null,null,null,null,null,null,null,null,null,null,null,null,null,null,null,null,null,null,null,null,null,null,null,null,null,null,{"$f":"労働者に係る事項!F256&\"\"","v":""},null,null,null,null,null,null,{"$f":"労働者に係る事項!G256&\"\"","v":""},null,null,null,null,null,{"$f":"労働者に係る事項!H256&\"\"","v":""},null,null,null,null,null,{"$f":"労働者に係る事項!I256&\"\"","v":""},null,null,null,null,null,null,{"$f":"労働者に係る事項!J256&\"\"","v":""},null,null,null,null,null,null,null,null,null,{"$f":"労働者に係る事項!K256&\"\"","v":""},null,null,null,null,null,null,null,null,null,null,null,null,null,null,null,null,{"$f":"労働者に係る事項!L256&\"\"","v":""},null,null,null,null,null,{"$f":"労働者に係る事項!M256&\"\"","v":""},null,null,null,null,null,null,{"$f":"労働者に係る事項!N256&\"\"","v":""},null,null,null,null,null,null,{"$f":"IF(労働者に係る事項!O256=\"\",\"\",労働者に係る事項!O256)","v":""},null,null,null,null,null,null,null,null,null,null,null,null,null,null,null,null,null,null,{"$f":"IF(労働者に係る事項!P256=\"\",\"\",労働者に係る事項!P256)","v":""},null,null,null,null,null,null,null,null,null,null,null,null,null,{"$f":"IF(労働者に係る事項!Q256=\"\",\"\",労働者に係る事項!Q256)","v":""},null,null,null,null,null,null,null,null,null,null,null,null,null,null,null,null,null,null,null,{"$f":"労働者に係る事項!R256&\"\"","v":""},null,null,null,null,null,null,null,{"$f":"労働者に係る事項!S256&\"\"","v":""}]
[null,"18",null,null,{"$f":"労働者に係る事項!B257&\"\"","v":""},null,null,null,null,null,{"$f":"労働者に係る事項!C257&\"\"","v":""},null,null,null,null,null,null,null,null,null,null,null,null,null,null,null,null,null,null,null,null,null,null,null,null,null,null,null,null,null,{"$f":"労働者に係る事項!D257&\"\"","v":""},null,null,null,null,null,null,null,{"$f":"労働者に係る事項!E257&\"\"","v":""},null,null,null,null,null,null,null,null,null,null,null,null,null,null,null,null,null,null,null,null,null,null,null,null,null,null,null,{"$f":"労働者に係る事項!F257&\"\"","v":""},null,null,null,null,null,null,{"$f":"労働者に係る事項!G257&\"\"","v":""},null,null,null,null,null,{"$f":"労働者に係る事項!H257&\"\"","v":""},null,null,null,null,null,{"$f":"労働者に係る事項!I257&\"\"","v":""},null,null,null,null,null,null,{"$f":"労働者に係る事項!J257&\"\"","v":""},null,null,null,null,null,null,null,null,null,{"$f":"労働者に係る事項!K257&\"\"","v":""},null,null,null,null,null,null,null,null,null,null,null,null,null,null,null,null,{"$f":"労働者に係る事項!L257&\"\"","v":""},null,null,null,null,null,{"$f":"労働者に係る事項!M257&\"\"","v":""},null,null,null,null,null,null,{"$f":"労働者に係る事項!N257&\"\"","v":""},null,null,null,null,null,null,{"$f":"IF(労働者に係る事項!O257=\"\",\"\",労働者に係る事項!O257)","v":""},null,null,null,null,null,null,null,null,null,null,null,null,null,null,null,null,null,null,{"$f":"IF(労働者に係る事項!P257=\"\",\"\",労働者に係る事項!P257)","v":""},null,null,null,null,null,null,null,null,null,null,null,null,null,{"$f":"IF(労働者に係る事項!Q257=\"\",\"\",労働者に係る事項!Q257)","v":""},null,null,null,null,null,null,null,null,null,null,null,null,null,null,null,null,null,null,null,{"$f":"労働者に係る事項!R257&\"\"","v":""},null,null,null,null,null,null,null,{"$f":"労働者に係る事項!S257&\"\"","v":""}]
[null,"19",null,null,{"$f":"労働者に係る事項!B258&\"\"","v":""},null,null,null,null,null,{"$f":"労働者に係る事項!C258&\"\"","v":""},null,null,null,null,null,null,null,null,null,null,null,null,null,null,null,null,null,null,null,null,null,null,null,null,null,null,null,null,null,{"$f":"労働者に係る事項!D258&\"\"","v":""},null,null,null,null,null,null,null,{"$f":"労働者に係る事項!E258&\"\"","v":""},null,null,null,null,null,null,null,null,null,null,null,null,null,null,null,null,null,null,null,null,null,null,null,null,null,null,null,{"$f":"労働者に係る事項!F258&\"\"","v":""},null,null,null,null,null,null,{"$f":"労働者に係る事項!G258&\"\"","v":""},null,null,null,null,null,{"$f":"労働者に係る事項!H258&\"\"","v":""},null,null,null,null,null,{"$f":"労働者に係る事項!I258&\"\"","v":""},null,null,null,null,null,null,{"$f":"労働者に係る事項!J258&\"\"","v":""},null,null,null,null,null,null,null,null,null,{"$f":"労働者に係る事項!K258&\"\"","v":""},null,null,null,null,null,null,null,null,null,null,null,null,null,null,null,null,{"$f":"労働者に係る事項!L258&\"\"","v":""},null,null,null,null,null,{"$f":"労働者に係る事項!M258&\"\"","v":""},null,null,null,null,null,null,{"$f":"労働者に係る事項!N258&\"\"","v":""},null,null,null,null,null,null,{"$f":"IF(労働者に係る事項!O258=\"\",\"\",労働者に係る事項!O258)","v":""},null,null,null,null,null,null,null,null,null,null,null,null,null,null,null,null,null,null,{"$f":"IF(労働者に係る事項!P258=\"\",\"\",労働者に係る事項!P258)","v":""},null,null,null,null,null,null,null,null,null,null,null,null,null,{"$f":"IF(労働者に係る事項!Q258=\"\",\"\",労働者に係る事項!Q258)","v":""},null,null,null,null,null,null,null,null,null,null,null,null,null,null,null,null,null,null,null,{"$f":"労働者に係る事項!R258&\"\"","v":""},null,null,null,null,null,null,null,{"$f":"労働者に係る事項!S258&\"\"","v":""}]
[null,"20",null,null,{"$f":"労働者に係る事項!B259&\"\"","v":""},null,null,null,null,null,{"$f":"労働者に係る事項!C259&\"\"","v":""},null,null,null,null,null,null,null,null,null,null,null,null,null,null,null,null,null,null,null,null,null,null,null,null,null,null,null,null,null,{"$f":"労働者に係る事項!D259&\"\"","v":""},null,null,null,null,null,null,null,{"$f":"労働者に係る事項!E259&\"\"","v":""},null,null,null,null,null,null,null,null,null,null,null,null,null,null,null,null,null,null,null,null,null,null,null,null,null,null,null,{"$f":"労働者に係る事項!F259&\"\"","v":""},null,null,null,null,null,null,{"$f":"労働者に係る事項!G259&\"\"","v":""},null,null,null,null,null,{"$f":"労働者に係る事項!H259&\"\"","v":""},null,null,null,null,null,{"$f":"労働者に係る事項!I259&\"\"","v":""},null,null,null,null,null,null,{"$f":"労働者に係る事項!J259&\"\"","v":""},null,null,null,null,null,null,null,null,null,{"$f":"労働者に係る事項!K259&\"\"","v":""},null,null,null,null,null,null,null,null,null,null,null,null,null,null,null,null,{"$f":"労働者に係る事項!L259&\"\"","v":""},null,null,null,null,null,{"$f":"労働者に係る事項!M259&\"\"","v":""},null,null,null,null,null,null,{"$f":"労働者に係る事項!N259&\"\"","v":""},null,null,null,null,null,null,{"$f":"IF(労働者に係る事項!O259=\"\",\"\",労働者に係る事項!O259)","v":""},null,null,null,null,null,null,null,null,null,null,null,null,null,null,null,null,null,null,{"$f":"IF(労働者に係る事項!P259=\"\",\"\",労働者に係る事項!P259)","v":""},null,null,null,null,null,null,null,null,null,null,null,null,null,{"$f":"IF(労働者に係る事項!Q259=\"\",\"\",労働者に係る事項!Q259)","v":""},null,null,null,null,null,null,null,null,null,null,null,null,null,null,null,null,null,null,null,{"$f":"労働者に係る事項!R259&\"\"","v":""},null,null,null,null,null,null,null,{"$f":"労働者に係る事項!S259&\"\"","v":""}]
[null,"21",null,null,{"$f":"労働者に係る事項!B260&\"\"","v":""},null,null,null,null,null,{"$f":"労働者に係る事項!C260&\"\"","v":""},null,null,null,null,null,null,null,null,null,null,null,null,null,null,null,null,null,null,null,null,null,null,null,null,null,null,null,null,null,{"$f":"労働者に係る事項!D260&\"\"","v":""},null,null,null,null,null,null,null,{"$f":"労働者に係る事項!E260&\"\"","v":""},null,null,null,null,null,null,null,null,null,null,null,null,null,null,null,null,null,null,null,null,null,null,null,null,null,null,null,{"$f":"労働者に係る事項!F260&\"\"","v":""},null,null,null,null,null,null,{"$f":"労働者に係る事項!G260&\"\"","v":""},null,null,null,null,null,{"$f":"労働者に係る事項!H260&\"\"","v":""},null,null,null,null,null,{"$f":"労働者に係る事項!I260&\"\"","v":""},null,null,null,null,null,null,{"$f":"労働者に係る事項!J260&\"\"","v":""},null,null,null,null,null,null,null,null,null,{"$f":"労働者に係る事項!K260&\"\"","v":""},null,null,null,null,null,null,null,null,null,null,null,null,null,null,null,null,{"$f":"労働者に係る事項!L260&\"\"","v":""},null,null,null,null,null,{"$f":"労働者に係る事項!M260&\"\"","v":""},null,null,null,null,null,null,{"$f":"労働者に係る事項!N260&\"\"","v":""},null,null,null,null,null,null,{"$f":"IF(労働者に係る事項!O260=\"\",\"\",労働者に係る事項!O260)","v":""},null,null,null,null,null,null,null,null,null,null,null,null,null,null,null,null,null,null,{"$f":"IF(労働者に係る事項!P260=\"\",\"\",労働者に係る事項!P260)","v":""},null,null,null,null,null,null,null,null,null,null,null,null,null,{"$f":"IF(労働者に係る事項!Q260=\"\",\"\",労働者に係る事項!Q260)","v":""},null,null,null,null,null,null,null,null,null,null,null,null,null,null,null,null,null,null,null,{"$f":"労働者に係る事項!R260&\"\"","v":""},null,null,null,null,null,null,null,{"$f":"労働者に係る事項!S260&\"\"","v":""}]
[null,"22",null,null,{"$f":"労働者に係る事項!B261&\"\"","v":""},null,null,null,null,null,{"$f":"労働者に係る事項!C261&\"\"","v":""},null,null,null,null,null,null,null,null,null,null,null,null,null,null,null,null,null,null,null,null,null,null,null,null,null,null,null,null,null,{"$f":"労働者に係る事項!D261&\"\"","v":""},null,null,null,null,null,null,null,{"$f":"労働者に係る事項!E261&\"\"","v":""},null,null,null,null,null,null,null,null,null,null,null,null,null,null,null,null,null,null,null,null,null,null,null,null,null,null,null,{"$f":"労働者に係る事項!F261&\"\"","v":""},null,null,null,null,null,null,{"$f":"労働者に係る事項!G261&\"\"","v":""},null,null,null,null,null,{"$f":"労働者に係る事項!H261&\"\"","v":""},null,null,null,null,null,{"$f":"労働者に係る事項!I261&\"\"","v":""},null,null,null,null,null,null,{"$f":"労働者に係る事項!J261&\"\"","v":""},null,null,null,null,null,null,null,null,null,{"$f":"労働者に係る事項!K261&\"\"","v":""},null,null,null,null,null,null,null,null,null,null,null,null,null,null,null,null,{"$f":"労働者に係る事項!L261&\"\"","v":""},null,null,null,null,null,{"$f":"労働者に係る事項!M261&\"\"","v":""},null,null,null,null,null,null,{"$f":"労働者に係る事項!N261&\"\"","v":""},null,null,null,null,null,null,{"$f":"IF(労働者に係る事項!O261=\"\",\"\",労働者に係る事項!O261)","v":""},null,null,null,null,null,null,null,null,null,null,null,null,null,null,null,null,null,null,{"$f":"IF(労働者に係る事項!P261=\"\",\"\",労働者に係る事項!P261)","v":""},null,null,null,null,null,null,null,null,null,null,null,null,null,{"$f":"IF(労働者に係る事項!Q261=\"\",\"\",労働者に係る事項!Q261)","v":""},null,null,null,null,null,null,null,null,null,null,null,null,null,null,null,null,null,null,null,{"$f":"労働者に係る事項!R261&\"\"","v":""},null,null,null,null,null,null,null,{"$f":"労働者に係る事項!S261&\"\"","v":""}]
[null,"23",null,null,{"$f":"労働者に係る事項!B262&\"\"","v":""},null,null,null,null,null,{"$f":"労働者に係る事項!C262&\"\"","v":""},null,null,null,null,null,null,null,null,null,null,null,null,null,null,null,null,null,null,null,null,null,null,null,null,null,null,null,null,null,{"$f":"労働者に係る事項!D262&\"\"","v":""},null,null,null,null,null,null,null,{"$f":"労働者に係る事項!E262&\"\"","v":""},null,null,null,null,null,null,null,null,null,null,null,null,null,null,null,null,null,null,null,null,null,null,null,null,null,null,null,{"$f":"労働者に係る事項!F262&\"\"","v":""},null,null,null,null,null,null,{"$f":"労働者に係る事項!G262&\"\"","v":""},null,null,null,null,null,{"$f":"労働者に係る事項!H262&\"\"","v":""},null,null,null,null,null,{"$f":"労働者に係る事項!I262&\"\"","v":""},null,null,null,null,null,null,{"$f":"労働者に係る事項!J262&\"\"","v":""},null,null,null,null,null,null,null,null,null,{"$f":"労働者に係る事項!K262&\"\"","v":""},null,null,null,null,null,null,null,null,null,null,null,null,null,null,null,null,{"$f":"労働者に係る事項!L262&\"\"","v":""},null,null,null,null,null,{"$f":"労働者に係る事項!M262&\"\"","v":""},null,null,null,null,null,null,{"$f":"労働者に係る事項!N262&\"\"","v":""},null,null,null,null,null,null,{"$f":"IF(労働者に係る事項!O262=\"\",\"\",労働者に係る事項!O262)","v":""},null,null,null,null,null,null,null,null,null,null,null,null,null,null,null,null,null,null,{"$f":"IF(労働者に係る事項!P262=\"\",\"\",労働者に係る事項!P262)","v":""},null,null,null,null,null,null,null,null,null,null,null,null,null,{"$f":"IF(労働者に係る事項!Q262=\"\",\"\",労働者に係る事項!Q262)","v":""},null,null,null,null,null,null,null,null,null,null,null,null,null,null,null,null,null,null,null,{"$f":"労働者に係る事項!R262&\"\"","v":""},null,null,null,null,null,null,null,{"$f":"労働者に係る事項!S262&\"\"","v":""}]
[null,"24",null,null,{"$f":"労働者に係る事項!B263&\"\"","v":""},null,null,null,null,null,{"$f":"労働者に係る事項!C263&\"\"","v":""},null,null,null,null,null,null,null,null,null,null,null,null,null,null,null,null,null,null,null,null,null,null,null,null,null,null,null,null,null,{"$f":"労働者に係る事項!D263&\"\"","v":""},null,null,null,null,null,null,null,{"$f":"労働者に係る事項!E263&\"\"","v":""},null,null,null,null,null,null,null,null,null,null,null,null,null,null,null,null,null,null,null,null,null,null,null,null,null,null,null,{"$f":"労働者に係る事項!F263&\"\"","v":""},null,null,null,null,null,null,{"$f":"労働者に係る事項!G263&\"\"","v":""},null,null,null,null,null,{"$f":"労働者に係る事項!H263&\"\"","v":""},null,null,null,null,null,{"$f":"労働者に係る事項!I263&\"\"","v":""},null,null,null,null,null,null,{"$f":"労働者に係る事項!J263&\"\"","v":""},null,null,null,null,null,null,null,null,null,{"$f":"労働者に係る事項!K263&\"\"","v":""},null,null,null,null,null,null,null,null,null,null,null,null,null,null,null,null,{"$f":"労働者に係る事項!L263&\"\"","v":""},null,null,null,null,null,{"$f":"労働者に係る事項!M263&\"\"","v":""},null,null,null,null,null,null,{"$f":"労働者に係る事項!N263&\"\"","v":""},null,null,null,null,null,null,{"$f":"IF(労働者に係る事項!O263=\"\",\"\",労働者に係る事項!O263)","v":""},null,null,null,null,null,null,null,null,null,null,null,null,null,null,null,null,null,null,{"$f":"IF(労働者に係る事項!P263=\"\",\"\",労働者に係る事項!P263)","v":""},null,null,null,null,null,null,null,null,null,null,null,null,null,{"$f":"IF(労働者に係る事項!Q263=\"\",\"\",労働者に係る事項!Q263)","v":""},null,null,null,null,null,null,null,null,null,null,null,null,null,null,null,null,null,null,null,{"$f":"労働者に係る事項!R263&\"\"","v":""},null,null,null,null,null,null,null,{"$f":"労働者に係る事項!S263&\"\"","v":""}]
[null,"25",null,null,{"$f":"労働者に係る事項!B264&\"\"","v":""},null,null,null,null,null,{"$f":"労働者に係る事項!C264&\"\"","v":""},null,null,null,null,null,null,null,null,null,null,null,null,null,null,null,null,null,null,null,null,null,null,null,null,null,null,null,null,null,{"$f":"労働者に係る事項!D264&\"\"","v":""},null,null,null,null,null,null,null,{"$f":"労働者に係る事項!E264&\"\"","v":""},null,null,null,null,null,null,null,null,null,null,null,null,null,null,null,null,null,null,null,null,null,null,null,null,null,null,null,{"$f":"労働者に係る事項!F264&\"\"","v":""},null,null,null,null,null,null,{"$f":"労働者に係る事項!G264&\"\"","v":""},null,null,null,null,null,{"$f":"労働者に係る事項!H264&\"\"","v":""},null,null,null,null,null,{"$f":"労働者に係る事項!I264&\"\"","v":""},null,null,null,null,null,null,{"$f":"労働者に係る事項!J264&\"\"","v":""},null,null,null,null,null,null,null,null,null,{"$f":"労働者に係る事項!K264&\"\"","v":""},null,null,null,null,null,null,null,null,null,null,null,null,null,null,null,null,{"$f":"労働者に係る事項!L264&\"\"","v":""},null,null,null,null,null,{"$f":"労働者に係る事項!M264&\"\"","v":""},null,null,null,null,null,null,{"$f":"労働者に係る事項!N264&\"\"","v":""},null,null,null,null,null,null,{"$f":"IF(労働者に係る事項!O264=\"\",\"\",労働者に係る事項!O264)","v":""},null,null,null,null,null,null,null,null,null,null,null,null,null,null,null,null,null,null,{"$f":"IF(労働者に係る事項!P264=\"\",\"\",労働者に係る事項!P264)","v":""},null,null,null,null,null,null,null,null,null,null,null,null,null,{"$f":"IF(労働者に係る事項!Q264=\"\",\"\",労働者に係る事項!Q264)","v":""},null,null,null,null,null,null,null,null,null,null,null,null,null,null,null,null,null,null,null,{"$f":"労働者に係る事項!R264&\"\"","v":""},null,null,null,null,null,null,null,{"$f":"労働者に係る事項!S264&\"\"","v":""}]
[null,"26",null,null,{"$f":"労働者に係る事項!B265&\"\"","v":""},null,null,null,null,null,{"$f":"労働者に係る事項!C265&\"\"","v":""},null,null,null,null,null,null,null,null,null,null,null,null,null,null,null,null,null,null,null,null,null,null,null,null,null,null,null,null,null,{"$f":"労働者に係る事項!D265&\"\"","v":""},null,null,null,null,null,null,null,{"$f":"労働者に係る事項!E265&\"\"","v":""},null,null,null,null,null,null,null,null,null,null,null,null,null,null,null,null,null,null,null,null,null,null,null,null,null,null,null,{"$f":"労働者に係る事項!F265&\"\"","v":""},null,null,null,null,null,null,{"$f":"労働者に係る事項!G265&\"\"","v":""},null,null,null,null,null,{"$f":"労働者に係る事項!H265&\"\"","v":""},null,null,null,null,null,{"$f":"労働者に係る事項!I265&\"\"","v":""},null,null,null,null,null,null,{"$f":"労働者に係る事項!J265&\"\"","v":""},null,null,null,null,null,null,null,null,null,{"$f":"労働者に係る事項!K265&\"\"","v":""},null,null,null,null,null,null,null,null,null,null,null,null,null,null,null,null,{"$f":"労働者に係る事項!L265&\"\"","v":""},null,null,null,null,null,{"$f":"労働者に係る事項!M265&\"\"","v":""},null,null,null,null,null,null,{"$f":"労働者に係る事項!N265&\"\"","v":""},null,null,null,null,null,null,{"$f":"IF(労働者に係る事項!O265=\"\",\"\",労働者に係る事項!O265)","v":""},null,null,null,null,null,null,null,null,null,null,null,null,null,null,null,null,null,null,{"$f":"IF(労働者に係る事項!P265=\"\",\"\",労働者に係る事項!P265)","v":""},null,null,null,null,null,null,null,null,null,null,null,null,null,{"$f":"IF(労働者に係る事項!Q265=\"\",\"\",労働者に係る事項!Q265)","v":""},null,null,null,null,null,null,null,null,null,null,null,null,null,null,null,null,null,null,null,{"$f":"労働者に係る事項!R265&\"\"","v":""},null,null,null,null,null,null,null,{"$f":"労働者に係る事項!S265&\"\"","v":""}]
[null,"27",null,null,{"$f":"労働者に係る事項!B266&\"\"","v":""},null,null,null,null,null,{"$f":"労働者に係る事項!C266&\"\"","v":""},null,null,null,null,null,null,null,null,null,null,null,null,null,null,null,null,null,null,null,null,null,null,null,null,null,null,null,null,null,{"$f":"労働者に係る事項!D266&\"\"","v":""},null,null,null,null,null,null,null,{"$f":"労働者に係る事項!E266&\"\"","v":""},null,null,null,null,null,null,null,null,null,null,null,null,null,null,null,null,null,null,null,null,null,null,null,null,null,null,null,{"$f":"労働者に係る事項!F266&\"\"","v":""},null,null,null,null,null,null,{"$f":"労働者に係る事項!G266&\"\"","v":""},null,null,null,null,null,{"$f":"労働者に係る事項!H266&\"\"","v":""},null,null,null,null,null,{"$f":"労働者に係る事項!I266&\"\"","v":""},null,null,null,null,null,null,{"$f":"労働者に係る事項!J266&\"\"","v":""},null,null,null,null,null,null,null,null,null,{"$f":"労働者に係る事項!K266&\"\"","v":""},null,null,null,null,null,null,null,null,null,null,null,null,null,null,null,null,{"$f":"労働者に係る事項!L266&\"\"","v":""},null,null,null,null,null,{"$f":"労働者に係る事項!M266&\"\"","v":""},null,null,null,null,null,null,{"$f":"労働者に係る事項!N266&\"\"","v":""},null,null,null,null,null,null,{"$f":"IF(労働者に係る事項!O266=\"\",\"\",労働者に係る事項!O266)","v":""},null,null,null,null,null,null,null,null,null,null,null,null,null,null,null,null,null,null,{"$f":"IF(労働者に係る事項!P266=\"\",\"\",労働者に係る事項!P266)","v":""},null,null,null,null,null,null,null,null,null,null,null,null,null,{"$f":"IF(労働者に係る事項!Q266=\"\",\"\",労働者に係る事項!Q266)","v":""},null,null,null,null,null,null,null,null,null,null,null,null,null,null,null,null,null,null,null,{"$f":"労働者に係る事項!R266&\"\"","v":""},null,null,null,null,null,null,null,{"$f":"労働者に係る事項!S266&\"\"","v":""}]
[null,"28",null,null,{"$f":"労働者に係る事項!B267&\"\"","v":""},null,null,null,null,null,{"$f":"労働者に係る事項!C267&\"\"","v":""},null,null,null,null,null,null,null,null,null,null,null,null,null,null,null,null,null,null,null,null,null,null,null,null,null,null,null,null,null,{"$f":"労働者に係る事項!D267&\"\"","v":""},null,null,null,null,null,null,null,{"$f":"労働者に係る事項!E267&\"\"","v":""},null,null,null,null,null,null,null,null,null,null,null,null,null,null,null,null,null,null,null,null,null,null,null,null,null,null,null,{"$f":"労働者に係る事項!F267&\"\"","v":""},null,null,null,null,null,null,{"$f":"労働者に係る事項!G267&\"\"","v":""},null,null,null,null,null,{"$f":"労働者に係る事項!H267&\"\"","v":""},null,null,null,null,null,{"$f":"労働者に係る事項!I267&\"\"","v":""},null,null,null,null,null,null,{"$f":"労働者に係る事項!J267&\"\"","v":""},null,null,null,null,null,null,null,null,null,{"$f":"労働者に係る事項!K267&\"\"","v":""},null,null,null,null,null,null,null,null,null,null,null,null,null,null,null,null,{"$f":"労働者に係る事項!L267&\"\"","v":""},null,null,null,null,null,{"$f":"労働者に係る事項!M267&\"\"","v":""},null,null,null,null,null,null,{"$f":"労働者に係る事項!N267&\"\"","v":""},null,null,null,null,null,null,{"$f":"IF(労働者に係る事項!O267=\"\",\"\",労働者に係る事項!O267)","v":""},null,null,null,null,null,null,null,null,null,null,null,null,null,null,null,null,null,null,{"$f":"IF(労働者に係る事項!P267=\"\",\"\",労働者に係る事項!P267)","v":""},null,null,null,null,null,null,null,null,null,null,null,null,null,{"$f":"IF(労働者に係る事項!Q267=\"\",\"\",労働者に係る事項!Q267)","v":""},null,null,null,null,null,null,null,null,null,null,null,null,null,null,null,null,null,null,null,{"$f":"労働者に係る事項!R267&\"\"","v":""},null,null,null,null,null,null,null,{"$f":"労働者に係る事項!S267&\"\"","v":""}]
[null,"29",null,null,{"$f":"労働者に係る事項!B268&\"\"","v":""},null,null,null,null,null,{"$f":"労働者に係る事項!C268&\"\"","v":""},null,null,null,null,null,null,null,null,null,null,null,null,null,null,null,null,null,null,null,null,null,null,null,null,null,null,null,null,null,{"$f":"労働者に係る事項!D268&\"\"","v":""},null,null,null,null,null,null,null,{"$f":"労働者に係る事項!E268&\"\"","v":""},null,null,null,null,null,null,null,null,null,null,null,null,null,null,null,null,null,null,null,null,null,null,null,null,null,null,null,{"$f":"労働者に係る事項!F268&\"\"","v":""},null,null,null,null,null,null,{"$f":"労働者に係る事項!G268&\"\"","v":""},null,null,null,null,null,{"$f":"労働者に係る事項!H268&\"\"","v":""},null,null,null,null,null,{"$f":"労働者に係る事項!I268&\"\"","v":""},null,null,null,null,null,null,{"$f":"労働者に係る事項!J268&\"\"","v":""},null,null,null,null,null,null,null,null,null,{"$f":"労働者に係る事項!K268&\"\"","v":""},null,null,null,null,null,null,null,null,null,null,null,null,null,null,null,null,{"$f":"労働者に係る事項!L268&\"\"","v":""},null,null,null,null,null,{"$f":"労働者に係る事項!M268&\"\"","v":""},null,null,null,null,null,null,{"$f":"労働者に係る事項!N268&\"\"","v":""},null,null,null,null,null,null,{"$f":"IF(労働者に係る事項!O268=\"\",\"\",労働者に係る事項!O268)","v":""},null,null,null,null,null,null,null,null,null,null,null,null,null,null,null,null,null,null,{"$f":"IF(労働者に係る事項!P268=\"\",\"\",労働者に係る事項!P268)","v":""},null,null,null,null,null,null,null,null,null,null,null,null,null,{"$f":"IF(労働者に係る事項!Q268=\"\",\"\",労働者に係る事項!Q268)","v":""},null,null,null,null,null,null,null,null,null,null,null,null,null,null,null,null,null,null,null,{"$f":"労働者に係る事項!R268&\"\"","v":""},null,null,null,null,null,null,null,{"$f":"労働者に係る事項!S268&\"\"","v":""}]
[null,"30",null,null,{"$f":"労働者に係る事項!B269&\"\"","v":""},null,null,null,null,null,{"$f":"労働者に係る事項!C269&\"\"","v":""},null,null,null,null,null,null,null,null,null,null,null,null,null,null,null,null,null,null,null,null,null,null,null,null,null,null,null,null,null,{"$f":"労働者に係る事項!D269&\"\"","v":""},null,null,null,null,null,null,null,{"$f":"労働者に係る事項!E269&\"\"","v":""},null,null,null,null,null,null,null,null,null,null,null,null,null,null,null,null,null,null,null,null,null,null,null,null,null,null,null,{"$f":"労働者に係る事項!F269&\"\"","v":""},null,null,null,null,null,null,{"$f":"労働者に係る事項!G269&\"\"","v":""},null,null,null,null,null,{"$f":"労働者に係る事項!H269&\"\"","v":""},null,null,null,null,null,{"$f":"労働者に係る事項!I269&\"\"","v":""},null,null,null,null,null,null,{"$f":"労働者に係る事項!J269&\"\"","v":""},null,null,null,null,null,null,null,null,null,{"$f":"労働者に係る事項!K269&\"\"","v":""},null,null,null,null,null,null,null,null,null,null,null,null,null,null,null,null,{"$f":"労働者に係る事項!L269&\"\"","v":""},null,null,null,null,null,{"$f":"労働者に係る事項!M269&\"\"","v":""},null,null,null,null,null,null,{"$f":"労働者に係る事項!N269&\"\"","v":""},null,null,null,null,null,null,{"$f":"IF(労働者に係る事項!O269=\"\",\"\",労働者に係る事項!O269)","v":""},null,null,null,null,null,null,null,null,null,null,null,null,null,null,null,null,null,null,{"$f":"IF(労働者に係る事項!P269=\"\",\"\",労働者に係る事項!P269)","v":""},null,null,null,null,null,null,null,null,null,null,null,null,null,{"$f":"IF(労働者に係る事項!Q269=\"\",\"\",労働者に係る事項!Q269)","v":""},null,null,null,null,null,null,null,null,null,null,null,null,null,null,null,null,null,null,null,{"$f":"労働者に係る事項!R269&\"\"","v":""},null,null,null,null,null,null,null,{"$f":"労働者に係る事項!S269&\"\"","v":""}]
[null,"31",null,null,{"$f":"労働者に係る事項!B270&\"\"","v":""},null,null,null,null,null,{"$f":"労働者に係る事項!C270&\"\"","v":""},null,null,null,null,null,null,null,null,null,null,null,null,null,null,null,null,null,null,null,null,null,null,null,null,null,null,null,null,null,{"$f":"労働者に係る事項!D270&\"\"","v":""},null,null,null,null,null,null,null,{"$f":"労働者に係る事項!E270&\"\"","v":""},null,null,null,null,null,null,null,null,null,null,null,null,null,null,null,null,null,null,null,null,null,null,null,null,null,null,null,{"$f":"労働者に係る事項!F270&\"\"","v":""},null,null,null,null,null,null,{"$f":"労働者に係る事項!G270&\"\"","v":""},null,null,null,null,null,{"$f":"労働者に係る事項!H270&\"\"","v":""},null,null,null,null,null,{"$f":"労働者に係る事項!I270&\"\"","v":""},null,null,null,null,null,null,{"$f":"労働者に係る事項!J270&\"\"","v":""},null,null,null,null,null,null,null,null,null,{"$f":"労働者に係る事項!K270&\"\"","v":""},null,null,null,null,null,null,null,null,null,null,null,null,null,null,null,null,{"$f":"労働者に係る事項!L270&\"\"","v":""},null,null,null,null,null,{"$f":"労働者に係る事項!M270&\"\"","v":""},null,null,null,null,null,null,{"$f":"労働者に係る事項!N270&\"\"","v":""},null,null,null,null,null,null,{"$f":"IF(労働者に係る事項!O270=\"\",\"\",労働者に係る事項!O270)","v":""},null,null,null,null,null,null,null,null,null,null,null,null,null,null,null,null,null,null,{"$f":"IF(労働者に係る事項!P270=\"\",\"\",労働者に係る事項!P270)","v":""},null,null,null,null,null,null,null,null,null,null,null,null,null,{"$f":"IF(労働者に係る事項!Q270=\"\",\"\",労働者に係る事項!Q270)","v":""},null,null,null,null,null,null,null,null,null,null,null,null,null,null,null,null,null,null,null,{"$f":"労働者に係る事項!R270&\"\"","v":""},null,null,null,null,null,null,null,{"$f":"労働者に係る事項!S270&\"\"","v":""}]
[null,"32",null,null,{"$f":"労働者に係る事項!B271&\"\"","v":""},null,null,null,null,null,{"$f":"労働者に係る事項!C271&\"\"","v":""},null,null,null,null,null,null,null,null,null,null,null,null,null,null,null,null,null,null,null,null,null,null,null,null,null,null,null,null,null,{"$f":"労働者に係る事項!D271&\"\"","v":""},null,null,null,null,null,null,null,{"$f":"労働者に係る事項!E271&\"\"","v":""},null,null,null,null,null,null,null,null,null,null,null,null,null,null,null,null,null,null,null,null,null,null,null,null,null,null,null,{"$f":"労働者に係る事項!F271&\"\"","v":""},null,null,null,null,null,null,{"$f":"労働者に係る事項!G271&\"\"","v":""},null,null,null,null,null,{"$f":"労働者に係る事項!H271&\"\"","v":""},null,null,null,null,null,{"$f":"労働者に係る事項!I271&\"\"","v":""},null,null,null,null,null,null,{"$f":"労働者に係る事項!J271&\"\"","v":""},null,null,null,null,null,null,null,null,null,{"$f":"労働者に係る事項!K271&\"\"","v":""},null,null,null,null,null,null,null,null,null,null,null,null,null,null,null,null,{"$f":"労働者に係る事項!L271&\"\"","v":""},null,null,null,null,null,{"$f":"労働者に係る事項!M271&\"\"","v":""},null,null,null,null,null,null,{"$f":"労働者に係る事項!N271&\"\"","v":""},null,null,null,null,null,null,{"$f":"IF(労働者に係る事項!O271=\"\",\"\",労働者に係る事項!O271)","v":""},null,null,null,null,null,null,null,null,null,null,null,null,null,null,null,null,null,null,{"$f":"IF(労働者に係る事項!P271=\"\",\"\",労働者に係る事項!P271)","v":""},null,null,null,null,null,null,null,null,null,null,null,null,null,{"$f":"IF(労働者に係る事項!Q271=\"\",\"\",労働者に係る事項!Q271)","v":""},null,null,null,null,null,null,null,null,null,null,null,null,null,null,null,null,null,null,null,{"$f":"労働者に係る事項!R271&\"\"","v":""},null,null,null,null,null,null,null,{"$f":"労働者に係る事項!S271&\"\"","v":""}]
[null,"33",null,null,{"$f":"労働者に係る事項!B272&\"\"","v":""},null,null,null,null,null,{"$f":"労働者に係る事項!C272&\"\"","v":""},null,null,null,null,null,null,null,null,null,null,null,null,null,null,null,null,null,null,null,null,null,null,null,null,null,null,null,null,null,{"$f":"労働者に係る事項!D272&\"\"","v":""},null,null,null,null,null,null,null,{"$f":"労働者に係る事項!E272&\"\"","v":""},null,null,null,null,null,null,null,null,null,null,null,null,null,null,null,null,null,null,null,null,null,null,null,null,null,null,null,{"$f":"労働者に係る事項!F272&\"\"","v":""},null,null,null,null,null,null,{"$f":"労働者に係る事項!G272&\"\"","v":""},null,null,null,null,null,{"$f":"労働者に係る事項!H272&\"\"","v":""},null,null,null,null,null,{"$f":"労働者に係る事項!I272&\"\"","v":""},null,null,null,null,null,null,{"$f":"労働者に係る事項!J272&\"\"","v":""},null,null,null,null,null,null,null,null,null,{"$f":"労働者に係る事項!K272&\"\"","v":""},null,null,null,null,null,null,null,null,null,null,null,null,null,null,null,null,{"$f":"労働者に係る事項!L272&\"\"","v":""},null,null,null,null,null,{"$f":"労働者に係る事項!M272&\"\"","v":""},null,null,null,null,null,null,{"$f":"労働者に係る事項!N272&\"\"","v":""},null,null,null,null,null,null,{"$f":"IF(労働者に係る事項!O272=\"\",\"\",労働者に係る事項!O272)","v":""},null,null,null,null,null,null,null,null,null,null,null,null,null,null,null,null,null,null,{"$f":"IF(労働者に係る事項!P272=\"\",\"\",労働者に係る事項!P272)","v":""},null,null,null,null,null,null,null,null,null,null,null,null,null,{"$f":"IF(労働者に係る事項!Q272=\"\",\"\",労働者に係る事項!Q272)","v":""},null,null,null,null,null,null,null,null,null,null,null,null,null,null,null,null,null,null,null,{"$f":"労働者に係る事項!R272&\"\"","v":""},null,null,null,null,null,null,null,{"$f":"労働者に係る事項!S272&\"\"","v":""}]
[null,"34",null,null,{"$f":"労働者に係る事項!B273&\"\"","v":""},null,null,null,null,null,{"$f":"労働者に係る事項!C273&\"\"","v":""},null,null,null,null,null,null,null,null,null,null,null,null,null,null,null,null,null,null,null,null,null,null,null,null,null,null,null,null,null,{"$f":"労働者に係る事項!D273&\"\"","v":""},null,null,null,null,null,null,null,{"$f":"労働者に係る事項!E273&\"\"","v":""},null,null,null,null,null,null,null,null,null,null,null,null,null,null,null,null,null,null,null,null,null,null,null,null,null,null,null,{"$f":"労働者に係る事項!F273&\"\"","v":""},null,null,null,null,null,null,{"$f":"労働者に係る事項!G273&\"\"","v":""},null,null,null,null,null,{"$f":"労働者に係る事項!H273&\"\"","v":""},null,null,null,null,null,{"$f":"労働者に係る事項!I273&\"\"","v":""},null,null,null,null,null,null,{"$f":"労働者に係る事項!J273&\"\"","v":""},null,null,null,null,null,null,null,null,null,{"$f":"労働者に係る事項!K273&\"\"","v":""},null,null,null,null,null,null,null,null,null,null,null,null,null,null,null,null,{"$f":"労働者に係る事項!L273&\"\"","v":""},null,null,null,null,null,{"$f":"労働者に係る事項!M273&\"\"","v":""},null,null,null,null,null,null,{"$f":"労働者に係る事項!N273&\"\"","v":""},null,null,null,null,null,null,{"$f":"IF(労働者に係る事項!O273=\"\",\"\",労働者に係る事項!O273)","v":""},null,null,null,null,null,null,null,null,null,null,null,null,null,null,null,null,null,null,{"$f":"IF(労働者に係る事項!P273=\"\",\"\",労働者に係る事項!P273)","v":""},null,null,null,null,null,null,null,null,null,null,null,null,null,{"$f":"IF(労働者に係る事項!Q273=\"\",\"\",労働者に係る事項!Q273)","v":""},null,null,null,null,null,null,null,null,null,null,null,null,null,null,null,null,null,null,null,{"$f":"労働者に係る事項!R273&\"\"","v":""},null,null,null,null,null,null,null,{"$f":"労働者に係る事項!S273&\"\"","v":""}]
[null,"35",null,null,{"$f":"労働者に係る事項!B274&\"\"","v":""},null,null,null,null,null,{"$f":"労働者に係る事項!C274&\"\"","v":""},null,null,null,null,null,null,null,null,null,null,null,null,null,null,null,null,null,null,null,null,null,null,null,null,null,null,null,null,null,{"$f":"労働者に係る事項!D274&\"\"","v":""},null,null,null,null,null,null,null,{"$f":"労働者に係る事項!E274&\"\"","v":""},null,null,null,null,null,null,null,null,null,null,null,null,null,null,null,null,null,null,null,null,null,null,null,null,null,null,null,{"$f":"労働者に係る事項!F274&\"\"","v":""},null,null,null,null,null,null,{"$f":"労働者に係る事項!G274&\"\"","v":""},null,null,null,null,null,{"$f":"労働者に係る事項!H274&\"\"","v":""},null,null,null,null,null,{"$f":"労働者に係る事項!I274&\"\"","v":""},null,null,null,null,null,null,{"$f":"労働者に係る事項!J274&\"\"","v":""},null,null,null,null,null,null,null,null,null,{"$f":"労働者に係る事項!K274&\"\"","v":""},null,null,null,null,null,null,null,null,null,null,null,null,null,null,null,null,{"$f":"労働者に係る事項!L274&\"\"","v":""},null,null,null,null,null,{"$f":"労働者に係る事項!M274&\"\"","v":""},null,null,null,null,null,null,{"$f":"労働者に係る事項!N274&\"\"","v":""},null,null,null,null,null,null,{"$f":"IF(労働者に係る事項!O274=\"\",\"\",労働者に係る事項!O274)","v":""},null,null,null,null,null,null,null,null,null,null,null,null,null,null,null,null,null,null,{"$f":"IF(労働者に係る事項!P274=\"\",\"\",労働者に係る事項!P274)","v":""},null,null,null,null,null,null,null,null,null,null,null,null,null,{"$f":"IF(労働者に係る事項!Q274=\"\",\"\",労働者に係る事項!Q274)","v":""},null,null,null,null,null,null,null,null,null,null,null,null,null,null,null,null,null,null,null,{"$f":"労働者に係る事項!R274&\"\"","v":""},null,null,null,null,null,null,null,{"$f":"労働者に係る事項!S274&\"\"","v":""}]
[null,"36",null,null,{"$f":"労働者に係る事項!B275&\"\"","v":""},null,null,null,null,null,{"$f":"労働者に係る事項!C275&\"\"","v":""},null,null,null,null,null,null,null,null,null,null,null,null,null,null,null,null,null,null,null,null,null,null,null,null,null,null,null,null,null,{"$f":"労働者に係る事項!D275&\"\"","v":""},null,null,null,null,null,null,null,{"$f":"労働者に係る事項!E275&\"\"","v":""},null,null,null,null,null,null,null,null,null,null,null,null,null,null,null,null,null,null,null,null,null,null,null,null,null,null,null,{"$f":"労働者に係る事項!F275&\"\"","v":""},null,null,null,null,null,null,{"$f":"労働者に係る事項!G275&\"\"","v":""},null,null,null,null,null,{"$f":"労働者に係る事項!H275&\"\"","v":""},null,null,null,null,null,{"$f":"労働者に係る事項!I275&\"\"","v":""},null,null,null,null,null,null,{"$f":"労働者に係る事項!J275&\"\"","v":""},null,null,null,null,null,null,null,null,null,{"$f":"労働者に係る事項!K275&\"\"","v":""},null,null,null,null,null,null,null,null,null,null,null,null,null,null,null,null,{"$f":"労働者に係る事項!L275&\"\"","v":""},null,null,null,null,null,{"$f":"労働者に係る事項!M275&\"\"","v":""},null,null,null,null,null,null,{"$f":"労働者に係る事項!N275&\"\"","v":""},null,null,null,null,null,null,{"$f":"IF(労働者に係る事項!O275=\"\",\"\",労働者に係る事項!O275)","v":""},null,null,null,null,null,null,null,null,null,null,null,null,null,null,null,null,null,null,{"$f":"IF(労働者に係る事項!P275=\"\",\"\",労働者に係る事項!P275)","v":""},null,null,null,null,null,null,null,null,null,null,null,null,null,{"$f":"IF(労働者に係る事項!Q275=\"\",\"\",労働者に係る事項!Q275)","v":""},null,null,null,null,null,null,null,null,null,null,null,null,null,null,null,null,null,null,null,{"$f":"労働者に係る事項!R275&\"\"","v":""},null,null,null,null,null,null,null,{"$f":"労働者に係る事項!S275&\"\"","v":""}]
[null,"37",null,null,{"$f":"労働者に係る事項!B276&\"\"","v":""},null,null,null,null,null,{"$f":"労働者に係る事項!C276&\"\"","v":""},null,null,null,null,null,null,null,null,null,null,null,null,null,null,null,null,null,null,null,null,null,null,null,null,null,null,null,null,null,{"$f":"労働者に係る事項!D276&\"\"","v":""},null,null,null,null,null,null,null,{"$f":"労働者に係る事項!E276&\"\"","v":""},null,null,null,null,null,null,null,null,null,null,null,null,null,null,null,null,null,null,null,null,null,null,null,null,null,null,null,{"$f":"労働者に係る事項!F276&\"\"","v":""},null,null,null,null,null,null,{"$f":"労働者に係る事項!G276&\"\"","v":""},null,null,null,null,null,{"$f":"労働者に係る事項!H276&\"\"","v":""},null,null,null,null,null,{"$f":"労働者に係る事項!I276&\"\"","v":""},null,null,null,null,null,null,{"$f":"労働者に係る事項!J276&\"\"","v":""},null,null,null,null,null,null,null,null,null,{"$f":"労働者に係る事項!K276&\"\"","v":""},null,null,null,null,null,null,null,null,null,null,null,null,null,null,null,null,{"$f":"労働者に係る事項!L276&\"\"","v":""},null,null,null,null,null,{"$f":"労働者に係る事項!M276&\"\"","v":""},null,null,null,null,null,null,{"$f":"労働者に係る事項!N276&\"\"","v":""},null,null,null,null,null,null,{"$f":"IF(労働者に係る事項!O276=\"\",\"\",労働者に係る事項!O276)","v":""},null,null,null,null,null,null,null,null,null,null,null,null,null,null,null,null,null,null,{"$f":"IF(労働者に係る事項!P276=\"\",\"\",労働者に係る事項!P276)","v":""},null,null,null,null,null,null,null,null,null,null,null,null,null,{"$f":"IF(労働者に係る事項!Q276=\"\",\"\",労働者に係る事項!Q276)","v":""},null,null,null,null,null,null,null,null,null,null,null,null,null,null,null,null,null,null,null,{"$f":"労働者に係る事項!R276&\"\"","v":""},null,null,null,null,null,null,null,{"$f":"労働者に係る事項!S276&\"\"","v":""}]
[null,"38",null,null,{"$f":"労働者に係る事項!B277&\"\"","v":""},null,null,null,null,null,{"$f":"労働者に係る事項!C277&\"\"","v":""},null,null,null,null,null,null,null,null,null,null,null,null,null,null,null,null,null,null,null,null,null,null,null,null,null,null,null,null,null,{"$f":"労働者に係る事項!D277&\"\"","v":""},null,null,null,null,null,null,null,{"$f":"労働者に係る事項!E277&\"\"","v":""},null,null,null,null,null,null,null,null,null,null,null,null,null,null,null,null,null,null,null,null,null,null,null,null,null,null,null,{"$f":"労働者に係る事項!F277&\"\"","v":""},null,null,null,null,null,null,{"$f":"労働者に係る事項!G277&\"\"","v":""},null,null,null,null,null,{"$f":"労働者に係る事項!H277&\"\"","v":""},null,null,null,null,null,{"$f":"労働者に係る事項!I277&\"\"","v":""},null,null,null,null,null,null,{"$f":"労働者に係る事項!J277&\"\"","v":""},null,null,null,null,null,null,null,null,null,{"$f":"労働者に係る事項!K277&\"\"","v":""},null,null,null,null,null,null,null,null,null,null,null,null,null,null,null,null,{"$f":"労働者に係る事項!L277&\"\"","v":""},null,null,null,null,null,{"$f":"労働者に係る事項!M277&\"\"","v":""},null,null,null,null,null,null,{"$f":"労働者に係る事項!N277&\"\"","v":""},null,null,null,null,null,null,{"$f":"IF(労働者に係る事項!O277=\"\",\"\",労働者に係る事項!O277)","v":""},null,null,null,null,null,null,null,null,null,null,null,null,null,null,null,null,null,null,{"$f":"IF(労働者に係る事項!P277=\"\",\"\",労働者に係る事項!P277)","v":""},null,null,null,null,null,null,null,null,null,null,null,null,null,{"$f":"IF(労働者に係る事項!Q277=\"\",\"\",労働者に係る事項!Q277)","v":""},null,null,null,null,null,null,null,null,null,null,null,null,null,null,null,null,null,null,null,{"$f":"労働者に係る事項!R277&\"\"","v":""},null,null,null,null,null,null,null,{"$f":"労働者に係る事項!S277&\"\"","v":""}]
[null,"39",null,null,{"$f":"労働者に係る事項!B278&\"\"","v":""},null,null,null,null,null,{"$f":"労働者に係る事項!C278&\"\"","v":""},null,null,null,null,null,null,null,null,null,null,null,null,null,null,null,null,null,null,null,null,null,null,null,null,null,null,null,null,null,{"$f":"労働者に係る事項!D278&\"\"","v":""},null,null,null,null,null,null,null,{"$f":"労働者に係る事項!E278&\"\"","v":""},null,null,null,null,null,null,null,null,null,null,null,null,null,null,null,null,null,null,null,null,null,null,null,null,null,null,null,{"$f":"労働者に係る事項!F278&\"\"","v":""},null,null,null,null,null,null,{"$f":"労働者に係る事項!G278&\"\"","v":""},null,null,null,null,null,{"$f":"労働者に係る事項!H278&\"\"","v":""},null,null,null,null,null,{"$f":"労働者に係る事項!I278&\"\"","v":""},null,null,null,null,null,null,{"$f":"労働者に係る事項!J278&\"\"","v":""},null,null,null,null,null,null,null,null,null,{"$f":"労働者に係る事項!K278&\"\"","v":""},null,null,null,null,null,null,null,null,null,null,null,null,null,null,null,null,{"$f":"労働者に係る事項!L278&\"\"","v":""},null,null,null,null,null,{"$f":"労働者に係る事項!M278&\"\"","v":""},null,null,null,null,null,null,{"$f":"労働者に係る事項!N278&\"\"","v":""},null,null,null,null,null,null,{"$f":"IF(労働者に係る事項!O278=\"\",\"\",労働者に係る事項!O278)","v":""},null,null,null,null,null,null,null,null,null,null,null,null,null,null,null,null,null,null,{"$f":"IF(労働者に係る事項!P278=\"\",\"\",労働者に係る事項!P278)","v":""},null,null,null,null,null,null,null,null,null,null,null,null,null,{"$f":"IF(労働者に係る事項!Q278=\"\",\"\",労働者に係る事項!Q278)","v":""},null,null,null,null,null,null,null,null,null,null,null,null,null,null,null,null,null,null,null,{"$f":"労働者に係る事項!R278&\"\"","v":""},null,null,null,null,null,null,null,{"$f":"労働者に係る事項!S278&\"\"","v":""}]
[null,"40",null,null,{"$f":"労働者に係る事項!B279&\"\"","v":""},null,null,null,null,null,{"$f":"労働者に係る事項!C279&\"\"","v":""},null,null,null,null,null,null,null,null,null,null,null,null,null,null,null,null,null,null,null,null,null,null,null,null,null,null,null,null,null,{"$f":"労働者に係る事項!D279&\"\"","v":""},null,null,null,null,null,null,null,{"$f":"労働者に係る事項!E279&\"\"","v":""},null,null,null,null,null,null,null,null,null,null,null,null,null,null,null,null,null,null,null,null,null,null,null,null,null,null,null,{"$f":"労働者に係る事項!F279&\"\"","v":""},null,null,null,null,null,null,{"$f":"労働者に係る事項!G279&\"\"","v":""},null,null,null,null,null,{"$f":"労働者に係る事項!H279&\"\"","v":""},null,null,null,null,null,{"$f":"労働者に係る事項!I279&\"\"","v":""},null,null,null,null,null,null,{"$f":"労働者に係る事項!J279&\"\"","v":""},null,null,null,null,null,null,null,null,null,{"$f":"労働者に係る事項!K279&\"\"","v":""},null,null,null,null,null,null,null,null,null,null,null,null,null,null,null,null,{"$f":"労働者に係る事項!L279&\"\"","v":""},null,null,null,null,null,{"$f":"労働者に係る事項!M279&\"\"","v":""},null,null,null,null,null,null,{"$f":"労働者に係る事項!N279&\"\"","v":""},null,null,null,null,null,null,{"$f":"IF(労働者に係る事項!O279=\"\",\"\",労働者に係る事項!O279)","v":""},null,null,null,null,null,null,null,null,null,null,null,null,null,null,null,null,null,null,{"$f":"IF(労働者に係る事項!P279=\"\",\"\",労働者に係る事項!P279)","v":""},null,null,null,null,null,null,null,null,null,null,null,null,null,{"$f":"IF(労働者に係る事項!Q279=\"\",\"\",労働者に係る事項!Q279)","v":""},null,null,null,null,null,null,null,null,null,null,null,null,null,null,null,null,null,null,null,{"$f":"労働者に係る事項!R279&\"\"","v":""},null,null,null,null,null,null,null,{"$f":"労働者に係る事項!S279&\"\"","v":""}]
[null,"41",null,null,{"$f":"労働者に係る事項!B280&\"\"","v":""},null,null,null,null,null,{"$f":"労働者に係る事項!C280&\"\"","v":""},null,null,null,null,null,null,null,null,null,null,null,null,null,null,null,null,null,null,null,null,null,null,null,null,null,null,null,null,null,{"$f":"労働者に係る事項!D280&\"\"","v":""},null,null,null,null,null,null,null,{"$f":"労働者に係る事項!E280&\"\"","v":""},null,null,null,null,null,null,null,null,null,null,null,null,null,null,null,null,null,null,null,null,null,null,null,null,null,null,null,{"$f":"労働者に係る事項!F280&\"\"","v":""},null,null,null,null,null,null,{"$f":"労働者に係る事項!G280&\"\"","v":""},null,null,null,null,null,{"$f":"労働者に係る事項!H280&\"\"","v":""},null,null,null,null,null,{"$f":"労働者に係る事項!I280&\"\"","v":""},null,null,null,null,null,null,{"$f":"労働者に係る事項!J280&\"\"","v":""},null,null,null,null,null,null,null,null,null,{"$f":"労働者に係る事項!K280&\"\"","v":""},null,null,null,null,null,null,null,null,null,null,null,null,null,null,null,null,{"$f":"労働者に係る事項!L280&\"\"","v":""},null,null,null,null,null,{"$f":"労働者に係る事項!M280&\"\"","v":""},null,null,null,null,null,null,{"$f":"労働者に係る事項!N280&\"\"","v":""},null,null,null,null,null,null,{"$f":"IF(労働者に係る事項!O280=\"\",\"\",労働者に係る事項!O280)","v":""},null,null,null,null,null,null,null,null,null,null,null,null,null,null,null,null,null,null,{"$f":"IF(労働者に係る事項!P280=\"\",\"\",労働者に係る事項!P280)","v":""},null,null,null,null,null,null,null,null,null,null,null,null,null,{"$f":"IF(労働者に係る事項!Q280=\"\",\"\",労働者に係る事項!Q280)","v":""},null,null,null,null,null,null,null,null,null,null,null,null,null,null,null,null,null,null,null,{"$f":"労働者に係る事項!R280&\"\"","v":""},null,null,null,null,null,null,null,{"$f":"労働者に係る事項!S280&\"\"","v":""}]
[null,"42",null,null,{"$f":"労働者に係る事項!B281&\"\"","v":""},null,null,null,null,null,{"$f":"労働者に係る事項!C281&\"\"","v":""},null,null,null,null,null,null,null,null,null,null,null,null,null,null,null,null,null,null,null,null,null,null,null,null,null,null,null,null,null,{"$f":"労働者に係る事項!D281&\"\"","v":""},null,null,null,null,null,null,null,{"$f":"労働者に係る事項!E281&\"\"","v":""},null,null,null,null,null,null,null,null,null,null,null,null,null,null,null,null,null,null,null,null,null,null,null,null,null,null,null,{"$f":"労働者に係る事項!F281&\"\"","v":""},null,null,null,null,null,null,{"$f":"労働者に係る事項!G281&\"\"","v":""},null,null,null,null,null,{"$f":"労働者に係る事項!H281&\"\"","v":""},null,null,null,null,null,{"$f":"労働者に係る事項!I281&\"\"","v":""},null,null,null,null,null,null,{"$f":"労働者に係る事項!J281&\"\"","v":""},null,null,null,null,null,null,null,null,null,{"$f":"労働者に係る事項!K281&\"\"","v":""},null,null,null,null,null,null,null,null,null,null,null,null,null,null,null,null,{"$f":"労働者に係る事項!L281&\"\"","v":""},null,null,null,null,null,{"$f":"労働者に係る事項!M281&\"\"","v":""},null,null,null,null,null,null,{"$f":"労働者に係る事項!N281&\"\"","v":""},null,null,null,null,null,null,{"$f":"IF(労働者に係る事項!O281=\"\",\"\",労働者に係る事項!O281)","v":""},null,null,null,null,null,null,null,null,null,null,null,null,null,null,null,null,null,null,{"$f":"IF(労働者に係る事項!P281=\"\",\"\",労働者に係る事項!P281)","v":""},null,null,null,null,null,null,null,null,null,null,null,null,null,{"$f":"IF(労働者に係る事項!Q281=\"\",\"\",労働者に係る事項!Q281)","v":""},null,null,null,null,null,null,null,null,null,null,null,null,null,null,null,null,null,null,null,{"$f":"労働者に係る事項!R281&\"\"","v":""},null,null,null,null,null,null,null,{"$f":"労働者に係る事項!S281&\"\"","v":""}]
[null,"43",null,null,{"$f":"労働者に係る事項!B282&\"\"","v":""},null,null,null,null,null,{"$f":"労働者に係る事項!C282&\"\"","v":""},null,null,null,null,null,null,null,null,null,null,null,null,null,null,null,null,null,null,null,null,null,null,null,null,null,null,null,null,null,{"$f":"労働者に係る事項!D282&\"\"","v":""},null,null,null,null,null,null,null,{"$f":"労働者に係る事項!E282&\"\"","v":""},null,null,null,null,null,null,null,null,null,null,null,null,null,null,null,null,null,null,null,null,null,null,null,null,null,null,null,{"$f":"労働者に係る事項!F282&\"\"","v":""},null,null,null,null,null,null,{"$f":"労働者に係る事項!G282&\"\"","v":""},null,null,null,null,null,{"$f":"労働者に係る事項!H282&\"\"","v":""},null,null,null,null,null,{"$f":"労働者に係る事項!I282&\"\"","v":""},null,null,null,null,null,null,{"$f":"労働者に係る事項!J282&\"\"","v":""},null,null,null,null,null,null,null,null,null,{"$f":"労働者に係る事項!K282&\"\"","v":""},null,null,null,null,null,null,null,null,null,null,null,null,null,null,null,null,{"$f":"労働者に係る事項!L282&\"\"","v":""},null,null,null,null,null,{"$f":"労働者に係る事項!M282&\"\"","v":""},null,null,null,null,null,null,{"$f":"労働者に係る事項!N282&\"\"","v":""},null,null,null,null,null,null,{"$f":"IF(労働者に係る事項!O282=\"\",\"\",労働者に係る事項!O282)","v":""},null,null,null,null,null,null,null,null,null,null,null,null,null,null,null,null,null,null,{"$f":"IF(労働者に係る事項!P282=\"\",\"\",労働者に係る事項!P282)","v":""},null,null,null,null,null,null,null,null,null,null,null,null,null,{"$f":"IF(労働者に係る事項!Q282=\"\",\"\",労働者に係る事項!Q282)","v":""},null,null,null,null,null,null,null,null,null,null,null,null,null,null,null,null,null,null,null,{"$f":"労働者に係る事項!R282&\"\"","v":""},null,null,null,null,null,null,null,{"$f":"労働者に係る事項!S282&\"\"","v":""}]
[null,"44",null,null,{"$f":"労働者に係る事項!B283&\"\"","v":""},null,null,null,null,null,{"$f":"労働者に係る事項!C283&\"\"","v":""},null,null,null,null,null,null,null,null,null,null,null,null,null,null,null,null,null,null,null,null,null,null,null,null,null,null,null,null,null,{"$f":"労働者に係る事項!D283&\"\"","v":""},null,null,null,null,null,null,null,{"$f":"労働者に係る事項!E283&\"\"","v":""},null,null,null,null,null,null,null,null,null,null,null,null,null,null,null,null,null,null,null,null,null,null,null,null,null,null,null,{"$f":"労働者に係る事項!F283&\"\"","v":""},null,null,null,null,null,null,{"$f":"労働者に係る事項!G283&\"\"","v":""},null,null,null,null,null,{"$f":"労働者に係る事項!H283&\"\"","v":""},null,null,null,null,null,{"$f":"労働者に係る事項!I283&\"\"","v":""},null,null,null,null,null,null,{"$f":"労働者に係る事項!J283&\"\"","v":""},null,null,null,null,null,null,null,null,null,{"$f":"労働者に係る事項!K283&\"\"","v":""},null,null,null,null,null,null,null,null,null,null,null,null,null,null,null,null,{"$f":"労働者に係る事項!L283&\"\"","v":""},null,null,null,null,null,{"$f":"労働者に係る事項!M283&\"\"","v":""},null,null,null,null,null,null,{"$f":"労働者に係る事項!N283&\"\"","v":""},null,null,null,null,null,null,{"$f":"IF(労働者に係る事項!O283=\"\",\"\",労働者に係る事項!O283)","v":""},null,null,null,null,null,null,null,null,null,null,null,null,null,null,null,null,null,null,{"$f":"IF(労働者に係る事項!P283=\"\",\"\",労働者に係る事項!P283)","v":""},null,null,null,null,null,null,null,null,null,null,null,null,null,{"$f":"IF(労働者に係る事項!Q283=\"\",\"\",労働者に係る事項!Q283)","v":""},null,null,null,null,null,null,null,null,null,null,null,null,null,null,null,null,null,null,null,{"$f":"労働者に係る事項!R283&\"\"","v":""},null,null,null,null,null,null,null,{"$f":"労働者に係る事項!S283&\"\"","v":""}]
[null,"45",null,null,{"$f":"労働者に係る事項!B284&\"\"","v":""},null,null,null,null,null,{"$f":"労働者に係る事項!C284&\"\"","v":""},null,null,null,null,null,null,null,null,null,null,null,null,null,null,null,null,null,null,null,null,null,null,null,null,null,null,null,null,null,{"$f":"労働者に係る事項!D284&\"\"","v":""},null,null,null,null,null,null,null,{"$f":"労働者に係る事項!E284&\"\"","v":""},null,null,null,null,null,null,null,null,null,null,null,null,null,null,null,null,null,null,null,null,null,null,null,null,null,null,null,{"$f":"労働者に係る事項!F284&\"\"","v":""},null,null,null,null,null,null,{"$f":"労働者に係る事項!G284&\"\"","v":""},null,null,null,null,null,{"$f":"労働者に係る事項!H284&\"\"","v":""},null,null,null,null,null,{"$f":"労働者に係る事項!I284&\"\"","v":""},null,null,null,null,null,null,{"$f":"労働者に係る事項!J284&\"\"","v":""},null,null,null,null,null,null,null,null,null,{"$f":"労働者に係る事項!K284&\"\"","v":""},null,null,null,null,null,null,null,null,null,null,null,null,null,null,null,null,{"$f":"労働者に係る事項!L284&\"\"","v":""},null,null,null,null,null,{"$f":"労働者に係る事項!M284&\"\"","v":""},null,null,null,null,null,null,{"$f":"労働者に係る事項!N284&\"\"","v":""},null,null,null,null,null,null,{"$f":"IF(労働者に係る事項!O284=\"\",\"\",労働者に係る事項!O284)","v":""},null,null,null,null,null,null,null,null,null,null,null,null,null,null,null,null,null,null,{"$f":"IF(労働者に係る事項!P284=\"\",\"\",労働者に係る事項!P284)","v":""},null,null,null,null,null,null,null,null,null,null,null,null,null,{"$f":"IF(労働者に係る事項!Q284=\"\",\"\",労働者に係る事項!Q284)","v":""},null,null,null,null,null,null,null,null,null,null,null,null,null,null,null,null,null,null,null,{"$f":"労働者に係る事項!R284&\"\"","v":""},null,null,null,null,null,null,null,{"$f":"労働者に係る事項!S284&\"\"","v":""}]
[null,"46",null,null,{"$f":"労働者に係る事項!B285&\"\"","v":""},null,null,null,null,null,{"$f":"労働者に係る事項!C285&\"\"","v":""},null,null,null,null,null,null,null,null,null,null,null,null,null,null,null,null,null,null,null,null,null,null,null,null,null,null,null,null,null,{"$f":"労働者に係る事項!D285&\"\"","v":""},null,null,null,null,null,null,null,{"$f":"労働者に係る事項!E285&\"\"","v":""},null,null,null,null,null,null,null,null,null,null,null,null,null,null,null,null,null,null,null,null,null,null,null,null,null,null,null,{"$f":"労働者に係る事項!F285&\"\"","v":""},null,null,null,null,null,null,{"$f":"労働者に係る事項!G285&\"\"","v":""},null,null,null,null,null,{"$f":"労働者に係る事項!H285&\"\"","v":""},null,null,null,null,null,{"$f":"労働者に係る事項!I285&\"\"","v":""},null,null,null,null,null,null,{"$f":"労働者に係る事項!J285&\"\"","v":""},null,null,null,null,null,null,null,null,null,{"$f":"労働者に係る事項!K285&\"\"","v":""},null,null,null,null,null,null,null,null,null,null,null,null,null,null,null,null,{"$f":"労働者に係る事項!L285&\"\"","v":""},null,null,null,null,null,{"$f":"労働者に係る事項!M285&\"\"","v":""},null,null,null,null,null,null,{"$f":"労働者に係る事項!N285&\"\"","v":""},null,null,null,null,null,null,{"$f":"IF(労働者に係る事項!O285=\"\",\"\",労働者に係る事項!O285)","v":""},null,null,null,null,null,null,null,null,null,null,null,null,null,null,null,null,null,null,{"$f":"IF(労働者に係る事項!P285=\"\",\"\",労働者に係る事項!P285)","v":""},null,null,null,null,null,null,null,null,null,null,null,null,null,{"$f":"IF(労働者に係る事項!Q285=\"\",\"\",労働者に係る事項!Q285)","v":""},null,null,null,null,null,null,null,null,null,null,null,null,null,null,null,null,null,null,null,{"$f":"労働者に係る事項!R285&\"\"","v":""},null,null,null,null,null,null,null,{"$f":"労働者に係る事項!S285&\"\"","v":""}]
[null,"47",null,null,{"$f":"労働者に係る事項!B286&\"\"","v":""},null,null,null,null,null,{"$f":"労働者に係る事項!C286&\"\"","v":""},null,null,null,null,null,null,null,null,null,null,null,null,null,null,null,null,null,null,null,null,null,null,null,null,null,null,null,null,null,{"$f":"労働者に係る事項!D286&\"\"","v":""},null,null,null,null,null,null,null,{"$f":"労働者に係る事項!E286&\"\"","v":""},null,null,null,null,null,null,null,null,null,null,null,null,null,null,null,null,null,null,null,null,null,null,null,null,null,null,null,{"$f":"労働者に係る事項!F286&\"\"","v":""},null,null,null,null,null,null,{"$f":"労働者に係る事項!G286&\"\"","v":""},null,null,null,null,null,{"$f":"労働者に係る事項!H286&\"\"","v":""},null,null,null,null,null,{"$f":"労働者に係る事項!I286&\"\"","v":""},null,null,null,null,null,null,{"$f":"労働者に係る事項!J286&\"\"","v":""},null,null,null,null,null,null,null,null,null,{"$f":"労働者に係る事項!K286&\"\"","v":""},null,null,null,null,null,null,null,null,null,null,null,null,null,null,null,null,{"$f":"労働者に係る事項!L286&\"\"","v":""},null,null,null,null,null,{"$f":"労働者に係る事項!M286&\"\"","v":""},null,null,null,null,null,null,{"$f":"労働者に係る事項!N286&\"\"","v":""},null,null,null,null,null,null,{"$f":"IF(労働者に係る事項!O286=\"\",\"\",労働者に係る事項!O286)","v":""},null,null,null,null,null,null,null,null,null,null,null,null,null,null,null,null,null,null,{"$f":"IF(労働者に係る事項!P286=\"\",\"\",労働者に係る事項!P286)","v":""},null,null,null,null,null,null,null,null,null,null,null,null,null,{"$f":"IF(労働者に係る事項!Q286=\"\",\"\",労働者に係る事項!Q286)","v":""},null,null,null,null,null,null,null,null,null,null,null,null,null,null,null,null,null,null,null,{"$f":"労働者に係る事項!R286&\"\"","v":""},null,null,null,null,null,null,null,{"$f":"労働者に係る事項!S286&\"\"","v":""}]
[null,"48",null,null,{"$f":"労働者に係る事項!B287&\"\"","v":""},null,null,null,null,null,{"$f":"労働者に係る事項!C287&\"\"","v":""},null,null,null,null,null,null,null,null,null,null,null,null,null,null,null,null,null,null,null,null,null,null,null,null,null,null,null,null,null,{"$f":"労働者に係る事項!D287&\"\"","v":""},null,null,null,null,null,null,null,{"$f":"労働者に係る事項!E287&\"\"","v":""},null,null,null,null,null,null,null,null,null,null,null,null,null,null,null,null,null,null,null,null,null,null,null,null,null,null,null,{"$f":"労働者に係る事項!F287&\"\"","v":""},null,null,null,null,null,null,{"$f":"労働者に係る事項!G287&\"\"","v":""},null,null,null,null,null,{"$f":"労働者に係る事項!H287&\"\"","v":""},null,null,null,null,null,{"$f":"労働者に係る事項!I287&\"\"","v":""},null,null,null,null,null,null,{"$f":"労働者に係る事項!J287&\"\"","v":""},null,null,null,null,null,null,null,null,null,{"$f":"労働者に係る事項!K287&\"\"","v":""},null,null,null,null,null,null,null,null,null,null,null,null,null,null,null,null,{"$f":"労働者に係る事項!L287&\"\"","v":""},null,null,null,null,null,{"$f":"労働者に係る事項!M287&\"\"","v":""},null,null,null,null,null,null,{"$f":"労働者に係る事項!N287&\"\"","v":""},null,null,null,null,null,null,{"$f":"IF(労働者に係る事項!O287=\"\",\"\",労働者に係る事項!O287)","v":""},null,null,null,null,null,null,null,null,null,null,null,null,null,null,null,null,null,null,{"$f":"IF(労働者に係る事項!P287=\"\",\"\",労働者に係る事項!P287)","v":""},null,null,null,null,null,null,null,null,null,null,null,null,null,{"$f":"IF(労働者に係る事項!Q287=\"\",\"\",労働者に係る事項!Q287)","v":""},null,null,null,null,null,null,null,null,null,null,null,null,null,null,null,null,null,null,null,{"$f":"労働者に係る事項!R287&\"\"","v":""},null,null,null,null,null,null,null,{"$f":"労働者に係る事項!S287&\"\"","v":""}]
[null,"49",null,null,{"$f":"労働者に係る事項!B288&\"\"","v":""},null,null,null,null,null,{"$f":"労働者に係る事項!C288&\"\"","v":""},null,null,null,null,null,null,null,null,null,null,null,null,null,null,null,null,null,null,null,null,null,null,null,null,null,null,null,null,null,{"$f":"労働者に係る事項!D288&\"\"","v":""},null,null,null,null,null,null,null,{"$f":"労働者に係る事項!E288&\"\"","v":""},null,null,null,null,null,null,null,null,null,null,null,null,null,null,null,null,null,null,null,null,null,null,null,null,null,null,null,{"$f":"労働者に係る事項!F288&\"\"","v":""},null,null,null,null,null,null,{"$f":"労働者に係る事項!G288&\"\"","v":""},null,null,null,null,null,{"$f":"労働者に係る事項!H288&\"\"","v":""},null,null,null,null,null,{"$f":"労働者に係る事項!I288&\"\"","v":""},null,null,null,null,null,null,{"$f":"労働者に係る事項!J288&\"\"","v":""},null,null,null,null,null,null,null,null,null,{"$f":"労働者に係る事項!K288&\"\"","v":""},null,null,null,null,null,null,null,null,null,null,null,null,null,null,null,null,{"$f":"労働者に係る事項!L288&\"\"","v":""},null,null,null,null,null,{"$f":"労働者に係る事項!M288&\"\"","v":""},null,null,null,null,null,null,{"$f":"労働者に係る事項!N288&\"\"","v":""},null,null,null,null,null,null,{"$f":"IF(労働者に係る事項!O288=\"\",\"\",労働者に係る事項!O288)","v":""},null,null,null,null,null,null,null,null,null,null,null,null,null,null,null,null,null,null,{"$f":"IF(労働者に係る事項!P288=\"\",\"\",労働者に係る事項!P288)","v":""},null,null,null,null,null,null,null,null,null,null,null,null,null,{"$f":"IF(労働者に係る事項!Q288=\"\",\"\",労働者に係る事項!Q288)","v":""},null,null,null,null,null,null,null,null,null,null,null,null,null,null,null,null,null,null,null,{"$f":"労働者に係る事項!R288&\"\"","v":""},null,null,null,null,null,null,null,{"$f":"労働者に係る事項!S288&\"\"","v":""}]
[null,"50",null,null,{"$f":"労働者に係る事項!B289&\"\"","v":""},null,null,null,null,null,{"$f":"労働者に係る事項!C289&\"\"","v":""},null,null,null,null,null,null,null,null,null,null,null,null,null,null,null,null,null,null,null,null,null,null,null,null,null,null,null,null,null,{"$f":"労働者に係る事項!D289&\"\"","v":""},null,null,null,null,null,null,null,{"$f":"労働者に係る事項!E289&\"\"","v":""},null,null,null,null,null,null,null,null,null,null,null,null,null,null,null,null,null,null,null,null,null,null,null,null,null,null,null,{"$f":"労働者に係る事項!F289&\"\"","v":""},null,null,null,null,null,null,{"$f":"労働者に係る事項!G289&\"\"","v":""},null,null,null,null,null,{"$f":"労働者に係る事項!H289&\"\"","v":""},null,null,null,null,null,{"$f":"労働者に係る事項!I289&\"\"","v":""},null,null,null,null,null,null,{"$f":"労働者に係る事項!J289&\"\"","v":""},null,null,null,null,null,null,null,null,null,{"$f":"労働者に係る事項!K289&\"\"","v":""},null,null,null,null,null,null,null,null,null,null,null,null,null,null,null,null,{"$f":"労働者に係る事項!L289&\"\"","v":""},null,null,null,null,null,{"$f":"労働者に係る事項!M289&\"\"","v":""},null,null,null,null,null,null,{"$f":"労働者に係る事項!N289&\"\"","v":""},null,null,null,null,null,null,{"$f":"IF(労働者に係る事項!O289=\"\",\"\",労働者に係る事項!O289)","v":""},null,null,null,null,null,null,null,null,null,null,null,null,null,null,null,null,null,null,{"$f":"IF(労働者に係る事項!P289=\"\",\"\",労働者に係る事項!P289)","v":""},null,null,null,null,null,null,null,null,null,null,null,null,null,{"$f":"IF(労働者に係る事項!Q289=\"\",\"\",労働者に係る事項!Q289)","v":""},null,null,null,null,null,null,null,null,null,null,null,null,null,null,null,null,null,null,null,{"$f":"労働者に係る事項!R289&\"\"","v":""},null,null,null,null,null,null,null,{"$f":"労働者に係る事項!S289&\"\"","v":""}]
[null,"51",null,null,{"$f":"労働者に係る事項!B290&\"\"","v":""},null,null,null,null,null,{"$f":"労働者に係る事項!C290&\"\"","v":""},null,null,null,null,null,null,null,null,null,null,null,null,null,null,null,null,null,null,null,null,null,null,null,null,null,null,null,null,null,{"$f":"労働者に係る事項!D290&\"\"","v":""},null,null,null,null,null,null,null,{"$f":"労働者に係る事項!E290&\"\"","v":""},null,null,null,null,null,null,null,null,null,null,null,null,null,null,null,null,null,null,null,null,null,null,null,null,null,null,null,{"$f":"労働者に係る事項!F290&\"\"","v":""},null,null,null,null,null,null,{"$f":"労働者に係る事項!G290&\"\"","v":""},null,null,null,null,null,{"$f":"労働者に係る事項!H290&\"\"","v":""},null,null,null,null,null,{"$f":"労働者に係る事項!I290&\"\"","v":""},null,null,null,null,null,null,{"$f":"労働者に係る事項!J290&\"\"","v":""},null,null,null,null,null,null,null,null,null,{"$f":"労働者に係る事項!K290&\"\"","v":""},null,null,null,null,null,null,null,null,null,null,null,null,null,null,null,null,{"$f":"労働者に係る事項!L290&\"\"","v":""},null,null,null,null,null,{"$f":"労働者に係る事項!M290&\"\"","v":""},null,null,null,null,null,null,{"$f":"労働者に係る事項!N290&\"\"","v":""},null,null,null,null,null,null,{"$f":"IF(労働者に係る事項!O290=\"\",\"\",労働者に係る事項!O290)","v":""},null,null,null,null,null,null,null,null,null,null,null,null,null,null,null,null,null,null,{"$f":"IF(労働者に係る事項!P290=\"\",\"\",労働者に係る事項!P290)","v":""},null,null,null,null,null,null,null,null,null,null,null,null,null,{"$f":"IF(労働者に係る事項!Q290=\"\",\"\",労働者に係る事項!Q290)","v":""},null,null,null,null,null,null,null,null,null,null,null,null,null,null,null,null,null,null,null,{"$f":"労働者に係る事項!R290&\"\"","v":""},null,null,null,null,null,null,null,{"$f":"労働者に係る事項!S290&\"\"","v":""}]
[null,"52",null,null,{"$f":"労働者に係る事項!B291&\"\"","v":""},null,null,null,null,null,{"$f":"労働者に係る事項!C291&\"\"","v":""},null,null,null,null,null,null,null,null,null,null,null,null,null,null,null,null,null,null,null,null,null,null,null,null,null,null,null,null,null,{"$f":"労働者に係る事項!D291&\"\"","v":""},null,null,null,null,null,null,null,{"$f":"労働者に係る事項!E291&\"\"","v":""},null,null,null,null,null,null,null,null,null,null,null,null,null,null,null,null,null,null,null,null,null,null,null,null,null,null,null,{"$f":"労働者に係る事項!F291&\"\"","v":""},null,null,null,null,null,null,{"$f":"労働者に係る事項!G291&\"\"","v":""},null,null,null,null,null,{"$f":"労働者に係る事項!H291&\"\"","v":""},null,null,null,null,null,{"$f":"労働者に係る事項!I291&\"\"","v":""},null,null,null,null,null,null,{"$f":"労働者に係る事項!J291&\"\"","v":""},null,null,null,null,null,null,null,null,null,{"$f":"労働者に係る事項!K291&\"\"","v":""},null,null,null,null,null,null,null,null,null,null,null,null,null,null,null,null,{"$f":"労働者に係る事項!L291&\"\"","v":""},null,null,null,null,null,{"$f":"労働者に係る事項!M291&\"\"","v":""},null,null,null,null,null,null,{"$f":"労働者に係る事項!N291&\"\"","v":""},null,null,null,null,null,null,{"$f":"IF(労働者に係る事項!O291=\"\",\"\",労働者に係る事項!O291)","v":""},null,null,null,null,null,null,null,null,null,null,null,null,null,null,null,null,null,null,{"$f":"IF(労働者に係る事項!P291=\"\",\"\",労働者に係る事項!P291)","v":""},null,null,null,null,null,null,null,null,null,null,null,null,null,{"$f":"IF(労働者に係る事項!Q291=\"\",\"\",労働者に係る事項!Q291)","v":""},null,null,null,null,null,null,null,null,null,null,null,null,null,null,null,null,null,null,null,{"$f":"労働者に係る事項!R291&\"\"","v":""},null,null,null,null,null,null,null,{"$f":"労働者に係る事項!S291&\"\"","v":""}]
[null,"53",null,null,{"$f":"労働者に係る事項!B292&\"\"","v":""},null,null,null,null,null,{"$f":"労働者に係る事項!C292&\"\"","v":""},null,null,null,null,null,null,null,null,null,null,null,null,null,null,null,null,null,null,null,null,null,null,null,null,null,null,null,null,null,{"$f":"労働者に係る事項!D292&\"\"","v":""},null,null,null,null,null,null,null,{"$f":"労働者に係る事項!E292&\"\"","v":""},null,null,null,null,null,null,null,null,null,null,null,null,null,null,null,null,null,null,null,null,null,null,null,null,null,null,null,{"$f":"労働者に係る事項!F292&\"\"","v":""},null,null,null,null,null,null,{"$f":"労働者に係る事項!G292&\"\"","v":""},null,null,null,null,null,{"$f":"労働者に係る事項!H292&\"\"","v":""},null,null,null,null,null,{"$f":"労働者に係る事項!I292&\"\"","v":""},null,null,null,null,null,null,{"$f":"労働者に係る事項!J292&\"\"","v":""},null,null,null,null,null,null,null,null,null,{"$f":"労働者に係る事項!K292&\"\"","v":""},null,null,null,null,null,null,null,null,null,null,null,null,null,null,null,null,{"$f":"労働者に係る事項!L292&\"\"","v":""},null,null,null,null,null,{"$f":"労働者に係る事項!M292&\"\"","v":""},null,null,null,null,null,null,{"$f":"労働者に係る事項!N292&\"\"","v":""},null,null,null,null,null,null,{"$f":"IF(労働者に係る事項!O292=\"\",\"\",労働者に係る事項!O292)","v":""},null,null,null,null,null,null,null,null,null,null,null,null,null,null,null,null,null,null,{"$f":"IF(労働者に係る事項!P292=\"\",\"\",労働者に係る事項!P292)","v":""},null,null,null,null,null,null,null,null,null,null,null,null,null,{"$f":"IF(労働者に係る事項!Q292=\"\",\"\",労働者に係る事項!Q292)","v":""},null,null,null,null,null,null,null,null,null,null,null,null,null,null,null,null,null,null,null,{"$f":"労働者に係る事項!R292&\"\"","v":""},null,null,null,null,null,null,null,{"$f":"労働者に係る事項!S292&\"\"","v":""}]
[null,"54",null,null,{"$f":"労働者に係る事項!B293&\"\"","v":""},null,null,null,null,null,{"$f":"労働者に係る事項!C293&\"\"","v":""},null,null,null,null,null,null,null,null,null,null,null,null,null,null,null,null,null,null,null,null,null,null,null,null,null,null,null,null,null,{"$f":"労働者に係る事項!D293&\"\"","v":""},null,null,null,null,null,null,null,{"$f":"労働者に係る事項!E293&\"\"","v":""},null,null,null,null,null,null,null,null,null,null,null,null,null,null,null,null,null,null,null,null,null,null,null,null,null,null,null,{"$f":"労働者に係る事項!F293&\"\"","v":""},null,null,null,null,null,null,{"$f":"労働者に係る事項!G293&\"\"","v":""},null,null,null,null,null,{"$f":"労働者に係る事項!H293&\"\"","v":""},null,null,null,null,null,{"$f":"労働者に係る事項!I293&\"\"","v":""},null,null,null,null,null,null,{"$f":"労働者に係る事項!J293&\"\"","v":""},null,null,null,null,null,null,null,null,null,{"$f":"労働者に係る事項!K293&\"\"","v":""},null,null,null,null,null,null,null,null,null,null,null,null,null,null,null,null,{"$f":"労働者に係る事項!L293&\"\"","v":""},null,null,null,null,null,{"$f":"労働者に係る事項!M293&\"\"","v":""},null,null,null,null,null,null,{"$f":"労働者に係る事項!N293&\"\"","v":""},null,null,null,null,null,null,{"$f":"IF(労働者に係る事項!O293=\"\",\"\",労働者に係る事項!O293)","v":""},null,null,null,null,null,null,null,null,null,null,null,null,null,null,null,null,null,null,{"$f":"IF(労働者に係る事項!P293=\"\",\"\",労働者に係る事項!P293)","v":""},null,null,null,null,null,null,null,null,null,null,null,null,null,{"$f":"IF(労働者に係る事項!Q293=\"\",\"\",労働者に係る事項!Q293)","v":""},null,null,null,null,null,null,null,null,null,null,null,null,null,null,null,null,null,null,null,{"$f":"労働者に係る事項!R293&\"\"","v":""},null,null,null,null,null,null,null,{"$f":"労働者に係る事項!S293&\"\"","v":""}]
[null,"55",null,null,{"$f":"労働者に係る事項!B294&\"\"","v":""},null,null,null,null,null,{"$f":"労働者に係る事項!C294&\"\"","v":""},null,null,null,null,null,null,null,null,null,null,null,null,null,null,null,null,null,null,null,null,null,null,null,null,null,null,null,null,null,{"$f":"労働者に係る事項!D294&\"\"","v":""},null,null,null,null,null,null,null,{"$f":"労働者に係る事項!E294&\"\"","v":""},null,null,null,null,null,null,null,null,null,null,null,null,null,null,null,null,null,null,null,null,null,null,null,null,null,null,null,{"$f":"労働者に係る事項!F294&\"\"","v":""},null,null,null,null,null,null,{"$f":"労働者に係る事項!G294&\"\"","v":""},null,null,null,null,null,{"$f":"労働者に係る事項!H294&\"\"","v":""},null,null,null,null,null,{"$f":"労働者に係る事項!I294&\"\"","v":""},null,null,null,null,null,null,{"$f":"労働者に係る事項!J294&\"\"","v":""},null,null,null,null,null,null,null,null,null,{"$f":"労働者に係る事項!K294&\"\"","v":""},null,null,null,null,null,null,null,null,null,null,null,null,null,null,null,null,{"$f":"労働者に係る事項!L294&\"\"","v":""},null,null,null,null,null,{"$f":"労働者に係る事項!M294&\"\"","v":""},null,null,null,null,null,null,{"$f":"労働者に係る事項!N294&\"\"","v":""},null,null,null,null,null,null,{"$f":"IF(労働者に係る事項!O294=\"\",\"\",労働者に係る事項!O294)","v":""},null,null,null,null,null,null,null,null,null,null,null,null,null,null,null,null,null,null,{"$f":"IF(労働者に係る事項!P294=\"\",\"\",労働者に係る事項!P294)","v":""},null,null,null,null,null,null,null,null,null,null,null,null,null,{"$f":"IF(労働者に係る事項!Q294=\"\",\"\",労働者に係る事項!Q294)","v":""},null,null,null,null,null,null,null,null,null,null,null,null,null,null,null,null,null,null,null,{"$f":"労働者に係る事項!R294&\"\"","v":""},null,null,null,null,null,null,null,{"$f":"労働者に係る事項!S294&\"\"","v":""}]
[null,"56",null,null,{"$f":"労働者に係る事項!B295&\"\"","v":""},null,null,null,null,null,{"$f":"労働者に係る事項!C295&\"\"","v":""},null,null,null,null,null,null,null,null,null,null,null,null,null,null,null,null,null,null,null,null,null,null,null,null,null,null,null,null,null,{"$f":"労働者に係る事項!D295&\"\"","v":""},null,null,null,null,null,null,null,{"$f":"労働者に係る事項!E295&\"\"","v":""},null,null,null,null,null,null,null,null,null,null,null,null,null,null,null,null,null,null,null,null,null,null,null,null,null,null,null,{"$f":"労働者に係る事項!F295&\"\"","v":""},null,null,null,null,null,null,{"$f":"労働者に係る事項!G295&\"\"","v":""},null,null,null,null,null,{"$f":"労働者に係る事項!H295&\"\"","v":""},null,null,null,null,null,{"$f":"労働者に係る事項!I295&\"\"","v":""},null,null,null,null,null,null,{"$f":"労働者に係る事項!J295&\"\"","v":""},null,null,null,null,null,null,null,null,null,{"$f":"労働者に係る事項!K295&\"\"","v":""},null,null,null,null,null,null,null,null,null,null,null,null,null,null,null,null,{"$f":"労働者に係る事項!L295&\"\"","v":""},null,null,null,null,null,{"$f":"労働者に係る事項!M295&\"\"","v":""},null,null,null,null,null,null,{"$f":"労働者に係る事項!N295&\"\"","v":""},null,null,null,null,null,null,{"$f":"IF(労働者に係る事項!O295=\"\",\"\",労働者に係る事項!O295)","v":""},null,null,null,null,null,null,null,null,null,null,null,null,null,null,null,null,null,null,{"$f":"IF(労働者に係る事項!P295=\"\",\"\",労働者に係る事項!P295)","v":""},null,null,null,null,null,null,null,null,null,null,null,null,null,{"$f":"IF(労働者に係る事項!Q295=\"\",\"\",労働者に係る事項!Q295)","v":""},null,null,null,null,null,null,null,null,null,null,null,null,null,null,null,null,null,null,null,{"$f":"労働者に係る事項!R295&\"\"","v":""},null,null,null,null,null,null,null,{"$f":"労働者に係る事項!S295&\"\"","v":""}]
[null,"57",null,null,{"$f":"労働者に係る事項!B296&\"\"","v":""},null,null,null,null,null,{"$f":"労働者に係る事項!C296&\"\"","v":""},null,null,null,null,null,null,null,null,null,null,null,null,null,null,null,null,null,null,null,null,null,null,null,null,null,null,null,null,null,{"$f":"労働者に係る事項!D296&\"\"","v":""},null,null,null,null,null,null,null,{"$f":"労働者に係る事項!E296&\"\"","v":""},null,null,null,null,null,null,null,null,null,null,null,null,null,null,null,null,null,null,null,null,null,null,null,null,null,null,null,{"$f":"労働者に係る事項!F296&\"\"","v":""},null,null,null,null,null,null,{"$f":"労働者に係る事項!G296&\"\"","v":""},null,null,null,null,null,{"$f":"労働者に係る事項!H296&\"\"","v":""},null,null,null,null,null,{"$f":"労働者に係る事項!I296&\"\"","v":""},null,null,null,null,null,null,{"$f":"労働者に係る事項!J296&\"\"","v":""},null,null,null,null,null,null,null,null,null,{"$f":"労働者に係る事項!K296&\"\"","v":""},null,null,null,null,null,null,null,null,null,null,null,null,null,null,null,null,{"$f":"労働者に係る事項!L296&\"\"","v":""},null,null,null,null,null,{"$f":"労働者に係る事項!M296&\"\"","v":""},null,null,null,null,null,null,{"$f":"労働者に係る事項!N296&\"\"","v":""},null,null,null,null,null,null,{"$f":"IF(労働者に係る事項!O296=\"\",\"\",労働者に係る事項!O296)","v":""},null,null,null,null,null,null,null,null,null,null,null,null,null,null,null,null,null,null,{"$f":"IF(労働者に係る事項!P296=\"\",\"\",労働者に係る事項!P296)","v":""},null,null,null,null,null,null,null,null,null,null,null,null,null,{"$f":"IF(労働者に係る事項!Q296=\"\",\"\",労働者に係る事項!Q296)","v":""},null,null,null,null,null,null,null,null,null,null,null,null,null,null,null,null,null,null,null,{"$f":"労働者に係る事項!R296&\"\"","v":""},null,null,null,null,null,null,null,{"$f":"労働者に係る事項!S296&\"\"","v":""}]
[null,"58",null,null,{"$f":"労働者に係る事項!B297&\"\"","v":""},null,null,null,null,null,{"$f":"労働者に係る事項!C297&\"\"","v":""},null,null,null,null,null,null,null,null,null,null,null,null,null,null,null,null,null,null,null,null,null,null,null,null,null,null,null,null,null,{"$f":"労働者に係る事項!D297&\"\"","v":""},null,null,null,null,null,null,null,{"$f":"労働者に係る事項!E297&\"\"","v":""},null,null,null,null,null,null,null,null,null,null,null,null,null,null,null,null,null,null,null,null,null,null,null,null,null,null,null,{"$f":"労働者に係る事項!F297&\"\"","v":""},null,null,null,null,null,null,{"$f":"労働者に係る事項!G297&\"\"","v":""},null,null,null,null,null,{"$f":"労働者に係る事項!H297&\"\"","v":""},null,null,null,null,null,{"$f":"労働者に係る事項!I297&\"\"","v":""},null,null,null,null,null,null,{"$f":"労働者に係る事項!J297&\"\"","v":""},null,null,null,null,null,null,null,null,null,{"$f":"労働者に係る事項!K297&\"\"","v":""},null,null,null,null,null,null,null,null,null,null,null,null,null,null,null,null,{"$f":"労働者に係る事項!L297&\"\"","v":""},null,null,null,null,null,{"$f":"労働者に係る事項!M297&\"\"","v":""},null,null,null,null,null,null,{"$f":"労働者に係る事項!N297&\"\"","v":""},null,null,null,null,null,null,{"$f":"IF(労働者に係る事項!O297=\"\",\"\",労働者に係る事項!O297)","v":""},null,null,null,null,null,null,null,null,null,null,null,null,null,null,null,null,null,null,{"$f":"IF(労働者に係る事項!P297=\"\",\"\",労働者に係る事項!P297)","v":""},null,null,null,null,null,null,null,null,null,null,null,null,null,{"$f":"IF(労働者に係る事項!Q297=\"\",\"\",労働者に係る事項!Q297)","v":""},null,null,null,null,null,null,null,null,null,null,null,null,null,null,null,null,null,null,null,{"$f":"労働者に係る事項!R297&\"\"","v":""},null,null,null,null,null,null,null,{"$f":"労働者に係る事項!S297&\"\"","v":""}]
[null,"59",null,null,{"$f":"労働者に係る事項!B298&\"\"","v":""},null,null,null,null,null,{"$f":"労働者に係る事項!C298&\"\"","v":""},null,null,null,null,null,null,null,null,null,null,null,null,null,null,null,null,null,null,null,null,null,null,null,null,null,null,null,null,null,{"$f":"労働者に係る事項!D298&\"\"","v":""},null,null,null,null,null,null,null,{"$f":"労働者に係る事項!E298&\"\"","v":""},null,null,null,null,null,null,null,null,null,null,null,null,null,null,null,null,null,null,null,null,null,null,null,null,null,null,null,{"$f":"労働者に係る事項!F298&\"\"","v":""},null,null,null,null,null,null,{"$f":"労働者に係る事項!G298&\"\"","v":""},null,null,null,null,null,{"$f":"労働者に係る事項!H298&\"\"","v":""},null,null,null,null,null,{"$f":"労働者に係る事項!I298&\"\"","v":""},null,null,null,null,null,null,{"$f":"労働者に係る事項!J298&\"\"","v":""},null,null,null,null,null,null,null,null,null,{"$f":"労働者に係る事項!K298&\"\"","v":""},null,null,null,null,null,null,null,null,null,null,null,null,null,null,null,null,{"$f":"労働者に係る事項!L298&\"\"","v":""},null,null,null,null,null,{"$f":"労働者に係る事項!M298&\"\"","v":""},null,null,null,null,null,null,{"$f":"労働者に係る事項!N298&\"\"","v":""},null,null,null,null,null,null,{"$f":"IF(労働者に係る事項!O298=\"\",\"\",労働者に係る事項!O298)","v":""},null,null,null,null,null,null,null,null,null,null,null,null,null,null,null,null,null,null,{"$f":"IF(労働者に係る事項!P298=\"\",\"\",労働者に係る事項!P298)","v":""},null,null,null,null,null,null,null,null,null,null,null,null,null,{"$f":"IF(労働者に係る事項!Q298=\"\",\"\",労働者に係る事項!Q298)","v":""},null,null,null,null,null,null,null,null,null,null,null,null,null,null,null,null,null,null,null,{"$f":"労働者に係る事項!R298&\"\"","v":""},null,null,null,null,null,null,null,{"$f":"労働者に係る事項!S298&\"\"","v":""}]
[null,"60",null,null,{"$f":"労働者に係る事項!B299&\"\"","v":""},null,null,null,null,null,{"$f":"労働者に係る事項!C299&\"\"","v":""},null,null,null,null,null,null,null,null,null,null,null,null,null,null,null,null,null,null,null,null,null,null,null,null,null,null,null,null,null,{"$f":"労働者に係る事項!D299&\"\"","v":""},null,null,null,null,null,null,null,{"$f":"労働者に係る事項!E299&\"\"","v":""},null,null,null,null,null,null,null,null,null,null,null,null,null,null,null,null,null,null,null,null,null,null,null,null,null,null,null,{"$f":"労働者に係る事項!F299&\"\"","v":""},null,null,null,null,null,null,{"$f":"労働者に係る事項!G299&\"\"","v":""},null,null,null,null,null,{"$f":"労働者に係る事項!H299&\"\"","v":""},null,null,null,null,null,{"$f":"労働者に係る事項!I299&\"\"","v":""},null,null,null,null,null,null,{"$f":"労働者に係る事項!J299&\"\"","v":""},null,null,null,null,null,null,null,null,null,{"$f":"労働者に係る事項!K299&\"\"","v":""},null,null,null,null,null,null,null,null,null,null,null,null,null,null,null,null,{"$f":"労働者に係る事項!L299&\"\"","v":""},null,null,null,null,null,{"$f":"労働者に係る事項!M299&\"\"","v":""},null,null,null,null,null,null,{"$f":"労働者に係る事項!N299&\"\"","v":""},null,null,null,null,null,null,{"$f":"IF(労働者に係る事項!O299=\"\",\"\",労働者に係る事項!O299)","v":""},null,null,null,null,null,null,null,null,null,null,null,null,null,null,null,null,null,null,{"$f":"IF(労働者に係る事項!P299=\"\",\"\",労働者に係る事項!P299)","v":""},null,null,null,null,null,null,null,null,null,null,null,null,null,{"$f":"IF(労働者に係る事項!Q299=\"\",\"\",労働者に係る事項!Q299)","v":""},null,null,null,null,null,null,null,null,null,null,null,null,null,null,null,null,null,null,null,{"$f":"労働者に係る事項!R299&\"\"","v":""},null,null,null,null,null,null,null,{"$f":"労働者に係る事項!S299&\"\"","v":""}]
[null,"61",null,null,{"$f":"労働者に係る事項!B300&\"\"","v":""},null,null,null,null,null,{"$f":"労働者に係る事項!C300&\"\"","v":""},null,null,null,null,null,null,null,null,null,null,null,null,null,null,null,null,null,null,null,null,null,null,null,null,null,null,null,null,null,{"$f":"労働者に係る事項!D300&\"\"","v":""},null,null,null,null,null,null,null,{"$f":"労働者に係る事項!E300&\"\"","v":""},null,null,null,null,null,null,null,null,null,null,null,null,null,null,null,null,null,null,null,null,null,null,null,null,null,null,null,{"$f":"労働者に係る事項!F300&\"\"","v":""},null,null,null,null,null,null,{"$f":"労働者に係る事項!G300&\"\"","v":""},null,null,null,null,null,{"$f":"労働者に係る事項!H300&\"\"","v":""},null,null,null,null,null,{"$f":"労働者に係る事項!I300&\"\"","v":""},null,null,null,null,null,null,{"$f":"労働者に係る事項!J300&\"\"","v":""},null,null,null,null,null,null,null,null,null,{"$f":"労働者に係る事項!K300&\"\"","v":""},null,null,null,null,null,null,null,null,null,null,null,null,null,null,null,null,{"$f":"労働者に係る事項!L300&\"\"","v":""},null,null,null,null,null,{"$f":"労働者に係る事項!M300&\"\"","v":""},null,null,null,null,null,null,{"$f":"労働者に係る事項!N300&\"\"","v":""},null,null,null,null,null,null,{"$f":"IF(労働者に係る事項!O300=\"\",\"\",労働者に係る事項!O300)","v":""},null,null,null,null,null,null,null,null,null,null,null,null,null,null,null,null,null,null,{"$f":"IF(労働者に係る事項!P300=\"\",\"\",労働者に係る事項!P300)","v":""},null,null,null,null,null,null,null,null,null,null,null,null,null,{"$f":"IF(労働者に係る事項!Q300=\"\",\"\",労働者に係る事項!Q300)","v":""},null,null,null,null,null,null,null,null,null,null,null,null,null,null,null,null,null,null,null,{"$f":"労働者に係る事項!R300&\"\"","v":""},null,null,null,null,null,null,null,{"$f":"労働者に係る事項!S300&\"\"","v":""}]
[null,"62",null,null,{"$f":"労働者に係る事項!B301&\"\"","v":""},null,null,null,null,null,{"$f":"労働者に係る事項!C301&\"\"","v":""},null,null,null,null,null,null,null,null,null,null,null,null,null,null,null,null,null,null,null,null,null,null,null,null,null,null,null,null,null,{"$f":"労働者に係る事項!D301&\"\"","v":""},null,null,null,null,null,null,null,{"$f":"労働者に係る事項!E301&\"\"","v":""},null,null,null,null,null,null,null,null,null,null,null,null,null,null,null,null,null,null,null,null,null,null,null,null,null,null,null,{"$f":"労働者に係る事項!F301&\"\"","v":""},null,null,null,null,null,null,{"$f":"労働者に係る事項!G301&\"\"","v":""},null,null,null,null,null,{"$f":"労働者に係る事項!H301&\"\"","v":""},null,null,null,null,null,{"$f":"労働者に係る事項!I301&\"\"","v":""},null,null,null,null,null,null,{"$f":"労働者に係る事項!J301&\"\"","v":""},null,null,null,null,null,null,null,null,null,{"$f":"労働者に係る事項!K301&\"\"","v":""},null,null,null,null,null,null,null,null,null,null,null,null,null,null,null,null,{"$f":"労働者に係る事項!L301&\"\"","v":""},null,null,null,null,null,{"$f":"労働者に係る事項!M301&\"\"","v":""},null,null,null,null,null,null,{"$f":"労働者に係る事項!N301&\"\"","v":""},null,null,null,null,null,null,{"$f":"IF(労働者に係る事項!O301=\"\",\"\",労働者に係る事項!O301)","v":""},null,null,null,null,null,null,null,null,null,null,null,null,null,null,null,null,null,null,{"$f":"IF(労働者に係る事項!P301=\"\",\"\",労働者に係る事項!P301)","v":""},null,null,null,null,null,null,null,null,null,null,null,null,null,{"$f":"IF(労働者に係る事項!Q301=\"\",\"\",労働者に係る事項!Q301)","v":""},null,null,null,null,null,null,null,null,null,null,null,null,null,null,null,null,null,null,null,{"$f":"労働者に係る事項!R301&\"\"","v":""},null,null,null,null,null,null,null,{"$f":"労働者に係る事項!S301&\"\"","v":""}]
[null,"63",null,null,{"$f":"労働者に係る事項!B302&\"\"","v":""},null,null,null,null,null,{"$f":"労働者に係る事項!C302&\"\"","v":""},null,null,null,null,null,null,null,null,null,null,null,null,null,null,null,null,null,null,null,null,null,null,null,null,null,null,null,null,null,{"$f":"労働者に係る事項!D302&\"\"","v":""},null,null,null,null,null,null,null,{"$f":"労働者に係る事項!E302&\"\"","v":""},null,null,null,null,null,null,null,null,null,null,null,null,null,null,null,null,null,null,null,null,null,null,null,null,null,null,null,{"$f":"労働者に係る事項!F302&\"\"","v":""},null,null,null,null,null,null,{"$f":"労働者に係る事項!G302&\"\"","v":""},null,null,null,null,null,{"$f":"労働者に係る事項!H302&\"\"","v":""},null,null,null,null,null,{"$f":"労働者に係る事項!I302&\"\"","v":""},null,null,null,null,null,null,{"$f":"労働者に係る事項!J302&\"\"","v":""},null,null,null,null,null,null,null,null,null,{"$f":"労働者に係る事項!K302&\"\"","v":""},null,null,null,null,null,null,null,null,null,null,null,null,null,null,null,null,{"$f":"労働者に係る事項!L302&\"\"","v":""},null,null,null,null,null,{"$f":"労働者に係る事項!M302&\"\"","v":""},null,null,null,null,null,null,{"$f":"労働者に係る事項!N302&\"\"","v":""},null,null,null,null,null,null,{"$f":"IF(労働者に係る事項!O302=\"\",\"\",労働者に係る事項!O302)","v":""},null,null,null,null,null,null,null,null,null,null,null,null,null,null,null,null,null,null,{"$f":"IF(労働者に係る事項!P302=\"\",\"\",労働者に係る事項!P302)","v":""},null,null,null,null,null,null,null,null,null,null,null,null,null,{"$f":"IF(労働者に係る事項!Q302=\"\",\"\",労働者に係る事項!Q302)","v":""},null,null,null,null,null,null,null,null,null,null,null,null,null,null,null,null,null,null,null,{"$f":"労働者に係る事項!R302&\"\"","v":""},null,null,null,null,null,null,null,{"$f":"労働者に係る事項!S302&\"\"","v":""}]
[null,"64",null,null,{"$f":"労働者に係る事項!B303&\"\"","v":""},null,null,null,null,null,{"$f":"労働者に係る事項!C303&\"\"","v":""},null,null,null,null,null,null,null,null,null,null,null,null,null,null,null,null,null,null,null,null,null,null,null,null,null,null,null,null,null,{"$f":"労働者に係る事項!D303&\"\"","v":""},null,null,null,null,null,null,null,{"$f":"労働者に係る事項!E303&\"\"","v":""},null,null,null,null,null,null,null,null,null,null,null,null,null,null,null,null,null,null,null,null,null,null,null,null,null,null,null,{"$f":"労働者に係る事項!F303&\"\"","v":""},null,null,null,null,null,null,{"$f":"労働者に係る事項!G303&\"\"","v":""},null,null,null,null,null,{"$f":"労働者に係る事項!H303&\"\"","v":""},null,null,null,null,null,{"$f":"労働者に係る事項!I303&\"\"","v":""},null,null,null,null,null,null,{"$f":"労働者に係る事項!J303&\"\"","v":""},null,null,null,null,null,null,null,null,null,{"$f":"労働者に係る事項!K303&\"\"","v":""},null,null,null,null,null,null,null,null,null,null,null,null,null,null,null,null,{"$f":"労働者に係る事項!L303&\"\"","v":""},null,null,null,null,null,{"$f":"労働者に係る事項!M303&\"\"","v":""},null,null,null,null,null,null,{"$f":"労働者に係る事項!N303&\"\"","v":""},null,null,null,null,null,null,{"$f":"IF(労働者に係る事項!O303=\"\",\"\",労働者に係る事項!O303)","v":""},null,null,null,null,null,null,null,null,null,null,null,null,null,null,null,null,null,null,{"$f":"IF(労働者に係る事項!P303=\"\",\"\",労働者に係る事項!P303)","v":""},null,null,null,null,null,null,null,null,null,null,null,null,null,{"$f":"IF(労働者に係る事項!Q303=\"\",\"\",労働者に係る事項!Q303)","v":""},null,null,null,null,null,null,null,null,null,null,null,null,null,null,null,null,null,null,null,{"$f":"労働者に係る事項!R303&\"\"","v":""},null,null,null,null,null,null,null,{"$f":"労働者に係る事項!S303&\"\"","v":""}]
[null,"65",null,null,{"$f":"労働者に係る事項!B304&\"\"","v":""},null,null,null,null,null,{"$f":"労働者に係る事項!C304&\"\"","v":""},null,null,null,null,null,null,null,null,null,null,null,null,null,null,null,null,null,null,null,null,null,null,null,null,null,null,null,null,null,{"$f":"労働者に係る事項!D304&\"\"","v":""},null,null,null,null,null,null,null,{"$f":"労働者に係る事項!E304&\"\"","v":""},null,null,null,null,null,null,null,null,null,null,null,null,null,null,null,null,null,null,null,null,null,null,null,null,null,null,null,{"$f":"労働者に係る事項!F304&\"\"","v":""},null,null,null,null,null,null,{"$f":"労働者に係る事項!G304&\"\"","v":""},null,null,null,null,null,{"$f":"労働者に係る事項!H304&\"\"","v":""},null,null,null,null,null,{"$f":"労働者に係る事項!I304&\"\"","v":""},null,null,null,null,null,null,{"$f":"労働者に係る事項!J304&\"\"","v":""},null,null,null,null,null,null,null,null,null,{"$f":"労働者に係る事項!K304&\"\"","v":""},null,null,null,null,null,null,null,null,null,null,null,null,null,null,null,null,{"$f":"労働者に係る事項!L304&\"\"","v":""},null,null,null,null,null,{"$f":"労働者に係る事項!M304&\"\"","v":""},null,null,null,null,null,null,{"$f":"労働者に係る事項!N304&\"\"","v":""},null,null,null,null,null,null,{"$f":"IF(労働者に係る事項!O304=\"\",\"\",労働者に係る事項!O304)","v":""},null,null,null,null,null,null,null,null,null,null,null,null,null,null,null,null,null,null,{"$f":"IF(労働者に係る事項!P304=\"\",\"\",労働者に係る事項!P304)","v":""},null,null,null,null,null,null,null,null,null,null,null,null,null,{"$f":"IF(労働者に係る事項!Q304=\"\",\"\",労働者に係る事項!Q304)","v":""},null,null,null,null,null,null,null,null,null,null,null,null,null,null,null,null,null,null,null,{"$f":"労働者に係る事項!R304&\"\"","v":""},null,null,null,null,null,null,null,{"$f":"労働者に係る事項!S304&\"\"","v":""}]
[null,"66",null,null,{"$f":"労働者に係る事項!B305&\"\"","v":""},null,null,null,null,null,{"$f":"労働者に係る事項!C305&\"\"","v":""},null,null,null,null,null,null,null,null,null,null,null,null,null,null,null,null,null,null,null,null,null,null,null,null,null,null,null,null,null,{"$f":"労働者に係る事項!D305&\"\"","v":""},null,null,null,null,null,null,null,{"$f":"労働者に係る事項!E305&\"\"","v":""},null,null,null,null,null,null,null,null,null,null,null,null,null,null,null,null,null,null,null,null,null,null,null,null,null,null,null,{"$f":"労働者に係る事項!F305&\"\"","v":""},null,null,null,null,null,null,{"$f":"労働者に係る事項!G305&\"\"","v":""},null,null,null,null,null,{"$f":"労働者に係る事項!H305&\"\"","v":""},null,null,null,null,null,{"$f":"労働者に係る事項!I305&\"\"","v":""},null,null,null,null,null,null,{"$f":"労働者に係る事項!J305&\"\"","v":""},null,null,null,null,null,null,null,null,null,{"$f":"労働者に係る事項!K305&\"\"","v":""},null,null,null,null,null,null,null,null,null,null,null,null,null,null,null,null,{"$f":"労働者に係る事項!L305&\"\"","v":""},null,null,null,null,null,{"$f":"労働者に係る事項!M305&\"\"","v":""},null,null,null,null,null,null,{"$f":"労働者に係る事項!N305&\"\"","v":""},null,null,null,null,null,null,{"$f":"IF(労働者に係る事項!O305=\"\",\"\",労働者に係る事項!O305)","v":""},null,null,null,null,null,null,null,null,null,null,null,null,null,null,null,null,null,null,{"$f":"IF(労働者に係る事項!P305=\"\",\"\",労働者に係る事項!P305)","v":""},null,null,null,null,null,null,null,null,null,null,null,null,null,{"$f":"IF(労働者に係る事項!Q305=\"\",\"\",労働者に係る事項!Q305)","v":""},null,null,null,null,null,null,null,null,null,null,null,null,null,null,null,null,null,null,null,{"$f":"労働者に係る事項!R305&\"\"","v":""},null,null,null,null,null,null,null,{"$f":"労働者に係る事項!S305&\"\"","v":""}]
[null,"67",null,null,{"$f":"労働者に係る事項!B306&\"\"","v":""},null,null,null,null,null,{"$f":"労働者に係る事項!C306&\"\"","v":""},null,null,null,null,null,null,null,null,null,null,null,null,null,null,null,null,null,null,null,null,null,null,null,null,null,null,null,null,null,{"$f":"労働者に係る事項!D306&\"\"","v":""},null,null,null,null,null,null,null,{"$f":"労働者に係る事項!E306&\"\"","v":""},null,null,null,null,null,null,null,null,null,null,null,null,null,null,null,null,null,null,null,null,null,null,null,null,null,null,null,{"$f":"労働者に係る事項!F306&\"\"","v":""},null,null,null,null,null,null,{"$f":"労働者に係る事項!G306&\"\"","v":""},null,null,null,null,null,{"$f":"労働者に係る事項!H306&\"\"","v":""},null,null,null,null,null,{"$f":"労働者に係る事項!I306&\"\"","v":""},null,null,null,null,null,null,{"$f":"労働者に係る事項!J306&\"\"","v":""},null,null,null,null,null,null,null,null,null,{"$f":"労働者に係る事項!K306&\"\"","v":""},null,null,null,null,null,null,null,null,null,null,null,null,null,null,null,null,{"$f":"労働者に係る事項!L306&\"\"","v":""},null,null,null,null,null,{"$f":"労働者に係る事項!M306&\"\"","v":""},null,null,null,null,null,null,{"$f":"労働者に係る事項!N306&\"\"","v":""},null,null,null,null,null,null,{"$f":"IF(労働者に係る事項!O306=\"\",\"\",労働者に係る事項!O306)","v":""},null,null,null,null,null,null,null,null,null,null,null,null,null,null,null,null,null,null,{"$f":"IF(労働者に係る事項!P306=\"\",\"\",労働者に係る事項!P306)","v":""},null,null,null,null,null,null,null,null,null,null,null,null,null,{"$f":"IF(労働者に係る事項!Q306=\"\",\"\",労働者に係る事項!Q306)","v":""},null,null,null,null,null,null,null,null,null,null,null,null,null,null,null,null,null,null,null,{"$f":"労働者に係る事項!R306&\"\"","v":""},null,null,null,null,null,null,null,{"$f":"労働者に係る事項!S306&\"\"","v":""}]
[null,"68",null,null,{"$f":"労働者に係る事項!B307&\"\"","v":""},null,null,null,null,null,{"$f":"労働者に係る事項!C307&\"\"","v":""},null,null,null,null,null,null,null,null,null,null,null,null,null,null,null,null,null,null,null,null,null,null,null,null,null,null,null,null,null,{"$f":"労働者に係る事項!D307&\"\"","v":""},null,null,null,null,null,null,null,{"$f":"労働者に係る事項!E307&\"\"","v":""},null,null,null,null,null,null,null,null,null,null,null,null,null,null,null,null,null,null,null,null,null,null,null,null,null,null,null,{"$f":"労働者に係る事項!F307&\"\"","v":""},null,null,null,null,null,null,{"$f":"労働者に係る事項!G307&\"\"","v":""},null,null,null,null,null,{"$f":"労働者に係る事項!H307&\"\"","v":""},null,null,null,null,null,{"$f":"労働者に係る事項!I307&\"\"","v":""},null,null,null,null,null,null,{"$f":"労働者に係る事項!J307&\"\"","v":""},null,null,null,null,null,null,null,null,null,{"$f":"労働者に係る事項!K307&\"\"","v":""},null,null,null,null,null,null,null,null,null,null,null,null,null,null,null,null,{"$f":"労働者に係る事項!L307&\"\"","v":""},null,null,null,null,null,{"$f":"労働者に係る事項!M307&\"\"","v":""},null,null,null,null,null,null,{"$f":"労働者に係る事項!N307&\"\"","v":""},null,null,null,null,null,null,{"$f":"IF(労働者に係る事項!O307=\"\",\"\",労働者に係る事項!O307)","v":""},null,null,null,null,null,null,null,null,null,null,null,null,null,null,null,null,null,null,{"$f":"IF(労働者に係る事項!P307=\"\",\"\",労働者に係る事項!P307)","v":""},null,null,null,null,null,null,null,null,null,null,null,null,null,{"$f":"IF(労働者に係る事項!Q307=\"\",\"\",労働者に係る事項!Q307)","v":""},null,null,null,null,null,null,null,null,null,null,null,null,null,null,null,null,null,null,null,{"$f":"労働者に係る事項!R307&\"\"","v":""},null,null,null,null,null,null,null,{"$f":"労働者に係る事項!S307&\"\"","v":""}]
[null,"69",null,null,{"$f":"労働者に係る事項!B308&\"\"","v":""},null,null,null,null,null,{"$f":"労働者に係る事項!C308&\"\"","v":""},null,null,null,null,null,null,null,null,null,null,null,null,null,null,null,null,null,null,null,null,null,null,null,null,null,null,null,null,null,{"$f":"労働者に係る事項!D308&\"\"","v":""},null,null,null,null,null,null,null,{"$f":"労働者に係る事項!E308&\"\"","v":""},null,null,null,null,null,null,null,null,null,null,null,null,null,null,null,null,null,null,null,null,null,null,null,null,null,null,null,{"$f":"労働者に係る事項!F308&\"\"","v":""},null,null,null,null,null,null,{"$f":"労働者に係る事項!G308&\"\"","v":""},null,null,null,null,null,{"$f":"労働者に係る事項!H308&\"\"","v":""},null,null,null,null,null,{"$f":"労働者に係る事項!I308&\"\"","v":""},null,null,null,null,null,null,{"$f":"労働者に係る事項!J308&\"\"","v":""},null,null,null,null,null,null,null,null,null,{"$f":"労働者に係る事項!K308&\"\"","v":""},null,null,null,null,null,null,null,null,null,null,null,null,null,null,null,null,{"$f":"労働者に係る事項!L308&\"\"","v":""},null,null,null,null,null,{"$f":"労働者に係る事項!M308&\"\"","v":""},null,null,null,null,null,null,{"$f":"労働者に係る事項!N308&\"\"","v":""},null,null,null,null,null,null,{"$f":"IF(労働者に係る事項!O308=\"\",\"\",労働者に係る事項!O308)","v":""},null,null,null,null,null,null,null,null,null,null,null,null,null,null,null,null,null,null,{"$f":"IF(労働者に係る事項!P308=\"\",\"\",労働者に係る事項!P308)","v":""},null,null,null,null,null,null,null,null,null,null,null,null,null,{"$f":"IF(労働者に係る事項!Q308=\"\",\"\",労働者に係る事項!Q308)","v":""},null,null,null,null,null,null,null,null,null,null,null,null,null,null,null,null,null,null,null,{"$f":"労働者に係る事項!R308&\"\"","v":""},null,null,null,null,null,null,null,{"$f":"労働者に係る事項!S308&\"\"","v":""}]
[null,"70",null,null,{"$f":"労働者に係る事項!B309&\"\"","v":""},null,null,null,null,null,{"$f":"労働者に係る事項!C309&\"\"","v":""},null,null,null,null,null,null,null,null,null,null,null,null,null,null,null,null,null,null,null,null,null,null,null,null,null,null,null,null,null,{"$f":"労働者に係る事項!D309&\"\"","v":""},null,null,null,null,null,null,null,{"$f":"労働者に係る事項!E309&\"\"","v":""},null,null,null,null,null,null,null,null,null,null,null,null,null,null,null,null,null,null,null,null,null,null,null,null,null,null,null,{"$f":"労働者に係る事項!F309&\"\"","v":""},null,null,null,null,null,null,{"$f":"労働者に係る事項!G309&\"\"","v":""},null,null,null,null,null,{"$f":"労働者に係る事項!H309&\"\"","v":""},null,null,null,null,null,{"$f":"労働者に係る事項!I309&\"\"","v":""},null,null,null,null,null,null,{"$f":"労働者に係る事項!J309&\"\"","v":""},null,null,null,null,null,null,null,null,null,{"$f":"労働者に係る事項!K309&\"\"","v":""},null,null,null,null,null,null,null,null,null,null,null,null,null,null,null,null,{"$f":"労働者に係る事項!L309&\"\"","v":""},null,null,null,null,null,{"$f":"労働者に係る事項!M309&\"\"","v":""},null,null,null,null,null,null,{"$f":"労働者に係る事項!N309&\"\"","v":""},null,null,null,null,null,null,{"$f":"IF(労働者に係る事項!O309=\"\",\"\",労働者に係る事項!O309)","v":""},null,null,null,null,null,null,null,null,null,null,null,null,null,null,null,null,null,null,{"$f":"IF(労働者に係る事項!P309=\"\",\"\",労働者に係る事項!P309)","v":""},null,null,null,null,null,null,null,null,null,null,null,null,null,{"$f":"IF(労働者に係る事項!Q309=\"\",\"\",労働者に係る事項!Q309)","v":""},null,null,null,null,null,null,null,null,null,null,null,null,null,null,null,null,null,null,null,{"$f":"労働者に係る事項!R309&\"\"","v":""},null,null,null,null,null,null,null,{"$f":"労働者に係る事項!S309&\"\"","v":""}]
[null,"71",null,null,{"$f":"労働者に係る事項!B310&\"\"","v":""},null,null,null,null,null,{"$f":"労働者に係る事項!C310&\"\"","v":""},null,null,null,null,null,null,null,null,null,null,null,null,null,null,null,null,null,null,null,null,null,null,null,null,null,null,null,null,null,{"$f":"労働者に係る事項!D310&\"\"","v":""},null,null,null,null,null,null,null,{"$f":"労働者に係る事項!E310&\"\"","v":""},null,null,null,null,null,null,null,null,null,null,null,null,null,null,null,null,null,null,null,null,null,null,null,null,null,null,null,{"$f":"労働者に係る事項!F310&\"\"","v":""},null,null,null,null,null,null,{"$f":"労働者に係る事項!G310&\"\"","v":""},null,null,null,null,null,{"$f":"労働者に係る事項!H310&\"\"","v":""},null,null,null,null,null,{"$f":"労働者に係る事項!I310&\"\"","v":""},null,null,null,null,null,null,{"$f":"労働者に係る事項!J310&\"\"","v":""},null,null,null,null,null,null,null,null,null,{"$f":"労働者に係る事項!K310&\"\"","v":""},null,null,null,null,null,null,null,null,null,null,null,null,null,null,null,null,{"$f":"労働者に係る事項!L310&\"\"","v":""},null,null,null,null,null,{"$f":"労働者に係る事項!M310&\"\"","v":""},null,null,null,null,null,null,{"$f":"労働者に係る事項!N310&\"\"","v":""},null,null,null,null,null,null,{"$f":"IF(労働者に係る事項!O310=\"\",\"\",労働者に係る事項!O310)","v":""},null,null,null,null,null,null,null,null,null,null,null,null,null,null,null,null,null,null,{"$f":"IF(労働者に係る事項!P310=\"\",\"\",労働者に係る事項!P310)","v":""},null,null,null,null,null,null,null,null,null,null,null,null,null,{"$f":"IF(労働者に係る事項!Q310=\"\",\"\",労働者に係る事項!Q310)","v":""},null,null,null,null,null,null,null,null,null,null,null,null,null,null,null,null,null,null,null,{"$f":"労働者に係る事項!R310&\"\"","v":""},null,null,null,null,null,null,null,{"$f":"労働者に係る事項!S310&\"\"","v":""}]
[null,"72",null,null,{"$f":"労働者に係る事項!B311&\"\"","v":""},null,null,null,null,null,{"$f":"労働者に係る事項!C311&\"\"","v":""},null,null,null,null,null,null,null,null,null,null,null,null,null,null,null,null,null,null,null,null,null,null,null,null,null,null,null,null,null,{"$f":"労働者に係る事項!D311&\"\"","v":""},null,null,null,null,null,null,null,{"$f":"労働者に係る事項!E311&\"\"","v":""},null,null,null,null,null,null,null,null,null,null,null,null,null,null,null,null,null,null,null,null,null,null,null,null,null,null,null,{"$f":"労働者に係る事項!F311&\"\"","v":""},null,null,null,null,null,null,{"$f":"労働者に係る事項!G311&\"\"","v":""},null,null,null,null,null,{"$f":"労働者に係る事項!H311&\"\"","v":""},null,null,null,null,null,{"$f":"労働者に係る事項!I311&\"\"","v":""},null,null,null,null,null,null,{"$f":"労働者に係る事項!J311&\"\"","v":""},null,null,null,null,null,null,null,null,null,{"$f":"労働者に係る事項!K311&\"\"","v":""},null,null,null,null,null,null,null,null,null,null,null,null,null,null,null,null,{"$f":"労働者に係る事項!L311&\"\"","v":""},null,null,null,null,null,{"$f":"労働者に係る事項!M311&\"\"","v":""},null,null,null,null,null,null,{"$f":"労働者に係る事項!N311&\"\"","v":""},null,null,null,null,null,null,{"$f":"IF(労働者に係る事項!O311=\"\",\"\",労働者に係る事項!O311)","v":""},null,null,null,null,null,null,null,null,null,null,null,null,null,null,null,null,null,null,{"$f":"IF(労働者に係る事項!P311=\"\",\"\",労働者に係る事項!P311)","v":""},null,null,null,null,null,null,null,null,null,null,null,null,null,{"$f":"IF(労働者に係る事項!Q311=\"\",\"\",労働者に係る事項!Q311)","v":""},null,null,null,null,null,null,null,null,null,null,null,null,null,null,null,null,null,null,null,{"$f":"労働者に係る事項!R311&\"\"","v":""},null,null,null,null,null,null,null,{"$f":"労働者に係る事項!S311&\"\"","v":""}]
[null,"73",null,null,{"$f":"労働者に係る事項!B312&\"\"","v":""},null,null,null,null,null,{"$f":"労働者に係る事項!C312&\"\"","v":""},null,null,null,null,null,null,null,null,null,null,null,null,null,null,null,null,null,null,null,null,null,null,null,null,null,null,null,null,null,{"$f":"労働者に係る事項!D312&\"\"","v":""},null,null,null,null,null,null,null,{"$f":"労働者に係る事項!E312&\"\"","v":""},null,null,null,null,null,null,null,null,null,null,null,null,null,null,null,null,null,null,null,null,null,null,null,null,null,null,null,{"$f":"労働者に係る事項!F312&\"\"","v":""},null,null,null,null,null,null,{"$f":"労働者に係る事項!G312&\"\"","v":""},null,null,null,null,null,{"$f":"労働者に係る事項!H312&\"\"","v":""},null,null,null,null,null,{"$f":"労働者に係る事項!I312&\"\"","v":""},null,null,null,null,null,null,{"$f":"労働者に係る事項!J312&\"\"","v":""},null,null,null,null,null,null,null,null,null,{"$f":"労働者に係る事項!K312&\"\"","v":""},null,null,null,null,null,null,null,null,null,null,null,null,null,null,null,null,{"$f":"労働者に係る事項!L312&\"\"","v":""},null,null,null,null,null,{"$f":"労働者に係る事項!M312&\"\"","v":""},null,null,null,null,null,null,{"$f":"労働者に係る事項!N312&\"\"","v":""},null,null,null,null,null,null,{"$f":"IF(労働者に係る事項!O312=\"\",\"\",労働者に係る事項!O312)","v":""},null,null,null,null,null,null,null,null,null,null,null,null,null,null,null,null,null,null,{"$f":"IF(労働者に係る事項!P312=\"\",\"\",労働者に係る事項!P312)","v":""},null,null,null,null,null,null,null,null,null,null,null,null,null,{"$f":"IF(労働者に係る事項!Q312=\"\",\"\",労働者に係る事項!Q312)","v":""},null,null,null,null,null,null,null,null,null,null,null,null,null,null,null,null,null,null,null,{"$f":"労働者に係る事項!R312&\"\"","v":""},null,null,null,null,null,null,null,{"$f":"労働者に係る事項!S312&\"\"","v":""}]
[null,"74",null,null,{"$f":"労働者に係る事項!B313&\"\"","v":""},null,null,null,null,null,{"$f":"労働者に係る事項!C313&\"\"","v":""},null,null,null,null,null,null,null,null,null,null,null,null,null,null,null,null,null,null,null,null,null,null,null,null,null,null,null,null,null,{"$f":"労働者に係る事項!D313&\"\"","v":""},null,null,null,null,null,null,null,{"$f":"労働者に係る事項!E313&\"\"","v":""},null,null,null,null,null,null,null,null,null,null,null,null,null,null,null,null,null,null,null,null,null,null,null,null,null,null,null,{"$f":"労働者に係る事項!F313&\"\"","v":""},null,null,null,null,null,null,{"$f":"労働者に係る事項!G313&\"\"","v":""},null,null,null,null,null,{"$f":"労働者に係る事項!H313&\"\"","v":""},null,null,null,null,null,{"$f":"労働者に係る事項!I313&\"\"","v":""},null,null,null,null,null,null,{"$f":"労働者に係る事項!J313&\"\"","v":""},null,null,null,null,null,null,null,null,null,{"$f":"労働者に係る事項!K313&\"\"","v":""},null,null,null,null,null,null,null,null,null,null,null,null,null,null,null,null,{"$f":"労働者に係る事項!L313&\"\"","v":""},null,null,null,null,null,{"$f":"労働者に係る事項!M313&\"\"","v":""},null,null,null,null,null,null,{"$f":"労働者に係る事項!N313&\"\"","v":""},null,null,null,null,null,null,{"$f":"IF(労働者に係る事項!O313=\"\",\"\",労働者に係る事項!O313)","v":""},null,null,null,null,null,null,null,null,null,null,null,null,null,null,null,null,null,null,{"$f":"IF(労働者に係る事項!P313=\"\",\"\",労働者に係る事項!P313)","v":""},null,null,null,null,null,null,null,null,null,null,null,null,null,{"$f":"IF(労働者に係る事項!Q313=\"\",\"\",労働者に係る事項!Q313)","v":""},null,null,null,null,null,null,null,null,null,null,null,null,null,null,null,null,null,null,null,{"$f":"労働者に係る事項!R313&\"\"","v":""},null,null,null,null,null,null,null,{"$f":"労働者に係る事項!S313&\"\"","v":""}]
[null,"75",null,null,{"$f":"労働者に係る事項!B314&\"\"","v":""},null,null,null,null,null,{"$f":"労働者に係る事項!C314&\"\"","v":""},null,null,null,null,null,null,null,null,null,null,null,null,null,null,null,null,null,null,null,null,null,null,null,null,null,null,null,null,null,{"$f":"労働者に係る事項!D314&\"\"","v":""},null,null,null,null,null,null,null,{"$f":"労働者に係る事項!E314&\"\"","v":""},null,null,null,null,null,null,null,null,null,null,null,null,null,null,null,null,null,null,null,null,null,null,null,null,null,null,null,{"$f":"労働者に係る事項!F314&\"\"","v":""},null,null,null,null,null,null,{"$f":"労働者に係る事項!G314&\"\"","v":""},null,null,null,null,null,{"$f":"労働者に係る事項!H314&\"\"","v":""},null,null,null,null,null,{"$f":"労働者に係る事項!I314&\"\"","v":""},null,null,null,null,null,null,{"$f":"労働者に係る事項!J314&\"\"","v":""},null,null,null,null,null,null,null,null,null,{"$f":"労働者に係る事項!K314&\"\"","v":""},null,null,null,null,null,null,null,null,null,null,null,null,null,null,null,null,{"$f":"労働者に係る事項!L314&\"\"","v":""},null,null,null,null,null,{"$f":"労働者に係る事項!M314&\"\"","v":""},null,null,null,null,null,null,{"$f":"労働者に係る事項!N314&\"\"","v":""},null,null,null,null,null,null,{"$f":"IF(労働者に係る事項!O314=\"\",\"\",労働者に係る事項!O314)","v":""},null,null,null,null,null,null,null,null,null,null,null,null,null,null,null,null,null,null,{"$f":"IF(労働者に係る事項!P314=\"\",\"\",労働者に係る事項!P314)","v":""},null,null,null,null,null,null,null,null,null,null,null,null,null,{"$f":"IF(労働者に係る事項!Q314=\"\",\"\",労働者に係る事項!Q314)","v":""},null,null,null,null,null,null,null,null,null,null,null,null,null,null,null,null,null,null,null,{"$f":"労働者に係る事項!R314&\"\"","v":""},null,null,null,null,null,null,null,{"$f":"労働者に係る事項!S314&\"\"","v":""}]
[null,"76",null,null,{"$f":"労働者に係る事項!B315&\"\"","v":""},null,null,null,null,null,{"$f":"労働者に係る事項!C315&\"\"","v":""},null,null,null,null,null,null,null,null,null,null,null,null,null,null,null,null,null,null,null,null,null,null,null,null,null,null,null,null,null,{"$f":"労働者に係る事項!D315&\"\"","v":""},null,null,null,null,null,null,null,{"$f":"労働者に係る事項!E315&\"\"","v":""},null,null,null,null,null,null,null,null,null,null,null,null,null,null,null,null,null,null,null,null,null,null,null,null,null,null,null,{"$f":"労働者に係る事項!F315&\"\"","v":""},null,null,null,null,null,null,{"$f":"労働者に係る事項!G315&\"\"","v":""},null,null,null,null,null,{"$f":"労働者に係る事項!H315&\"\"","v":""},null,null,null,null,null,{"$f":"労働者に係る事項!I315&\"\"","v":""},null,null,null,null,null,null,{"$f":"労働者に係る事項!J315&\"\"","v":""},null,null,null,null,null,null,null,null,null,{"$f":"労働者に係る事項!K315&\"\"","v":""},null,null,null,null,null,null,null,null,null,null,null,null,null,null,null,null,{"$f":"労働者に係る事項!L315&\"\"","v":""},null,null,null,null,null,{"$f":"労働者に係る事項!M315&\"\"","v":""},null,null,null,null,null,null,{"$f":"労働者に係る事項!N315&\"\"","v":""},null,null,null,null,null,null,{"$f":"IF(労働者に係る事項!O315=\"\",\"\",労働者に係る事項!O315)","v":""},null,null,null,null,null,null,null,null,null,null,null,null,null,null,null,null,null,null,{"$f":"IF(労働者に係る事項!P315=\"\",\"\",労働者に係る事項!P315)","v":""},null,null,null,null,null,null,null,null,null,null,null,null,null,{"$f":"IF(労働者に係る事項!Q315=\"\",\"\",労働者に係る事項!Q315)","v":""},null,null,null,null,null,null,null,null,null,null,null,null,null,null,null,null,null,null,null,{"$f":"労働者に係る事項!R315&\"\"","v":""},null,null,null,null,null,null,null,{"$f":"労働者に係る事項!S315&\"\"","v":""}]
[null,"77",null,null,{"$f":"労働者に係る事項!B316&\"\"","v":""},null,null,null,null,null,{"$f":"労働者に係る事項!C316&\"\"","v":""},null,null,null,null,null,null,null,null,null,null,null,null,null,null,null,null,null,null,null,null,null,null,null,null,null,null,null,null,null,{"$f":"労働者に係る事項!D316&\"\"","v":""},null,null,null,null,null,null,null,{"$f":"労働者に係る事項!E316&\"\"","v":""},null,null,null,null,null,null,null,null,null,null,null,null,null,null,null,null,null,null,null,null,null,null,null,null,null,null,null,{"$f":"労働者に係る事項!F316&\"\"","v":""},null,null,null,null,null,null,{"$f":"労働者に係る事項!G316&\"\"","v":""},null,null,null,null,null,{"$f":"労働者に係る事項!H316&\"\"","v":""},null,null,null,null,null,{"$f":"労働者に係る事項!I316&\"\"","v":""},null,null,null,null,null,null,{"$f":"労働者に係る事項!J316&\"\"","v":""},null,null,null,null,null,null,null,null,null,{"$f":"労働者に係る事項!K316&\"\"","v":""},null,null,null,null,null,null,null,null,null,null,null,null,null,null,null,null,{"$f":"労働者に係る事項!L316&\"\"","v":""},null,null,null,null,null,{"$f":"労働者に係る事項!M316&\"\"","v":""},null,null,null,null,null,null,{"$f":"労働者に係る事項!N316&\"\"","v":""},null,null,null,null,null,null,{"$f":"IF(労働者に係る事項!O316=\"\",\"\",労働者に係る事項!O316)","v":""},null,null,null,null,null,null,null,null,null,null,null,null,null,null,null,null,null,null,{"$f":"IF(労働者に係る事項!P316=\"\",\"\",労働者に係る事項!P316)","v":""},null,null,null,null,null,null,null,null,null,null,null,null,null,{"$f":"IF(労働者に係る事項!Q316=\"\",\"\",労働者に係る事項!Q316)","v":""},null,null,null,null,null,null,null,null,null,null,null,null,null,null,null,null,null,null,null,{"$f":"労働者に係る事項!R316&\"\"","v":""},null,null,null,null,null,null,null,{"$f":"労働者に係る事項!S316&\"\"","v":""}]
[null,"78",null,null,{"$f":"労働者に係る事項!B317&\"\"","v":""},null,null,null,null,null,{"$f":"労働者に係る事項!C317&\"\"","v":""},null,null,null,null,null,null,null,null,null,null,null,null,null,null,null,null,null,null,null,null,null,null,null,null,null,null,null,null,null,{"$f":"労働者に係る事項!D317&\"\"","v":""},null,null,null,null,null,null,null,{"$f":"労働者に係る事項!E317&\"\"","v":""},null,null,null,null,null,null,null,null,null,null,null,null,null,null,null,null,null,null,null,null,null,null,null,null,null,null,null,{"$f":"労働者に係る事項!F317&\"\"","v":""},null,null,null,null,null,null,{"$f":"労働者に係る事項!G317&\"\"","v":""},null,null,null,null,null,{"$f":"労働者に係る事項!H317&\"\"","v":""},null,null,null,null,null,{"$f":"労働者に係る事項!I317&\"\"","v":""},null,null,null,null,null,null,{"$f":"労働者に係る事項!J317&\"\"","v":""},null,null,null,null,null,null,null,null,null,{"$f":"労働者に係る事項!K317&\"\"","v":""},null,null,null,null,null,null,null,null,null,null,null,null,null,null,null,null,{"$f":"労働者に係る事項!L317&\"\"","v":""},null,null,null,null,null,{"$f":"労働者に係る事項!M317&\"\"","v":""},null,null,null,null,null,null,{"$f":"労働者に係る事項!N317&\"\"","v":""},null,null,null,null,null,null,{"$f":"IF(労働者に係る事項!O317=\"\",\"\",労働者に係る事項!O317)","v":""},null,null,null,null,null,null,null,null,null,null,null,null,null,null,null,null,null,null,{"$f":"IF(労働者に係る事項!P317=\"\",\"\",労働者に係る事項!P317)","v":""},null,null,null,null,null,null,null,null,null,null,null,null,null,{"$f":"IF(労働者に係る事項!Q317=\"\",\"\",労働者に係る事項!Q317)","v":""},null,null,null,null,null,null,null,null,null,null,null,null,null,null,null,null,null,null,null,{"$f":"労働者に係る事項!R317&\"\"","v":""},null,null,null,null,null,null,null,{"$f":"労働者に係る事項!S317&\"\"","v":""}]
[null,"79",null,null,{"$f":"労働者に係る事項!B318&\"\"","v":""},null,null,null,null,null,{"$f":"労働者に係る事項!C318&\"\"","v":""},null,null,null,null,null,null,null,null,null,null,null,null,null,null,null,null,null,null,null,null,null,null,null,null,null,null,null,null,null,{"$f":"労働者に係る事項!D318&\"\"","v":""},null,null,null,null,null,null,null,{"$f":"労働者に係る事項!E318&\"\"","v":""},null,null,null,null,null,null,null,null,null,null,null,null,null,null,null,null,null,null,null,null,null,null,null,null,null,null,null,{"$f":"労働者に係る事項!F318&\"\"","v":""},null,null,null,null,null,null,{"$f":"労働者に係る事項!G318&\"\"","v":""},null,null,null,null,null,{"$f":"労働者に係る事項!H318&\"\"","v":""},null,null,null,null,null,{"$f":"労働者に係る事項!I318&\"\"","v":""},null,null,null,null,null,null,{"$f":"労働者に係る事項!J318&\"\"","v":""},null,null,null,null,null,null,null,null,null,{"$f":"労働者に係る事項!K318&\"\"","v":""},null,null,null,null,null,null,null,null,null,null,null,null,null,null,null,null,{"$f":"労働者に係る事項!L318&\"\"","v":""},null,null,null,null,null,{"$f":"労働者に係る事項!M318&\"\"","v":""},null,null,null,null,null,null,{"$f":"労働者に係る事項!N318&\"\"","v":""},null,null,null,null,null,null,{"$f":"IF(労働者に係る事項!O318=\"\",\"\",労働者に係る事項!O318)","v":""},null,null,null,null,null,null,null,null,null,null,null,null,null,null,null,null,null,null,{"$f":"IF(労働者に係る事項!P318=\"\",\"\",労働者に係る事項!P318)","v":""},null,null,null,null,null,null,null,null,null,null,null,null,null,{"$f":"IF(労働者に係る事項!Q318=\"\",\"\",労働者に係る事項!Q318)","v":""},null,null,null,null,null,null,null,null,null,null,null,null,null,null,null,null,null,null,null,{"$f":"労働者に係る事項!R318&\"\"","v":""},null,null,null,null,null,null,null,{"$f":"労働者に係る事項!S318&\"\"","v":""}]
[null,"80",null,null,{"$f":"労働者に係る事項!B319&\"\"","v":""},null,null,null,null,null,{"$f":"労働者に係る事項!C319&\"\"","v":""},null,null,null,null,null,null,null,null,null,null,null,null,null,null,null,null,null,null,null,null,null,null,null,null,null,null,null,null,null,{"$f":"労働者に係る事項!D319&\"\"","v":""},null,null,null,null,null,null,null,{"$f":"労働者に係る事項!E319&\"\"","v":""},null,null,null,null,null,null,null,null,null,null,null,null,null,null,null,null,null,null,null,null,null,null,null,null,null,null,null,{"$f":"労働者に係る事項!F319&\"\"","v":""},null,null,null,null,null,null,{"$f":"労働者に係る事項!G319&\"\"","v":""},null,null,null,null,null,{"$f":"労働者に係る事項!H319&\"\"","v":""},null,null,null,null,null,{"$f":"労働者に係る事項!I319&\"\"","v":""},null,null,null,null,null,null,{"$f":"労働者に係る事項!J319&\"\"","v":""},null,null,null,null,null,null,null,null,null,{"$f":"労働者に係る事項!K319&\"\"","v":""},null,null,null,null,null,null,null,null,null,null,null,null,null,null,null,null,{"$f":"労働者に係る事項!L319&\"\"","v":""},null,null,null,null,null,{"$f":"労働者に係る事項!M319&\"\"","v":""},null,null,null,null,null,null,{"$f":"労働者に係る事項!N319&\"\"","v":""},null,null,null,null,null,null,{"$f":"IF(労働者に係る事項!O319=\"\",\"\",労働者に係る事項!O319)","v":""},null,null,null,null,null,null,null,null,null,null,null,null,null,null,null,null,null,null,{"$f":"IF(労働者に係る事項!P319=\"\",\"\",労働者に係る事項!P319)","v":""},null,null,null,null,null,null,null,null,null,null,null,null,null,{"$f":"IF(労働者に係る事項!Q319=\"\",\"\",労働者に係る事項!Q319)","v":""},null,null,null,null,null,null,null,null,null,null,null,null,null,null,null,null,null,null,null,{"$f":"労働者に係る事項!R319&\"\"","v":""},null,null,null,null,null,null,null,{"$f":"労働者に係る事項!S319&\"\"","v":""}]
[null,"81",null,null,{"$f":"労働者に係る事項!B320&\"\"","v":""},null,null,null,null,null,{"$f":"労働者に係る事項!C320&\"\"","v":""},null,null,null,null,null,null,null,null,null,null,null,null,null,null,null,null,null,null,null,null,null,null,null,null,null,null,null,null,null,{"$f":"労働者に係る事項!D320&\"\"","v":""},null,null,null,null,null,null,null,{"$f":"労働者に係る事項!E320&\"\"","v":""},null,null,null,null,null,null,null,null,null,null,null,null,null,null,null,null,null,null,null,null,null,null,null,null,null,null,null,{"$f":"労働者に係る事項!F320&\"\"","v":""},null,null,null,null,null,null,{"$f":"労働者に係る事項!G320&\"\"","v":""},null,null,null,null,null,{"$f":"労働者に係る事項!H320&\"\"","v":""},null,null,null,null,null,{"$f":"労働者に係る事項!I320&\"\"","v":""},null,null,null,null,null,null,{"$f":"労働者に係る事項!J320&\"\"","v":""},null,null,null,null,null,null,null,null,null,{"$f":"労働者に係る事項!K320&\"\"","v":""},null,null,null,null,null,null,null,null,null,null,null,null,null,null,null,null,{"$f":"労働者に係る事項!L320&\"\"","v":""},null,null,null,null,null,{"$f":"労働者に係る事項!M320&\"\"","v":""},null,null,null,null,null,null,{"$f":"労働者に係る事項!N320&\"\"","v":""},null,null,null,null,null,null,{"$f":"IF(労働者に係る事項!O320=\"\",\"\",労働者に係る事項!O320)","v":""},null,null,null,null,null,null,null,null,null,null,null,null,null,null,null,null,null,null,{"$f":"IF(労働者に係る事項!P320=\"\",\"\",労働者に係る事項!P320)","v":""},null,null,null,null,null,null,null,null,null,null,null,null,null,{"$f":"IF(労働者に係る事項!Q320=\"\",\"\",労働者に係る事項!Q320)","v":""},null,null,null,null,null,null,null,null,null,null,null,null,null,null,null,null,null,null,null,{"$f":"労働者に係る事項!R320&\"\"","v":""},null,null,null,null,null,null,null,{"$f":"労働者に係る事項!S320&\"\"","v":""}]
[null,"82",null,null,{"$f":"労働者に係る事項!B321&\"\"","v":""},null,null,null,null,null,{"$f":"労働者に係る事項!C321&\"\"","v":""},null,null,null,null,null,null,null,null,null,null,null,null,null,null,null,null,null,null,null,null,null,null,null,null,null,null,null,null,null,{"$f":"労働者に係る事項!D321&\"\"","v":""},null,null,null,null,null,null,null,{"$f":"労働者に係る事項!E321&\"\"","v":""},null,null,null,null,null,null,null,null,null,null,null,null,null,null,null,null,null,null,null,null,null,null,null,null,null,null,null,{"$f":"労働者に係る事項!F321&\"\"","v":""},null,null,null,null,null,null,{"$f":"労働者に係る事項!G321&\"\"","v":""},null,null,null,null,null,{"$f":"労働者に係る事項!H321&\"\"","v":""},null,null,null,null,null,{"$f":"労働者に係る事項!I321&\"\"","v":""},null,null,null,null,null,null,{"$f":"労働者に係る事項!J321&\"\"","v":""},null,null,null,null,null,null,null,null,null,{"$f":"労働者に係る事項!K321&\"\"","v":""},null,null,null,null,null,null,null,null,null,null,null,null,null,null,null,null,{"$f":"労働者に係る事項!L321&\"\"","v":""},null,null,null,null,null,{"$f":"労働者に係る事項!M321&\"\"","v":""},null,null,null,null,null,null,{"$f":"労働者に係る事項!N321&\"\"","v":""},null,null,null,null,null,null,{"$f":"IF(労働者に係る事項!O321=\"\",\"\",労働者に係る事項!O321)","v":""},null,null,null,null,null,null,null,null,null,null,null,null,null,null,null,null,null,null,{"$f":"IF(労働者に係る事項!P321=\"\",\"\",労働者に係る事項!P321)","v":""},null,null,null,null,null,null,null,null,null,null,null,null,null,{"$f":"IF(労働者に係る事項!Q321=\"\",\"\",労働者に係る事項!Q321)","v":""},null,null,null,null,null,null,null,null,null,null,null,null,null,null,null,null,null,null,null,{"$f":"労働者に係る事項!R321&\"\"","v":""},null,null,null,null,null,null,null,{"$f":"労働者に係る事項!S321&\"\"","v":""}]
[null,"83",null,null,{"$f":"労働者に係る事項!B322&\"\"","v":""},null,null,null,null,null,{"$f":"労働者に係る事項!C322&\"\"","v":""},null,null,null,null,null,null,null,null,null,null,null,null,null,null,null,null,null,null,null,null,null,null,null,null,null,null,null,null,null,{"$f":"労働者に係る事項!D322&\"\"","v":""},null,null,null,null,null,null,null,{"$f":"労働者に係る事項!E322&\"\"","v":""},null,null,null,null,null,null,null,null,null,null,null,null,null,null,null,null,null,null,null,null,null,null,null,null,null,null,null,{"$f":"労働者に係る事項!F322&\"\"","v":""},null,null,null,null,null,null,{"$f":"労働者に係る事項!G322&\"\"","v":""},null,null,null,null,null,{"$f":"労働者に係る事項!H322&\"\"","v":""},null,null,null,null,null,{"$f":"労働者に係る事項!I322&\"\"","v":""},null,null,null,null,null,null,{"$f":"労働者に係る事項!J322&\"\"","v":""},null,null,null,null,null,null,null,null,null,{"$f":"労働者に係る事項!K322&\"\"","v":""},null,null,null,null,null,null,null,null,null,null,null,null,null,null,null,null,{"$f":"労働者に係る事項!L322&\"\"","v":""},null,null,null,null,null,{"$f":"労働者に係る事項!M322&\"\"","v":""},null,null,null,null,null,null,{"$f":"労働者に係る事項!N322&\"\"","v":""},null,null,null,null,null,null,{"$f":"IF(労働者に係る事項!O322=\"\",\"\",労働者に係る事項!O322)","v":""},null,null,null,null,null,null,null,null,null,null,null,null,null,null,null,null,null,null,{"$f":"IF(労働者に係る事項!P322=\"\",\"\",労働者に係る事項!P322)","v":""},null,null,null,null,null,null,null,null,null,null,null,null,null,{"$f":"IF(労働者に係る事項!Q322=\"\",\"\",労働者に係る事項!Q322)","v":""},null,null,null,null,null,null,null,null,null,null,null,null,null,null,null,null,null,null,null,{"$f":"労働者に係る事項!R322&\"\"","v":""},null,null,null,null,null,null,null,{"$f":"労働者に係る事項!S322&\"\"","v":""}]
[null,"84",null,null,{"$f":"労働者に係る事項!B323&\"\"","v":""},null,null,null,null,null,{"$f":"労働者に係る事項!C323&\"\"","v":""},null,null,null,null,null,null,null,null,null,null,null,null,null,null,null,null,null,null,null,null,null,null,null,null,null,null,null,null,null,{"$f":"労働者に係る事項!D323&\"\"","v":""},null,null,null,null,null,null,null,{"$f":"労働者に係る事項!E323&\"\"","v":""},null,null,null,null,null,null,null,null,null,null,null,null,null,null,null,null,null,null,null,null,null,null,null,null,null,null,null,{"$f":"労働者に係る事項!F323&\"\"","v":""},null,null,null,null,null,null,{"$f":"労働者に係る事項!G323&\"\"","v":""},null,null,null,null,null,{"$f":"労働者に係る事項!H323&\"\"","v":""},null,null,null,null,null,{"$f":"労働者に係る事項!I323&\"\"","v":""},null,null,null,null,null,null,{"$f":"労働者に係る事項!J323&\"\"","v":""},null,null,null,null,null,null,null,null,null,{"$f":"労働者に係る事項!K323&\"\"","v":""},null,null,null,null,null,null,null,null,null,null,null,null,null,null,null,null,{"$f":"労働者に係る事項!L323&\"\"","v":""},null,null,null,null,null,{"$f":"労働者に係る事項!M323&\"\"","v":""},null,null,null,null,null,null,{"$f":"労働者に係る事項!N323&\"\"","v":""},null,null,null,null,null,null,{"$f":"IF(労働者に係る事項!O323=\"\",\"\",労働者に係る事項!O323)","v":""},null,null,null,null,null,null,null,null,null,null,null,null,null,null,null,null,null,null,{"$f":"IF(労働者に係る事項!P323=\"\",\"\",労働者に係る事項!P323)","v":""},null,null,null,null,null,null,null,null,null,null,null,null,null,{"$f":"IF(労働者に係る事項!Q323=\"\",\"\",労働者に係る事項!Q323)","v":""},null,null,null,null,null,null,null,null,null,null,null,null,null,null,null,null,null,null,null,{"$f":"労働者に係る事項!R323&\"\"","v":""},null,null,null,null,null,null,null,{"$f":"労働者に係る事項!S323&\"\"","v":""}]
[null,"85",null,null,{"$f":"労働者に係る事項!B324&\"\"","v":""},null,null,null,null,null,{"$f":"労働者に係る事項!C324&\"\"","v":""},null,null,null,null,null,null,null,null,null,null,null,null,null,null,null,null,null,null,null,null,null,null,null,null,null,null,null,null,null,{"$f":"労働者に係る事項!D324&\"\"","v":""},null,null,null,null,null,null,null,{"$f":"労働者に係る事項!E324&\"\"","v":""},null,null,null,null,null,null,null,null,null,null,null,null,null,null,null,null,null,null,null,null,null,null,null,null,null,null,null,{"$f":"労働者に係る事項!F324&\"\"","v":""},null,null,null,null,null,null,{"$f":"労働者に係る事項!G324&\"\"","v":""},null,null,null,null,null,{"$f":"労働者に係る事項!H324&\"\"","v":""},null,null,null,null,null,{"$f":"労働者に係る事項!I324&\"\"","v":""},null,null,null,null,null,null,{"$f":"労働者に係る事項!J324&\"\"","v":""},null,null,null,null,null,null,null,null,null,{"$f":"労働者に係る事項!K324&\"\"","v":""},null,null,null,null,null,null,null,null,null,null,null,null,null,null,null,null,{"$f":"労働者に係る事項!L324&\"\"","v":""},null,null,null,null,null,{"$f":"労働者に係る事項!M324&\"\"","v":""},null,null,null,null,null,null,{"$f":"労働者に係る事項!N324&\"\"","v":""},null,null,null,null,null,null,{"$f":"IF(労働者に係る事項!O324=\"\",\"\",労働者に係る事項!O324)","v":""},null,null,null,null,null,null,null,null,null,null,null,null,null,null,null,null,null,null,{"$f":"IF(労働者に係る事項!P324=\"\",\"\",労働者に係る事項!P324)","v":""},null,null,null,null,null,null,null,null,null,null,null,null,null,{"$f":"IF(労働者に係る事項!Q324=\"\",\"\",労働者に係る事項!Q324)","v":""},null,null,null,null,null,null,null,null,null,null,null,null,null,null,null,null,null,null,null,{"$f":"労働者に係る事項!R324&\"\"","v":""},null,null,null,null,null,null,null,{"$f":"労働者に係る事項!S324&\"\"","v":""}]
[null,"86",null,null,{"$f":"労働者に係る事項!B325&\"\"","v":""},null,null,null,null,null,{"$f":"労働者に係る事項!C325&\"\"","v":""},null,null,null,null,null,null,null,null,null,null,null,null,null,null,null,null,null,null,null,null,null,null,null,null,null,null,null,null,null,{"$f":"労働者に係る事項!D325&\"\"","v":""},null,null,null,null,null,null,null,{"$f":"労働者に係る事項!E325&\"\"","v":""},null,null,null,null,null,null,null,null,null,null,null,null,null,null,null,null,null,null,null,null,null,null,null,null,null,null,null,{"$f":"労働者に係る事項!F325&\"\"","v":""},null,null,null,null,null,null,{"$f":"労働者に係る事項!G325&\"\"","v":""},null,null,null,null,null,{"$f":"労働者に係る事項!H325&\"\"","v":""},null,null,null,null,null,{"$f":"労働者に係る事項!I325&\"\"","v":""},null,null,null,null,null,null,{"$f":"労働者に係る事項!J325&\"\"","v":""},null,null,null,null,null,null,null,null,null,{"$f":"労働者に係る事項!K325&\"\"","v":""},null,null,null,null,null,null,null,null,null,null,null,null,null,null,null,null,{"$f":"労働者に係る事項!L325&\"\"","v":""},null,null,null,null,null,{"$f":"労働者に係る事項!M325&\"\"","v":""},null,null,null,null,null,null,{"$f":"労働者に係る事項!N325&\"\"","v":""},null,null,null,null,null,null,{"$f":"IF(労働者に係る事項!O325=\"\",\"\",労働者に係る事項!O325)","v":""},null,null,null,null,null,null,null,null,null,null,null,null,null,null,null,null,null,null,{"$f":"IF(労働者に係る事項!P325=\"\",\"\",労働者に係る事項!P325)","v":""},null,null,null,null,null,null,null,null,null,null,null,null,null,{"$f":"IF(労働者に係る事項!Q325=\"\",\"\",労働者に係る事項!Q325)","v":""},null,null,null,null,null,null,null,null,null,null,null,null,null,null,null,null,null,null,null,{"$f":"労働者に係る事項!R325&\"\"","v":""},null,null,null,null,null,null,null,{"$f":"労働者に係る事項!S325&\"\"","v":""}]
[null,"87",null,null,{"$f":"労働者に係る事項!B326&\"\"","v":""},null,null,null,null,null,{"$f":"労働者に係る事項!C326&\"\"","v":""},null,null,null,null,null,null,null,null,null,null,null,null,null,null,null,null,null,null,null,null,null,null,null,null,null,null,null,null,null,{"$f":"労働者に係る事項!D326&\"\"","v":""},null,null,null,null,null,null,null,{"$f":"労働者に係る事項!E326&\"\"","v":""},null,null,null,null,null,null,null,null,null,null,null,null,null,null,null,null,null,null,null,null,null,null,null,null,null,null,null,{"$f":"労働者に係る事項!F326&\"\"","v":""},null,null,null,null,null,null,{"$f":"労働者に係る事項!G326&\"\"","v":""},null,null,null,null,null,{"$f":"労働者に係る事項!H326&\"\"","v":""},null,null,null,null,null,{"$f":"労働者に係る事項!I326&\"\"","v":""},null,null,null,null,null,null,{"$f":"労働者に係る事項!J326&\"\"","v":""},null,null,null,null,null,null,null,null,null,{"$f":"労働者に係る事項!K326&\"\"","v":""},null,null,null,null,null,null,null,null,null,null,null,null,null,null,null,null,{"$f":"労働者に係る事項!L326&\"\"","v":""},null,null,null,null,null,{"$f":"労働者に係る事項!M326&\"\"","v":""},null,null,null,null,null,null,{"$f":"労働者に係る事項!N326&\"\"","v":""},null,null,null,null,null,null,{"$f":"IF(労働者に係る事項!O326=\"\",\"\",労働者に係る事項!O326)","v":""},null,null,null,null,null,null,null,null,null,null,null,null,null,null,null,null,null,null,{"$f":"IF(労働者に係る事項!P326=\"\",\"\",労働者に係る事項!P326)","v":""},null,null,null,null,null,null,null,null,null,null,null,null,null,{"$f":"IF(労働者に係る事項!Q326=\"\",\"\",労働者に係る事項!Q326)","v":""},null,null,null,null,null,null,null,null,null,null,null,null,null,null,null,null,null,null,null,{"$f":"労働者に係る事項!R326&\"\"","v":""},null,null,null,null,null,null,null,{"$f":"労働者に係る事項!S326&\"\"","v":""}]
[null,"88",null,null,{"$f":"労働者に係る事項!B327&\"\"","v":""},null,null,null,null,null,{"$f":"労働者に係る事項!C327&\"\"","v":""},null,null,null,null,null,null,null,null,null,null,null,null,null,null,null,null,null,null,null,null,null,null,null,null,null,null,null,null,null,{"$f":"労働者に係る事項!D327&\"\"","v":""},null,null,null,null,null,null,null,{"$f":"労働者に係る事項!E327&\"\"","v":""},null,null,null,null,null,null,null,null,null,null,null,null,null,null,null,null,null,null,null,null,null,null,null,null,null,null,null,{"$f":"労働者に係る事項!F327&\"\"","v":""},null,null,null,null,null,null,{"$f":"労働者に係る事項!G327&\"\"","v":""},null,null,null,null,null,{"$f":"労働者に係る事項!H327&\"\"","v":""},null,null,null,null,null,{"$f":"労働者に係る事項!I327&\"\"","v":""},null,null,null,null,null,null,{"$f":"労働者に係る事項!J327&\"\"","v":""},null,null,null,null,null,null,null,null,null,{"$f":"労働者に係る事項!K327&\"\"","v":""},null,null,null,null,null,null,null,null,null,null,null,null,null,null,null,null,{"$f":"労働者に係る事項!L327&\"\"","v":""},null,null,null,null,null,{"$f":"労働者に係る事項!M327&\"\"","v":""},null,null,null,null,null,null,{"$f":"労働者に係る事項!N327&\"\"","v":""},null,null,null,null,null,null,{"$f":"IF(労働者に係る事項!O327=\"\",\"\",労働者に係る事項!O327)","v":""},null,null,null,null,null,null,null,null,null,null,null,null,null,null,null,null,null,null,{"$f":"IF(労働者に係る事項!P327=\"\",\"\",労働者に係る事項!P327)","v":""},null,null,null,null,null,null,null,null,null,null,null,null,null,{"$f":"IF(労働者に係る事項!Q327=\"\",\"\",労働者に係る事項!Q327)","v":""},null,null,null,null,null,null,null,null,null,null,null,null,null,null,null,null,null,null,null,{"$f":"労働者に係る事項!R327&\"\"","v":""},null,null,null,null,null,null,null,{"$f":"労働者に係る事項!S327&\"\"","v":""}]
[null,"89",null,null,{"$f":"労働者に係る事項!B328&\"\"","v":""},null,null,null,null,null,{"$f":"労働者に係る事項!C328&\"\"","v":""},null,null,null,null,null,null,null,null,null,null,null,null,null,null,null,null,null,null,null,null,null,null,null,null,null,null,null,null,null,{"$f":"労働者に係る事項!D328&\"\"","v":""},null,null,null,null,null,null,null,{"$f":"労働者に係る事項!E328&\"\"","v":""},null,null,null,null,null,null,null,null,null,null,null,null,null,null,null,null,null,null,null,null,null,null,null,null,null,null,null,{"$f":"労働者に係る事項!F328&\"\"","v":""},null,null,null,null,null,null,{"$f":"労働者に係る事項!G328&\"\"","v":""},null,null,null,null,null,{"$f":"労働者に係る事項!H328&\"\"","v":""},null,null,null,null,null,{"$f":"労働者に係る事項!I328&\"\"","v":""},null,null,null,null,null,null,{"$f":"労働者に係る事項!J328&\"\"","v":""},null,null,null,null,null,null,null,null,null,{"$f":"労働者に係る事項!K328&\"\"","v":""},null,null,null,null,null,null,null,null,null,null,null,null,null,null,null,null,{"$f":"労働者に係る事項!L328&\"\"","v":""},null,null,null,null,null,{"$f":"労働者に係る事項!M328&\"\"","v":""},null,null,null,null,null,null,{"$f":"労働者に係る事項!N328&\"\"","v":""},null,null,null,null,null,null,{"$f":"IF(労働者に係る事項!O328=\"\",\"\",労働者に係る事項!O328)","v":""},null,null,null,null,null,null,null,null,null,null,null,null,null,null,null,null,null,null,{"$f":"IF(労働者に係る事項!P328=\"\",\"\",労働者に係る事項!P328)","v":""},null,null,null,null,null,null,null,null,null,null,null,null,null,{"$f":"IF(労働者に係る事項!Q328=\"\",\"\",労働者に係る事項!Q328)","v":""},null,null,null,null,null,null,null,null,null,null,null,null,null,null,null,null,null,null,null,{"$f":"労働者に係る事項!R328&\"\"","v":""},null,null,null,null,null,null,null,{"$f":"労働者に係る事項!S328&\"\"","v":""}]
[null,"90",null,null,{"$f":"労働者に係る事項!B329&\"\"","v":""},null,null,null,null,null,{"$f":"労働者に係る事項!C329&\"\"","v":""},null,null,null,null,null,null,null,null,null,null,null,null,null,null,null,null,null,null,null,null,null,null,null,null,null,null,null,null,null,{"$f":"労働者に係る事項!D329&\"\"","v":""},null,null,null,null,null,null,null,{"$f":"労働者に係る事項!E329&\"\"","v":""},null,null,null,null,null,null,null,null,null,null,null,null,null,null,null,null,null,null,null,null,null,null,null,null,null,null,null,{"$f":"労働者に係る事項!F329&\"\"","v":""},null,null,null,null,null,null,{"$f":"労働者に係る事項!G329&\"\"","v":""},null,null,null,null,null,{"$f":"労働者に係る事項!H329&\"\"","v":""},null,null,null,null,null,{"$f":"労働者に係る事項!I329&\"\"","v":""},null,null,null,null,null,null,{"$f":"労働者に係る事項!J329&\"\"","v":""},null,null,null,null,null,null,null,null,null,{"$f":"労働者に係る事項!K329&\"\"","v":""},null,null,null,null,null,null,null,null,null,null,null,null,null,null,null,null,{"$f":"労働者に係る事項!L329&\"\"","v":""},null,null,null,null,null,{"$f":"労働者に係る事項!M329&\"\"","v":""},null,null,null,null,null,null,{"$f":"労働者に係る事項!N329&\"\"","v":""},null,null,null,null,null,null,{"$f":"IF(労働者に係る事項!O329=\"\",\"\",労働者に係る事項!O329)","v":""},null,null,null,null,null,null,null,null,null,null,null,null,null,null,null,null,null,null,{"$f":"IF(労働者に係る事項!P329=\"\",\"\",労働者に係る事項!P329)","v":""},null,null,null,null,null,null,null,null,null,null,null,null,null,{"$f":"IF(労働者に係る事項!Q329=\"\",\"\",労働者に係る事項!Q329)","v":""},null,null,null,null,null,null,null,null,null,null,null,null,null,null,null,null,null,null,null,{"$f":"労働者に係る事項!R329&\"\"","v":""},null,null,null,null,null,null,null,{"$f":"労働者に係る事項!S329&\"\"","v":""}]
[null,"91",null,null,{"$f":"労働者に係る事項!B330&\"\"","v":""},null,null,null,null,null,{"$f":"労働者に係る事項!C330&\"\"","v":""},null,null,null,null,null,null,null,null,null,null,null,null,null,null,null,null,null,null,null,null,null,null,null,null,null,null,null,null,null,{"$f":"労働者に係る事項!D330&\"\"","v":""},null,null,null,null,null,null,null,{"$f":"労働者に係る事項!E330&\"\"","v":""},null,null,null,null,null,null,null,null,null,null,null,null,null,null,null,null,null,null,null,null,null,null,null,null,null,null,null,{"$f":"労働者に係る事項!F330&\"\"","v":""},null,null,null,null,null,null,{"$f":"労働者に係る事項!G330&\"\"","v":""},null,null,null,null,null,{"$f":"労働者に係る事項!H330&\"\"","v":""},null,null,null,null,null,{"$f":"労働者に係る事項!I330&\"\"","v":""},null,null,null,null,null,null,{"$f":"労働者に係る事項!J330&\"\"","v":""},null,null,null,null,null,null,null,null,null,{"$f":"労働者に係る事項!K330&\"\"","v":""},null,null,null,null,null,null,null,null,null,null,null,null,null,null,null,null,{"$f":"労働者に係る事項!L330&\"\"","v":""},null,null,null,null,null,{"$f":"労働者に係る事項!M330&\"\"","v":""},null,null,null,null,null,null,{"$f":"労働者に係る事項!N330&\"\"","v":""},null,null,null,null,null,null,{"$f":"IF(労働者に係る事項!O330=\"\",\"\",労働者に係る事項!O330)","v":""},null,null,null,null,null,null,null,null,null,null,null,null,null,null,null,null,null,null,{"$f":"IF(労働者に係る事項!P330=\"\",\"\",労働者に係る事項!P330)","v":""},null,null,null,null,null,null,null,null,null,null,null,null,null,{"$f":"IF(労働者に係る事項!Q330=\"\",\"\",労働者に係る事項!Q330)","v":""},null,null,null,null,null,null,null,null,null,null,null,null,null,null,null,null,null,null,null,{"$f":"労働者に係る事項!R330&\"\"","v":""},null,null,null,null,null,null,null,{"$f":"労働者に係る事項!S330&\"\"","v":""}]
[null,"92",null,null,{"$f":"労働者に係る事項!B331&\"\"","v":""},null,null,null,null,null,{"$f":"労働者に係る事項!C331&\"\"","v":""},null,null,null,null,null,null,null,null,null,null,null,null,null,null,null,null,null,null,null,null,null,null,null,null,null,null,null,null,null,{"$f":"労働者に係る事項!D331&\"\"","v":""},null,null,null,null,null,null,null,{"$f":"労働者に係る事項!E331&\"\"","v":""},null,null,null,null,null,null,null,null,null,null,null,null,null,null,null,null,null,null,null,null,null,null,null,null,null,null,null,{"$f":"労働者に係る事項!F331&\"\"","v":""},null,null,null,null,null,null,{"$f":"労働者に係る事項!G331&\"\"","v":""},null,null,null,null,null,{"$f":"労働者に係る事項!H331&\"\"","v":""},null,null,null,null,null,{"$f":"労働者に係る事項!I331&\"\"","v":""},null,null,null,null,null,null,{"$f":"労働者に係る事項!J331&\"\"","v":""},null,null,null,null,null,null,null,null,null,{"$f":"労働者に係る事項!K331&\"\"","v":""},null,null,null,null,null,null,null,null,null,null,null,null,null,null,null,null,{"$f":"労働者に係る事項!L331&\"\"","v":""},null,null,null,null,null,{"$f":"労働者に係る事項!M331&\"\"","v":""},null,null,null,null,null,null,{"$f":"労働者に係る事項!N331&\"\"","v":""},null,null,null,null,null,null,{"$f":"IF(労働者に係る事項!O331=\"\",\"\",労働者に係る事項!O331)","v":""},null,null,null,null,null,null,null,null,null,null,null,null,null,null,null,null,null,null,{"$f":"IF(労働者に係る事項!P331=\"\",\"\",労働者に係る事項!P331)","v":""},null,null,null,null,null,null,null,null,null,null,null,null,null,{"$f":"IF(労働者に係る事項!Q331=\"\",\"\",労働者に係る事項!Q331)","v":""},null,null,null,null,null,null,null,null,null,null,null,null,null,null,null,null,null,null,null,{"$f":"労働者に係る事項!R331&\"\"","v":""},null,null,null,null,null,null,null,{"$f":"労働者に係る事項!S331&\"\"","v":""}]
[null,"93",null,null,{"$f":"労働者に係る事項!B332&\"\"","v":""},null,null,null,null,null,{"$f":"労働者に係る事項!C332&\"\"","v":""},null,null,null,null,null,null,null,null,null,null,null,null,null,null,null,null,null,null,null,null,null,null,null,null,null,null,null,null,null,{"$f":"労働者に係る事項!D332&\"\"","v":""},null,null,null,null,null,null,null,{"$f":"労働者に係る事項!E332&\"\"","v":""},null,null,null,null,null,null,null,null,null,null,null,null,null,null,null,null,null,null,null,null,null,null,null,null,null,null,null,{"$f":"労働者に係る事項!F332&\"\"","v":""},null,null,null,null,null,null,{"$f":"労働者に係る事項!G332&\"\"","v":""},null,null,null,null,null,{"$f":"労働者に係る事項!H332&\"\"","v":""},null,null,null,null,null,{"$f":"労働者に係る事項!I332&\"\"","v":""},null,null,null,null,null,null,{"$f":"労働者に係る事項!J332&\"\"","v":""},null,null,null,null,null,null,null,null,null,{"$f":"労働者に係る事項!K332&\"\"","v":""},null,null,null,null,null,null,null,null,null,null,null,null,null,null,null,null,{"$f":"労働者に係る事項!L332&\"\"","v":""},null,null,null,null,null,{"$f":"労働者に係る事項!M332&\"\"","v":""},null,null,null,null,null,null,{"$f":"労働者に係る事項!N332&\"\"","v":""},null,null,null,null,null,null,{"$f":"IF(労働者に係る事項!O332=\"\",\"\",労働者に係る事項!O332)","v":""},null,null,null,null,null,null,null,null,null,null,null,null,null,null,null,null,null,null,{"$f":"IF(労働者に係る事項!P332=\"\",\"\",労働者に係る事項!P332)","v":""},null,null,null,null,null,null,null,null,null,null,null,null,null,{"$f":"IF(労働者に係る事項!Q332=\"\",\"\",労働者に係る事項!Q332)","v":""},null,null,null,null,null,null,null,null,null,null,null,null,null,null,null,null,null,null,null,{"$f":"労働者に係る事項!R332&\"\"","v":""},null,null,null,null,null,null,null,{"$f":"労働者に係る事項!S332&\"\"","v":""}]
[null,"94",null,null,{"$f":"労働者に係る事項!B333&\"\"","v":""},null,null,null,null,null,{"$f":"労働者に係る事項!C333&\"\"","v":""},null,null,null,null,null,null,null,null,null,null,null,null,null,null,null,null,null,null,null,null,null,null,null,null,null,null,null,null,null,{"$f":"労働者に係る事項!D333&\"\"","v":""},null,null,null,null,null,null,null,{"$f":"労働者に係る事項!E333&\"\"","v":""},null,null,null,null,null,null,null,null,null,null,null,null,null,null,null,null,null,null,null,null,null,null,null,null,null,null,null,{"$f":"労働者に係る事項!F333&\"\"","v":""},null,null,null,null,null,null,{"$f":"労働者に係る事項!G333&\"\"","v":""},null,null,null,null,null,{"$f":"労働者に係る事項!H333&\"\"","v":""},null,null,null,null,null,{"$f":"労働者に係る事項!I333&\"\"","v":""},null,null,null,null,null,null,{"$f":"労働者に係る事項!J333&\"\"","v":""},null,null,null,null,null,null,null,null,null,{"$f":"労働者に係る事項!K333&\"\"","v":""},null,null,null,null,null,null,null,null,null,null,null,null,null,null,null,null,{"$f":"労働者に係る事項!L333&\"\"","v":""},null,null,null,null,null,{"$f":"労働者に係る事項!M333&\"\"","v":""},null,null,null,null,null,null,{"$f":"労働者に係る事項!N333&\"\"","v":""},null,null,null,null,null,null,{"$f":"IF(労働者に係る事項!O333=\"\",\"\",労働者に係る事項!O333)","v":""},null,null,null,null,null,null,null,null,null,null,null,null,null,null,null,null,null,null,{"$f":"IF(労働者に係る事項!P333=\"\",\"\",労働者に係る事項!P333)","v":""},null,null,null,null,null,null,null,null,null,null,null,null,null,{"$f":"IF(労働者に係る事項!Q333=\"\",\"\",労働者に係る事項!Q333)","v":""},null,null,null,null,null,null,null,null,null,null,null,null,null,null,null,null,null,null,null,{"$f":"労働者に係る事項!R333&\"\"","v":""},null,null,null,null,null,null,null,{"$f":"労働者に係る事項!S333&\"\"","v":""}]
[null,"95",null,null,{"$f":"労働者に係る事項!B334&\"\"","v":""},null,null,null,null,null,{"$f":"労働者に係る事項!C334&\"\"","v":""},null,null,null,null,null,null,null,null,null,null,null,null,null,null,null,null,null,null,null,null,null,null,null,null,null,null,null,null,null,{"$f":"労働者に係る事項!D334&\"\"","v":""},null,null,null,null,null,null,null,{"$f":"労働者に係る事項!E334&\"\"","v":""},null,null,null,null,null,null,null,null,null,null,null,null,null,null,null,null,null,null,null,null,null,null,null,null,null,null,null,{"$f":"労働者に係る事項!F334&\"\"","v":""},null,null,null,null,null,null,{"$f":"労働者に係る事項!G334&\"\"","v":""},null,null,null,null,null,{"$f":"労働者に係る事項!H334&\"\"","v":""},null,null,null,null,null,{"$f":"労働者に係る事項!I334&\"\"","v":""},null,null,null,null,null,null,{"$f":"労働者に係る事項!J334&\"\"","v":""},null,null,null,null,null,null,null,null,null,{"$f":"労働者に係る事項!K334&\"\"","v":""},null,null,null,null,null,null,null,null,null,null,null,null,null,null,null,null,{"$f":"労働者に係る事項!L334&\"\"","v":""},null,null,null,null,null,{"$f":"労働者に係る事項!M334&\"\"","v":""},null,null,null,null,null,null,{"$f":"労働者に係る事項!N334&\"\"","v":""},null,null,null,null,null,null,{"$f":"IF(労働者に係る事項!O334=\"\",\"\",労働者に係る事項!O334)","v":""},null,null,null,null,null,null,null,null,null,null,null,null,null,null,null,null,null,null,{"$f":"IF(労働者に係る事項!P334=\"\",\"\",労働者に係る事項!P334)","v":""},null,null,null,null,null,null,null,null,null,null,null,null,null,{"$f":"IF(労働者に係る事項!Q334=\"\",\"\",労働者に係る事項!Q334)","v":""},null,null,null,null,null,null,null,null,null,null,null,null,null,null,null,null,null,null,null,{"$f":"労働者に係る事項!R334&\"\"","v":""},null,null,null,null,null,null,null,{"$f":"労働者に係る事項!S334&\"\"","v":""}]
[null,"96",null,null,{"$f":"労働者に係る事項!B335&\"\"","v":""},null,null,null,null,null,{"$f":"労働者に係る事項!C335&\"\"","v":""},null,null,null,null,null,null,null,null,null,null,null,null,null,null,null,null,null,null,null,null,null,null,null,null,null,null,null,null,null,{"$f":"労働者に係る事項!D335&\"\"","v":""},null,null,null,null,null,null,null,{"$f":"労働者に係る事項!E335&\"\"","v":""},null,null,null,null,null,null,null,null,null,null,null,null,null,null,null,null,null,null,null,null,null,null,null,null,null,null,null,{"$f":"労働者に係る事項!F335&\"\"","v":""},null,null,null,null,null,null,{"$f":"労働者に係る事項!G335&\"\"","v":""},null,null,null,null,null,{"$f":"労働者に係る事項!H335&\"\"","v":""},null,null,null,null,null,{"$f":"労働者に係る事項!I335&\"\"","v":""},null,null,null,null,null,null,{"$f":"労働者に係る事項!J335&\"\"","v":""},null,null,null,null,null,null,null,null,null,{"$f":"労働者に係る事項!K335&\"\"","v":""},null,null,null,null,null,null,null,null,null,null,null,null,null,null,null,null,{"$f":"労働者に係る事項!L335&\"\"","v":""},null,null,null,null,null,{"$f":"労働者に係る事項!M335&\"\"","v":""},null,null,null,null,null,null,{"$f":"労働者に係る事項!N335&\"\"","v":""},null,null,null,null,null,null,{"$f":"IF(労働者に係る事項!O335=\"\",\"\",労働者に係る事項!O335)","v":""},null,null,null,null,null,null,null,null,null,null,null,null,null,null,null,null,null,null,{"$f":"IF(労働者に係る事項!P335=\"\",\"\",労働者に係る事項!P335)","v":""},null,null,null,null,null,null,null,null,null,null,null,null,null,{"$f":"IF(労働者に係る事項!Q335=\"\",\"\",労働者に係る事項!Q335)","v":""},null,null,null,null,null,null,null,null,null,null,null,null,null,null,null,null,null,null,null,{"$f":"労働者に係る事項!R335&\"\"","v":""},null,null,null,null,null,null,null,{"$f":"労働者に係る事項!S335&\"\"","v":""}]
[null,"97",null,null,{"$f":"労働者に係る事項!B336&\"\"","v":""},null,null,null,null,null,{"$f":"労働者に係る事項!C336&\"\"","v":""},null,null,null,null,null,null,null,null,null,null,null,null,null,null,null,null,null,null,null,null,null,null,null,null,null,null,null,null,null,{"$f":"労働者に係る事項!D336&\"\"","v":""},null,null,null,null,null,null,null,{"$f":"労働者に係る事項!E336&\"\"","v":""},null,null,null,null,null,null,null,null,null,null,null,null,null,null,null,null,null,null,null,null,null,null,null,null,null,null,null,{"$f":"労働者に係る事項!F336&\"\"","v":""},null,null,null,null,null,null,{"$f":"労働者に係る事項!G336&\"\"","v":""},null,null,null,null,null,{"$f":"労働者に係る事項!H336&\"\"","v":""},null,null,null,null,null,{"$f":"労働者に係る事項!I336&\"\"","v":""},null,null,null,null,null,null,{"$f":"労働者に係る事項!J336&\"\"","v":""},null,null,null,null,null,null,null,null,null,{"$f":"労働者に係る事項!K336&\"\"","v":""},null,null,null,null,null,null,null,null,null,null,null,null,null,null,null,null,{"$f":"労働者に係る事項!L336&\"\"","v":""},null,null,null,null,null,{"$f":"労働者に係る事項!M336&\"\"","v":""},null,null,null,null,null,null,{"$f":"労働者に係る事項!N336&\"\"","v":""},null,null,null,null,null,null,{"$f":"IF(労働者に係る事項!O336=\"\",\"\",労働者に係る事項!O336)","v":""},null,null,null,null,null,null,null,null,null,null,null,null,null,null,null,null,null,null,{"$f":"IF(労働者に係る事項!P336=\"\",\"\",労働者に係る事項!P336)","v":""},null,null,null,null,null,null,null,null,null,null,null,null,null,{"$f":"IF(労働者に係る事項!Q336=\"\",\"\",労働者に係る事項!Q336)","v":""},null,null,null,null,null,null,null,null,null,null,null,null,null,null,null,null,null,null,null,{"$f":"労働者に係る事項!R336&\"\"","v":""},null,null,null,null,null,null,null,{"$f":"労働者に係る事項!S336&\"\"","v":""}]
[null,"98",null,null,{"$f":"労働者に係る事項!B337&\"\"","v":""},null,null,null,null,null,{"$f":"労働者に係る事項!C337&\"\"","v":""},null,null,null,null,null,null,null,null,null,null,null,null,null,null,null,null,null,null,null,null,null,null,null,null,null,null,null,null,null,{"$f":"労働者に係る事項!D337&\"\"","v":""},null,null,null,null,null,null,null,{"$f":"労働者に係る事項!E337&\"\"","v":""},null,null,null,null,null,null,null,null,null,null,null,null,null,null,null,null,null,null,null,null,null,null,null,null,null,null,null,{"$f":"労働者に係る事項!F337&\"\"","v":""},null,null,null,null,null,null,{"$f":"労働者に係る事項!G337&\"\"","v":""},null,null,null,null,null,{"$f":"労働者に係る事項!H337&\"\"","v":""},null,null,null,null,null,{"$f":"労働者に係る事項!I337&\"\"","v":""},null,null,null,null,null,null,{"$f":"労働者に係る事項!J337&\"\"","v":""},null,null,null,null,null,null,null,null,null,{"$f":"労働者に係る事項!K337&\"\"","v":""},null,null,null,null,null,null,null,null,null,null,null,null,null,null,null,null,{"$f":"労働者に係る事項!L337&\"\"","v":""},null,null,null,null,null,{"$f":"労働者に係る事項!M337&\"\"","v":""},null,null,null,null,null,null,{"$f":"労働者に係る事項!N337&\"\"","v":""},null,null,null,null,null,null,{"$f":"IF(労働者に係る事項!O337=\"\",\"\",労働者に係る事項!O337)","v":""},null,null,null,null,null,null,null,null,null,null,null,null,null,null,null,null,null,null,{"$f":"IF(労働者に係る事項!P337=\"\",\"\",労働者に係る事項!P337)","v":""},null,null,null,null,null,null,null,null,null,null,null,null,null,{"$f":"IF(労働者に係る事項!Q337=\"\",\"\",労働者に係る事項!Q337)","v":""},null,null,null,null,null,null,null,null,null,null,null,null,null,null,null,null,null,null,null,{"$f":"労働者に係る事項!R337&\"\"","v":""},null,null,null,null,null,null,null,{"$f":"労働者に係る事項!S337&\"\"","v":""}]
[null,"99",null,null,{"$f":"労働者に係る事項!B338&\"\"","v":""},null,null,null,null,null,{"$f":"労働者に係る事項!C338&\"\"","v":""},null,null,null,null,null,null,null,null,null,null,null,null,null,null,null,null,null,null,null,null,null,null,null,null,null,null,null,null,null,{"$f":"労働者に係る事項!D338&\"\"","v":""},null,null,null,null,null,null,null,{"$f":"労働者に係る事項!E338&\"\"","v":""},null,null,null,null,null,null,null,null,null,null,null,null,null,null,null,null,null,null,null,null,null,null,null,null,null,null,null,{"$f":"労働者に係る事項!F338&\"\"","v":""},null,null,null,null,null,null,{"$f":"労働者に係る事項!G338&\"\"","v":""},null,null,null,null,null,{"$f":"労働者に係る事項!H338&\"\"","v":""},null,null,null,null,null,{"$f":"労働者に係る事項!I338&\"\"","v":""},null,null,null,null,null,null,{"$f":"労働者に係る事項!J338&\"\"","v":""},null,null,null,null,null,null,null,null,null,{"$f":"労働者に係る事項!K338&\"\"","v":""},null,null,null,null,null,null,null,null,null,null,null,null,null,null,null,null,{"$f":"労働者に係る事項!L338&\"\"","v":""},null,null,null,null,null,{"$f":"労働者に係る事項!M338&\"\"","v":""},null,null,null,null,null,null,{"$f":"労働者に係る事項!N338&\"\"","v":""},null,null,null,null,null,null,{"$f":"IF(労働者に係る事項!O338=\"\",\"\",労働者に係る事項!O338)","v":""},null,null,null,null,null,null,null,null,null,null,null,null,null,null,null,null,null,null,{"$f":"IF(労働者に係る事項!P338=\"\",\"\",労働者に係る事項!P338)","v":""},null,null,null,null,null,null,null,null,null,null,null,null,null,{"$f":"IF(労働者に係る事項!Q338=\"\",\"\",労働者に係る事項!Q338)","v":""},null,null,null,null,null,null,null,null,null,null,null,null,null,null,null,null,null,null,null,{"$f":"労働者に係る事項!R338&\"\"","v":""},null,null,null,null,null,null,null,{"$f":"労働者に係る事項!S338&\"\"","v":""}]
[null,"00",null,null,{"$f":"労働者に係る事項!B339&\"\"","v":""},null,null,null,null,null,{"$f":"労働者に係る事項!C339&\"\"","v":""},null,null,null,null,null,null,null,null,null,null,null,null,null,null,null,null,null,null,null,null,null,null,null,null,null,null,null,null,null,{"$f":"労働者に係る事項!D339&\"\"","v":""},null,null,null,null,null,null,null,{"$f":"労働者に係る事項!E339&\"\"","v":""},null,null,null,null,null,null,null,null,null,null,null,null,null,null,null,null,null,null,null,null,null,null,null,null,null,null,null,{"$f":"労働者に係る事項!F339&\"\"","v":""},null,null,null,null,null,null,{"$f":"労働者に係る事項!G339&\"\"","v":""},null,null,null,null,null,{"$f":"労働者に係る事項!H339&\"\"","v":""},null,null,null,null,null,{"$f":"労働者に係る事項!I339&\"\"","v":""},null,null,null,null,null,null,{"$f":"労働者に係る事項!J339&\"\"","v":""},null,null,null,null,null,null,null,null,null,{"$f":"労働者に係る事項!K339&\"\"","v":""},null,null,null,null,null,null,null,null,null,null,null,null,null,null,null,null,{"$f":"労働者に係る事項!L339&\"\"","v":""},null,null,null,null,null,{"$f":"労働者に係る事項!M339&\"\"","v":""},null,null,null,null,null,null,{"$f":"労働者に係る事項!N339&\"\"","v":""},null,null,null,null,null,null,{"$f":"IF(労働者に係る事項!O339=\"\",\"\",労働者に係る事項!O339)","v":""},null,null,null,null,null,null,null,null,null,null,null,null,null,null,null,null,null,null,{"$f":"IF(労働者に係る事項!P339=\"\",\"\",労働者に係る事項!P339)","v":""},null,null,null,null,null,null,null,null,null,null,null,null,null,{"$f":"IF(労働者に係る事項!Q339=\"\",\"\",労働者に係る事項!Q339)","v":""},null,null,null,null,null,null,null,null,null,null,null,null,null,null,null,null,null,null,null,{"$f":"労働者に係る事項!R339&\"\"","v":""},null,null,null,null,null,null,null,{"$f":"労働者に係る事項!S339&\"\"","v":""}]
[null,"01",null,null,{"$f":"労働者に係る事項!B340&\"\"","v":""},null,null,null,null,null,{"$f":"労働者に係る事項!C340&\"\"","v":""},null,null,null,null,null,null,null,null,null,null,null,null,null,null,null,null,null,null,null,null,null,null,null,null,null,null,null,null,null,{"$f":"労働者に係る事項!D340&\"\"","v":""},null,null,null,null,null,null,null,{"$f":"労働者に係る事項!E340&\"\"","v":""},null,null,null,null,null,null,null,null,null,null,null,null,null,null,null,null,null,null,null,null,null,null,null,null,null,null,null,{"$f":"労働者に係る事項!F340&\"\"","v":""},null,null,null,null,null,null,{"$f":"労働者に係る事項!G340&\"\"","v":""},null,null,null,null,null,{"$f":"労働者に係る事項!H340&\"\"","v":""},null,null,null,null,null,{"$f":"労働者に係る事項!I340&\"\"","v":""},null,null,null,null,null,null,{"$f":"労働者に係る事項!J340&\"\"","v":""},null,null,null,null,null,null,null,null,null,{"$f":"労働者に係る事項!K340&\"\"","v":""},null,null,null,null,null,null,null,null,null,null,null,null,null,null,null,null,{"$f":"労働者に係る事項!L340&\"\"","v":""},null,null,null,null,null,{"$f":"労働者に係る事項!M340&\"\"","v":""},null,null,null,null,null,null,{"$f":"労働者に係る事項!N340&\"\"","v":""},null,null,null,null,null,null,{"$f":"IF(労働者に係る事項!O340=\"\",\"\",労働者に係る事項!O340)","v":""},null,null,null,null,null,null,null,null,null,null,null,null,null,null,null,null,null,null,{"$f":"IF(労働者に係る事項!P340=\"\",\"\",労働者に係る事項!P340)","v":""},null,null,null,null,null,null,null,null,null,null,null,null,null,{"$f":"IF(労働者に係る事項!Q340=\"\",\"\",労働者に係る事項!Q340)","v":""},null,null,null,null,null,null,null,null,null,null,null,null,null,null,null,null,null,null,null,{"$f":"労働者に係る事項!R340&\"\"","v":""},null,null,null,null,null,null,null,{"$f":"労働者に係る事項!S340&\"\"","v":""}]
[null,"02",null,null,{"$f":"労働者に係る事項!B341&\"\"","v":""},null,null,null,null,null,{"$f":"労働者に係る事項!C341&\"\"","v":""},null,null,null,null,null,null,null,null,null,null,null,null,null,null,null,null,null,null,null,null,null,null,null,null,null,null,null,null,null,{"$f":"労働者に係る事項!D341&\"\"","v":""},null,null,null,null,null,null,null,{"$f":"労働者に係る事項!E341&\"\"","v":""},null,null,null,null,null,null,null,null,null,null,null,null,null,null,null,null,null,null,null,null,null,null,null,null,null,null,null,{"$f":"労働者に係る事項!F341&\"\"","v":""},null,null,null,null,null,null,{"$f":"労働者に係る事項!G341&\"\"","v":""},null,null,null,null,null,{"$f":"労働者に係る事項!H341&\"\"","v":""},null,null,null,null,null,{"$f":"労働者に係る事項!I341&\"\"","v":""},null,null,null,null,null,null,{"$f":"労働者に係る事項!J341&\"\"","v":""},null,null,null,null,null,null,null,null,null,{"$f":"労働者に係る事項!K341&\"\"","v":""},null,null,null,null,null,null,null,null,null,null,null,null,null,null,null,null,{"$f":"労働者に係る事項!L341&\"\"","v":""},null,null,null,null,null,{"$f":"労働者に係る事項!M341&\"\"","v":""},null,null,null,null,null,null,{"$f":"労働者に係る事項!N341&\"\"","v":""},null,null,null,null,null,null,{"$f":"IF(労働者に係る事項!O341=\"\",\"\",労働者に係る事項!O341)","v":""},null,null,null,null,null,null,null,null,null,null,null,null,null,null,null,null,null,null,{"$f":"IF(労働者に係る事項!P341=\"\",\"\",労働者に係る事項!P341)","v":""},null,null,null,null,null,null,null,null,null,null,null,null,null,{"$f":"IF(労働者に係る事項!Q341=\"\",\"\",労働者に係る事項!Q341)","v":""},null,null,null,null,null,null,null,null,null,null,null,null,null,null,null,null,null,null,null,{"$f":"労働者に係る事項!R341&\"\"","v":""},null,null,null,null,null,null,null,{"$f":"労働者に係る事項!S341&\"\"","v":""}]
[null,"03",null,null,{"$f":"労働者に係る事項!B342&\"\"","v":""},null,null,null,null,null,{"$f":"労働者に係る事項!C342&\"\"","v":""},null,null,null,null,null,null,null,null,null,null,null,null,null,null,null,null,null,null,null,null,null,null,null,null,null,null,null,null,null,{"$f":"労働者に係る事項!D342&\"\"","v":""},null,null,null,null,null,null,null,{"$f":"労働者に係る事項!E342&\"\"","v":""},null,null,null,null,null,null,null,null,null,null,null,null,null,null,null,null,null,null,null,null,null,null,null,null,null,null,null,{"$f":"労働者に係る事項!F342&\"\"","v":""},null,null,null,null,null,null,{"$f":"労働者に係る事項!G342&\"\"","v":""},null,null,null,null,null,{"$f":"労働者に係る事項!H342&\"\"","v":""},null,null,null,null,null,{"$f":"労働者に係る事項!I342&\"\"","v":""},null,null,null,null,null,null,{"$f":"労働者に係る事項!J342&\"\"","v":""},null,null,null,null,null,null,null,null,null,{"$f":"労働者に係る事項!K342&\"\"","v":""},null,null,null,null,null,null,null,null,null,null,null,null,null,null,null,null,{"$f":"労働者に係る事項!L342&\"\"","v":""},null,null,null,null,null,{"$f":"労働者に係る事項!M342&\"\"","v":""},null,null,null,null,null,null,{"$f":"労働者に係る事項!N342&\"\"","v":""},null,null,null,null,null,null,{"$f":"IF(労働者に係る事項!O342=\"\",\"\",労働者に係る事項!O342)","v":""},null,null,null,null,null,null,null,null,null,null,null,null,null,null,null,null,null,null,{"$f":"IF(労働者に係る事項!P342=\"\",\"\",労働者に係る事項!P342)","v":""},null,null,null,null,null,null,null,null,null,null,null,null,null,{"$f":"IF(労働者に係る事項!Q342=\"\",\"\",労働者に係る事項!Q342)","v":""},null,null,null,null,null,null,null,null,null,null,null,null,null,null,null,null,null,null,null,{"$f":"労働者に係る事項!R342&\"\"","v":""},null,null,null,null,null,null,null,{"$f":"労働者に係る事項!S342&\"\"","v":""}]
[null,"04",null,null,{"$f":"労働者に係る事項!B343&\"\"","v":""},null,null,null,null,null,{"$f":"労働者に係る事項!C343&\"\"","v":""},null,null,null,null,null,null,null,null,null,null,null,null,null,null,null,null,null,null,null,null,null,null,null,null,null,null,null,null,null,{"$f":"労働者に係る事項!D343&\"\"","v":""},null,null,null,null,null,null,null,{"$f":"労働者に係る事項!E343&\"\"","v":""},null,null,null,null,null,null,null,null,null,null,null,null,null,null,null,null,null,null,null,null,null,null,null,null,null,null,null,{"$f":"労働者に係る事項!F343&\"\"","v":""},null,null,null,null,null,null,{"$f":"労働者に係る事項!G343&\"\"","v":""},null,null,null,null,null,{"$f":"労働者に係る事項!H343&\"\"","v":""},null,null,null,null,null,{"$f":"労働者に係る事項!I343&\"\"","v":""},null,null,null,null,null,null,{"$f":"労働者に係る事項!J343&\"\"","v":""},null,null,null,null,null,null,null,null,null,{"$f":"労働者に係る事項!K343&\"\"","v":""},null,null,null,null,null,null,null,null,null,null,null,null,null,null,null,null,{"$f":"労働者に係る事項!L343&\"\"","v":""},null,null,null,null,null,{"$f":"労働者に係る事項!M343&\"\"","v":""},null,null,null,null,null,null,{"$f":"労働者に係る事項!N343&\"\"","v":""},null,null,null,null,null,null,{"$f":"IF(労働者に係る事項!O343=\"\",\"\",労働者に係る事項!O343)","v":""},null,null,null,null,null,null,null,null,null,null,null,null,null,null,null,null,null,null,{"$f":"IF(労働者に係る事項!P343=\"\",\"\",労働者に係る事項!P343)","v":""},null,null,null,null,null,null,null,null,null,null,null,null,null,{"$f":"IF(労働者に係る事項!Q343=\"\",\"\",労働者に係る事項!Q343)","v":""},null,null,null,null,null,null,null,null,null,null,null,null,null,null,null,null,null,null,null,{"$f":"労働者に係る事項!R343&\"\"","v":""},null,null,null,null,null,null,null,{"$f":"労働者に係る事項!S343&\"\"","v":""}]
[null,"05",null,null,{"$f":"労働者に係る事項!B344&\"\"","v":""},null,null,null,null,null,{"$f":"労働者に係る事項!C344&\"\"","v":""},null,null,null,null,null,null,null,null,null,null,null,null,null,null,null,null,null,null,null,null,null,null,null,null,null,null,null,null,null,{"$f":"労働者に係る事項!D344&\"\"","v":""},null,null,null,null,null,null,null,{"$f":"労働者に係る事項!E344&\"\"","v":""},null,null,null,null,null,null,null,null,null,null,null,null,null,null,null,null,null,null,null,null,null,null,null,null,null,null,null,{"$f":"労働者に係る事項!F344&\"\"","v":""},null,null,null,null,null,null,{"$f":"労働者に係る事項!G344&\"\"","v":""},null,null,null,null,null,{"$f":"労働者に係る事項!H344&\"\"","v":""},null,null,null,null,null,{"$f":"労働者に係る事項!I344&\"\"","v":""},null,null,null,null,null,null,{"$f":"労働者に係る事項!J344&\"\"","v":""},null,null,null,null,null,null,null,null,null,{"$f":"労働者に係る事項!K344&\"\"","v":""},null,null,null,null,null,null,null,null,null,null,null,null,null,null,null,null,{"$f":"労働者に係る事項!L344&\"\"","v":""},null,null,null,null,null,{"$f":"労働者に係る事項!M344&\"\"","v":""},null,null,null,null,null,null,{"$f":"労働者に係る事項!N344&\"\"","v":""},null,null,null,null,null,null,{"$f":"IF(労働者に係る事項!O344=\"\",\"\",労働者に係る事項!O344)","v":""},null,null,null,null,null,null,null,null,null,null,null,null,null,null,null,null,null,null,{"$f":"IF(労働者に係る事項!P344=\"\",\"\",労働者に係る事項!P344)","v":""},null,null,null,null,null,null,null,null,null,null,null,null,null,{"$f":"IF(労働者に係る事項!Q344=\"\",\"\",労働者に係る事項!Q344)","v":""},null,null,null,null,null,null,null,null,null,null,null,null,null,null,null,null,null,null,null,{"$f":"労働者に係る事項!R344&\"\"","v":""},null,null,null,null,null,null,null,{"$f":"労働者に係る事項!S344&\"\"","v":""}]
[null,"06",null,null,{"$f":"労働者に係る事項!B345&\"\"","v":""},null,null,null,null,null,{"$f":"労働者に係る事項!C345&\"\"","v":""},null,null,null,null,null,null,null,null,null,null,null,null,null,null,null,null,null,null,null,null,null,null,null,null,null,null,null,null,null,{"$f":"労働者に係る事項!D345&\"\"","v":""},null,null,null,null,null,null,null,{"$f":"労働者に係る事項!E345&\"\"","v":""},null,null,null,null,null,null,null,null,null,null,null,null,null,null,null,null,null,null,null,null,null,null,null,null,null,null,null,{"$f":"労働者に係る事項!F345&\"\"","v":""},null,null,null,null,null,null,{"$f":"労働者に係る事項!G345&\"\"","v":""},null,null,null,null,null,{"$f":"労働者に係る事項!H345&\"\"","v":""},null,null,null,null,null,{"$f":"労働者に係る事項!I345&\"\"","v":""},null,null,null,null,null,null,{"$f":"労働者に係る事項!J345&\"\"","v":""},null,null,null,null,null,null,null,null,null,{"$f":"労働者に係る事項!K345&\"\"","v":""},null,null,null,null,null,null,null,null,null,null,null,null,null,null,null,null,{"$f":"労働者に係る事項!L345&\"\"","v":""},null,null,null,null,null,{"$f":"労働者に係る事項!M345&\"\"","v":""},null,null,null,null,null,null,{"$f":"労働者に係る事項!N345&\"\"","v":""},null,null,null,null,null,null,{"$f":"IF(労働者に係る事項!O345=\"\",\"\",労働者に係る事項!O345)","v":""},null,null,null,null,null,null,null,null,null,null,null,null,null,null,null,null,null,null,{"$f":"IF(労働者に係る事項!P345=\"\",\"\",労働者に係る事項!P345)","v":""},null,null,null,null,null,null,null,null,null,null,null,null,null,{"$f":"IF(労働者に係る事項!Q345=\"\",\"\",労働者に係る事項!Q345)","v":""},null,null,null,null,null,null,null,null,null,null,null,null,null,null,null,null,null,null,null,{"$f":"労働者に係る事項!R345&\"\"","v":""},null,null,null,null,null,null,null,{"$f":"労働者に係る事項!S345&\"\"","v":""}]
[null,"07",null,null,{"$f":"労働者に係る事項!B346&\"\"","v":""},null,null,null,null,null,{"$f":"労働者に係る事項!C346&\"\"","v":""},null,null,null,null,null,null,null,null,null,null,null,null,null,null,null,null,null,null,null,null,null,null,null,null,null,null,null,null,null,{"$f":"労働者に係る事項!D346&\"\"","v":""},null,null,null,null,null,null,null,{"$f":"労働者に係る事項!E346&\"\"","v":""},null,null,null,null,null,null,null,null,null,null,null,null,null,null,null,null,null,null,null,null,null,null,null,null,null,null,null,{"$f":"労働者に係る事項!F346&\"\"","v":""},null,null,null,null,null,null,{"$f":"労働者に係る事項!G346&\"\"","v":""},null,null,null,null,null,{"$f":"労働者に係る事項!H346&\"\"","v":""},null,null,null,null,null,{"$f":"労働者に係る事項!I346&\"\"","v":""},null,null,null,null,null,null,{"$f":"労働者に係る事項!J346&\"\"","v":""},null,null,null,null,null,null,null,null,null,{"$f":"労働者に係る事項!K346&\"\"","v":""},null,null,null,null,null,null,null,null,null,null,null,null,null,null,null,null,{"$f":"労働者に係る事項!L346&\"\"","v":""},null,null,null,null,null,{"$f":"労働者に係る事項!M346&\"\"","v":""},null,null,null,null,null,null,{"$f":"労働者に係る事項!N346&\"\"","v":""},null,null,null,null,null,null,{"$f":"IF(労働者に係る事項!O346=\"\",\"\",労働者に係る事項!O346)","v":""},null,null,null,null,null,null,null,null,null,null,null,null,null,null,null,null,null,null,{"$f":"IF(労働者に係る事項!P346=\"\",\"\",労働者に係る事項!P346)","v":""},null,null,null,null,null,null,null,null,null,null,null,null,null,{"$f":"IF(労働者に係る事項!Q346=\"\",\"\",労働者に係る事項!Q346)","v":""},null,null,null,null,null,null,null,null,null,null,null,null,null,null,null,null,null,null,null,{"$f":"労働者に係る事項!R346&\"\"","v":""},null,null,null,null,null,null,null,{"$f":"労働者に係る事項!S346&\"\"","v":""}]
[null,"08",null,null,{"$f":"労働者に係る事項!B347&\"\"","v":""},null,null,null,null,null,{"$f":"労働者に係る事項!C347&\"\"","v":""},null,null,null,null,null,null,null,null,null,null,null,null,null,null,null,null,null,null,null,null,null,null,null,null,null,null,null,null,null,{"$f":"労働者に係る事項!D347&\"\"","v":""},null,null,null,null,null,null,null,{"$f":"労働者に係る事項!E347&\"\"","v":""},null,null,null,null,null,null,null,null,null,null,null,null,null,null,null,null,null,null,null,null,null,null,null,null,null,null,null,{"$f":"労働者に係る事項!F347&\"\"","v":""},null,null,null,null,null,null,{"$f":"労働者に係る事項!G347&\"\"","v":""},null,null,null,null,null,{"$f":"労働者に係る事項!H347&\"\"","v":""},null,null,null,null,null,{"$f":"労働者に係る事項!I347&\"\"","v":""},null,null,null,null,null,null,{"$f":"労働者に係る事項!J347&\"\"","v":""},null,null,null,null,null,null,null,null,null,{"$f":"労働者に係る事項!K347&\"\"","v":""},null,null,null,null,null,null,null,null,null,null,null,null,null,null,null,null,{"$f":"労働者に係る事項!L347&\"\"","v":""},null,null,null,null,null,{"$f":"労働者に係る事項!M347&\"\"","v":""},null,null,null,null,null,null,{"$f":"労働者に係る事項!N347&\"\"","v":""},null,null,null,null,null,null,{"$f":"IF(労働者に係る事項!O347=\"\",\"\",労働者に係る事項!O347)","v":""},null,null,null,null,null,null,null,null,null,null,null,null,null,null,null,null,null,null,{"$f":"IF(労働者に係る事項!P347=\"\",\"\",労働者に係る事項!P347)","v":""},null,null,null,null,null,null,null,null,null,null,null,null,null,{"$f":"IF(労働者に係る事項!Q347=\"\",\"\",労働者に係る事項!Q347)","v":""},null,null,null,null,null,null,null,null,null,null,null,null,null,null,null,null,null,null,null,{"$f":"労働者に係る事項!R347&\"\"","v":""},null,null,null,null,null,null,null,{"$f":"労働者に係る事項!S347&\"\"","v":""}]
[null,"09",null,null,{"$f":"労働者に係る事項!B348&\"\"","v":""},null,null,null,null,null,{"$f":"労働者に係る事項!C348&\"\"","v":""},null,null,null,null,null,null,null,null,null,null,null,null,null,null,null,null,null,null,null,null,null,null,null,null,null,null,null,null,null,{"$f":"労働者に係る事項!D348&\"\"","v":""},null,null,null,null,null,null,null,{"$f":"労働者に係る事項!E348&\"\"","v":""},null,null,null,null,null,null,null,null,null,null,null,null,null,null,null,null,null,null,null,null,null,null,null,null,null,null,null,{"$f":"労働者に係る事項!F348&\"\"","v":""},null,null,null,null,null,null,{"$f":"労働者に係る事項!G348&\"\"","v":""},null,null,null,null,null,{"$f":"労働者に係る事項!H348&\"\"","v":""},null,null,null,null,null,{"$f":"労働者に係る事項!I348&\"\"","v":""},null,null,null,null,null,null,{"$f":"労働者に係る事項!J348&\"\"","v":""},null,null,null,null,null,null,null,null,null,{"$f":"労働者に係る事項!K348&\"\"","v":""},null,null,null,null,null,null,null,null,null,null,null,null,null,null,null,null,{"$f":"労働者に係る事項!L348&\"\"","v":""},null,null,null,null,null,{"$f":"労働者に係る事項!M348&\"\"","v":""},null,null,null,null,null,null,{"$f":"労働者に係る事項!N348&\"\"","v":""},null,null,null,null,null,null,{"$f":"IF(労働者に係る事項!O348=\"\",\"\",労働者に係る事項!O348)","v":""},null,null,null,null,null,null,null,null,null,null,null,null,null,null,null,null,null,null,{"$f":"IF(労働者に係る事項!P348=\"\",\"\",労働者に係る事項!P348)","v":""},null,null,null,null,null,null,null,null,null,null,null,null,null,{"$f":"IF(労働者に係る事項!Q348=\"\",\"\",労働者に係る事項!Q348)","v":""},null,null,null,null,null,null,null,null,null,null,null,null,null,null,null,null,null,null,null,{"$f":"労働者に係る事項!R348&\"\"","v":""},null,null,null,null,null,null,null,{"$f":"労働者に係る事項!S348&\"\"","v":""}]
[null,"10",null,null,{"$f":"労働者に係る事項!B349&\"\"","v":""},null,null,null,null,null,{"$f":"労働者に係る事項!C349&\"\"","v":""},null,null,null,null,null,null,null,null,null,null,null,null,null,null,null,null,null,null,null,null,null,null,null,null,null,null,null,null,null,{"$f":"労働者に係る事項!D349&\"\"","v":""},null,null,null,null,null,null,null,{"$f":"労働者に係る事項!E349&\"\"","v":""},null,null,null,null,null,null,null,null,null,null,null,null,null,null,null,null,null,null,null,null,null,null,null,null,null,null,null,{"$f":"労働者に係る事項!F349&\"\"","v":""},null,null,null,null,null,null,{"$f":"労働者に係る事項!G349&\"\"","v":""},null,null,null,null,null,{"$f":"労働者に係る事項!H349&\"\"","v":""},null,null,null,null,null,{"$f":"労働者に係る事項!I349&\"\"","v":""},null,null,null,null,null,null,{"$f":"労働者に係る事項!J349&\"\"","v":""},null,null,null,null,null,null,null,null,null,{"$f":"労働者に係る事項!K349&\"\"","v":""},null,null,null,null,null,null,null,null,null,null,null,null,null,null,null,null,{"$f":"労働者に係る事項!L349&\"\"","v":""},null,null,null,null,null,{"$f":"労働者に係る事項!M349&\"\"","v":""},null,null,null,null,null,null,{"$f":"労働者に係る事項!N349&\"\"","v":""},null,null,null,null,null,null,{"$f":"IF(労働者に係る事項!O349=\"\",\"\",労働者に係る事項!O349)","v":""},null,null,null,null,null,null,null,null,null,null,null,null,null,null,null,null,null,null,{"$f":"IF(労働者に係る事項!P349=\"\",\"\",労働者に係る事項!P349)","v":""},null,null,null,null,null,null,null,null,null,null,null,null,null,{"$f":"IF(労働者に係る事項!Q349=\"\",\"\",労働者に係る事項!Q349)","v":""},null,null,null,null,null,null,null,null,null,null,null,null,null,null,null,null,null,null,null,{"$f":"労働者に係る事項!R349&\"\"","v":""},null,null,null,null,null,null,null,{"$f":"労働者に係る事項!S349&\"\"","v":""}]
[null,"11",null,null,{"$f":"労働者に係る事項!B350&\"\"","v":""},null,null,null,null,null,{"$f":"労働者に係る事項!C350&\"\"","v":""},null,null,null,null,null,null,null,null,null,null,null,null,null,null,null,null,null,null,null,null,null,null,null,null,null,null,null,null,null,{"$f":"労働者に係る事項!D350&\"\"","v":""},null,null,null,null,null,null,null,{"$f":"労働者に係る事項!E350&\"\"","v":""},null,null,null,null,null,null,null,null,null,null,null,null,null,null,null,null,null,null,null,null,null,null,null,null,null,null,null,{"$f":"労働者に係る事項!F350&\"\"","v":""},null,null,null,null,null,null,{"$f":"労働者に係る事項!G350&\"\"","v":""},null,null,null,null,null,{"$f":"労働者に係る事項!H350&\"\"","v":""},null,null,null,null,null,{"$f":"労働者に係る事項!I350&\"\"","v":""},null,null,null,null,null,null,{"$f":"労働者に係る事項!J350&\"\"","v":""},null,null,null,null,null,null,null,null,null,{"$f":"労働者に係る事項!K350&\"\"","v":""},null,null,null,null,null,null,null,null,null,null,null,null,null,null,null,null,{"$f":"労働者に係る事項!L350&\"\"","v":""},null,null,null,null,null,{"$f":"労働者に係る事項!M350&\"\"","v":""},null,null,null,null,null,null,{"$f":"労働者に係る事項!N350&\"\"","v":""},null,null,null,null,null,null,{"$f":"IF(労働者に係る事項!O350=\"\",\"\",労働者に係る事項!O350)","v":""},null,null,null,null,null,null,null,null,null,null,null,null,null,null,null,null,null,null,{"$f":"IF(労働者に係る事項!P350=\"\",\"\",労働者に係る事項!P350)","v":""},null,null,null,null,null,null,null,null,null,null,null,null,null,{"$f":"IF(労働者に係る事項!Q350=\"\",\"\",労働者に係る事項!Q350)","v":""},null,null,null,null,null,null,null,null,null,null,null,null,null,null,null,null,null,null,null,{"$f":"労働者に係る事項!R350&\"\"","v":""},null,null,null,null,null,null,null,{"$f":"労働者に係る事項!S350&\"\"","v":""}]
[null,"12",null,null,{"$f":"労働者に係る事項!B351&\"\"","v":""},null,null,null,null,null,{"$f":"労働者に係る事項!C351&\"\"","v":""},null,null,null,null,null,null,null,null,null,null,null,null,null,null,null,null,null,null,null,null,null,null,null,null,null,null,null,null,null,{"$f":"労働者に係る事項!D351&\"\"","v":""},null,null,null,null,null,null,null,{"$f":"労働者に係る事項!E351&\"\"","v":""},null,null,null,null,null,null,null,null,null,null,null,null,null,null,null,null,null,null,null,null,null,null,null,null,null,null,null,{"$f":"労働者に係る事項!F351&\"\"","v":""},null,null,null,null,null,null,{"$f":"労働者に係る事項!G351&\"\"","v":""},null,null,null,null,null,{"$f":"労働者に係る事項!H351&\"\"","v":""},null,null,null,null,null,{"$f":"労働者に係る事項!I351&\"\"","v":""},null,null,null,null,null,null,{"$f":"労働者に係る事項!J351&\"\"","v":""},null,null,null,null,null,null,null,null,null,{"$f":"労働者に係る事項!K351&\"\"","v":""},null,null,null,null,null,null,null,null,null,null,null,null,null,null,null,null,{"$f":"労働者に係る事項!L351&\"\"","v":""},null,null,null,null,null,{"$f":"労働者に係る事項!M351&\"\"","v":""},null,null,null,null,null,null,{"$f":"労働者に係る事項!N351&\"\"","v":""},null,null,null,null,null,null,{"$f":"IF(労働者に係る事項!O351=\"\",\"\",労働者に係る事項!O351)","v":""},null,null,null,null,null,null,null,null,null,null,null,null,null,null,null,null,null,null,{"$f":"IF(労働者に係る事項!P351=\"\",\"\",労働者に係る事項!P351)","v":""},null,null,null,null,null,null,null,null,null,null,null,null,null,{"$f":"IF(労働者に係る事項!Q351=\"\",\"\",労働者に係る事項!Q351)","v":""},null,null,null,null,null,null,null,null,null,null,null,null,null,null,null,null,null,null,null,{"$f":"労働者に係る事項!R351&\"\"","v":""},null,null,null,null,null,null,null,{"$f":"労働者に係る事項!S351&\"\"","v":""}]
[null,"13",null,null,{"$f":"労働者に係る事項!B352&\"\"","v":""},null,null,null,null,null,{"$f":"労働者に係る事項!C352&\"\"","v":""},null,null,null,null,null,null,null,null,null,null,null,null,null,null,null,null,null,null,null,null,null,null,null,null,null,null,null,null,null,{"$f":"労働者に係る事項!D352&\"\"","v":""},null,null,null,null,null,null,null,{"$f":"労働者に係る事項!E352&\"\"","v":""},null,null,null,null,null,null,null,null,null,null,null,null,null,null,null,null,null,null,null,null,null,null,null,null,null,null,null,{"$f":"労働者に係る事項!F352&\"\"","v":""},null,null,null,null,null,null,{"$f":"労働者に係る事項!G352&\"\"","v":""},null,null,null,null,null,{"$f":"労働者に係る事項!H352&\"\"","v":""},null,null,null,null,null,{"$f":"労働者に係る事項!I352&\"\"","v":""},null,null,null,null,null,null,{"$f":"労働者に係る事項!J352&\"\"","v":""},null,null,null,null,null,null,null,null,null,{"$f":"労働者に係る事項!K352&\"\"","v":""},null,null,null,null,null,null,null,null,null,null,null,null,null,null,null,null,{"$f":"労働者に係る事項!L352&\"\"","v":""},null,null,null,null,null,{"$f":"労働者に係る事項!M352&\"\"","v":""},null,null,null,null,null,null,{"$f":"労働者に係る事項!N352&\"\"","v":""},null,null,null,null,null,null,{"$f":"IF(労働者に係る事項!O352=\"\",\"\",労働者に係る事項!O352)","v":""},null,null,null,null,null,null,null,null,null,null,null,null,null,null,null,null,null,null,{"$f":"IF(労働者に係る事項!P352=\"\",\"\",労働者に係る事項!P352)","v":""},null,null,null,null,null,null,null,null,null,null,null,null,null,{"$f":"IF(労働者に係る事項!Q352=\"\",\"\",労働者に係る事項!Q352)","v":""},null,null,null,null,null,null,null,null,null,null,null,null,null,null,null,null,null,null,null,{"$f":"労働者に係る事項!R352&\"\"","v":""},null,null,null,null,null,null,null,{"$f":"労働者に係る事項!S352&\"\"","v":""}]
[null,"14",null,null,{"$f":"労働者に係る事項!B353&\"\"","v":""},null,null,null,null,null,{"$f":"労働者に係る事項!C353&\"\"","v":""},null,null,null,null,null,null,null,null,null,null,null,null,null,null,null,null,null,null,null,null,null,null,null,null,null,null,null,null,null,{"$f":"労働者に係る事項!D353&\"\"","v":""},null,null,null,null,null,null,null,{"$f":"労働者に係る事項!E353&\"\"","v":""},null,null,null,null,null,null,null,null,null,null,null,null,null,null,null,null,null,null,null,null,null,null,null,null,null,null,null,{"$f":"労働者に係る事項!F353&\"\"","v":""},null,null,null,null,null,null,{"$f":"労働者に係る事項!G353&\"\"","v":""},null,null,null,null,null,{"$f":"労働者に係る事項!H353&\"\"","v":""},null,null,null,null,null,{"$f":"労働者に係る事項!I353&\"\"","v":""},null,null,null,null,null,null,{"$f":"労働者に係る事項!J353&\"\"","v":""},null,null,null,null,null,null,null,null,null,{"$f":"労働者に係る事項!K353&\"\"","v":""},null,null,null,null,null,null,null,null,null,null,null,null,null,null,null,null,{"$f":"労働者に係る事項!L353&\"\"","v":""},null,null,null,null,null,{"$f":"労働者に係る事項!M353&\"\"","v":""},null,null,null,null,null,null,{"$f":"労働者に係る事項!N353&\"\"","v":""},null,null,null,null,null,null,{"$f":"IF(労働者に係る事項!O353=\"\",\"\",労働者に係る事項!O353)","v":""},null,null,null,null,null,null,null,null,null,null,null,null,null,null,null,null,null,null,{"$f":"IF(労働者に係る事項!P353=\"\",\"\",労働者に係る事項!P353)","v":""},null,null,null,null,null,null,null,null,null,null,null,null,null,{"$f":"IF(労働者に係る事項!Q353=\"\",\"\",労働者に係る事項!Q353)","v":""},null,null,null,null,null,null,null,null,null,null,null,null,null,null,null,null,null,null,null,{"$f":"労働者に係る事項!R353&\"\"","v":""},null,null,null,null,null,null,null,{"$f":"労働者に係る事項!S353&\"\"","v":""}]
[null,"15",null,null,{"$f":"労働者に係る事項!B354&\"\"","v":""},null,null,null,null,null,{"$f":"労働者に係る事項!C354&\"\"","v":""},null,null,null,null,null,null,null,null,null,null,null,null,null,null,null,null,null,null,null,null,null,null,null,null,null,null,null,null,null,{"$f":"労働者に係る事項!D354&\"\"","v":""},null,null,null,null,null,null,null,{"$f":"労働者に係る事項!E354&\"\"","v":""},null,null,null,null,null,null,null,null,null,null,null,null,null,null,null,null,null,null,null,null,null,null,null,null,null,null,null,{"$f":"労働者に係る事項!F354&\"\"","v":""},null,null,null,null,null,null,{"$f":"労働者に係る事項!G354&\"\"","v":""},null,null,null,null,null,{"$f":"労働者に係る事項!H354&\"\"","v":""},null,null,null,null,null,{"$f":"労働者に係る事項!I354&\"\"","v":""},null,null,null,null,null,null,{"$f":"労働者に係る事項!J354&\"\"","v":""},null,null,null,null,null,null,null,null,null,{"$f":"労働者に係る事項!K354&\"\"","v":""},null,null,null,null,null,null,null,null,null,null,null,null,null,null,null,null,{"$f":"労働者に係る事項!L354&\"\"","v":""},null,null,null,null,null,{"$f":"労働者に係る事項!M354&\"\"","v":""},null,null,null,null,null,null,{"$f":"労働者に係る事項!N354&\"\"","v":""},null,null,null,null,null,null,{"$f":"IF(労働者に係る事項!O354=\"\",\"\",労働者に係る事項!O354)","v":""},null,null,null,null,null,null,null,null,null,null,null,null,null,null,null,null,null,null,{"$f":"IF(労働者に係る事項!P354=\"\",\"\",労働者に係る事項!P354)","v":""},null,null,null,null,null,null,null,null,null,null,null,null,null,{"$f":"IF(労働者に係る事項!Q354=\"\",\"\",労働者に係る事項!Q354)","v":""},null,null,null,null,null,null,null,null,null,null,null,null,null,null,null,null,null,null,null,{"$f":"労働者に係る事項!R354&\"\"","v":""},null,null,null,null,null,null,null,{"$f":"労働者に係る事項!S354&\"\"","v":""}]
[null,"16",null,null,{"$f":"労働者に係る事項!B355&\"\"","v":""},null,null,null,null,null,{"$f":"労働者に係る事項!C355&\"\"","v":""},null,null,null,null,null,null,null,null,null,null,null,null,null,null,null,null,null,null,null,null,null,null,null,null,null,null,null,null,null,{"$f":"労働者に係る事項!D355&\"\"","v":""},null,null,null,null,null,null,null,{"$f":"労働者に係る事項!E355&\"\"","v":""},null,null,null,null,null,null,null,null,null,null,null,null,null,null,null,null,null,null,null,null,null,null,null,null,null,null,null,{"$f":"労働者に係る事項!F355&\"\"","v":""},null,null,null,null,null,null,{"$f":"労働者に係る事項!G355&\"\"","v":""},null,null,null,null,null,{"$f":"労働者に係る事項!H355&\"\"","v":""},null,null,null,null,null,{"$f":"労働者に係る事項!I355&\"\"","v":""},null,null,null,null,null,null,{"$f":"労働者に係る事項!J355&\"\"","v":""},null,null,null,null,null,null,null,null,null,{"$f":"労働者に係る事項!K355&\"\"","v":""},null,null,null,null,null,null,null,null,null,null,null,null,null,null,null,null,{"$f":"労働者に係る事項!L355&\"\"","v":""},null,null,null,null,null,{"$f":"労働者に係る事項!M355&\"\"","v":""},null,null,null,null,null,null,{"$f":"労働者に係る事項!N355&\"\"","v":""},null,null,null,null,null,null,{"$f":"IF(労働者に係る事項!O355=\"\",\"\",労働者に係る事項!O355)","v":""},null,null,null,null,null,null,null,null,null,null,null,null,null,null,null,null,null,null,{"$f":"IF(労働者に係る事項!P355=\"\",\"\",労働者に係る事項!P355)","v":""},null,null,null,null,null,null,null,null,null,null,null,null,null,{"$f":"IF(労働者に係る事項!Q355=\"\",\"\",労働者に係る事項!Q355)","v":""},null,null,null,null,null,null,null,null,null,null,null,null,null,null,null,null,null,null,null,{"$f":"労働者に係る事項!R355&\"\"","v":""},null,null,null,null,null,null,null,{"$f":"労働者に係る事項!S355&\"\"","v":""}]
[null,"17",null,null,{"$f":"労働者に係る事項!B356&\"\"","v":""},null,null,null,null,null,{"$f":"労働者に係る事項!C356&\"\"","v":""},null,null,null,null,null,null,null,null,null,null,null,null,null,null,null,null,null,null,null,null,null,null,null,null,null,null,null,null,null,{"$f":"労働者に係る事項!D356&\"\"","v":""},null,null,null,null,null,null,null,{"$f":"労働者に係る事項!E356&\"\"","v":""},null,null,null,null,null,null,null,null,null,null,null,null,null,null,null,null,null,null,null,null,null,null,null,null,null,null,null,{"$f":"労働者に係る事項!F356&\"\"","v":""},null,null,null,null,null,null,{"$f":"労働者に係る事項!G356&\"\"","v":""},null,null,null,null,null,{"$f":"労働者に係る事項!H356&\"\"","v":""},null,null,null,null,null,{"$f":"労働者に係る事項!I356&\"\"","v":""},null,null,null,null,null,null,{"$f":"労働者に係る事項!J356&\"\"","v":""},null,null,null,null,null,null,null,null,null,{"$f":"労働者に係る事項!K356&\"\"","v":""},null,null,null,null,null,null,null,null,null,null,null,null,null,null,null,null,{"$f":"労働者に係る事項!L356&\"\"","v":""},null,null,null,null,null,{"$f":"労働者に係る事項!M356&\"\"","v":""},null,null,null,null,null,null,{"$f":"労働者に係る事項!N356&\"\"","v":""},null,null,null,null,null,null,{"$f":"IF(労働者に係る事項!O356=\"\",\"\",労働者に係る事項!O356)","v":""},null,null,null,null,null,null,null,null,null,null,null,null,null,null,null,null,null,null,{"$f":"IF(労働者に係る事項!P356=\"\",\"\",労働者に係る事項!P356)","v":""},null,null,null,null,null,null,null,null,null,null,null,null,null,{"$f":"IF(労働者に係る事項!Q356=\"\",\"\",労働者に係る事項!Q356)","v":""},null,null,null,null,null,null,null,null,null,null,null,null,null,null,null,null,null,null,null,{"$f":"労働者に係る事項!R356&\"\"","v":""},null,null,null,null,null,null,null,{"$f":"労働者に係る事項!S356&\"\"","v":""}]
[null,"18",null,null,{"$f":"労働者に係る事項!B357&\"\"","v":""},null,null,null,null,null,{"$f":"労働者に係る事項!C357&\"\"","v":""},null,null,null,null,null,null,null,null,null,null,null,null,null,null,null,null,null,null,null,null,null,null,null,null,null,null,null,null,null,{"$f":"労働者に係る事項!D357&\"\"","v":""},null,null,null,null,null,null,null,{"$f":"労働者に係る事項!E357&\"\"","v":""},null,null,null,null,null,null,null,null,null,null,null,null,null,null,null,null,null,null,null,null,null,null,null,null,null,null,null,{"$f":"労働者に係る事項!F357&\"\"","v":""},null,null,null,null,null,null,{"$f":"労働者に係る事項!G357&\"\"","v":""},null,null,null,null,null,{"$f":"労働者に係る事項!H357&\"\"","v":""},null,null,null,null,null,{"$f":"労働者に係る事項!I357&\"\"","v":""},null,null,null,null,null,null,{"$f":"労働者に係る事項!J357&\"\"","v":""},null,null,null,null,null,null,null,null,null,{"$f":"労働者に係る事項!K357&\"\"","v":""},null,null,null,null,null,null,null,null,null,null,null,null,null,null,null,null,{"$f":"労働者に係る事項!L357&\"\"","v":""},null,null,null,null,null,{"$f":"労働者に係る事項!M357&\"\"","v":""},null,null,null,null,null,null,{"$f":"労働者に係る事項!N357&\"\"","v":""},null,null,null,null,null,null,{"$f":"IF(労働者に係る事項!O357=\"\",\"\",労働者に係る事項!O357)","v":""},null,null,null,null,null,null,null,null,null,null,null,null,null,null,null,null,null,null,{"$f":"IF(労働者に係る事項!P357=\"\",\"\",労働者に係る事項!P357)","v":""},null,null,null,null,null,null,null,null,null,null,null,null,null,{"$f":"IF(労働者に係る事項!Q357=\"\",\"\",労働者に係る事項!Q357)","v":""},null,null,null,null,null,null,null,null,null,null,null,null,null,null,null,null,null,null,null,{"$f":"労働者に係る事項!R357&\"\"","v":""},null,null,null,null,null,null,null,{"$f":"労働者に係る事項!S357&\"\"","v":""}]
[null,"19",null,null,{"$f":"労働者に係る事項!B358&\"\"","v":""},null,null,null,null,null,{"$f":"労働者に係る事項!C358&\"\"","v":""},null,null,null,null,null,null,null,null,null,null,null,null,null,null,null,null,null,null,null,null,null,null,null,null,null,null,null,null,null,{"$f":"労働者に係る事項!D358&\"\"","v":""},null,null,null,null,null,null,null,{"$f":"労働者に係る事項!E358&\"\"","v":""},null,null,null,null,null,null,null,null,null,null,null,null,null,null,null,null,null,null,null,null,null,null,null,null,null,null,null,{"$f":"労働者に係る事項!F358&\"\"","v":""},null,null,null,null,null,null,{"$f":"労働者に係る事項!G358&\"\"","v":""},null,null,null,null,null,{"$f":"労働者に係る事項!H358&\"\"","v":""},null,null,null,null,null,{"$f":"労働者に係る事項!I358&\"\"","v":""},null,null,null,null,null,null,{"$f":"労働者に係る事項!J358&\"\"","v":""},null,null,null,null,null,null,null,null,null,{"$f":"労働者に係る事項!K358&\"\"","v":""},null,null,null,null,null,null,null,null,null,null,null,null,null,null,null,null,{"$f":"労働者に係る事項!L358&\"\"","v":""},null,null,null,null,null,{"$f":"労働者に係る事項!M358&\"\"","v":""},null,null,null,null,null,null,{"$f":"労働者に係る事項!N358&\"\"","v":""},null,null,null,null,null,null,{"$f":"IF(労働者に係る事項!O358=\"\",\"\",労働者に係る事項!O358)","v":""},null,null,null,null,null,null,null,null,null,null,null,null,null,null,null,null,null,null,{"$f":"IF(労働者に係る事項!P358=\"\",\"\",労働者に係る事項!P358)","v":""},null,null,null,null,null,null,null,null,null,null,null,null,null,{"$f":"IF(労働者に係る事項!Q358=\"\",\"\",労働者に係る事項!Q358)","v":""},null,null,null,null,null,null,null,null,null,null,null,null,null,null,null,null,null,null,null,{"$f":"労働者に係る事項!R358&\"\"","v":""},null,null,null,null,null,null,null,{"$f":"労働者に係る事項!S358&\"\"","v":""}]
[null,"20",null,null,{"$f":"労働者に係る事項!B359&\"\"","v":""},null,null,null,null,null,{"$f":"労働者に係る事項!C359&\"\"","v":""},null,null,null,null,null,null,null,null,null,null,null,null,null,null,null,null,null,null,null,null,null,null,null,null,null,null,null,null,null,{"$f":"労働者に係る事項!D359&\"\"","v":""},null,null,null,null,null,null,null,{"$f":"労働者に係る事項!E359&\"\"","v":""},null,null,null,null,null,null,null,null,null,null,null,null,null,null,null,null,null,null,null,null,null,null,null,null,null,null,null,{"$f":"労働者に係る事項!F359&\"\"","v":""},null,null,null,null,null,null,{"$f":"労働者に係る事項!G359&\"\"","v":""},null,null,null,null,null,{"$f":"労働者に係る事項!H359&\"\"","v":""},null,null,null,null,null,{"$f":"労働者に係る事項!I359&\"\"","v":""},null,null,null,null,null,null,{"$f":"労働者に係る事項!J359&\"\"","v":""},null,null,null,null,null,null,null,null,null,{"$f":"労働者に係る事項!K359&\"\"","v":""},null,null,null,null,null,null,null,null,null,null,null,null,null,null,null,null,{"$f":"労働者に係る事項!L359&\"\"","v":""},null,null,null,null,null,{"$f":"労働者に係る事項!M359&\"\"","v":""},null,null,null,null,null,null,{"$f":"労働者に係る事項!N359&\"\"","v":""},null,null,null,null,null,null,{"$f":"IF(労働者に係る事項!O359=\"\",\"\",労働者に係る事項!O359)","v":""},null,null,null,null,null,null,null,null,null,null,null,null,null,null,null,null,null,null,{"$f":"IF(労働者に係る事項!P359=\"\",\"\",労働者に係る事項!P359)","v":""},null,null,null,null,null,null,null,null,null,null,null,null,null,{"$f":"IF(労働者に係る事項!Q359=\"\",\"\",労働者に係る事項!Q359)","v":""},null,null,null,null,null,null,null,null,null,null,null,null,null,null,null,null,null,null,null,{"$f":"労働者に係る事項!R359&\"\"","v":""},null,null,null,null,null,null,null,{"$f":"労働者に係る事項!S359&\"\"","v":""}]
[null,"21",null,null,{"$f":"労働者に係る事項!B360&\"\"","v":""},null,null,null,null,null,{"$f":"労働者に係る事項!C360&\"\"","v":""},null,null,null,null,null,null,null,null,null,null,null,null,null,null,null,null,null,null,null,null,null,null,null,null,null,null,null,null,null,{"$f":"労働者に係る事項!D360&\"\"","v":""},null,null,null,null,null,null,null,{"$f":"労働者に係る事項!E360&\"\"","v":""},null,null,null,null,null,null,null,null,null,null,null,null,null,null,null,null,null,null,null,null,null,null,null,null,null,null,null,{"$f":"労働者に係る事項!F360&\"\"","v":""},null,null,null,null,null,null,{"$f":"労働者に係る事項!G360&\"\"","v":""},null,null,null,null,null,{"$f":"労働者に係る事項!H360&\"\"","v":""},null,null,null,null,null,{"$f":"労働者に係る事項!I360&\"\"","v":""},null,null,null,null,null,null,{"$f":"労働者に係る事項!J360&\"\"","v":""},null,null,null,null,null,null,null,null,null,{"$f":"労働者に係る事項!K360&\"\"","v":""},null,null,null,null,null,null,null,null,null,null,null,null,null,null,null,null,{"$f":"労働者に係る事項!L360&\"\"","v":""},null,null,null,null,null,{"$f":"労働者に係る事項!M360&\"\"","v":""},null,null,null,null,null,null,{"$f":"労働者に係る事項!N360&\"\"","v":""},null,null,null,null,null,null,{"$f":"IF(労働者に係る事項!O360=\"\",\"\",労働者に係る事項!O360)","v":""},null,null,null,null,null,null,null,null,null,null,null,null,null,null,null,null,null,null,{"$f":"IF(労働者に係る事項!P360=\"\",\"\",労働者に係る事項!P360)","v":""},null,null,null,null,null,null,null,null,null,null,null,null,null,{"$f":"IF(労働者に係る事項!Q360=\"\",\"\",労働者に係る事項!Q360)","v":""},null,null,null,null,null,null,null,null,null,null,null,null,null,null,null,null,null,null,null,{"$f":"労働者に係る事項!R360&\"\"","v":""},null,null,null,null,null,null,null,{"$f":"労働者に係る事項!S360&\"\"","v":""}]
[null,"22",null,null,{"$f":"労働者に係る事項!B361&\"\"","v":""},null,null,null,null,null,{"$f":"労働者に係る事項!C361&\"\"","v":""},null,null,null,null,null,null,null,null,null,null,null,null,null,null,null,null,null,null,null,null,null,null,null,null,null,null,null,null,null,{"$f":"労働者に係る事項!D361&\"\"","v":""},null,null,null,null,null,null,null,{"$f":"労働者に係る事項!E361&\"\"","v":""},null,null,null,null,null,null,null,null,null,null,null,null,null,null,null,null,null,null,null,null,null,null,null,null,null,null,null,{"$f":"労働者に係る事項!F361&\"\"","v":""},null,null,null,null,null,null,{"$f":"労働者に係る事項!G361&\"\"","v":""},null,null,null,null,null,{"$f":"労働者に係る事項!H361&\"\"","v":""},null,null,null,null,null,{"$f":"労働者に係る事項!I361&\"\"","v":""},null,null,null,null,null,null,{"$f":"労働者に係る事項!J361&\"\"","v":""},null,null,null,null,null,null,null,null,null,{"$f":"労働者に係る事項!K361&\"\"","v":""},null,null,null,null,null,null,null,null,null,null,null,null,null,null,null,null,{"$f":"労働者に係る事項!L361&\"\"","v":""},null,null,null,null,null,{"$f":"労働者に係る事項!M361&\"\"","v":""},null,null,null,null,null,null,{"$f":"労働者に係る事項!N361&\"\"","v":""},null,null,null,null,null,null,{"$f":"IF(労働者に係る事項!O361=\"\",\"\",労働者に係る事項!O361)","v":""},null,null,null,null,null,null,null,null,null,null,null,null,null,null,null,null,null,null,{"$f":"IF(労働者に係る事項!P361=\"\",\"\",労働者に係る事項!P361)","v":""},null,null,null,null,null,null,null,null,null,null,null,null,null,{"$f":"IF(労働者に係る事項!Q361=\"\",\"\",労働者に係る事項!Q361)","v":""},null,null,null,null,null,null,null,null,null,null,null,null,null,null,null,null,null,null,null,{"$f":"労働者に係る事項!R361&\"\"","v":""},null,null,null,null,null,null,null,{"$f":"労働者に係る事項!S361&\"\"","v":""}]
[null,"23",null,null,{"$f":"労働者に係る事項!B362&\"\"","v":""},null,null,null,null,null,{"$f":"労働者に係る事項!C362&\"\"","v":""},null,null,null,null,null,null,null,null,null,null,null,null,null,null,null,null,null,null,null,null,null,null,null,null,null,null,null,null,null,{"$f":"労働者に係る事項!D362&\"\"","v":""},null,null,null,null,null,null,null,{"$f":"労働者に係る事項!E362&\"\"","v":""},null,null,null,null,null,null,null,null,null,null,null,null,null,null,null,null,null,null,null,null,null,null,null,null,null,null,null,{"$f":"労働者に係る事項!F362&\"\"","v":""},null,null,null,null,null,null,{"$f":"労働者に係る事項!G362&\"\"","v":""},null,null,null,null,null,{"$f":"労働者に係る事項!H362&\"\"","v":""},null,null,null,null,null,{"$f":"労働者に係る事項!I362&\"\"","v":""},null,null,null,null,null,null,{"$f":"労働者に係る事項!J362&\"\"","v":""},null,null,null,null,null,null,null,null,null,{"$f":"労働者に係る事項!K362&\"\"","v":""},null,null,null,null,null,null,null,null,null,null,null,null,null,null,null,null,{"$f":"労働者に係る事項!L362&\"\"","v":""},null,null,null,null,null,{"$f":"労働者に係る事項!M362&\"\"","v":""},null,null,null,null,null,null,{"$f":"労働者に係る事項!N362&\"\"","v":""},null,null,null,null,null,null,{"$f":"IF(労働者に係る事項!O362=\"\",\"\",労働者に係る事項!O362)","v":""},null,null,null,null,null,null,null,null,null,null,null,null,null,null,null,null,null,null,{"$f":"IF(労働者に係る事項!P362=\"\",\"\",労働者に係る事項!P362)","v":""},null,null,null,null,null,null,null,null,null,null,null,null,null,{"$f":"IF(労働者に係る事項!Q362=\"\",\"\",労働者に係る事項!Q362)","v":""},null,null,null,null,null,null,null,null,null,null,null,null,null,null,null,null,null,null,null,{"$f":"労働者に係る事項!R362&\"\"","v":""},null,null,null,null,null,null,null,{"$f":"労働者に係る事項!S362&\"\"","v":""}]
[null,"24",null,null,{"$f":"労働者に係る事項!B363&\"\"","v":""},null,null,null,null,null,{"$f":"労働者に係る事項!C363&\"\"","v":""},null,null,null,null,null,null,null,null,null,null,null,null,null,null,null,null,null,null,null,null,null,null,null,null,null,null,null,null,null,{"$f":"労働者に係る事項!D363&\"\"","v":""},null,null,null,null,null,null,null,{"$f":"労働者に係る事項!E363&\"\"","v":""},null,null,null,null,null,null,null,null,null,null,null,null,null,null,null,null,null,null,null,null,null,null,null,null,null,null,null,{"$f":"労働者に係る事項!F363&\"\"","v":""},null,null,null,null,null,null,{"$f":"労働者に係る事項!G363&\"\"","v":""},null,null,null,null,null,{"$f":"労働者に係る事項!H363&\"\"","v":""},null,null,null,null,null,{"$f":"労働者に係る事項!I363&\"\"","v":""},null,null,null,null,null,null,{"$f":"労働者に係る事項!J363&\"\"","v":""},null,null,null,null,null,null,null,null,null,{"$f":"労働者に係る事項!K363&\"\"","v":""},null,null,null,null,null,null,null,null,null,null,null,null,null,null,null,null,{"$f":"労働者に係る事項!L363&\"\"","v":""},null,null,null,null,null,{"$f":"労働者に係る事項!M363&\"\"","v":""},null,null,null,null,null,null,{"$f":"労働者に係る事項!N363&\"\"","v":""},null,null,null,null,null,null,{"$f":"IF(労働者に係る事項!O363=\"\",\"\",労働者に係る事項!O363)","v":""},null,null,null,null,null,null,null,null,null,null,null,null,null,null,null,null,null,null,{"$f":"IF(労働者に係る事項!P363=\"\",\"\",労働者に係る事項!P363)","v":""},null,null,null,null,null,null,null,null,null,null,null,null,null,{"$f":"IF(労働者に係る事項!Q363=\"\",\"\",労働者に係る事項!Q363)","v":""},null,null,null,null,null,null,null,null,null,null,null,null,null,null,null,null,null,null,null,{"$f":"労働者に係る事項!R363&\"\"","v":""},null,null,null,null,null,null,null,{"$f":"労働者に係る事項!S363&\"\"","v":""}]
[null,"25",null,null,{"$f":"労働者に係る事項!B364&\"\"","v":""},null,null,null,null,null,{"$f":"労働者に係る事項!C364&\"\"","v":""},null,null,null,null,null,null,null,null,null,null,null,null,null,null,null,null,null,null,null,null,null,null,null,null,null,null,null,null,null,{"$f":"労働者に係る事項!D364&\"\"","v":""},null,null,null,null,null,null,null,{"$f":"労働者に係る事項!E364&\"\"","v":""},null,null,null,null,null,null,null,null,null,null,null,null,null,null,null,null,null,null,null,null,null,null,null,null,null,null,null,{"$f":"労働者に係る事項!F364&\"\"","v":""},null,null,null,null,null,null,{"$f":"労働者に係る事項!G364&\"\"","v":""},null,null,null,null,null,{"$f":"労働者に係る事項!H364&\"\"","v":""},null,null,null,null,null,{"$f":"労働者に係る事項!I364&\"\"","v":""},null,null,null,null,null,null,{"$f":"労働者に係る事項!J364&\"\"","v":""},null,null,null,null,null,null,null,null,null,{"$f":"労働者に係る事項!K364&\"\"","v":""},null,null,null,null,null,null,null,null,null,null,null,null,null,null,null,null,{"$f":"労働者に係る事項!L364&\"\"","v":""},null,null,null,null,null,{"$f":"労働者に係る事項!M364&\"\"","v":""},null,null,null,null,null,null,{"$f":"労働者に係る事項!N364&\"\"","v":""},null,null,null,null,null,null,{"$f":"IF(労働者に係る事項!O364=\"\",\"\",労働者に係る事項!O364)","v":""},null,null,null,null,null,null,null,null,null,null,null,null,null,null,null,null,null,null,{"$f":"IF(労働者に係る事項!P364=\"\",\"\",労働者に係る事項!P364)","v":""},null,null,null,null,null,null,null,null,null,null,null,null,null,{"$f":"IF(労働者に係る事項!Q364=\"\",\"\",労働者に係る事項!Q364)","v":""},null,null,null,null,null,null,null,null,null,null,null,null,null,null,null,null,null,null,null,{"$f":"労働者に係る事項!R364&\"\"","v":""},null,null,null,null,null,null,null,{"$f":"労働者に係る事項!S364&\"\"","v":""}]
[null,"26",null,null,{"$f":"労働者に係る事項!B365&\"\"","v":""},null,null,null,null,null,{"$f":"労働者に係る事項!C365&\"\"","v":""},null,null,null,null,null,null,null,null,null,null,null,null,null,null,null,null,null,null,null,null,null,null,null,null,null,null,null,null,null,{"$f":"労働者に係る事項!D365&\"\"","v":""},null,null,null,null,null,null,null,{"$f":"労働者に係る事項!E365&\"\"","v":""},null,null,null,null,null,null,null,null,null,null,null,null,null,null,null,null,null,null,null,null,null,null,null,null,null,null,null,{"$f":"労働者に係る事項!F365&\"\"","v":""},null,null,null,null,null,null,{"$f":"労働者に係る事項!G365&\"\"","v":""},null,null,null,null,null,{"$f":"労働者に係る事項!H365&\"\"","v":""},null,null,null,null,null,{"$f":"労働者に係る事項!I365&\"\"","v":""},null,null,null,null,null,null,{"$f":"労働者に係る事項!J365&\"\"","v":""},null,null,null,null,null,null,null,null,null,{"$f":"労働者に係る事項!K365&\"\"","v":""},null,null,null,null,null,null,null,null,null,null,null,null,null,null,null,null,{"$f":"労働者に係る事項!L365&\"\"","v":""},null,null,null,null,null,{"$f":"労働者に係る事項!M365&\"\"","v":""},null,null,null,null,null,null,{"$f":"労働者に係る事項!N365&\"\"","v":""},null,null,null,null,null,null,{"$f":"IF(労働者に係る事項!O365=\"\",\"\",労働者に係る事項!O365)","v":""},null,null,null,null,null,null,null,null,null,null,null,null,null,null,null,null,null,null,{"$f":"IF(労働者に係る事項!P365=\"\",\"\",労働者に係る事項!P365)","v":""},null,null,null,null,null,null,null,null,null,null,null,null,null,{"$f":"IF(労働者に係る事項!Q365=\"\",\"\",労働者に係る事項!Q365)","v":""},null,null,null,null,null,null,null,null,null,null,null,null,null,null,null,null,null,null,null,{"$f":"労働者に係る事項!R365&\"\"","v":""},null,null,null,null,null,null,null,{"$f":"労働者に係る事項!S365&\"\"","v":""}]
[null,"27",null,null,{"$f":"労働者に係る事項!B366&\"\"","v":""},null,null,null,null,null,{"$f":"労働者に係る事項!C366&\"\"","v":""},null,null,null,null,null,null,null,null,null,null,null,null,null,null,null,null,null,null,null,null,null,null,null,null,null,null,null,null,null,{"$f":"労働者に係る事項!D366&\"\"","v":""},null,null,null,null,null,null,null,{"$f":"労働者に係る事項!E366&\"\"","v":""},null,null,null,null,null,null,null,null,null,null,null,null,null,null,null,null,null,null,null,null,null,null,null,null,null,null,null,{"$f":"労働者に係る事項!F366&\"\"","v":""},null,null,null,null,null,null,{"$f":"労働者に係る事項!G366&\"\"","v":""},null,null,null,null,null,{"$f":"労働者に係る事項!H366&\"\"","v":""},null,null,null,null,null,{"$f":"労働者に係る事項!I366&\"\"","v":""},null,null,null,null,null,null,{"$f":"労働者に係る事項!J366&\"\"","v":""},null,null,null,null,null,null,null,null,null,{"$f":"労働者に係る事項!K366&\"\"","v":""},null,null,null,null,null,null,null,null,null,null,null,null,null,null,null,null,{"$f":"労働者に係る事項!L366&\"\"","v":""},null,null,null,null,null,{"$f":"労働者に係る事項!M366&\"\"","v":""},null,null,null,null,null,null,{"$f":"労働者に係る事項!N366&\"\"","v":""},null,null,null,null,null,null,{"$f":"IF(労働者に係る事項!O366=\"\",\"\",労働者に係る事項!O366)","v":""},null,null,null,null,null,null,null,null,null,null,null,null,null,null,null,null,null,null,{"$f":"IF(労働者に係る事項!P366=\"\",\"\",労働者に係る事項!P366)","v":""},null,null,null,null,null,null,null,null,null,null,null,null,null,{"$f":"IF(労働者に係る事項!Q366=\"\",\"\",労働者に係る事項!Q366)","v":""},null,null,null,null,null,null,null,null,null,null,null,null,null,null,null,null,null,null,null,{"$f":"労働者に係る事項!R366&\"\"","v":""},null,null,null,null,null,null,null,{"$f":"労働者に係る事項!S366&\"\"","v":""}]
[null,"28",null,null,{"$f":"労働者に係る事項!B367&\"\"","v":""},null,null,null,null,null,{"$f":"労働者に係る事項!C367&\"\"","v":""},null,null,null,null,null,null,null,null,null,null,null,null,null,null,null,null,null,null,null,null,null,null,null,null,null,null,null,null,null,{"$f":"労働者に係る事項!D367&\"\"","v":""},null,null,null,null,null,null,null,{"$f":"労働者に係る事項!E367&\"\"","v":""},null,null,null,null,null,null,null,null,null,null,null,null,null,null,null,null,null,null,null,null,null,null,null,null,null,null,null,{"$f":"労働者に係る事項!F367&\"\"","v":""},null,null,null,null,null,null,{"$f":"労働者に係る事項!G367&\"\"","v":""},null,null,null,null,null,{"$f":"労働者に係る事項!H367&\"\"","v":""},null,null,null,null,null,{"$f":"労働者に係る事項!I367&\"\"","v":""},null,null,null,null,null,null,{"$f":"労働者に係る事項!J367&\"\"","v":""},null,null,null,null,null,null,null,null,null,{"$f":"労働者に係る事項!K367&\"\"","v":""},null,null,null,null,null,null,null,null,null,null,null,null,null,null,null,null,{"$f":"労働者に係る事項!L367&\"\"","v":""},null,null,null,null,null,{"$f":"労働者に係る事項!M367&\"\"","v":""},null,null,null,null,null,null,{"$f":"労働者に係る事項!N367&\"\"","v":""},null,null,null,null,null,null,{"$f":"IF(労働者に係る事項!O367=\"\",\"\",労働者に係る事項!O367)","v":""},null,null,null,null,null,null,null,null,null,null,null,null,null,null,null,null,null,null,{"$f":"IF(労働者に係る事項!P367=\"\",\"\",労働者に係る事項!P367)","v":""},null,null,null,null,null,null,null,null,null,null,null,null,null,{"$f":"IF(労働者に係る事項!Q367=\"\",\"\",労働者に係る事項!Q367)","v":""},null,null,null,null,null,null,null,null,null,null,null,null,null,null,null,null,null,null,null,{"$f":"労働者に係る事項!R367&\"\"","v":""},null,null,null,null,null,null,null,{"$f":"労働者に係る事項!S367&\"\"","v":""}]
[null,"29",null,null,{"$f":"労働者に係る事項!B368&\"\"","v":""},null,null,null,null,null,{"$f":"労働者に係る事項!C368&\"\"","v":""},null,null,null,null,null,null,null,null,null,null,null,null,null,null,null,null,null,null,null,null,null,null,null,null,null,null,null,null,null,{"$f":"労働者に係る事項!D368&\"\"","v":""},null,null,null,null,null,null,null,{"$f":"労働者に係る事項!E368&\"\"","v":""},null,null,null,null,null,null,null,null,null,null,null,null,null,null,null,null,null,null,null,null,null,null,null,null,null,null,null,{"$f":"労働者に係る事項!F368&\"\"","v":""},null,null,null,null,null,null,{"$f":"労働者に係る事項!G368&\"\"","v":""},null,null,null,null,null,{"$f":"労働者に係る事項!H368&\"\"","v":""},null,null,null,null,null,{"$f":"労働者に係る事項!I368&\"\"","v":""},null,null,null,null,null,null,{"$f":"労働者に係る事項!J368&\"\"","v":""},null,null,null,null,null,null,null,null,null,{"$f":"労働者に係る事項!K368&\"\"","v":""},null,null,null,null,null,null,null,null,null,null,null,null,null,null,null,null,{"$f":"労働者に係る事項!L368&\"\"","v":""},null,null,null,null,null,{"$f":"労働者に係る事項!M368&\"\"","v":""},null,null,null,null,null,null,{"$f":"労働者に係る事項!N368&\"\"","v":""},null,null,null,null,null,null,{"$f":"IF(労働者に係る事項!O368=\"\",\"\",労働者に係る事項!O368)","v":""},null,null,null,null,null,null,null,null,null,null,null,null,null,null,null,null,null,null,{"$f":"IF(労働者に係る事項!P368=\"\",\"\",労働者に係る事項!P368)","v":""},null,null,null,null,null,null,null,null,null,null,null,null,null,{"$f":"IF(労働者に係る事項!Q368=\"\",\"\",労働者に係る事項!Q368)","v":""},null,null,null,null,null,null,null,null,null,null,null,null,null,null,null,null,null,null,null,{"$f":"労働者に係る事項!R368&\"\"","v":""},null,null,null,null,null,null,null,{"$f":"労働者に係る事項!S368&\"\"","v":""}]
[null,"30",null,null,{"$f":"労働者に係る事項!B369&\"\"","v":""},null,null,null,null,null,{"$f":"労働者に係る事項!C369&\"\"","v":""},null,null,null,null,null,null,null,null,null,null,null,null,null,null,null,null,null,null,null,null,null,null,null,null,null,null,null,null,null,{"$f":"労働者に係る事項!D369&\"\"","v":""},null,null,null,null,null,null,null,{"$f":"労働者に係る事項!E369&\"\"","v":""},null,null,null,null,null,null,null,null,null,null,null,null,null,null,null,null,null,null,null,null,null,null,null,null,null,null,null,{"$f":"労働者に係る事項!F369&\"\"","v":""},null,null,null,null,null,null,{"$f":"労働者に係る事項!G369&\"\"","v":""},null,null,null,null,null,{"$f":"労働者に係る事項!H369&\"\"","v":""},null,null,null,null,null,{"$f":"労働者に係る事項!I369&\"\"","v":""},null,null,null,null,null,null,{"$f":"労働者に係る事項!J369&\"\"","v":""},null,null,null,null,null,null,null,null,null,{"$f":"労働者に係る事項!K369&\"\"","v":""},null,null,null,null,null,null,null,null,null,null,null,null,null,null,null,null,{"$f":"労働者に係る事項!L369&\"\"","v":""},null,null,null,null,null,{"$f":"労働者に係る事項!M369&\"\"","v":""},null,null,null,null,null,null,{"$f":"労働者に係る事項!N369&\"\"","v":""},null,null,null,null,null,null,{"$f":"IF(労働者に係る事項!O369=\"\",\"\",労働者に係る事項!O369)","v":""},null,null,null,null,null,null,null,null,null,null,null,null,null,null,null,null,null,null,{"$f":"IF(労働者に係る事項!P369=\"\",\"\",労働者に係る事項!P369)","v":""},null,null,null,null,null,null,null,null,null,null,null,null,null,{"$f":"IF(労働者に係る事項!Q369=\"\",\"\",労働者に係る事項!Q369)","v":""},null,null,null,null,null,null,null,null,null,null,null,null,null,null,null,null,null,null,null,{"$f":"労働者に係る事項!R369&\"\"","v":""},null,null,null,null,null,null,null,{"$f":"労働者に係る事項!S369&\"\"","v":""}]
[null,"31",null,null,{"$f":"労働者に係る事項!B370&\"\"","v":""},null,null,null,null,null,{"$f":"労働者に係る事項!C370&\"\"","v":""},null,null,null,null,null,null,null,null,null,null,null,null,null,null,null,null,null,null,null,null,null,null,null,null,null,null,null,null,null,{"$f":"労働者に係る事項!D370&\"\"","v":""},null,null,null,null,null,null,null,{"$f":"労働者に係る事項!E370&\"\"","v":""},null,null,null,null,null,null,null,null,null,null,null,null,null,null,null,null,null,null,null,null,null,null,null,null,null,null,null,{"$f":"労働者に係る事項!F370&\"\"","v":""},null,null,null,null,null,null,{"$f":"労働者に係る事項!G370&\"\"","v":""},null,null,null,null,null,{"$f":"労働者に係る事項!H370&\"\"","v":""},null,null,null,null,null,{"$f":"労働者に係る事項!I370&\"\"","v":""},null,null,null,null,null,null,{"$f":"労働者に係る事項!J370&\"\"","v":""},null,null,null,null,null,null,null,null,null,{"$f":"労働者に係る事項!K370&\"\"","v":""},null,null,null,null,null,null,null,null,null,null,null,null,null,null,null,null,{"$f":"労働者に係る事項!L370&\"\"","v":""},null,null,null,null,null,{"$f":"労働者に係る事項!M370&\"\"","v":""},null,null,null,null,null,null,{"$f":"労働者に係る事項!N370&\"\"","v":""},null,null,null,null,null,null,{"$f":"IF(労働者に係る事項!O370=\"\",\"\",労働者に係る事項!O370)","v":""},null,null,null,null,null,null,null,null,null,null,null,null,null,null,null,null,null,null,{"$f":"IF(労働者に係る事項!P370=\"\",\"\",労働者に係る事項!P370)","v":""},null,null,null,null,null,null,null,null,null,null,null,null,null,{"$f":"IF(労働者に係る事項!Q370=\"\",\"\",労働者に係る事項!Q370)","v":""},null,null,null,null,null,null,null,null,null,null,null,null,null,null,null,null,null,null,null,{"$f":"労働者に係る事項!R370&\"\"","v":""},null,null,null,null,null,null,null,{"$f":"労働者に係る事項!S370&\"\"","v":""}]
[null,"32",null,null,{"$f":"労働者に係る事項!B371&\"\"","v":""},null,null,null,null,null,{"$f":"労働者に係る事項!C371&\"\"","v":""},null,null,null,null,null,null,null,null,null,null,null,null,null,null,null,null,null,null,null,null,null,null,null,null,null,null,null,null,null,{"$f":"労働者に係る事項!D371&\"\"","v":""},null,null,null,null,null,null,null,{"$f":"労働者に係る事項!E371&\"\"","v":""},null,null,null,null,null,null,null,null,null,null,null,null,null,null,null,null,null,null,null,null,null,null,null,null,null,null,null,{"$f":"労働者に係る事項!F371&\"\"","v":""},null,null,null,null,null,null,{"$f":"労働者に係る事項!G371&\"\"","v":""},null,null,null,null,null,{"$f":"労働者に係る事項!H371&\"\"","v":""},null,null,null,null,null,{"$f":"労働者に係る事項!I371&\"\"","v":""},null,null,null,null,null,null,{"$f":"労働者に係る事項!J371&\"\"","v":""},null,null,null,null,null,null,null,null,null,{"$f":"労働者に係る事項!K371&\"\"","v":""},null,null,null,null,null,null,null,null,null,null,null,null,null,null,null,null,{"$f":"労働者に係る事項!L371&\"\"","v":""},null,null,null,null,null,{"$f":"労働者に係る事項!M371&\"\"","v":""},null,null,null,null,null,null,{"$f":"労働者に係る事項!N371&\"\"","v":""},null,null,null,null,null,null,{"$f":"IF(労働者に係る事項!O371=\"\",\"\",労働者に係る事項!O371)","v":""},null,null,null,null,null,null,null,null,null,null,null,null,null,null,null,null,null,null,{"$f":"IF(労働者に係る事項!P371=\"\",\"\",労働者に係る事項!P371)","v":""},null,null,null,null,null,null,null,null,null,null,null,null,null,{"$f":"IF(労働者に係る事項!Q371=\"\",\"\",労働者に係る事項!Q371)","v":""},null,null,null,null,null,null,null,null,null,null,null,null,null,null,null,null,null,null,null,{"$f":"労働者に係る事項!R371&\"\"","v":""},null,null,null,null,null,null,null,{"$f":"労働者に係る事項!S371&\"\"","v":""}]
[null,"33",null,null,{"$f":"労働者に係る事項!B372&\"\"","v":""},null,null,null,null,null,{"$f":"労働者に係る事項!C372&\"\"","v":""},null,null,null,null,null,null,null,null,null,null,null,null,null,null,null,null,null,null,null,null,null,null,null,null,null,null,null,null,null,{"$f":"労働者に係る事項!D372&\"\"","v":""},null,null,null,null,null,null,null,{"$f":"労働者に係る事項!E372&\"\"","v":""},null,null,null,null,null,null,null,null,null,null,null,null,null,null,null,null,null,null,null,null,null,null,null,null,null,null,null,{"$f":"労働者に係る事項!F372&\"\"","v":""},null,null,null,null,null,null,{"$f":"労働者に係る事項!G372&\"\"","v":""},null,null,null,null,null,{"$f":"労働者に係る事項!H372&\"\"","v":""},null,null,null,null,null,{"$f":"労働者に係る事項!I372&\"\"","v":""},null,null,null,null,null,null,{"$f":"労働者に係る事項!J372&\"\"","v":""},null,null,null,null,null,null,null,null,null,{"$f":"労働者に係る事項!K372&\"\"","v":""},null,null,null,null,null,null,null,null,null,null,null,null,null,null,null,null,{"$f":"労働者に係る事項!L372&\"\"","v":""},null,null,null,null,null,{"$f":"労働者に係る事項!M372&\"\"","v":""},null,null,null,null,null,null,{"$f":"労働者に係る事項!N372&\"\"","v":""},null,null,null,null,null,null,{"$f":"IF(労働者に係る事項!O372=\"\",\"\",労働者に係る事項!O372)","v":""},null,null,null,null,null,null,null,null,null,null,null,null,null,null,null,null,null,null,{"$f":"IF(労働者に係る事項!P372=\"\",\"\",労働者に係る事項!P372)","v":""},null,null,null,null,null,null,null,null,null,null,null,null,null,{"$f":"IF(労働者に係る事項!Q372=\"\",\"\",労働者に係る事項!Q372)","v":""},null,null,null,null,null,null,null,null,null,null,null,null,null,null,null,null,null,null,null,{"$f":"労働者に係る事項!R372&\"\"","v":""},null,null,null,null,null,null,null,{"$f":"労働者に係る事項!S372&\"\"","v":""}]
[null,"34",null,null,{"$f":"労働者に係る事項!B373&\"\"","v":""},null,null,null,null,null,{"$f":"労働者に係る事項!C373&\"\"","v":""},null,null,null,null,null,null,null,null,null,null,null,null,null,null,null,null,null,null,null,null,null,null,null,null,null,null,null,null,null,{"$f":"労働者に係る事項!D373&\"\"","v":""},null,null,null,null,null,null,null,{"$f":"労働者に係る事項!E373&\"\"","v":""},null,null,null,null,null,null,null,null,null,null,null,null,null,null,null,null,null,null,null,null,null,null,null,null,null,null,null,{"$f":"労働者に係る事項!F373&\"\"","v":""},null,null,null,null,null,null,{"$f":"労働者に係る事項!G373&\"\"","v":""},null,null,null,null,null,{"$f":"労働者に係る事項!H373&\"\"","v":""},null,null,null,null,null,{"$f":"労働者に係る事項!I373&\"\"","v":""},null,null,null,null,null,null,{"$f":"労働者に係る事項!J373&\"\"","v":""},null,null,null,null,null,null,null,null,null,{"$f":"労働者に係る事項!K373&\"\"","v":""},null,null,null,null,null,null,null,null,null,null,null,null,null,null,null,null,{"$f":"労働者に係る事項!L373&\"\"","v":""},null,null,null,null,null,{"$f":"労働者に係る事項!M373&\"\"","v":""},null,null,null,null,null,null,{"$f":"労働者に係る事項!N373&\"\"","v":""},null,null,null,null,null,null,{"$f":"IF(労働者に係る事項!O373=\"\",\"\",労働者に係る事項!O373)","v":""},null,null,null,null,null,null,null,null,null,null,null,null,null,null,null,null,null,null,{"$f":"IF(労働者に係る事項!P373=\"\",\"\",労働者に係る事項!P373)","v":""},null,null,null,null,null,null,null,null,null,null,null,null,null,{"$f":"IF(労働者に係る事項!Q373=\"\",\"\",労働者に係る事項!Q373)","v":""},null,null,null,null,null,null,null,null,null,null,null,null,null,null,null,null,null,null,null,{"$f":"労働者に係る事項!R373&\"\"","v":""},null,null,null,null,null,null,null,{"$f":"労働者に係る事項!S373&\"\"","v":""}]
[null,"35",null,null,{"$f":"労働者に係る事項!B374&\"\"","v":""},null,null,null,null,null,{"$f":"労働者に係る事項!C374&\"\"","v":""},null,null,null,null,null,null,null,null,null,null,null,null,null,null,null,null,null,null,null,null,null,null,null,null,null,null,null,null,null,{"$f":"労働者に係る事項!D374&\"\"","v":""},null,null,null,null,null,null,null,{"$f":"労働者に係る事項!E374&\"\"","v":""},null,null,null,null,null,null,null,null,null,null,null,null,null,null,null,null,null,null,null,null,null,null,null,null,null,null,null,{"$f":"労働者に係る事項!F374&\"\"","v":""},null,null,null,null,null,null,{"$f":"労働者に係る事項!G374&\"\"","v":""},null,null,null,null,null,{"$f":"労働者に係る事項!H374&\"\"","v":""},null,null,null,null,null,{"$f":"労働者に係る事項!I374&\"\"","v":""},null,null,null,null,null,null,{"$f":"労働者に係る事項!J374&\"\"","v":""},null,null,null,null,null,null,null,null,null,{"$f":"労働者に係る事項!K374&\"\"","v":""},null,null,null,null,null,null,null,null,null,null,null,null,null,null,null,null,{"$f":"労働者に係る事項!L374&\"\"","v":""},null,null,null,null,null,{"$f":"労働者に係る事項!M374&\"\"","v":""},null,null,null,null,null,null,{"$f":"労働者に係る事項!N374&\"\"","v":""},null,null,null,null,null,null,{"$f":"IF(労働者に係る事項!O374=\"\",\"\",労働者に係る事項!O374)","v":""},null,null,null,null,null,null,null,null,null,null,null,null,null,null,null,null,null,null,{"$f":"IF(労働者に係る事項!P374=\"\",\"\",労働者に係る事項!P374)","v":""},null,null,null,null,null,null,null,null,null,null,null,null,null,{"$f":"IF(労働者に係る事項!Q374=\"\",\"\",労働者に係る事項!Q374)","v":""},null,null,null,null,null,null,null,null,null,null,null,null,null,null,null,null,null,null,null,{"$f":"労働者に係る事項!R374&\"\"","v":""},null,null,null,null,null,null,null,{"$f":"労働者に係る事項!S374&\"\"","v":""}]
[null,"36",null,null,{"$f":"労働者に係る事項!B375&\"\"","v":""},null,null,null,null,null,{"$f":"労働者に係る事項!C375&\"\"","v":""},null,null,null,null,null,null,null,null,null,null,null,null,null,null,null,null,null,null,null,null,null,null,null,null,null,null,null,null,null,{"$f":"労働者に係る事項!D375&\"\"","v":""},null,null,null,null,null,null,null,{"$f":"労働者に係る事項!E375&\"\"","v":""},null,null,null,null,null,null,null,null,null,null,null,null,null,null,null,null,null,null,null,null,null,null,null,null,null,null,null,{"$f":"労働者に係る事項!F375&\"\"","v":""},null,null,null,null,null,null,{"$f":"労働者に係る事項!G375&\"\"","v":""},null,null,null,null,null,{"$f":"労働者に係る事項!H375&\"\"","v":""},null,null,null,null,null,{"$f":"労働者に係る事項!I375&\"\"","v":""},null,null,null,null,null,null,{"$f":"労働者に係る事項!J375&\"\"","v":""},null,null,null,null,null,null,null,null,null,{"$f":"労働者に係る事項!K375&\"\"","v":""},null,null,null,null,null,null,null,null,null,null,null,null,null,null,null,null,{"$f":"労働者に係る事項!L375&\"\"","v":""},null,null,null,null,null,{"$f":"労働者に係る事項!M375&\"\"","v":""},null,null,null,null,null,null,{"$f":"労働者に係る事項!N375&\"\"","v":""},null,null,null,null,null,null,{"$f":"IF(労働者に係る事項!O375=\"\",\"\",労働者に係る事項!O375)","v":""},null,null,null,null,null,null,null,null,null,null,null,null,null,null,null,null,null,null,{"$f":"IF(労働者に係る事項!P375=\"\",\"\",労働者に係る事項!P375)","v":""},null,null,null,null,null,null,null,null,null,null,null,null,null,{"$f":"IF(労働者に係る事項!Q375=\"\",\"\",労働者に係る事項!Q375)","v":""},null,null,null,null,null,null,null,null,null,null,null,null,null,null,null,null,null,null,null,{"$f":"労働者に係る事項!R375&\"\"","v":""},null,null,null,null,null,null,null,{"$f":"労働者に係る事項!S375&\"\"","v":""}]
[null,"37",null,null,{"$f":"労働者に係る事項!B376&\"\"","v":""},null,null,null,null,null,{"$f":"労働者に係る事項!C376&\"\"","v":""},null,null,null,null,null,null,null,null,null,null,null,null,null,null,null,null,null,null,null,null,null,null,null,null,null,null,null,null,null,{"$f":"労働者に係る事項!D376&\"\"","v":""},null,null,null,null,null,null,null,{"$f":"労働者に係る事項!E376&\"\"","v":""},null,null,null,null,null,null,null,null,null,null,null,null,null,null,null,null,null,null,null,null,null,null,null,null,null,null,null,{"$f":"労働者に係る事項!F376&\"\"","v":""},null,null,null,null,null,null,{"$f":"労働者に係る事項!G376&\"\"","v":""},null,null,null,null,null,{"$f":"労働者に係る事項!H376&\"\"","v":""},null,null,null,null,null,{"$f":"労働者に係る事項!I376&\"\"","v":""},null,null,null,null,null,null,{"$f":"労働者に係る事項!J376&\"\"","v":""},null,null,null,null,null,null,null,null,null,{"$f":"労働者に係る事項!K376&\"\"","v":""},null,null,null,null,null,null,null,null,null,null,null,null,null,null,null,null,{"$f":"労働者に係る事項!L376&\"\"","v":""},null,null,null,null,null,{"$f":"労働者に係る事項!M376&\"\"","v":""},null,null,null,null,null,null,{"$f":"労働者に係る事項!N376&\"\"","v":""},null,null,null,null,null,null,{"$f":"IF(労働者に係る事項!O376=\"\",\"\",労働者に係る事項!O376)","v":""},null,null,null,null,null,null,null,null,null,null,null,null,null,null,null,null,null,null,{"$f":"IF(労働者に係る事項!P376=\"\",\"\",労働者に係る事項!P376)","v":""},null,null,null,null,null,null,null,null,null,null,null,null,null,{"$f":"IF(労働者に係る事項!Q376=\"\",\"\",労働者に係る事項!Q376)","v":""},null,null,null,null,null,null,null,null,null,null,null,null,null,null,null,null,null,null,null,{"$f":"労働者に係る事項!R376&\"\"","v":""},null,null,null,null,null,null,null,{"$f":"労働者に係る事項!S376&\"\"","v":""}]
[null,"38",null,null,{"$f":"労働者に係る事項!B377&\"\"","v":""},null,null,null,null,null,{"$f":"労働者に係る事項!C377&\"\"","v":""},null,null,null,null,null,null,null,null,null,null,null,null,null,null,null,null,null,null,null,null,null,null,null,null,null,null,null,null,null,{"$f":"労働者に係る事項!D377&\"\"","v":""},null,null,null,null,null,null,null,{"$f":"労働者に係る事項!E377&\"\"","v":""},null,null,null,null,null,null,null,null,null,null,null,null,null,null,null,null,null,null,null,null,null,null,null,null,null,null,null,{"$f":"労働者に係る事項!F377&\"\"","v":""},null,null,null,null,null,null,{"$f":"労働者に係る事項!G377&\"\"","v":""},null,null,null,null,null,{"$f":"労働者に係る事項!H377&\"\"","v":""},null,null,null,null,null,{"$f":"労働者に係る事項!I377&\"\"","v":""},null,null,null,null,null,null,{"$f":"労働者に係る事項!J377&\"\"","v":""},null,null,null,null,null,null,null,null,null,{"$f":"労働者に係る事項!K377&\"\"","v":""},null,null,null,null,null,null,null,null,null,null,null,null,null,null,null,null,{"$f":"労働者に係る事項!L377&\"\"","v":""},null,null,null,null,null,{"$f":"労働者に係る事項!M377&\"\"","v":""},null,null,null,null,null,null,{"$f":"労働者に係る事項!N377&\"\"","v":""},null,null,null,null,null,null,{"$f":"IF(労働者に係る事項!O377=\"\",\"\",労働者に係る事項!O377)","v":""},null,null,null,null,null,null,null,null,null,null,null,null,null,null,null,null,null,null,{"$f":"IF(労働者に係る事項!P377=\"\",\"\",労働者に係る事項!P377)","v":""},null,null,null,null,null,null,null,null,null,null,null,null,null,{"$f":"IF(労働者に係る事項!Q377=\"\",\"\",労働者に係る事項!Q377)","v":""},null,null,null,null,null,null,null,null,null,null,null,null,null,null,null,null,null,null,null,{"$f":"労働者に係る事項!R377&\"\"","v":""},null,null,null,null,null,null,null,{"$f":"労働者に係る事項!S377&\"\"","v":""}]
[null,"39",null,null,{"$f":"労働者に係る事項!B378&\"\"","v":""},null,null,null,null,null,{"$f":"労働者に係る事項!C378&\"\"","v":""},null,null,null,null,null,null,null,null,null,null,null,null,null,null,null,null,null,null,null,null,null,null,null,null,null,null,null,null,null,{"$f":"労働者に係る事項!D378&\"\"","v":""},null,null,null,null,null,null,null,{"$f":"労働者に係る事項!E378&\"\"","v":""},null,null,null,null,null,null,null,null,null,null,null,null,null,null,null,null,null,null,null,null,null,null,null,null,null,null,null,{"$f":"労働者に係る事項!F378&\"\"","v":""},null,null,null,null,null,null,{"$f":"労働者に係る事項!G378&\"\"","v":""},null,null,null,null,null,{"$f":"労働者に係る事項!H378&\"\"","v":""},null,null,null,null,null,{"$f":"労働者に係る事項!I378&\"\"","v":""},null,null,null,null,null,null,{"$f":"労働者に係る事項!J378&\"\"","v":""},null,null,null,null,null,null,null,null,null,{"$f":"労働者に係る事項!K378&\"\"","v":""},null,null,null,null,null,null,null,null,null,null,null,null,null,null,null,null,{"$f":"労働者に係る事項!L378&\"\"","v":""},null,null,null,null,null,{"$f":"労働者に係る事項!M378&\"\"","v":""},null,null,null,null,null,null,{"$f":"労働者に係る事項!N378&\"\"","v":""},null,null,null,null,null,null,{"$f":"IF(労働者に係る事項!O378=\"\",\"\",労働者に係る事項!O378)","v":""},null,null,null,null,null,null,null,null,null,null,null,null,null,null,null,null,null,null,{"$f":"IF(労働者に係る事項!P378=\"\",\"\",労働者に係る事項!P378)","v":""},null,null,null,null,null,null,null,null,null,null,null,null,null,{"$f":"IF(労働者に係る事項!Q378=\"\",\"\",労働者に係る事項!Q378)","v":""},null,null,null,null,null,null,null,null,null,null,null,null,null,null,null,null,null,null,null,{"$f":"労働者に係る事項!R378&\"\"","v":""},null,null,null,null,null,null,null,{"$f":"労働者に係る事項!S378&\"\"","v":""}]
[null,"40",null,null,{"$f":"労働者に係る事項!B379&\"\"","v":""},null,null,null,null,null,{"$f":"労働者に係る事項!C379&\"\"","v":""},null,null,null,null,null,null,null,null,null,null,null,null,null,null,null,null,null,null,null,null,null,null,null,null,null,null,null,null,null,{"$f":"労働者に係る事項!D379&\"\"","v":""},null,null,null,null,null,null,null,{"$f":"労働者に係る事項!E379&\"\"","v":""},null,null,null,null,null,null,null,null,null,null,null,null,null,null,null,null,null,null,null,null,null,null,null,null,null,null,null,{"$f":"労働者に係る事項!F379&\"\"","v":""},null,null,null,null,null,null,{"$f":"労働者に係る事項!G379&\"\"","v":""},null,null,null,null,null,{"$f":"労働者に係る事項!H379&\"\"","v":""},null,null,null,null,null,{"$f":"労働者に係る事項!I379&\"\"","v":""},null,null,null,null,null,null,{"$f":"労働者に係る事項!J379&\"\"","v":""},null,null,null,null,null,null,null,null,null,{"$f":"労働者に係る事項!K379&\"\"","v":""},null,null,null,null,null,null,null,null,null,null,null,null,null,null,null,null,{"$f":"労働者に係る事項!L379&\"\"","v":""},null,null,null,null,null,{"$f":"労働者に係る事項!M379&\"\"","v":""},null,null,null,null,null,null,{"$f":"労働者に係る事項!N379&\"\"","v":""},null,null,null,null,null,null,{"$f":"IF(労働者に係る事項!O379=\"\",\"\",労働者に係る事項!O379)","v":""},null,null,null,null,null,null,null,null,null,null,null,null,null,null,null,null,null,null,{"$f":"IF(労働者に係る事項!P379=\"\",\"\",労働者に係る事項!P379)","v":""},null,null,null,null,null,null,null,null,null,null,null,null,null,{"$f":"IF(労働者に係る事項!Q379=\"\",\"\",労働者に係る事項!Q379)","v":""},null,null,null,null,null,null,null,null,null,null,null,null,null,null,null,null,null,null,null,{"$f":"労働者に係る事項!R379&\"\"","v":""},null,null,null,null,null,null,null,{"$f":"労働者に係る事項!S379&\"\"","v":""}]
[null,"41",null,null,{"$f":"労働者に係る事項!B380&\"\"","v":""},null,null,null,null,null,{"$f":"労働者に係る事項!C380&\"\"","v":""},null,null,null,null,null,null,null,null,null,null,null,null,null,null,null,null,null,null,null,null,null,null,null,null,null,null,null,null,null,{"$f":"労働者に係る事項!D380&\"\"","v":""},null,null,null,null,null,null,null,{"$f":"労働者に係る事項!E380&\"\"","v":""},null,null,null,null,null,null,null,null,null,null,null,null,null,null,null,null,null,null,null,null,null,null,null,null,null,null,null,{"$f":"労働者に係る事項!F380&\"\"","v":""},null,null,null,null,null,null,{"$f":"労働者に係る事項!G380&\"\"","v":""},null,null,null,null,null,{"$f":"労働者に係る事項!H380&\"\"","v":""},null,null,null,null,null,{"$f":"労働者に係る事項!I380&\"\"","v":""},null,null,null,null,null,null,{"$f":"労働者に係る事項!J380&\"\"","v":""},null,null,null,null,null,null,null,null,null,{"$f":"労働者に係る事項!K380&\"\"","v":""},null,null,null,null,null,null,null,null,null,null,null,null,null,null,null,null,{"$f":"労働者に係る事項!L380&\"\"","v":""},null,null,null,null,null,{"$f":"労働者に係る事項!M380&\"\"","v":""},null,null,null,null,null,null,{"$f":"労働者に係る事項!N380&\"\"","v":""},null,null,null,null,null,null,{"$f":"IF(労働者に係る事項!O380=\"\",\"\",労働者に係る事項!O380)","v":""},null,null,null,null,null,null,null,null,null,null,null,null,null,null,null,null,null,null,{"$f":"IF(労働者に係る事項!P380=\"\",\"\",労働者に係る事項!P380)","v":""},null,null,null,null,null,null,null,null,null,null,null,null,null,{"$f":"IF(労働者に係る事項!Q380=\"\",\"\",労働者に係る事項!Q380)","v":""},null,null,null,null,null,null,null,null,null,null,null,null,null,null,null,null,null,null,null,{"$f":"労働者に係る事項!R380&\"\"","v":""},null,null,null,null,null,null,null,{"$f":"労働者に係る事項!S380&\"\"","v":""}]
[null,"42",null,null,{"$f":"労働者に係る事項!B381&\"\"","v":""},null,null,null,null,null,{"$f":"労働者に係る事項!C381&\"\"","v":""},null,null,null,null,null,null,null,null,null,null,null,null,null,null,null,null,null,null,null,null,null,null,null,null,null,null,null,null,null,{"$f":"労働者に係る事項!D381&\"\"","v":""},null,null,null,null,null,null,null,{"$f":"労働者に係る事項!E381&\"\"","v":""},null,null,null,null,null,null,null,null,null,null,null,null,null,null,null,null,null,null,null,null,null,null,null,null,null,null,null,{"$f":"労働者に係る事項!F381&\"\"","v":""},null,null,null,null,null,null,{"$f":"労働者に係る事項!G381&\"\"","v":""},null,null,null,null,null,{"$f":"労働者に係る事項!H381&\"\"","v":""},null,null,null,null,null,{"$f":"労働者に係る事項!I381&\"\"","v":""},null,null,null,null,null,null,{"$f":"労働者に係る事項!J381&\"\"","v":""},null,null,null,null,null,null,null,null,null,{"$f":"労働者に係る事項!K381&\"\"","v":""},null,null,null,null,null,null,null,null,null,null,null,null,null,null,null,null,{"$f":"労働者に係る事項!L381&\"\"","v":""},null,null,null,null,null,{"$f":"労働者に係る事項!M381&\"\"","v":""},null,null,null,null,null,null,{"$f":"労働者に係る事項!N381&\"\"","v":""},null,null,null,null,null,null,{"$f":"IF(労働者に係る事項!O381=\"\",\"\",労働者に係る事項!O381)","v":""},null,null,null,null,null,null,null,null,null,null,null,null,null,null,null,null,null,null,{"$f":"IF(労働者に係る事項!P381=\"\",\"\",労働者に係る事項!P381)","v":""},null,null,null,null,null,null,null,null,null,null,null,null,null,{"$f":"IF(労働者に係る事項!Q381=\"\",\"\",労働者に係る事項!Q381)","v":""},null,null,null,null,null,null,null,null,null,null,null,null,null,null,null,null,null,null,null,{"$f":"労働者に係る事項!R381&\"\"","v":""},null,null,null,null,null,null,null,{"$f":"労働者に係る事項!S381&\"\"","v":""}]
[null,"43",null,null,{"$f":"労働者に係る事項!B382&\"\"","v":""},null,null,null,null,null,{"$f":"労働者に係る事項!C382&\"\"","v":""},null,null,null,null,null,null,null,null,null,null,null,null,null,null,null,null,null,null,null,null,null,null,null,null,null,null,null,null,null,{"$f":"労働者に係る事項!D382&\"\"","v":""},null,null,null,null,null,null,null,{"$f":"労働者に係る事項!E382&\"\"","v":""},null,null,null,null,null,null,null,null,null,null,null,null,null,null,null,null,null,null,null,null,null,null,null,null,null,null,null,{"$f":"労働者に係る事項!F382&\"\"","v":""},null,null,null,null,null,null,{"$f":"労働者に係る事項!G382&\"\"","v":""},null,null,null,null,null,{"$f":"労働者に係る事項!H382&\"\"","v":""},null,null,null,null,null,{"$f":"労働者に係る事項!I382&\"\"","v":""},null,null,null,null,null,null,{"$f":"労働者に係る事項!J382&\"\"","v":""},null,null,null,null,null,null,null,null,null,{"$f":"労働者に係る事項!K382&\"\"","v":""},null,null,null,null,null,null,null,null,null,null,null,null,null,null,null,null,{"$f":"労働者に係る事項!L382&\"\"","v":""},null,null,null,null,null,{"$f":"労働者に係る事項!M382&\"\"","v":""},null,null,null,null,null,null,{"$f":"労働者に係る事項!N382&\"\"","v":""},null,null,null,null,null,null,{"$f":"IF(労働者に係る事項!O382=\"\",\"\",労働者に係る事項!O382)","v":""},null,null,null,null,null,null,null,null,null,null,null,null,null,null,null,null,null,null,{"$f":"IF(労働者に係る事項!P382=\"\",\"\",労働者に係る事項!P382)","v":""},null,null,null,null,null,null,null,null,null,null,null,null,null,{"$f":"IF(労働者に係る事項!Q382=\"\",\"\",労働者に係る事項!Q382)","v":""},null,null,null,null,null,null,null,null,null,null,null,null,null,null,null,null,null,null,null,{"$f":"労働者に係る事項!R382&\"\"","v":""},null,null,null,null,null,null,null,{"$f":"労働者に係る事項!S382&\"\"","v":""}]
[null,"44",null,null,{"$f":"労働者に係る事項!B383&\"\"","v":""},null,null,null,null,null,{"$f":"労働者に係る事項!C383&\"\"","v":""},null,null,null,null,null,null,null,null,null,null,null,null,null,null,null,null,null,null,null,null,null,null,null,null,null,null,null,null,null,{"$f":"労働者に係る事項!D383&\"\"","v":""},null,null,null,null,null,null,null,{"$f":"労働者に係る事項!E383&\"\"","v":""},null,null,null,null,null,null,null,null,null,null,null,null,null,null,null,null,null,null,null,null,null,null,null,null,null,null,null,{"$f":"労働者に係る事項!F383&\"\"","v":""},null,null,null,null,null,null,{"$f":"労働者に係る事項!G383&\"\"","v":""},null,null,null,null,null,{"$f":"労働者に係る事項!H383&\"\"","v":""},null,null,null,null,null,{"$f":"労働者に係る事項!I383&\"\"","v":""},null,null,null,null,null,null,{"$f":"労働者に係る事項!J383&\"\"","v":""},null,null,null,null,null,null,null,null,null,{"$f":"労働者に係る事項!K383&\"\"","v":""},null,null,null,null,null,null,null,null,null,null,null,null,null,null,null,null,{"$f":"労働者に係る事項!L383&\"\"","v":""},null,null,null,null,null,{"$f":"労働者に係る事項!M383&\"\"","v":""},null,null,null,null,null,null,{"$f":"労働者に係る事項!N383&\"\"","v":""},null,null,null,null,null,null,{"$f":"IF(労働者に係る事項!O383=\"\",\"\",労働者に係る事項!O383)","v":""},null,null,null,null,null,null,null,null,null,null,null,null,null,null,null,null,null,null,{"$f":"IF(労働者に係る事項!P383=\"\",\"\",労働者に係る事項!P383)","v":""},null,null,null,null,null,null,null,null,null,null,null,null,null,{"$f":"IF(労働者に係る事項!Q383=\"\",\"\",労働者に係る事項!Q383)","v":""},null,null,null,null,null,null,null,null,null,null,null,null,null,null,null,null,null,null,null,{"$f":"労働者に係る事項!R383&\"\"","v":""},null,null,null,null,null,null,null,{"$f":"労働者に係る事項!S383&\"\"","v":""}]
[null,"45",null,null,{"$f":"労働者に係る事項!B384&\"\"","v":""},null,null,null,null,null,{"$f":"労働者に係る事項!C384&\"\"","v":""},null,null,null,null,null,null,null,null,null,null,null,null,null,null,null,null,null,null,null,null,null,null,null,null,null,null,null,null,null,{"$f":"労働者に係る事項!D384&\"\"","v":""},null,null,null,null,null,null,null,{"$f":"労働者に係る事項!E384&\"\"","v":""},null,null,null,null,null,null,null,null,null,null,null,null,null,null,null,null,null,null,null,null,null,null,null,null,null,null,null,{"$f":"労働者に係る事項!F384&\"\"","v":""},null,null,null,null,null,null,{"$f":"労働者に係る事項!G384&\"\"","v":""},null,null,null,null,null,{"$f":"労働者に係る事項!H384&\"\"","v":""},null,null,null,null,null,{"$f":"労働者に係る事項!I384&\"\"","v":""},null,null,null,null,null,null,{"$f":"労働者に係る事項!J384&\"\"","v":""},null,null,null,null,null,null,null,null,null,{"$f":"労働者に係る事項!K384&\"\"","v":""},null,null,null,null,null,null,null,null,null,null,null,null,null,null,null,null,{"$f":"労働者に係る事項!L384&\"\"","v":""},null,null,null,null,null,{"$f":"労働者に係る事項!M384&\"\"","v":""},null,null,null,null,null,null,{"$f":"労働者に係る事項!N384&\"\"","v":""},null,null,null,null,null,null,{"$f":"IF(労働者に係る事項!O384=\"\",\"\",労働者に係る事項!O384)","v":""},null,null,null,null,null,null,null,null,null,null,null,null,null,null,null,null,null,null,{"$f":"IF(労働者に係る事項!P384=\"\",\"\",労働者に係る事項!P384)","v":""},null,null,null,null,null,null,null,null,null,null,null,null,null,{"$f":"IF(労働者に係る事項!Q384=\"\",\"\",労働者に係る事項!Q384)","v":""},null,null,null,null,null,null,null,null,null,null,null,null,null,null,null,null,null,null,null,{"$f":"労働者に係る事項!R384&\"\"","v":""},null,null,null,null,null,null,null,{"$f":"労働者に係る事項!S384&\"\"","v":""}]
[null,"46",null,null,{"$f":"労働者に係る事項!B385&\"\"","v":""},null,null,null,null,null,{"$f":"労働者に係る事項!C385&\"\"","v":""},null,null,null,null,null,null,null,null,null,null,null,null,null,null,null,null,null,null,null,null,null,null,null,null,null,null,null,null,null,{"$f":"労働者に係る事項!D385&\"\"","v":""},null,null,null,null,null,null,null,{"$f":"労働者に係る事項!E385&\"\"","v":""},null,null,null,null,null,null,null,null,null,null,null,null,null,null,null,null,null,null,null,null,null,null,null,null,null,null,null,{"$f":"労働者に係る事項!F385&\"\"","v":""},null,null,null,null,null,null,{"$f":"労働者に係る事項!G385&\"\"","v":""},null,null,null,null,null,{"$f":"労働者に係る事項!H385&\"\"","v":""},null,null,null,null,null,{"$f":"労働者に係る事項!I385&\"\"","v":""},null,null,null,null,null,null,{"$f":"労働者に係る事項!J385&\"\"","v":""},null,null,null,null,null,null,null,null,null,{"$f":"労働者に係る事項!K385&\"\"","v":""},null,null,null,null,null,null,null,null,null,null,null,null,null,null,null,null,{"$f":"労働者に係る事項!L385&\"\"","v":""},null,null,null,null,null,{"$f":"労働者に係る事項!M385&\"\"","v":""},null,null,null,null,null,null,{"$f":"労働者に係る事項!N385&\"\"","v":""},null,null,null,null,null,null,{"$f":"IF(労働者に係る事項!O385=\"\",\"\",労働者に係る事項!O385)","v":""},null,null,null,null,null,null,null,null,null,null,null,null,null,null,null,null,null,null,{"$f":"IF(労働者に係る事項!P385=\"\",\"\",労働者に係る事項!P385)","v":""},null,null,null,null,null,null,null,null,null,null,null,null,null,{"$f":"IF(労働者に係る事項!Q385=\"\",\"\",労働者に係る事項!Q385)","v":""},null,null,null,null,null,null,null,null,null,null,null,null,null,null,null,null,null,null,null,{"$f":"労働者に係る事項!R385&\"\"","v":""},null,null,null,null,null,null,null,{"$f":"労働者に係る事項!S385&\"\"","v":""}]
[null,"47",null,null,{"$f":"労働者に係る事項!B386&\"\"","v":""},null,null,null,null,null,{"$f":"労働者に係る事項!C386&\"\"","v":""},null,null,null,null,null,null,null,null,null,null,null,null,null,null,null,null,null,null,null,null,null,null,null,null,null,null,null,null,null,{"$f":"労働者に係る事項!D386&\"\"","v":""},null,null,null,null,null,null,null,{"$f":"労働者に係る事項!E386&\"\"","v":""},null,null,null,null,null,null,null,null,null,null,null,null,null,null,null,null,null,null,null,null,null,null,null,null,null,null,null,{"$f":"労働者に係る事項!F386&\"\"","v":""},null,null,null,null,null,null,{"$f":"労働者に係る事項!G386&\"\"","v":""},null,null,null,null,null,{"$f":"労働者に係る事項!H386&\"\"","v":""},null,null,null,null,null,{"$f":"労働者に係る事項!I386&\"\"","v":""},null,null,null,null,null,null,{"$f":"労働者に係る事項!J386&\"\"","v":""},null,null,null,null,null,null,null,null,null,{"$f":"労働者に係る事項!K386&\"\"","v":""},null,null,null,null,null,null,null,null,null,null,null,null,null,null,null,null,{"$f":"労働者に係る事項!L386&\"\"","v":""},null,null,null,null,null,{"$f":"労働者に係る事項!M386&\"\"","v":""},null,null,null,null,null,null,{"$f":"労働者に係る事項!N386&\"\"","v":""},null,null,null,null,null,null,{"$f":"IF(労働者に係る事項!O386=\"\",\"\",労働者に係る事項!O386)","v":""},null,null,null,null,null,null,null,null,null,null,null,null,null,null,null,null,null,null,{"$f":"IF(労働者に係る事項!P386=\"\",\"\",労働者に係る事項!P386)","v":""},null,null,null,null,null,null,null,null,null,null,null,null,null,{"$f":"IF(労働者に係る事項!Q386=\"\",\"\",労働者に係る事項!Q386)","v":""},null,null,null,null,null,null,null,null,null,null,null,null,null,null,null,null,null,null,null,{"$f":"労働者に係る事項!R386&\"\"","v":""},null,null,null,null,null,null,null,{"$f":"労働者に係る事項!S386&\"\"","v":""}]
[null,"48",null,null,{"$f":"労働者に係る事項!B387&\"\"","v":""},null,null,null,null,null,{"$f":"労働者に係る事項!C387&\"\"","v":""},null,null,null,null,null,null,null,null,null,null,null,null,null,null,null,null,null,null,null,null,null,null,null,null,null,null,null,null,null,{"$f":"労働者に係る事項!D387&\"\"","v":""},null,null,null,null,null,null,null,{"$f":"労働者に係る事項!E387&\"\"","v":""},null,null,null,null,null,null,null,null,null,null,null,null,null,null,null,null,null,null,null,null,null,null,null,null,null,null,null,{"$f":"労働者に係る事項!F387&\"\"","v":""},null,null,null,null,null,null,{"$f":"労働者に係る事項!G387&\"\"","v":""},null,null,null,null,null,{"$f":"労働者に係る事項!H387&\"\"","v":""},null,null,null,null,null,{"$f":"労働者に係る事項!I387&\"\"","v":""},null,null,null,null,null,null,{"$f":"労働者に係る事項!J387&\"\"","v":""},null,null,null,null,null,null,null,null,null,{"$f":"労働者に係る事項!K387&\"\"","v":""},null,null,null,null,null,null,null,null,null,null,null,null,null,null,null,null,{"$f":"労働者に係る事項!L387&\"\"","v":""},null,null,null,null,null,{"$f":"労働者に係る事項!M387&\"\"","v":""},null,null,null,null,null,null,{"$f":"労働者に係る事項!N387&\"\"","v":""},null,null,null,null,null,null,{"$f":"IF(労働者に係る事項!O387=\"\",\"\",労働者に係る事項!O387)","v":""},null,null,null,null,null,null,null,null,null,null,null,null,null,null,null,null,null,null,{"$f":"IF(労働者に係る事項!P387=\"\",\"\",労働者に係る事項!P387)","v":""},null,null,null,null,null,null,null,null,null,null,null,null,null,{"$f":"IF(労働者に係る事項!Q387=\"\",\"\",労働者に係る事項!Q387)","v":""},null,null,null,null,null,null,null,null,null,null,null,null,null,null,null,null,null,null,null,{"$f":"労働者に係る事項!R387&\"\"","v":""},null,null,null,null,null,null,null,{"$f":"労働者に係る事項!S387&\"\"","v":""}]
[null,"49",null,null,{"$f":"労働者に係る事項!B388&\"\"","v":""},null,null,null,null,null,{"$f":"労働者に係る事項!C388&\"\"","v":""},null,null,null,null,null,null,null,null,null,null,null,null,null,null,null,null,null,null,null,null,null,null,null,null,null,null,null,null,null,{"$f":"労働者に係る事項!D388&\"\"","v":""},null,null,null,null,null,null,null,{"$f":"労働者に係る事項!E388&\"\"","v":""},null,null,null,null,null,null,null,null,null,null,null,null,null,null,null,null,null,null,null,null,null,null,null,null,null,null,null,{"$f":"労働者に係る事項!F388&\"\"","v":""},null,null,null,null,null,null,{"$f":"労働者に係る事項!G388&\"\"","v":""},null,null,null,null,null,{"$f":"労働者に係る事項!H388&\"\"","v":""},null,null,null,null,null,{"$f":"労働者に係る事項!I388&\"\"","v":""},null,null,null,null,null,null,{"$f":"労働者に係る事項!J388&\"\"","v":""},null,null,null,null,null,null,null,null,null,{"$f":"労働者に係る事項!K388&\"\"","v":""},null,null,null,null,null,null,null,null,null,null,null,null,null,null,null,null,{"$f":"労働者に係る事項!L388&\"\"","v":""},null,null,null,null,null,{"$f":"労働者に係る事項!M388&\"\"","v":""},null,null,null,null,null,null,{"$f":"労働者に係る事項!N388&\"\"","v":""},null,null,null,null,null,null,{"$f":"IF(労働者に係る事項!O388=\"\",\"\",労働者に係る事項!O388)","v":""},null,null,null,null,null,null,null,null,null,null,null,null,null,null,null,null,null,null,{"$f":"IF(労働者に係る事項!P388=\"\",\"\",労働者に係る事項!P388)","v":""},null,null,null,null,null,null,null,null,null,null,null,null,null,{"$f":"IF(労働者に係る事項!Q388=\"\",\"\",労働者に係る事項!Q388)","v":""},null,null,null,null,null,null,null,null,null,null,null,null,null,null,null,null,null,null,null,{"$f":"労働者に係る事項!R388&\"\"","v":""},null,null,null,null,null,null,null,{"$f":"労働者に係る事項!S388&\"\"","v":""}]
[null,"50",null,null,{"$f":"労働者に係る事項!B389&\"\"","v":""},null,null,null,null,null,{"$f":"労働者に係る事項!C389&\"\"","v":""},null,null,null,null,null,null,null,null,null,null,null,null,null,null,null,null,null,null,null,null,null,null,null,null,null,null,null,null,null,{"$f":"労働者に係る事項!D389&\"\"","v":""},null,null,null,null,null,null,null,{"$f":"労働者に係る事項!E389&\"\"","v":""},null,null,null,null,null,null,null,null,null,null,null,null,null,null,null,null,null,null,null,null,null,null,null,null,null,null,null,{"$f":"労働者に係る事項!F389&\"\"","v":""},null,null,null,null,null,null,{"$f":"労働者に係る事項!G389&\"\"","v":""},null,null,null,null,null,{"$f":"労働者に係る事項!H389&\"\"","v":""},null,null,null,null,null,{"$f":"労働者に係る事項!I389&\"\"","v":""},null,null,null,null,null,null,{"$f":"労働者に係る事項!J389&\"\"","v":""},null,null,null,null,null,null,null,null,null,{"$f":"労働者に係る事項!K389&\"\"","v":""},null,null,null,null,null,null,null,null,null,null,null,null,null,null,null,null,{"$f":"労働者に係る事項!L389&\"\"","v":""},null,null,null,null,null,{"$f":"労働者に係る事項!M389&\"\"","v":""},null,null,null,null,null,null,{"$f":"労働者に係る事項!N389&\"\"","v":""},null,null,null,null,null,null,{"$f":"IF(労働者に係る事項!O389=\"\",\"\",労働者に係る事項!O389)","v":""},null,null,null,null,null,null,null,null,null,null,null,null,null,null,null,null,null,null,{"$f":"IF(労働者に係る事項!P389=\"\",\"\",労働者に係る事項!P389)","v":""},null,null,null,null,null,null,null,null,null,null,null,null,null,{"$f":"IF(労働者に係る事項!Q389=\"\",\"\",労働者に係る事項!Q389)","v":""},null,null,null,null,null,null,null,null,null,null,null,null,null,null,null,null,null,null,null,{"$f":"労働者に係る事項!R389&\"\"","v":""},null,null,null,null,null,null,null,{"$f":"労働者に係る事項!S389&\"\"","v":""}]
[null,"51",null,null,{"$f":"労働者に係る事項!B390&\"\"","v":""},null,null,null,null,null,{"$f":"労働者に係る事項!C390&\"\"","v":""},null,null,null,null,null,null,null,null,null,null,null,null,null,null,null,null,null,null,null,null,null,null,null,null,null,null,null,null,null,{"$f":"労働者に係る事項!D390&\"\"","v":""},null,null,null,null,null,null,null,{"$f":"労働者に係る事項!E390&\"\"","v":""},null,null,null,null,null,null,null,null,null,null,null,null,null,null,null,null,null,null,null,null,null,null,null,null,null,null,null,{"$f":"労働者に係る事項!F390&\"\"","v":""},null,null,null,null,null,null,{"$f":"労働者に係る事項!G390&\"\"","v":""},null,null,null,null,null,{"$f":"労働者に係る事項!H390&\"\"","v":""},null,null,null,null,null,{"$f":"労働者に係る事項!I390&\"\"","v":""},null,null,null,null,null,null,{"$f":"労働者に係る事項!J390&\"\"","v":""},null,null,null,null,null,null,null,null,null,{"$f":"労働者に係る事項!K390&\"\"","v":""},null,null,null,null,null,null,null,null,null,null,null,null,null,null,null,null,{"$f":"労働者に係る事項!L390&\"\"","v":""},null,null,null,null,null,{"$f":"労働者に係る事項!M390&\"\"","v":""},null,null,null,null,null,null,{"$f":"労働者に係る事項!N390&\"\"","v":""},null,null,null,null,null,null,{"$f":"IF(労働者に係る事項!O390=\"\",\"\",労働者に係る事項!O390)","v":""},null,null,null,null,null,null,null,null,null,null,null,null,null,null,null,null,null,null,{"$f":"IF(労働者に係る事項!P390=\"\",\"\",労働者に係る事項!P390)","v":""},null,null,null,null,null,null,null,null,null,null,null,null,null,{"$f":"IF(労働者に係る事項!Q390=\"\",\"\",労働者に係る事項!Q390)","v":""},null,null,null,null,null,null,null,null,null,null,null,null,null,null,null,null,null,null,null,{"$f":"労働者に係る事項!R390&\"\"","v":""},null,null,null,null,null,null,null,{"$f":"労働者に係る事項!S390&\"\"","v":""}]
[null,"52",null,null,{"$f":"労働者に係る事項!B391&\"\"","v":""},null,null,null,null,null,{"$f":"労働者に係る事項!C391&\"\"","v":""},null,null,null,null,null,null,null,null,null,null,null,null,null,null,null,null,null,null,null,null,null,null,null,null,null,null,null,null,null,{"$f":"労働者に係る事項!D391&\"\"","v":""},null,null,null,null,null,null,null,{"$f":"労働者に係る事項!E391&\"\"","v":""},null,null,null,null,null,null,null,null,null,null,null,null,null,null,null,null,null,null,null,null,null,null,null,null,null,null,null,{"$f":"労働者に係る事項!F391&\"\"","v":""},null,null,null,null,null,null,{"$f":"労働者に係る事項!G391&\"\"","v":""},null,null,null,null,null,{"$f":"労働者に係る事項!H391&\"\"","v":""},null,null,null,null,null,{"$f":"労働者に係る事項!I391&\"\"","v":""},null,null,null,null,null,null,{"$f":"労働者に係る事項!J391&\"\"","v":""},null,null,null,null,null,null,null,null,null,{"$f":"労働者に係る事項!K391&\"\"","v":""},null,null,null,null,null,null,null,null,null,null,null,null,null,null,null,null,{"$f":"労働者に係る事項!L391&\"\"","v":""},null,null,null,null,null,{"$f":"労働者に係る事項!M391&\"\"","v":""},null,null,null,null,null,null,{"$f":"労働者に係る事項!N391&\"\"","v":""},null,null,null,null,null,null,{"$f":"IF(労働者に係る事項!O391=\"\",\"\",労働者に係る事項!O391)","v":""},null,null,null,null,null,null,null,null,null,null,null,null,null,null,null,null,null,null,{"$f":"IF(労働者に係る事項!P391=\"\",\"\",労働者に係る事項!P391)","v":""},null,null,null,null,null,null,null,null,null,null,null,null,null,{"$f":"IF(労働者に係る事項!Q391=\"\",\"\",労働者に係る事項!Q391)","v":""},null,null,null,null,null,null,null,null,null,null,null,null,null,null,null,null,null,null,null,{"$f":"労働者に係る事項!R391&\"\"","v":""},null,null,null,null,null,null,null,{"$f":"労働者に係る事項!S391&\"\"","v":""}]
[null,"53",null,null,{"$f":"労働者に係る事項!B392&\"\"","v":""},null,null,null,null,null,{"$f":"労働者に係る事項!C392&\"\"","v":""},null,null,null,null,null,null,null,null,null,null,null,null,null,null,null,null,null,null,null,null,null,null,null,null,null,null,null,null,null,{"$f":"労働者に係る事項!D392&\"\"","v":""},null,null,null,null,null,null,null,{"$f":"労働者に係る事項!E392&\"\"","v":""},null,null,null,null,null,null,null,null,null,null,null,null,null,null,null,null,null,null,null,null,null,null,null,null,null,null,null,{"$f":"労働者に係る事項!F392&\"\"","v":""},null,null,null,null,null,null,{"$f":"労働者に係る事項!G392&\"\"","v":""},null,null,null,null,null,{"$f":"労働者に係る事項!H392&\"\"","v":""},null,null,null,null,null,{"$f":"労働者に係る事項!I392&\"\"","v":""},null,null,null,null,null,null,{"$f":"労働者に係る事項!J392&\"\"","v":""},null,null,null,null,null,null,null,null,null,{"$f":"労働者に係る事項!K392&\"\"","v":""},null,null,null,null,null,null,null,null,null,null,null,null,null,null,null,null,{"$f":"労働者に係る事項!L392&\"\"","v":""},null,null,null,null,null,{"$f":"労働者に係る事項!M392&\"\"","v":""},null,null,null,null,null,null,{"$f":"労働者に係る事項!N392&\"\"","v":""},null,null,null,null,null,null,{"$f":"IF(労働者に係る事項!O392=\"\",\"\",労働者に係る事項!O392)","v":""},null,null,null,null,null,null,null,null,null,null,null,null,null,null,null,null,null,null,{"$f":"IF(労働者に係る事項!P392=\"\",\"\",労働者に係る事項!P392)","v":""},null,null,null,null,null,null,null,null,null,null,null,null,null,{"$f":"IF(労働者に係る事項!Q392=\"\",\"\",労働者に係る事項!Q392)","v":""},null,null,null,null,null,null,null,null,null,null,null,null,null,null,null,null,null,null,null,{"$f":"労働者に係る事項!R392&\"\"","v":""},null,null,null,null,null,null,null,{"$f":"労働者に係る事項!S392&\"\"","v":""}]
[null,"54",null,null,{"$f":"労働者に係る事項!B393&\"\"","v":""},null,null,null,null,null,{"$f":"労働者に係る事項!C393&\"\"","v":""},null,null,null,null,null,null,null,null,null,null,null,null,null,null,null,null,null,null,null,null,null,null,null,null,null,null,null,null,null,{"$f":"労働者に係る事項!D393&\"\"","v":""},null,null,null,null,null,null,null,{"$f":"労働者に係る事項!E393&\"\"","v":""},null,null,null,null,null,null,null,null,null,null,null,null,null,null,null,null,null,null,null,null,null,null,null,null,null,null,null,{"$f":"労働者に係る事項!F393&\"\"","v":""},null,null,null,null,null,null,{"$f":"労働者に係る事項!G393&\"\"","v":""},null,null,null,null,null,{"$f":"労働者に係る事項!H393&\"\"","v":""},null,null,null,null,null,{"$f":"労働者に係る事項!I393&\"\"","v":""},null,null,null,null,null,null,{"$f":"労働者に係る事項!J393&\"\"","v":""},null,null,null,null,null,null,null,null,null,{"$f":"労働者に係る事項!K393&\"\"","v":""},null,null,null,null,null,null,null,null,null,null,null,null,null,null,null,null,{"$f":"労働者に係る事項!L393&\"\"","v":""},null,null,null,null,null,{"$f":"労働者に係る事項!M393&\"\"","v":""},null,null,null,null,null,null,{"$f":"労働者に係る事項!N393&\"\"","v":""},null,null,null,null,null,null,{"$f":"IF(労働者に係る事項!O393=\"\",\"\",労働者に係る事項!O393)","v":""},null,null,null,null,null,null,null,null,null,null,null,null,null,null,null,null,null,null,{"$f":"IF(労働者に係る事項!P393=\"\",\"\",労働者に係る事項!P393)","v":""},null,null,null,null,null,null,null,null,null,null,null,null,null,{"$f":"IF(労働者に係る事項!Q393=\"\",\"\",労働者に係る事項!Q393)","v":""},null,null,null,null,null,null,null,null,null,null,null,null,null,null,null,null,null,null,null,{"$f":"労働者に係る事項!R393&\"\"","v":""},null,null,null,null,null,null,null,{"$f":"労働者に係る事項!S393&\"\"","v":""}]
[null,"55",null,null,{"$f":"労働者に係る事項!B394&\"\"","v":""},null,null,null,null,null,{"$f":"労働者に係る事項!C394&\"\"","v":""},null,null,null,null,null,null,null,null,null,null,null,null,null,null,null,null,null,null,null,null,null,null,null,null,null,null,null,null,null,{"$f":"労働者に係る事項!D394&\"\"","v":""},null,null,null,null,null,null,null,{"$f":"労働者に係る事項!E394&\"\"","v":""},null,null,null,null,null,null,null,null,null,null,null,null,null,null,null,null,null,null,null,null,null,null,null,null,null,null,null,{"$f":"労働者に係る事項!F394&\"\"","v":""},null,null,null,null,null,null,{"$f":"労働者に係る事項!G394&\"\"","v":""},null,null,null,null,null,{"$f":"労働者に係る事項!H394&\"\"","v":""},null,null,null,null,null,{"$f":"労働者に係る事項!I394&\"\"","v":""},null,null,null,null,null,null,{"$f":"労働者に係る事項!J394&\"\"","v":""},null,null,null,null,null,null,null,null,null,{"$f":"労働者に係る事項!K394&\"\"","v":""},null,null,null,null,null,null,null,null,null,null,null,null,null,null,null,null,{"$f":"労働者に係る事項!L394&\"\"","v":""},null,null,null,null,null,{"$f":"労働者に係る事項!M394&\"\"","v":""},null,null,null,null,null,null,{"$f":"労働者に係る事項!N394&\"\"","v":""},null,null,null,null,null,null,{"$f":"IF(労働者に係る事項!O394=\"\",\"\",労働者に係る事項!O394)","v":""},null,null,null,null,null,null,null,null,null,null,null,null,null,null,null,null,null,null,{"$f":"IF(労働者に係る事項!P394=\"\",\"\",労働者に係る事項!P394)","v":""},null,null,null,null,null,null,null,null,null,null,null,null,null,{"$f":"IF(労働者に係る事項!Q394=\"\",\"\",労働者に係る事項!Q394)","v":""},null,null,null,null,null,null,null,null,null,null,null,null,null,null,null,null,null,null,null,{"$f":"労働者に係る事項!R394&\"\"","v":""},null,null,null,null,null,null,null,{"$f":"労働者に係る事項!S394&\"\"","v":""}]
[null,"56",null,null,{"$f":"労働者に係る事項!B395&\"\"","v":""},null,null,null,null,null,{"$f":"労働者に係る事項!C395&\"\"","v":""},null,null,null,null,null,null,null,null,null,null,null,null,null,null,null,null,null,null,null,null,null,null,null,null,null,null,null,null,null,{"$f":"労働者に係る事項!D395&\"\"","v":""},null,null,null,null,null,null,null,{"$f":"労働者に係る事項!E395&\"\"","v":""},null,null,null,null,null,null,null,null,null,null,null,null,null,null,null,null,null,null,null,null,null,null,null,null,null,null,null,{"$f":"労働者に係る事項!F395&\"\"","v":""},null,null,null,null,null,null,{"$f":"労働者に係る事項!G395&\"\"","v":""},null,null,null,null,null,{"$f":"労働者に係る事項!H395&\"\"","v":""},null,null,null,null,null,{"$f":"労働者に係る事項!I395&\"\"","v":""},null,null,null,null,null,null,{"$f":"労働者に係る事項!J395&\"\"","v":""},null,null,null,null,null,null,null,null,null,{"$f":"労働者に係る事項!K395&\"\"","v":""},null,null,null,null,null,null,null,null,null,null,null,null,null,null,null,null,{"$f":"労働者に係る事項!L395&\"\"","v":""},null,null,null,null,null,{"$f":"労働者に係る事項!M395&\"\"","v":""},null,null,null,null,null,null,{"$f":"労働者に係る事項!N395&\"\"","v":""},null,null,null,null,null,null,{"$f":"IF(労働者に係る事項!O395=\"\",\"\",労働者に係る事項!O395)","v":""},null,null,null,null,null,null,null,null,null,null,null,null,null,null,null,null,null,null,{"$f":"IF(労働者に係る事項!P395=\"\",\"\",労働者に係る事項!P395)","v":""},null,null,null,null,null,null,null,null,null,null,null,null,null,{"$f":"IF(労働者に係る事項!Q395=\"\",\"\",労働者に係る事項!Q395)","v":""},null,null,null,null,null,null,null,null,null,null,null,null,null,null,null,null,null,null,null,{"$f":"労働者に係る事項!R395&\"\"","v":""},null,null,null,null,null,null,null,{"$f":"労働者に係る事項!S395&\"\"","v":""}]
[null,"57",null,null,{"$f":"労働者に係る事項!B396&\"\"","v":""},null,null,null,null,null,{"$f":"労働者に係る事項!C396&\"\"","v":""},null,null,null,null,null,null,null,null,null,null,null,null,null,null,null,null,null,null,null,null,null,null,null,null,null,null,null,null,null,{"$f":"労働者に係る事項!D396&\"\"","v":""},null,null,null,null,null,null,null,{"$f":"労働者に係る事項!E396&\"\"","v":""},null,null,null,null,null,null,null,null,null,null,null,null,null,null,null,null,null,null,null,null,null,null,null,null,null,null,null,{"$f":"労働者に係る事項!F396&\"\"","v":""},null,null,null,null,null,null,{"$f":"労働者に係る事項!G396&\"\"","v":""},null,null,null,null,null,{"$f":"労働者に係る事項!H396&\"\"","v":""},null,null,null,null,null,{"$f":"労働者に係る事項!I396&\"\"","v":""},null,null,null,null,null,null,{"$f":"労働者に係る事項!J396&\"\"","v":""},null,null,null,null,null,null,null,null,null,{"$f":"労働者に係る事項!K396&\"\"","v":""},null,null,null,null,null,null,null,null,null,null,null,null,null,null,null,null,{"$f":"労働者に係る事項!L396&\"\"","v":""},null,null,null,null,null,{"$f":"労働者に係る事項!M396&\"\"","v":""},null,null,null,null,null,null,{"$f":"労働者に係る事項!N396&\"\"","v":""},null,null,null,null,null,null,{"$f":"IF(労働者に係る事項!O396=\"\",\"\",労働者に係る事項!O396)","v":""},null,null,null,null,null,null,null,null,null,null,null,null,null,null,null,null,null,null,{"$f":"IF(労働者に係る事項!P396=\"\",\"\",労働者に係る事項!P396)","v":""},null,null,null,null,null,null,null,null,null,null,null,null,null,{"$f":"IF(労働者に係る事項!Q396=\"\",\"\",労働者に係る事項!Q396)","v":""},null,null,null,null,null,null,null,null,null,null,null,null,null,null,null,null,null,null,null,{"$f":"労働者に係る事項!R396&\"\"","v":""},null,null,null,null,null,null,null,{"$f":"労働者に係る事項!S396&\"\"","v":""}]
[null,"58",null,null,{"$f":"労働者に係る事項!B397&\"\"","v":""},null,null,null,null,null,{"$f":"労働者に係る事項!C397&\"\"","v":""},null,null,null,null,null,null,null,null,null,null,null,null,null,null,null,null,null,null,null,null,null,null,null,null,null,null,null,null,null,{"$f":"労働者に係る事項!D397&\"\"","v":""},null,null,null,null,null,null,null,{"$f":"労働者に係る事項!E397&\"\"","v":""},null,null,null,null,null,null,null,null,null,null,null,null,null,null,null,null,null,null,null,null,null,null,null,null,null,null,null,{"$f":"労働者に係る事項!F397&\"\"","v":""},null,null,null,null,null,null,{"$f":"労働者に係る事項!G397&\"\"","v":""},null,null,null,null,null,{"$f":"労働者に係る事項!H397&\"\"","v":""},null,null,null,null,null,{"$f":"労働者に係る事項!I397&\"\"","v":""},null,null,null,null,null,null,{"$f":"労働者に係る事項!J397&\"\"","v":""},null,null,null,null,null,null,null,null,null,{"$f":"労働者に係る事項!K397&\"\"","v":""},null,null,null,null,null,null,null,null,null,null,null,null,null,null,null,null,{"$f":"労働者に係る事項!L397&\"\"","v":""},null,null,null,null,null,{"$f":"労働者に係る事項!M397&\"\"","v":""},null,null,null,null,null,null,{"$f":"労働者に係る事項!N397&\"\"","v":""},null,null,null,null,null,null,{"$f":"IF(労働者に係る事項!O397=\"\",\"\",労働者に係る事項!O397)","v":""},null,null,null,null,null,null,null,null,null,null,null,null,null,null,null,null,null,null,{"$f":"IF(労働者に係る事項!P397=\"\",\"\",労働者に係る事項!P397)","v":""},null,null,null,null,null,null,null,null,null,null,null,null,null,{"$f":"IF(労働者に係る事項!Q397=\"\",\"\",労働者に係る事項!Q397)","v":""},null,null,null,null,null,null,null,null,null,null,null,null,null,null,null,null,null,null,null,{"$f":"労働者に係る事項!R397&\"\"","v":""},null,null,null,null,null,null,null,{"$f":"労働者に係る事項!S397&\"\"","v":""}]
[null,"59",null,null,{"$f":"労働者に係る事項!B398&\"\"","v":""},null,null,null,null,null,{"$f":"労働者に係る事項!C398&\"\"","v":""},null,null,null,null,null,null,null,null,null,null,null,null,null,null,null,null,null,null,null,null,null,null,null,null,null,null,null,null,null,{"$f":"労働者に係る事項!D398&\"\"","v":""},null,null,null,null,null,null,null,{"$f":"労働者に係る事項!E398&\"\"","v":""},null,null,null,null,null,null,null,null,null,null,null,null,null,null,null,null,null,null,null,null,null,null,null,null,null,null,null,{"$f":"労働者に係る事項!F398&\"\"","v":""},null,null,null,null,null,null,{"$f":"労働者に係る事項!G398&\"\"","v":""},null,null,null,null,null,{"$f":"労働者に係る事項!H398&\"\"","v":""},null,null,null,null,null,{"$f":"労働者に係る事項!I398&\"\"","v":""},null,null,null,null,null,null,{"$f":"労働者に係る事項!J398&\"\"","v":""},null,null,null,null,null,null,null,null,null,{"$f":"労働者に係る事項!K398&\"\"","v":""},null,null,null,null,null,null,null,null,null,null,null,null,null,null,null,null,{"$f":"労働者に係る事項!L398&\"\"","v":""},null,null,null,null,null,{"$f":"労働者に係る事項!M398&\"\"","v":""},null,null,null,null,null,null,{"$f":"労働者に係る事項!N398&\"\"","v":""},null,null,null,null,null,null,{"$f":"IF(労働者に係る事項!O398=\"\",\"\",労働者に係る事項!O398)","v":""},null,null,null,null,null,null,null,null,null,null,null,null,null,null,null,null,null,null,{"$f":"IF(労働者に係る事項!P398=\"\",\"\",労働者に係る事項!P398)","v":""},null,null,null,null,null,null,null,null,null,null,null,null,null,{"$f":"IF(労働者に係る事項!Q398=\"\",\"\",労働者に係る事項!Q398)","v":""},null,null,null,null,null,null,null,null,null,null,null,null,null,null,null,null,null,null,null,{"$f":"労働者に係る事項!R398&\"\"","v":""},null,null,null,null,null,null,null,{"$f":"労働者に係る事項!S398&\"\"","v":""}]
[null,"60",null,null,{"$f":"労働者に係る事項!B399&\"\"","v":""},null,null,null,null,null,{"$f":"労働者に係る事項!C399&\"\"","v":""},null,null,null,null,null,null,null,null,null,null,null,null,null,null,null,null,null,null,null,null,null,null,null,null,null,null,null,null,null,{"$f":"労働者に係る事項!D399&\"\"","v":""},null,null,null,null,null,null,null,{"$f":"労働者に係る事項!E399&\"\"","v":""},null,null,null,null,null,null,null,null,null,null,null,null,null,null,null,null,null,null,null,null,null,null,null,null,null,null,null,{"$f":"労働者に係る事項!F399&\"\"","v":""},null,null,null,null,null,null,{"$f":"労働者に係る事項!G399&\"\"","v":""},null,null,null,null,null,{"$f":"労働者に係る事項!H399&\"\"","v":""},null,null,null,null,null,{"$f":"労働者に係る事項!I399&\"\"","v":""},null,null,null,null,null,null,{"$f":"労働者に係る事項!J399&\"\"","v":""},null,null,null,null,null,null,null,null,null,{"$f":"労働者に係る事項!K399&\"\"","v":""},null,null,null,null,null,null,null,null,null,null,null,null,null,null,null,null,{"$f":"労働者に係る事項!L399&\"\"","v":""},null,null,null,null,null,{"$f":"労働者に係る事項!M399&\"\"","v":""},null,null,null,null,null,null,{"$f":"労働者に係る事項!N399&\"\"","v":""},null,null,null,null,null,null,{"$f":"IF(労働者に係る事項!O399=\"\",\"\",労働者に係る事項!O399)","v":""},null,null,null,null,null,null,null,null,null,null,null,null,null,null,null,null,null,null,{"$f":"IF(労働者に係る事項!P399=\"\",\"\",労働者に係る事項!P399)","v":""},null,null,null,null,null,null,null,null,null,null,null,null,null,{"$f":"IF(労働者に係る事項!Q399=\"\",\"\",労働者に係る事項!Q399)","v":""},null,null,null,null,null,null,null,null,null,null,null,null,null,null,null,null,null,null,null,{"$f":"労働者に係る事項!R399&\"\"","v":""},null,null,null,null,null,null,null,{"$f":"労働者に係る事項!S399&\"\"","v":""}]
[null,"61",null,null,{"$f":"労働者に係る事項!B400&\"\"","v":""},null,null,null,null,null,{"$f":"労働者に係る事項!C400&\"\"","v":""},null,null,null,null,null,null,null,null,null,null,null,null,null,null,null,null,null,null,null,null,null,null,null,null,null,null,null,null,null,{"$f":"労働者に係る事項!D400&\"\"","v":""},null,null,null,null,null,null,null,{"$f":"労働者に係る事項!E400&\"\"","v":""},null,null,null,null,null,null,null,null,null,null,null,null,null,null,null,null,null,null,null,null,null,null,null,null,null,null,null,{"$f":"労働者に係る事項!F400&\"\"","v":""},null,null,null,null,null,null,{"$f":"労働者に係る事項!G400&\"\"","v":""},null,null,null,null,null,{"$f":"労働者に係る事項!H400&\"\"","v":""},null,null,null,null,null,{"$f":"労働者に係る事項!I400&\"\"","v":""},null,null,null,null,null,null,{"$f":"労働者に係る事項!J400&\"\"","v":""},null,null,null,null,null,null,null,null,null,{"$f":"労働者に係る事項!K400&\"\"","v":""},null,null,null,null,null,null,null,null,null,null,null,null,null,null,null,null,{"$f":"労働者に係る事項!L400&\"\"","v":""},null,null,null,null,null,{"$f":"労働者に係る事項!M400&\"\"","v":""},null,null,null,null,null,null,{"$f":"労働者に係る事項!N400&\"\"","v":""},null,null,null,null,null,null,{"$f":"IF(労働者に係る事項!O400=\"\",\"\",労働者に係る事項!O400)","v":""},null,null,null,null,null,null,null,null,null,null,null,null,null,null,null,null,null,null,{"$f":"IF(労働者に係る事項!P400=\"\",\"\",労働者に係る事項!P400)","v":""},null,null,null,null,null,null,null,null,null,null,null,null,null,{"$f":"IF(労働者に係る事項!Q400=\"\",\"\",労働者に係る事項!Q400)","v":""},null,null,null,null,null,null,null,null,null,null,null,null,null,null,null,null,null,null,null,{"$f":"労働者に係る事項!R400&\"\"","v":""},null,null,null,null,null,null,null,{"$f":"労働者に係る事項!S400&\"\"","v":""}]
[null,"62",null,null,{"$f":"労働者に係る事項!B401&\"\"","v":""},null,null,null,null,null,{"$f":"労働者に係る事項!C401&\"\"","v":""},null,null,null,null,null,null,null,null,null,null,null,null,null,null,null,null,null,null,null,null,null,null,null,null,null,null,null,null,null,{"$f":"労働者に係る事項!D401&\"\"","v":""},null,null,null,null,null,null,null,{"$f":"労働者に係る事項!E401&\"\"","v":""},null,null,null,null,null,null,null,null,null,null,null,null,null,null,null,null,null,null,null,null,null,null,null,null,null,null,null,{"$f":"労働者に係る事項!F401&\"\"","v":""},null,null,null,null,null,null,{"$f":"労働者に係る事項!G401&\"\"","v":""},null,null,null,null,null,{"$f":"労働者に係る事項!H401&\"\"","v":""},null,null,null,null,null,{"$f":"労働者に係る事項!I401&\"\"","v":""},null,null,null,null,null,null,{"$f":"労働者に係る事項!J401&\"\"","v":""},null,null,null,null,null,null,null,null,null,{"$f":"労働者に係る事項!K401&\"\"","v":""},null,null,null,null,null,null,null,null,null,null,null,null,null,null,null,null,{"$f":"労働者に係る事項!L401&\"\"","v":""},null,null,null,null,null,{"$f":"労働者に係る事項!M401&\"\"","v":""},null,null,null,null,null,null,{"$f":"労働者に係る事項!N401&\"\"","v":""},null,null,null,null,null,null,{"$f":"IF(労働者に係る事項!O401=\"\",\"\",労働者に係る事項!O401)","v":""},null,null,null,null,null,null,null,null,null,null,null,null,null,null,null,null,null,null,{"$f":"IF(労働者に係る事項!P401=\"\",\"\",労働者に係る事項!P401)","v":""},null,null,null,null,null,null,null,null,null,null,null,null,null,{"$f":"IF(労働者に係る事項!Q401=\"\",\"\",労働者に係る事項!Q401)","v":""},null,null,null,null,null,null,null,null,null,null,null,null,null,null,null,null,null,null,null,{"$f":"労働者に係る事項!R401&\"\"","v":""},null,null,null,null,null,null,null,{"$f":"労働者に係る事項!S401&\"\"","v":""}]
[null,"63",null,null,{"$f":"労働者に係る事項!B402&\"\"","v":""},null,null,null,null,null,{"$f":"労働者に係る事項!C402&\"\"","v":""},null,null,null,null,null,null,null,null,null,null,null,null,null,null,null,null,null,null,null,null,null,null,null,null,null,null,null,null,null,{"$f":"労働者に係る事項!D402&\"\"","v":""},null,null,null,null,null,null,null,{"$f":"労働者に係る事項!E402&\"\"","v":""},null,null,null,null,null,null,null,null,null,null,null,null,null,null,null,null,null,null,null,null,null,null,null,null,null,null,null,{"$f":"労働者に係る事項!F402&\"\"","v":""},null,null,null,null,null,null,{"$f":"労働者に係る事項!G402&\"\"","v":""},null,null,null,null,null,{"$f":"労働者に係る事項!H402&\"\"","v":""},null,null,null,null,null,{"$f":"労働者に係る事項!I402&\"\"","v":""},null,null,null,null,null,null,{"$f":"労働者に係る事項!J402&\"\"","v":""},null,null,null,null,null,null,null,null,null,{"$f":"労働者に係る事項!K402&\"\"","v":""},null,null,null,null,null,null,null,null,null,null,null,null,null,null,null,null,{"$f":"労働者に係る事項!L402&\"\"","v":""},null,null,null,null,null,{"$f":"労働者に係る事項!M402&\"\"","v":""},null,null,null,null,null,null,{"$f":"労働者に係る事項!N402&\"\"","v":""},null,null,null,null,null,null,{"$f":"IF(労働者に係る事項!O402=\"\",\"\",労働者に係る事項!O402)","v":""},null,null,null,null,null,null,null,null,null,null,null,null,null,null,null,null,null,null,{"$f":"IF(労働者に係る事項!P402=\"\",\"\",労働者に係る事項!P402)","v":""},null,null,null,null,null,null,null,null,null,null,null,null,null,{"$f":"IF(労働者に係る事項!Q402=\"\",\"\",労働者に係る事項!Q402)","v":""},null,null,null,null,null,null,null,null,null,null,null,null,null,null,null,null,null,null,null,{"$f":"労働者に係る事項!R402&\"\"","v":""},null,null,null,null,null,null,null,{"$f":"労働者に係る事項!S402&\"\"","v":""}]
[null,"64",null,null,{"$f":"労働者に係る事項!B403&\"\"","v":""},null,null,null,null,null,{"$f":"労働者に係る事項!C403&\"\"","v":""},null,null,null,null,null,null,null,null,null,null,null,null,null,null,null,null,null,null,null,null,null,null,null,null,null,null,null,null,null,{"$f":"労働者に係る事項!D403&\"\"","v":""},null,null,null,null,null,null,null,{"$f":"労働者に係る事項!E403&\"\"","v":""},null,null,null,null,null,null,null,null,null,null,null,null,null,null,null,null,null,null,null,null,null,null,null,null,null,null,null,{"$f":"労働者に係る事項!F403&\"\"","v":""},null,null,null,null,null,null,{"$f":"労働者に係る事項!G403&\"\"","v":""},null,null,null,null,null,{"$f":"労働者に係る事項!H403&\"\"","v":""},null,null,null,null,null,{"$f":"労働者に係る事項!I403&\"\"","v":""},null,null,null,null,null,null,{"$f":"労働者に係る事項!J403&\"\"","v":""},null,null,null,null,null,null,null,null,null,{"$f":"労働者に係る事項!K403&\"\"","v":""},null,null,null,null,null,null,null,null,null,null,null,null,null,null,null,null,{"$f":"労働者に係る事項!L403&\"\"","v":""},null,null,null,null,null,{"$f":"労働者に係る事項!M403&\"\"","v":""},null,null,null,null,null,null,{"$f":"労働者に係る事項!N403&\"\"","v":""},null,null,null,null,null,null,{"$f":"IF(労働者に係る事項!O403=\"\",\"\",労働者に係る事項!O403)","v":""},null,null,null,null,null,null,null,null,null,null,null,null,null,null,null,null,null,null,{"$f":"IF(労働者に係る事項!P403=\"\",\"\",労働者に係る事項!P403)","v":""},null,null,null,null,null,null,null,null,null,null,null,null,null,{"$f":"IF(労働者に係る事項!Q403=\"\",\"\",労働者に係る事項!Q403)","v":""},null,null,null,null,null,null,null,null,null,null,null,null,null,null,null,null,null,null,null,{"$f":"労働者に係る事項!R403&\"\"","v":""},null,null,null,null,null,null,null,{"$f":"労働者に係る事項!S403&\"\"","v":""}]
[null,"65",null,null,{"$f":"労働者に係る事項!B404&\"\"","v":""},null,null,null,null,null,{"$f":"労働者に係る事項!C404&\"\"","v":""},null,null,null,null,null,null,null,null,null,null,null,null,null,null,null,null,null,null,null,null,null,null,null,null,null,null,null,null,null,{"$f":"労働者に係る事項!D404&\"\"","v":""},null,null,null,null,null,null,null,{"$f":"労働者に係る事項!E404&\"\"","v":""},null,null,null,null,null,null,null,null,null,null,null,null,null,null,null,null,null,null,null,null,null,null,null,null,null,null,null,{"$f":"労働者に係る事項!F404&\"\"","v":""},null,null,null,null,null,null,{"$f":"労働者に係る事項!G404&\"\"","v":""},null,null,null,null,null,{"$f":"労働者に係る事項!H404&\"\"","v":""},null,null,null,null,null,{"$f":"労働者に係る事項!I404&\"\"","v":""},null,null,null,null,null,null,{"$f":"労働者に係る事項!J404&\"\"","v":""},null,null,null,null,null,null,null,null,null,{"$f":"労働者に係る事項!K404&\"\"","v":""},null,null,null,null,null,null,null,null,null,null,null,null,null,null,null,null,{"$f":"労働者に係る事項!L404&\"\"","v":""},null,null,null,null,null,{"$f":"労働者に係る事項!M404&\"\"","v":""},null,null,null,null,null,null,{"$f":"労働者に係る事項!N404&\"\"","v":""},null,null,null,null,null,null,{"$f":"IF(労働者に係る事項!O404=\"\",\"\",労働者に係る事項!O404)","v":""},null,null,null,null,null,null,null,null,null,null,null,null,null,null,null,null,null,null,{"$f":"IF(労働者に係る事項!P404=\"\",\"\",労働者に係る事項!P404)","v":""},null,null,null,null,null,null,null,null,null,null,null,null,null,{"$f":"IF(労働者に係る事項!Q404=\"\",\"\",労働者に係る事項!Q404)","v":""},null,null,null,null,null,null,null,null,null,null,null,null,null,null,null,null,null,null,null,{"$f":"労働者に係る事項!R404&\"\"","v":""},null,null,null,null,null,null,null,{"$f":"労働者に係る事項!S404&\"\"","v":""}]
[null,"66",null,null,{"$f":"労働者に係る事項!B405&\"\"","v":""},null,null,null,null,null,{"$f":"労働者に係る事項!C405&\"\"","v":""},null,null,null,null,null,null,null,null,null,null,null,null,null,null,null,null,null,null,null,null,null,null,null,null,null,null,null,null,null,{"$f":"労働者に係る事項!D405&\"\"","v":""},null,null,null,null,null,null,null,{"$f":"労働者に係る事項!E405&\"\"","v":""},null,null,null,null,null,null,null,null,null,null,null,null,null,null,null,null,null,null,null,null,null,null,null,null,null,null,null,{"$f":"労働者に係る事項!F405&\"\"","v":""},null,null,null,null,null,null,{"$f":"労働者に係る事項!G405&\"\"","v":""},null,null,null,null,null,{"$f":"労働者に係る事項!H405&\"\"","v":""},null,null,null,null,null,{"$f":"労働者に係る事項!I405&\"\"","v":""},null,null,null,null,null,null,{"$f":"労働者に係る事項!J405&\"\"","v":""},null,null,null,null,null,null,null,null,null,{"$f":"労働者に係る事項!K405&\"\"","v":""},null,null,null,null,null,null,null,null,null,null,null,null,null,null,null,null,{"$f":"労働者に係る事項!L405&\"\"","v":""},null,null,null,null,null,{"$f":"労働者に係る事項!M405&\"\"","v":""},null,null,null,null,null,null,{"$f":"労働者に係る事項!N405&\"\"","v":""},null,null,null,null,null,null,{"$f":"IF(労働者に係る事項!O405=\"\",\"\",労働者に係る事項!O405)","v":""},null,null,null,null,null,null,null,null,null,null,null,null,null,null,null,null,null,null,{"$f":"IF(労働者に係る事項!P405=\"\",\"\",労働者に係る事項!P405)","v":""},null,null,null,null,null,null,null,null,null,null,null,null,null,{"$f":"IF(労働者に係る事項!Q405=\"\",\"\",労働者に係る事項!Q405)","v":""},null,null,null,null,null,null,null,null,null,null,null,null,null,null,null,null,null,null,null,{"$f":"労働者に係る事項!R405&\"\"","v":""},null,null,null,null,null,null,null,{"$f":"労働者に係る事項!S405&\"\"","v":""}]
[null,"67",null,null,{"$f":"労働者に係る事項!B406&\"\"","v":""},null,null,null,null,null,{"$f":"労働者に係る事項!C406&\"\"","v":""},null,null,null,null,null,null,null,null,null,null,null,null,null,null,null,null,null,null,null,null,null,null,null,null,null,null,null,null,null,{"$f":"労働者に係る事項!D406&\"\"","v":""},null,null,null,null,null,null,null,{"$f":"労働者に係る事項!E406&\"\"","v":""},null,null,null,null,null,null,null,null,null,null,null,null,null,null,null,null,null,null,null,null,null,null,null,null,null,null,null,{"$f":"労働者に係る事項!F406&\"\"","v":""},null,null,null,null,null,null,{"$f":"労働者に係る事項!G406&\"\"","v":""},null,null,null,null,null,{"$f":"労働者に係る事項!H406&\"\"","v":""},null,null,null,null,null,{"$f":"労働者に係る事項!I406&\"\"","v":""},null,null,null,null,null,null,{"$f":"労働者に係る事項!J406&\"\"","v":""},null,null,null,null,null,null,null,null,null,{"$f":"労働者に係る事項!K406&\"\"","v":""},null,null,null,null,null,null,null,null,null,null,null,null,null,null,null,null,{"$f":"労働者に係る事項!L406&\"\"","v":""},null,null,null,null,null,{"$f":"労働者に係る事項!M406&\"\"","v":""},null,null,null,null,null,null,{"$f":"労働者に係る事項!N406&\"\"","v":""},null,null,null,null,null,null,{"$f":"IF(労働者に係る事項!O406=\"\",\"\",労働者に係る事項!O406)","v":""},null,null,null,null,null,null,null,null,null,null,null,null,null,null,null,null,null,null,{"$f":"IF(労働者に係る事項!P406=\"\",\"\",労働者に係る事項!P406)","v":""},null,null,null,null,null,null,null,null,null,null,null,null,null,{"$f":"IF(労働者に係る事項!Q406=\"\",\"\",労働者に係る事項!Q406)","v":""},null,null,null,null,null,null,null,null,null,null,null,null,null,null,null,null,null,null,null,{"$f":"労働者に係る事項!R406&\"\"","v":""},null,null,null,null,null,null,null,{"$f":"労働者に係る事項!S406&\"\"","v":""}]
[null,"68",null,null,{"$f":"労働者に係る事項!B407&\"\"","v":""},null,null,null,null,null,{"$f":"労働者に係る事項!C407&\"\"","v":""},null,null,null,null,null,null,null,null,null,null,null,null,null,null,null,null,null,null,null,null,null,null,null,null,null,null,null,null,null,{"$f":"労働者に係る事項!D407&\"\"","v":""},null,null,null,null,null,null,null,{"$f":"労働者に係る事項!E407&\"\"","v":""},null,null,null,null,null,null,null,null,null,null,null,null,null,null,null,null,null,null,null,null,null,null,null,null,null,null,null,{"$f":"労働者に係る事項!F407&\"\"","v":""},null,null,null,null,null,null,{"$f":"労働者に係る事項!G407&\"\"","v":""},null,null,null,null,null,{"$f":"労働者に係る事項!H407&\"\"","v":""},null,null,null,null,null,{"$f":"労働者に係る事項!I407&\"\"","v":""},null,null,null,null,null,null,{"$f":"労働者に係る事項!J407&\"\"","v":""},null,null,null,null,null,null,null,null,null,{"$f":"労働者に係る事項!K407&\"\"","v":""},null,null,null,null,null,null,null,null,null,null,null,null,null,null,null,null,{"$f":"労働者に係る事項!L407&\"\"","v":""},null,null,null,null,null,{"$f":"労働者に係る事項!M407&\"\"","v":""},null,null,null,null,null,null,{"$f":"労働者に係る事項!N407&\"\"","v":""},null,null,null,null,null,null,{"$f":"IF(労働者に係る事項!O407=\"\",\"\",労働者に係る事項!O407)","v":""},null,null,null,null,null,null,null,null,null,null,null,null,null,null,null,null,null,null,{"$f":"IF(労働者に係る事項!P407=\"\",\"\",労働者に係る事項!P407)","v":""},null,null,null,null,null,null,null,null,null,null,null,null,null,{"$f":"IF(労働者に係る事項!Q407=\"\",\"\",労働者に係る事項!Q407)","v":""},null,null,null,null,null,null,null,null,null,null,null,null,null,null,null,null,null,null,null,{"$f":"労働者に係る事項!R407&\"\"","v":""},null,null,null,null,null,null,null,{"$f":"労働者に係る事項!S407&\"\"","v":""}]
[null,"69",null,null,{"$f":"労働者に係る事項!B408&\"\"","v":""},null,null,null,null,null,{"$f":"労働者に係る事項!C408&\"\"","v":""},null,null,null,null,null,null,null,null,null,null,null,null,null,null,null,null,null,null,null,null,null,null,null,null,null,null,null,null,null,{"$f":"労働者に係る事項!D408&\"\"","v":""},null,null,null,null,null,null,null,{"$f":"労働者に係る事項!E408&\"\"","v":""},null,null,null,null,null,null,null,null,null,null,null,null,null,null,null,null,null,null,null,null,null,null,null,null,null,null,null,{"$f":"労働者に係る事項!F408&\"\"","v":""},null,null,null,null,null,null,{"$f":"労働者に係る事項!G408&\"\"","v":""},null,null,null,null,null,{"$f":"労働者に係る事項!H408&\"\"","v":""},null,null,null,null,null,{"$f":"労働者に係る事項!I408&\"\"","v":""},null,null,null,null,null,null,{"$f":"労働者に係る事項!J408&\"\"","v":""},null,null,null,null,null,null,null,null,null,{"$f":"労働者に係る事項!K408&\"\"","v":""},null,null,null,null,null,null,null,null,null,null,null,null,null,null,null,null,{"$f":"労働者に係る事項!L408&\"\"","v":""},null,null,null,null,null,{"$f":"労働者に係る事項!M408&\"\"","v":""},null,null,null,null,null,null,{"$f":"労働者に係る事項!N408&\"\"","v":""},null,null,null,null,null,null,{"$f":"IF(労働者に係る事項!O408=\"\",\"\",労働者に係る事項!O408)","v":""},null,null,null,null,null,null,null,null,null,null,null,null,null,null,null,null,null,null,{"$f":"IF(労働者に係る事項!P408=\"\",\"\",労働者に係る事項!P408)","v":""},null,null,null,null,null,null,null,null,null,null,null,null,null,{"$f":"IF(労働者に係る事項!Q408=\"\",\"\",労働者に係る事項!Q408)","v":""},null,null,null,null,null,null,null,null,null,null,null,null,null,null,null,null,null,null,null,{"$f":"労働者に係る事項!R408&\"\"","v":""},null,null,null,null,null,null,null,{"$f":"労働者に係る事項!S408&\"\"","v":""}]
[null,"70",null,null,{"$f":"労働者に係る事項!B409&\"\"","v":""},null,null,null,null,null,{"$f":"労働者に係る事項!C409&\"\"","v":""},null,null,null,null,null,null,null,null,null,null,null,null,null,null,null,null,null,null,null,null,null,null,null,null,null,null,null,null,null,{"$f":"労働者に係る事項!D409&\"\"","v":""},null,null,null,null,null,null,null,{"$f":"労働者に係る事項!E409&\"\"","v":""},null,null,null,null,null,null,null,null,null,null,null,null,null,null,null,null,null,null,null,null,null,null,null,null,null,null,null,{"$f":"労働者に係る事項!F409&\"\"","v":""},null,null,null,null,null,null,{"$f":"労働者に係る事項!G409&\"\"","v":""},null,null,null,null,null,{"$f":"労働者に係る事項!H409&\"\"","v":""},null,null,null,null,null,{"$f":"労働者に係る事項!I409&\"\"","v":""},null,null,null,null,null,null,{"$f":"労働者に係る事項!J409&\"\"","v":""},null,null,null,null,null,null,null,null,null,{"$f":"労働者に係る事項!K409&\"\"","v":""},null,null,null,null,null,null,null,null,null,null,null,null,null,null,null,null,{"$f":"労働者に係る事項!L409&\"\"","v":""},null,null,null,null,null,{"$f":"労働者に係る事項!M409&\"\"","v":""},null,null,null,null,null,null,{"$f":"労働者に係る事項!N409&\"\"","v":""},null,null,null,null,null,null,{"$f":"IF(労働者に係る事項!O409=\"\",\"\",労働者に係る事項!O409)","v":""},null,null,null,null,null,null,null,null,null,null,null,null,null,null,null,null,null,null,{"$f":"IF(労働者に係る事項!P409=\"\",\"\",労働者に係る事項!P409)","v":""},null,null,null,null,null,null,null,null,null,null,null,null,null,{"$f":"IF(労働者に係る事項!Q409=\"\",\"\",労働者に係る事項!Q409)","v":""},null,null,null,null,null,null,null,null,null,null,null,null,null,null,null,null,null,null,null,{"$f":"労働者に係る事項!R409&\"\"","v":""},null,null,null,null,null,null,null,{"$f":"労働者に係る事項!S409&\"\"","v":""}]
[null,"71",null,null,{"$f":"労働者に係る事項!B410&\"\"","v":""},null,null,null,null,null,{"$f":"労働者に係る事項!C410&\"\"","v":""},null,null,null,null,null,null,null,null,null,null,null,null,null,null,null,null,null,null,null,null,null,null,null,null,null,null,null,null,null,{"$f":"労働者に係る事項!D410&\"\"","v":""},null,null,null,null,null,null,null,{"$f":"労働者に係る事項!E410&\"\"","v":""},null,null,null,null,null,null,null,null,null,null,null,null,null,null,null,null,null,null,null,null,null,null,null,null,null,null,null,{"$f":"労働者に係る事項!F410&\"\"","v":""},null,null,null,null,null,null,{"$f":"労働者に係る事項!G410&\"\"","v":""},null,null,null,null,null,{"$f":"労働者に係る事項!H410&\"\"","v":""},null,null,null,null,null,{"$f":"労働者に係る事項!I410&\"\"","v":""},null,null,null,null,null,null,{"$f":"労働者に係る事項!J410&\"\"","v":""},null,null,null,null,null,null,null,null,null,{"$f":"労働者に係る事項!K410&\"\"","v":""},null,null,null,null,null,null,null,null,null,null,null,null,null,null,null,null,{"$f":"労働者に係る事項!L410&\"\"","v":""},null,null,null,null,null,{"$f":"労働者に係る事項!M410&\"\"","v":""},null,null,null,null,null,null,{"$f":"労働者に係る事項!N410&\"\"","v":""},null,null,null,null,null,null,{"$f":"IF(労働者に係る事項!O410=\"\",\"\",労働者に係る事項!O410)","v":""},null,null,null,null,null,null,null,null,null,null,null,null,null,null,null,null,null,null,{"$f":"IF(労働者に係る事項!P410=\"\",\"\",労働者に係る事項!P410)","v":""},null,null,null,null,null,null,null,null,null,null,null,null,null,{"$f":"IF(労働者に係る事項!Q410=\"\",\"\",労働者に係る事項!Q410)","v":""},null,null,null,null,null,null,null,null,null,null,null,null,null,null,null,null,null,null,null,{"$f":"労働者に係る事項!R410&\"\"","v":""},null,null,null,null,null,null,null,{"$f":"労働者に係る事項!S410&\"\"","v":""}]
[null,"72",null,null,{"$f":"労働者に係る事項!B411&\"\"","v":""},null,null,null,null,null,{"$f":"労働者に係る事項!C411&\"\"","v":""},null,null,null,null,null,null,null,null,null,null,null,null,null,null,null,null,null,null,null,null,null,null,null,null,null,null,null,null,null,{"$f":"労働者に係る事項!D411&\"\"","v":""},null,null,null,null,null,null,null,{"$f":"労働者に係る事項!E411&\"\"","v":""},null,null,null,null,null,null,null,null,null,null,null,null,null,null,null,null,null,null,null,null,null,null,null,null,null,null,null,{"$f":"労働者に係る事項!F411&\"\"","v":""},null,null,null,null,null,null,{"$f":"労働者に係る事項!G411&\"\"","v":""},null,null,null,null,null,{"$f":"労働者に係る事項!H411&\"\"","v":""},null,null,null,null,null,{"$f":"労働者に係る事項!I411&\"\"","v":""},null,null,null,null,null,null,{"$f":"労働者に係る事項!J411&\"\"","v":""},null,null,null,null,null,null,null,null,null,{"$f":"労働者に係る事項!K411&\"\"","v":""},null,null,null,null,null,null,null,null,null,null,null,null,null,null,null,null,{"$f":"労働者に係る事項!L411&\"\"","v":""},null,null,null,null,null,{"$f":"労働者に係る事項!M411&\"\"","v":""},null,null,null,null,null,null,{"$f":"労働者に係る事項!N411&\"\"","v":""},null,null,null,null,null,null,{"$f":"IF(労働者に係る事項!O411=\"\",\"\",労働者に係る事項!O411)","v":""},null,null,null,null,null,null,null,null,null,null,null,null,null,null,null,null,null,null,{"$f":"IF(労働者に係る事項!P411=\"\",\"\",労働者に係る事項!P411)","v":""},null,null,null,null,null,null,null,null,null,null,null,null,null,{"$f":"IF(労働者に係る事項!Q411=\"\",\"\",労働者に係る事項!Q411)","v":""},null,null,null,null,null,null,null,null,null,null,null,null,null,null,null,null,null,null,null,{"$f":"労働者に係る事項!R411&\"\"","v":""},null,null,null,null,null,null,null,{"$f":"労働者に係る事項!S411&\"\"","v":""}]
[null,"73",null,null,{"$f":"労働者に係る事項!B412&\"\"","v":""},null,null,null,null,null,{"$f":"労働者に係る事項!C412&\"\"","v":""},null,null,null,null,null,null,null,null,null,null,null,null,null,null,null,null,null,null,null,null,null,null,null,null,null,null,null,null,null,{"$f":"労働者に係る事項!D412&\"\"","v":""},null,null,null,null,null,null,null,{"$f":"労働者に係る事項!E412&\"\"","v":""},null,null,null,null,null,null,null,null,null,null,null,null,null,null,null,null,null,null,null,null,null,null,null,null,null,null,null,{"$f":"労働者に係る事項!F412&\"\"","v":""},null,null,null,null,null,null,{"$f":"労働者に係る事項!G412&\"\"","v":""},null,null,null,null,null,{"$f":"労働者に係る事項!H412&\"\"","v":""},null,null,null,null,null,{"$f":"労働者に係る事項!I412&\"\"","v":""},null,null,null,null,null,null,{"$f":"労働者に係る事項!J412&\"\"","v":""},null,null,null,null,null,null,null,null,null,{"$f":"労働者に係る事項!K412&\"\"","v":""},null,null,null,null,null,null,null,null,null,null,null,null,null,null,null,null,{"$f":"労働者に係る事項!L412&\"\"","v":""},null,null,null,null,null,{"$f":"労働者に係る事項!M412&\"\"","v":""},null,null,null,null,null,null,{"$f":"労働者に係る事項!N412&\"\"","v":""},null,null,null,null,null,null,{"$f":"IF(労働者に係る事項!O412=\"\",\"\",労働者に係る事項!O412)","v":""},null,null,null,null,null,null,null,null,null,null,null,null,null,null,null,null,null,null,{"$f":"IF(労働者に係る事項!P412=\"\",\"\",労働者に係る事項!P412)","v":""},null,null,null,null,null,null,null,null,null,null,null,null,null,{"$f":"IF(労働者に係る事項!Q412=\"\",\"\",労働者に係る事項!Q412)","v":""},null,null,null,null,null,null,null,null,null,null,null,null,null,null,null,null,null,null,null,{"$f":"労働者に係る事項!R412&\"\"","v":""},null,null,null,null,null,null,null,{"$f":"労働者に係る事項!S412&\"\"","v":""}]
[null,"74",null,null,{"$f":"労働者に係る事項!B413&\"\"","v":""},null,null,null,null,null,{"$f":"労働者に係る事項!C413&\"\"","v":""},null,null,null,null,null,null,null,null,null,null,null,null,null,null,null,null,null,null,null,null,null,null,null,null,null,null,null,null,null,{"$f":"労働者に係る事項!D413&\"\"","v":""},null,null,null,null,null,null,null,{"$f":"労働者に係る事項!E413&\"\"","v":""},null,null,null,null,null,null,null,null,null,null,null,null,null,null,null,null,null,null,null,null,null,null,null,null,null,null,null,{"$f":"労働者に係る事項!F413&\"\"","v":""},null,null,null,null,null,null,{"$f":"労働者に係る事項!G413&\"\"","v":""},null,null,null,null,null,{"$f":"労働者に係る事項!H413&\"\"","v":""},null,null,null,null,null,{"$f":"労働者に係る事項!I413&\"\"","v":""},null,null,null,null,null,null,{"$f":"労働者に係る事項!J413&\"\"","v":""},null,null,null,null,null,null,null,null,null,{"$f":"労働者に係る事項!K413&\"\"","v":""},null,null,null,null,null,null,null,null,null,null,null,null,null,null,null,null,{"$f":"労働者に係る事項!L413&\"\"","v":""},null,null,null,null,null,{"$f":"労働者に係る事項!M413&\"\"","v":""},null,null,null,null,null,null,{"$f":"労働者に係る事項!N413&\"\"","v":""},null,null,null,null,null,null,{"$f":"IF(労働者に係る事項!O413=\"\",\"\",労働者に係る事項!O413)","v":""},null,null,null,null,null,null,null,null,null,null,null,null,null,null,null,null,null,null,{"$f":"IF(労働者に係る事項!P413=\"\",\"\",労働者に係る事項!P413)","v":""},null,null,null,null,null,null,null,null,null,null,null,null,null,{"$f":"IF(労働者に係る事項!Q413=\"\",\"\",労働者に係る事項!Q413)","v":""},null,null,null,null,null,null,null,null,null,null,null,null,null,null,null,null,null,null,null,{"$f":"労働者に係る事項!R413&\"\"","v":""},null,null,null,null,null,null,null,{"$f":"労働者に係る事項!S413&\"\"","v":""}]
[null,"75",null,null,{"$f":"労働者に係る事項!B414&\"\"","v":""},null,null,null,null,null,{"$f":"労働者に係る事項!C414&\"\"","v":""},null,null,null,null,null,null,null,null,null,null,null,null,null,null,null,null,null,null,null,null,null,null,null,null,null,null,null,null,null,{"$f":"労働者に係る事項!D414&\"\"","v":""},null,null,null,null,null,null,null,{"$f":"労働者に係る事項!E414&\"\"","v":""},null,null,null,null,null,null,null,null,null,null,null,null,null,null,null,null,null,null,null,null,null,null,null,null,null,null,null,{"$f":"労働者に係る事項!F414&\"\"","v":""},null,null,null,null,null,null,{"$f":"労働者に係る事項!G414&\"\"","v":""},null,null,null,null,null,{"$f":"労働者に係る事項!H414&\"\"","v":""},null,null,null,null,null,{"$f":"労働者に係る事項!I414&\"\"","v":""},null,null,null,null,null,null,{"$f":"労働者に係る事項!J414&\"\"","v":""},null,null,null,null,null,null,null,null,null,{"$f":"労働者に係る事項!K414&\"\"","v":""},null,null,null,null,null,null,null,null,null,null,null,null,null,null,null,null,{"$f":"労働者に係る事項!L414&\"\"","v":""},null,null,null,null,null,{"$f":"労働者に係る事項!M414&\"\"","v":""},null,null,null,null,null,null,{"$f":"労働者に係る事項!N414&\"\"","v":""},null,null,null,null,null,null,{"$f":"IF(労働者に係る事項!O414=\"\",\"\",労働者に係る事項!O414)","v":""},null,null,null,null,null,null,null,null,null,null,null,null,null,null,null,null,null,null,{"$f":"IF(労働者に係る事項!P414=\"\",\"\",労働者に係る事項!P414)","v":""},null,null,null,null,null,null,null,null,null,null,null,null,null,{"$f":"IF(労働者に係る事項!Q414=\"\",\"\",労働者に係る事項!Q414)","v":""},null,null,null,null,null,null,null,null,null,null,null,null,null,null,null,null,null,null,null,{"$f":"労働者に係る事項!R414&\"\"","v":""},null,null,null,null,null,null,null,{"$f":"労働者に係る事項!S414&\"\"","v":""}]
[null,"76",null,null,{"$f":"労働者に係る事項!B415&\"\"","v":""},null,null,null,null,null,{"$f":"労働者に係る事項!C415&\"\"","v":""},null,null,null,null,null,null,null,null,null,null,null,null,null,null,null,null,null,null,null,null,null,null,null,null,null,null,null,null,null,{"$f":"労働者に係る事項!D415&\"\"","v":""},null,null,null,null,null,null,null,{"$f":"労働者に係る事項!E415&\"\"","v":""},null,null,null,null,null,null,null,null,null,null,null,null,null,null,null,null,null,null,null,null,null,null,null,null,null,null,null,{"$f":"労働者に係る事項!F415&\"\"","v":""},null,null,null,null,null,null,{"$f":"労働者に係る事項!G415&\"\"","v":""},null,null,null,null,null,{"$f":"労働者に係る事項!H415&\"\"","v":""},null,null,null,null,null,{"$f":"労働者に係る事項!I415&\"\"","v":""},null,null,null,null,null,null,{"$f":"労働者に係る事項!J415&\"\"","v":""},null,null,null,null,null,null,null,null,null,{"$f":"労働者に係る事項!K415&\"\"","v":""},null,null,null,null,null,null,null,null,null,null,null,null,null,null,null,null,{"$f":"労働者に係る事項!L415&\"\"","v":""},null,null,null,null,null,{"$f":"労働者に係る事項!M415&\"\"","v":""},null,null,null,null,null,null,{"$f":"労働者に係る事項!N415&\"\"","v":""},null,null,null,null,null,null,{"$f":"IF(労働者に係る事項!O415=\"\",\"\",労働者に係る事項!O415)","v":""},null,null,null,null,null,null,null,null,null,null,null,null,null,null,null,null,null,null,{"$f":"IF(労働者に係る事項!P415=\"\",\"\",労働者に係る事項!P415)","v":""},null,null,null,null,null,null,null,null,null,null,null,null,null,{"$f":"IF(労働者に係る事項!Q415=\"\",\"\",労働者に係る事項!Q415)","v":""},null,null,null,null,null,null,null,null,null,null,null,null,null,null,null,null,null,null,null,{"$f":"労働者に係る事項!R415&\"\"","v":""},null,null,null,null,null,null,null,{"$f":"労働者に係る事項!S415&\"\"","v":""}]
[null,"77",null,null,{"$f":"労働者に係る事項!B416&\"\"","v":""},null,null,null,null,null,{"$f":"労働者に係る事項!C416&\"\"","v":""},null,null,null,null,null,null,null,null,null,null,null,null,null,null,null,null,null,null,null,null,null,null,null,null,null,null,null,null,null,{"$f":"労働者に係る事項!D416&\"\"","v":""},null,null,null,null,null,null,null,{"$f":"労働者に係る事項!E416&\"\"","v":""},null,null,null,null,null,null,null,null,null,null,null,null,null,null,null,null,null,null,null,null,null,null,null,null,null,null,null,{"$f":"労働者に係る事項!F416&\"\"","v":""},null,null,null,null,null,null,{"$f":"労働者に係る事項!G416&\"\"","v":""},null,null,null,null,null,{"$f":"労働者に係る事項!H416&\"\"","v":""},null,null,null,null,null,{"$f":"労働者に係る事項!I416&\"\"","v":""},null,null,null,null,null,null,{"$f":"労働者に係る事項!J416&\"\"","v":""},null,null,null,null,null,null,null,null,null,{"$f":"労働者に係る事項!K416&\"\"","v":""},null,null,null,null,null,null,null,null,null,null,null,null,null,null,null,null,{"$f":"労働者に係る事項!L416&\"\"","v":""},null,null,null,null,null,{"$f":"労働者に係る事項!M416&\"\"","v":""},null,null,null,null,null,null,{"$f":"労働者に係る事項!N416&\"\"","v":""},null,null,null,null,null,null,{"$f":"IF(労働者に係る事項!O416=\"\",\"\",労働者に係る事項!O416)","v":""},null,null,null,null,null,null,null,null,null,null,null,null,null,null,null,null,null,null,{"$f":"IF(労働者に係る事項!P416=\"\",\"\",労働者に係る事項!P416)","v":""},null,null,null,null,null,null,null,null,null,null,null,null,null,{"$f":"IF(労働者に係る事項!Q416=\"\",\"\",労働者に係る事項!Q416)","v":""},null,null,null,null,null,null,null,null,null,null,null,null,null,null,null,null,null,null,null,{"$f":"労働者に係る事項!R416&\"\"","v":""},null,null,null,null,null,null,null,{"$f":"労働者に係る事項!S416&\"\"","v":""}]
[null,"78",null,null,{"$f":"労働者に係る事項!B417&\"\"","v":""},null,null,null,null,null,{"$f":"労働者に係る事項!C417&\"\"","v":""},null,null,null,null,null,null,null,null,null,null,null,null,null,null,null,null,null,null,null,null,null,null,null,null,null,null,null,null,null,{"$f":"労働者に係る事項!D417&\"\"","v":""},null,null,null,null,null,null,null,{"$f":"労働者に係る事項!E417&\"\"","v":""},null,null,null,null,null,null,null,null,null,null,null,null,null,null,null,null,null,null,null,null,null,null,null,null,null,null,null,{"$f":"労働者に係る事項!F417&\"\"","v":""},null,null,null,null,null,null,{"$f":"労働者に係る事項!G417&\"\"","v":""},null,null,null,null,null,{"$f":"労働者に係る事項!H417&\"\"","v":""},null,null,null,null,null,{"$f":"労働者に係る事項!I417&\"\"","v":""},null,null,null,null,null,null,{"$f":"労働者に係る事項!J417&\"\"","v":""},null,null,null,null,null,null,null,null,null,{"$f":"労働者に係る事項!K417&\"\"","v":""},null,null,null,null,null,null,null,null,null,null,null,null,null,null,null,null,{"$f":"労働者に係る事項!L417&\"\"","v":""},null,null,null,null,null,{"$f":"労働者に係る事項!M417&\"\"","v":""},null,null,null,null,null,null,{"$f":"労働者に係る事項!N417&\"\"","v":""},null,null,null,null,null,null,{"$f":"IF(労働者に係る事項!O417=\"\",\"\",労働者に係る事項!O417)","v":""},null,null,null,null,null,null,null,null,null,null,null,null,null,null,null,null,null,null,{"$f":"IF(労働者に係る事項!P417=\"\",\"\",労働者に係る事項!P417)","v":""},null,null,null,null,null,null,null,null,null,null,null,null,null,{"$f":"IF(労働者に係る事項!Q417=\"\",\"\",労働者に係る事項!Q417)","v":""},null,null,null,null,null,null,null,null,null,null,null,null,null,null,null,null,null,null,null,{"$f":"労働者に係る事項!R417&\"\"","v":""},null,null,null,null,null,null,null,{"$f":"労働者に係る事項!S417&\"\"","v":""}]
[null,"79",null,null,{"$f":"労働者に係る事項!B418&\"\"","v":""},null,null,null,null,null,{"$f":"労働者に係る事項!C418&\"\"","v":""},null,null,null,null,null,null,null,null,null,null,null,null,null,null,null,null,null,null,null,null,null,null,null,null,null,null,null,null,null,{"$f":"労働者に係る事項!D418&\"\"","v":""},null,null,null,null,null,null,null,{"$f":"労働者に係る事項!E418&\"\"","v":""},null,null,null,null,null,null,null,null,null,null,null,null,null,null,null,null,null,null,null,null,null,null,null,null,null,null,null,{"$f":"労働者に係る事項!F418&\"\"","v":""},null,null,null,null,null,null,{"$f":"労働者に係る事項!G418&\"\"","v":""},null,null,null,null,null,{"$f":"労働者に係る事項!H418&\"\"","v":""},null,null,null,null,null,{"$f":"労働者に係る事項!I418&\"\"","v":""},null,null,null,null,null,null,{"$f":"労働者に係る事項!J418&\"\"","v":""},null,null,null,null,null,null,null,null,null,{"$f":"労働者に係る事項!K418&\"\"","v":""},null,null,null,null,null,null,null,null,null,null,null,null,null,null,null,null,{"$f":"労働者に係る事項!L418&\"\"","v":""},null,null,null,null,null,{"$f":"労働者に係る事項!M418&\"\"","v":""},null,null,null,null,null,null,{"$f":"労働者に係る事項!N418&\"\"","v":""},null,null,null,null,null,null,{"$f":"IF(労働者に係る事項!O418=\"\",\"\",労働者に係る事項!O418)","v":""},null,null,null,null,null,null,null,null,null,null,null,null,null,null,null,null,null,null,{"$f":"IF(労働者に係る事項!P418=\"\",\"\",労働者に係る事項!P418)","v":""},null,null,null,null,null,null,null,null,null,null,null,null,null,{"$f":"IF(労働者に係る事項!Q418=\"\",\"\",労働者に係る事項!Q418)","v":""},null,null,null,null,null,null,null,null,null,null,null,null,null,null,null,null,null,null,null,{"$f":"労働者に係る事項!R418&\"\"","v":""},null,null,null,null,null,null,null,{"$f":"労働者に係る事項!S418&\"\"","v":""}]
[null,"80",null,null,{"$f":"労働者に係る事項!B419&\"\"","v":""},null,null,null,null,null,{"$f":"労働者に係る事項!C419&\"\"","v":""},null,null,null,null,null,null,null,null,null,null,null,null,null,null,null,null,null,null,null,null,null,null,null,null,null,null,null,null,null,{"$f":"労働者に係る事項!D419&\"\"","v":""},null,null,null,null,null,null,null,{"$f":"労働者に係る事項!E419&\"\"","v":""},null,null,null,null,null,null,null,null,null,null,null,null,null,null,null,null,null,null,null,null,null,null,null,null,null,null,null,{"$f":"労働者に係る事項!F419&\"\"","v":""},null,null,null,null,null,null,{"$f":"労働者に係る事項!G419&\"\"","v":""},null,null,null,null,null,{"$f":"労働者に係る事項!H419&\"\"","v":""},null,null,null,null,null,{"$f":"労働者に係る事項!I419&\"\"","v":""},null,null,null,null,null,null,{"$f":"労働者に係る事項!J419&\"\"","v":""},null,null,null,null,null,null,null,null,null,{"$f":"労働者に係る事項!K419&\"\"","v":""},null,null,null,null,null,null,null,null,null,null,null,null,null,null,null,null,{"$f":"労働者に係る事項!L419&\"\"","v":""},null,null,null,null,null,{"$f":"労働者に係る事項!M419&\"\"","v":""},null,null,null,null,null,null,{"$f":"労働者に係る事項!N419&\"\"","v":""},null,null,null,null,null,null,{"$f":"IF(労働者に係る事項!O419=\"\",\"\",労働者に係る事項!O419)","v":""},null,null,null,null,null,null,null,null,null,null,null,null,null,null,null,null,null,null,{"$f":"IF(労働者に係る事項!P419=\"\",\"\",労働者に係る事項!P419)","v":""},null,null,null,null,null,null,null,null,null,null,null,null,null,{"$f":"IF(労働者に係る事項!Q419=\"\",\"\",労働者に係る事項!Q419)","v":""},null,null,null,null,null,null,null,null,null,null,null,null,null,null,null,null,null,null,null,{"$f":"労働者に係る事項!R419&\"\"","v":""},null,null,null,null,null,null,null,{"$f":"労働者に係る事項!S419&\"\"","v":""}]
[null,"81",null,null,{"$f":"労働者に係る事項!B420&\"\"","v":""},null,null,null,null,null,{"$f":"労働者に係る事項!C420&\"\"","v":""},null,null,null,null,null,null,null,null,null,null,null,null,null,null,null,null,null,null,null,null,null,null,null,null,null,null,null,null,null,{"$f":"労働者に係る事項!D420&\"\"","v":""},null,null,null,null,null,null,null,{"$f":"労働者に係る事項!E420&\"\"","v":""},null,null,null,null,null,null,null,null,null,null,null,null,null,null,null,null,null,null,null,null,null,null,null,null,null,null,null,{"$f":"労働者に係る事項!F420&\"\"","v":""},null,null,null,null,null,null,{"$f":"労働者に係る事項!G420&\"\"","v":""},null,null,null,null,null,{"$f":"労働者に係る事項!H420&\"\"","v":""},null,null,null,null,null,{"$f":"労働者に係る事項!I420&\"\"","v":""},null,null,null,null,null,null,{"$f":"労働者に係る事項!J420&\"\"","v":""},null,null,null,null,null,null,null,null,null,{"$f":"労働者に係る事項!K420&\"\"","v":""},null,null,null,null,null,null,null,null,null,null,null,null,null,null,null,null,{"$f":"労働者に係る事項!L420&\"\"","v":""},null,null,null,null,null,{"$f":"労働者に係る事項!M420&\"\"","v":""},null,null,null,null,null,null,{"$f":"労働者に係る事項!N420&\"\"","v":""},null,null,null,null,null,null,{"$f":"IF(労働者に係る事項!O420=\"\",\"\",労働者に係る事項!O420)","v":""},null,null,null,null,null,null,null,null,null,null,null,null,null,null,null,null,null,null,{"$f":"IF(労働者に係る事項!P420=\"\",\"\",労働者に係る事項!P420)","v":""},null,null,null,null,null,null,null,null,null,null,null,null,null,{"$f":"IF(労働者に係る事項!Q420=\"\",\"\",労働者に係る事項!Q420)","v":""},null,null,null,null,null,null,null,null,null,null,null,null,null,null,null,null,null,null,null,{"$f":"労働者に係る事項!R420&\"\"","v":""},null,null,null,null,null,null,null,{"$f":"労働者に係る事項!S420&\"\"","v":""}]
[null,"82",null,null,{"$f":"労働者に係る事項!B421&\"\"","v":""},null,null,null,null,null,{"$f":"労働者に係る事項!C421&\"\"","v":""},null,null,null,null,null,null,null,null,null,null,null,null,null,null,null,null,null,null,null,null,null,null,null,null,null,null,null,null,null,{"$f":"労働者に係る事項!D421&\"\"","v":""},null,null,null,null,null,null,null,{"$f":"労働者に係る事項!E421&\"\"","v":""},null,null,null,null,null,null,null,null,null,null,null,null,null,null,null,null,null,null,null,null,null,null,null,null,null,null,null,{"$f":"労働者に係る事項!F421&\"\"","v":""},null,null,null,null,null,null,{"$f":"労働者に係る事項!G421&\"\"","v":""},null,null,null,null,null,{"$f":"労働者に係る事項!H421&\"\"","v":""},null,null,null,null,null,{"$f":"労働者に係る事項!I421&\"\"","v":""},null,null,null,null,null,null,{"$f":"労働者に係る事項!J421&\"\"","v":""},null,null,null,null,null,null,null,null,null,{"$f":"労働者に係る事項!K421&\"\"","v":""},null,null,null,null,null,null,null,null,null,null,null,null,null,null,null,null,{"$f":"労働者に係る事項!L421&\"\"","v":""},null,null,null,null,null,{"$f":"労働者に係る事項!M421&\"\"","v":""},null,null,null,null,null,null,{"$f":"労働者に係る事項!N421&\"\"","v":""},null,null,null,null,null,null,{"$f":"IF(労働者に係る事項!O421=\"\",\"\",労働者に係る事項!O421)","v":""},null,null,null,null,null,null,null,null,null,null,null,null,null,null,null,null,null,null,{"$f":"IF(労働者に係る事項!P421=\"\",\"\",労働者に係る事項!P421)","v":""},null,null,null,null,null,null,null,null,null,null,null,null,null,{"$f":"IF(労働者に係る事項!Q421=\"\",\"\",労働者に係る事項!Q421)","v":""},null,null,null,null,null,null,null,null,null,null,null,null,null,null,null,null,null,null,null,{"$f":"労働者に係る事項!R421&\"\"","v":""},null,null,null,null,null,null,null,{"$f":"労働者に係る事項!S421&\"\"","v":""}]
[null,"83",null,null,{"$f":"労働者に係る事項!B422&\"\"","v":""},null,null,null,null,null,{"$f":"労働者に係る事項!C422&\"\"","v":""},null,null,null,null,null,null,null,null,null,null,null,null,null,null,null,null,null,null,null,null,null,null,null,null,null,null,null,null,null,{"$f":"労働者に係る事項!D422&\"\"","v":""},null,null,null,null,null,null,null,{"$f":"労働者に係る事項!E422&\"\"","v":""},null,null,null,null,null,null,null,null,null,null,null,null,null,null,null,null,null,null,null,null,null,null,null,null,null,null,null,{"$f":"労働者に係る事項!F422&\"\"","v":""},null,null,null,null,null,null,{"$f":"労働者に係る事項!G422&\"\"","v":""},null,null,null,null,null,{"$f":"労働者に係る事項!H422&\"\"","v":""},null,null,null,null,null,{"$f":"労働者に係る事項!I422&\"\"","v":""},null,null,null,null,null,null,{"$f":"労働者に係る事項!J422&\"\"","v":""},null,null,null,null,null,null,null,null,null,{"$f":"労働者に係る事項!K422&\"\"","v":""},null,null,null,null,null,null,null,null,null,null,null,null,null,null,null,null,{"$f":"労働者に係る事項!L422&\"\"","v":""},null,null,null,null,null,{"$f":"労働者に係る事項!M422&\"\"","v":""},null,null,null,null,null,null,{"$f":"労働者に係る事項!N422&\"\"","v":""},null,null,null,null,null,null,{"$f":"IF(労働者に係る事項!O422=\"\",\"\",労働者に係る事項!O422)","v":""},null,null,null,null,null,null,null,null,null,null,null,null,null,null,null,null,null,null,{"$f":"IF(労働者に係る事項!P422=\"\",\"\",労働者に係る事項!P422)","v":""},null,null,null,null,null,null,null,null,null,null,null,null,null,{"$f":"IF(労働者に係る事項!Q422=\"\",\"\",労働者に係る事項!Q422)","v":""},null,null,null,null,null,null,null,null,null,null,null,null,null,null,null,null,null,null,null,{"$f":"労働者に係る事項!R422&\"\"","v":""},null,null,null,null,null,null,null,{"$f":"労働者に係る事項!S422&\"\"","v":""}]
[null,"84",null,null,{"$f":"労働者に係る事項!B423&\"\"","v":""},null,null,null,null,null,{"$f":"労働者に係る事項!C423&\"\"","v":""},null,null,null,null,null,null,null,null,null,null,null,null,null,null,null,null,null,null,null,null,null,null,null,null,null,null,null,null,null,{"$f":"労働者に係る事項!D423&\"\"","v":""},null,null,null,null,null,null,null,{"$f":"労働者に係る事項!E423&\"\"","v":""},null,null,null,null,null,null,null,null,null,null,null,null,null,null,null,null,null,null,null,null,null,null,null,null,null,null,null,{"$f":"労働者に係る事項!F423&\"\"","v":""},null,null,null,null,null,null,{"$f":"労働者に係る事項!G423&\"\"","v":""},null,null,null,null,null,{"$f":"労働者に係る事項!H423&\"\"","v":""},null,null,null,null,null,{"$f":"労働者に係る事項!I423&\"\"","v":""},null,null,null,null,null,null,{"$f":"労働者に係る事項!J423&\"\"","v":""},null,null,null,null,null,null,null,null,null,{"$f":"労働者に係る事項!K423&\"\"","v":""},null,null,null,null,null,null,null,null,null,null,null,null,null,null,null,null,{"$f":"労働者に係る事項!L423&\"\"","v":""},null,null,null,null,null,{"$f":"労働者に係る事項!M423&\"\"","v":""},null,null,null,null,null,null,{"$f":"労働者に係る事項!N423&\"\"","v":""},null,null,null,null,null,null,{"$f":"IF(労働者に係る事項!O423=\"\",\"\",労働者に係る事項!O423)","v":""},null,null,null,null,null,null,null,null,null,null,null,null,null,null,null,null,null,null,{"$f":"IF(労働者に係る事項!P423=\"\",\"\",労働者に係る事項!P423)","v":""},null,null,null,null,null,null,null,null,null,null,null,null,null,{"$f":"IF(労働者に係る事項!Q423=\"\",\"\",労働者に係る事項!Q423)","v":""},null,null,null,null,null,null,null,null,null,null,null,null,null,null,null,null,null,null,null,{"$f":"労働者に係る事項!R423&\"\"","v":""},null,null,null,null,null,null,null,{"$f":"労働者に係る事項!S423&\"\"","v":""}]
[null,"85",null,null,{"$f":"労働者に係る事項!B424&\"\"","v":""},null,null,null,null,null,{"$f":"労働者に係る事項!C424&\"\"","v":""},null,null,null,null,null,null,null,null,null,null,null,null,null,null,null,null,null,null,null,null,null,null,null,null,null,null,null,null,null,{"$f":"労働者に係る事項!D424&\"\"","v":""},null,null,null,null,null,null,null,{"$f":"労働者に係る事項!E424&\"\"","v":""},null,null,null,null,null,null,null,null,null,null,null,null,null,null,null,null,null,null,null,null,null,null,null,null,null,null,null,{"$f":"労働者に係る事項!F424&\"\"","v":""},null,null,null,null,null,null,{"$f":"労働者に係る事項!G424&\"\"","v":""},null,null,null,null,null,{"$f":"労働者に係る事項!H424&\"\"","v":""},null,null,null,null,null,{"$f":"労働者に係る事項!I424&\"\"","v":""},null,null,null,null,null,null,{"$f":"労働者に係る事項!J424&\"\"","v":""},null,null,null,null,null,null,null,null,null,{"$f":"労働者に係る事項!K424&\"\"","v":""},null,null,null,null,null,null,null,null,null,null,null,null,null,null,null,null,{"$f":"労働者に係る事項!L424&\"\"","v":""},null,null,null,null,null,{"$f":"労働者に係る事項!M424&\"\"","v":""},null,null,null,null,null,null,{"$f":"労働者に係る事項!N424&\"\"","v":""},null,null,null,null,null,null,{"$f":"IF(労働者に係る事項!O424=\"\",\"\",労働者に係る事項!O424)","v":""},null,null,null,null,null,null,null,null,null,null,null,null,null,null,null,null,null,null,{"$f":"IF(労働者に係る事項!P424=\"\",\"\",労働者に係る事項!P424)","v":""},null,null,null,null,null,null,null,null,null,null,null,null,null,{"$f":"IF(労働者に係る事項!Q424=\"\",\"\",労働者に係る事項!Q424)","v":""},null,null,null,null,null,null,null,null,null,null,null,null,null,null,null,null,null,null,null,{"$f":"労働者に係る事項!R424&\"\"","v":""},null,null,null,null,null,null,null,{"$f":"労働者に係る事項!S424&\"\"","v":""}]
[null,"86",null,null,{"$f":"労働者に係る事項!B425&\"\"","v":""},null,null,null,null,null,{"$f":"労働者に係る事項!C425&\"\"","v":""},null,null,null,null,null,null,null,null,null,null,null,null,null,null,null,null,null,null,null,null,null,null,null,null,null,null,null,null,null,{"$f":"労働者に係る事項!D425&\"\"","v":""},null,null,null,null,null,null,null,{"$f":"労働者に係る事項!E425&\"\"","v":""},null,null,null,null,null,null,null,null,null,null,null,null,null,null,null,null,null,null,null,null,null,null,null,null,null,null,null,{"$f":"労働者に係る事項!F425&\"\"","v":""},null,null,null,null,null,null,{"$f":"労働者に係る事項!G425&\"\"","v":""},null,null,null,null,null,{"$f":"労働者に係る事項!H425&\"\"","v":""},null,null,null,null,null,{"$f":"労働者に係る事項!I425&\"\"","v":""},null,null,null,null,null,null,{"$f":"労働者に係る事項!J425&\"\"","v":""},null,null,null,null,null,null,null,null,null,{"$f":"労働者に係る事項!K425&\"\"","v":""},null,null,null,null,null,null,null,null,null,null,null,null,null,null,null,null,{"$f":"労働者に係る事項!L425&\"\"","v":""},null,null,null,null,null,{"$f":"労働者に係る事項!M425&\"\"","v":""},null,null,null,null,null,null,{"$f":"労働者に係る事項!N425&\"\"","v":""},null,null,null,null,null,null,{"$f":"IF(労働者に係る事項!O425=\"\",\"\",労働者に係る事項!O425)","v":""},null,null,null,null,null,null,null,null,null,null,null,null,null,null,null,null,null,null,{"$f":"IF(労働者に係る事項!P425=\"\",\"\",労働者に係る事項!P425)","v":""},null,null,null,null,null,null,null,null,null,null,null,null,null,{"$f":"IF(労働者に係る事項!Q425=\"\",\"\",労働者に係る事項!Q425)","v":""},null,null,null,null,null,null,null,null,null,null,null,null,null,null,null,null,null,null,null,{"$f":"労働者に係る事項!R425&\"\"","v":""},null,null,null,null,null,null,null,{"$f":"労働者に係る事項!S425&\"\"","v":""}]
[null,"87",null,null,{"$f":"労働者に係る事項!B426&\"\"","v":""},null,null,null,null,null,{"$f":"労働者に係る事項!C426&\"\"","v":""},null,null,null,null,null,null,null,null,null,null,null,null,null,null,null,null,null,null,null,null,null,null,null,null,null,null,null,null,null,{"$f":"労働者に係る事項!D426&\"\"","v":""},null,null,null,null,null,null,null,{"$f":"労働者に係る事項!E426&\"\"","v":""},null,null,null,null,null,null,null,null,null,null,null,null,null,null,null,null,null,null,null,null,null,null,null,null,null,null,null,{"$f":"労働者に係る事項!F426&\"\"","v":""},null,null,null,null,null,null,{"$f":"労働者に係る事項!G426&\"\"","v":""},null,null,null,null,null,{"$f":"労働者に係る事項!H426&\"\"","v":""},null,null,null,null,null,{"$f":"労働者に係る事項!I426&\"\"","v":""},null,null,null,null,null,null,{"$f":"労働者に係る事項!J426&\"\"","v":""},null,null,null,null,null,null,null,null,null,{"$f":"労働者に係る事項!K426&\"\"","v":""},null,null,null,null,null,null,null,null,null,null,null,null,null,null,null,null,{"$f":"労働者に係る事項!L426&\"\"","v":""},null,null,null,null,null,{"$f":"労働者に係る事項!M426&\"\"","v":""},null,null,null,null,null,null,{"$f":"労働者に係る事項!N426&\"\"","v":""},null,null,null,null,null,null,{"$f":"IF(労働者に係る事項!O426=\"\",\"\",労働者に係る事項!O426)","v":""},null,null,null,null,null,null,null,null,null,null,null,null,null,null,null,null,null,null,{"$f":"IF(労働者に係る事項!P426=\"\",\"\",労働者に係る事項!P426)","v":""},null,null,null,null,null,null,null,null,null,null,null,null,null,{"$f":"IF(労働者に係る事項!Q426=\"\",\"\",労働者に係る事項!Q426)","v":""},null,null,null,null,null,null,null,null,null,null,null,null,null,null,null,null,null,null,null,{"$f":"労働者に係る事項!R426&\"\"","v":""},null,null,null,null,null,null,null,{"$f":"労働者に係る事項!S426&\"\"","v":""}]
[null,"88",null,null,{"$f":"労働者に係る事項!B427&\"\"","v":""},null,null,null,null,null,{"$f":"労働者に係る事項!C427&\"\"","v":""},null,null,null,null,null,null,null,null,null,null,null,null,null,null,null,null,null,null,null,null,null,null,null,null,null,null,null,null,null,{"$f":"労働者に係る事項!D427&\"\"","v":""},null,null,null,null,null,null,null,{"$f":"労働者に係る事項!E427&\"\"","v":""},null,null,null,null,null,null,null,null,null,null,null,null,null,null,null,null,null,null,null,null,null,null,null,null,null,null,null,{"$f":"労働者に係る事項!F427&\"\"","v":""},null,null,null,null,null,null,{"$f":"労働者に係る事項!G427&\"\"","v":""},null,null,null,null,null,{"$f":"労働者に係る事項!H427&\"\"","v":""},null,null,null,null,null,{"$f":"労働者に係る事項!I427&\"\"","v":""},null,null,null,null,null,null,{"$f":"労働者に係る事項!J427&\"\"","v":""},null,null,null,null,null,null,null,null,null,{"$f":"労働者に係る事項!K427&\"\"","v":""},null,null,null,null,null,null,null,null,null,null,null,null,null,null,null,null,{"$f":"労働者に係る事項!L427&\"\"","v":""},null,null,null,null,null,{"$f":"労働者に係る事項!M427&\"\"","v":""},null,null,null,null,null,null,{"$f":"労働者に係る事項!N427&\"\"","v":""},null,null,null,null,null,null,{"$f":"IF(労働者に係る事項!O427=\"\",\"\",労働者に係る事項!O427)","v":""},null,null,null,null,null,null,null,null,null,null,null,null,null,null,null,null,null,null,{"$f":"IF(労働者に係る事項!P427=\"\",\"\",労働者に係る事項!P427)","v":""},null,null,null,null,null,null,null,null,null,null,null,null,null,{"$f":"IF(労働者に係る事項!Q427=\"\",\"\",労働者に係る事項!Q427)","v":""},null,null,null,null,null,null,null,null,null,null,null,null,null,null,null,null,null,null,null,{"$f":"労働者に係る事項!R427&\"\"","v":""},null,null,null,null,null,null,null,{"$f":"労働者に係る事項!S427&\"\"","v":""}]
[null,"89",null,null,{"$f":"労働者に係る事項!B428&\"\"","v":""},null,null,null,null,null,{"$f":"労働者に係る事項!C428&\"\"","v":""},null,null,null,null,null,null,null,null,null,null,null,null,null,null,null,null,null,null,null,null,null,null,null,null,null,null,null,null,null,{"$f":"労働者に係る事項!D428&\"\"","v":""},null,null,null,null,null,null,null,{"$f":"労働者に係る事項!E428&\"\"","v":""},null,null,null,null,null,null,null,null,null,null,null,null,null,null,null,null,null,null,null,null,null,null,null,null,null,null,null,{"$f":"労働者に係る事項!F428&\"\"","v":""},null,null,null,null,null,null,{"$f":"労働者に係る事項!G428&\"\"","v":""},null,null,null,null,null,{"$f":"労働者に係る事項!H428&\"\"","v":""},null,null,null,null,null,{"$f":"労働者に係る事項!I428&\"\"","v":""},null,null,null,null,null,null,{"$f":"労働者に係る事項!J428&\"\"","v":""},null,null,null,null,null,null,null,null,null,{"$f":"労働者に係る事項!K428&\"\"","v":""},null,null,null,null,null,null,null,null,null,null,null,null,null,null,null,null,{"$f":"労働者に係る事項!L428&\"\"","v":""},null,null,null,null,null,{"$f":"労働者に係る事項!M428&\"\"","v":""},null,null,null,null,null,null,{"$f":"労働者に係る事項!N428&\"\"","v":""},null,null,null,null,null,null,{"$f":"IF(労働者に係る事項!O428=\"\",\"\",労働者に係る事項!O428)","v":""},null,null,null,null,null,null,null,null,null,null,null,null,null,null,null,null,null,null,{"$f":"IF(労働者に係る事項!P428=\"\",\"\",労働者に係る事項!P428)","v":""},null,null,null,null,null,null,null,null,null,null,null,null,null,{"$f":"IF(労働者に係る事項!Q428=\"\",\"\",労働者に係る事項!Q428)","v":""},null,null,null,null,null,null,null,null,null,null,null,null,null,null,null,null,null,null,null,{"$f":"労働者に係る事項!R428&\"\"","v":""},null,null,null,null,null,null,null,{"$f":"労働者に係る事項!S428&\"\"","v":""}]
[null,"90",null,null,{"$f":"労働者に係る事項!B429&\"\"","v":""},null,null,null,null,null,{"$f":"労働者に係る事項!C429&\"\"","v":""},null,null,null,null,null,null,null,null,null,null,null,null,null,null,null,null,null,null,null,null,null,null,null,null,null,null,null,null,null,{"$f":"労働者に係る事項!D429&\"\"","v":""},null,null,null,null,null,null,null,{"$f":"労働者に係る事項!E429&\"\"","v":""},null,null,null,null,null,null,null,null,null,null,null,null,null,null,null,null,null,null,null,null,null,null,null,null,null,null,null,{"$f":"労働者に係る事項!F429&\"\"","v":""},null,null,null,null,null,null,{"$f":"労働者に係る事項!G429&\"\"","v":""},null,null,null,null,null,{"$f":"労働者に係る事項!H429&\"\"","v":""},null,null,null,null,null,{"$f":"労働者に係る事項!I429&\"\"","v":""},null,null,null,null,null,null,{"$f":"労働者に係る事項!J429&\"\"","v":""},null,null,null,null,null,null,null,null,null,{"$f":"労働者に係る事項!K429&\"\"","v":""},null,null,null,null,null,null,null,null,null,null,null,null,null,null,null,null,{"$f":"労働者に係る事項!L429&\"\"","v":""},null,null,null,null,null,{"$f":"労働者に係る事項!M429&\"\"","v":""},null,null,null,null,null,null,{"$f":"労働者に係る事項!N429&\"\"","v":""},null,null,null,null,null,null,{"$f":"IF(労働者に係る事項!O429=\"\",\"\",労働者に係る事項!O429)","v":""},null,null,null,null,null,null,null,null,null,null,null,null,null,null,null,null,null,null,{"$f":"IF(労働者に係る事項!P429=\"\",\"\",労働者に係る事項!P429)","v":""},null,null,null,null,null,null,null,null,null,null,null,null,null,{"$f":"IF(労働者に係る事項!Q429=\"\",\"\",労働者に係る事項!Q429)","v":""},null,null,null,null,null,null,null,null,null,null,null,null,null,null,null,null,null,null,null,{"$f":"労働者に係る事項!R429&\"\"","v":""},null,null,null,null,null,null,null,{"$f":"労働者に係る事項!S429&\"\"","v":""}]
[null,"91",null,null,{"$f":"労働者に係る事項!B430&\"\"","v":""},null,null,null,null,null,{"$f":"労働者に係る事項!C430&\"\"","v":""},null,null,null,null,null,null,null,null,null,null,null,null,null,null,null,null,null,null,null,null,null,null,null,null,null,null,null,null,null,{"$f":"労働者に係る事項!D430&\"\"","v":""},null,null,null,null,null,null,null,{"$f":"労働者に係る事項!E430&\"\"","v":""},null,null,null,null,null,null,null,null,null,null,null,null,null,null,null,null,null,null,null,null,null,null,null,null,null,null,null,{"$f":"労働者に係る事項!F430&\"\"","v":""},null,null,null,null,null,null,{"$f":"労働者に係る事項!G430&\"\"","v":""},null,null,null,null,null,{"$f":"労働者に係る事項!H430&\"\"","v":""},null,null,null,null,null,{"$f":"労働者に係る事項!I430&\"\"","v":""},null,null,null,null,null,null,{"$f":"労働者に係る事項!J430&\"\"","v":""},null,null,null,null,null,null,null,null,null,{"$f":"労働者に係る事項!K430&\"\"","v":""},null,null,null,null,null,null,null,null,null,null,null,null,null,null,null,null,{"$f":"労働者に係る事項!L430&\"\"","v":""},null,null,null,null,null,{"$f":"労働者に係る事項!M430&\"\"","v":""},null,null,null,null,null,null,{"$f":"労働者に係る事項!N430&\"\"","v":""},null,null,null,null,null,null,{"$f":"IF(労働者に係る事項!O430=\"\",\"\",労働者に係る事項!O430)","v":""},null,null,null,null,null,null,null,null,null,null,null,null,null,null,null,null,null,null,{"$f":"IF(労働者に係る事項!P430=\"\",\"\",労働者に係る事項!P430)","v":""},null,null,null,null,null,null,null,null,null,null,null,null,null,{"$f":"IF(労働者に係る事項!Q430=\"\",\"\",労働者に係る事項!Q430)","v":""},null,null,null,null,null,null,null,null,null,null,null,null,null,null,null,null,null,null,null,{"$f":"労働者に係る事項!R430&\"\"","v":""},null,null,null,null,null,null,null,{"$f":"労働者に係る事項!S430&\"\"","v":""}]
[null,"92",null,null,{"$f":"労働者に係る事項!B431&\"\"","v":""},null,null,null,null,null,{"$f":"労働者に係る事項!C431&\"\"","v":""},null,null,null,null,null,null,null,null,null,null,null,null,null,null,null,null,null,null,null,null,null,null,null,null,null,null,null,null,null,{"$f":"労働者に係る事項!D431&\"\"","v":""},null,null,null,null,null,null,null,{"$f":"労働者に係る事項!E431&\"\"","v":""},null,null,null,null,null,null,null,null,null,null,null,null,null,null,null,null,null,null,null,null,null,null,null,null,null,null,null,{"$f":"労働者に係る事項!F431&\"\"","v":""},null,null,null,null,null,null,{"$f":"労働者に係る事項!G431&\"\"","v":""},null,null,null,null,null,{"$f":"労働者に係る事項!H431&\"\"","v":""},null,null,null,null,null,{"$f":"労働者に係る事項!I431&\"\"","v":""},null,null,null,null,null,null,{"$f":"労働者に係る事項!J431&\"\"","v":""},null,null,null,null,null,null,null,null,null,{"$f":"労働者に係る事項!K431&\"\"","v":""},null,null,null,null,null,null,null,null,null,null,null,null,null,null,null,null,{"$f":"労働者に係る事項!L431&\"\"","v":""},null,null,null,null,null,{"$f":"労働者に係る事項!M431&\"\"","v":""},null,null,null,null,null,null,{"$f":"労働者に係る事項!N431&\"\"","v":""},null,null,null,null,null,null,{"$f":"IF(労働者に係る事項!O431=\"\",\"\",労働者に係る事項!O431)","v":""},null,null,null,null,null,null,null,null,null,null,null,null,null,null,null,null,null,null,{"$f":"IF(労働者に係る事項!P431=\"\",\"\",労働者に係る事項!P431)","v":""},null,null,null,null,null,null,null,null,null,null,null,null,null,{"$f":"IF(労働者に係る事項!Q431=\"\",\"\",労働者に係る事項!Q431)","v":""},null,null,null,null,null,null,null,null,null,null,null,null,null,null,null,null,null,null,null,{"$f":"労働者に係る事項!R431&\"\"","v":""},null,null,null,null,null,null,null,{"$f":"労働者に係る事項!S431&\"\"","v":""}]
[null,"93",null,null,{"$f":"労働者に係る事項!B432&\"\"","v":""},null,null,null,null,null,{"$f":"労働者に係る事項!C432&\"\"","v":""},null,null,null,null,null,null,null,null,null,null,null,null,null,null,null,null,null,null,null,null,null,null,null,null,null,null,null,null,null,{"$f":"労働者に係る事項!D432&\"\"","v":""},null,null,null,null,null,null,null,{"$f":"労働者に係る事項!E432&\"\"","v":""},null,null,null,null,null,null,null,null,null,null,null,null,null,null,null,null,null,null,null,null,null,null,null,null,null,null,null,{"$f":"労働者に係る事項!F432&\"\"","v":""},null,null,null,null,null,null,{"$f":"労働者に係る事項!G432&\"\"","v":""},null,null,null,null,null,{"$f":"労働者に係る事項!H432&\"\"","v":""},null,null,null,null,null,{"$f":"労働者に係る事項!I432&\"\"","v":""},null,null,null,null,null,null,{"$f":"労働者に係る事項!J432&\"\"","v":""},null,null,null,null,null,null,null,null,null,{"$f":"労働者に係る事項!K432&\"\"","v":""},null,null,null,null,null,null,null,null,null,null,null,null,null,null,null,null,{"$f":"労働者に係る事項!L432&\"\"","v":""},null,null,null,null,null,{"$f":"労働者に係る事項!M432&\"\"","v":""},null,null,null,null,null,null,{"$f":"労働者に係る事項!N432&\"\"","v":""},null,null,null,null,null,null,{"$f":"IF(労働者に係る事項!O432=\"\",\"\",労働者に係る事項!O432)","v":""},null,null,null,null,null,null,null,null,null,null,null,null,null,null,null,null,null,null,{"$f":"IF(労働者に係る事項!P432=\"\",\"\",労働者に係る事項!P432)","v":""},null,null,null,null,null,null,null,null,null,null,null,null,null,{"$f":"IF(労働者に係る事項!Q432=\"\",\"\",労働者に係る事項!Q432)","v":""},null,null,null,null,null,null,null,null,null,null,null,null,null,null,null,null,null,null,null,{"$f":"労働者に係る事項!R432&\"\"","v":""},null,null,null,null,null,null,null,{"$f":"労働者に係る事項!S432&\"\"","v":""}]
[null,"94",null,null,{"$f":"労働者に係る事項!B433&\"\"","v":""},null,null,null,null,null,{"$f":"労働者に係る事項!C433&\"\"","v":""},null,null,null,null,null,null,null,null,null,null,null,null,null,null,null,null,null,null,null,null,null,null,null,null,null,null,null,null,null,{"$f":"労働者に係る事項!D433&\"\"","v":""},null,null,null,null,null,null,null,{"$f":"労働者に係る事項!E433&\"\"","v":""},null,null,null,null,null,null,null,null,null,null,null,null,null,null,null,null,null,null,null,null,null,null,null,null,null,null,null,{"$f":"労働者に係る事項!F433&\"\"","v":""},null,null,null,null,null,null,{"$f":"労働者に係る事項!G433&\"\"","v":""},null,null,null,null,null,{"$f":"労働者に係る事項!H433&\"\"","v":""},null,null,null,null,null,{"$f":"労働者に係る事項!I433&\"\"","v":""},null,null,null,null,null,null,{"$f":"労働者に係る事項!J433&\"\"","v":""},null,null,null,null,null,null,null,null,null,{"$f":"労働者に係る事項!K433&\"\"","v":""},null,null,null,null,null,null,null,null,null,null,null,null,null,null,null,null,{"$f":"労働者に係る事項!L433&\"\"","v":""},null,null,null,null,null,{"$f":"労働者に係る事項!M433&\"\"","v":""},null,null,null,null,null,null,{"$f":"労働者に係る事項!N433&\"\"","v":""},null,null,null,null,null,null,{"$f":"IF(労働者に係る事項!O433=\"\",\"\",労働者に係る事項!O433)","v":""},null,null,null,null,null,null,null,null,null,null,null,null,null,null,null,null,null,null,{"$f":"IF(労働者に係る事項!P433=\"\",\"\",労働者に係る事項!P433)","v":""},null,null,null,null,null,null,null,null,null,null,null,null,null,{"$f":"IF(労働者に係る事項!Q433=\"\",\"\",労働者に係る事項!Q433)","v":""},null,null,null,null,null,null,null,null,null,null,null,null,null,null,null,null,null,null,null,{"$f":"労働者に係る事項!R433&\"\"","v":""},null,null,null,null,null,null,null,{"$f":"労働者に係る事項!S433&\"\"","v":""}]
[null,"95",null,null,{"$f":"労働者に係る事項!B434&\"\"","v":""},null,null,null,null,null,{"$f":"労働者に係る事項!C434&\"\"","v":""},null,null,null,null,null,null,null,null,null,null,null,null,null,null,null,null,null,null,null,null,null,null,null,null,null,null,null,null,null,{"$f":"労働者に係る事項!D434&\"\"","v":""},null,null,null,null,null,null,null,{"$f":"労働者に係る事項!E434&\"\"","v":""},null,null,null,null,null,null,null,null,null,null,null,null,null,null,null,null,null,null,null,null,null,null,null,null,null,null,null,{"$f":"労働者に係る事項!F434&\"\"","v":""},null,null,null,null,null,null,{"$f":"労働者に係る事項!G434&\"\"","v":""},null,null,null,null,null,{"$f":"労働者に係る事項!H434&\"\"","v":""},null,null,null,null,null,{"$f":"労働者に係る事項!I434&\"\"","v":""},null,null,null,null,null,null,{"$f":"労働者に係る事項!J434&\"\"","v":""},null,null,null,null,null,null,null,null,null,{"$f":"労働者に係る事項!K434&\"\"","v":""},null,null,null,null,null,null,null,null,null,null,null,null,null,null,null,null,{"$f":"労働者に係る事項!L434&\"\"","v":""},null,null,null,null,null,{"$f":"労働者に係る事項!M434&\"\"","v":""},null,null,null,null,null,null,{"$f":"労働者に係る事項!N434&\"\"","v":""},null,null,null,null,null,null,{"$f":"IF(労働者に係る事項!O434=\"\",\"\",労働者に係る事項!O434)","v":""},null,null,null,null,null,null,null,null,null,null,null,null,null,null,null,null,null,null,{"$f":"IF(労働者に係る事項!P434=\"\",\"\",労働者に係る事項!P434)","v":""},null,null,null,null,null,null,null,null,null,null,null,null,null,{"$f":"IF(労働者に係る事項!Q434=\"\",\"\",労働者に係る事項!Q434)","v":""},null,null,null,null,null,null,null,null,null,null,null,null,null,null,null,null,null,null,null,{"$f":"労働者に係る事項!R434&\"\"","v":""},null,null,null,null,null,null,null,{"$f":"労働者に係る事項!S434&\"\"","v":""}]
[null,"96",null,null,{"$f":"労働者に係る事項!B435&\"\"","v":""},null,null,null,null,null,{"$f":"労働者に係る事項!C435&\"\"","v":""},null,null,null,null,null,null,null,null,null,null,null,null,null,null,null,null,null,null,null,null,null,null,null,null,null,null,null,null,null,{"$f":"労働者に係る事項!D435&\"\"","v":""},null,null,null,null,null,null,null,{"$f":"労働者に係る事項!E435&\"\"","v":""},null,null,null,null,null,null,null,null,null,null,null,null,null,null,null,null,null,null,null,null,null,null,null,null,null,null,null,{"$f":"労働者に係る事項!F435&\"\"","v":""},null,null,null,null,null,null,{"$f":"労働者に係る事項!G435&\"\"","v":""},null,null,null,null,null,{"$f":"労働者に係る事項!H435&\"\"","v":""},null,null,null,null,null,{"$f":"労働者に係る事項!I435&\"\"","v":""},null,null,null,null,null,null,{"$f":"労働者に係る事項!J435&\"\"","v":""},null,null,null,null,null,null,null,null,null,{"$f":"労働者に係る事項!K435&\"\"","v":""},null,null,null,null,null,null,null,null,null,null,null,null,null,null,null,null,{"$f":"労働者に係る事項!L435&\"\"","v":""},null,null,null,null,null,{"$f":"労働者に係る事項!M435&\"\"","v":""},null,null,null,null,null,null,{"$f":"労働者に係る事項!N435&\"\"","v":""},null,null,null,null,null,null,{"$f":"IF(労働者に係る事項!O435=\"\",\"\",労働者に係る事項!O435)","v":""},null,null,null,null,null,null,null,null,null,null,null,null,null,null,null,null,null,null,{"$f":"IF(労働者に係る事項!P435=\"\",\"\",労働者に係る事項!P435)","v":""},null,null,null,null,null,null,null,null,null,null,null,null,null,{"$f":"IF(労働者に係る事項!Q435=\"\",\"\",労働者に係る事項!Q435)","v":""},null,null,null,null,null,null,null,null,null,null,null,null,null,null,null,null,null,null,null,{"$f":"労働者に係る事項!R435&\"\"","v":""},null,null,null,null,null,null,null,{"$f":"労働者に係る事項!S435&\"\"","v":""}]
[null,"97",null,null,{"$f":"労働者に係る事項!B436&\"\"","v":""},null,null,null,null,null,{"$f":"労働者に係る事項!C436&\"\"","v":""},null,null,null,null,null,null,null,null,null,null,null,null,null,null,null,null,null,null,null,null,null,null,null,null,null,null,null,null,null,{"$f":"労働者に係る事項!D436&\"\"","v":""},null,null,null,null,null,null,null,{"$f":"労働者に係る事項!E436&\"\"","v":""},null,null,null,null,null,null,null,null,null,null,null,null,null,null,null,null,null,null,null,null,null,null,null,null,null,null,null,{"$f":"労働者に係る事項!F436&\"\"","v":""},null,null,null,null,null,null,{"$f":"労働者に係る事項!G436&\"\"","v":""},null,null,null,null,null,{"$f":"労働者に係る事項!H436&\"\"","v":""},null,null,null,null,null,{"$f":"労働者に係る事項!I436&\"\"","v":""},null,null,null,null,null,null,{"$f":"労働者に係る事項!J436&\"\"","v":""},null,null,null,null,null,null,null,null,null,{"$f":"労働者に係る事項!K436&\"\"","v":""},null,null,null,null,null,null,null,null,null,null,null,null,null,null,null,null,{"$f":"労働者に係る事項!L436&\"\"","v":""},null,null,null,null,null,{"$f":"労働者に係る事項!M436&\"\"","v":""},null,null,null,null,null,null,{"$f":"労働者に係る事項!N436&\"\"","v":""},null,null,null,null,null,null,{"$f":"IF(労働者に係る事項!O436=\"\",\"\",労働者に係る事項!O436)","v":""},null,null,null,null,null,null,null,null,null,null,null,null,null,null,null,null,null,null,{"$f":"IF(労働者に係る事項!P436=\"\",\"\",労働者に係る事項!P436)","v":""},null,null,null,null,null,null,null,null,null,null,null,null,null,{"$f":"IF(労働者に係る事項!Q436=\"\",\"\",労働者に係る事項!Q436)","v":""},null,null,null,null,null,null,null,null,null,null,null,null,null,null,null,null,null,null,null,{"$f":"労働者に係る事項!R436&\"\"","v":""},null,null,null,null,null,null,null,{"$f":"労働者に係る事項!S436&\"\"","v":""}]
[null,"98",null,null,{"$f":"労働者に係る事項!B437&\"\"","v":""},null,null,null,null,null,{"$f":"労働者に係る事項!C437&\"\"","v":""},null,null,null,null,null,null,null,null,null,null,null,null,null,null,null,null,null,null,null,null,null,null,null,null,null,null,null,null,null,{"$f":"労働者に係る事項!D437&\"\"","v":""},null,null,null,null,null,null,null,{"$f":"労働者に係る事項!E437&\"\"","v":""},null,null,null,null,null,null,null,null,null,null,null,null,null,null,null,null,null,null,null,null,null,null,null,null,null,null,null,{"$f":"労働者に係る事項!F437&\"\"","v":""},null,null,null,null,null,null,{"$f":"労働者に係る事項!G437&\"\"","v":""},null,null,null,null,null,{"$f":"労働者に係る事項!H437&\"\"","v":""},null,null,null,null,null,{"$f":"労働者に係る事項!I437&\"\"","v":""},null,null,null,null,null,null,{"$f":"労働者に係る事項!J437&\"\"","v":""},null,null,null,null,null,null,null,null,null,{"$f":"労働者に係る事項!K437&\"\"","v":""},null,null,null,null,null,null,null,null,null,null,null,null,null,null,null,null,{"$f":"労働者に係る事項!L437&\"\"","v":""},null,null,null,null,null,{"$f":"労働者に係る事項!M437&\"\"","v":""},null,null,null,null,null,null,{"$f":"労働者に係る事項!N437&\"\"","v":""},null,null,null,null,null,null,{"$f":"IF(労働者に係る事項!O437=\"\",\"\",労働者に係る事項!O437)","v":""},null,null,null,null,null,null,null,null,null,null,null,null,null,null,null,null,null,null,{"$f":"IF(労働者に係る事項!P437=\"\",\"\",労働者に係る事項!P437)","v":""},null,null,null,null,null,null,null,null,null,null,null,null,null,{"$f":"IF(労働者に係る事項!Q437=\"\",\"\",労働者に係る事項!Q437)","v":""},null,null,null,null,null,null,null,null,null,null,null,null,null,null,null,null,null,null,null,{"$f":"労働者に係る事項!R437&\"\"","v":""},null,null,null,null,null,null,null,{"$f":"労働者に係る事項!S437&\"\"","v":""}]
[null,"99",null,null,{"$f":"労働者に係る事項!B438&\"\"","v":""},null,null,null,null,null,{"$f":"労働者に係る事項!C438&\"\"","v":""},null,null,null,null,null,null,null,null,null,null,null,null,null,null,null,null,null,null,null,null,null,null,null,null,null,null,null,null,null,{"$f":"労働者に係る事項!D438&\"\"","v":""},null,null,null,null,null,null,null,{"$f":"労働者に係る事項!E438&\"\"","v":""},null,null,null,null,null,null,null,null,null,null,null,null,null,null,null,null,null,null,null,null,null,null,null,null,null,null,null,{"$f":"労働者に係る事項!F438&\"\"","v":""},null,null,null,null,null,null,{"$f":"労働者に係る事項!G438&\"\"","v":""},null,null,null,null,null,{"$f":"労働者に係る事項!H438&\"\"","v":""},null,null,null,null,null,{"$f":"労働者に係る事項!I438&\"\"","v":""},null,null,null,null,null,null,{"$f":"労働者に係る事項!J438&\"\"","v":""},null,null,null,null,null,null,null,null,null,{"$f":"労働者に係る事項!K438&\"\"","v":""},null,null,null,null,null,null,null,null,null,null,null,null,null,null,null,null,{"$f":"労働者に係る事項!L438&\"\"","v":""},null,null,null,null,null,{"$f":"労働者に係る事項!M438&\"\"","v":""},null,null,null,null,null,null,{"$f":"労働者に係る事項!N438&\"\"","v":""},null,null,null,null,null,null,{"$f":"IF(労働者に係る事項!O438=\"\",\"\",労働者に係る事項!O438)","v":""},null,null,null,null,null,null,null,null,null,null,null,null,null,null,null,null,null,null,{"$f":"IF(労働者に係る事項!P438=\"\",\"\",労働者に係る事項!P438)","v":""},null,null,null,null,null,null,null,null,null,null,null,null,null,{"$f":"IF(労働者に係る事項!Q438=\"\",\"\",労働者に係る事項!Q438)","v":""},null,null,null,null,null,null,null,null,null,null,null,null,null,null,null,null,null,null,null,{"$f":"労働者に係る事項!R438&\"\"","v":""},null,null,null,null,null,null,null,{"$f":"労働者に係る事項!S438&\"\"","v":""}]
[null,"00",null,null,{"$f":"労働者に係る事項!B439&\"\"","v":""},null,null,null,null,null,{"$f":"労働者に係る事項!C439&\"\"","v":""},null,null,null,null,null,null,null,null,null,null,null,null,null,null,null,null,null,null,null,null,null,null,null,null,null,null,null,null,null,{"$f":"労働者に係る事項!D439&\"\"","v":""},null,null,null,null,null,null,null,{"$f":"労働者に係る事項!E439&\"\"","v":""},null,null,null,null,null,null,null,null,null,null,null,null,null,null,null,null,null,null,null,null,null,null,null,null,null,null,null,{"$f":"労働者に係る事項!F439&\"\"","v":""},null,null,null,null,null,null,{"$f":"労働者に係る事項!G439&\"\"","v":""},null,null,null,null,null,{"$f":"労働者に係る事項!H439&\"\"","v":""},null,null,null,null,null,{"$f":"労働者に係る事項!I439&\"\"","v":""},null,null,null,null,null,null,{"$f":"労働者に係る事項!J439&\"\"","v":""},null,null,null,null,null,null,null,null,null,{"$f":"労働者に係る事項!K439&\"\"","v":""},null,null,null,null,null,null,null,null,null,null,null,null,null,null,null,null,{"$f":"労働者に係る事項!L439&\"\"","v":""},null,null,null,null,null,{"$f":"労働者に係る事項!M439&\"\"","v":""},null,null,null,null,null,null,{"$f":"労働者に係る事項!N439&\"\"","v":""},null,null,null,null,null,null,{"$f":"IF(労働者に係る事項!O439=\"\",\"\",労働者に係る事項!O439)","v":""},null,null,null,null,null,null,null,null,null,null,null,null,null,null,null,null,null,null,{"$f":"IF(労働者に係る事項!P439=\"\",\"\",労働者に係る事項!P439)","v":""},null,null,null,null,null,null,null,null,null,null,null,null,null,{"$f":"IF(労働者に係る事項!Q439=\"\",\"\",労働者に係る事項!Q439)","v":""},null,null,null,null,null,null,null,null,null,null,null,null,null,null,null,null,null,null,null,{"$f":"労働者に係る事項!R439&\"\"","v":""},null,null,null,null,null,null,null,{"$f":"労働者に係る事項!S439&\"\"","v":""}]

{"sheet":"選択肢","index":3,"n_rows":145,"n_cols":32,"rows_kept":145,"cut":false,"hidden":true,"merged":[]}
["企業規模値","企業規模表示",null,"男女値","男女表示",null,"雇用形態値","雇用形態表示",null,"就業形態値","就業形態表示",null,"最終学歴値","最終学歴表示",null,"新規学卒者値","新規学卒者表示",null,"役職値","役職表示",null,"職種値","職種表示",null,"経験年数値","経験年数表示",null,"在留資格番号値","在留資格番号表示",null,"備考チェックボックス論理値の値","備考チェックボックス表示"]
[1,"5000人以上",null,1,"男",null,1,"正社員・正職員（期間の定め無）",null,1,"一般",null,1,"中学",null,1,"新卒",null,101,"部長級",null,1031,"管理的職業従事者",null,1,"１年未満",null,"01","教授",null,true,"チェック"]
[2,"1000～4999人",null,2,"女",null,2,"正社員・正職員（期間の定め有）",null,2,"短時間",null,2,"高校",null,null,null,null,102,"課長級",null,1051,"研究者",null,2,"１～４年",null,"02","芸術",null,false,"非チェック"]
[3,"500～999人",null,null,null,null,3,"正社員・正職員以外（期間の定め無）",null,null,null,null,3,"専門学校",null,null,null,null,103,"係長級",null,1072,"電気・電子・電気通信技術者（通信ネットワーク技術者を除く）",null,3,"５～９年",null,"03","宗教"]
[4,"300～499人",null,null,null,null,4,"正社員・正職員以外（期間の定め有）",null,null,null,null,4,"高専・短大",null,null,null,null,104,"職長級",null,1073,"機械技術者",null,4,"10～14年",null,"04","報道"]
[5,"100～299人",null,null,null,null,5,"臨時労働者",null,null,null,null,5,"大学",null,null,null,null,105,"その他役職",null,1074,"輸送用機器技術者",null,5,"15年以上",null,"05","高度専門職"]
[6,"30～99人",null,null,null,null,null,null,null,null,null,null,6,"大学院",null,null,null,null,null,null,null,1076,"金属技術者",null,null,null,null,"06","経営・管理"]
[7,"10～29人",null,null,null,null,null,null,null,null,null,null,9,"不明",null,null,null,null,null,null,null,1077,"化学技術者",null,null,null,null,"07","法律・会計業務"]
[8,"5～9人",null,null,null,null,null,null,null,null,null,null,null,null,null,null,null,null,null,null,null,1091,"建築技術者",null,null,null,null,"08","医療"]
[null,null,null,null,null,null,null,null,null,null,null,null,null,null,null,null,null,null,null,null,null,1092,"土木技術者",null,null,null,null,"09","研究"]
[null,null,null,null,null,null,null,null,null,null,null,null,null,null,null,null,null,null,null,null,null,1093,"測量技術者",null,null,null,null,"10","教育"]
[null,null,null,null,null,null,null,null,null,null,null,null,null,null,null,null,null,null,null,null,null,1101,"システムコンサルタント・設計者",null,null,null,null,"11","技術・人文知識・国際業務"]
[null,null,null,null,null,null,null,null,null,null,null,null,null,null,null,null,null,null,null,null,null,1104,"ソフトウェア作成者",null,null,null,null,"12","企業内転勤"]
[null,null,null,null,null,null,null,null,null,null,null,null,null,null,null,null,null,null,null,null,null,1109,"その他の情報処理・通信技術者",null,null,null,null,"13","介護"]
[null,null,null,null,null,null,null,null,null,null,null,null,null,null,null,null,null,null,null,null,null,1119,"他に分類されない技術者",null,null,null,null,"14","興行"]
[null,null,null,null,null,null,null,null,null,null,null,null,null,null,null,null,null,null,null,null,null,1121,"医師",null,null,null,null,"15","技能"]
[null,null,null,null,null,null,null,null,null,null,null,null,null,null,null,null,null,null,null,null,null,1122,"歯科医師",null,null,null,null,"16","特定技能１号"]
[null,null,null,null,null,null,null,null,null,null,null,null,null,null,null,null,null,null,null,null,null,1123,"獣医師",null,null,null,null,"17","特定技能２号"]
[null,null,null,null,null,null,null,null,null,null,null,null,null,null,null,null,null,null,null,null,null,1124,"薬剤師",null,null,null,null,"18","技能実習"]
[null,null,null,null,null,null,null,null,null,null,null,null,null,null,null,null,null,null,null,null,null,1131,"保健師",null,null,null,null,"19","文化活動"]
[null,null,null,null,null,null,null,null,null,null,null,null,null,null,null,null,null,null,null,null,null,1132,"助産師",null,null,null,null,"20","短期滞在"]
[null,null,null,null,null,null,null,null,null,null,null,null,null,null,null,null,null,null,null,null,null,1133,"看護師",null,null,null,null,"21","留学"]
[null,null,null,null,null,null,null,null,null,null,null,null,null,null,null,null,null,null,null,null,null,1134,"准看護師",null,null,null,null,"22","研修"]
[null,null,null,null,null,null,null,null,null,null,null,null,null,null,null,null,null,null,null,null,null,1141,"診療放射線技師",null,null,null,null,"23","家族滞在"]
[null,null,null,null,null,null,null,null,null,null,null,null,null,null,null,null,null,null,null,null,null,1143,"臨床検査技師",null,null,null,null,"24","特定活動"]
[null,null,null,null,null,null,null,null,null,null,null,null,null,null,null,null,null,null,null,null,null,1144,"理学療法士，作業療法士，言語聴覚士，視能訓練士",null,null,null,null,"25","永住者"]
[null,null,null,null,null,null,null,null,null,null,null,null,null,null,null,null,null,null,null,null,null,1146,"歯科衛生士",null,null,null,null,"26","日本人の配偶者等"]
[null,null,null,null,null,null,null,null,null,null,null,null,null,null,null,null,null,null,null,null,null,1147,"歯科技工士",null,null,null,null,"27","永住者の配偶者等"]
[null,null,null,null,null,null,null,null,null,null,null,null,null,null,null,null,null,null,null,null,null,1151,"栄養士",null,null,null,null,"28","定住者"]
[null,null,null,null,null,null,null,null,null,null,null,null,null,null,null,null,null,null,null,null,null,1159,"その他の保健医療従事者"]
[null,null,null,null,null,null,null,null,null,null,null,null,null,null,null,null,null,null,null,null,null,1163,"保育士"]
[null,null,null,null,null,null,null,null,null,null,null,null,null,null,null,null,null,null,null,null,null,1168,"介護支援専門員（ケアマネージャー）"]
[null,null,null,null,null,null,null,null,null,null,null,null,null,null,null,null,null,null,null,null,null,1169,"その他の社会福祉専門職業従事者"]
[null,null,null,null,null,null,null,null,null,null,null,null,null,null,null,null,null,null,null,null,null,1173,"法務従事者"]
[null,null,null,null,null,null,null,null,null,null,null,null,null,null,null,null,null,null,null,null,null,1181,"公認会計士，税理士"]
[null,null,null,null,null,null,null,null,null,null,null,null,null,null,null,null,null,null,null,null,null,1189,"その他の経営・金融・保険専門職業従事者"]
[null,null,null,null,null,null,null,null,null,null,null,null,null,null,null,null,null,null,null,null,null,1191,"幼稚園教員，保育教諭"]
[null,null,null,null,null,null,null,null,null,null,null,null,null,null,null,null,null,null,null,null,null,1192,"小・中学校教員"]
[null,null,null,null,null,null,null,null,null,null,null,null,null,null,null,null,null,null,null,null,null,1194,"高等学校教員"]
[null,null,null,null,null,null,null,null,null,null,null,null,null,null,null,null,null,null,null,null,null,1196,"大学教授（高専含む）"]
[null,null,null,null,null,null,null,null,null,null,null,null,null,null,null,null,null,null,null,null,null,1197,"大学准教授（高専含む）"]
[null,null,null,null,null,null,null,null,null,null,null,null,null,null,null,null,null,null,null,null,null,1198,"大学講師・助教（高専含む）"]
[null,null,null,null,null,null,null,null,null,null,null,null,null,null,null,null,null,null,null,null,null,1199,"その他の教員"]
[null,null,null,null,null,null,null,null,null,null,null,null,null,null,null,null,null,null,null,null,null,1201,"宗教家"]
[null,null,null,null,null,null,null,null,null,null,null,null,null,null,null,null,null,null,null,null,null,1211,"著述家，記者，編集者"]
[null,null,null,null,null,null,null,null,null,null,null,null,null,null,null,null,null,null,null,null,null,1221,"美術家，写真家，映像撮影者"]
[null,null,null,null,null,null,null,null,null,null,null,null,null,null,null,null,null,null,null,null,null,1224,"デザイナー"]
[null,null,null,null,null,null,null,null,null,null,null,null,null,null,null,null,null,null,null,null,null,1231,"音楽家，舞台芸術家"]
[null,null,null,null,null,null,null,null,null,null,null,null,null,null,null,null,null,null,null,null,null,1244,"個人教師"]
[null,null,null,null,null,null,null,null,null,null,null,null,null,null,null,null,null,null,null,null,null,1249,"他に分類されない専門的職業従事者"]
[null,null,null,null,null,null,null,null,null,null,null,null,null,null,null,null,null,null,null,null,null,1251,"庶務・人事事務員"]
[null,null,null,null,null,null,null,null,null,null,null,null,null,null,null,null,null,null,null,null,null,1253,"企画事務員"]
[null,null,null,null,null,null,null,null,null,null,null,null,null,null,null,null,null,null,null,null,null,1254,"受付・案内事務員"]
[null,null,null,null,null,null,null,null,null,null,null,null,null,null,null,null,null,null,null,null,null,1255,"秘書"]
[null,null,null,null,null,null,null,null,null,null,null,null,null,null,null,null,null,null,null,null,null,1256,"電話応接事務員"]
[null,null,null,null,null,null,null,null,null,null,null,null,null,null,null,null,null,null,null,null,null,1257,"総合事務員"]
[null,null,null,null,null,null,null,null,null,null,null,null,null,null,null,null,null,null,null,null,null,1259,"その他の一般事務従事者"]
[null,null,null,null,null,null,null,null,null,null,null,null,null,null,null,null,null,null,null,null,null,1261,"会計事務従事者"]
[null,null,null,null,null,null,null,null,null,null,null,null,null,null,null,null,null,null,null,null,null,1271,"生産関連事務従事者"]
[null,null,null,null,null,null,null,null,null,null,null,null,null,null,null,null,null,null,null,null,null,1281,"営業・販売事務従事者"]
[null,null,null,null,null,null,null,null,null,null,null,null,null,null,null,null,null,null,null,null,null,1291,"外勤事務従事者"]
[null,null,null,null,null,null,null,null,null,null,null,null,null,null,null,null,null,null,null,null,null,1301,"運輸・郵便事務従事者"]
[null,null,null,null,null,null,null,null,null,null,null,null,null,null,null,null,null,null,null,null,null,1311,"事務用機器操作員"]
[null,null,null,null,null,null,null,null,null,null,null,null,null,null,null,null,null,null,null,null,null,1321,"販売店員"]
[null,null,null,null,null,null,null,null,null,null,null,null,null,null,null,null,null,null,null,null,null,1324,"その他の商品販売従事者"]
[null,null,null,null,null,null,null,null,null,null,null,null,null,null,null,null,null,null,null,null,null,1331,"販売類似職業従事者"]
[null,null,null,null,null,null,null,null,null,null,null,null,null,null,null,null,null,null,null,null,null,1344,"自動車営業職業従事者"]
[null,null,null,null,null,null,null,null,null,null,null,null,null,null,null,null,null,null,null,null,null,1345,"機械器具・通信・システム営業職業従事者（自動車を除く）"]
[null,null,null,null,null,null,null,null,null,null,null,null,null,null,null,null,null,null,null,null,null,1346,"金融営業職業従事者"]
[null,null,null,null,null,null,null,null,null,null,null,null,null,null,null,null,null,null,null,null,null,1347,"保険営業職業従事者"]
[null,null,null,null,null,null,null,null,null,null,null,null,null,null,null,null,null,null,null,null,null,1349,"その他の営業職業従事者"]
[null,null,null,null,null,null,null,null,null,null,null,null,null,null,null,null,null,null,null,null,null,1361,"介護職員（医療・福祉施設等）"]
[null,null,null,null,null,null,null,null,null,null,null,null,null,null,null,null,null,null,null,null,null,1362,"訪問介護従事者"]
[null,null,null,null,null,null,null,null,null,null,null,null,null,null,null,null,null,null,null,null,null,1371,"看護助手"]
[null,null,null,null,null,null,null,null,null,null,null,null,null,null,null,null,null,null,null,null,null,1379,"その他の保健医療サービス職業従事者"]
[null,null,null,null,null,null,null,null,null,null,null,null,null,null,null,null,null,null,null,null,null,1381,"理容・美容師　"]
[null,null,null,null,null,null,null,null,null,null,null,null,null,null,null,null,null,null,null,null,null,1383,"美容サービス・浴場従事者（美容師を除く）"]
[null,null,null,null,null,null,null,null,null,null,null,null,null,null,null,null,null,null,null,null,null,1385,"クリーニング職，洗張職"]
[null,null,null,null,null,null,null,null,null,null,null,null,null,null,null,null,null,null,null,null,null,1391,"飲食物調理従事者"]
[null,null,null,null,null,null,null,null,null,null,null,null,null,null,null,null,null,null,null,null,null,1403,"飲食物給仕従事者"]
[null,null,null,null,null,null,null,null,null,null,null,null,null,null,null,null,null,null,null,null,null,1404,"航空機客室乗務員"]
[null,null,null,null,null,null,null,null,null,null,null,null,null,null,null,null,null,null,null,null,null,1405,"身の回り世話従事者"]
[null,null,null,null,null,null,null,null,null,null,null,null,null,null,null,null,null,null,null,null,null,1406,"娯楽場等接客員"]
[null,null,null,null,null,null,null,null,null,null,null,null,null,null,null,null,null,null,null,null,null,1411,"居住施設・ビル等管理人"]
[null,null,null,null,null,null,null,null,null,null,null,null,null,null,null,null,null,null,null,null,null,1421,"その他のサービス職業従事者"]
[null,null,null,null,null,null,null,null,null,null,null,null,null,null,null,null,null,null,null,null,null,1453,"警備員"]
[null,null,null,null,null,null,null,null,null,null,null,null,null,null,null,null,null,null,null,null,null,1459,"その他の保安職業従事者"]
[null,null,null,null,null,null,null,null,null,null,null,null,null,null,null,null,null,null,null,null,null,1461,"農林漁業従事者"]
[null,null,null,null,null,null,null,null,null,null,null,null,null,null,null,null,null,null,null,null,null,1491,"製銑・製鋼・非鉄金属製錬従事者"]
[null,null,null,null,null,null,null,null,null,null,null,null,null,null,null,null,null,null,null,null,null,1492,"鋳物製造・鍛造従事者"]
[null,null,null,null,null,null,null,null,null,null,null,null,null,null,null,null,null,null,null,null,null,1493,"金属工作機械作業従事者"]
[null,null,null,null,null,null,null,null,null,null,null,null,null,null,null,null,null,null,null,null,null,1494,"金属プレス従事者"]
[null,null,null,null,null,null,null,null,null,null,null,null,null,null,null,null,null,null,null,null,null,1495,"鉄工，製缶従事者"]
[null,null,null,null,null,null,null,null,null,null,null,null,null,null,null,null,null,null,null,null,null,1496,"板金従事者"]
[null,null,null,null,null,null,null,null,null,null,null,null,null,null,null,null,null,null,null,null,null,1497,"金属彫刻・表面処理従事者"]
[null,null,null,null,null,null,null,null,null,null,null,null,null,null,null,null,null,null,null,null,null,1498,"金属溶接・溶断従事者"]
[null,null,null,null,null,null,null,null,null,null,null,null,null,null,null,null,null,null,null,null,null,1499,"その他の製品製造・加工処理従事者（金属製品）"]
[null,null,null,null,null,null,null,null,null,null,null,null,null,null,null,null,null,null,null,null,null,1501,"化学製品製造従事者"]
[null,null,null,null,null,null,null,null,null,null,null,null,null,null,null,null,null,null,null,null,null,1502,"窯業・土石製品製造従事者"]
[null,null,null,null,null,null,null,null,null,null,null,null,null,null,null,null,null,null,null,null,null,1503,"食料品・飲料・たばこ製造従事者"]
[null,null,null,null,null,null,null,null,null,null,null,null,null,null,null,null,null,null,null,null,null,1505,"紡織・衣服・繊維製品製造従事者"]
[null,null,null,null,null,null,null,null,null,null,null,null,null,null,null,null,null,null,null,null,null,1506,"木・紙製品製造従事者"]
[null,null,null,null,null,null,null,null,null,null,null,null,null,null,null,null,null,null,null,null,null,1507,"印刷・製本従事者"]
[null,null,null,null,null,null,null,null,null,null,null,null,null,null,null,null,null,null,null,null,null,1508,"ゴム・プラスチック製品製造従事者"]
[null,null,null,null,null,null,null,null,null,null,null,null,null,null,null,null,null,null,null,null,null,1509,"その他の製品製造・加工処理従事者（金属製品を除く）"]
[null,null,null,null,null,null,null,null,null,null,null,null,null,null,null,null,null,null,null,null,null,1511,"はん用・生産用・業務用機械器具組立従事者"]
[null,null,null,null,null,null,null,null,null,null,null,null,null,null,null,null,null,null,null,null,null,1512,"電気機械器具組立従事者"]
[null,null,null,null,null,null,null,null,null,null,null,null,null,null,null,null,null,null,null,null,null,1513,"自動車組立従事者"]
[null,null,null,null,null,null,null,null,null,null,null,null,null,null,null,null,null,null,null,null,null,1514,"その他の機械組立従事者"]
[null,null,null,null,null,null,null,null,null,null,null,null,null,null,null,null,null,null,null,null,null,1551,"はん用・生産用・業務用機械器具・電気機械器具整備・修理従事者"]
[null,null,null,null,null,null,null,null,null,null,null,null,null,null,null,null,null,null,null,null,null,1553,"自動車整備・修理従事者"]
[null,null,null,null,null,null,null,null,null,null,null,null,null,null,null,null,null,null,null,null,null,1554,"その他の機械整備・修理従事者"]
[null,null,null,null,null,null,null,null,null,null,null,null,null,null,null,null,null,null,null,null,null,1561,"製品検査従事者（金属製品）"]
[null,null,null,null,null,null,null,null,null,null,null,null,null,null,null,null,null,null,null,null,null,1571,"製品検査従事者（金属製品を除く）"]
[null,null,null,null,null,null,null,null,null,null,null,null,null,null,null,null,null,null,null,null,null,1581,"機械検査従事者"]
[null,null,null,null,null,null,null,null,null,null,null,null,null,null,null,null,null,null,null,null,null,1591,"画工，塗装・看板制作従事者"]
[null,null,null,null,null,null,null,null,null,null,null,null,null,null,null,null,null,null,null,null,null,1592,"製図その他生産関連・生産類似作業従事者"]
[null,null,null,null,null,null,null,null,null,null,null,null,null,null,null,null,null,null,null,null,null,1601,"鉄道運転従事者"]
[null,null,null,null,null,null,null,null,null,null,null,null,null,null,null,null,null,null,null,null,null,1611,"バス運転者"]
[null,null,null,null,null,null,null,null,null,null,null,null,null,null,null,null,null,null,null,null,null,1612,"タクシー運転者"]
[null,null,null,null,null,null,null,null,null,null,null,null,null,null,null,null,null,null,null,null,null,1613,"乗用自動車運転者（タクシー運転者を除く）"]
[null,null,null,null,null,null,null,null,null,null,null,null,null,null,null,null,null,null,null,null,null,1614,"営業用大型貨物自動車運転者"]
[null,null,null,null,null,null,null,null,null,null,null,null,null,null,null,null,null,null,null,null,null,1615,"営業用貨物自動車運転者（大型車を除く）"]
[null,null,null,null,null,null,null,null,null,null,null,null,null,null,null,null,null,null,null,null,null,1616,"自家用貨物自動車運転者"]
[null,null,null,null,null,null,null,null,null,null,null,null,null,null,null,null,null,null,null,null,null,1619,"その他の自動車運転従事者"]
[null,null,null,null,null,null,null,null,null,null,null,null,null,null,null,null,null,null,null,null,null,1624,"航空機操縦士"]
[null,null,null,null,null,null,null,null,null,null,null,null,null,null,null,null,null,null,null,null,null,1631,"車掌"]
[null,null,null,null,null,null,null,null,null,null,null,null,null,null,null,null,null,null,null,null,null,1639,"他に分類されない輸送従事者"]
[null,null,null,null,null,null,null,null,null,null,null,null,null,null,null,null,null,null,null,null,null,1641,"発電員，変電員"]
[null,null,null,null,null,null,null,null,null,null,null,null,null,null,null,null,null,null,null,null,null,1643,"クレーン・ウインチ運転従事者"]
[null,null,null,null,null,null,null,null,null,null,null,null,null,null,null,null,null,null,null,null,null,1645,"建設・さく井機械運転従事者"]
[null,null,null,null,null,null,null,null,null,null,null,null,null,null,null,null,null,null,null,null,null,1649,"その他の定置・建設機械運転従事者"]
[null,null,null,null,null,null,null,null,null,null,null,null,null,null,null,null,null,null,null,null,null,1651,"建設躯体工事従事者"]
[null,null,null,null,null,null,null,null,null,null,null,null,null,null,null,null,null,null,null,null,null,1661,"大工"]
[null,null,null,null,null,null,null,null,null,null,null,null,null,null,null,null,null,null,null,null,null,1666,"配管従事者"]
[null,null,null,null,null,null,null,null,null,null,null,null,null,null,null,null,null,null,null,null,null,1669,"その他の建設従事者"]
[null,null,null,null,null,null,null,null,null,null,null,null,null,null,null,null,null,null,null,null,null,1671,"電気工事従事者"]
[null,null,null,null,null,null,null,null,null,null,null,null,null,null,null,null,null,null,null,null,null,1681,"土木従事者，鉄道線路工事従事者"]
[null,null,null,null,null,null,null,null,null,null,null,null,null,null,null,null,null,null,null,null,null,1691,"ダム・トンネル掘削従事者，採掘従事者"]
[null,null,null,null,null,null,null,null,null,null,null,null,null,null,null,null,null,null,null,null,null,1702,"船内・沿岸荷役従事者"]
[null,null,null,null,null,null,null,null,null,null,null,null,null,null,null,null,null,null,null,null,null,1703,"その他の運搬従事者"]
[null,null,null,null,null,null,null,null,null,null,null,null,null,null,null,null,null,null,null,null,null,1711,"ビル・建物清掃員"]
[null,null,null,null,null,null,null,null,null,null,null,null,null,null,null,null,null,null,null,null,null,1712,"清掃員（ビル・建物を除く），廃棄物処理従事者"]
[null,null,null,null,null,null,null,null,null,null,null,null,null,null,null,null,null,null,null,null,null,1721,"包装従事者 "]
[null,null,null,null,null,null,null,null,null,null,null,null,null,null,null,null,null,null,null,null,null,1739,"他に分類されない運搬・清掃・包装等従事者"]

{"sheet":"抽出率テーブル","index":4,"n_rows":101,"n_cols":17,"rows_kept":101,"cut":false,"hidden":true,"merged":[]}
[null,null,null,null,null,null,null,null,null,null,null,"※基本的に日本標準産業分類の表現にあわせています。"]
[null,null,"15,000人","5,000～","1,000～","500～"," 100～"," 30～"," 10～"," 5～",null,"「その他」や「別掲を除く」等、単体で見て分かりづらい表現は出来るだけ具体的に記載しました。"]
[null,"産業","以上","14,999人","4,999人","999人","499人 ","99人 ","29人 ","9人 "]
[null,5,90,20,10,8,4,2,1,1,5,"C05 鉱業，採石業，砂利採取業",null,null,null,101,101]
[null,6,90,60,30,25,5,2,1,1,6,"D06 建設業",null,null,null,102,102]
[null,7,90,60,30,25,5,2,1,1,7,"D07 建設業",null,null,null,103,103]
[null,8,90,60,30,25,5,2,1,1,8,"D08 建設業",null,null,null,104,105]
[null,9,90,40,20,20,5,2,1,1,9,"E09 食料品製造業",null,null,null,105]
[null,10,90,40,20,20,5,2,1,1,10,"E10 飲料・たばこ・飼料製造業"]
[null,11,90,60,15,15,5,2,1,1,11,"E11 繊維工業"]
[null,12,90,20,20,15,5,2,1,1,12,"E12 木材・木製品製造業（家具を除く）"]
[null,13,90,20,20,15,5,2,1,1,13,"E13 家具・装備品製造業"]
[null,14,90,30,25,10,5,2,1,1,14,"E14 パルプ・紙・紙加工品製造業"]
[null,15,90,30,15,10,5,2,1,1,15,"E15 印刷・同関連業"]
[null,16,90,40,30,20,5,2,1,1,16,"E16 化学工業"]
[null,17,90,40,30,20,5,2,1,1,17,"E17 石油製品・石炭製品製造業"]
[null,18,90,30,15,15,5,2,1,1,18,"E18 プラスチック製品製造業"]
[null,19,90,30,20,15,5,2,1,1,19,"E19 ゴム製品製造業"]
[null,20,90,20,20,15,5,2,1,1,20,"E20 なめし革・同製品・毛皮製造業"]
[null,21,90,40,20,15,5,2,1,1,21,"E21 窯業・土石製品製造業"]
[null,22,90,60,35,20,5,2,1,1,22,"E22 鉄鋼業"]
[null,23,90,30,20,15,5,2,1,1,23,"E23 非鉄金属製造業"]
[null,24,90,40,20,20,5,2,1,1,24,"E24 金属製品製造業"]
[null,25,90,60,35,25,5,2,1,1,25,"E25 はん用機械器具製造業"]
[null,26,90,60,35,25,5,2,1,1,26,"E26 生産用機械器具製造業"]
[null,27,90,60,35,25,5,2,1,1,27,"E27 業務用機械器具製造業"]
[null,28,90,60,35,25,5,2,1,1,28,"E28 電子部品・デバイス・電子回路製造業"]
[null,29,90,60,35,25,5,2,1,1,29,"E29 電気機械器具製造業"]
[null,30,90,60,35,25,5,2,1,1,30,"E30 情報通信機械器具製造業"]
[null,31,90,60,35,25,5,2,1,1,31,"E31 輸送用機械器具製造業"]
[null,32,90,30,15,15,5,2,1,1,32,"E32 装身具･時計･楽器･運動･事務用品･畳等生活雑貨等製造業"]
[null,33,90,80,40,15,5,2,1,1,33,"F33 電気業"]
[null,34,90,30,15,10,5,2,1,1,34,"F34 ガス業"]
[null,35,90,30,15,10,5,2,1,1,35,"F35 熱供給業"]
[null,36,90,35,35,15,5,2,1,1,36,"F36 水道業"]
[null,37,90,70,40,15,5,2,1,1,37,"G37 通信業"]
[null,38,90,70,40,15,5,2,1,1,38,"G38 放送業"]
[null,39,90,80,40,15,5,2,1,1,39,"G39 情報サービス業"]
[null,40,90,80,40,15,5,2,1,1,40,"G40 インターネット附随サービス業"]
[null,41,90,40,15,15,5,2,1,1,41,"G41 映像・音声・文字情報制作業(新聞業、出版業含む)"]
[null,42,90,40,35,15,5,2,1,1,42,"H42 鉄道業"]
[null,43,90,40,40,20,5,2,1,1,43,"H43 道路旅客運送業"]
[null,44,90,60,40,20,5,2,1,1,44,"H44 道路貨物運送業"]
[null,45,90,30,15,15,5,2,1,1,45,"H45 水運業"]
[null,46,90,30,15,15,5,2,1,1,46,"H46 航空運輸業"]
[null,47,90,40,20,15,5,2,1,1,47,"H47 倉庫業"]
[null,48,90,40,20,20,5,2,1,1,48,"H48 運輸に附帯するサービス業"]
[null,49,90,70,40,15,5,2,1,1,49,"H49 郵便業（信書便事業を含む）"]
[null,50,90,40,20,15,5,2,1,1,50,"I50 各種商品卸売業"]
[null,51,90,40,15,15,5,2,1,1,51,"I51 繊維・衣服等卸売業"]
[null,52,90,40,25,15,5,2,1,1,52,"I52 飲食料品卸売業"]
[null,53,90,40,20,15,5,2,1,1,53,"I53 建築材料，鉱物・金属材料等卸売業"]
[null,54,90,40,25,15,5,2,1,1,54,"I54 機械器具卸売業"]
[null,55,90,40,25,15,5,2,1,1,55,"I55 家具・じゅう器・医薬品・化粧品・紙製品等卸売業"]
[null,56,90,60,35,10,5,2,1,1,56,"I56 百貨店，総合スーパー等各種商品小売業"]
[null,57,90,80,40,20,5,2,1,1,57,"I57 織物・衣服・身の回り品小売業"]
[null,58,90,80,30,20,5,2,1,1,58,"I58 飲食料品小売業"]
[null,59,90,80,40,20,5,2,1,1,59,"I59 機械器具小売業"]
[null,60,90,80,40,20,5,2,1,1,60,"I60 家具･医薬品･化粧品･農耕用品･燃料･書籍･娯楽用品等小売業"]
[null,61,90,80,40,20,5,2,1,1,61,"I61 通信販売･訪問販売･自動車販売等無店舗小売業"]
[null,62,90,80,40,20,5,2,1,1,62,"J62 銀行業"]
[null,63,90,30,25,15,5,2,1,1,63,"J63 協同組織金融業"]
[null,64,90,80,20,15,5,2,1,1,64,"J64 貸金業，クレジットカード業等非預金信用機関"]
[null,65,90,20,15,10,5,2,1,1,65,"J65 金融商品取引業，商品先物取引業"]
[null,66,90,80,20,15,5,2,1,1,66,"J66 補助的金融業等"]
[null,67,90,80,35,20,5,2,1,1,67,"J67 保険業（保険媒介代理業，保険サービス業を含む）"]
[null,68,90,30,30,10,5,2,1,1,68,"K68 不動産取引業"]
[null,69,90,30,30,10,5,2,1,1,69,"K69 不動産賃貸業・管理業"]
[null,70,90,30,30,10,5,2,1,1,70,"K70 物品賃貸業"]
[null,71,90,70,40,20,5,2,1,1,71,"L71 学術・開発研究機関"]
[null,72,90,40,30,25,5,2,1,1,72,"L72 法律･司法書士･税理士等事務所,芸術家･経営ｺﾝｻﾙ等専門ｻｰﾋﾞｽ業"]
[null,73,90,20,20,15,5,2,1,1,73,"L73 広告業"]
[null,74,90,40,30,25,5,2,1,1,74,"L74 獣医,土木建築ｻｰﾋﾞｽ,機械設計,検査,軽量証明,写真等技術ｻｰﾋﾞｽ業"]
[null,75,90,20,20,10,5,2,1,1,75,"M75 宿泊業"]
[null,76,90,30,30,15,5,2,1,1,76,"M76 飲食店"]
[null,77,90,80,30,20,5,2,1,1,77,"M77 持ち帰り・配達飲食サービス業"]
[null,78,90,40,40,10,5,2,1,1,78,"N78 洗濯・理容・美容・浴場業"]
[null,79,90,80,40,15,5,2,1,1,79,"N79 旅行,裁縫修理,物品預り,墓地管理,冠婚葬祭等生活関連ｻｰﾋﾞｽ業"]
[null,80,90,40,15,15,5,2,1,1,80,"N80 娯楽業"]
[null,81,90,60,15,15,5,2,1,1,81,"O81 学校教育"]
[null,82,90,60,30,25,5,2,1,1,82,"O82 学校以外(職業･教育支援施設,学習塾等)の教育，学習支援業"]
[null,83,90,60,25,15,5,2,1,1,83,"P83 医療業"]
[null,84,90,40,20,10,5,2,1,1,84,"P84 保健衛生"]
[null,85,90,40,20,10,5,2,1,1,85,"P85 社会保険・社会福祉・介護事業"]
[null,86,90,80,40,25,5,2,1,1,86,"Q86 郵便局"]
[null,87,90,80,15,15,5,2,1,1,87,"Q87 信用事業又は共済事業と併せて各種サービスをする協同組合"]
[null,88,90,80,40,25,5,2,1,1,88,"R88 廃棄物処理業"]
[null,89,90,30,30,10,5,2,1,1,89,"R89 自動車整備業"]
[null,90,90,30,30,25,5,2,1,1,90,"R90 機械等修理業"]
[null,91,90,60,25,25,5,2,1,1,91,"R91 職業紹介・労働者派遣業"]
[null,92,90,60,25,25,5,2,1,1,92,"R92 速記,入力,複写,ビルメンテナンス,警備等事業サービス業"]
[null,93,90,70,40,20,5,2,1,1,93,"R93 政治・経済・文化団体"]
[null,94,90,70,40,20,5,2,1,1,94,"R94 宗教"]
[null,95,90,70,40,20,5,2,1,1,95,"R95 文化会館等集会場,と畜場，卸売市場等サービス業"]
[null,null,null,null,null,null,null,null,null,null,0]
[null,null,null,null,null,null,null,null,null,1]
[null,"コード",2,3,4,5,6,7,8,1]
[]
[null,"中分類","常用労働者","抽出率","産業名",null,null,null,"※貴事業所の産業は「",null,null,null,"常用労働者数"]
[null,{"$f":"LEFT(RIGHT(事業所に係る事項!AQ13,3),2)*1","v":{"$error":"#VALUE!"}},{"$f":"IF(M100=0,9,(M100<15000)+(M100<5000)+(M100<1000)+(M100<500)+(M100<100)+(M100<30)+(M100<10)+(M100<5)+2)","v":9},{"$f":"VLOOKUP($B$100,$B$4:$J$95,$C$100,0)","v":{"$error":"#VALUE!"}},{"$f":"IF(AND(B100>4,B100,96),VLOOKUP(B100,B4:L94,11),\"\")","v":{"$error":"#VALUE!"}},null,null,null,"」に分類されています。",null,null,null,{"$f":"事業所に係る事項!EN13+事業所に係る事項!EN19","v":0}]
[null,null,null,null,{"$f":"IF(AND(B100<>0,ISNA(D100)),\"「産業分類番号」の入力内容に誤りがあります。\",IF(E100<>\"\",CONCATENATE(CONCATENATE(I99,E100),I100),\"\"))","v":{"$error":"#VALUE!"}}]

{"sheet":"役職・職種一覧表","index":5,"n_rows":44,"n_cols":12,"rows_kept":44,"cut":false,"hidden":false,"merged":[[29,6,29,7],[13,8,13,9],[39,6,39,7],[0,1,0,11],[3,4,3,5],[15,6,15,7],[5,4,5,5],[10,10,10,11],[26,10,26,11],[34,10,34,11],[16,8,16,9],[18,8,18,9]]}
[null,"調査の対象となる役職・職種一覧表"]
[]
[null,"役職",null,null,"職種　（記入労働者全員について記載してください。）"]
[null,101,"部長級",null,"A　管理的職業従事者",null,1194,"高等学校教員",1381,"理容・美容師　",1553,"自動車整備・修理従事者"]
[null,102,"課長級",null,1031,"管理的職業従事者",1196,"大学教授（高専含む）",1383,"美容サービス・浴場従事者（美容師を除く）",1554,"その他の機械整備・修理従事者"]
[null,103,"係長級",null,"B　専門的・技術的職業従事者",null,1197,"大学准教授（高専含む）",1385,"クリーニング職，洗張職",1561,"製品検査従事者（金属製品）"]
[null,104,"職長級",null,1051,"研究者",1198,"大学講師・助教（高専含む）",1391,"飲食物調理従事者",1571,"製品検査従事者（金属製品を除く）"]
[null,105,"その他役職",null,1072,"電気・電子・電気通信技術者",1199,"その他の教員",1403,"飲食物給仕従事者",1581,"機械検査従事者"]
[null,null,null,null,null,"（通信ネットワーク技術者を除く）",1201,"宗教家",1404,"航空機客室乗務員",1591,"画工，塗装・看板制作従事者"]
[null,null,null,null,1073,"機械技術者",1211,"著述家，記者，編集者",1405,"身の回り世話従事者",1592,"製図その他生産関連・生産類似作業従事者"]
[null,null,null,null,1074,"輸送用機器技術者",1221,"美術家，写真家，映像撮影者",1406,"娯楽場等接客員","I　輸送・機械運転従事者"]
[null,null,null,null,1076,"金属技術者",1224,"デザイナー",1411,"居住施設・ビル等管理人",1601,"鉄道運転従事者"]
[null,null,null,null,1077,"化学技術者",1231,"音楽家，舞台芸術家",1421,"その他のサービス職業従事者",1611,"バス運転者"]
[null,null,null,null,1091,"建築技術者",1244,"個人教師","Ｆ　保安職業従事者",null,1612,"タクシー運転者"]
[null,null,null,null,1092,"土木技術者",1249,"他に分類されない専門的職業従事者",1453,"警備員",1613,"乗用自動車運転者（タクシー運転者を除く）"]
[null,null,null,null,1093,"測量技術者","C　事務従事者",null,1459,"その他の保安職業従事者",1614,"営業用大型貨物自動車運転者"]
[null,null,null,null,1101,"システムコンサルタント・設計者",1251,"庶務・人事事務員","Ｇ　農林漁業従事者",null,1615,"営業用貨物自動車運転者（大型車を除く）"]
[null,null,null,null,1104,"ソフトウェア作成者",1253,"企画事務員",1461,"農林漁業従事者",1616,"自家用貨物自動車運転者"]
[null,null,null,null,1109,"その他の情報処理・通信技術者",1254,"受付・案内事務員","Ｈ　生産工程従事者",null,1619,"その他の自動車運転従事者"]
[null,null,null,null,1119,"他に分類されない技術者",1255,"秘書",1491,"製銑・製鋼・非鉄金属製錬従事者",1624,"航空機操縦士"]
[null,null,null,null,1121,"医師",1256,"電話応接事務員",1492,"鋳物製造・鍛造従事者",1631,"車掌"]
[null,null,null,null,1122,"歯科医師",1257,"総合事務員",1493,"金属工作機械作業従事者",1639,"他に分類されない輸送従事者"]
[null,null,null,null,1123,"獣医師",1259,"その他の一般事務従事者",1494,"金属プレス従事者",1641,"発電員，変電員"]
[null,null,null,null,1124,"薬剤師",1261,"会計事務従事者",1495,"鉄工，製缶従事者",1643,"クレーン・ウインチ運転従事者"]
[null,null,null,null,1131,"保健師",1271,"生産関連事務従事者",1496,"板金従事者",1645,"建設・さく井機械運転従事者"]
[null,null,null,null,1132,"助産師",1281,"営業・販売事務従事者",1497,"金属彫刻・表面処理従事者",1649,"その他の定置・建設機械運転従事者"]
[null,null,null,null,1133,"看護師",1291,"外勤事務従事者",1498,"金属溶接・溶断従事者","Ｊ　建設・採掘従事者"]
[null,null,null,null,1134,"准看護師",1301,"運輸・郵便事務従事者",1499,"その他の製品製造・加工処理従事者",1651,"建設躯体工事従事者"]
[null,null,null,null,1141,"診療放射線技師",1311,"事務用機器操作員",null,"（金属製品）",1661,"大工"]
[null,null,null,null,1143,"臨床検査技師","D　販売従事者",null,1501,"化学製品製造従事者",1666,"配管従事者"]
[null,null,null,null,1144,"理学療法士，作業療法士，言語聴覚士，",1321,"販売店員",1502,"窯業・土石製品製造従事者",1669,"その他の建設従事者"]
[null,null,null,null,null,"視能訓練士",1324,"その他の商品販売従事者",1503,"食料品・飲料・たばこ製造従事者",1671,"電気工事従事者"]
[null,null,null,null,1146,"歯科衛生士",1331,"販売類似職業従事者",1505,"紡織・衣服・繊維製品製造従事者",1681,"土木従事者，鉄道線路工事従事者"]
[null,null,null,null,1147,"歯科技工士",1344,"自動車営業職業従事者",1506,"木・紙製品製造従事者",1691,"ダム・トンネル掘削従事者，採掘従事者"]
[null,null,null,null,1151,"栄養士",1345,"機械器具・通信・システム営業職業従事者",1507,"印刷・製本従事者","Ｋ　運搬・清掃・包装等従事者"]
[null,null,null,null,1159,"その他の保健医療従事者",null,"（自動車を除く）",1508,"ゴム・プラスチック製品製造従事者",1702,"船内・沿岸荷役従事者"]
[null,null,null,null,1163,"保育士",1346,"金融営業職業従事者",1509,"その他の製品製造・加工処理従事者",1703,"その他の運搬従事者"]
[null,null,null,null,1168,"介護支援専門員（ケアマネージャー）",1347,"保険営業職業従事者",null,"（金属製品を除く）",1711,"ビル・建物清掃員"]
[null,null,null,null,1169,"その他の社会福祉専門職業従事者",1349,"その他の営業職業従事者",1511,"はん用・生産用・業務用機械器具組立従事者",1712,"清掃員（ビル・建物を除く），廃棄物処理従事者"]
[null,null,null,null,1173,"法務従事者","E　サービス職業従事者",null,1512,"電気機械器具組立従事者",1721,"包装従事者 "]
[null,null,null,null,1181,"公認会計士，税理士",1361,"介護職員（医療・福祉施設等）",1513,"自動車組立従事者",1739,"他に分類されない運搬・清掃・包装等従事者"]
[null,null,null,null,1189,"その他の経営・金融・保険専門職業従事者",1362,"訪問介護従事者",1514,"その他の機械組立従事者"]
[null,null,null,null,1191,"幼稚園教員，保育教諭",1371,"看護助手",1551,"はん用・生産用・業務用機械器具・"]
[null,null,null,null,1192,"小・中学校教員",1379,"その他の保健医療サービス職業従事者",null,"電気機械器具整備・修理従事者"]

{"sheet":"在留資格番号表","index":6,"n_rows":13,"n_cols":9,"rows_kept":13,"cut":false,"hidden":false,"merged":[[0,1,0,8]]}
[null,"調査の対象となる在留資格番号一覧表"]
[]
[null,"※　外国人労働者について、在留カードに記入されている在留資格を確認して、該当する２桁の番号を「（１８）在留資格番号」に入力してください。"]
[null,"在留資格番号"]
[null,1,"教授",8,"医療　　　　　",15,"技能　　　　　",22,"研修"]
[null,2,"芸術",9,"研究",16,"特定技能１号",23,"家族滞在　　　　　"]
[null,3,"宗教",10,"教育",17,"特定技能２号",24,"特定活動"]
[null,4,"報道",11,"技術・人文知識・国際業務",18,"技能実習",25,"永住者"]
[null,5,"高度専門職",12,"企業内転勤",19,"文化活動",26,"日本人の配偶者等"]
[null,6,"経営・管理",13,"介護",20,"短期滞在",27,"永住者の配偶者等"]
[null,7,"法律・会計業務",14,"興行",21,"留学",28,"定住者"]
[null,"※１　「(3)雇用形態」が「5 臨時労働者」の者については、記入不要です。"]
[null,"※２　特別永住者及び外交又は公用の在留資格をもって在留する者は記入不要です。"]

{"sheet":"満年齢・勤続年数早見表","index":7,"n_rows":50,"n_cols":10,"rows_kept":50,"cut":false,"hidden":false,"merged":[[49,1,50,9],[0,1,0,9],[2,6,2,9],[3,1,4,2],[3,3,3,4],[3,6,4,7],[3,8,3,9],[4,3,4,4],[4,8,4,9]]}
[null,"満年齢・勤続年数早見表"]
[]
[null,null,null,null,null,null,"（令和4年6月30日現在）"]
[null,"誕生又は\n入社の年",null,"年齢又は勤続年数",null,null,"誕生又は\n入社の年",null,"年齢又は勤続年数"]
[null,null,null,"誕生月又は入社月",null,null,null,null,"誕生月又は入社月"]
[null,"西暦","和暦","1～6月","7～12月",null,"西暦","和暦","1～6月","7～12月"]
[null,null,null,"歳・年","歳・年",null,null,null,"歳・年","歳・年"]
[null,"2022年","令和4年",0,"-",null,"1982年","昭和57年",40,39]
[null,"2021年","令和3年",1,0,null,"1981年","昭和56年",41,40]
[null,"2020年","令和2年",2,1,null,"1980年","昭和55年",42,41]
[null,"2019年","令和元年",3,2,null,"1979年","昭和54年",43,42]
[null,"2019年","平成31年",3,"-",null,"1978年","昭和53年",44,43]
[null,"2018年","平成30年",4,3,null,"1977年","昭和52年",45,44]
[null,"2017年","平成29年",5,4,null,"1976年","昭和51年",46,45]
[null,"2016年","平成28年",6,5,null,"1975年","昭和50年",47,46]
[null,"2015年","平成27年",7,6,null,"1974年","昭和49年",48,47]
[null,"2014年","平成26年",8,7,null,"1973年","昭和48年",49,48]
[null,"2013年","平成25年",9,8,null,"1972年","昭和47年",50,49]
[null,"2012年","平成24年",10,9,null,"1971年","昭和46年",51,50]
[null,"2011年","平成23年",11,10,null,"1970年","昭和45年",52,51]
[null,"2010年","平成22年",12,11,null,"1969年","昭和44年",53,52]
[null,"2009年","平成21年",13,12,null,"1968年","昭和43年",54,53]
[null,"2008年","平成20年",14,13,null,"1967年","昭和42年",55,54]
[null,"2007年","平成19年",15,14,null,"1966年","昭和41年",56,55]
[null,"2006年","平成18年",16,15,null,"1965年","昭和40年",57,56]
[null,"2005年","平成17年",17,16,null,"1964年","昭和39年",58,57]
[null,"2004年","平成16年",18,17,null,"1963年","昭和38年",59,58]
[null,"2003年","平成15年",19,18,null,"1962年","昭和37年",60,59]
[null,"2002年","平成14年",20,19,null,"1961年","昭和36年",61,60]
[null,"2001年","平成13年",21,20,null,"1960年","昭和35年",62,61]
[null,"2000年","平成12年",22,21,null,"1959年","昭和34年",63,62]
[null,"1999年","平成11年",23,22,null,"1958年","昭和33年",64,63]
[null,"1998年","平成10年",24,23,null,"1957年","昭和32年",65,64]
[null,"1997年","平成9年",25,24,null,"1956年","昭和31年",66,65]
[null,"1996年","平成8年",26,25,null,"1955年","昭和30年",67,66]
[null,"1995年","平成7年",27,26,null,"1954年","昭和29年",68,67]
[null,"1994年","平成6年",28,27,null,"1953年","昭和28年",69,68]
[null,"1993年","平成5年",29,28,null,"1952年","昭和27年",70,69]
[null,"1992年","平成4年",30,29,null,"1951年","昭和26年",71,70]
[null,"1991年","平成3年",31,30,null,"1950年","昭和25年",72,71]
[null,"1990年","平成2年",32,31,null,"1949年","昭和24年",73,72]
[null,"1989年","平成元年",33,32,null,"1948年","昭和23年",74,73]
[null,"1989年","昭和64年",33,"-",null,"1947年","昭和22年",75,74]
[null,"1988年","昭和63年",34,33,null,"1946年","昭和21年",76,75]
[null,"1987年","昭和62年",35,34,null,"1945年","昭和20年",77,76]
[null,"1986年","昭和61年",36,35,null,"1944年","昭和19年",78,77]
[null,"1985年","昭和60年",37,36,null,"1943年","昭和18年",79,78]
[null,"1984年","昭和59年",38,37,null,"1942年","昭和17年",80,79]
[null,"1983年","昭和58年",39,38,null,"1941年","昭和16年",81,80]
[null,"注）法令上、7月1日生まれの人は、7月1日ではなく6月30日に満年齢がひとつ上がりますが、簡易に回答するために、この表のとおりに満年齢が上がっていないものとして記入して差し支えありません。"]