{"text_format":"1","workbook":"xlsx","n_sheets":45,"sheets":["初期設定","産業女性労働者割合","判定目安","タイプ分類名","労働時間課題","タイプ別ケース","選択項目一覧","目標一覧","取組一覧","取組期間分割一覧","マスタ","メッセージ","入力規則","動作設定１画面遷移","状況管理","はじめに①","はじめに②","準備して頂くデータ","現状把握","女性活躍の現状","まとめ出力","ケース選択＞","ケース選択","選択項目＞","選択項目","目標入力＞","目標入力","目標追加＞","目標追加","取組選択＞","取組選択","取組追加＞","取組追加","取組期間設定","取組期間分割＞","取組期間分割","行動計画","行動計画出力","一般事業主行動計画策定・変更届","雇用管理区分","基礎４項目と事前準備書類","タイプ分類","用語解説","目標設定について","独自目標について"],"not_rendered":{"charts":0,"images":13,"macros":1,"external_links":0,"defined_names":375,"comments":0,"pivot_tables":0},"unopened":[],"bounds":{"document_bytes":16777216,"sheet_cells":100000,"rows_first":2000,"rows_last":500,"rows_between":2000,"halvings":0,"cell_chars":16384,"cell_head_chars":4096},"cells_cut":0,"cells_raw":0,"read":"whole","date_system":"1900"}

{"sheet":"初期設定","index":0,"n_rows":58,"n_cols":14,"rows_kept":58,"cut":false,"hidden":false,"merged":[[8,4,8,14]]}
["管理者用シート　リリース時には非表示になります。"]
[]
[]
[null,"1.シートを追加・削除した場合、シート一覧の作成ボタンを押してください。"]
[null,"2.シート一覧では、アプリ開始時点でシートを表示するか、どのシートから開始するかを設定します。"]
[null,"3.プログラム初期設定ボタンで、アプリバージョンのブックに変更します。"]
[null,"4.プログラム初期解除ボタンで、編集モードのブックに変更します。"]
[]
[null,"ツールタイトル",null,null,"中小企業のための女性活躍『行動計画』策定プログラム"]
[]
[null,"動作設定",null,null,null,null,null,"シート一覧",null,null,null,"※変更不可"]
[null,null,null,null,null,null,null,null,"シート名","表示区分","開始区分","初期化","領域","Window設定"]
[null,null,null,null,null,null,null,null,"初期設定","表示",null,"無効",null,"有効"]
[null,null,null,null,null,null,null,null,"産業女性労働者割合","表示",null,"無効",null,"有効"]
[null,null,null,null,null,null,null,null,"判定目安","表示",null,"無効",null,"有効"]
[null,null,"設定","有効",null,null,null,null,"タイプ分類名","表示",null,"無効",null,"有効"]
[null,null,"アプリ化","有効",null,null,null,null,"労働時間課題","表示",null,"無効",null,"有効"]
[null,null,"タブ","無効",null,null,null,null,"タイプ別ケース","表示",null,"無効",null,"有効"]
[null,null,null,null,null,null,null,null,"選択項目一覧","表示",null,"無効",null,"有効"]
[null,"バージョンチェック",null,null,null,null,null,null,"目標一覧","表示",null,"無効",null,"有効"]
[null,null,null,"有効",null,null,null,null,"取組一覧","表示",null,"無効",null,"有効"]
[null,"※有効にした場合、2007以前のEXCELでは",null,null,null,null,null,null,"取組期間分割一覧","表示",null,"無効",null,"有効"]
[null,"　動作しなくなります。",null,null,null,null,null,null,"マスタ","表示",null,"無効",null,"有効"]
[null,null,null,null,null,null,null,null,"メッセージ","表示",null,"無効",null,"有効"]
[null,null,null,null,null,null,null,null,"入力規則","表示",null,"無効",null,"有効"]
[null,null,null,null,null,null,null,null,"動作設定１画面遷移","表示",null,"無効",null,"有効"]
[null,null,null,null,null,null,null,null,"状況管理","表示",null,"有効",null,"有効"]
[null,null,null,null,null,null,null,null,"はじめに①","表示","有効","有効","$A$1:$BG$110","有効"]
[null,null,null,null,null,null,null,null,"はじめに②","表示",null,"有効","$A$1:$BG$195","有効"]
[null,null,null,null,null,null,null,null,"準備して頂くデータ","表示",null,"有効",null,"有効"]
[null,null,null,null,null,null,null,null,"現状把握","表示",null,"有効","$A$1:$BG$51","有効"]
[null,null,null,null,null,null,null,null,"女性活躍の現状","表示",null,"有効","$A$1:$BG$71","有効"]
[null,null,null,null,null,null,null,null,"まとめ出力","表示",null,"有効",null,"無効"]
[null,null,null,null,null,null,null,null,"ケース選択＞","表示",null,"有効",null,"有効"]
[null,null,null,null,null,null,null,null,"ケース選択","表示",null,"有効","$A$1:$BG$42","有効"]
[null,null,null,null,null,null,null,null,"選択項目＞","表示",null,"有効",null,"有効"]
[null,null,null,null,null,null,null,null,"選択項目","表示",null,"有効",null,"有効"]
[null,null,null,null,null,null,null,null,"目標入力＞","表示",null,"有効",null,"有効"]
[null,null,null,null,null,null,null,null,"目標入力","表示",null,"有効",null,"有効"]
[null,null,null,null,null,null,null,null,"目標追加＞","表示",null,"有効",null,"有効"]
[null,null,null,null,null,null,null,null,"目標追加","表示",null,"有効","$A$1:$BG$41","有効"]
[null,null,null,null,null,null,null,null,"取組選択＞","表示",null,"有効",null,"有効"]
[null,null,null,null,null,null,null,null,"取組選択","表示",null,"有効",null,"有効"]
[null,null,null,null,null,null,null,null,"取組追加＞","表示",null,"有効",null,"有効"]
[null,null,null,null,null,null,null,null,"取組追加","表示",null,"有効","$A$1:$BG$49","有効"]
[null,null,null,null,null,null,null,null,"取組期間設定","表示",null,"有効","$A$1:$BG$36","有効"]
[null,null,null,null,null,null,null,null,"取組期間分割＞","表示",null,"有効",null,"有効"]
[null,null,null,null,null,null,null,null,"取組期間分割","表示",null,"有効",null,"有効"]
[null,null,null,null,null,null,null,null,"行動計画","表示",null,"有効",null,"有効"]
[null,null,null,null,null,null,null,null,"行動計画出力","表示",null,"有効",null,"無効"]
[null,null,null,null,null,null,null,null,"一般事業主行動計画策定・変更届","表示",null,"有効",null,"無効"]
[null,null,null,null,null,null,null,null,"雇用管理区分","表示",null,"有効","$A$1:$BG$35","有効"]
[null,null,null,null,null,null,null,null,"基礎４項目と事前準備書類","表示",null,"有効","$A$1:$BG$105","有効"]
[null,null,null,null,null,null,null,null,"タイプ分類","表示",null,"有効","$A$1:$BG$45","有効"]
[null,null,null,null,null,null,null,null,"用語解説","表示",null,"有効","$A$1:$BG$72","有効"]
[null,null,null,null,null,null,null,null,"目標設定について","表示",null,"有効","$A$1:$BG$45","有効"]
[null,null,null,null,null,null,null,null,"独自目標について","表示",null,"有効",null,"有効"]
[null,null,null,null,null,null,null,null,"<<<ここまで>>>"]

{"sheet":"産業女性労働者割合","index":1,"n_rows":33,"n_cols":3,"rows_kept":33,"cut":false,"hidden":false,"merged":[[2,1,2,2]]}
["管理者用シート　リリース時には非表示になります。"]
[]
[null,"産業ごとの管理職に占める女性労働者の割合"]
[null," "]
[null,"鉱業・採石業・砂利採取業",2]
[null,"建設業",2.2000000000000002]
[null,"電気・ガス・熱供給・水道業",2.9]
[null,"情報通信業",7.1]
[null,"運輸業・郵便業",5.4]
[null,"卸売業・小売業",5.6]
[null,"金融業・保険業",10.5]
[null,"不動産業・物品賃貸業",6.9]
[null,"学術研究・専門・技術サービス業",6.8]
[null,"宿泊業・飲食サービス業 ",9.9]
[null,"生活関連サービス業・娯楽業",10.4]
[null,"教育・学習支援業",20]
[null,"医療・福祉",43.4]
[null,"複合サービス事業",5.7]
[null,"サービス業（他に分類されないもの）",8.8000000000000007]
[null,"食料品製造業・飲料・たばこ・飼料製造業",6.5]
[null,"繊維工業",7.4]
[null,"木材・木製品製造業（家具を除く）・家具・装備品製造業",1.8]
[null,"パルプ・紙・紙加工品製造業・印刷・同関連業",5.3]
[null,"化学工業",6.9]
[null,"石油製品・石炭製品製造業",3.5]
[null,"プラスチック製品製造業・ゴム製品製造業",2.8]
[null,"鉄鋼業・非鉄金属製造業・金属製品製造業",1.7]
[null,"はん用機械器具製造業・生産用機械器具製造業・業務用機械器具製造業",2.5]
[null,"電子部品・デバイス・電子回路製造業・電気機械器具製造業・情報通信機械器具製造業",3.3]
[null,"輸送用機械器具製造業",2.4]
[null,"その他の製造業",5.8]
[null,"その他",9.1999999999999993]
[null,"<ここまで：追加する場合は「その他」の前に行を追加して下さい＞"]

{"sheet":"判定目安","index":2,"n_rows":15,"n_cols":10,"rows_kept":15,"cut":false,"hidden":false,"merged":[[2,1,2,2]]}
["管理者用シート　リリース時には非表示になります。"]
[]
[null,"目安の値"]
[null," 採用した労働者に占める女性労働者の割合",0.2]
[null,"男女の平均継続勤務年数の差異",0.7]
[null,"管理職に占める女性労働者の割合",0.2]
[null,"労働者の各月ごとの平均残業時間数等の労働時間の状況",45]
[null,"<ここまで：追加できません＞"]
[]
[null,"＜判定キー＞",{"$f":"C12&C13&C14","v":"110"},"100","101","011","010","000","001","111"]
[null,"タイプ分類",1,2,3,4,4,5,5,6]
[null,"採用した労働者に占める女性労働者の割合",1,1,1,0,0,0,0,1]
[null,"男女の平均継続勤務年数\nの差異",1,0,0,1,1,0,0,1]
[null,"管理職に占める女性労働者の割合",0,0,1,1,0,0,1,1]
[null,"<ここまで：追加できません＞"]

{"sheet":"タイプ分類名","index":3,"n_rows":10,"n_cols":4,"rows_kept":10,"cut":false,"hidden":false,"merged":[]}
["管理者用シート　リリース時には非表示になります。"]
[]
[null,"タイプ分類","分類名","特徴"]
[null,1,"①","女性の採用・就業継続はできているが、管理職が少ない企業"]
[null,2,"②","女性の採用はできているが、就業継続が困難で、管理職が少ない企業"]
[null,3,"③","女性の採用や管理職は多いが、就業継続が困難な企業"]
[null,4,"④","女性の採用が少ない企業"]
[null,5,"⑤","女性が少なく女性活躍が進んでいない企業"]
[null,6,"⑥","女性の活躍が比較的進んでいる企業"]
[null,"<ここまで：追加できません＞"]

{"sheet":"労働時間課題","index":4,"n_rows":15,"n_cols":5,"rows_kept":15,"cut":false,"hidden":false,"merged":[[2,2,2,3]]}
["管理者用シート　リリース時には非表示になります。"]
[]
[null,"全体課題","「残業時間（法定労働時間を超える時間数）」が、対象となる労働者のなかで「45時間」を上回っている月がありました。\n長時間労働に関する課題があると考えられます。\n目標設定・取組内容の検討において、長時間労働の解消を優先的課題として検討を行ってください。\n",null,"「残業時間（法定労働時間を超える時間数）」が全ての月で、「45時間」を上回っている月はありません。\n更なる長時間労働削減等、働き方改革のための課題を設定し、取り組みましょう。"]
[null,"No.","課題分類","課題"]
[null,{"$f":"IF($C5=\"\",\"\",ROW()-ROW($B$4))","v":""},null,null,"長時間労働が常態化している"]
[null,"",null,null,"月による繁閑差が大きい"]
[null,"",null,null,"特定の部署や雇用管理区分で長時間労働になっている"]
[null,"",null,null,"特定の年代で労働時間に男女の差が大きい"]
[null,"",null,null,"特定の部署・職種等で労働時間に男女の差が大きい"]
[null,"",null,null,"深夜労働が常態化している部署や人がいる"]
[null,"",null,null,"法定休日にきちんと休めていない"]
[null,""]
[null,""]
[null,""]
[null,"<ここまで：追加できません＞"]

{"sheet":"タイプ別ケース","index":5,"n_rows":31,"n_cols":7,"rows_kept":31,"cut":false,"hidden":false,"merged":[]}
["管理者用シート　リリース時には非表示になります。"]
[]
[null,"No.","タイプ分類","ケース名","課題分類","課題"]
[null,{"$f":"IF($F4=\"\",\"\",ROW()-ROW($B$3))","v":1},null,null,null,"課題分析の視点の全表示","※１"]
[null,{"$f":"IF($F5=\"\",\"\",ROW()-ROW($B$3))","v":2},"①","ケース１",null,"復職女性の配置や能力発揮・キャリア形成が困難"]
[null,{"$f":"IF($F6=\"\",\"\",ROW()-ROW($B$3))","v":3},"①","ケース２",null,"仕事のアサインや評価の差等により昇進・昇格が困難である"]
[null,4,"②","ケース１",null,"子育てと仕事を両立しながら就業継続することが困難"]
[null,5,"②","ケース２",null,"一部の雇用管理区分で就業継続可能だが、役割が限定されている"]
[null,6,"④","ケース１",null,"女性が配属されている部署・職種が少なく採用が増やせない"]
[null,7,"④","ケース２",null,"女性が同じ職務に留まり、昇進・昇格していない"]
[null,8,"⑤","ケース１",null,"女性に適した業務がないという先入観があり受け入れが進まない"]
[null,9,"⑤","ケース２",null,"体力負荷の大きな仕事や長時間労働が前提となっている"]
[null,10,"⑥","ケース１",null,"男女間で賃金格差が生じている"]
[null,11,"⑥","ケース２",null,"より一層、女性活躍を推進できるよう、さらに上を目指す"]
[]
[null,""]
[null,""]
[null,""]
[null,""]
[null,""]
[null,""]
[null,""]
[null,""]
[null,""]
[null,""]
[null,""]
[null,""]
[null,""]
[null,""]
[null,""]
[null,"<ここまで：追加できません＞"]

{"sheet":"選択項目一覧","index":6,"n_rows":47,"n_cols":42,"rows_kept":47,"cut":false,"hidden":false,"merged":[[2,35,2,40],[2,5,2,10],[2,11,2,16],[2,17,2,22],[2,23,2,28],[2,29,2,34]]}
["管理者用シート　リリース時には非表示になります。"]
[]
[null,"タイプ",null,null,null,{"$f":"タイプ分類名!$C$4","v":"①"},null,null,null,null,null,{"$f":"タイプ分類名!$C$5","v":"②"},null,null,null,null,null,{"$f":"タイプ分類名!$C$6","v":"③"},null,null,null,null,null,{"$f":"タイプ分類名!$C$7","v":"④"},null,null,null,null,null,{"$f":"タイプ分類名!$C$8","v":"⑤"},null,null,null,null,null,{"$f":"タイプ分類名!$C$9","v":"⑥"},null,null,null,null,null,"全て"]
[null,"ケース",null,null,null,1,2,3,1,2,3,1,2,3,1,2,3,1,2,3,1,2,3,1,2,3,1,2,3,1,2,3,1,2,3,1,2,3,1,2,3,"全て"]
[null,"種別",null,null,null,"基本","基本","基本","時間","時間","時間","基本","基本","基本","時間","時間","時間","基本","基本","基本","時間","時間","時間","基本","基本","基本","時間","時間","時間","基本","基本","基本","時間","時間","時間","基本","基本","基本","時間","時間","時間","全て"]
[null,"No.","課題分類","課題","条件",{"$f":"F3&F4&F5","v":"①1基本"},{"$f":"F3&G4&G5","v":"①2基本"},{"$f":"F3&H4&H5","v":"①3基本"},{"$f":"F3&I4&I5","v":"①1時間"},{"$f":"F3&J4&J5","v":"①2時間"},{"$f":"F3&K4&K5","v":"①3時間"},{"$f":"L3&L4&L5","v":"②1基本"},{"$f":"L3&M4&M5","v":"②2基本"},{"$f":"L3&N4&N5","v":"②3基本"},{"$f":"L3&O4&O5","v":"②1時間"},{"$f":"L3&P4&P5","v":"②2時間"},{"$f":"L3&Q4&Q5","v":"②3時間"},{"$f":"R3&R4&R5","v":"③1基本"},{"$f":"R3&S4&S5","v":"③2基本"},{"$f":"R3&T4&T5","v":"③3基本"},{"$f":"R3&U4&U5","v":"③1時間"},{"$f":"R3&V4&V5","v":"③2時間"},{"$f":"R3&W4&W5","v":"③3時間"},{"$f":"X3&X4&X5","v":"④1基本"},{"$f":"X3&Y4&Y5","v":"④2基本"},{"$f":"X3&Z4&Z5","v":"④3基本"},{"$f":"X3&AA4&AA5","v":"④1時間"},{"$f":"X3&AB4&AB5","v":"④2時間"},{"$f":"X3&AC4&AC5","v":"④3時間"},{"$f":"AD3&AD4&AD5","v":"⑤1基本"},{"$f":"AD3&AE4&AE5","v":"⑤2基本"},{"$f":"AD3&AF4&AF5","v":"⑤3基本"},{"$f":"AD3&AG4&AG5","v":"⑤1時間"},{"$f":"AD3&AH4&AH5","v":"⑤2時間"},{"$f":"AD3&AI4&AI5","v":"⑤3時間"},{"$f":"AJ3&AJ4&AJ5","v":"⑥1基本"},{"$f":"AJ3&AK4&AK5","v":"⑥2基本"},{"$f":"AJ3&AL4&AL5","v":"⑥3基本"},{"$f":"AJ3&AM4&AM5","v":"⑥1時間"},{"$f":"AJ3&AN4&AN5","v":"⑥2時間"},{"$f":"AJ3&AO4&AO5","v":"⑥3時間"},{"$f":"AP3","v":"全て"}]
["×",{"$f":"IF($D7=\"\",\"\",ROW()-ROW($B$6))","v":1},"採用","採用した労働者に占める女性労働者の割合に偏りがある",null,null,null,null,null,null,null,null,null,null,null,null,null,null,null,null,null,null,null,null,null,null,null,null,null,null,null,null,null,null,null,null,null,null,null,null,null,"○"]
[null,2,"採用","採用者に占める女性割合が低い雇用管理区分がある",null,null,null,null,null,null,null,null,null,null,null,null,null,null,null,null,null,null,null,"○","○",null,"○","○",null,"○","○",null,"○","○",null,null,null,null,null,null,null,"○"]
["×",3,"採用","再雇用又は中途採用の実績に男女の偏りがある",null,null,null,null,null,null,null,null,null,null,null,null,null,null,null,null,null,null,null,null,null,null,null,null,null,null,null,null,null,null,null,null,null,null,null,null,null,"○"]
[null,4,"配置・育成","女性がほとんど配置されていない部署がある",null,"○","○",null,"○","○",null,"○",null,"○","○",null,"○",null,null,null,null,null,null,"○","○","○","○","○","○","○","○",null,"○","○",null,null,null,null,null,null,null,"○"]
[null,5,"配置・育成","同世代の男性社員に比べ、女性社員の育成が遅れがちになっている",null,"○","○",null,"○","○",null,null,null,null,null,null,null,"○","○",null,"○","○",null,"○",null,"○","○",null,"○",null,null,null,null,null,null,null,null,null,null,null,null,"○"]
["×",6,"配置・育成","管理職や男女の労働者の配置・育成・評価・昇進その他に関する意識に男女の偏りがある",null,null,null,null,null,null,null,null,null,null,null,null,null,null,null,null,null,null,null,null,null,null,null,null,null,null,null,null,null,null,null,null,null,null,null,null,null,"○"]
[null,7,"配置・育成","非正社員の育成・登用が進んでいない",null,"○","○","○","○","○","○",null,null,null,null,null,null,"○","○",null,"○","○",null,"○",null,"○","○",null,"○",null,null,null,null,null,null,null,null,null,null,null,null,"○"]
["×",8,"配置・育成","非正社員のキャリアアップに向けた研修の受講の状況に男女の偏りがある",null,null,null,null,null,null,null,null,null,null,null,null,null,null,null,null,null,null,null,null,null,null,null,null,null,null,null,null,null,null,null,null,null,null,null,null,null,"○"]
[null,9,"就業継続・働き方","男女の平均継続勤務年数の差異はないが、勤続年数自体は短い",null,null,null,null,null,null,null,null,null,null,null,null,null,null,null,null,null,null,null,null,null,null,null,null,null,null,null,null,null,null,null,"○",null,"○","○",null,"○","○"]
[null,10,"就業継続・働き方","出産・子育て等を機に（あるいはそれ以前に）、女性社員が退職する傾向にある。",null,null,null,null,null,null,null,"○","○","○","○","○","○","○","○",null,"○","○",null,null,null,null,null,null,null,null,null,null,null,null,null,null,null,null,null,null,null,"○"]
[null,11,"就業継続・働き方","女性社員が少ない、もしくはいない",null,null,null,null,null,null,null,null,null,null,null,null,null,null,null,null,null,null,null,null,null,null,null,null,null,"○","○",null,"○","○",null,null,null,null,null,null,null,"○"]
[null,12,"就業継続・働き方","育児休業取得率が低い、または平均取得期間が短い。",null,null,null,null,null,null,null,"○","○",null,"○","○",null,"○","○",null,"○","○",null,null,null,null,null,null,null,null,null,null,null,null,null,null,null,null,null,null,null,"○"]
[null,13,"就業継続・働き方","職業生活と家庭生活との両立を支援するための制度（育児休業を除く）が十分ではない",null,null,null,null,null,null,null,"○","○",null,"○","○",null,"○","○",null,"○","○",null,null,null,null,null,null,null,"○",null,"○","○",null,"○","○",null,"○","○",null,"○","○"]
[null,14,"就業継続・働き方","フレックスタイム制、在宅勤務、テレワーク等の柔軟な働き方に資する制度の利用実績に男女の偏りがある",null,null,null,null,"○","○","○",null,null,null,"○","○","○",null,null,null,"○","○",null,null,null,null,"○","○","○",null,null,null,"○","○","○",null,null,null,"○","○","○","○"]
[null,15,"就業継続・働き方","労働者の各月ごとの平均残業時間等が特に長い月がある",null,null,null,null,null,null,null,"○","○",null,"○","○",null,"○","○",null,"○","○",null,null,null,null,null,null,null,"○","○",null,"○","○",null,null,null,null,null,null,null,"○"]
[null,16,"就業継続・働き方","労働者の各月ごとの平均残業時間等で特に労働時間が長い雇用管理区分がある",null,null,null,null,null,null,null,"○",null,"○","○",null,"○",null,null,null,null,null,null,null,null,null,null,null,null,"○",null,"○","○",null,"○",null,null,null,null,null,null,"○"]
[null,17,"就業継続・働き方","管理職の各月ごとの労働時間等が一般の労働者と比較して長くなっている",null,"○",null,"○","○",null,"○",null,null,null,null,null,null,null,null,null,null,null,null,null,null,null,null,null,null,null,null,null,null,null,null,null,null,null,null,null,null,"○"]
[null,18,"就業継続・働き方","有給休暇取得率の低い雇用管理区分がある",null,null,null,null,"○","○","○","○",null,"○","○","○","○",null,null,null,"○","○",null,null,null,null,"○","○","○","○",null,"○","○","○","○",null,null,null,"○","○","○","○"]
[null,19,"評価・登用","女性管理職が少ない、またはいない。",null,"○","○",null,"○","○",null,null,null,null,null,null,null,null,null,null,null,null,null,"○",null,"○","○",null,"○",null,null,null,null,null,null,null,null,null,null,null,null,"○"]
["×",20,"評価・登用","各職階の労働者に占める女性労働者の割合が低い",null,null,null,null,null,null,null,null,null,null,null,null,null,null,null,null,null,null,null,null,null,null,null,null,null,null,null,null,null,null,null,null,null,null,null,null,null,"○"]
[null,21,"評価・登用","役員に占める女性の割合が低い",null,null,null,null,null,null,null,null,null,null,null,null,null,null,null,null,null,null,null,null,null,null,null,null,null,null,null,null,null,null,null,"○","○","○","○","○","○","○"]
["×",22,"評価・登用","１つ上位の職階へ昇進した労働者の割合に男女の偏りがある",null,null,null,null,null,null,null,null,null,null,null,null,null,null,null,null,null,null,null,null,null,null,null,null,null,null,null,null,null,null,null,null,null,null,null,null,null,"○"]
[null,23,"評価・登用","係長やその手前の段階で多くの女性が滞留している。",null,"○",null,"○","○",null,"○",null,null,null,null,null,null,null,null,null,null,null,null,null,null,null,null,null,null,null,null,null,null,null,null,null,null,null,null,null,null,"○"]
[null,24,"評価・登用","女性社員が出産・子育てをしながらキャリア形成していくイメージや意欲を持つことができていない。管理職が、復職女性に対するマネジメント責任を認識できていない。",null,"○","○",null,"○","○",null,null,null,null,null,null,null,null,null,null,null,null,null,"○","○",null,"○","○",null,null,null,null,null,null,null,null,null,null,null,null,null,"○"]
[null,25,"職場風土","女性には向かない仕事・職場であるとの意識が管理職や社員のなかにある",null,null,null,null,null,null,null,"○",null,"○","○",null,"○",null,null,null,null,null,null,"○","○",null,"○","○",null,"○","○","○","○","○","○",null,null,null,null,null,null,"○"]
[null,26,"職場風土","女性を配慮しにくい職場環境（衛生面・装備面等）になっている",null,null,null,null,null,null,null,null,null,null,null,null,null,null,null,null,null,null,null,null,null,null,null,null,null,"○","○","○","○","○","○",null,null,null,null,null,null,"○"]
[null,27,"評価・登用","男女の人事評価の結果に差異がある",null,"○",null,"○","○",null,"○",null,null,null,null,null,null,null,null,null,null,null,null,null,null,null,null,null,null,"○",null,"○","○",null,"○",null,null,null,null,null,null,"○"]
[null,28,"総合","男女の賃金に差異がある",null,null,null,null,null,null,null,null,null,null,null,null,null,null,null,null,null,null,null,null,null,null,null,null,null,null,null,null,null,null,null,"○","○",null,"○","○",null,"○"]
[null,29,"労働時間","長時間労働が常態化している",null,null,null,null,"○","○","○",null,null,null,"○","○","○",null,null,null,"○","○",null,null,null,null,"○","○","○",null,null,null,"○","○","○",null,null,null,"○","○","○"]
[null,30,"労働時間","月による繁閑差が大きい",null,null,null,null,"○","○","○",null,null,null,"○","○","○",null,null,null,"○","○",null,null,null,null,"○","○","○",null,null,null,"○","○","○",null,null,null,"○","○","○"]
[null,31,"労働時間","特定の部署や雇用管理区分で長時間労働になっている",null,null,null,null,"○","○","○",null,null,null,"○","○","○",null,null,null,"○","○",null,null,null,null,"○","○","○",null,null,null,"○","○","○",null,null,null,"○","○","○"]
[null,""]
[null,{"$f":"IF($D39=\"\",\"\",ROW()-ROW($B$6))","v":""}]
[null,""]
[null,""]
[null,""]
[null,""]
[null,""]
[null,""]
[null,""]
[null,"<ここまで：追加できません＞"]

{"sheet":"目標一覧","index":7,"n_rows":66,"n_cols":59,"rows_kept":66,"cut":false,"hidden":false,"merged":[]}
["管理者用シート　リリース時には非表示になります。"]
[null,null,null,null,null,"選択項目⇒",null,null,null,null,null,null,null,null,null,null,null,null,null,null,null,null,null,null,null,null,null,null,null,null,null,null,null,null,null,null,null,null,null,null,null,null,null,null,null,"長時間労働に対する目標",null,null,null,null,null,null,null,null,null,"入力ルール"]
[null,"No.","課題分類","目標","出力用",1,2,3,4,5,6,7,8,9,10,11,12,13,14,15,16,17,18,19,20,21,22,23,24,25,26,27,28,29,30,31,32,33,34,35,36,37,38,39,40,101,102,103,104,105,106,107,108,109,110,"A","B","C","D"]
[1,{"$f":"IF($D4=\"\",\"\",ROW()-ROW($B$3))","v":1},"採用","採用した労働者に占める女性割合を（Ａ）％以上とする","採用した労働者に占める女性割合を（Ａ）％以上とする",null,"○",null,null,null,null,null,null,null,null,null,null,null,null,null,null,null,null,null,null,null,null,null,null,null,null,null,null,null,null,null,null,null,null,null,null,null,null,null,null,null,null,null,null,null,null,null,null,null,null,"割合"]
["×",2,"採用","女性の競争倍率を男性と同水準の（Ａ）倍以内とする","女性の競争倍率を男性と同水準の（Ａ）倍以内とする",null,null,null,null,null,null,null,null,null,null,null,null,null,null,null,null,null,null,null,null,null,null,null,null,null,null,null,null,null,null,null,null,null,null,null,null,null,null,null,null,null,null,null,null,null,null,null,null,null,null,"倍数"]
[2,3,"配置・育成","女性労働者を（Ａ）人採用する","女性労働者を（Ａ）人採用する",null,"○",null,null,null,null,null,null,null,null,null,null,null,null,null,null,null,null,null,null,null,null,null,null,null,null,null,null,null,null,null,null,null,null,null,null,null,null,null,null,null,null,null,null,null,null,null,null,null,null,"人数"]
["×",4,"採用（再雇用）","再雇用制度の登録者数を対象となる層（離職者等）の（Ａ）％以上とする","再雇用制度の登録者数を対象となる層（離職者等）の（Ａ）％以上とする",null,null,null,null,null,null,null,null,null,null,null,null,null,null,null,null,null,null,null,null,null,null,null,null,null,null,null,null,null,null,null,null,null,null,null,null,null,null,null,null,null,null,null,null,null,null,null,null,null,null,"割合"]
[2,5,"配置・育成","（Ａ）（※）で働く女性労働者を（Ｂ）人増やす（※これまで女性があまり配属されてこなかった部署・職種、復職女性の配属が困難な部署・職種等を設定）","（Ａ）で働く女性労働者を（Ｂ）人増やす",null,null,null,"○",null,null,null,null,null,null,null,null,null,null,null,null,null,null,null,null,null,null,null,null,null,null,null,null,null,null,null,null,null,null,null,null,null,null,null,null,null,null,null,null,null,null,null,null,null,null,"部署","人数"]
[3,6,"配置・育成","すべての部署・職種で、女性の割合を（最低でも）（Ａ）％以上とする","すべての部署・職種で、女性の割合を（最低でも）（Ａ）％以上とする",null,null,null,"○",null,null,null,null,null,null,null,null,null,null,null,null,null,null,null,null,null,null,null,null,null,null,null,null,null,null,null,null,null,null,null,null,null,null,null,null,null,null,null,null,null,null,null,null,null,null,"割合"]
[4,7,"配置・育成","女性のキャリアアップ研修等の受講割合を男性と同水準の（Ａ）％以上（対象層に占める割合）とする","女性のキャリアアップ研修等の受講割合を男性と同水準の（Ａ）％以上（対象層に占める割合）とする",null,null,null,null,"○",null,null,null,null,null,null,null,null,null,null,null,null,null,null,null,null,null,null,null,null,null,null,null,null,null,null,null,null,null,null,null,null,null,null,null,null,null,null,null,null,null,null,null,null,null,"割合"]
[4,8,"配置・育成","（（Ａ）ヶ月以上の）育休取得者とその上司を対象とした復職研修を100％実施する","（（Ａ）ヶ月以上の）育休取得者とその上司を対象とした復職研修を100％実施する",null,null,null,null,"○",null,null,null,null,null,null,null,null,null,null,null,null,null,null,null,null,null,null,null,null,null,null,null,null,null,null,null,null,null,null,null,null,null,null,null,null,null,null,null,null,null,null,null,null,null,"月数"]
[5,9,"配置・育成","非正社員から（Ａ）人以上、正社員への登用をする","非正社員から（Ａ）人以上、正社員への登用をする",null,null,null,null,null,null,"○",null,null,null,null,null,null,null,null,null,null,null,null,null,null,null,null,null,null,null,null,null,null,null,null,null,null,null,null,null,null,null,null,null,null,null,null,null,null,null,null,null,null,null,"人数"]
[5,10,"配置・育成","非正社員のキャリアアップ研修の受講率を（Ａ）％以上にする","非正社員のキャリアアップ研修の受講率を（Ａ）％以上にする",null,null,null,null,null,null,"○",null,null,null,null,null,null,null,null,null,null,null,null,null,null,null,null,null,null,null,null,null,null,null,null,null,null,null,null,null,null,null,null,null,null,null,null,null,null,null,null,null,null,null,"割合"]
[6,11,"就業継続・働き方","男性の平均勤続年数に対する女性の平均勤続年数割合を（Ａ）％以上とする","男性の平均勤続年数に対する女性の平均勤続年数割合を（Ａ）％以上とする",null,null,null,null,null,null,null,null,null,"○",null,null,null,null,null,null,null,null,null,null,null,null,null,null,null,null,null,null,null,null,null,null,null,null,null,null,null,null,null,null,null,null,null,null,null,null,null,null,null,null,"割合"]
[7,12,"就業継続・働き方","男女ともに平均勤続年数を（Ａ）年以上とする","男女ともに平均勤続年数を（Ａ）年以上とする",null,null,null,null,null,null,null,null,"○",null,null,null,null,null,null,null,null,null,null,null,null,null,null,null,null,null,null,null,null,null,null,null,null,null,null,null,null,null,null,null,null,null,null,null,null,null,null,null,null,null,"年数"]
["×",13,"就業継続・働き方","男女ともに平均勤続年数を（Ａ）年以上とする","男女ともに平均勤続年数を（Ａ）年以上とする",null,null,null,null,null,null,null,null,null,null,null,null,null,null,null,null,null,null,null,null,null,null,null,null,null,null,null,null,null,null,null,null,null,null,null,null,null,null,null,null,null,null,null,null,null,null,null,null,null,null,"年数"]
[8,14,"就業継続・働き方","労働者に占める女性割合を（Ａ）％以上とする","労働者に占める女性割合を（Ａ）％以上とする",null,null,null,null,null,null,null,null,null,null,"○",null,null,null,null,null,null,null,null,null,null,null,null,null,null,null,null,null,null,null,null,null,null,null,null,null,null,null,null,null,null,null,null,null,null,null,null,null,null,null,"割合"]
[9,15,"就業継続・働き方","育児休業の利用率を、男女ともに(対象となる層の）（Ａ）％以上とする","育児休業の利用率を、男女ともに(対象となる層の）（Ａ）％以上とする",null,null,null,null,null,null,null,null,null,null,null,"○",null,null,null,null,null,null,null,null,null,null,null,null,null,null,null,null,null,null,null,null,null,null,null,null,null,null,null,null,null,null,null,null,null,null,null,null,null,null,"割合"]
[null,{"$f":"IF($D19=\"\",\"\",ROW()-ROW($B$3))","v":16},"就業継続・働き方","フレックスタイム制度の利用率を、男女ともに(対象となる層の）（Ａ）％以上とする","フレックスタイム制度の利用率を、男女ともに(対象となる層の）（Ａ）％以上とする",null,null,null,null,null,null,null,null,null,null,null,null,null,"○",null,null,null,null,null,null,null,null,null,null,null,null,null,null,null,null,null,null,null,null,null,null,null,null,null,null,null,null,null,null,null,null,null,null,null,null,"割合"]
[null,{"$f":"IF($D20=\"\",\"\",ROW()-ROW($B$3))","v":17},"就業継続・働き方","在宅勤務やテレワークの利用率を、男女ともに（対象となる層の）（Ａ）％以上とする","在宅勤務やテレワークの利用率を、男女ともに（対象となる層の）（Ａ）％以上とする",null,null,null,null,null,null,null,null,null,null,null,null,null,"○",null,null,null,null,null,null,null,null,null,null,null,null,null,null,null,null,null,null,null,null,null,null,null,null,null,null,null,null,null,null,null,null,null,null,null,null,"割合"]
[10,18,"就業継続・働き方","（Ａ）制度（※）の利用実績を男女ともに（対象となる層の）（Ｂ）％以上とする（※短時間勤務、看護休暇制度など、自社のその他の両立支援制度を設定）","（Ａ）制度の利用実績を男女ともに（対象となる層の）（Ｂ）％以上とする",null,null,null,null,null,null,null,null,null,null,null,null,"○",null,null,null,null,null,null,null,null,null,null,null,null,null,null,null,null,null,null,null,null,null,null,null,null,null,null,null,null,null,null,null,null,null,null,null,null,null,"制度","割合"]
[9,19,"就業継続・働き方","男性の育児休業取得期間を（Ａ）％アップさせる","男性の育児休業取得期間を（Ａ）％アップさせる",null,null,null,null,null,null,null,null,null,null,null,"○",null,null,null,null,null,null,null,null,null,null,null,null,null,null,null,null,null,null,null,null,null,null,null,null,null,null,null,null,null,null,null,null,null,null,null,null,null,null,"割合"]
[26,{"$f":"IF($D23=\"\",\"\",ROW()-ROW($B$3))","v":20},"労働時間","労働者全体の残業時間を月平均（Ａ）時間以内とする","労働者全体の残業時間を月平均（Ａ）時間以内とする",null,null,null,null,null,null,null,null,null,null,null,null,null,null,"○",null,null,null,null,null,null,null,null,null,null,null,null,null,null,null,null,null,null,null,null,null,null,null,null,null,"○","○","○","○","○","○","○","○","○","○","時間"]
[26,{"$f":"IF($D24=\"\",\"\",ROW()-ROW($B$3))","v":21},"労働時間","（Ａ）（※）の残業時間を月平均（Ｂ）時間以内とする（※長時間労働が発生している雇用管理区分、男女の残業時間の差が大きい雇用管理区分等を設定）","（Ａ）の残業時間を月平均（Ｂ）時間以内とする",null,null,null,null,null,null,null,null,null,null,null,null,null,null,null,"○",null,null,null,null,null,null,null,null,null,null,null,null,null,null,null,null,null,null,null,null,null,null,null,null,"○","○","○","○","○","○","○","○","○","○","職制","時間"]
[26,{"$f":"IF($D25=\"\",\"\",ROW()-ROW($B$3))","v":22},"労働時間","管理職の労働時間を月平均（Ａ）時間以内とする","管理職の労働時間を月平均（Ａ）時間以内とする",null,null,null,null,null,null,null,null,null,null,null,null,null,null,null,null,"○",null,null,null,null,null,null,null,null,null,null,null,null,null,null,null,null,null,null,null,null,null,null,null,"○","○","○","○","○","○","○","○","○","○","時間"]
[27,{"$f":"IF($D26=\"\",\"\",ROW()-ROW($B$3))","v":23},"有給休暇","有給休暇取得率を（Ａ）％以上とする","有給休暇取得率を（Ａ）％以上とする",null,null,null,null,null,null,null,null,null,null,null,null,null,null,null,null,null,"○",null,null,null,null,null,null,null,null,null,null,null,null,null,null,null,null,null,null,null,null,null,null,"○","○","○","○","○","○","○","○","○","○","割合"]
[15,24,"評価・登用","管理職に占める女性割合を（Ａ）人以上（（Ｂ）％以上）とする","管理職に占める女性割合を（Ａ）人以上（（Ｂ）％以上）とする",null,null,null,null,null,null,null,null,null,null,null,null,null,null,null,null,null,null,"○",null,null,null,null,null,null,null,null,null,null,null,null,null,null,null,null,null,null,null,null,null,null,null,null,null,null,null,null,null,null,null,"人数","割合"]
[27,{"$f":"IF($D28=\"\",\"\",ROW()-ROW($B$3))","v":25},"有給休暇","有給休暇取得率を（Ａ）％以上とする","有給休暇取得率を（Ａ）％以上とする",null,null,null,null,null,null,null,null,null,null,null,null,null,null,"○",null,null,null,null,null,null,null,null,null,null,null,null,null,null,null,null,null,null,null,null,null,null,null,null,null,null,null,null,null,null,null,null,null,null,null,"割合"]
[18,26,"評価・登用","係長級の役職者に占める女性割合を（Ａ）人以上（（Ｂ）％以上）とする","係長級の役職者に占める女性割合を（Ａ）人以上（（Ｂ）％以上）とする",null,null,null,null,null,null,null,null,null,null,null,null,null,null,null,null,null,null,null,null,null,null,"○",null,null,null,null,null,null,null,null,null,null,null,null,null,null,null,null,null,null,null,null,null,null,null,null,null,null,null,"人数","割合"]
[20,27,"評価・登用","役員や部長に占める女性の割合を（Ａ）％以上とする","役員や部長に占める女性の割合を（Ａ）％以上とする",null,null,null,null,null,null,null,null,null,null,null,null,null,null,null,null,null,null,null,null,"○",null,null,null,null,null,null,null,null,null,null,null,null,null,null,null,null,null,null,null,null,null,null,null,null,null,null,null,null,null,"割合"]
[20,28,"評価・登用","マネジメント層や女性社員に対する意識調査の結果について、就業継続意欲などの基準（※）を（Ａ）ポイント以上向上する（※昇進意欲があるかなど、自社の意識調査内容を踏まえて基準を設定）","マネジメント層や女性社員に対する意識調査の結果について、就業継続意欲などの基準を（Ａ）ポイント以上向上する",null,null,null,null,null,null,null,null,null,null,null,null,null,null,null,null,null,null,null,null,null,null,null,"○",null,null,null,null,null,null,null,null,null,null,null,null,null,null,null,null,null,null,null,null,null,null,null,null,null,null,"ポイント"]
[21,29,"職場風土","マネジメント層や女性社員に対する意識調査の結果について、職場環境に対する満足度などの基準（※）を（Ａ）ポイント以上向上する（※適性な業務配分や権限の付与、仕事のやりがいなど、自社の意識調査内容を踏まえて設定）","マネジメント層や女性社員に対する意識調査の結果について、職場環境に対する満足度などの基準を（Ａ）ポイント以上向上する",null,null,null,null,null,null,null,null,null,null,null,null,null,null,null,null,null,null,null,null,null,null,null,null,"○",null,null,null,null,null,null,null,null,null,null,null,null,null,null,null,null,null,null,null,null,null,null,null,null,null,"ポイント"]
[null,30,"職場風土","マネジメント層や女性社員に対する意識調査の結果について、職場環境に対する満足度などの基準（※）を（Ａ）ポイント以上向上する（※適性な業務配分や権限の付与、仕事のやりがいなど、自社の意識調査内容を踏まえて設定）","マネジメント層や女性社員に対する意識調査の結果について、職場環境に対する満足度などの基準を（Ａ）ポイント以上向上する",null,null,null,null,null,null,null,null,null,null,null,null,null,null,null,null,null,null,null,null,null,null,null,null,null,"○",null,null,null,null,null,null,null,null,null,null,null,null,null,null,null,null,null,null,null,null,null,null,null,null,"ポイント"]
["×",31,"職場風土","マネジメント層や女性社員に対する意識調査の結果について、就業継続意欲などの基準（※）を（Ａ）ポイント以上向上する（※昇進意欲があるかなど、自社の意識調査内容を踏まえて基準を設定）","マネジメント層や女性社員に対する意識調査の結果について、就業継続意欲などの基準を（Ａ）ポイント以上向上する",null,null,null,null,null,null,null,null,null,null,null,null,null,null,null,null,null,null,null,null,null,null,null,null,null,null,null,null,null,null,null,null,null,null,null,null,null,null,null,null,null,null,null,null,null,null,null,null,null,null,"割合"]
[24,32,"評価・登用","人事評価の評価段階ごとの男女別部分の差異を（Ａ）％以内とする","人事評価の評価段階ごとの男女別部分の差異を（Ａ）％以内とする",null,null,null,null,null,null,null,null,null,null,null,null,null,null,null,null,null,null,null,null,null,null,null,null,null,null,"○",null,null,null,null,null,null,null,null,null,null,null,null,null,null,null,null,null,null,null,null,null,null,null,"ポイント"]
[25,33,"総合","男女の平均賃金の差異を（Ａ）％以内とする。","男女の平均賃金の差異を（Ａ）％以内とする。",null,null,null,null,null,null,null,null,null,null,null,null,null,null,null,null,null,null,null,null,null,null,null,null,null,null,null,"○",null,null,null,null,null,null,null,null,null,null,null,null,null,null,null,null,null,null,null,null,null,null,"割合"]
[18,34,"労働時間","労働者全体の残業時間を月平均（Ａ）時間以内とする","労働者全体の残業時間を月平均（Ａ）時間以内とする",null,null,null,null,null,null,null,null,null,null,null,null,null,null,null,null,null,null,null,null,null,null,null,null,null,null,null,null,"○",null,null,null,null,null,null,null,null,null,null,null,null,null,null,null,null,null,null,null,null,null,"時間"]
[18,35,"労働時間","月毎の平均残業時間の差異を（Ａ）時間以内とする","月毎の平均残業時間の差異を（Ａ）時間以内とする",null,null,null,null,null,null,null,null,null,null,null,null,null,null,null,null,null,null,null,null,null,null,null,null,null,null,null,null,null,"○",null,null,null,null,null,null,null,null,null,null,null,null,null,null,null,null,null,null,null,null,"時間"]
[19,36,"労働時間","（Ａ）（※）の残業時間を月平均（Ｂ）時間以内とする（※長時間労働が発生している雇用管理区分、男女の残業時間の差が大きい雇用管理区分等を設定）","（Ａ）の残業時間を月平均（Ｂ）時間以内とする",null,null,null,null,null,null,null,null,null,null,null,null,null,null,null,null,null,null,null,null,null,null,null,null,null,null,null,null,null,null,"○",null,null,null,null,null,null,null,null,null,null,null,null,null,null,null,null,null,null,null,"部署","時間"]
[19,""]
[19,{"$f":"IF($D41=\"\",\"\",ROW()-ROW($B$3))","v":""}]
[19,""]
[20,""]
[25,""]
[null,""]
[null,""]
[null,""]
[null,""]
[null,""]
[null,""]
[null,""]
[null,""]
[null,""]
[null,""]
[null,""]
[null,""]
[null,""]
[null,""]
[null,""]
[null,""]
[null,""]
[null,""]
[null,""]
[null,""]
[null,{"$f":"IF($D65=\"\",\"\",ROW()-ROW($B$3))","v":""}]
[null,"<ここまで：追加できません＞"]

{"sheet":"取組一覧","index":8,"n_rows":103,"n_cols":50,"rows_kept":103,"cut":false,"hidden":false,"merged":[]}
["管理者用シート　リリース時には非表示になります。"]
[null,null,null,null,null,"目標→",null,null,null,null,null,null,null,null,null,null,null,null,null,null,null,null,null,null,null,null,null,null,null,null,null,null,null,null,null,null,null,null,null,null,null,"↓「A」はALLの。最後に追加する事"]
[null,"No.","課題分類","取組","出力用",1,2,3,4,5,6,7,8,9,10,11,12,13,14,15,16,17,18,19,20,21,22,23,24,25,26,27,28,29,30,31,32,33,34,35,36,"A"]
["1-2",{"$f":"IF($D4=\"\",\"\",ROW()-ROW($B$3))","v":1},"採用","女性が満たしにくい募集・採用基準や運用を見直す（性別に関わらず公正・公平な採用選考を行うため）\n【例】募集方法を多様化する、応募要項を見直す　等","女性が満たしにくい募集・採用基準や運用を見直す","○","○","○",null,null,null,null,null,null,null,null,null,null,"○"]
["1-4",2,"採用","求職者に対する積極的な広報（女性が活躍できる職場であることついて）を行う【例】 大学と連携して女子学生に対して働きかける／会社案内等での社内で活躍する女性を紹介する／技術系の採用における理系女子学生に対する重点的広報を行う／各種認定や表彰の取得等の実績をアピールする等","求職者に対する積極的な広報（女性が活躍できる職場であることついて）を行う","○","○","○",null,null,null,null,null,null,null,null,null,null,"○",null,null,null,"○"]
["1-5",3,"採用","女性の採用拡大に向けたインターンシップを実施する（社内の雰囲気や実際に働く場合のイメージを学生に持ってもらうため）","女性の採用拡大に向けたインターンシップを実施する","○","○","○",null,null,null,null,null,null,null,null,null,null,"○"]
["2-2-14",4,"配置・育成","転換・再雇用・中途採用等の社員に、新卒採用と同等の研修やキャリアアップの機会を設ける","転換・再雇用・中途採用等の社員に、新卒採用と同等の研修やキャリアアップの機会を設ける"]
["1-6",5,"採用","育児・介護・配偶者の転勤等を理由に退職した社員に対する再雇用制度の導入・利用を促進する","育児・介護・配偶者の転勤等を理由に退職した社員に対する再雇用制度の導入・利用を促進する","○","○","○",null,null,null,null,null,null,null,null,null,null,"○"]
["2-1-2",6,"採用","中途採用の積極的実施と新卒採用と同等の育成・登用を行う","中途採用の積極的実施と新卒採用と同等の育成・登用を行う","○","○","○",null,null,null,null,null,null,null,null,null,null,"○"]
["2-1-3",{"$f":"IF($D10=\"\",\"\",ROW()-ROW($B$3))","v":7},"配置・育成","女性がいない又は少ない部署・職種等へ女性を積極的に配置する","女性がいない又は少ない部署・職種等へ女性を積極的に配置する",null,null,null,null,"○","○",null,null,null,null,null,null,null,null,null,null,null,null,null,null,null,null,null,null,null,"○"]
["2-1-3",8,"配置・育成","女性が満たしにくい配置基準や女性に関する性別役割分担意識を見直す","女性が満たしにくい配置基準や女性に関する性別役割分担意識を見直す",null,null,null,null,"○","○",null,null,null,null,null,null,null,null,null,null,null,null,null,null,null,null,null,null,null,"○"]
["2-1-6",{"$f":"IF($D12=\"\",\"\",ROW()-ROW($B$3))","v":9},"配置・育成","女性がいない又は少ない部署・職種等において、ロールモデルとなる人材を育成・紹介する","女性がいない又は少ない部署・職種等において、ロールモデルとなる人材を育成・紹介する",null,null,null,null,"○","○",null,null,null,null,null,null,null,null,null,null,null,null,null,null,null,null,null,null,null,"○"]
["2-2-1",10,"配置・育成","一般職から総合職等への転換を推進する取組を実施する【例】制度を周知する、上司から働きかける　等","一般職から総合職等への転換を推進する取組を実施する",null,null,null,null,"○","○"]
["2-2-2",11,"配置・育成","非正社員を対象とした正社員への雇用転換を推進する取組を実施する","非正社員を対象とした正社員への雇用転換を推進する取組を実施する",null,null,null,null,"○","○",null,null,"○"]
["2-2-3",12,"配置・育成","社員一人一人のキャリアプランを本人と上司で作成し、中長期的な視点での育成を行う","社員一人一人のキャリアプランを本人と上司で作成し、中長期的な視点での育成を行う",null,null,null,null,null,null,"○","○"]
["2-2-4",13,"配置・育成","社員が参加可能な研修情報の定期的な発信と、直属の上司からの参加を呼びかける","社員が参加可能な研修情報の定期的な発信と、直属の上司からの参加を呼びかける",null,null,null,null,null,null,"○","○"]
["2-2-7",14,"配置・育成","管理職に対する女性部下の育成に関する意識啓発や管理職による女性部下の育成計画を作成する","管理職に対する女性部下の育成に関する意識啓発や管理職による女性部下の育成計画を作成する",null,null,null,null,null,null,"○","○"]
["2-2-8",15,"配置・育成","女性社員が自身のキャリア形成に対する意識を醸成するための研修を行い、上司からも働きかける","女性社員が自身のキャリア形成に対する意識を醸成するための研修を行い、上司からも働きかける",null,null,null,null,null,null,"○","○",null,null,null,null,null,null,null,null,null,null,null,null,null,null,null,null,null,null,null,"○"]
["3-1-1",16,"配置・育成","非正社員を対象とした能力開発・キャリア形成のための研修を実施する","非正社員を対象とした能力開発・キャリア形成のための研修を実施する",null,null,null,null,null,null,"○","○",null,"○"]
["3-1-6",17,"就業継続・働き方","利用可能な両立支援制度を周知する（正社員・非正社員にかかわらず、同水準の両立支援制度を利用できるよう管理職や非正社員への制度の周知を徹底する）【例】 社員向け・管理職向け等のパンフレット等を作成・配布する　等","利用可能な両立支援制度を周知する",null,null,null,null,null,null,null,null,null,null,"○","○","○",null,"○",null,null,null,"○"]
["3-1-11",18,"就業継続・働き方","妊娠中、産前・産後休業や育児休業復帰後の配慮や処遇に関して周知する","妊娠中、産前・産後休業や育児休業復帰後の配慮や処遇に関して周知する",null,null,null,null,null,null,null,null,null,null,"○","○","○",null,"○",null,null,null,"○"]
["3-2-6",19,"就業継続・働き方","長時間残業を削減するための意識啓発を行う【例】 ノー残業デーを設定する、定時退社を呼びかける、残業時間数等の数値目標を設定・フォローアップする、管理職が率先して退社する　等","長時間残業を削減するための意識啓発を行う",null,null,null,null,null,null,null,null,null,null,"○","○","○",null,null,null,null,null,null,"○","○","○",null,null,null,null,null,null,null,null,null,null,null,"○",null,"○"]
["3-2-8",20,"就業継続・働き方","有給休暇取得を推進する取組を実施する【例】 取得日数の目標設定を行う、計画取得する、管理職が率先して取得する　等","有給休暇取得を推進する取組を実施する",null,null,null,null,null,null,null,null,null,null,"○","○","○",null,null,null,null,null,null,null,null,null,"○",null,"○"]
["4-1",21,"就業継続・働き方","育児・介護目的に限らず、フレックスタイムや在宅勤務制度等の柔軟な働き方の選択肢を増やす取組を実施する【例】 在宅勤務の利用促進をはかるため、モデル部署のメンバー全員でトライアル利用を行う、フレックスタイム制度等の運用ルールを周知徹底する　等","育児・介護目的に限らず、フレックスタイムや在宅勤務制度等の柔軟な働き方の選択肢を増やす取組を実施する",null,null,null,null,null,null,null,null,null,null,"○","○","○",null,null,"○","○","○"]
["3-1-9",22,"就業継続・働き方","事業所内託児所の設置やベビーシッターの利用支援等を行う","事業所内託児所の設置やベビーシッターの利用支援等を行う",null,null,null,null,null,null,null,null,null,null,null,null,null,null,"○",null,null,null,"○"]
["3-2-2",23,"就業継続・働き方","男性の育児休業や看護休暇取得等の両立支援制度利用を推進する取組を行う","男性の育児休業や看護休暇取得等の両立支援制度利用を推進する取組を行う",null,null,null,null,null,null,null,null,null,null,null,null,null,null,"○",null,null,"○","○"]
["3-2-5",24,"就業継続・働き方","不妊治療を支援する（休暇・時間調整等）","不妊治療を支援する（休暇・時間調整等）",null,null,null,null,null,null,null,null,null,null,null,null,null,null,"○",null,null,null,"○"]
["4-3",25,"就業継続・働き方","属人的な業務体制を見直す（複数担当制、多能工化等によりカバー体制を構築する等）","属人的な業務体制を見直す（複数担当制、多能工化等によりカバー体制を構築する等）",null,null,null,null,null,null,null,null,null,null,null,null,null,null,null,"○","○","○",null,"○","○","○",null,null,null,null,null,null,null,null,null,null,null,"○","○","○"]
["4-4",26,"就業継続・働き方","働き方に関するマネジメント研修を管理職に実施する","働き方に関するマネジメント研修を管理職に実施する",null,null,null,null,null,null,null,null,null,null,null,null,null,null,null,"○","○","○",null,"○",null,null,null,null,null,null,null,"○"]
["5-1",27,"就業継続・働き方","帰りやすい職場風土づくり等に向けて、管理職自身の勤務時間管理を徹底する","帰りやすい職場風土づくり等に向けて、管理職自身の勤務時間管理を徹底する",null,null,null,null,null,null,null,null,null,null,null,null,null,null,null,null,null,"○",null,"○","○","○"]
["5-6",28,"就業継続・働き方","短時間勤務制度を柔軟に運用する（本人の希望に基づく一定上限内でのフレキシブルなフルタイム勤務を実施する）","短時間勤務制度を柔軟に運用する（本人の希望に基づく一定上限内でのフレキシブルなフルタイム勤務を実施する）",null,null,null,null,null,null,null,null,null,null,null,null,null,null,null,"○","○","○",null,"○","○"]
[null,29,"職場風土","管理職に対するワーク・ライフ・バランスやダイバーシティマネジメント（女性活躍推進）に関する意識啓発を行う【例】 妊娠中や子育て期の社員への法的配慮事項に関する研修を行う、ハラスメント防止に関する研修を行う　等","管理職に対するワーク・ライフ・バランスやダイバーシティマネジメント（女性活躍推進）に関する意識啓発を行う",null,null,null,null,null,null,null,null,null,null,null,null,null,null,null,null,null,"○",null,null,null,null,null,null,null,null,null,"○","○"]
["5-5",30,"就業継続・働き方","時間制約等を抱える多様な人材を活かすことの意義に関する役員・管理職研修を行う","時間制約等を抱える多様な人材を活かすことの意義に関する役員・管理職研修を行う",null,null,null,null,null,null,null,null,null,null,null,null,null,null,null,"○","○",null,null,"○",null,null,null,null,null,null,null,"○"]
["3-2-7",31,"就業継続・働き方","長時間残業を削減するため、業務削減等の取組を実施する【例】 業務の優先順位付けや業務分担を見直す、業務プロセス等の分析・削減と検証を行う、会議・資料作成の効率化を図る、生産性の高い社員の業務手法を共有する　等","長時間残業を削減するため、業務削減等の取組を実施する",null,null,null,null,null,null,null,null,null,null,null,null,null,null,null,null,null,"○",null,"○","○","○",null,null,null,null,null,null,null,null,null,null,null,"○",null,"○"]
[null,32,"労働時間（マネジメント）","残業が一定時間数を超える場合は、本人と上司に対する通知・指導等を行う","残業が一定時間数を超える場合は、本人と上司に対する通知・指導等を行う",null,null,null,null,null,null,null,null,null,null,null,null,null,null,null,null,null,"○",null,null,"○","○",null,null,null,null,null,null,null,null,null,null,null,"○","○","○"]
["5-8",33,"評価・登用","管理職登用において、女性が満たしにくい評価基準・運用等を見直す（性別や両立支援制度の利用状況に関わらない公正・公平な評価・登用のため）","管理職登用において、女性が満たしにくい評価基準・運用等を見直す",null,null,null,null,null,null,null,null,null,null,null,null,null,null,null,null,null,null,null,null,null,null,null,"○",null,null,null,null,null,null,null,"○"]
[null,34,"評価・登用","女性管理職のロールモデル・メンター紹介・交流や多様なキャリアパス事例を紹介する","女性管理職のロールモデル・メンター紹介・交流や多様なキャリアパス事例を紹介する",null,null,null,null,null,null,null,null,null,null,null,null,null,null,null,null,null,null,null,null,null,null,null,"○",null,"○",null,null,null,null,null,"○"]
[null,35,"評価・登用","管理職手前の女性社員を対象に、管理職養成等を目的としたキャリア意識を醸成する研修を実施する","管理職手前の女性社員を対象に、管理職養成等を目的としたキャリア意識を醸成する研修を実施する",null,null,null,null,null,null,null,null,null,null,null,null,null,null,null,null,null,null,null,null,null,null,null,"○",null,null,null,null,null,null,null,"○"]
[null,36,"評価・登用","意欲と能力のある女性労働者の積極的発掘と、選抜した人材の集中的育成を実施する（研修への参加や、現管理職が定めるサクセッションプラン（後継者育成計画）の対象者に女性労働者を積極的に含め、現管理職からの集中的なＯＪＴを行う等）","意欲と能力のある女性労働者の積極的発掘と、選抜した人材の集中的育成を実施する",null,null,null,null,null,null,null,null,null,null,null,null,null,null,null,null,null,null,null,null,null,null,null,null,null,null,null,null,null,null,null,"○"]
[null,37,"評価・登用","時間当たりの労働生産性を重視した人事評価により、育児休業・短時間勤務等の利用者に公平な評価を実施する","時間当たりの労働生産性を重視した人事評価により、育児休業・短時間勤務等の利用者に公平な評価を実施する",null,null,null,null,null,null,null,null,null,null,null,null,null,null,null,null,null,null,null,null,null,null,null,null,null,"○",null,null,null,null,null,"○"]
[null,38,"職場風土","定期的な社員への意識調査（職場風土、ハラスメント等に関するもの）を行い、職場風土の改善をはかる","定期的な社員への意識調査（職場風土、ハラスメント等に関するもの）を行い、職場風土の改善をはかる",null,null,null,null,null,null,null,null,null,null,null,null,null,null,null,null,null,null,null,null,null,null,null,null,null,null,null,null,"○"]
[null,39,"職場風土","すべての社員を対象としたマタハラ・セクハラ防止のための取組を実施する（派遣労働者を含む）","すべての社員を対象としたマタハラ・セクハラ防止のための取組を実施する（派遣労働者を含む）",null,null,null,null,null,null,null,null,null,null,null,null,null,null,null,null,null,null,null,null,null,null,null,null,null,null,null,null,"○"]
[null,40,"職場風土","管理職の人事評価において長時間労働是正・生産性向上に関する評価を行う","管理職の人事評価において長時間労働是正・生産性向上に関する評価を行う",null,null,null,null,null,null,null,null,null,null,null,null,null,null,null,null,null,null,null,null,null,null,null,null,null,null,null,"○","○"]
[null,41,"職場風土","様々なハラスメントが起こらないよう、管理職への研修等によりハラスメント防止を周知徹底する","様々なハラスメントが起こらないよう、管理職への研修等によりハラスメント防止を周知徹底する",null,null,null,null,null,null,null,null,null,null,null,null,null,null,null,null,null,null,null,null,null,null,null,null,null,null,null,null,"○"]
[null,42,"職場風土","男女の固定的性別役割分担意識に基づく慣行の見直し等職場風土を改善する【例】「 職場」と「家庭」の両方について、男女がともに貢献できる職場風土をつくる　等","男女の固定的性別役割分担意識に基づく慣行の見直し等職場風土を改善する",null,null,null,null,null,null,null,null,null,null,null,null,null,null,null,null,null,null,null,null,null,null,null,null,null,null,null,null,"○"]
[null,43,"職場風土","身体的な負担の大きな業務や衛生面で不安のある職場環境の改善をはかる","身体的な負担の大きな業務や衛生面で不安のある職場環境の改善をはかる","○","○",null,null,"○","○",null,null,null,null,null,null,null,"○",null,null,null,null,null,null,null,null,null,null,null,null,null,null,null,"○"]
[null,44,"職場風土","女子トイレや更衣室等の整備・改修をはかる","女子トイレや更衣室等の整備・改修をはかる","○","○",null,null,"○","○",null,null,null,null,null,null,null,"○",null,null,null,null,null,null,null,null,null,null,null,null,null,null,null,"○"]
[null,45,"評価・登用","仕事の効率や成果に応じた公正な評価・処遇体系を整備し、評価制度・賃金制度を改定する","仕事の効率や成果に応じた公正な評価・処遇体系を整備し、評価制度・賃金制度を改定する",null,null,null,null,null,null,null,null,null,null,null,null,null,null,null,null,null,null,null,null,null,null,null,null,null,null,"○",null,null,null,null,"○","○"]
["2-2-5",46,"配置・育成","女性がより高度な知識・スキル等を身につけるための研修を実施する","女性がより高度な知識・スキル等を身につけるための研修を実施する",null,null,null,null,null,null,null,null,null,null,null,null,null,null,null,null,null,null,null,null,null,null,null,null,null,null,null,null,null,null,null,"○"]
[null,{"$f":"IF($D50=\"\",\"\",ROW()-ROW($B$3))","v":47},"評価・登用","管理職の長時間労働是正に向けたマネジメント力の強化のための研修を行う","管理職の長時間労働是正に向けたマネジメント力の強化のための研修を行う",null,null,null,null,null,null,null,null,null,null,null,null,null,null,null,null,null,null,null,null,null,null,null,null,null,null,null,null,null,null,null,null,null,"○",null,"○"]
["2-1-4",48,"評価・登用","女性役員のロールモデル・メンターの紹介・交流や多様なキャリアパス事例の紹介","女性役員のロールモデル・メンターの紹介・交流や多様なキャリアパス事例の紹介",null,null,null,null,null,null,null,null,null,null,null,null,null,null,null,null,null,null,null,null,null,null,null,null,null,null,"○"]
["2-1-7",49,"配置・育成","非正社員を対象とした能力開発・キャリアアップ研修の実施","非正社員を対象とした能力開発・キャリアアップ研修の実施"]
["2-2-6",50,"配置・育成","重要だが家庭と両立しにくい職務経験（海外勤務等）を出産・子育て期以前に積極的に付与する","重要だが家庭と両立しにくい職務経験（海外勤務等）を出産・子育て期以前に積極的に付与する"]
["2-2-9",51,"配置・育成","職階等に応じた女性同士の交流機会の提供、ネットワークづくりの支援を行う","職階等に応じた女性同士の交流機会の提供、ネットワークづくりの支援を行う"]
["2-2-10",52,"配置・育成","育休復職者とその上司を対象とした制度利用者の能力開発やキャリア形成支援研修を行う","育休復職者とその上司を対象とした制度利用者の能力開発やキャリア形成支援研修を行う"]
["2-2-11",53,"配置・育成","柔軟な働き方を選択した社員に対応したキャリアプランやキャリア形成の方針を明確にする","柔軟な働き方を選択した社員に対応したキャリアプランやキャリア形成の方針を明確にする"]
["2-2-12",54,"配置・育成","一般職の職務範囲の拡大や処遇改善を行う","一般職の職務範囲の拡大や処遇改善を行う"]
["2-2-13",55,"配置・育成","正社員とパート・アルバイトや契約社員との仕事内容や役割区分を明確にして周知する","正社員とパート・アルバイトや契約社員との仕事内容や役割区分を明確にして周知する"]
["3-1-2",56,"配置・育成","定期的に仕事ややりがい等に関する意識調査を行い、調査結果に基づく改善策を検討する","定期的に仕事ややりがい等に関する意識調査を行い、調査結果に基づく改善策を検討する"]
["3-1-3",57,"配置・育成","一般職や非正社員に対する個人面談等による職種又は雇用形態の転換試験・昇格試験等の受験を勧奨する／研修等を通じた意識改革・能力支援を行う","一般職や非正社員に対する個人面談等による職種又は雇用形態の転換試験・昇格試験等の受験を勧奨する／研修等を通じた意識改革・能力支援を行う"]
["3-1-4",58,"配置・育成","若手の労働者を対象とした仕事と家庭の両立を前提としたキャリアイメージ形成のための研修・説明会等を実施する","若手の労働者を対象とした仕事と家庭の両立を前提としたキャリアイメージ形成のための研修・説明会等を実施する"]
["3-1-5",59,"配置・育成","女性労働者の積極的・公正な育成・評価に向けた上司へのヒアリングを行う","女性労働者の積極的・公正な育成・評価に向けた上司へのヒアリングを行う"]
["3-1-7",{"$f":"IF($D63=\"\",\"\",ROW()-ROW($B$3))","v":60},"就業継続・働き方","育児休業や育児短時間勤務制度における「法定を超える制度」を導入する","育児休業や育児短時間勤務制度における「法定を超える制度」を導入する"]
["3-1-8",61,"就業継続・働き方","非正社員を含めた産前・産後休業や育児休業取得を推進する取組を実施する","非正社員を含めた産前・産後休業や育児休業取得を推進する取組を実施する"]
["3-1-10",62,"就業継続・働き方","産前・産後休業や育児休業中に情報提供を行う","産前・産後休業や育児休業中に情報提供を行う"]
["3-1-12",63,"就業継続・働き方","妊娠中、産前・産後休業や育児休業からの復帰後の社員が相談できる窓口を設置する","妊娠中、産前・産後休業や育児休業からの復帰後の社員が相談できる窓口を設置する"]
["3-2-1",64,"就業継続・働き方","妊娠中、産前・産後休業や育児休業からの復帰後の社員のネットワーク化を行う（両立やキャリア形成に関わるノウハウを共有する等）","妊娠中、産前・産後休業や育児休業からの復帰後の社員のネットワーク化を行う"]
["3-2-3",65,"就業継続・働き方","転勤にあたり子育てや介護等の理由に配慮する（地域限定で働ける制度を含む）","転勤にあたり子育てや介護等の理由に配慮する（地域限定で働ける制度を含む）"]
["3-2-4",66,"就業継続・働き方","配偶者の転勤先への異動・同行休職等の制度を導入する","配偶者の転勤先への異動・同行休職等の制度を導入する"]
["4-2",67,"就業継続・働き方","時間制約のある社員を活かす職場マネジメントの好事例を開発して紹介する\n【例】 時間制約のある社員の職務設計を行う、交代制勤務における時間制約社員を活かすシフトの組み方を工夫する　等","時間制約のある社員を活かす職場マネジメントの好事例を開発して紹介する"]
["4-5",68,"就業継続・働き方","自社のワーク・ライフ・バランスの取組について、顧客・関連企業等に理解を呼びかける","自社のワーク・ライフ・バランスの取組について、顧客・関連企業等に理解を呼びかける"]
["4-6",69,"就業継続・働き方","組織のトップから長時間労働是正に関する強いメッセージを発信する","組織のトップから長時間労働是正に関する強いメッセージを発信する"]
["4-7",70,"就業継続・働き方","組織のトップから会議において部署ごとの残業時間数等を公開するとともに、評価を実施する","組織のトップから会議において部署ごとの残業時間数等を公開するとともに、評価を実施する"]
["4-8",71,"就業継続・働き方","サービス残業化させないための無記名アンケートや無作為ヒアリング等の徹底したチェックを行う","サービス残業化させないための無記名アンケートや無作為ヒアリング等の徹底したチェックを行う"]
["4-10",72,"就業継続・働き方","管理職の長時間労働是正に向けたマネジメントに対する 360 度評価を行う（部下からの評価）","管理職の長時間労働是正に向けたマネジメントに対する 360 度評価を行う（部下からの評価）"]
["5-2",73,"就業継続・働き方","部署横断的な人員配置の見直しを行いうる職位の高い責任者の指名と不断の人員配置の見直しを行う","部署横断的な人員配置の見直しを行いうる職位の高い責任者の指名と不断の人員配置の見直しを行う"]
["5-3",74,"就業継続・働き方","個人単位で業務の繁閑がある場合でも、チーム全体で勤務時間内に業務を終了させるため、労働者間の助け合いの好事例発表・評価等による互いに助け合う職場風土を醸成する","個人単位で業務の繁閑がある場合でも、チーム全体で勤務時間内に業務を終了させるため、労働者間の助け合いの好事例発表・評価等による互いに助け合う職場風土を醸成する"]
["5-4",75,"就業継続・働き方","管理職の長時間労働是正に向けたマネジメント力の強化のための研修を行う","管理職の長時間労働是正に向けたマネジメント力の強化のための研修を行う"]
["5-7",76,"就業継続・働き方","転居を伴う転勤に対する本人同意を徹底する／育児・介護等の理由がある一定期間内において、転居を伴う転勤を中止する","転居を伴う転勤に対する本人同意を徹底する／育児・介護等の理由がある一定期間内において、転居を伴う転勤を中止する"]
["5-9",77,"評価・登用","管理職登用において、女性割合を増やす方針や目標を設定する","管理職登用において、女性割合を増やす方針や目標を設定する"]
[null,78,"評価・登用","短時間勤務利用者の業務遂行における目標設定や評価方針を明確にして職場へ周知する","短時間勤務利用者の業務遂行における目標設定や評価方針を明確にして職場へ周知する"]
[null,79,"評価・登用","管理職登用において、女性の登用基準を優遇する方針を設定する（男女間格差是正に向けて）","管理職登用において、女性の登用基準を優遇する方針を設定する（男女間格差是正に向けて）"]
[null,80,"評価・登用","一般職や地域限定社員等の昇進上限を見直す","一般職や地域限定社員等の昇進上限を見直す"]
[null,81,"評価・登用","女性管理職を対象とした役員養成のための研修を実施する","女性管理職を対象とした役員養成のための研修を実施する"]
[null,82,"評価・登用","女性役員のロールモデル・メンター紹介・交流や多様なキャリアパス事例を紹介する","女性役員のロールモデル・メンター紹介・交流や多様なキャリアパス事例を紹介する"]
[null,83,"評価・登用","新人管理職に対し役員等によるメンタリングを実施する","新人管理職に対し役員等によるメンタリングを実施する"]
[null,84,"評価・登用","組織のトップ等による女性労働者の部門ごとの登用状況をモニタリングする／個別育成計画を策定する","組織のトップ等による女性労働者の部門ごとの登用状況をモニタリングする／個別育成計画を策定する"]
[null,85,"評価・登用","非正社員と正社員の人事評価基準を共通化する","非正社員と正社員の人事評価基準を共通化する"]
[null,86,"職場風土","自社におけるワーク・ライフ・バランスやダイバーシティマネジメントの推進方針について、経営トップからアピールする","自社におけるワーク・ライフ・バランスやダイバーシティマネジメントの推進方針について、経営トップからアピールする"]
[null,87,"職場風土","人事評価への「時間あたり生産性」重視の方針を取り入れる","人事評価への「時間あたり生産性」重視の方針を取り入れる"]
[null,88,"職場風土","管理職の評価へワーク・ライフ・バランスやダイバーシティマネジメント（女性活躍推進）の取組に関する項目を設定する","管理職の評価へワーク・ライフ・バランスやダイバーシティマネジメント（女性活躍推進）の取組に関する項目を設定する"]
[null,89,"多様な働き方（制度）","フレックスタイムや在宅勤務制度等の柔軟な働き方の選択肢を増やす取組を実施する\n【例】 在宅勤務の利用促進をはかるため、モデル部署のメンバー全員でトライアル利用を行う、フレックスタイム制度等の運用ルールを周知徹底する　等","フレックスタイムや在宅勤務制度等の柔軟な働き方の選択肢を増やす取組を実施する"]
[null,90,"多様な働き方（運用）","短時間勤務制度を柔軟に運用する\n【例】本人の希望に基づく一定上限内でのフレキシブルなフルタイム勤務を実施する","短時間勤務制度を柔軟に運用する"]
[null,91,"多様な働き方（マネジメント）","働き方に関するマネジメント研修を管理職に実施する","働き方に関するマネジメント研修を管理職に実施する"]
[null,92,"多様な働き方（マネジメント）","時間制約等を抱える多様な人材を活かすことの意義に関する役員・管理職研修を行う","時間制約等を抱える多様な人材を活かすことの意義に関する役員・管理職研修を行う"]
["1-1",{"$f":"IF($D96=\"\",\"\",ROW()-ROW($B$3))","v":93},"採用","女性の採用割合を増やす方針や目標を設定する","女性の採用割合を増やす方針や目標を設定する"]
["1-3",{"$f":"IF($D97=\"\",\"\",ROW()-ROW($B$3))","v":94},"採用","女性の採用基準を優遇する採用方針・基準を設定する（社員数の男女間格差是正のため）","女性の採用基準を優遇する採用方針・基準を設定する"]
["2-1-1",{"$f":"IF($D98=\"\",\"\",ROW()-ROW($B$3))","v":95},"採用","面施官への女性の参画により採用選考における（無意識の）性別のバイアスを排除する","面施官への女性の参画により採用選考における（無意識の）性別のバイアスを排除する"]
[null,{"$f":"IF($D99=\"\",\"\",ROW()-ROW($B$3))","v":""}]
[null,""]
[null,""]
[null,""]
[null,"<ここまで：追加できません＞",null,null,null,{"$f":"COUNTA(F4:F99)","v":7},{"$f":"COUNTA(G4:G99)","v":7},5,0,7,7,5,5,1,1,5,5,5,7,5,5,5,10,5,7,6,5,1,3,1,5,2,5,6,2,0,7,1,5,2,5,0,0,0,0,0,0,0,0,0]

{"sheet":"取組期間分割一覧","index":9,"n_rows":109,"n_cols":9,"rows_kept":109,"cut":false,"hidden":false,"merged":[]}
["管理者用シート　リリース時には非表示になります。"]
[]
[null,"No.","取組一覧","キーワード","1","2","3","4","5"]
[null,{"$f":"IF($C4=\"\",\"\",ROW()-ROW($B$3))","v":1},{"$f":"取組一覧!E4&\"\"","v":"女性が満たしにくい募集・採用基準や運用を見直す"},"女性が満たしにくい募集・採用基準や運用を見直す","準備：（取組内容をもとに自社で検討し入力して下さい）","実施：（取組内容をもとに自社で検討し入力して下さい）","結果分析：（取組内容をもとに自社で検討し入力して下さい）"]
[null,{"$f":"IF($C5=\"\",\"\",ROW()-ROW($B$3))","v":2},{"$f":"取組一覧!E5&\"\"","v":"求職者に対する積極的な広報（女性が活躍できる職場であることついて）を行う"},"求職者に対する積極的な広報（女性が活躍できる職場であることついて）を行う","準備：（取組内容をもとに自社で検討し入力して下さい）","実施：（取組内容をもとに自社で検討し入力して下さい）","結果分析：（取組内容をもとに自社で検討し入力して下さい）"]
[null,3,{"$f":"取組一覧!E6&\"\"","v":"女性の採用拡大に向けたインターンシップを実施する"},"女性の採用拡大に向けたインターンシップを実施する","準備：（取組内容をもとに自社で検討し入力して下さい）","実施：（取組内容をもとに自社で検討し入力して下さい）","結果分析：（取組内容をもとに自社で検討し入力して下さい）"]
[null,4,{"$f":"取組一覧!E7&\"\"","v":"転換・再雇用・中途採用等の社員に、新卒採用と同等の研修やキャリアアップの機会を設ける"},"転換・再雇用・中途採用等の社員に、新卒採用と同等の研修やキャリアアップの機会を設ける","準備：（取組内容をもとに自社で検討し入力して下さい）","実施：（取組内容をもとに自社で検討し入力して下さい）","結果分析：（取組内容をもとに自社で検討し入力して下さい）"]
[null,5,{"$f":"取組一覧!E8&\"\"","v":"育児・介護・配偶者の転勤等を理由に退職した社員に対する再雇用制度の導入・利用を促進する"},"育児・介護・配偶者の転勤等を理由に退職した社員に対する再雇用制度の導入・利用を促進する","準備：（取組内容をもとに自社で検討し入力して下さい）","実施：（取組内容をもとに自社で検討し入力して下さい）","結果分析：（取組内容をもとに自社で検討し入力して下さい）"]
[null,6,{"$f":"取組一覧!E9&\"\"","v":"中途採用の積極的実施と新卒採用と同等の育成・登用を行う"},"中途採用の積極的実施と新卒採用と同等の育成・登用を行う","準備：（取組内容をもとに自社で検討し入力して下さい）","実施：（取組内容をもとに自社で検討し入力して下さい）","結果分析：（取組内容をもとに自社で検討し入力して下さい）"]
[null,7,{"$f":"取組一覧!E10&\"\"","v":"女性がいない又は少ない部署・職種等へ女性を積極的に配置する"},"女性がいない又は少ない部署・職種等へ女性を積極的に配置する","準備：（取組内容をもとに自社で検討し入力して下さい）","実施：（取組内容をもとに自社で検討し入力して下さい）","結果分析：（取組内容をもとに自社で検討し入力して下さい）"]
[null,8,{"$f":"取組一覧!E11&\"\"","v":"女性が満たしにくい配置基準や女性に関する性別役割分担意識を見直す"},"女性が満たしにくい配置基準や女性に関する性別役割分担意識を見直す","準備：（取組内容をもとに自社で検討し入力して下さい）","実施：（取組内容をもとに自社で検討し入力して下さい）","結果分析：（取組内容をもとに自社で検討し入力して下さい）"]
[null,9,{"$f":"取組一覧!E12&\"\"","v":"女性がいない又は少ない部署・職種等において、ロールモデルとなる人材を育成・紹介する"},"女性がいない又は少ない部署・職種等において、ロールモデルとなる人材を育成・紹介する","準備：（取組内容をもとに自社で検討し入力して下さい）","実施：（取組内容をもとに自社で検討し入力して下さい）","結果分析：（取組内容をもとに自社で検討し入力して下さい）"]
[null,10,{"$f":"取組一覧!E13&\"\"","v":"一般職から総合職等への転換を推進する取組を実施する"},"一般職から総合職等への転換を推進する取組を実施する","準備：（取組内容をもとに自社で検討し入力して下さい）","実施：（取組内容をもとに自社で検討し入力して下さい）","結果分析：（取組内容をもとに自社で検討し入力して下さい）"]
[null,11,{"$f":"取組一覧!E14&\"\"","v":"非正社員を対象とした正社員への雇用転換を推進する取組を実施する"},"非正社員を対象とした正社員への雇用転換を推進する取組を実施する","準備：（取組内容をもとに自社で検討し入力して下さい）","実施：（取組内容をもとに自社で検討し入力して下さい）","結果分析：（取組内容をもとに自社で検討し入力して下さい）"]
[null,12,{"$f":"取組一覧!E15&\"\"","v":"社員一人一人のキャリアプランを本人と上司で作成し、中長期的な視点での育成を行う"},"社員一人一人のキャリアプランを本人と上司で作成し、中長期的な視点での育成を行う","準備：（取組内容をもとに自社で検討し入力して下さい）","実施：（取組内容をもとに自社で検討し入力して下さい）","結果分析：（取組内容をもとに自社で検討し入力して下さい）"]
[null,13,{"$f":"取組一覧!E16&\"\"","v":"社員が参加可能な研修情報の定期的な発信と、直属の上司からの参加を呼びかける"},"社員が参加可能な研修情報の定期的な発信と、直属の上司からの参加を呼びかける","準備：（取組内容をもとに自社で検討し入力して下さい）","実施：（取組内容をもとに自社で検討し入力して下さい）","結果分析：（取組内容をもとに自社で検討し入力して下さい）"]
[null,14,{"$f":"取組一覧!E17&\"\"","v":"管理職に対する女性部下の育成に関する意識啓発や管理職による女性部下の育成計画を作成する"},"管理職に対する女性部下の育成に関する意識啓発や管理職による女性部下の育成計画を作成する","準備：（取組内容をもとに自社で検討し入力して下さい）","実施：（取組内容をもとに自社で検討し入力して下さい）","結果分析：（取組内容をもとに自社で検討し入力して下さい）"]
[null,15,{"$f":"取組一覧!E18&\"\"","v":"女性社員が自身のキャリア形成に対する意識を醸成するための研修を行い、上司からも働きかける"},"女性社員が自身のキャリア形成に対する意識を醸成するための研修を行い、上司からも働きかける","準備：（取組内容をもとに自社で検討し入力して下さい）","実施：（取組内容をもとに自社で検討し入力して下さい）","結果分析：（取組内容をもとに自社で検討し入力して下さい）"]
[null,16,{"$f":"取組一覧!E19&\"\"","v":"非正社員を対象とした能力開発・キャリア形成のための研修を実施する"},"非正社員を対象とした能力開発・キャリア形成のための研修を実施する","準備：（取組内容をもとに自社で検討し入力して下さい）","実施：（取組内容をもとに自社で検討し入力して下さい）","結果分析：（取組内容をもとに自社で検討し入力して下さい）"]
[null,17,{"$f":"取組一覧!E20&\"\"","v":"利用可能な両立支援制度を周知する"},"利用可能な両立支援制度を周知する","準備：（取組内容をもとに自社で検討し入力して下さい）","実施：（取組内容をもとに自社で検討し入力して下さい）","結果分析：（取組内容をもとに自社で検討し入力して下さい）"]
[null,18,{"$f":"取組一覧!E21&\"\"","v":"妊娠中、産前・産後休業や育児休業復帰後の配慮や処遇に関して周知する"},"妊娠中、産前・産後休業や育児休業復帰後の配慮や処遇に関して周知する","準備：（取組内容をもとに自社で検討し入力して下さい）","実施：（取組内容をもとに自社で検討し入力して下さい）","結果分析：（取組内容をもとに自社で検討し入力して下さい）"]
[null,19,{"$f":"取組一覧!E22&\"\"","v":"長時間残業を削減するための意識啓発を行う"},"長時間残業を削減するための意識啓発を行う","準備：（取組内容をもとに自社で検討し入力して下さい）","実施：（取組内容をもとに自社で検討し入力して下さい）","結果分析：（取組内容をもとに自社で検討し入力して下さい）"]
[null,20,{"$f":"取組一覧!E23&\"\"","v":"有給休暇取得を推進する取組を実施する"},"有給休暇取得を推進する取組を実施する","準備：（取組内容をもとに自社で検討し入力して下さい）","実施：（取組内容をもとに自社で検討し入力して下さい）","結果分析：（取組内容をもとに自社で検討し入力して下さい）"]
[null,21,{"$f":"取組一覧!E24&\"\"","v":"育児・介護目的に限らず、フレックスタイムや在宅勤務制度等の柔軟な働き方の選択肢を増やす取組を実施する"},"育児・介護目的に限らず、フレックスタイムや在宅勤務制度等の柔軟な働き方の選択肢を増やす取組を実施する","準備：（取組内容をもとに自社で検討し入力して下さい）","実施：（取組内容をもとに自社で検討し入力して下さい）","結果分析：（取組内容をもとに自社で検討し入力して下さい）"]
[null,22,{"$f":"取組一覧!E25&\"\"","v":"事業所内託児所の設置やベビーシッターの利用支援等を行う"},"事業所内託児所の設置やベビーシッターの利用支援等を行う","準備：（取組内容をもとに自社で検討し入力して下さい）","実施：（取組内容をもとに自社で検討し入力して下さい）","結果分析：（取組内容をもとに自社で検討し入力して下さい）"]
[null,23,{"$f":"取組一覧!E26&\"\"","v":"男性の育児休業や看護休暇取得等の両立支援制度利用を推進する取組を行う"},"男性の育児休業や看護休暇取得等の両立支援制度利用を推進する取組を行う","準備：（取組内容をもとに自社で検討し入力して下さい）","実施：（取組内容をもとに自社で検討し入力して下さい）","結果分析：（取組内容をもとに自社で検討し入力して下さい）"]
[null,24,{"$f":"取組一覧!E27&\"\"","v":"不妊治療を支援する（休暇・時間調整等）"},"不妊治療を支援する（休暇・時間調整等）","準備：（取組内容をもとに自社で検討し入力して下さい）","実施：（取組内容をもとに自社で検討し入力して下さい）","結果分析：（取組内容をもとに自社で検討し入力して下さい）"]
[null,25,{"$f":"取組一覧!E28&\"\"","v":"属人的な業務体制を見直す（複数担当制、多能工化等によりカバー体制を構築する等）"},"属人的な業務体制を見直す（複数担当制、多能工化等によりカバー体制を構築する　等）","準備：（取組内容をもとに自社で検討し入力して下さい）","実施：（取組内容をもとに自社で検討し入力して下さい）","結果分析：（取組内容をもとに自社で検討し入力して下さい）"]
[null,26,{"$f":"取組一覧!E29&\"\"","v":"働き方に関するマネジメント研修を管理職に実施する"},"働き方に関するマネジメント研修を管理職に実施する","準備：（取組内容をもとに自社で検討し入力して下さい）","実施：（取組内容をもとに自社で検討し入力して下さい）","結果分析：（取組内容をもとに自社で検討し入力して下さい）"]
[null,27,{"$f":"取組一覧!E30&\"\"","v":"帰りやすい職場風土づくり等に向けて、管理職自身の勤務時間管理を徹底する"},"帰りやすい職場風土づくり等に向けて、管理職自身の勤務時間管理を徹底する","準備：（取組内容をもとに自社で検討し入力して下さい）","実施：（取組内容をもとに自社で検討し入力して下さい）","結果分析：（取組内容をもとに自社で検討し入力して下さい）"]
[null,28,{"$f":"取組一覧!E31&\"\"","v":"短時間勤務制度を柔軟に運用する（本人の希望に基づく一定上限内でのフレキシブルなフルタイム勤務を実施する）"},"短時間勤務制度を柔軟に運用する（本人の希望に基づく一定上限内でのフレキシブルなフルタイム勤務を実施する）","準備：（取組内容をもとに自社で検討し入力して下さい）","実施：（取組内容をもとに自社で検討し入力して下さい）","結果分析：（取組内容をもとに自社で検討し入力して下さい）"]
[null,29,{"$f":"取組一覧!E32&\"\"","v":"管理職に対するワーク・ライフ・バランスやダイバーシティマネジメント（女性活躍推進）に関する意識啓発を行う"},"管理職に対するワーク・ライフ・バランスやダイバーシティマネジメント（女性活躍推進）に関する意識啓発を行う","準備：（取組内容をもとに自社で検討し入力して下さい）","実施：（取組内容をもとに自社で検討し入力して下さい）","結果分析：（取組内容をもとに自社で検討し入力して下さい）"]
[null,30,{"$f":"取組一覧!E33&\"\"","v":"時間制約等を抱える多様な人材を活かすことの意義に関する役員・管理職研修を行う"},"時間制約等を抱える多様な人材を活かすことの意義に関する役員・管理職研修を行う","準備：（取組内容をもとに自社で検討し入力して下さい）","実施：（取組内容をもとに自社で検討し入力して下さい）","結果分析：（取組内容をもとに自社で検討し入力して下さい）"]
[null,31,{"$f":"取組一覧!E34&\"\"","v":"長時間残業を削減するため、業務削減等の取組を実施する"},"長時間残業を削減するため、業務削減等の取組を実施する","準備：（取組内容をもとに自社で検討し入力して下さい）","実施：（取組内容をもとに自社で検討し入力して下さい）","結果分析：（取組内容をもとに自社で検討し入力して下さい）"]
[null,32,{"$f":"取組一覧!E35&\"\"","v":"残業が一定時間数を超える場合は、本人と上司に対する通知・指導等を行う"},"残業が一定時間数を超える場合は、本人と上司に対する通知・指導等を行う","準備：（取組内容をもとに自社で検討し入力して下さい）","実施：（取組内容をもとに自社で検討し入力して下さい）","結果分析：（取組内容をもとに自社で検討し入力して下さい）"]
[null,33,{"$f":"取組一覧!E36&\"\"","v":"管理職登用において、女性が満たしにくい評価基準・運用等を見直す"},"管理職登用において、女性が満たしにくい評価基準・運用等を見直す","準備：（取組内容をもとに自社で検討し入力して下さい）","実施：（取組内容をもとに自社で検討し入力して下さい）","結果分析：（取組内容をもとに自社で検討し入力して下さい）"]
[null,34,{"$f":"取組一覧!E37&\"\"","v":"女性管理職のロールモデル・メンター紹介・交流や多様なキャリアパス事例を紹介する"},"女性管理職のロールモデル・メンター紹介・交流や多様なキャリアパス事例を紹介する","準備：（取組内容をもとに自社で検討し入力して下さい）","実施：（取組内容をもとに自社で検討し入力して下さい）","結果分析：（取組内容をもとに自社で検討し入力して下さい）"]
[null,35,{"$f":"取組一覧!E38&\"\"","v":"管理職手前の女性社員を対象に、管理職養成等を目的としたキャリア意識を醸成する研修を実施する"},"管理職手前の女性社員を対象に、管理職養成等を目的としたキャリア意識を醸成する研修を実施する","準備：（取組内容をもとに自社で検討し入力して下さい）","実施：（取組内容をもとに自社で検討し入力して下さい）","結果分析：（取組内容をもとに自社で検討し入力して下さい）"]
[null,36,{"$f":"取組一覧!E39&\"\"","v":"意欲と能力のある女性労働者の積極的発掘と、選抜した人材の集中的育成を実施する"},"意欲と能力のある女性労働者の積極的発掘と、選抜した人材の集中的育成を実施する","準備：（取組内容をもとに自社で検討し入力して下さい）","実施：（取組内容をもとに自社で検討し入力して下さい）","結果分析：（取組内容をもとに自社で検討し入力して下さい）"]
[null,37,{"$f":"取組一覧!E40&\"\"","v":"時間当たりの労働生産性を重視した人事評価により、育児休業・短時間勤務等の利用者に公平な評価を実施する"},"時間当たりの労働生産性を重視した人事評価により、育児休業・短時間勤務等の利用者に公平な評価を実施する","準備：（取組内容をもとに自社で検討し入力して下さい）","実施：（取組内容をもとに自社で検討し入力して下さい）","結果分析：（取組内容をもとに自社で検討し入力して下さい）"]
[null,38,{"$f":"取組一覧!E41&\"\"","v":"定期的な社員への意識調査（職場風土、ハラスメント等に関するもの）を行い、職場風土の改善をはかる"},"定期的な社員への意識調査（職場風土、ハラスメント等に関するもの）を行い、職場風土の改善をはかる","準備：（取組内容をもとに自社で検討し入力して下さい）","実施：（取組内容をもとに自社で検討し入力して下さい）","結果分析：（取組内容をもとに自社で検討し入力して下さい）"]
[null,39,{"$f":"取組一覧!E42&\"\"","v":"すべての社員を対象としたマタハラ・セクハラ防止のための取組を実施する（派遣労働者を含む）"},"すべての社員を対象としたマタハラ・セクハラ防止のための取組を実施する（派遣労働者を含む）","準備：（取組内容をもとに自社で検討し入力して下さい）","実施：（取組内容をもとに自社で検討し入力して下さい）","結果分析：（取組内容をもとに自社で検討し入力して下さい）"]
[null,40,{"$f":"取組一覧!E43&\"\"","v":"管理職の人事評価において長時間労働是正・生産性向上に関する評価を行う"},"管理職の人事評価において長時間労働是正・生産性向上に関する評価を行う","準備：（取組内容をもとに自社で検討し入力して下さい）","実施：（取組内容をもとに自社で検討し入力して下さい）","結果分析：（取組内容をもとに自社で検討し入力して下さい）"]
[null,41,{"$f":"取組一覧!E44&\"\"","v":"様々なハラスメントが起こらないよう、管理職への研修等によりハラスメント防止を周知徹底する"},"様々なハラスメントが起こらないよう、管理職への研修等によりハラスメント防止を周知徹底する","準備：（取組内容をもとに自社で検討し入力して下さい）","実施：（取組内容をもとに自社で検討し入力して下さい）","結果分析：（取組内容をもとに自社で検討し入力して下さい）"]
[null,42,{"$f":"取組一覧!E45&\"\"","v":"男女の固定的性別役割分担意識に基づく慣行の見直し等職場風土を改善する"},"男女の固定的性別役割分担意識に基づく慣行の見直し等職場風土を改善する","準備：（取組内容をもとに自社で検討し入力して下さい）","実施：（取組内容をもとに自社で検討し入力して下さい）","結果分析：（取組内容をもとに自社で検討し入力して下さい）"]
[null,43,{"$f":"取組一覧!E46&\"\"","v":"身体的な負担の大きな業務や衛生面で不安のある職場環境の改善をはかる"},"身体的な負担の大きな業務や衛生面で不安のある職場環境の改善をはかる","準備：（取組内容をもとに自社で検討し入力して下さい）","実施：（取組内容をもとに自社で検討し入力して下さい）","結果分析：（取組内容をもとに自社で検討し入力して下さい）"]
[null,44,{"$f":"取組一覧!E47&\"\"","v":"女子トイレや更衣室等の整備・改修をはかる"},"女子トイレや更衣室等の整備・改修をはかる","準備：（取組内容をもとに自社で検討し入力して下さい）","実施：（取組内容をもとに自社で検討し入力して下さい）","結果分析：（取組内容をもとに自社で検討し入力して下さい）"]
[null,45,{"$f":"取組一覧!E48&\"\"","v":"仕事の効率や成果に応じた公正な評価・処遇体系を整備し、評価制度・賃金制度を改定する"},"仕事の効率や成果に応じた公正な評価・処遇体系を整備し、評価制度・賃金制度を改定する","準備：（取組内容をもとに自社で検討し入力して下さい）","実施：（取組内容をもとに自社で検討し入力して下さい）","結果分析：（取組内容をもとに自社で検討し入力して下さい）"]
[null,46,{"$f":"取組一覧!E49&\"\"","v":"女性がより高度な知識・スキル等を身につけるための研修を実施する"},"女性がより高度な知識・スキル等を身につけるための研修を実施する","準備：（取組内容をもとに自社で検討し入力して下さい）","実施：（取組内容をもとに自社で検討し入力して下さい）","結果分析：（取組内容をもとに自社で検討し入力して下さい）"]
[null,47,{"$f":"取組一覧!E50&\"\"","v":"管理職の長時間労働是正に向けたマネジメント力の強化のための研修を行う"},"管理職の長時間労働是正に向けたマネジメント力の強化のための研修を行う","準備：（取組内容をもとに自社で検討し入力して下さい）","実施：（取組内容をもとに自社で検討し入力して下さい）","結果分析：（取組内容をもとに自社で検討し入力して下さい）"]
[null,48,{"$f":"取組一覧!E51&\"\"","v":"女性役員のロールモデル・メンターの紹介・交流や多様なキャリアパス事例の紹介"},"女性が主だった部署・職種への男性の積極配置や女性の役割を見直す","準備：（取組内容をもとに自社で検討し入力して下さい）","実施：（取組内容をもとに自社で検討し入力して下さい）","結果分析：（取組内容をもとに自社で検討し入力して下さい）"]
[null,49,{"$f":"取組一覧!E52&\"\"","v":"非正社員を対象とした能力開発・キャリアアップ研修の実施"},"コース別雇用管理を見直す（採用時の雇用管理区分にとらわれない活躍を促すため）","準備：（取組内容をもとに自社で検討し入力して下さい）","実施：（取組内容をもとに自社で検討し入力して下さい）","結果分析：（取組内容をもとに自社で検討し入力して下さい）"]
[null,50,{"$f":"取組一覧!E53&\"\"","v":"重要だが家庭と両立しにくい職務経験（海外勤務等）を出産・子育て期以前に積極的に付与する"},"重要だが家庭と両立しにくい職務経験（海外勤務等）を出産・子育て期以前に積極的に付与する","準備：（取組内容をもとに自社で検討し入力して下さい）","実施：（取組内容をもとに自社で検討し入力して下さい）","結果分析：（取組内容をもとに自社で検討し入力して下さい）"]
[null,51,{"$f":"取組一覧!E54&\"\"","v":"職階等に応じた女性同士の交流機会の提供、ネットワークづくりの支援を行う"},"職階等に応じた女性同士の交流機会の提供、ネットワークづくりの支援を行う","準備：（取組内容をもとに自社で検討し入力して下さい）","実施：（取組内容をもとに自社で検討し入力して下さい）","結果分析：（取組内容をもとに自社で検討し入力して下さい）"]
[null,52,{"$f":"取組一覧!E55&\"\"","v":"育休復職者とその上司を対象とした制度利用者の能力開発やキャリア形成支援研修を行う"},"育休復職者とその上司を対象とした制度利用者の能力開発やキャリア形成支援研修を行う","準備：（取組内容をもとに自社で検討し入力して下さい）","実施：（取組内容をもとに自社で検討し入力して下さい）","結果分析：（取組内容をもとに自社で検討し入力して下さい）"]
[null,53,{"$f":"取組一覧!E56&\"\"","v":"柔軟な働き方を選択した社員に対応したキャリアプランやキャリア形成の方針を明確にする"},"柔軟な働き方を選択した社員に対応したキャリアプランやキャリア形成の方針を明確にする","準備：（取組内容をもとに自社で検討し入力して下さい）","実施：（取組内容をもとに自社で検討し入力して下さい）","結果分析：（取組内容をもとに自社で検討し入力して下さい）"]
[null,54,{"$f":"取組一覧!E57&\"\"","v":"一般職の職務範囲の拡大や処遇改善を行う"},"一般職の職務範囲の拡大や処遇改善を行う","準備：（取組内容をもとに自社で検討し入力して下さい）","実施：（取組内容をもとに自社で検討し入力して下さい）","結果分析：（取組内容をもとに自社で検討し入力して下さい）"]
[null,55,{"$f":"取組一覧!E58&\"\"","v":"正社員とパート・アルバイトや契約社員との仕事内容や役割区分を明確にして周知する"},"正社員とパート・アルバイトや契約社員との仕事内容や役割区分を明確にして周知する","準備：（取組内容をもとに自社で検討し入力して下さい）","実施：（取組内容をもとに自社で検討し入力して下さい）","結果分析：（取組内容をもとに自社で検討し入力して下さい）"]
[null,56,{"$f":"取組一覧!E59&\"\"","v":"定期的に仕事ややりがい等に関する意識調査を行い、調査結果に基づく改善策を検討する"},"定期的に仕事ややりがい等に関する意識調査を行い、調査結果に基づく改善策を検討する","準備：（取組内容をもとに自社で検討し入力して下さい）","実施：（取組内容をもとに自社で検討し入力して下さい）","結果分析：（取組内容をもとに自社で検討し入力して下さい）"]
[null,57,{"$f":"取組一覧!E60&\"\"","v":"一般職や非正社員に対する個人面談等による職種又は雇用形態の転換試験・昇格試験等の受験を勧奨する／研修等を通じた意識改革・能力支援を行う"},"一般職や非正社員に対する個人面談等による職種又は雇用形態の転換試験・昇格試験等の受験を勧奨する／研修等を通じた意識改革・能力支援を行う","準備：（取組内容をもとに自社で検討し入力して下さい）","実施：（取組内容をもとに自社で検討し入力して下さい）","結果分析：（取組内容をもとに自社で検討し入力して下さい）"]
[null,58,{"$f":"取組一覧!E61&\"\"","v":"若手の労働者を対象とした仕事と家庭の両立を前提としたキャリアイメージ形成のための研修・説明会等を実施する"},"若手の労働者を対象とした仕事と家庭の両立を前提としたキャリアイメージ形成のための研修・説明会等を実施する","準備：（取組内容をもとに自社で検討し入力して下さい）","実施：（取組内容をもとに自社で検討し入力して下さい）","結果分析：（取組内容をもとに自社で検討し入力して下さい）"]
[null,59,{"$f":"取組一覧!E62&\"\"","v":"女性労働者の積極的・公正な育成・評価に向けた上司へのヒアリングを行う"},"女性労働者の積極的・公正な育成・評価に向けた上司へのヒアリングを行う","準備：（取組内容をもとに自社で検討し入力して下さい）","実施：（取組内容をもとに自社で検討し入力して下さい）","結果分析：（取組内容をもとに自社で検討し入力して下さい）"]
[null,60,{"$f":"取組一覧!E63&\"\"","v":"育児休業や育児短時間勤務制度における「法定を超える制度」を導入する"},"育児休業や育児短時間勤務制度における「法定を超える制度」を導入する","準備：（取組内容をもとに自社で検討し入力して下さい）","実施：（取組内容をもとに自社で検討し入力して下さい）","結果分析：（取組内容をもとに自社で検討し入力して下さい）"]
[null,61,{"$f":"取組一覧!E64&\"\"","v":"非正社員を含めた産前・産後休業や育児休業取得を推進する取組を実施する"},"非正社員を含めた産前・産後休業や育児休業取得を推進する取組を実施する","準備：（取組内容をもとに自社で検討し入力して下さい）","実施：（取組内容をもとに自社で検討し入力して下さい）","結果分析：（取組内容をもとに自社で検討し入力して下さい）"]
[null,62,{"$f":"取組一覧!E65&\"\"","v":"産前・産後休業や育児休業中に情報提供を行う"},"産前・産後休業や育児休業中に情報提供を行う","準備：（取組内容をもとに自社で検討し入力して下さい）","実施：（取組内容をもとに自社で検討し入力して下さい）","結果分析：（取組内容をもとに自社で検討し入力して下さい）"]
[null,63,{"$f":"取組一覧!E66&\"\"","v":"妊娠中、産前・産後休業や育児休業からの復帰後の社員が相談できる窓口を設置する"},"妊娠中、産前・産後休業や育児休業からの復帰後の社員が相談できる窓口を設置する","準備：（取組内容をもとに自社で検討し入力して下さい）","実施：（取組内容をもとに自社で検討し入力して下さい）","結果分析：（取組内容をもとに自社で検討し入力して下さい）"]
[null,64,{"$f":"取組一覧!E67&\"\"","v":"妊娠中、産前・産後休業や育児休業からの復帰後の社員のネットワーク化を行う"},"妊娠中、産前・産後休業や育児休業からの復帰後の社員のネットワーク化を行う","準備：（取組内容をもとに自社で検討し入力して下さい）","実施：（取組内容をもとに自社で検討し入力して下さい）","結果分析：（取組内容をもとに自社で検討し入力して下さい）"]
[null,65,{"$f":"取組一覧!E68&\"\"","v":"転勤にあたり子育てや介護等の理由に配慮する（地域限定で働ける制度を含む）"},"転勤にあたり子育てや介護等の理由に配慮する（地域限定で働ける制度を含む）","準備：（取組内容をもとに自社で検討し入力して下さい）","実施：（取組内容をもとに自社で検討し入力して下さい）","結果分析：（取組内容をもとに自社で検討し入力して下さい）"]
[null,{"$f":"IF($C69=\"\",\"\",ROW()-ROW($B$3))","v":66},{"$f":"取組一覧!E69&\"\"","v":"配偶者の転勤先への異動・同行休職等の制度を導入する"},"配偶者の転勤先への異動・同行休職等の制度を導入する","準備：（取組内容をもとに自社で検討し入力して下さい）","実施：（取組内容をもとに自社で検討し入力して下さい）","結果分析：（取組内容をもとに自社で検討し入力して下さい）"]
[null,67,{"$f":"取組一覧!E70&\"\"","v":"時間制約のある社員を活かす職場マネジメントの好事例を開発して紹介する"},"時間制約のある社員を活かす職場マネジメントの好事例を開発して紹介する","準備：（取組内容をもとに自社で検討し入力して下さい）","実施：（取組内容をもとに自社で検討し入力して下さい）","結果分析：（取組内容をもとに自社で検討し入力して下さい）"]
[null,68,{"$f":"取組一覧!E71&\"\"","v":"自社のワーク・ライフ・バランスの取組について、顧客・関連企業等に理解を呼びかける"},"自社のワーク・ライフ・バランスの取組について、顧客・関連企業等に理解を呼びかける","準備：（取組内容をもとに自社で検討し入力して下さい）","実施：（取組内容をもとに自社で検討し入力して下さい）","結果分析：（取組内容をもとに自社で検討し入力して下さい）"]
[null,69,{"$f":"取組一覧!E72&\"\"","v":"組織のトップから長時間労働是正に関する強いメッセージを発信する"},"組織のトップから長時間労働是正に関する強いメッセージを発信する","準備：（取組内容をもとに自社で検討し入力して下さい）","実施：（取組内容をもとに自社で検討し入力して下さい）","結果分析：（取組内容をもとに自社で検討し入力して下さい）"]
[null,70,{"$f":"取組一覧!E73&\"\"","v":"組織のトップから会議において部署ごとの残業時間数等を公開するとともに、評価を実施する"},"組織のトップから会議において部署ごとの残業時間数等を公開するとともに、評価を実施する","準備：（取組内容をもとに自社で検討し入力して下さい）","実施：（取組内容をもとに自社で検討し入力して下さい）","結果分析：（取組内容をもとに自社で検討し入力して下さい）"]
[null,71,{"$f":"取組一覧!E74&\"\"","v":"サービス残業化させないための無記名アンケートや無作為ヒアリング等の徹底したチェックを行う"},"サービス残業化させないための無記名アンケートや無作為ヒアリング等の徹底したチェックを行う","準備：（取組内容をもとに自社で検討し入力して下さい）","実施：（取組内容をもとに自社で検討し入力して下さい）","結果分析：（取組内容をもとに自社で検討し入力して下さい）"]
[null,72,{"$f":"取組一覧!E75&\"\"","v":"管理職の長時間労働是正に向けたマネジメントに対する 360 度評価を行う（部下からの評価）"},"管理職の長時間労働是正に向けたマネジメントに対する 360 度評価を行う（部下からの評価）","準備：（取組内容をもとに自社で検討し入力して下さい）","実施：（取組内容をもとに自社で検討し入力して下さい）","結果分析：（取組内容をもとに自社で検討し入力して下さい）"]
[null,73,{"$f":"取組一覧!E76&\"\"","v":"部署横断的な人員配置の見直しを行いうる職位の高い責任者の指名と不断の人員配置の見直しを行う"},"部署横断的な人員配置の見直しを行いうる職位の高い責任者の指名と不断の人員配置の見直しを行う","準備：（取組内容をもとに自社で検討し入力して下さい）","実施：（取組内容をもとに自社で検討し入力して下さい）","結果分析：（取組内容をもとに自社で検討し入力して下さい）"]
[null,74,{"$f":"取組一覧!E77&\"\"","v":"個人単位で業務の繁閑がある場合でも、チーム全体で勤務時間内に業務を終了させるため、労働者間の助け合いの好事例発表・評価等による互いに助け合う職場風土を醸成する"},"個人単位で業務の繁閑がある場合でも、チーム全体で勤務時間内に業務を終了させるため、労働者間の助け合いの好事例発表・評価等による互いに助け合う職場風土を醸成する","準備：（取組内容をもとに自社で検討し入力して下さい）","実施：（取組内容をもとに自社で検討し入力して下さい）","結果分析：（取組内容をもとに自社で検討し入力して下さい）"]
[null,75,{"$f":"取組一覧!E78&\"\"","v":"管理職の長時間労働是正に向けたマネジメント力の強化のための研修を行う"},"管理職の長時間労働是正に向けたマネジメント力の強化のための研修を行う","準備：（取組内容をもとに自社で検討し入力して下さい）","実施：（取組内容をもとに自社で検討し入力して下さい）","結果分析：（取組内容をもとに自社で検討し入力して下さい）"]
[null,76,{"$f":"取組一覧!E79&\"\"","v":"転居を伴う転勤に対する本人同意を徹底する／育児・介護等の理由がある一定期間内において、転居を伴う転勤を中止する"},"転居を伴う転勤に対する本人同意を徹底する／育児・介護等の理由がある一定期間内において、転居を伴う転勤を中止する","準備：（取組内容をもとに自社で検討し入力して下さい）","実施：（取組内容をもとに自社で検討し入力して下さい）","結果分析：（取組内容をもとに自社で検討し入力して下さい）"]
[null,77,{"$f":"取組一覧!E80&\"\"","v":"管理職登用において、女性割合を増やす方針や目標を設定する"},"管理職登用において、女性割合を増やす方針や目標を設定する","準備：（取組内容をもとに自社で検討し入力して下さい）","実施：（取組内容をもとに自社で検討し入力して下さい）","結果分析：（取組内容をもとに自社で検討し入力して下さい）"]
[null,78,{"$f":"取組一覧!E81&\"\"","v":"短時間勤務利用者の業務遂行における目標設定や評価方針を明確にして職場へ周知する"},"短時間勤務利用者の業務遂行における目標設定や評価方針を明確にして職場へ周知する","準備：（取組内容をもとに自社で検討し入力して下さい）","実施：（取組内容をもとに自社で検討し入力して下さい）","結果分析：（取組内容をもとに自社で検討し入力して下さい）"]
[null,79,{"$f":"取組一覧!E82&\"\"","v":"管理職登用において、女性の登用基準を優遇する方針を設定する（男女間格差是正に向けて）"},"管理職登用において、女性の登用基準を優遇する方針を設定する（男女間格差是正に向けて）","準備：（取組内容をもとに自社で検討し入力して下さい）","実施：（取組内容をもとに自社で検討し入力して下さい）","結果分析：（取組内容をもとに自社で検討し入力して下さい）"]
[null,80,{"$f":"取組一覧!E83&\"\"","v":"一般職や地域限定社員等の昇進上限を見直す"},"一般職や地域限定社員等の昇進上限を見直す","準備：（取組内容をもとに自社で検討し入力して下さい）","実施：（取組内容をもとに自社で検討し入力して下さい）","結果分析：（取組内容をもとに自社で検討し入力して下さい）"]
[null,81,{"$f":"取組一覧!E84&\"\"","v":"女性管理職を対象とした役員養成のための研修を実施する"},"女性管理職を対象とした役員養成のための研修を実施する","準備：（取組内容をもとに自社で検討し入力して下さい）","実施：（取組内容をもとに自社で検討し入力して下さい）","結果分析：（取組内容をもとに自社で検討し入力して下さい）"]
[null,82,{"$f":"取組一覧!E85&\"\"","v":"女性役員のロールモデル・メンター紹介・交流や多様なキャリアパス事例を紹介する"},"女性役員のロールモデル・メンター紹介・交流や多様なキャリアパス事例を紹介する","準備：（取組内容をもとに自社で検討し入力して下さい）","実施：（取組内容をもとに自社で検討し入力して下さい）","結果分析：（取組内容をもとに自社で検討し入力して下さい）"]
[null,83,{"$f":"取組一覧!E86&\"\"","v":"新人管理職に対し役員等によるメンタリングを実施する"},"新人管理職に対し役員等によるメンタリングを実施する","準備：（取組内容をもとに自社で検討し入力して下さい）","実施：（取組内容をもとに自社で検討し入力して下さい）","結果分析：（取組内容をもとに自社で検討し入力して下さい）"]
[null,84,{"$f":"取組一覧!E87&\"\"","v":"組織のトップ等による女性労働者の部門ごとの登用状況をモニタリングする／個別育成計画を策定する"},"組織のトップ等による女性労働者の部門ごとの登用状況をモニタリングする／個別育成計画を策定する","準備：（取組内容をもとに自社で検討し入力して下さい）","実施：（取組内容をもとに自社で検討し入力して下さい）","結果分析：（取組内容をもとに自社で検討し入力して下さい）"]
[null,85,{"$f":"取組一覧!E88&\"\"","v":"非正社員と正社員の人事評価基準を共通化する"},"非正社員と正社員の人事評価基準を共通化する","準備：（取組内容をもとに自社で検討し入力して下さい）","実施：（取組内容をもとに自社で検討し入力して下さい）","結果分析：（取組内容をもとに自社で検討し入力して下さい）"]
[null,86,{"$f":"取組一覧!E89&\"\"","v":"自社におけるワーク・ライフ・バランスやダイバーシティマネジメントの推進方針について、経営トップからアピールする"},"自社におけるワーク・ライフ・バランスやダイバーシティマネジメントの推進方針について、経営トップからアピールする","準備：（取組内容をもとに自社で検討し入力して下さい）","実施：（取組内容をもとに自社で検討し入力して下さい）","結果分析：（取組内容をもとに自社で検討し入力して下さい）"]
[null,87,{"$f":"取組一覧!E90&\"\"","v":"人事評価への「時間あたり生産性」重視の方針を取り入れる"},"人事評価への「時間あたり生産性」重視の方針を取り入れる","準備：（取組内容をもとに自社で検討し入力して下さい）","実施：（取組内容をもとに自社で検討し入力して下さい）","結果分析：（取組内容をもとに自社で検討し入力して下さい）"]
[null,88,{"$f":"取組一覧!E91&\"\"","v":"管理職の評価へワーク・ライフ・バランスやダイバーシティマネジメント（女性活躍推進）の取組に関する項目を設定する"},"管理職の評価へワーク・ライフ・バランスやダイバーシティマネジメント（女性活躍推進）の取組に関する項目を設定する","準備：（取組内容をもとに自社で検討し入力して下さい）","実施：（取組内容をもとに自社で検討し入力して下さい）","結果分析：（取組内容をもとに自社で検討し入力して下さい）"]
[null,89,{"$f":"取組一覧!E92&\"\"","v":"フレックスタイムや在宅勤務制度等の柔軟な働き方の選択肢を増やす取組を実施する"},"フレックスタイムや在宅勤務制度等の柔軟な働き方の選択肢を増やす取組を実施する","準備：（取組内容をもとに自社で検討し入力して下さい）","実施：（取組内容をもとに自社で検討し入力して下さい）","結果分析：（取組内容をもとに自社で検討し入力して下さい）"]
[null,90,{"$f":"取組一覧!E93&\"\"","v":"短時間勤務制度を柔軟に運用する"},"短時間勤務制度を柔軟に運用する","準備：（取組内容をもとに自社で検討し入力して下さい）","実施：（取組内容をもとに自社で検討し入力して下さい）","結果分析：（取組内容をもとに自社で検討し入力して下さい）"]
[null,91,{"$f":"取組一覧!E94&\"\"","v":"働き方に関するマネジメント研修を管理職に実施する"},"働き方に関するマネジメント研修を管理職に実施する","準備：（取組内容をもとに自社で検討し入力して下さい）","実施：（取組内容をもとに自社で検討し入力して下さい）","結果分析：（取組内容をもとに自社で検討し入力して下さい）"]
[null,92,{"$f":"取組一覧!E95&\"\"","v":"時間制約等を抱える多様な人材を活かすことの意義に関する役員・管理職研修を行う"},"時間制約等を抱える多様な人材を活かすことの意義に関する役員・管理職研修を行う","準備：（取組内容をもとに自社で検討し入力して下さい）","実施：（取組内容をもとに自社で検討し入力して下さい）","結果分析：（取組内容をもとに自社で検討し入力して下さい）"]
[null,93,{"$f":"取組一覧!E96&\"\"","v":"女性の採用割合を増やす方針や目標を設定する"},"女性の採用割合を増やす方針や目標を設定する","準備：（取組内容をもとに自社で検討し入力して下さい）","実施：（取組内容をもとに自社で検討し入力して下さい）","結果分析：（取組内容をもとに自社で検討し入力して下さい）"]
[null,94,{"$f":"取組一覧!E97&\"\"","v":"女性の採用基準を優遇する採用方針・基準を設定する"},"女性の採用基準を優遇する採用方針・基準を設定する","準備：（取組内容をもとに自社で検討し入力して下さい）","実施：（取組内容をもとに自社で検討し入力して下さい）","結果分析：（取組内容をもとに自社で検討し入力して下さい）"]
[null,95,{"$f":"取組一覧!E98&\"\"","v":"面施官への女性の参画により採用選考における（無意識の）性別のバイアスを排除する"},"面施官への女性の参画により採用選考における（無意識の）性別のバイアスを排除する","準備：（取組内容をもとに自社で検討し入力して下さい）","実施：（取組内容をもとに自社で検討し入力して下さい）","結果分析：（取組内容をもとに自社で検討し入力して下さい）"]
[null,"",{"$f":"取組一覧!E99&\"\"","v":""},""]
[null,"",{"$f":"取組一覧!E100&\"\"","v":""},"",{"$f":"IF($D100=\"\",\"\",\"「\"&$D100&\"」準備\")","v":""},{"$f":"IF($D100=\"\",\"\",\"「\"&$D100&\"」実施\")","v":""},{"$f":"IF($D100=\"\",\"\",\"「\"&$D100&\"」結果分析\")","v":""}]
[null,"",{"$f":"取組一覧!E101&\"\"","v":""},"","","",""]
[null,"",{"$f":"取組一覧!E102&\"\"","v":""},"","","",""]
[null,"",{"$f":"取組一覧!E103&\"\"","v":""},"","","",""]
[null,{"$f":"IF($C104=\"\",\"\",ROW()-ROW($B$3))","v":""},{"$f":"'取組追加＞'!H5","v":""},{"$f":"C104","v":""},"準備：（取組内容をもとに自社で検討し入力して下さい）","実施：（取組内容をもとに自社で検討し入力して下さい）","結果分析：（取組内容をもとに自社で検討し入力して下さい）"," "," "]
[null,"",{"$f":"'取組追加＞'!H6","v":""},{"$f":"C105","v":""},"準備：（取組内容をもとに自社で検討し入力して下さい）","実施：（取組内容をもとに自社で検討し入力して下さい）","結果分析：（取組内容をもとに自社で検討し入力して下さい）"," "," "]
[null,"",{"$f":"'取組追加＞'!H7","v":""},{"$f":"C106","v":""},"準備：（取組内容をもとに自社で検討し入力して下さい）","実施：（取組内容をもとに自社で検討し入力して下さい）","結果分析：（取組内容をもとに自社で検討し入力して下さい）"," "," "]
[null,"",{"$f":"'取組追加＞'!H8","v":""},{"$f":"C107","v":""},"準備：（取組内容をもとに自社で検討し入力して下さい）","実施：（取組内容をもとに自社で検討し入力して下さい）","結果分析：（取組内容をもとに自社で検討し入力して下さい）"," "," "]
[null,"",{"$f":"'取組追加＞'!H9","v":""},{"$f":"C108","v":""},"準備：（取組内容をもとに自社で検討し入力して下さい）","実施：（取組内容をもとに自社で検討し入力して下さい）","結果分析：（取組内容をもとに自社で検討し入力して下さい）"," "," "]
[null,"<ここまで：追加できません＞"]

{"sheet":"マスタ","index":10,"n_rows":35,"n_cols":19,"rows_kept":35,"cut":false,"hidden":false,"merged":[[2,6,2,7],[2,8,2,9],[2,17,2,18]]}
["管理者用シート　リリース時には非表示になります。"]
[]
[null,"表示区分","有効区分","完了区分","対象区分","課題区分","入力規則",null,"入力規則操作",null,"項目タイプ","ケース名","ケース分類名","元号入力","年入力","月入力","日入力","日本語入力"]
[null,"表示","有効","完了","○","共通","整数",1,"\u0094\u0088範囲",1,"入力","ケース１","採用","令和",null,null,null,"コントロールなし",0]
[null,"非表示","無効",null,null,"選択","リスト",3,"以上",7,"算出","ケース２","採用（再雇用）","西暦",2,1,1,"オン",1]
[null,null,null,null,null,"時間","小数点数",2,"以下",8,null,null,"配置・育成",null,3,2,2,"オフ",2]
[null,null,null,null,null,null,"文字列（長さ指定）",6,null,null,null,null,"就業継続・働き方",null,4,3,3,"無効",3]
[null,null,null,null,null,null,null,null,null,null,null,null,"評価・登用",null,5,4,4,"ひらがな",4]
[null,null,null,null,null,null,null,null,null,null,null,null,"職場風土",null,6,5,5,"全角カタカナ",5]
[null,null,null,null,null,null,null,null,null,null,null,null,"労働時間",null,7,6,6,"半角カタカナ",6]
[null,null,null,null,null,null,null,null,null,null,null,null,"総合",null,8,7,7,"全角英数字",7]
[null,null,null,null,null,null,null,null,null,null,null,null,null,null,null,8,8,"半角英数字",8]
[null,null,null,null,null,null,null,null,null,null,null,null,null,null,null,9,9]
[null,null,null,null,null,null,null,null,null,null,null,null,null,null,null,10,10]
[null,null,null,null,null,null,null,null,null,null,null,null,null,null,null,11,11]
[null,null,null,null,null,null,null,null,null,null,null,null,null,null,null,12,12]
[null,null,null,null,null,null,null,null,null,null,null,null,null,null,null,null,13]
[null,null,null,null,null,null,null,null,null,null,null,null,null,null,null,null,14]
[null,null,null,null,null,null,null,null,null,null,null,null,null,null,null,null,15]
[null,null,null,null,null,null,null,null,null,null,null,null,null,null,null,null,16]
[null,null,null,null,null,null,null,null,null,null,null,null,null,null,null,null,17]
[null,null,null,null,null,null,null,null,null,null,null,null,null,null,null,null,18]
[null,null,null,null,null,null,null,null,null,null,null,null,null,null,null,null,19]
[null,null,null,null,null,null,null,null,null,null,null,null,null,null,null,null,20]
[null,null,null,null,null,null,null,null,null,null,null,null,null,null,null,null,21]
[null,null,null,null,null,null,null,null,null,null,null,null,null,null,null,null,22]
[null,null,null,null,null,null,null,null,null,null,null,null,null,null,null,null,23]
[null,null,null,null,null,null,null,null,null,null,null,null,null,null,null,null,24]
[null,null,null,null,null,null,null,null,null,null,null,null,null,null,null,null,25]
[null,null,null,null,null,null,null,null,null,null,null,null,null,null,null,null,26]
[null,null,null,null,null,null,null,null,null,null,null,null,null,null,null,null,27]
[null,null,null,null,null,null,null,null,null,null,null,null,null,null,null,null,28]
[null,null,null,null,null,null,null,null,null,null,null,null,null,null,null,null,29]
[null,null,null,null,null,null,null,null,null,null,null,null,null,null,null,null,30]
[null,null,null,null,null,null,null,null,null,null,null,null,null,null,null,null,31]

{"sheet":"メッセージ","index":11,"n_rows":402,"n_cols":6,"rows_kept":402,"cut":false,"hidden":false,"merged":[]}
["管理者用シート　リリース時には非表示になります。"]
[]
[null,"種類","番号","メッセージ","定義"]
[null,"エラー",1001,"ExcelのバージョンはWindows版 2010以上が対象です。","MSGNO_E_VERSION",{"$f":"\"Public Const  \"&E4&\" As Long = \" & C4","v":"Public Const  MSGNO_E_VERSION As Long = 1001"}]
[null,"エラー",1002,"シート切替の設定内容が正しくありません。","MSGNO_E_SHEETS_CONFIG","Public Const  MSGNO_E_SHEETS_CONFIG As Long = 1002"]
[null,"確認",1003,"一時保存しますか？","MSGNO_Q_SAVE","Public Const  MSGNO_Q_SAVE As Long = 1003"]
[null,"情報",1004,"一時保存しました。","MSGNO_I_SAVED","Public Const  MSGNO_I_SAVED As Long = 1004"]
[null,"確認",1005,"終了します。よろしいですか？\\n（保存していない変更は破棄されます）","MSGNO_Q_QUIT","Public Const  MSGNO_Q_QUIT As Long = 1005"]
[null,"エラー",1006,"全ての入力を完了してください。","MSGNO_E_INPUT_NOT_FULL",{"$f":"\"Public Const  \"&E9&\" As Long = \" & C9","v":"Public Const  MSGNO_E_INPUT_NOT_FULL As Long = 1006"}]
[null,"エラー",5001,"%1から%2の間の整数を入力して下さい","MSGNO_E_NUMBER_BETWEEN",{"$f":"\"Public Const  \"&E10&\" As Long = \" & C10","v":"Public Const  MSGNO_E_NUMBER_BETWEEN As Long = 5001"}]
[null,"エラー",5002,"%1以上の整数を入力して下さい","MSGNO_E_NUMBER_LE","Public Const  MSGNO_E_NUMBER_LE As Long = 5002"]
[null,"エラー",5003,"%1以下の整数を入力して下さい","MSGNO_E_NUMBER_SE","Public Const  MSGNO_E_NUMBER_SE As Long = 5003"]
[null,"エラー",5004,"選択肢から選択して下さい","MSGNO_E_CHOICE","Public Const  MSGNO_E_CHOICE As Long = 5004"]
[null,"エラー",5005,"%1文字以上で入力して下さい","MSGNO_E_LETTER_LE","Public Const  MSGNO_E_LETTER_LE As Long = 5005"]
[null,"エラー",5006,"%1文字以下で入力して下さい","MSGNO_E_LETTER_SE","Public Const  MSGNO_E_LETTER_SE As Long = 5006"]
[null,"情報",1007,"出力が完了しました。","MSGNO_I_OUTPUT_DONE","Public Const  MSGNO_I_OUTPUT_DONE As Long = 1007"]
[null,"エラー",1008,"いずれかを選択して下さい。","MSGNO_E_SELECT","Public Const  MSGNO_E_SELECT As Long = 1008"]
[null,"確認",1009,"入力または選択した内容を変更したい場合、この画面以降で入力済みの内容はクリアされます。よろしいですか？","MSGNO_Q_CLEAR","Public Const  MSGNO_Q_CLEAR As Long = 1009"]
[null,"エラー",1010,"このプログラムでは全部で%1個まで選択可能としてますので、選びなおして下さい。","MSGNO_E_TOO_SELECTED","Public Const  MSGNO_E_TOO_SELECTED As Long = 1010"]
[null,"エラー",5007,"%1から%2の間の数値を入力して下さい","MSGNO_E_DECIMAL_BETWEEN","Public Const  MSGNO_E_DECIMAL_BETWEEN As Long = 5007"]
[null,"エラー",5008,"%1以上の数値を入力して下さい","MSGNO_E_DECIMAL_LE","Public Const  MSGNO_E_DECIMAL_LE As Long = 5008"]
[null,"エラー",1011,"追加した取組に対する目標を選択して下さい。","MSGNO_E_SELECT_MOKUHYO","Public Const  MSGNO_E_SELECT_MOKUHYO As Long = 1011"]
[null,"エラー",1012,"有効な日付を指定して下さい。","MSGNO_E_NOT_DATE","Public Const  MSGNO_E_NOT_DATE As Long = 1012"]
[null,"エラー",1013,"終了日は開始日より後の日付を指定して下さい。","MSGNO_E_END_START_DATE","Public Const  MSGNO_E_END_START_DATE As Long = 1013"]
[null,"エラー",1014,"全ての行を削除することはできません。","MSGNO_E_NOT_DELETE_ALL_L","Public Const  MSGNO_E_NOT_DELETE_ALL_L As Long = 1014"]
[null,"エラー",1015,"保存できませんでした。","MSGNO_E_SAVE","Public Const  MSGNO_E_SAVE As Long = 1015"]
[null,"エラー",1016,"これ以上の行は追加できません。","MSGNO_E_NOT_ADD_L","Public Const  MSGNO_E_NOT_ADD_L As Long = 1016"]
[null,"エラー",5009,"%1を入力して下さい","MSGNO_E_MUST","Public Const  MSGNO_E_MUST As Long = 5009"]
[null,"確認",1017,"行を削除します。よろしいですか？","MSGNO_Q_LINE_DELETE","Public Const  MSGNO_Q_LINE_DELETE As Long = 1017"]
[null,"エラー",1018,"%1は%2までしか指定できません。","MSGNO_E_LIMIT_OVER","Public Const  MSGNO_E_LIMIT_OVER As Long = 1018"]
[null,"エラー",1019,"%1は%2より大きい値は指定できません。","MSGNO_E_UNDER_THE_VALUE",{"$f":"\"Public Const  \"&E31&\" As Long = \" & C31","v":"Public Const  MSGNO_E_UNDER_THE_VALUE As Long = 1019"}]
[null,"エラー",1020,"%1を指定する場合は、%2も指定して下さい。","MSGNO_E_ONLY_1_VALUE",{"$f":"\"Public Const  \"&E32&\" As Long = \" & C32","v":"Public Const  MSGNO_E_ONLY_1_VALUE As Long = 1020"}]
[null,"確認",1021,"%1を変更した場合、この画面以降で入力済みの内容はクリアされます。よろしいですか？","MSGNO_Q_CHANGED_CLEAR","Public Const  MSGNO_Q_CHANGED_CLEAR As Long = 1021"]
[null,"確認",1022,"この画面以降で入力済みの内容はクリアされます。よろしいですか？","MSGNO_Q_FORCE_CLEAR",{"$f":"\"Public Const  \"&E34&\" As Long = \" & C34","v":"Public Const  MSGNO_Q_FORCE_CLEAR As Long = 1022"}]
[null,"確認",1023,"未入力の項目があります。\\n未入力の項目は判定が〇になりますが進んでもよいですか？","MSGNO_Q_NODATA","Public Const  MSGNO_Q_NODATA As Long = 1023"]
[null,"情報",1024,"作成お疲れ様でした！あなたの会社の行動計画が完成しました。","MSGNO_I_ACTIONPLAN_DONE","Public Const  MSGNO_I_ACTIONPLAN_DONE As Long = 1024"]
[null,"確認",1025,"終了前に一時保存しますか？","MSGNO_Q_SAVE_BEFORECLOSE",{"$f":"\"Public Const  \"&E37&\" As Long = \" & C37","v":"Public Const  MSGNO_Q_SAVE_BEFORECLOSE As Long = 1025"}]
[]
[]
[]
[]
[]
[]
[]
[]
[]
[]
[]
[]
[]
[]
[]
[]
[]
[]
[]
[]
[]
[]
[]
[]
[]
[]
[]
[]
[]
[]
[]
[]
[]
[]
[]
[]
[]
[]
[]
[]
[]
[]
[]
[]
[]
[]
[]
[]
[]
[]
[]
[]
[]
[]
[]
[]
[]
[]
[]
[]
[]
[]
[]
[]
[]
[]
[]
[]
[]
[]
[]
[]
[]
[]
[]
[]
[]
[]
[]
[]
[]
[]
[]
[]
[]
[]
[]
[]
[]
[]
[]
[]
[]
[]
[]
[]
[]
[]
[]
[]
[]
[]
[]
[]
[]
[]
[]
[]
[]
[]
[]
[]
[]
[]
[]
[]
[]
[]
[]
[]
[]
[]
[]
[]
[]
[]
[]
[]
[]
[]
[]
[]
[]
[]
[]
[]
[]
[]
[]
[]
[]
[]
[]
[]
[]
[]
[]
[]
[]
[]
[]
[]
[]
[]
[]
[]
[]
[]
[]
[]
[]
[]
[]
[]
[]
[]
[]
[]
[]
[]
[]
[]
[]
[]
[]
[]
[]
[]
[]
[]
[]
[]
[]
[]
[]
[]
[]
[]
[]
[]
[]
[]
[]
[]
[]
[]
[]
[]
[]
[]
[]
[]
[]
[]
[]
[]
[]
[]
[]
[]
[]
[]
[]
[]
[]
[]
[]
[]
[]
[]
[]
[]
[]
[]
[]
[]
[]
[]
[]
[]
[]
[]
[]
[]
[]
[]
[]
[]
[]
[]
[]
[]
[]
[]
[]
[]
[]
[]
[]
[]
[]
[]
[]
[]
[]
[]
[]
[]
[]
[]
[]
[]
[]
[]
[]
[]
[]
[]
[]
[]
[]
[]
[]
[]
[]
[]
[]
[]
[]
[]
[]
[]
[]
[]
[]
[]
[]
[]
[]
[]
[]
[]
[]
[]
[]
[]
[]
[]
[]
[]
[]
[]
[]
[]
[]
[]
[]
[]
[]
[]
[]
[]
[]
[]
[]
[]
[]
[]
[]
[]
[]
[]
[]
[]
[]
[]
[]
[]
[]
[]
[]
[]
[]
[]
[]
[]
[]
[]
[]
[]
[]
[]
[]
[]
[]
[]
[]
[]
[]
[]
[]
[]
[]
[]
[]
[]
[]
[]
[]
[]
[]
[]
[]
[]
[null,"<ここまで：追加できません＞"]

{"sheet":"入力規則","index":12,"n_rows":103,"n_cols":18,"rows_kept":103,"cut":false,"hidden":false,"merged":[[2,3,2,4],[2,5,2,6],[2,15,2,17],[2,10,2,11]]}
["管理者用シート　リリース時には非表示になります。",null,null,null,null,"※このシートは変更不可",null,null,null,null,"※このシートは変更不可"]
[]
[null,"シート名","項目名","入力規則",null,"操作",null,"パラメータ１","パラメータ２","タイトル","日本語入力",null,"ガイド","エラーメッセージ",null,"メッセージスタイル"]
[null,"準備して頂くデータ","企業名","文字列（長さ指定）",{"$f":"IF(ISNA(VLOOKUP(D4,入力規則区分一覧,2,0)),\"\",VLOOKUP(D4,入力規則区分一覧,2,0))","v":6},"以下",{"$f":"IF(ISNA(VLOOKUP(F4,入力規則操作区分一覧,2,0)),\"\",VLOOKUP(F4,入力規則操作区分一覧,2,0))","v":8},50,null,"企業名","ひらがな",{"$f":"IF(ISNA(VLOOKUP(K4,日本語入力区分一覧,2,0)),\"\",VLOOKUP(K4,日本語入力区分一覧,2,0))","v":4},null,{"$f":"IF(E4&G4=\"\",\"\",IF(ISNA(VLOOKUP(E4&G4,$P$4:$R$20,2,0)),\"\",VLOOKUP(E4&G4,$P$4:$R$20,2,0)))","v":5006},null,"11",5001,{"$f":"VLOOKUP(Q4,メッセージ!$C$4:$D$401,2,0)","v":"%1から%2の間の整数を入力して下さい"}]
[null,"準備して頂くデータ","企業名フリガナ","文字列（長さ指定）",6,"以下",8,50,null,"企業名（フリガナ）","全角カタカナ",5,null,5006,null,"17",5002,{"$f":"VLOOKUP(Q5,メッセージ!$C$4:$D$401,2,0)","v":"%1以上の整数を入力して下さい"}]
[null,"準備して頂くデータ","主たる業務選択","リスト",{"$f":"IF(ISNA(VLOOKUP(D6,入力規則区分一覧,2,0)),\"\",VLOOKUP(D6,入力規則区分一覧,2,0))","v":3},"\u0094\u0088範囲",{"$f":"IF(ISNA(VLOOKUP(F6,入力規則操作区分一覧,2,0)),\"\",VLOOKUP(F6,入力規則操作区分一覧,2,0))","v":1},"=産業一覧",null,"主たる業務","ひらがな",4,null,5004,null,"18",5003,{"$f":"VLOOKUP(Q6,メッセージ!$C$4:$D$401,2,0)","v":"%1以下の整数を入力して下さい"}]
[null,"準備して頂くデータ","労働者数_正社員_女性","整数",1,"以上",7,0,null,"常時雇用する労働者数（人数）","オフ",2,null,5002,null,"31",5004,{"$f":"VLOOKUP(Q7,メッセージ!$C$4:$D$401,2,0)","v":"選択肢から選択して下さい"}]
[null,"準備して頂くデータ","労働者数_契約社員_女性","整数",1,"以上",7,0,null,"常時雇用する労働者数（人数）","オフ",2,null,5002,null,"61",null,{"$f":"VLOOKUP(Q8,メッセージ!$C$4:$D$401,2,0)","v":{"$error":"#N/A"}}]
[null,"準備して頂くデータ","労働者数_正社員_男性","整数",1,"以上",7,0,null,"常時雇用する労働者数（人数）","オフ",2,null,5002,null,"67",5005,{"$f":"VLOOKUP(Q9,メッセージ!$C$4:$D$401,2,0)","v":"%1文字以上で入力して下さい"}]
[null,"準備して頂くデータ","労働者数_契約社員_男性","整数",1,"以上",7,0,null,"常時雇用する労働者数（人数）","オフ",2,null,5002,null,"68",5006,{"$f":"VLOOKUP(Q10,メッセージ!$C$4:$D$401,2,0)","v":"%1文字以下で入力して下さい"}]
[null,"準備して頂くデータ","雇用管理区分","文字列（長さ指定）",6,"以下",8,20,null,"雇用管理区分","ひらがな",4,null,5006,null,"21",5007,{"$f":"VLOOKUP(Q11,メッセージ!$C$4:$D$401,2,0)","v":"%1から%2の間の数値を入力して下さい"}]
[null,"準備して頂くデータ","直近事業年度の女性の採用者数","整数",1,"以上",7,0,null,"直近事業年度の女性の採用者数","オフ",2,null,5002,null,"27",5008,{"$f":"VLOOKUP(Q12,メッセージ!$C$4:$D$401,2,0)","v":"%1以上の数値を入力して下さい"}]
[null,"準備して頂くデータ","直近事業年度の採用者数","整数",1,"以上",7,0,null,"直近事業年度の採用者数","オフ",2,null,5002]
[null,"準備して頂くデータ","女性の平均継続勤務年数","小数点数",2,"以上",7,0,null,"女性の平均継続勤務年数","オフ",2,null,5008]
[null,"準備して頂くデータ","男性の平均継続勤務年数","小数点数",2,"以上",7,0,null,"男性の平均継続勤務年数","オフ",2,null,5008]
[null,"準備して頂くデータ","残業時間_全体_開始月","整数",1,"\u0094\u0088範囲",1,1,12,"始まり月","オフ",2,null,5001]
[null,"準備して頂くデータ","残業時間_２_開始月","整数",1,"\u0094\u0088範囲",1,1,12,"始まり月","オフ",2,null,5001]
[null,"準備して頂くデータ","残業時間_３_開始月","整数",1,"\u0094\u0088範囲",1,1,12,"始まり月","オフ",2,null,5001]
[null,"準備して頂くデータ","対象労働者の残業時間数合計","整数",1,"以上",7,0,null,"対象労働者の残業時間数合計","オフ",2,null,5002]
[null,"準備して頂くデータ","対象労働者数","整数",{"$f":"IF(ISNA(VLOOKUP(D20,入力規則区分一覧,2,0)),\"\",VLOOKUP(D20,入力規則区分一覧,2,0))","v":1},"以上",{"$f":"IF(ISNA(VLOOKUP(F20,入力規則操作区分一覧,2,0)),\"\",VLOOKUP(F20,入力規則操作区分一覧,2,0))","v":7},0,null,"対象労働者数","オフ",2,null,5002]
[null,"準備して頂くデータ","女性の管理職数","整数",1,"以上",7,0,null,"女性の管理職数","オフ",2,null,5002]
[null,"準備して頂くデータ","管理職数","整数",1,"以上",7,0,null,"管理職数","オフ",2,null,5002]
[null,"目標入力","割合","小数点数",2,"\u0094\u0088範囲",1,0,100,"割合","オフ",2,null,5007]
[null,"目標入力","割合_現状","小数点数",2,"\u0094\u0088範囲",1,0,100,"割合","オフ",2,null,5007]
[null,"目標入力","ポイント","小数点数",2,"\u0094\u0088範囲",1,0,100,"ポイント","オフ",2,null,5007]
[null,"目標入力","ポイント_現状","小数点数",2,"\u0094\u0088範囲",1,0,100,"ポイント","オフ",2,null,5007]
[null,"目標入力","月数","整数",1,"以上",7,0,null,"月数","オフ",2,null,5002]
[null,"目標入力","月数_現状","整数",1,"以上",7,0,null,"月数","オフ",2,null,5002]
[null,"目標入力","時間","整数",1,"以上",7,0,null,"時間","オフ",2,null,5002]
[null,"目標入力","時間_現状","整数",1,"以上",7,0,null,"時間","オフ",2,null,5002]
[null,"目標入力","人数","整数",{"$f":"IF(ISNA(VLOOKUP(D31,入力規則区分一覧,2,0)),\"\",VLOOKUP(D31,入力規則区分一覧,2,0))","v":1},"以上",{"$f":"IF(ISNA(VLOOKUP(F31,入力規則操作区分一覧,2,0)),\"\",VLOOKUP(F31,入力規則操作区分一覧,2,0))","v":7},0,null,"人数","オフ",2,null,5002]
[null,"目標入力","人数_現状","整数",1,"以上",7,0,null,"人数","オフ",2,null,5002]
[null,"目標入力","件数_現状","整数",1,"以上",7,0,null,"件数","オフ",2,null,{"$f":"IF(E33&G33=\"\",\"\",IF(ISNA(VLOOKUP(E33&G33,$P$4:$R$20,2,0)),\"\",VLOOKUP(E33&G33,$P$4:$R$20,2,0)))","v":5002}]
[null,"目標入力","年","整数",1,"以上",7,0,null,"年","オフ",2,null,5002]
[null,"目標入力","年数","整数",1,"以上",7,0,null,"年数","オフ",2,null,5002]
[null,"目標入力","倍数","小数点数",2,"以上",7,0,null,"倍数","オフ",{"$f":"IF(ISNA(VLOOKUP(K36,日本語入力区分一覧,2,0)),\"\",VLOOKUP(K36,日本語入力区分一覧,2,0))","v":2},null,5008]
[null,"目標入力","倍数_現状","小数点数",2,"以上",7,0,null,"倍数","オフ",2,null,5008]
[null,"目標入力","日数_現状","整数",1,"以上",7,0,null,"日数","オフ",2,null,5002]
[null,"目標入力","部署","文字列（長さ指定）",6,"以下",8,20,null,"部署","ひらがな",4,null,5006]
[null,"目標入力","部署_現状","文字列（長さ指定）",6,"以下",8,20,null,"部署","ひらがな",4,null,5006]
[null,"目標入力","制度","文字列（長さ指定）",6,"以下",8,20,null,"制度","ひらがな",4,null,5006]
[null,"目標入力","職制","文字列（長さ指定）",6,"以下",8,20,null,"雇用管理区分","ひらがな",4,null,{"$f":"IF(E42&G42=\"\",\"\",IF(ISNA(VLOOKUP(E42&G42,$P$4:$R$20,2,0)),\"\",VLOOKUP(E42&G42,$P$4:$R$20,2,0)))","v":5006}]
[null,"目標入力","役職","文字列（長さ指定）",6,"以下",8,20,null,"役職","ひらがな",4,null,5006]
[null,"取組期間設定","開始元号","リスト",3,"\u0094\u0088範囲",1,"=マスタ!$N$4:$N$5",null,"元号","ひらがな",4,null,5004]
[null,"取組期間設定","開始年","リスト",3,"\u0094\u0088範囲",1,"=マスタ!$O$4:$O$25",null,"年","オフ",2,null,5004]
[null,"取組期間設定","開始月","リスト",3,"\u0094\u0088範囲",1,"=マスタ!$P$4:$P$16",null,"月","オフ",2,null,5004]
[null,"取組期間設定","開始日","リスト",3,"\u0094\u0088範囲",1,"=マスタ!$Q$4:$Q$35",null,"日","オフ",2,null,5004]
[null,"取組期間設定","修了元号","リスト",3,"\u0094\u0088範囲",1,"=マスタ!$N$4:$N$5",null,"元号","ひらがな",4,null,5004]
[null,"取組期間設定","終了年","リスト",{"$f":"IF(ISNA(VLOOKUP(D49,入力規則区分一覧,2,0)),\"\",VLOOKUP(D49,入力規則区分一覧,2,0))","v":3},"\u0094\u0088範囲",{"$f":"IF(ISNA(VLOOKUP(F49,入力規則操作区分一覧,2,0)),\"\",VLOOKUP(F49,入力規則操作区分一覧,2,0))","v":1},"=マスタ!$O$4:$O$25",null,"年","オフ",2,null,{"$f":"IF(E49&G49=\"\",\"\",IF(ISNA(VLOOKUP(E49&G49,$P$4:$R$20,2,0)),\"\",VLOOKUP(E49&G49,$P$4:$R$20,2,0)))","v":5004}]
[null,"取組期間設定","終了月","リスト",3,"\u0094\u0088範囲",1,"=マスタ!$P$4:$P$16",null,"月","オフ",2,null,5004]
[null,"取組期間設定","終了日","リスト",3,"\u0094\u0088範囲",1,"=マスタ!$Q$4:$Q$35",null,"日","オフ",2,null,5004]
[null,"取組期間分割","実施元号","リスト",{"$f":"IF(ISNA(VLOOKUP(D52,入力規則区分一覧,2,0)),\"\",VLOOKUP(D52,入力規則区分一覧,2,0))","v":3},"\u0094\u0088範囲",{"$f":"IF(ISNA(VLOOKUP(F52,入力規則操作区分一覧,2,0)),\"\",VLOOKUP(F52,入力規則操作区分一覧,2,0))","v":1},"=マスタ!$N$4:$N$5",null,"元号","ひらがな",4,null,5004]
[null,"取組期間分割","実施年","リスト",3,"\u0094\u0088範囲",1,"=マスタ!$O$4:$O$25",null,"年","オフ",2,null,5004]
[null,"取組期間分割","実施月","リスト",3,"\u0094\u0088範囲",1,"=マスタ!$P$4:$P$16",null,"月","オフ",2,null,5004]
[null,"目標追加","目標追加","文字列（長さ指定）",6,"以下",8,60,null,"目標","ひらがな",4,null,5006]
[null,"取組追加","取組追加","文字列（長さ指定）",6,"以下",8,70,null,"取組","ひらがな",4,null,5006]
[null,"取組期間分割","実施内容","文字列（長さ指定）",6,"以下",8,80,null,"実施内容","ひらがな",4,null,5006]
[null,null,null,null,"",null,"",null,null,null,null,"",null,""]
[null,null,null,null,"",null,"",null,null,null,null,"",null,""]
[null,null,null,null,"",null,"",null,null,null,null,"",null,""]
[null,null,null,null,"",null,"",null,null,null,null,"",null,""]
[null,null,null,null,"",null,"",null,null,null,null,"",null,""]
[null,null,null,null,"",null,"",null,null,null,null,"",null,""]
[null,null,null,null,"",null,"",null,null,null,null,"",null,""]
[null,null,null,null,"",null,"",null,null,null,null,"",null,""]
[null,null,null,null,"",null,"",null,null,null,null,"",null,""]
[null,null,null,null,"",null,"",null,null,null,null,"",null,""]
[null,null,null,null,"",null,"",null,null,null,null,{"$f":"IF(ISNA(VLOOKUP(K68,日本語入力区分一覧,2,0)),\"\",VLOOKUP(K68,日本語入力区分一覧,2,0))","v":""},null,""]
[null,null,null,null,"",null,"",null,null,null,null,"",null,""]
[null,null,null,null,"",null,"",null,null,null,null,"",null,{"$f":"IF(E70&G70=\"\",\"\",IF(ISNA(VLOOKUP(E70&G70,$P$4:$R$20,2,0)),\"\",VLOOKUP(E70&G70,$P$4:$R$20,2,0)))","v":""}]
[null,null,null,null,"",null,"",null,null,null,null,"",null,""]
[null,null,null,null,{"$f":"IF(ISNA(VLOOKUP(D72,入力規則区分一覧,2,0)),\"\",VLOOKUP(D72,入力規則区分一覧,2,0))","v":""},null,{"$f":"IF(ISNA(VLOOKUP(F72,入力規則操作区分一覧,2,0)),\"\",VLOOKUP(F72,入力規則操作区分一覧,2,0))","v":""},null,null,null,null,"",null,""]
[null,null,null,null,"",null,"",null,null,null,null,"",null,""]
[null,null,null,null,"",null,"",null,null,null,null,"",null,""]
[null,null,null,null,"",null,"",null,null,null,null,"",null,""]
[null,null,null,null,"",null,"",null,null,null,null,"",null,""]
[null,null,null,null,"",null,"",null,null,null,null,"",null,""]
[null,null,null,null,"",null,"",null,null,null,null,"",null,""]
[null,null,null,null,"",null,"",null,null,null,null,"",null,""]
[null,null,null,null,"",null,"",null,null,null,null,"",null,""]
[null,null,null,null,"",null,"",null,null,null,null,"",null,""]
[null,null,null,null,"",null,"",null,null,null,null,"",null,""]
[null,null,null,null,"",null,"",null,null,null,null,"",null,""]
[null,null,null,null,"",null,"",null,null,null,null,"",null,""]
[null,null,null,null,"",null,"",null,null,null,null,"",null,""]
[null,null,null,null,"",null,"",null,null,null,null,"",null,""]
[null,null,null,null,"",null,"",null,null,null,null,"",null,""]
[null,null,null,null,"",null,"",null,null,null,null,"",null,""]
[null,null,null,null,"",null,"",null,null,null,null,"",null,""]
[null,null,null,null,"",null,"",null,null,null,null,"",null,""]
[null,null,null,null,"",null,"",null,null,null,null,"",null,""]
[null,null,null,null,"",null,"",null,null,null,null,"",null,""]
[null,null,null,null,"",null,"",null,null,null,null,"",null,""]
[null,null,null,null,"",null,"",null,null,null,null,"",null,""]
[null,null,null,null,"",null,"",null,null,null,null,"",null,""]
[null,null,null,null,"",null,"",null,null,null,null,"",null,""]
[null,null,null,null,"",null,"",null,null,null,null,"",null,""]
[null,null,null,null,"",null,"",null,null,null,null,"",null,""]
[null,null,null,null,"",null,"",null,null,null,null,"",null,""]
[null,null,null,null,"",null,"",null,null,null,null,{"$f":"IF(ISNA(VLOOKUP(K100,日本語入力区分一覧,2,0)),\"\",VLOOKUP(K100,日本語入力区分一覧,2,0))","v":""},null,""]
[null,null,null,null,"",null,"",null,null,null,null,"",null,""]
[null,null,null,null,"",null,"",null,null,null,null,"",null,""]
[null,"<ここまで：追加できません＞"]

{"sheet":"動作設定１画面遷移","index":13,"n_rows":41,"n_cols":28,"rows_kept":41,"cut":false,"hidden":false,"merged":[]}
["管理者用シート　リリース時には非表示になります。",null,null,"※このシートは変更不可"]
[]
[null,"シート遷移設定",0,1,2,3,4,5,6,7,8,9,10,11,12,13,14,15,16,17,18,19,20,21,22,23,24,25]
[null,"はじめに①",null,"はじめに②"]
[null,"はじめに②","はじめに①","準備して頂くデータ","雇用管理区分","雇用管理区分","基礎４項目と事前準備書類","基礎４項目と事前準備書類","タイプ分類","タイプ分類","基礎４項目と事前準備書類"]
[null,"準備して頂くデータ","はじめに②","現状把握","用語解説","雇用管理区分"]
[null,"現状把握","準備して頂くデータ","ケース選択","女性活躍の現状"]
[null,"女性活躍の現状","現状把握","ケース選択"]
[null,"ケース選択","現状把握","選択項目"]
[null,"選択項目","ケース選択","目標入力"]
[null,"目標入力","選択項目","取組選択","目標追加","目標設定について","独自目標について"]
[null,"目標追加","目標入力","目標入力"]
[null,"取組選択","目標入力","取組期間設定","取組追加","用語解説"]
[null,"取組追加","取組選択","取組選択"]
[null,"取組期間設定","取組選択","取組期間分割"]
[null,"取組期間分割","取組期間設定","行動計画"]
[null,"行動計画","取組期間分割"]
[null,"雇用管理区分","はじめに②"]
[null,"基礎４項目と事前準備書類","はじめに②","雇用管理区分","用語解説"]
[null,"タイプ分類","はじめに②"]
[null,"用語解説","準備して頂くデータ"]
[null,"目標設定について","目標入力"]
[null,"独自目標について","目標入力"]
[null,"判定目安","基礎４項目と事前準備書類"]
[]
[]
[]
[]
[]
[]
[]
[]
[]
[]
[]
[]
[]
[]
[]
[]
[null,"<ここまで：追加できません＞"]

{"sheet":"状況管理","index":14,"n_rows":45,"n_cols":21,"rows_kept":45,"cut":false,"hidden":false,"merged":[[2,8,7,8],[9,8,11,8],[15,8,17,8],[40,8,42,8],[21,8,23,8],[28,8,30,8],[34,8,36,8]]}
["管理者用シート　リリース時には非表示になります。",null,null,null,"※このシートは変更不可"]
[]
[null,"状況","完了","表示",null,"企業名",{"$f":"TRIM(企業名)","v":""},null,"雇用管理区分","区分１","区分２","区分３","区分４","区分５","区分６","区分７","区分８","区分９","区分１０"]
[null,"準備して頂くデータ",null,null,null,"企業名（フリガナ）",{"$f":"TRIM(企業名フリガナ)","v":""},null,null,{"$f":"TRIM(雇用管理区分名１)","v":""},{"$f":"TRIM(雇用管理区分名２)","v":""},{"$f":"TRIM(雇用管理区分名３)","v":""},{"$f":"TRIM(雇用管理区分名４)","v":""},{"$f":"TRIM(雇用管理区分名５)","v":""},{"$f":"TRIM(雇用管理区分名６)","v":""},{"$f":"TRIM(雇用管理区分名７)","v":""},{"$f":"TRIM(雇用管理区分名８)","v":""},{"$f":"TRIM(雇用管理区分名９)","v":""},{"$f":"TRIM(雇用管理区分名１０)","v":""}]
[null,"企業基本情報",null,null,null,"主たる業種",{"$f":"TRIM(主たる業務選択)","v":""},null,null,{"$f":"IF($J$4=\"\",\"\",1&CHAR(9))&IF($K$4=\"\",\"\",2&CHAR(9))&IF($L$4=\"\",\"\",3&CHAR(9))&IF($M$4=\"\",\"\",4&CHAR(9))&IF($N$4=\"\",\"\",5&CHAR(9))&IF($O$4=\"\",\"\",6&CHAR(9))&IF($P$4=\"\",\"\",7&CHAR(9))&IF($Q$4=\"\",\"\",8&CHAR(9))&IF($R$4=\"\",\"\",9&CHAR(9))&IF($S$4=\"\",\"\",10&CHAR(9))","v":""},{"$f":"IF(J$5=\"\",\"\",MID(J$5,FIND(CHAR(9),J$5,1)+1,500))","v":""},{"$f":"IF(K$5=\"\",\"\",MID(K$5,FIND(CHAR(9),K$5,1)+1,500))","v":""},"","","","","","",""]
[null,"雇用管理区分",null,null,null,null,null,null,null,{"$f":"IF(J$5=\"\",\"\",MID(J$5,1,FIND(CHAR(9),J$5)-1))","v":""},{"$f":"IF(K$5=\"\",\"\",MID(K$5,1,FIND(CHAR(9),K$5)-1))","v":""},"","","","","","","",""]
[null,"採用者情報",null,null,null,null,null,null,null,{"$f":"IF(J$6=\"\",\"\",INDIRECT(ADDRESS(2,COLUMN($I$2)+J6,1,1),TRUE))","v":""},{"$f":"IF(K$6=\"\",\"\",INDIRECT(ADDRESS(2,COLUMN($I$2)+K6,1,1),TRUE))","v":""},"","","","","","","",""]
[null,"平均勤続年数",null,null,null,"採用した労働者に占める女性労働者の割合",{"$f":"IF(現状把握!J24=\"○\",1,0)","v":1},null,null,{"$f":"IF(J$6=\"\",\"全体\",INDIRECT(ADDRESS(4,COLUMN($I$2)+J6,1,1),TRUE))","v":"全体"},{"$f":"IF(K$6=\"\",\"\",INDIRECT(ADDRESS(4,COLUMN($I$2)+K6,1,1),TRUE))","v":""},"","","","","","","",""]
[null,"平均残業時間",null,null,null,"男女の平均継続勤務年数\nの差異",{"$f":"IF(現状把握!R24=\"○\",1,0)","v":1}]
[null,"管理職情報",null,null,null,"管理職に占める女性労働者の割合",{"$f":"IF(現状把握!Z24=\"○\",1,0)","v":1},null,"採用者情報",{"$f":"J$8","v":"全体"},"","","","","","","","",""]
[null,"基礎情報の入力",{"$f":"IF(AND(C5=\"完了\",C6=\"完了\",C7=\"完了\",C8=\"完了\",C9=\"完了\",C10=\"完了\"),\"完了\",\"\")","v":""},null,null,"判定結果区分",{"$f":"IF(G7<>\"\",G7,HLOOKUP(G8&G9&G10,判定目安!C10:J11,2,0))","v":6},null,null,{"$f":"TRIM(採用者数_女性_区分１)","v":""},{"$f":"TRIM(採用者数_女性_区分２)","v":""},{"$f":"TRIM(採用者数_女性_区分３)","v":""},{"$f":"TRIM(採用者数_女性_区分４)","v":""},{"$f":"TRIM(採用者数_女性_区分５)","v":""},{"$f":"TRIM(採用者数_女性_区分６)","v":""},{"$f":"TRIM(採用者数_女性_区分７)","v":""},{"$f":"TRIM(採用者数_女性_区分８)","v":""},{"$f":"TRIM(採用者数_女性_区分９)","v":""},{"$f":"TRIM(採用者数_女性_区分１０)","v":""}]
[null,"現状把握",null,null,null,"タイプ分類名",{"$f":"VLOOKUP( 判定結果区分, タイプ分類一覧,2,0)","v":"⑥"},null,null,{"$f":"TRIM(採用者数_全体_区分１)","v":""},{"$f":"TRIM(採用者数_全体_区分２)","v":""},{"$f":"TRIM(採用者数_全体_区分３)","v":""},{"$f":"TRIM(採用者数_全体_区分４)","v":""},{"$f":"TRIM(採用者数_全体_区分５)","v":""},{"$f":"TRIM(採用者数_全体_区分６)","v":""},{"$f":"TRIM(採用者数_全体_区分７)","v":""},{"$f":"TRIM(採用者数_全体_区分８)","v":""},{"$f":"TRIM(採用者数_全体_区分９)","v":""},{"$f":"TRIM(採用者数_全体_区分１０)","v":""}]
[null,"常時雇用する労働者とは",null,null,null,"タイプ分類特徴",{"$f":"VLOOKUP( 判定結果区分, タイプ分類一覧,3,0)","v":"女性の活躍が比較的進んでいる企業"},null,{"$f":"IF($H13<>\"\",$H13,MINA(IF($J13=\"\",1,J13),IF($K13=\"\",1,$K13),IF($L13=\"\",1,$L13),IF($M13=\"\",1,$M13),IF($N13=\"\",1,$N13),IF($O13=\"\",1,$O13),IF($P13=\"\",1,$P13),IF($Q13=\"\",1,$Q13),IF($R13=\"\",1,$R13),IF($S13=\"\",1,$S13)))","v":1},{"$f":"IF(J10<>\"\",IF(AND(TRIM(J11)=\"\",TRIM(J12)=\"\"),\"\",IF(OR(J12=\"0\",TRIM(J12)=\"\"),\"\",ROUNDDOWN(IF(TRIM(J11)=\"\",0,J11)/J12,3))),\"\")","v":""},"","","","","","","","",""]
[null,"正社員とは",null,null,null,"労働時間課題",{"$f":"IF(労働時間超過月数<>0,\"×\",\"○\")","v":"○"},null,null,{"$f":"IF(J10<>\"\",IF(OR(J13>=判定目安_採用者情報,J13=\"\",J13=\"-\"),\"○\",\"×\"),\"\")","v":"○"},"","","","","","","","",""]
[null,"非正社員とは",null,null,null,"労働時間超過月数",{"$f":"12-I27","v":0}]
[null,"雇用管理区分とは",null,null,null,"分析時タイプ分類名","⑤",null,"平均勤続年数",{"$f":"J$8","v":"全体"},"","","","","","","","",""]
[null,"採用者数とは",null,null,null,"ケース",{"$f":"IF('ケース選択＞'!$L$5=1,1,IF('ケース選択＞'!$L$6=1,2,IF('ケース選択＞'!$L$7=1,3,4)))","v":4},null,null,{"$f":"TRIM(勤続数_女性_区分１)","v":""},{"$f":"TRIM(勤続数_女性_区分２)","v":""},{"$f":"TRIM(勤続数_女性_区分３)","v":""},{"$f":"TRIM(勤続数_女性_区分４)","v":""},{"$f":"TRIM(勤続数_女性_区分５)","v":""},{"$f":"TRIM(勤続数_女性_区分６)","v":""},{"$f":"TRIM(勤続数_女性_区分７)","v":""},{"$f":"TRIM(勤続数_女性_区分８)","v":""},{"$f":"TRIM(勤続数_女性_区分９)","v":""},{"$f":"TRIM(勤続数_女性_区分１０)","v":""}]
[null,"平均勤続年数とは",null,null,null,"当社の課題",{"$f":"IF(OR(ケース区分=1,ケース区分=2),'ケース選択＞'!$Q$5,\"\")","v":""},null,null,{"$f":"TRIM(勤続数_男性_区分１)","v":""},{"$f":"TRIM(勤続数_男性_区分２)","v":""},{"$f":"TRIM(勤続数_男性_区分３)","v":""},{"$f":"TRIM(勤続数_男性_区分４)","v":""},{"$f":"TRIM(勤続数_男性_区分５)","v":""},{"$f":"TRIM(勤続数_男性_区分６)","v":""},{"$f":"TRIM(勤続数_男性_区分７)","v":""},{"$f":"TRIM(勤続数_男性_区分８)","v":""},{"$f":"TRIM(勤続数_男性_区分９)","v":""},{"$f":"TRIM(勤続数_男性_区分１０)","v":""}]
[null,"残業時間数等とは",null,null,null,null,null,null,{"$f":"IF($H19<>\"\",$H19,MINA(IF($J19=\"\",1,J19),IF($K19=\"\",1,$K19),IF($L19=\"\",1,$L19),IF($M19=\"\",1,$M19),IF($N19=\"\",1,$N19),IF($O19=\"\",1,$O19),IF($P19=\"\",1,$P19),IF($Q19=\"\",1,$Q19),IF($R19=\"\",1,$R19),IF($S19=\"\",1,$S19)))","v":1},{"$f":"IF(J16<>\"\",IF(AND(TRIM(J17)=\"\",TRIM(J18)=\"\"),\"\",IF(OR(J18=\"0\",TRIM(J18)=\"\"),1,ROUNDDOWN(IF(TRIM(J17)=\"\",0,J17)/J18,3))),\"\")","v":""},{"$f":"IF(K16<>\"\",IF(AND(TRIM(K17)=\"\",TRIM(K18)=\"\"),\"\",IF(OR(K18=\"0\",TRIM(K18)=\"\"),1,ROUNDDOWN(IF(TRIM(K17)=\"\",0,K17)/K18,3))),\"\")","v":""},{"$f":"IF(L16<>\"\",IF(AND(TRIM(L17)=\"\",TRIM(L18)=\"\"),\"\",IF(OR(L18=\"0\",TRIM(L18)=\"\"),1,ROUNDDOWN(IF(TRIM(L17)=\"\",0,L17)/L18,3))),\"\")","v":""},{"$f":"IF(M16<>\"\",IF(AND(TRIM(M17)=\"\",TRIM(M18)=\"\"),\"\",IF(OR(M18=\"0\",TRIM(M18)=\"\"),1,ROUNDDOWN(IF(TRIM(M17)=\"\",0,M17)/M18,3))),\"\")","v":""},"","","","","",""]
[null,"管理職とは",null,null,null,"担当者メモ",null,null,null,{"$f":"IF(J16<>\"\",IF(OR(J19>=判定目安_平均勤続年数,J19=\"\",J19=\"-\"),\"○\",\"×\"),\"\")","v":"○"},"","","","","","","","",""]
[null,"取組期間分割"]
[null,"ケース選択",null,null,null,null,null,null,"平均残業時間\n（全体）",{"$f":"残業時間_全体_開始月","v":" "},{"$f":"IF(TRIM(J22)=\"\",\"\",MONTH(DATE(2019, J22+2,1)-1))","v":""},{"$f":"IF(TRIM(K22)=\"\",\"\",MONTH(DATE(2019, K22+2,1)-1))","v":""},"","","","","","","","",{"$f":"IF(TRIM(T22)=\"\",\"\",MONTH(DATE(2019, T22+2,1)-1))","v":""}]
[null,"選択項目",null,null,null,null,null,null,null,{"$f":"TRIM(残業時間_全体_１)","v":""},{"$f":"TRIM(残業時間_全体_２)","v":""},{"$f":"TRIM(残業時間_全体_３)","v":""},{"$f":"TRIM(残業時間_全体_４)","v":""},{"$f":"TRIM(残業時間_全体_５)","v":""},{"$f":"TRIM(残業時間_全体_６)","v":""},{"$f":"TRIM(残業時間_全体_７)","v":""},{"$f":"TRIM(残業時間_全体_８)","v":""},{"$f":"TRIM(残業時間_全体_９)","v":""},{"$f":"TRIM(残業時間_全体_１０)","v":""},{"$f":"TRIM(残業時間_全体_１１)","v":""},{"$f":"TRIM(残業時間_全体_１２)","v":""}]
[null,"目標入力",null,null,null,null,null,null,null,{"$f":"TRIM(残業時間_全体数_１)","v":""},{"$f":"TRIM(残業時間_全体数_２)","v":""},{"$f":"TRIM(残業時間_全体数_３)","v":""},{"$f":"TRIM(残業時間_全体数_４)","v":""},{"$f":"TRIM(残業時間_全体数_５)","v":""},{"$f":"TRIM(残業時間_全体数_６)","v":""},{"$f":"TRIM(残業時間_全体数_７)","v":""},{"$f":"TRIM(残業時間_全体数_８)","v":""},{"$f":"TRIM(残業時間_全体数_９)","v":""},{"$f":"TRIM(残業時間_全体数_１０)","v":""},{"$f":"TRIM(残業時間_全体数_１１)","v":""},{"$f":"TRIM(残業時間_全体数_１２)","v":""}]
[null,"目標追加",null,null,null,null,null,null,{"$f":"IF($H25<>\"\",$H25,MAX($J25:$U25))","v":0},{"$f":"IF(AND(TRIM(J23)=\"\",TRIM(J24)=\"\"),\"\",IF(OR(J24=\"0\",TRIM(J24)=\"\"),\"-\",ROUNDDOWN(IF(TRIM(J23)=\"\",0,J23)/J24,1)))","v":""},{"$f":"IF(AND(TRIM(K23)=\"\",TRIM(K24)=\"\"),\"\",IF(OR(K24=\"0\",TRIM(K24)=\"\"),\"-\",ROUNDDOWN(IF(TRIM(K23)=\"\",0,K23)/K24,1)))","v":""},"","","","","","","","","",""]
[null,"取組選択",null,null,null,null,null,null,{"$f":"COUNTIF(J26:U26,\"○\")","v":12},{"$f":"IF(OR(J25<判定目安_平均残業時間,J25=\"\",J25=\"-\"),\"○\",\"×\")","v":"○"},{"$f":"IF(OR(K25<判定目安_平均残業時間,K25=\"\",K25=\"-\"),\"○\",\"×\")","v":"○"},"○","○","○","○","○","○","○","○","○","○"]
[null,"取組追加",null,null,null,null,null,null,{"$f":"COUNTIF(J27:U27,\"○\")","v":12},{"$f":"IF(J26&J33&J39=\"○○○\",\"○\",\"×\")","v":"○"},{"$f":"IF(K26&K33&K39=\"○○○\",\"○\",\"×\")","v":"○"},"○","○","○","○","○","○","○","○","○","○"]
[null,"取組期間設定"]
[null,"取組期間分割",null,null,null,null,null,null,"平均残業時間\n（2）",{"$f":"残業時間_２_開始月","v":" "},{"$f":"IF(TRIM(J29)=\"\",\"\",MONTH(DATE(2019, J29+2,1)-1))","v":""},{"$f":"IF(TRIM(K29)=\"\",\"\",MONTH(DATE(2019, K29+2,1)-1))","v":""},"","","","","","","","",""]
[null,"基礎４項目_雇用管理区分とは",null,null,null,null,null,null,null,{"$f":"TRIM(残業時間_２_１)","v":""},{"$f":"TRIM(残業時間_２_２)","v":""},{"$f":"TRIM(残業時間_２_３)","v":""},{"$f":"TRIM(残業時間_２_４)","v":""},{"$f":"TRIM(残業時間_２_５)","v":""},{"$f":"TRIM(残業時間_２_６)","v":""},{"$f":"TRIM(残業時間_２_７)","v":""},{"$f":"TRIM(残業時間_２_８)","v":""},{"$f":"TRIM(残業時間_２_９)","v":""},{"$f":"TRIM(残業時間_２_１０)","v":""},{"$f":"TRIM(残業時間_２_１１)","v":""},{"$f":"TRIM(残業時間_２_１２)","v":""}]
[null,"基礎４項目_採用者数とは",null,null,null,null,null,null,null,{"$f":"TRIM(残業時間_２数_１)","v":""},{"$f":"TRIM(残業時間_２数_２)","v":""},{"$f":"TRIM(残業時間_２数_３)","v":""},{"$f":"TRIM(残業時間_２数_４)","v":""},{"$f":"TRIM(残業時間_２数_５)","v":""},{"$f":"TRIM(残業時間_２数_６)","v":""},{"$f":"TRIM(残業時間_２数_７)","v":""},{"$f":"TRIM(残業時間_２数_８)","v":""},{"$f":"TRIM(残業時間_２数_９)","v":""},{"$f":"TRIM(残業時間_２数_１０)","v":""},{"$f":"TRIM(残業時間_２数_１１)","v":""},{"$f":"TRIM(残業時間_２数_１２)","v":""}]
[null,"基礎４項目_平均勤続年数とは",null,null,null,null,null,null,{"$f":"IF($H32<>\"\",$H32,MAX($J32:$U32))","v":0},{"$f":"IF(AND(TRIM(J30)=\"\",TRIM(J31)=\"\"),\"\",IF(OR(J31=\"0\",TRIM(J31)=\"\"),\"-\",ROUNDDOWN(IF(TRIM(J30)=\"\",0,J30)/J31,1)))","v":""},{"$f":"IF(AND(TRIM(K30)=\"\",TRIM(K31)=\"\"),\"\",IF(OR(K31=\"0\",TRIM(K31)=\"\"),\"-\",ROUNDDOWN(IF(TRIM(K30)=\"\",0,K30)/K31,1)))","v":""},{"$f":"IF(AND(TRIM(L30)=\"\",TRIM(L31)=\"\"),\"\",IF(OR(L31=\"0\",TRIM(L31)=\"\"),\"-\",ROUNDDOWN(IF(TRIM(L30)=\"\",0,L30)/L31,1)))","v":""},{"$f":"IF(AND(TRIM(M30)=\"\",TRIM(M31)=\"\"),\"\",IF(OR(M31=\"0\",TRIM(M31)=\"\"),\"-\",ROUNDDOWN(IF(TRIM(M30)=\"\",0,M30)/M31,1)))","v":""},{"$f":"IF(AND(TRIM(N30)=\"\",TRIM(N31)=\"\"),\"\",IF(OR(N31=\"0\",TRIM(N31)=\"\"),\"-\",ROUNDDOWN(IF(TRIM(N30)=\"\",0,N30)/N31,1)))","v":""},{"$f":"IF(AND(TRIM(O30)=\"\",TRIM(O31)=\"\"),\"\",IF(OR(O31=\"0\",TRIM(O31)=\"\"),\"-\",ROUNDDOWN(IF(TRIM(O30)=\"\",0,O30)/O31,1)))","v":""},{"$f":"IF(AND(TRIM(P30)=\"\",TRIM(P31)=\"\"),\"\",IF(OR(P31=\"0\",TRIM(P31)=\"\"),\"-\",ROUNDDOWN(IF(TRIM(P30)=\"\",0,P30)/P31,1)))","v":""},{"$f":"IF(AND(TRIM(Q30)=\"\",TRIM(Q31)=\"\"),\"\",IF(OR(Q31=\"0\",TRIM(Q31)=\"\"),\"-\",ROUNDDOWN(IF(TRIM(Q30)=\"\",0,Q30)/Q31,1)))","v":""},{"$f":"IF(AND(TRIM(R30)=\"\",TRIM(R31)=\"\"),\"\",IF(OR(R31=\"0\",TRIM(R31)=\"\"),\"-\",ROUNDDOWN(IF(TRIM(R30)=\"\",0,R30)/R31,1)))","v":""},{"$f":"IF(AND(TRIM(S30)=\"\",TRIM(S31)=\"\"),\"\",IF(OR(S31=\"0\",TRIM(S31)=\"\"),\"-\",ROUNDDOWN(IF(TRIM(S30)=\"\",0,S30)/S31,1)))","v":""},{"$f":"IF(AND(TRIM(T30)=\"\",TRIM(T31)=\"\"),\"\",IF(OR(T31=\"0\",TRIM(T31)=\"\"),\"-\",ROUNDDOWN(IF(TRIM(T30)=\"\",0,T30)/T31,1)))","v":""},{"$f":"IF(AND(TRIM(U30)=\"\",TRIM(U31)=\"\"),\"\",IF(OR(U31=\"0\",TRIM(U31)=\"\"),\"-\",ROUNDDOWN(IF(TRIM(U30)=\"\",0,U30)/U31,1)))","v":""}]
[null,"基礎４項目_残業時間数等とは",null,null,null,null,null,null,{"$f":"COUNTIF(J33:U33,\"○\")","v":12},{"$f":"IF(OR(J32<判定目安_平均残業時間,J32=\"\",J32=\"-\"),\"○\",\"×\")","v":"○"},"○","○","○","○","○","○","○","○","○","○","○"]
[null,"基礎４項目_管理職とは"]
[null,null,null,null,null,null,null,null,"平均残業時間\n（3）",{"$f":"残業時間_３_開始月","v":" "},{"$f":"IF(TRIM(J35)=\"\",\"\",MONTH(DATE(2019, J35+2,1)-1))","v":""},{"$f":"IF(TRIM(K35)=\"\",\"\",MONTH(DATE(2019, K35+2,1)-1))","v":""},"","","","","","","","",""]
[null,null,null,null,null,null,null,null,null,{"$f":"TRIM(残業時間_３_１)","v":""},{"$f":"TRIM(残業時間_３_２)","v":""},{"$f":"TRIM(残業時間_３_３)","v":""},{"$f":"TRIM(残業時間_３_４)","v":""},{"$f":"TRIM(残業時間_３_５)","v":""},{"$f":"TRIM(残業時間_３_６)","v":""},{"$f":"TRIM(残業時間_３_７)","v":""},{"$f":"TRIM(残業時間_３_８)","v":""},{"$f":"TRIM(残業時間_３_９)","v":""},{"$f":"TRIM(残業時間_３_１０)","v":""},{"$f":"TRIM(残業時間_３_１１)","v":""},{"$f":"TRIM(残業時間_３_１２)","v":""}]
[null,null,null,null,null,null,null,null,null,{"$f":"TRIM(残業時間_３数_１)","v":""},{"$f":"TRIM(残業時間_３数_２)","v":""},{"$f":"TRIM(残業時間_３数_３)","v":""},{"$f":"TRIM(残業時間_３数_４)","v":""},{"$f":"TRIM(残業時間_３数_５)","v":""},{"$f":"TRIM(残業時間_３数_６)","v":""},{"$f":"TRIM(残業時間_３数_７)","v":""},{"$f":"TRIM(残業時間_３数_８)","v":""},{"$f":"TRIM(残業時間_３数_９)","v":""},{"$f":"TRIM(残業時間_３数_１０)","v":""},{"$f":"TRIM(残業時間_３数_１１)","v":""},{"$f":"TRIM(残業時間_３数_１２)","v":""}]
[null,null,null,null,null,null,null,null,{"$f":"IF($H38<>\"\",$H38,MAX($J38:$U38))","v":0},{"$f":"IF(AND(TRIM(J36)=\"\",TRIM(J37)=\"\"),\"\",IF(OR(J37=\"0\",TRIM(J37)=\"\"),\"-\",ROUNDDOWN(IF(TRIM(J36)=\"\",0,J36)/J37,1)))","v":""},{"$f":"IF(AND(TRIM(K36)=\"\",TRIM(K37)=\"\"),\"\",IF(OR(K37=\"0\",TRIM(K37)=\"\"),\"-\",ROUNDDOWN(IF(TRIM(K36)=\"\",0,K36)/K37,1)))","v":""},{"$f":"IF(AND(TRIM(L36)=\"\",TRIM(L37)=\"\"),\"\",IF(OR(L37=\"0\",TRIM(L37)=\"\"),\"-\",ROUNDDOWN(IF(TRIM(L36)=\"\",0,L36)/L37,1)))","v":""},{"$f":"IF(AND(TRIM(M36)=\"\",TRIM(M37)=\"\"),\"\",IF(OR(M37=\"0\",TRIM(M37)=\"\"),\"-\",ROUNDDOWN(IF(TRIM(M36)=\"\",0,M36)/M37,1)))","v":""},{"$f":"IF(AND(TRIM(N36)=\"\",TRIM(N37)=\"\"),\"\",IF(OR(N37=\"0\",TRIM(N37)=\"\"),\"-\",ROUNDDOWN(IF(TRIM(N36)=\"\",0,N36)/N37,1)))","v":""},{"$f":"IF(AND(TRIM(O36)=\"\",TRIM(O37)=\"\"),\"\",IF(OR(O37=\"0\",TRIM(O37)=\"\"),\"-\",ROUNDDOWN(IF(TRIM(O36)=\"\",0,O36)/O37,1)))","v":""},{"$f":"IF(AND(TRIM(P36)=\"\",TRIM(P37)=\"\"),\"\",IF(OR(P37=\"0\",TRIM(P37)=\"\"),\"-\",ROUNDDOWN(IF(TRIM(P36)=\"\",0,P36)/P37,1)))","v":""},{"$f":"IF(AND(TRIM(Q36)=\"\",TRIM(Q37)=\"\"),\"\",IF(OR(Q37=\"0\",TRIM(Q37)=\"\"),\"-\",ROUNDDOWN(IF(TRIM(Q36)=\"\",0,Q36)/Q37,1)))","v":""},{"$f":"IF(AND(TRIM(R36)=\"\",TRIM(R37)=\"\"),\"\",IF(OR(R37=\"0\",TRIM(R37)=\"\"),\"-\",ROUNDDOWN(IF(TRIM(R36)=\"\",0,R36)/R37,1)))","v":""},{"$f":"IF(AND(TRIM(S36)=\"\",TRIM(S37)=\"\"),\"\",IF(OR(S37=\"0\",TRIM(S37)=\"\"),\"-\",ROUNDDOWN(IF(TRIM(S36)=\"\",0,S36)/S37,1)))","v":""},{"$f":"IF(AND(TRIM(T36)=\"\",TRIM(T37)=\"\"),\"\",IF(OR(T37=\"0\",TRIM(T37)=\"\"),\"-\",ROUNDDOWN(IF(TRIM(T36)=\"\",0,T36)/T37,1)))","v":""},{"$f":"IF(AND(TRIM(U36)=\"\",TRIM(U37)=\"\"),\"\",IF(OR(U37=\"0\",TRIM(U37)=\"\"),\"-\",ROUNDDOWN(IF(TRIM(U36)=\"\",0,U36)/U37,1)))","v":""}]
[null,null,null,null,null,null,null,null,{"$f":"COUNTIF(J39:U39,\"○\")","v":12},{"$f":"IF(OR(J38<判定目安_平均残業時間,J38=\"\",J38=\"-\"),\"○\",\"×\")","v":"○"},"○","○","○","○","○","○","○","○","○","○","○"]
[]
[null,null,null,null,null,null,null,null,"管理職情報","全体"]
[null,null,null,null,null,null,null,null,null,{"$f":"TRIM(女性の管理職数)","v":""}]
[null,null,null,null,null,null,null,null,null,{"$f":"TRIM(管理職数)","v":""}]
[null,null,null,null,null,null,null,null,{"$f":"IF($H41<>\"\",$H41,IF($J44=\"\",1,MINA($J44)))","v":1},{"$f":"IF(AND(TRIM(J42)=\"\",TRIM(J43)=\"\"),\"\",IF(OR(J43=\"0\",TRIM(J43)=\"\"),1,ROUNDDOWN(IF(TRIM(J42)=\"\",0,J42)/J43,3)))","v":""}]
[null,null,null,null,null,null,null,null,null,{"$f":"IF(J41<>\"\",IF(OR(J44>=判定目安_管理職情報,J44=\"\",J44=\"-\"),\"○\",\"×\"),\"\")","v":"○"}]

{"sheet":"はじめに①","index":15,"n_rows":64,"n_cols":5,"rows_kept":64,"cut":false,"hidden":false,"merged":[]}
[]
[]
[]
[]
[]
[]
[]
[]
[]
[]
[]
[]
[]
[]
[]
[]
[]
[]
[]
[]
[]
[]
[]
[]
[]
[]
[]
[]
[]
[]
[]
[]
[]
[]
[]
[]
[]
[]
[]
[]
[]
[]
[]
[]
[]
[]
[]
[]
[null,null,null,"・このExcelファイルには、 マクロ (VBA) が含まれています。 "]
[null,null,null,"・事前にウイルス検査も行っており、このマク ロには悪意のあるコードは含まれていませ んので安心して実行していただけます。 "]
[null,null,null,"・インターネットからのダウンロードであることと、マクロコードが含まれていることから、ファイルを開く際に"]
[null,null,null,"　「セキュリティに影響を及ぼす可能性のある問題点が検知されました」のようなメッセージが出力される場合がありますが"]
[null,null,null,"　問題ありませんので【編集を有効にする】および【コンテンツの有効化】【マクロを有効にする】を押してお使いください。 "]
[null,null,null,"・このプログラムが動作するExcelは以下のいずれかになります。"]
[null,null,null,"　Windows以外のOSや、対象外のExcelでは、正しく動作しない事があります。 "]
[null,null,null,null,"Microsoft Excel 2010（Windows版）"]
[null,null,null,null,"Microsoft Excel 2013（Windows版）"]
[null,null,null,null,"Microsoft Excel 2016（Windows版）"]
[]
[null,null,null,"・編集を有効化をクリックして下さい。"]
[]
[]
[]
[null,null,null,"・コンテンツの有効化をクリックして下さい。"]

{"sheet":"はじめに②","index":16,"n_rows":165,"n_cols":12,"rows_kept":165,"cut":false,"hidden":false,"merged":[[2,1,2,40],[164,2,166,26],[123,4,123,31],[151,3,152,33],[156,3,157,33]]}
[]
[null,null,null,null,{"$f":"初期設定!$E$9","v":"中小企業のための女性活躍『行動計画』策定プログラム"}]
[null," "]
[]
[]
[]
[]
[]
[]
[]
[]
[null,"＜プログラムの流れ＞ "]
[]
[null,"行動計画完成までのSTEP"]
[]
[]
[]
[null,null,null,"自社の基本情報（企業名、主たる業種、常時雇用する労働者数（正社員・非正社員））を入力します。"]
[]
[]
[]
[]
[]
[]
[null,null,null,"雇用形態、職種、就業形態などで社員を区分けする単位。自社の「雇用管理区分」ごとに分析を行い"]
[null,null,null,"「状況把握」を行います。"]
[]
[]
[]
[]
[]
[]
[null,null,null,"状況把握や課題分析を行ううえで、必ず把握すべき４つの項目です。"]
[null,null,null,"自社の「１.採用した労働者に占める女性労働者の割合」「２.男女の平均勤続年数勤務年数の差異」"]
[null,null,null,"「３.労働者の各月ごとの平均残業時間数数等の労働時間の状況」「4.管理職に占める女性労働者の割合」"]
[]
[null,null,null,null,"　　☛「基礎項目」について詳しくはこちら"]
[]
[null,null,"■基礎項目を入力するために、事前に準備した方が良い書類等（原則「直近の事業年度」のデータを把握できる書類等をご用意ください）"]
[]
[]
[]
[]
[]
[]
[]
[]
[]
[]
[]
[]
[]
[]
[]
[]
[]
[]
[]
[]
[]
[]
[]
[]
[]
[]
[null,null,null,null,"　　☛「タイプ分類とは」参照"]
[]
[]
[]
[]
[]
[]
[]
[]
[null,null,null,"判定したタイプごとにあなたの会社の「課題」を選びます。"]
[]
[]
[]
[]
[]
[]
[null,null,null,"課題に応じた取組目標例の中から設定したい目標を選び、（数値)「目標」を入力します。"]
[null,null,null,"（立てた目標のうち、１つ以上は、数値の目標を定める必要があります。）"]
[]
[]
[]
[]
[]
[]
[null,null,null,"取組目標に応じた取組内容例から「取組内容」を選びます。"]
[]
[]
[]
[]
[]
[]
[null,null,null,"取組を行う期間を入力します。（概ね２年から５年を推奨しています。）"]
[]
[]
[]
[]
[]
[]
[null,null,null,"STEP６で選んだ取組内容について、具体的に行う取組の詳細と、実施予定時期を定めて入力します。"]
[]
[]
[]
[]
[]
[]
[]
[]
[]
[]
[]
[]
[]
[]
[]
[]
[]
[null,null,"　「女性活躍推進法」については、詳細は厚生労働省ホームページ"]
[null,null,"　「女性活躍推進法特集ページ」をご確認ください。"]
[null,null,"URL:  ",null,"https://www.mhlw.go.jp/stf/seisakunitsuite/bunya/0000091025.html "]
[]
[]
[]
[]
[]
[]
[]
[]
[null,null,null,null,null,null,null,null,null,null,"前のシート（段階）に戻ります。"]
[]
[null,null,null,null,null,null,null,null,null,null,"次のシート（段階）に進みます。"]
[]
[null,null,null,null,null,null,null,null,null,null,"エクセルファイルを上書き保存します。"]
[]
[null,null,null,null,null,null,null,null,null,null,"画面印刷します。"]
[]
[null,null,null,null,null,null,null,null,null,null,"一部の画面※については、別のエクセルファイルとして名前を付けて"]
[null,null,null,null,null,null,null,null,null,null,"出力（保存）することができます。"]
[null,null,null,null,null,null,null,null,null,null,"※","「女性活躍の現状」の画面"]
[null,null,null,null,null,null,null,null,null,null,"※","「行動計画」の画面"]
[null,null,null,null,null,null,null,null,null,null,"※","「策定・変更届出書作成」の様式"]
[]
[null,null,null,null,null,null,null,null,null,null,"プログラムを終了します。"]
[]
[]
[]
[]
[null,null,null,"行動計画を作成する上でメモを残したい場合にご利用ください。\n例：プログラム途中で終了する場合や後任者への引継ぎ等"]
[]
[]
[]
[]
[null,null,null,"基礎項目の入力結果をふまえ、タイプ別分類や長時間労働の課題等判定結果をＡ４ １枚にまとめた、\n社内説明用の資料として使用できる様式です。"]
[]
[]
[]
[]
[]
[]
[]
[null,null,"プログラムは、中小企業の皆様に比較的少ない負担で「行動計画」の作成を行っていただけるように作られています。Excelシートでの出力や保存、及び内容のアレンジなども行っていただけます。自社の状況に応じてご活用ください。"]

{"sheet":"準備して頂くデータ","index":17,"n_rows":159,"n_cols":50,"rows_kept":159,"cut":false,"hidden":false,"merged":[[133,1,133,13],[13,1,16,36],[58,38,58,41],[59,38,59,41],[57,6,57,45],[79,29,79,32],[79,41,79,44],[78,17,78,20],[78,21,78,24],[78,25,78,28],[97,28,97,31],[96,36,96,39],[96,40,96,43],[96,44,96,47],[95,28,95,31],[95,24,95,27],[119,22,119,24],[131,40,131,42],[131,43,131,45],[131,14,131,15],[131,16,131,18],[131,28,131,30],[127,34,127,36],[131,25,131,27],[2,1,2,40],[120,11,120,15],[123,13,123,15],[123,8,123,12],[130,13,130,15],[124,22,124,24],[123,37,123,39],[123,40,123,42],[75,33,75,36],[75,37,75,40],[75,41,75,44],[78,1,78,10],[117,1,117,13],[118,1,118,13],[119,1,119,13],[124,1,124,13],[97,1,97,9],[119,14,119,15],[119,16,119,18],[118,28,118,30],[118,31,118,33],[118,34,118,36],[117,14,117,15],[117,16,117,18],[131,46,131,48],[131,49,131,51],[130,31,130,33],[130,43,130,45],[124,40,124,42],[125,49,125,51],[124,46,124,48],[130,34,130,36],[126,25,126,27],[126,28,126,30],[126,31,126,33],[126,34,126,36],[127,25,127,27],[127,28,127,30],[127,31,127,33],[124,34,124,36],[125,28,125,30],[124,37,124,39],[131,37,131,39],[125,31,125,33],[125,34,125,36],[130,40,130,42],[130,25,130,27],[130,28,130,30],[134,37,134,39],[134,40,134,42],[134,43,134,45],[134,46,134,48],[132,43,132,45],[132,37,132,39],[132,40,132,42],[132,46,132,48],[132,49,132,51],[133,40,133,42],[133,43,133,45],[134,49,134,51],[134,25,134,27],[134,28,134,30],[134,31,134,33],[134,34,134,36],[132,22,132,24],[132,25,132,27],[132,28,132,30],[132,31,132,33],[132,34,132,36],[133,25,133,27],[133,28,133,30],[133,31,133,33],[123,49,123,51],[127,40,127,42],[127,43,127,45],[127,46,127,48],[126,40,126,42],[126,43,126,45],[119,46,119,48],[119,49,119,51],[127,49,127,51],[125,40,125,42],[125,43,125,45],[120,49,120,51],[120,40,120,42],[120,43,120,45],[124,49,124,51],[123,46,123,48],[119,40,119,42],[119,43,119,45],[124,43,124,45],[123,43,123,45],[118,19,118,21],[119,19,119,21],[118,46,118,48],[119,25,119,27],[118,49,118,51],[120,46,120,48],[117,49,117,51],[117,37,117,39],[117,31,117,33],[117,34,117,36],[117,22,117,24],[117,25,117,27],[117,28,117,30],[117,40,117,42],[117,46,117,48],[117,43,117,45],[120,22,120,24],[120,28,120,30],[120,31,120,33],[120,34,120,36],[118,40,118,42],[118,43,118,45],[118,37,118,39],[118,22,118,24],[118,25,118,27],[76,13,76,16],[76,17,76,20],[98,44,98,47],[94,36,94,39],[79,17,79,20],[78,37,78,40],[79,21,79,24],[79,45,79,48],[95,16,95,19],[98,28,98,31],[98,12,98,15],[98,16,98,19],[97,12,97,15],[97,32,97,35],[77,33,77,36],[94,40,94,43],[98,40,98,43],[98,32,98,35],[95,44,95,47],[79,9,79,12],[98,8,98,11],[117,19,117,21],[96,48,96,51],[132,14,132,15],[132,16,132,18],[132,19,132,21],[127,37,127,39],[133,14,133,15],[133,16,133,18],[133,19,133,21],[133,22,133,24],[119,37,119,39],[127,22,127,24],[124,31,124,33],[123,28,123,30],[123,16,123,18],[123,19,123,21],[123,22,123,24],[123,25,123,27],[131,19,131,21],[131,22,131,24],[127,16,127,18],[127,19,127,21],[130,37,130,39],[123,31,123,33],[123,34,123,36],[154,1,154,7],[154,8,154,11],[154,12,154,15],[152,1,152,9],[152,10,152,11],[152,12,152,15],[153,1,153,9],[153,10,153,11],[153,12,153,15],[150,12,150,15],[126,14,126,15],[124,14,124,15],[124,16,124,18],[124,19,124,21],[151,10,151,11],[151,12,151,15],[130,8,130,12],[130,16,130,18],[130,19,130,21],[140,4,140,43],[124,25,124,27],[124,28,124,30],[134,16,134,18],[134,19,134,21],[134,22,134,24],[131,1,131,13],[132,1,132,13],[131,31,131,33],[131,34,131,36],[125,14,125,15],[127,11,127,15],[130,22,130,24],[125,16,125,18],[78,11,78,12],[97,44,97,47],[97,48,97,51],[96,32,96,35],[134,11,134,15],[126,49,126,51],[126,16,126,18],[126,19,126,21],[126,22,126,24],[125,37,125,39],[126,37,126,39],[125,19,125,21],[125,22,125,24],[126,46,126,48],[125,46,125,48],[125,25,125,27],[130,46,130,48],[130,49,130,51],[125,1,125,13],[126,1,126,13],[133,46,133,48],[133,49,133,51],[133,34,133,36],[133,37,133,39],[94,20,94,23],[75,49,75,52],[79,33,79,36],[76,21,76,24],[98,20,98,23],[98,24,98,27],[97,20,97,23],[97,24,97,27],[97,16,97,19],[96,16,96,19],[77,17,77,20],[75,25,75,28],[75,29,75,32],[94,24,94,27],[94,44,94,47],[78,29,78,32],[94,28,94,31],[94,32,94,35],[79,13,79,16],[78,13,78,16],[96,12,96,15],[96,20,96,23],[96,24,96,27],[95,20,95,23],[78,33,78,36],[78,45,78,48],[79,25,79,28],[79,49,79,52],[94,48,94,51],[78,49,78,52],[103,4,103,43],[94,12,94,15],[76,25,76,28],[76,11,76,12],[79,37,79,40],[82,4,83,43],[84,4,84,43],[76,41,76,44],[95,1,95,9],[96,10,96,11],[95,10,95,11],[95,12,95,15],[95,32,95,35],[95,36,95,39],[95,40,95,43],[96,1,96,9],[96,28,96,31],[94,16,94,19],[116,16,116,18],[116,19,116,21],[116,22,116,24],[116,13,116,15],[98,48,98,51],[116,43,116,45],[95,48,95,51],[116,37,116,39],[101,4,102,43],[98,1,98,7],[97,10,97,11],[98,36,98,39],[116,8,116,12],[116,49,116,51],[97,36,97,39],[97,40,97,43],[116,46,116,48],[64,4,64,43],[62,4,63,43],[57,1,57,5],[58,1,59,5],[77,49,77,52],[77,37,77,40],[77,41,77,44],[77,45,77,48],[77,21,77,24],[77,25,77,28],[77,29,77,32],[58,26,58,29],[59,26,59,29],[58,30,58,33],[59,30,59,33],[58,34,58,37],[59,34,59,37],[58,14,58,17],[75,45,75,48],[75,17,75,20],[75,21,75,24],[76,49,76,52],[75,13,75,16],[76,45,76,48],[158,4,158,43],[76,33,76,36],[76,37,76,40],[120,25,120,27],[118,14,118,15],[118,16,118,18],[119,28,119,30],[119,31,119,33],[116,34,116,36],[116,25,116,27],[116,28,116,30],[116,31,116,33],[119,34,119,36],[120,37,120,39],[120,16,120,18],[120,19,120,21],[116,40,116,42],[77,11,77,12],[137,4,139,43],[157,3,157,43],[151,1,151,9],[78,41,78,44],[76,29,76,32],[77,13,77,16],[26,13,26,30],[27,13,27,30],[28,13,28,30],[33,8,33,12],[36,4,39,43],[33,13,33,21],[26,1,26,12],[27,1,27,12],[28,1,28,12],[31,1,33,7],[31,22,31,30],[32,22,32,30],[33,22,33,30],[29,1,29,12],[30,22,30,30],[29,13,29,30],[32,8,32,12],[31,8,31,12],[30,13,30,21],[32,13,32,21],[31,13,31,21],[58,42,58,45],[58,10,58,13],[59,10,59,13],[58,22,58,25],[30,1,30,12],[46,3,46,43],[59,14,59,17],[58,18,58,21],[59,18,59,21],[59,22,59,25],[59,6,59,9],[58,6,58,9],[40,4,40,43],[43,4,43,43],[47,4,47,43],[59,42,59,45]]}
[]
[null,null,null,null,{"$f":"初期設定!$E$9","v":"中小企業のための女性活躍『行動計画』策定プログラム"}]
[null," "]
[]
[]
[]
[]
[]
[]
[]
[]
[null,"＜ＳＴＥＰ１～３＞　あなたの会社の基本情報を入力　／　雇用管理区分を入力　／　基礎４つの項目を入力"]
[]
[null,"自社の行動計画を作成するために「企業基本情報」、「雇用管理区分」、「基礎項目（①採用した労働者に占める女性労働者の割合、②平均勤続年数、③労働者の各月ごとの平均残業時間数等の労働時間の状況、④管理職に占める女性労働者の割合）」に係るデータを入力してください。\n原則、直近の事業年度のデータを入力してください。"]
[]
[]
[]
[]
[]
[]
[]
[]
[]
[]
[]
[]
[null,"基本項目",null,null,null,null,null,null,null,null,null,null,null,"入力情報"]
[null,"企業名",null,null,null,null,null,null,null,null,null,null,null," "]
[null,"企業名（フリガナ）",null,null,null,null,null,null,null,null,null,null,null," "]
[null,"主たる業種",null,null,null,null,null,null,null,null,null,null,null," "]
[null,"常時雇用する労働者数（人数）",null,null,null,null,null,null,null,null,null,null,null,"正社員",null,null,null,null,null,null,null,null,"非正社員"]
[null,null,null,null,null,null,null,null,"女性",null,null,null,null," ",null,null,null,null,null,null,null,null," "]
[null,null,null,null,null,null,null,null,"男性",null,null,null,null," ",null,null,null,null,null,null,null,null," "]
[null,null,null,null,null,null,null,null,"計",null,null,null,null,{"$f":"SUM(N32:V33)","v":0},null,null,null,null,null,null,null,null,{"$f":"SUM(W32:AE33)","v":0}]
[]
[]
[null,null,null,"※","正社員だけでなくパート・契約社員・アルバイトなどの名称にかかわらず、以下の要件に該当する労働者も含む。\n①期間の定めなく雇用されている者\n②一定の期間を定めて雇用されている者であって、過去１年以上の期間について引き続き雇用されている者又は雇入れの時から１年以上引き続き雇用されると見込まれる者"]
[]
[]
[]
[null,null,null,null,"⇒詳しくは用語解説①へ"]
[]
[]
[null,null,null,null,"⇒詳しくは用語解説⑥へ"]
[]
[]
[null,null,null,"※　「非正社員」とは、正社員以外の者をいう。"]
[]
[]
[]
[]
[]
[]
[]
[]
[]
[]
[null,null,null,null,null,null,"自社の状況により雇用管理区分を設定し、入力してください。"]
[null,"雇用管理区分",null,null,null,null,"区分１",null,null,null,"区分２",null,null,null,"区分３",null,null,null,"区分４",null,null,null,"区分５",null,null,null,"区分６",null,null,null,"区分７",null,null,null,"区分８",null,null,null,"区分９",null,null,null,"区分１０"]
[null,null,null,null,null,null," ",null,null,null," ",null,null,null," ",null,null,null," ",null,null,null," ",null,null,null," ",null,null,null," ",null,null,null," ",null,null,null," ",null,null,null," "]
[]
[]
[null,null,null,"※","職種、資格、雇用形態、就業形態等による労働者の区分　　例：総合職、一般職　　例２：事務職、技術職、専門職、製造職、製造パート　　例３：正社員、契約社員、パートタイム労働者等"]
[]
[null,null,null,null,"⇒詳しくは用語解説（「雇用管理区分」とは）へ"]
[]
[]
[]
[]
[]
[]
[]
[]
[]
[null,"※把握が難しい雇用管理区分については、「労働者に占める女性労働者の割合」（（A)欄に女性労働者数、（B）欄に労働者数を入力）で代替することができます。"]
[null,null,null,null,null,null,null,null,null,null,null,null,null,{"$f":"区分名１","v":"全体"},null,null,null,{"$f":"区分名２","v":""},null,null,null,{"$f":"区分名３","v":""},null,null,null,{"$f":"区分名４","v":""},null,null,null,{"$f":"区分名５","v":""},null,null,null,{"$f":"区分名６","v":""},null,null,null,{"$f":"区分名７","v":""},null,null,null,{"$f":"区分名８","v":""},null,null,null,{"$f":"区分名９","v":""},null,null,null,{"$f":"区分名１０","v":""}]
[null,"直近事業年度の女性の採用者数",null,null,null,null,null,null,null,null,null,"(A)",null," ",null,null,null," ",null,null,null," ",null,null,null," ",null,null,null," ",null,null,null," ",null,null,null," ",null,null,null," ",null,null,null," ",null,null,null," "]
[null,"直近事業年度の採用者数",null,null,null,null,null,null,null,null,null,"(B)",null," ",null,null,null," ",null,null,null," ",null,null,null," ",null,null,null," ",null,null,null," ",null,null,null," ",null,null,null," ",null,null,null," ",null,null,null," "]
[null,"採用した労働者に占める\n女性労働者の割合",null,null,null,null,null,null,null,null,null,"(A/B)",null,{"$f":"IF(AND(TRIM(N77)=\"\",TRIM(N78)=\"\"),\"\",IF(OR(N78=0,TRIM(N78)=\"\"),\"-\",ROUNDDOWN(IF(TRIM(N77)=\"\",0,N77)/N78,3)))","v":""},null,null,null,{"$f":"IF(AND(TRIM(R77)=\"\",TRIM(R78)=\"\"),\"\",IF(OR(R78=0,TRIM(R78)=\"\"),\"-\",ROUNDDOWN(IF(TRIM(R77)=\"\",0,R77)/R78,3)))","v":""},null,null,null,{"$f":"IF(AND(TRIM(V77)=\"\",TRIM(V78)=\"\"),\"\",IF(OR(V78=0,TRIM(V78)=\"\"),\"-\",ROUNDDOWN(IF(TRIM(V77)=\"\",0,V77)/V78,3)))","v":""},null,null,null,{"$f":"IF(AND(TRIM(Z77)=\"\",TRIM(Z78)=\"\"),\"\",IF(OR(Z78=0,TRIM(Z78)=\"\"),\"-\",ROUNDDOWN(IF(TRIM(Z77)=\"\",0,Z77)/Z78,3)))","v":""},null,null,null,{"$f":"IF(AND(TRIM(AD77)=\"\",TRIM(AD78)=\"\"),\"\",IF(OR(AD78=0,TRIM(AD78)=\"\"),\"-\",ROUNDDOWN(IF(TRIM(AD77)=\"\",0,AD77)/AD78,3)))","v":""},null,null,null,{"$f":"IF(AND(TRIM(AH77)=\"\",TRIM(AH78)=\"\"),\"\",IF(OR(AH78=0,TRIM(AH78)=\"\"),\"-\",ROUNDDOWN(IF(TRIM(AH77)=\"\",0,AH77)/AH78,3)))","v":""},null,null,null,{"$f":"IF(AND(TRIM(AL77)=\"\",TRIM(AL78)=\"\"),\"\",IF(OR(AL78=0,TRIM(AL78)=\"\"),\"-\",ROUNDDOWN(IF(TRIM(AL77)=\"\",0,AL77)/AL78,3)))","v":""},null,null,null,{"$f":"IF(AND(TRIM(AP77)=\"\",TRIM(AP78)=\"\"),\"\",IF(OR(AP78=0,TRIM(AP78)=\"\"),\"-\",ROUNDDOWN(IF(TRIM(AP77)=\"\",0,AP77)/AP78,3)))","v":""},null,null,null,{"$f":"IF(AND(TRIM(AT77)=\"\",TRIM(AT78)=\"\"),\"\",IF(OR(AT78=0,TRIM(AT78)=\"\"),\"-\",ROUNDDOWN(IF(TRIM(AT77)=\"\",0,AT77)/AT78,3)))","v":""},null,null,null,{"$f":"IF(AND(TRIM(AX77)=\"\",TRIM(AX78)=\"\"),\"\",IF(OR(AX78=0,TRIM(AX78)=\"\"),\"-\",ROUNDDOWN(IF(TRIM(AX77)=\"\",0,AX77)/AX78,3)))","v":""}]
[null,"判定",null,null,null,null,null,null,null,{"$f":"判定目安_採用者情報","v":0.2},null,null,null,{"$f":"IF(AND(N76<>\"\",N79<>\"\",N79<>\"-\"),IF(N79>=$J$80,\"○\",\"×\"),\"\")","v":""},null,null,null,{"$f":"IF(AND(R76<>\"\",R79<>\"\",R79<>\"-\"),IF(R79>=$J$80,\"○\",\"×\"),\"\")","v":""},null,null,null,{"$f":"IF(AND(V76<>\"\",V79<>\"\",V79<>\"-\"),IF(V79>=$J$80,\"○\",\"×\"),\"\")","v":""},null,null,null,{"$f":"IF(AND(Z76<>\"\",Z79<>\"\",Z79<>\"-\"),IF(Z79>=$J$80,\"○\",\"×\"),\"\")","v":""},null,null,null,{"$f":"IF(AND(AD76<>\"\",AD79<>\"\",AD79<>\"-\"),IF(AD79>=$J$80,\"○\",\"×\"),\"\")","v":""},null,null,null,{"$f":"IF(AND(AH76<>\"\",AH79<>\"\",AH79<>\"-\"),IF(AH79>=$J$80,\"○\",\"×\"),\"\")","v":""},null,null,null,{"$f":"IF(AND(AL76<>\"\",AL79<>\"\",AL79<>\"-\"),IF(AL79>=$J$80,\"○\",\"×\"),\"\")","v":""},null,null,null,{"$f":"IF(AND(AP76<>\"\",AP79<>\"\",AP79<>\"-\"),IF(AP79>=$J$80,\"○\",\"×\"),\"\")","v":""},null,null,null,{"$f":"IF(AND(AT76<>\"\",AT79<>\"\",AT79<>\"-\"),IF(AT79>=$J$80,\"○\",\"×\"),\"\")","v":""},null,null,null,{"$f":"IF(AND(AX76<>\"\",AX79<>\"\",AX79<>\"-\"),IF(AX79>=$J$80,\"○\",\"×\"),\"\")","v":""}]
[]
[]
[null,null,null,"※","「直近の事業年度の女性の採用者数（中途採用含む）÷直近の事業年度の採用者数（中途採用含む）×100（％）」を雇用管理区分ごとに算出する。"]
[]
[null,null,null,null,"⇒詳しくは用語解説⑧へ"]
[]
[]
[]
[]
[]
[]
[]
[]
[]
[null,null,null,null,null,null,null,null,null,null,null,null,{"$f":"区分名１","v":"全体"},null,null,null,{"$f":"区分名２","v":""},null,null,null,{"$f":"区分名３","v":""},null,null,null,{"$f":"区分名４","v":""},null,null,null,{"$f":"区分名５","v":""},null,null,null,{"$f":"区分名６","v":""},null,null,null,{"$f":"区分名７","v":""},null,null,null,{"$f":"区分名８","v":""},null,null,null,{"$f":"区分名９","v":""},null,null,null,{"$f":"区分名１０","v":""}]
[null,"女性の平均継続勤務年数",null,null,null,null,null,null,null,null,"(A)",null," ",null,null,null," ",null,null,null," ",null,null,null," ",null,null,null," ",null,null,null," ",null,null,null," ",null,null,null," ",null,null,null," ",null,null,null," "]
[null,"男性の平均継続勤務年数",null,null,null,null,null,null,null,null,"(B)",null," ",null,null,null," ",null,null,null," ",null,null,null," ",null,null,null," ",null,null,null," ",null,null,null," ",null,null,null," ",null,null,null," ",null,null,null," "]
[null,"男女の平均継続勤務年数\nの差異",null,null,null,null,null,null,null,null,"(A/B)",null,{"$f":"IF(AND(TRIM(M96)=\"\",TRIM(M97)=\"\"),\"\",IF(OR(M97=0,TRIM(M97)=\"\"),\"-\",ROUNDDOWN(IF(TRIM(M96)=\"\",0,M96)/M97,3)))","v":""},null,null,null,{"$f":"IF(AND(TRIM(Q96)=\"\",TRIM(Q97)=\"\"),\"\",IF(OR(Q97=0,TRIM(Q97)=\"\"),\"-\",ROUNDDOWN(IF(TRIM(Q96)=\"\",0,Q96)/Q97,3)))","v":""},null,null,null,{"$f":"IF(AND(TRIM(U96)=\"\",TRIM(U97)=\"\"),\"\",IF(OR(U97=0,TRIM(U97)=\"\"),\"-\",ROUNDDOWN(IF(TRIM(U96)=\"\",0,U96)/U97,3)))","v":""},null,null,null,{"$f":"IF(AND(TRIM(Y96)=\"\",TRIM(Y97)=\"\"),\"\",IF(OR(Y97=0,TRIM(Y97)=\"\"),\"-\",ROUNDDOWN(IF(TRIM(Y96)=\"\",0,Y96)/Y97,3)))","v":""},null,null,null,{"$f":"IF(AND(TRIM(AC96)=\"\",TRIM(AC97)=\"\"),\"\",IF(OR(AC97=0,TRIM(AC97)=\"\"),\"-\",ROUNDDOWN(IF(TRIM(AC96)=\"\",0,AC96)/AC97,3)))","v":""},null,null,null,{"$f":"IF(AND(TRIM(AG96)=\"\",TRIM(AG97)=\"\"),\"\",IF(OR(AG97=0,TRIM(AG97)=\"\"),\"-\",ROUNDDOWN(IF(TRIM(AG96)=\"\",0,AG96)/AG97,3)))","v":""},null,null,null,{"$f":"IF(AND(TRIM(AK96)=\"\",TRIM(AK97)=\"\"),\"\",IF(OR(AK97=0,TRIM(AK97)=\"\"),\"-\",ROUNDDOWN(IF(TRIM(AK96)=\"\",0,AK96)/AK97,3)))","v":""},null,null,null,{"$f":"IF(AND(TRIM(AO96)=\"\",TRIM(AO97)=\"\"),\"\",IF(OR(AO97=0,TRIM(AO97)=\"\"),\"-\",ROUNDDOWN(IF(TRIM(AO96)=\"\",0,AO96)/AO97,3)))","v":""},null,null,null,{"$f":"IF(AND(TRIM(AS96)=\"\",TRIM(AS97)=\"\"),\"\",IF(OR(AS97=0,TRIM(AS97)=\"\"),\"-\",ROUNDDOWN(IF(TRIM(AS96)=\"\",0,AS96)/AS97,3)))","v":""},null,null,null,{"$f":"IF(AND(TRIM(AW96)=\"\",TRIM(AW97)=\"\"),\"\",IF(OR(AW97=0,TRIM(AW97)=\"\"),\"-\",ROUNDDOWN(IF(TRIM(AW96)=\"\",0,AW96)/AW97,3)))","v":""}]
[null,"判定",null,null,null,null,null,null,{"$f":"判定目安_平均勤続年数","v":0.7},null,null,null,{"$f":"IF(AND(M95<>\"\",M98<>\"\",M98<>\"-\"),IF(M98>=$I$99,\"○\",\"×\"),\"\")","v":""},null,null,null,{"$f":"IF(AND(Q95<>\"\",Q98<>\"\",Q98<>\"-\"),IF(Q98>=$I$99,\"○\",\"×\"),\"\")","v":""},null,null,null,{"$f":"IF(AND(U95<>\"\",U98<>\"\",U98<>\"-\"),IF(U98>=$I$99,\"○\",\"×\"),\"\")","v":""},null,null,null,{"$f":"IF(AND(Y95<>\"\",Y98<>\"\",Y98<>\"-\"),IF(Y98>=$I$99,\"○\",\"×\"),\"\")","v":""},null,null,null,{"$f":"IF(AND(AC95<>\"\",AC98<>\"\",AC98<>\"-\"),IF(AC98>=$I$99,\"○\",\"×\"),\"\")","v":""},null,null,null,{"$f":"IF(AND(AG95<>\"\",AG98<>\"\",AG98<>\"-\"),IF(AG98>=$I$99,\"○\",\"×\"),\"\")","v":""},null,null,null,{"$f":"IF(AND(AK95<>\"\",AK98<>\"\",AK98<>\"-\"),IF(AK98>=$I$99,\"○\",\"×\"),\"\")","v":""},null,null,null,{"$f":"IF(AND(AO95<>\"\",AO98<>\"\",AO98<>\"-\"),IF(AO98>=$I$99,\"○\",\"×\"),\"\")","v":""},null,null,null,{"$f":"IF(AND(AS95<>\"\",AS98<>\"\",AS98<>\"-\"),IF(AS98>=$I$99,\"○\",\"×\"),\"\")","v":""},null,null,null,{"$f":"IF(AND(AW95<>\"\",AW98<>\"\",AW98<>\"-\"),IF(AW98>=$I$99,\"○\",\"×\"),\"\")","v":""}]
[]
[]
[null,null,null,"※","期間の定めのない労働契約を締結している労働者（例：正社員）と、定めのある労働契約をしている者でも通算した期間が５年を超える労働者は含める。"]
[]
[null,null,null,null,"⇒詳しくは用語解説⑨へ"]
[]
[]
[]
[]
[]
[]
[]
[]
[]
[null,"※始まり月の入力欄に、事業年度の期首の月を入れてください。12カ月分が自動入力されます。"]
[null,"また、入力数値をコピーしたい場合は、コピー元の数字を",null,null,null,null,null,null,null,null,null,null,null,null,null,null,null,"Ctrl＋C",null,null,"を押し、コピー先の入力欄に",null,null,null,null,null,null,null,null,null,"Ctrl+V",null,null,"を押して下さい。"]
[null,"（１）常時雇用する労働者等（ (２)(３) 以外）"]
[null,null,null,null,null,null,null,null,"（始まり月）",null,null,null,null," ",null,null,{"$f":"IF(TRIM($N$117)=\"\",\"\",$N$117)","v":""},null,null,{"$f":"IF(TRIM($N$117)=\"\",\"\",MONTH(DATE(2019, Q$117+2,1)-1))","v":""},null,null,{"$f":"IF(TRIM($N$117)=\"\",\"\",MONTH(DATE(2019, T$117+2,1)-1))","v":""},null,null,{"$f":"IF(TRIM($N$117)=\"\",\"\",MONTH(DATE(2019, W$117+2,1)-1))","v":""},null,null,{"$f":"IF(TRIM($N$117)=\"\",\"\",MONTH(DATE(2019, Z$117+2,1)-1))","v":""},null,null,{"$f":"IF(TRIM($N$117)=\"\",\"\",MONTH(DATE(2019, AC$117+2,1)-1))","v":""},null,null,{"$f":"IF(TRIM($N$117)=\"\",\"\",MONTH(DATE(2019, AF$117+2,1)-1))","v":""},null,null,{"$f":"IF(TRIM($N$117)=\"\",\"\",MONTH(DATE(2019, AI$117+2,1)-1))","v":""},null,null,{"$f":"IF(TRIM($N$117)=\"\",\"\",MONTH(DATE(2019, AL$117+2,1)-1))","v":""},null,null,{"$f":"IF(TRIM($N$117)=\"\",\"\",MONTH(DATE(2019, AO$117+2,1)-1))","v":""},null,null,{"$f":"IF(TRIM($N$117)=\"\",\"\",MONTH(DATE(2019, AR$117+2,1)-1))","v":""},null,null,{"$f":"IF(TRIM($N$117)=\"\",\"\",MONTH(DATE(2019, AU$117+2,1)-1))","v":""}]
[null,"各月の対象労働者の「法定時間外労働＋\n法定休日労働」の総時間数の合計",null,null,null,null,null,null,null,null,null,null,null,null,"(A)",null," ",null,null," ",null,null," ",null,null," ",null,null," ",null,null," ",null,null," ",null,null," ",null,null," ",null,null," ",null,null," ",null,null," "]
[null,"対象労働者数",null,null,null,null,null,null,null,null,null,null,null,null,"(B)",null," ",null,null," ",null,null," ",null,null," ",null,null," ",null,null," ",null,null," ",null,null," ",null,null," ",null,null," ",null,null," ",null,null," "]
[null,"労働者の各月ごとの平均残業\n時間数等の労働時間",null,null,null,null,null,null,null,null,null,null,null,null,"(A/B)",null,{"$f":"IF(AND(TRIM(Q118)=\"\",TRIM(Q119)=\"\"),\"\",IF(OR(Q119=0,TRIM(Q119)=\"\"),\"-\",ROUNDDOWN(IF(TRIM(Q118)=\"\",0,Q118)/Q119,1)))","v":""},null,null,{"$f":"IF(AND(TRIM(T118)=\"\",TRIM(T119)=\"\"),\"\",IF(OR(T119=0,TRIM(T119)=\"\"),\"-\",ROUNDDOWN(IF(TRIM(T118)=\"\",0,T118)/T119,1)))","v":""},null,null,{"$f":"IF(AND(TRIM(W118)=\"\",TRIM(W119)=\"\"),\"\",IF(OR(W119=0,TRIM(W119)=\"\"),\"-\",ROUNDDOWN(IF(TRIM(W118)=\"\",0,W118)/W119,1)))","v":""},null,null,{"$f":"IF(AND(TRIM(Z118)=\"\",TRIM(Z119)=\"\"),\"\",IF(OR(Z119=0,TRIM(Z119)=\"\"),\"-\",ROUNDDOWN(IF(TRIM(Z118)=\"\",0,Z118)/Z119,1)))","v":""},null,null,{"$f":"IF(AND(TRIM(AC118)=\"\",TRIM(AC119)=\"\"),\"\",IF(OR(AC119=0,TRIM(AC119)=\"\"),\"-\",ROUNDDOWN(IF(TRIM(AC118)=\"\",0,AC118)/AC119,1)))","v":""},null,null,{"$f":"IF(AND(TRIM(AF118)=\"\",TRIM(AF119)=\"\"),\"\",IF(OR(AF119=0,TRIM(AF119)=\"\"),\"-\",ROUNDDOWN(IF(TRIM(AF118)=\"\",0,AF118)/AF119,1)))","v":""},null,null,{"$f":"IF(AND(TRIM(AI118)=\"\",TRIM(AI119)=\"\"),\"\",IF(OR(AI119=0,TRIM(AI119)=\"\"),\"-\",ROUNDDOWN(IF(TRIM(AI118)=\"\",0,AI118)/AI119,1)))","v":""},null,null,{"$f":"IF(AND(TRIM(AL118)=\"\",TRIM(AL119)=\"\"),\"\",IF(OR(AL119=0,TRIM(AL119)=\"\"),\"-\",ROUNDDOWN(IF(TRIM(AL118)=\"\",0,AL118)/AL119,1)))","v":""},null,null,{"$f":"IF(AND(TRIM(AO118)=\"\",TRIM(AO119)=\"\"),\"\",IF(OR(AO119=0,TRIM(AO119)=\"\"),\"-\",ROUNDDOWN(IF(TRIM(AO118)=\"\",0,AO118)/AO119,1)))","v":""},null,null,{"$f":"IF(AND(TRIM(AR118)=\"\",TRIM(AR119)=\"\"),\"\",IF(OR(AR119=0,TRIM(AR119)=\"\"),\"-\",ROUNDDOWN(IF(TRIM(AR118)=\"\",0,AR118)/AR119,1)))","v":""},null,null,{"$f":"IF(AND(TRIM(AU118)=\"\",TRIM(AU119)=\"\"),\"\",IF(OR(AU119=0,TRIM(AU119)=\"\"),\"-\",ROUNDDOWN(IF(TRIM(AU118)=\"\",0,AU118)/AU119,1)))","v":""},null,null,{"$f":"IF(AND(TRIM(AX118)=\"\",TRIM(AX119)=\"\"),\"\",IF(OR(AX119=0,TRIM(AX119)=\"\"),\"-\",ROUNDDOWN(IF(TRIM(AX118)=\"\",0,AX118)/AX119,1)))","v":""}]
[null,"判定",null,null,null,null,null,null,null,null,null,{"$f":"判定目安_平均残業時間&\"時間未満\"","v":"45時間未満"},null,null,null,null,{"$f":"IF(AND(Q120<>\"\",Q120<>\"-\"),IF(Q120<判定目安_平均残業時間,\"○\",\"×\"),\"\")","v":""},null,null,{"$f":"IF(AND(T120<>\"\",T120<>\"-\"),IF(T120<判定目安_平均残業時間,\"○\",\"×\"),\"\")","v":""},null,null,{"$f":"IF(AND(W120<>\"\",W120<>\"-\"),IF(W120<判定目安_平均残業時間,\"○\",\"×\"),\"\")","v":""},null,null,{"$f":"IF(AND(Z120<>\"\",Z120<>\"-\"),IF(Z120<判定目安_平均残業時間,\"○\",\"×\"),\"\")","v":""},null,null,{"$f":"IF(AND(AC120<>\"\",AC120<>\"-\"),IF(AC120<判定目安_平均残業時間,\"○\",\"×\"),\"\")","v":""},null,null,{"$f":"IF(AND(AF120<>\"\",AF120<>\"-\"),IF(AF120<判定目安_平均残業時間,\"○\",\"×\"),\"\")","v":""},null,null,{"$f":"IF(AND(AI120<>\"\",AI120<>\"-\"),IF(AI120<判定目安_平均残業時間,\"○\",\"×\"),\"\")","v":""},null,null,{"$f":"IF(AND(AL120<>\"\",AL120<>\"-\"),IF(AL120<判定目安_平均残業時間,\"○\",\"×\"),\"\")","v":""},null,null,{"$f":"IF(AND(AO120<>\"\",AO120<>\"-\"),IF(AO120<判定目安_平均残業時間,\"○\",\"×\"),\"\")","v":""},null,null,{"$f":"IF(AND(AR120<>\"\",AR120<>\"-\"),IF(AR120<判定目安_平均残業時間,\"○\",\"×\"),\"\")","v":""},null,null,{"$f":"IF(AND(AU120<>\"\",AU120<>\"-\"),IF(AU120<判定目安_平均残業時間,\"○\",\"×\"),\"\")","v":""},null,null,{"$f":"IF(AND(AX120<>\"\",AX120<>\"-\"),IF(AX120<判定目安_平均残業時間,\"○\",\"×\"),\"\")","v":""}]
[]
[null,"（２）パートタイム労働者"]
[null,null,null,null,null,null,null,null,"（始まり月）",null,null,null,null," ",null,null,{"$f":"IF(TRIM($N$124)=\"\",\"\",$N$124)","v":""},null,null,{"$f":"IF(TRIM($N$124)=\"\",\"\",MONTH(DATE(2019, Q$124+2,1)-1))","v":""},null,null,{"$f":"IF(TRIM($N$124)=\"\",\"\",MONTH(DATE(2019, T$124+2,1)-1))","v":""},null,null,{"$f":"IF(TRIM($N$124)=\"\",\"\",MONTH(DATE(2019, W$124+2,1)-1))","v":""},null,null,{"$f":"IF(TRIM($N$124)=\"\",\"\",MONTH(DATE(2019, Z$124+2,1)-1))","v":""},null,null,{"$f":"IF(TRIM($N$124)=\"\",\"\",MONTH(DATE(2019, AC$124+2,1)-1))","v":""},null,null,{"$f":"IF(TRIM($N$124)=\"\",\"\",MONTH(DATE(2019, AF$124+2,1)-1))","v":""},null,null,{"$f":"IF(TRIM($N$124)=\"\",\"\",MONTH(DATE(2019, AI$124+2,1)-1))","v":""},null,null,{"$f":"IF(TRIM($N$124)=\"\",\"\",MONTH(DATE(2019, AL$124+2,1)-1))","v":""},null,null,{"$f":"IF(TRIM($N$124)=\"\",\"\",MONTH(DATE(2019, AO$124+2,1)-1))","v":""},null,null,{"$f":"IF(TRIM($N$124)=\"\",\"\",MONTH(DATE(2019, AR$124+2,1)-1))","v":""},null,null,{"$f":"IF(TRIM($N$124)=\"\",\"\",MONTH(DATE(2019, AU$124+2,1)-1))","v":""}]
[null,"各月の対象労働者の「法定時間外労働＋\n法定休日労働」の総時間数の合計",null,null,null,null,null,null,null,null,null,null,null,null,"(A)",null," ",null,null," ",null,null," ",null,null," ",null,null," ",null,null," ",null,null," ",null,null," ",null,null," ",null,null," ",null,null," ",null,null," "]
[null,"対象労働者数",null,null,null,null,null,null,null,null,null,null,null,null,"(B)",null," ",null,null," ",null,null," ",null,null," ",null,null," ",null,null," ",null,null," ",null,null," ",null,null," ",null,null," ",null,null," ",null,null," "]
[null,"労働者の各月ごとの平均残業\n時間数等の労働時間",null,null,null,null,null,null,null,null,null,null,null,null,"(A/B)",null,{"$f":"IF(AND(TRIM(Q125)=\"\",TRIM(Q126)=\"\"),\"\",IF(OR(Q126=0,TRIM(Q126)=\"\"),\"-\",ROUNDDOWN(IF(TRIM(Q125)=\"\",0,Q125)/Q126,1)))","v":""},null,null,{"$f":"IF(AND(TRIM(T125)=\"\",TRIM(T126)=\"\"),\"\",IF(OR(T126=0,TRIM(T126)=\"\"),\"-\",ROUNDDOWN(IF(TRIM(T125)=\"\",0,T125)/T126,1)))","v":""},null,null,{"$f":"IF(AND(TRIM(W125)=\"\",TRIM(W126)=\"\"),\"\",IF(OR(W126=0,TRIM(W126)=\"\"),\"-\",ROUNDDOWN(IF(TRIM(W125)=\"\",0,W125)/W126,1)))","v":""},null,null,{"$f":"IF(AND(TRIM(Z125)=\"\",TRIM(Z126)=\"\"),\"\",IF(OR(Z126=0,TRIM(Z126)=\"\"),\"-\",ROUNDDOWN(IF(TRIM(Z125)=\"\",0,Z125)/Z126,1)))","v":""},null,null,{"$f":"IF(AND(TRIM(AC125)=\"\",TRIM(AC126)=\"\"),\"\",IF(OR(AC126=0,TRIM(AC126)=\"\"),\"-\",ROUNDDOWN(IF(TRIM(AC125)=\"\",0,AC125)/AC126,1)))","v":""},null,null,{"$f":"IF(AND(TRIM(AF125)=\"\",TRIM(AF126)=\"\"),\"\",IF(OR(AF126=0,TRIM(AF126)=\"\"),\"-\",ROUNDDOWN(IF(TRIM(AF125)=\"\",0,AF125)/AF126,1)))","v":""},null,null,{"$f":"IF(AND(TRIM(AI125)=\"\",TRIM(AI126)=\"\"),\"\",IF(OR(AI126=0,TRIM(AI126)=\"\"),\"-\",ROUNDDOWN(IF(TRIM(AI125)=\"\",0,AI125)/AI126,1)))","v":""},null,null,{"$f":"IF(AND(TRIM(AL125)=\"\",TRIM(AL126)=\"\"),\"\",IF(OR(AL126=0,TRIM(AL126)=\"\"),\"-\",ROUNDDOWN(IF(TRIM(AL125)=\"\",0,AL125)/AL126,1)))","v":""},null,null,{"$f":"IF(AND(TRIM(AO125)=\"\",TRIM(AO126)=\"\"),\"\",IF(OR(AO126=0,TRIM(AO126)=\"\"),\"-\",ROUNDDOWN(IF(TRIM(AO125)=\"\",0,AO125)/AO126,1)))","v":""},null,null,{"$f":"IF(AND(TRIM(AR125)=\"\",TRIM(AR126)=\"\"),\"\",IF(OR(AR126=0,TRIM(AR126)=\"\"),\"-\",ROUNDDOWN(IF(TRIM(AR125)=\"\",0,AR125)/AR126,1)))","v":""},null,null,{"$f":"IF(AND(TRIM(AU125)=\"\",TRIM(AU126)=\"\"),\"\",IF(OR(AU126=0,TRIM(AU126)=\"\"),\"-\",ROUNDDOWN(IF(TRIM(AU125)=\"\",0,AU125)/AU126,1)))","v":""},null,null,{"$f":"IF(AND(TRIM(AX125)=\"\",TRIM(AX126)=\"\"),\"\",IF(OR(AX126=0,TRIM(AX126)=\"\"),\"-\",ROUNDDOWN(IF(TRIM(AX125)=\"\",0,AX125)/AX126,1)))","v":""}]
[null,"判定",null,null,null,null,null,null,null,null,null,{"$f":"判定目安_平均残業時間&\"時間未満\"","v":"45時間未満"},null,null,null,null,{"$f":"IF(AND(Q127<>\"\",Q127<>\"-\"),IF(Q127<判定目安_平均残業時間,\"○\",\"×\"),\"\")","v":""},null,null,{"$f":"IF(AND(T127<>\"\",T127<>\"-\"),IF(T127<判定目安_平均残業時間,\"○\",\"×\"),\"\")","v":""},null,null,{"$f":"IF(AND(W127<>\"\",W127<>\"-\"),IF(W127<判定目安_平均残業時間,\"○\",\"×\"),\"\")","v":""},null,null,{"$f":"IF(AND(Z127<>\"\",Z127<>\"-\"),IF(Z127<判定目安_平均残業時間,\"○\",\"×\"),\"\")","v":""},null,null,{"$f":"IF(AND(AC127<>\"\",AC127<>\"-\"),IF(AC127<判定目安_平均残業時間,\"○\",\"×\"),\"\")","v":""},null,null,{"$f":"IF(AND(AF127<>\"\",AF127<>\"-\"),IF(AF127<判定目安_平均残業時間,\"○\",\"×\"),\"\")","v":""},null,null,{"$f":"IF(AND(AI127<>\"\",AI127<>\"-\"),IF(AI127<判定目安_平均残業時間,\"○\",\"×\"),\"\")","v":""},null,null,{"$f":"IF(AND(AL127<>\"\",AL127<>\"-\"),IF(AL127<判定目安_平均残業時間,\"○\",\"×\"),\"\")","v":""},null,null,{"$f":"IF(AND(AO127<>\"\",AO127<>\"-\"),IF(AO127<判定目安_平均残業時間,\"○\",\"×\"),\"\")","v":""},null,null,{"$f":"IF(AND(AR127<>\"\",AR127<>\"-\"),IF(AR127<判定目安_平均残業時間,\"○\",\"×\"),\"\")","v":""},null,null,{"$f":"IF(AND(AU127<>\"\",AU127<>\"-\"),IF(AU127<判定目安_平均残業時間,\"○\",\"×\"),\"\")","v":""},null,null,{"$f":"IF(AND(AX127<>\"\",AX127<>\"-\"),IF(AX127<判定目安_平均残業時間,\"○\",\"×\"),\"\")","v":""}]
[]
[null,"（３）専門業務型裁量労働制および企画業務型裁量労働制の適用を受ける労働者"]
[null,null,null,null,null,null,null,null,"（始まり月）",null,null,null,null," ",null,null,{"$f":"IF(TRIM($N$131)=\"\",\"\",$N$131)","v":""},null,null,{"$f":"IF(TRIM($N$131)=\"\",\"\",MONTH(DATE(2019, Q$131+2,1)-1))","v":""},null,null,{"$f":"IF(TRIM($N$131)=\"\",\"\",MONTH(DATE(2019, T$131+2,1)-1))","v":""},null,null,{"$f":"IF(TRIM($N$131)=\"\",\"\",MONTH(DATE(2019, W$131+2,1)-1))","v":""},null,null,{"$f":"IF(TRIM($N$131)=\"\",\"\",MONTH(DATE(2019, Z$131+2,1)-1))","v":""},null,null,{"$f":"IF(TRIM($N$131)=\"\",\"\",MONTH(DATE(2019, AC$131+2,1)-1))","v":""},null,null,{"$f":"IF(TRIM($N$131)=\"\",\"\",MONTH(DATE(2019, AF$131+2,1)-1))","v":""},null,null,{"$f":"IF(TRIM($N$131)=\"\",\"\",MONTH(DATE(2019, AI$131+2,1)-1))","v":""},null,null,{"$f":"IF(TRIM($N$131)=\"\",\"\",MONTH(DATE(2019, AL$131+2,1)-1))","v":""},null,null,{"$f":"IF(TRIM($N$131)=\"\",\"\",MONTH(DATE(2019, AO$131+2,1)-1))","v":""},null,null,{"$f":"IF(TRIM($N$131)=\"\",\"\",MONTH(DATE(2019, AR$131+2,1)-1))","v":""},null,null,{"$f":"IF(TRIM($N$131)=\"\",\"\",MONTH(DATE(2019, AU$131+2,1)-1))","v":""}]
[null,"各月の対象労働者の「法定時間外労働＋\n法定休日労働」の総時間数の合計",null,null,null,null,null,null,null,null,null,null,null,null,"(A)",null," ",null,null," ",null,null," ",null,null," ",null,null," ",null,null," ",null,null," ",null,null," ",null,null," ",null,null," ",null,null," ",null,null," "]
[null,"対象労働者数",null,null,null,null,null,null,null,null,null,null,null,null,"(B)",null," ",null,null," ",null,null," ",null,null," ",null,null," ",null,null," ",null,null," ",null,null," ",null,null," ",null,null," ",null,null," ",null,null," "]
[null,"労働者の各月ごとの平均残業\n時間数等の労働時間",null,null,null,null,null,null,null,null,null,null,null,null,"(A/B)",null,{"$f":"IF(AND(TRIM(Q132)=\"\",TRIM(Q133)=\"\"),\"\",IF(OR(Q133=0,TRIM(Q133)=\"\"),\"-\",ROUNDDOWN(IF(TRIM(Q132)=\"\",0,Q132)/Q133,1)))","v":""},null,null,{"$f":"IF(AND(TRIM(T132)=\"\",TRIM(T133)=\"\"),\"\",IF(OR(T133=0,TRIM(T133)=\"\"),\"-\",ROUNDDOWN(IF(TRIM(T132)=\"\",0,T132)/T133,1)))","v":""},null,null,{"$f":"IF(AND(TRIM(W132)=\"\",TRIM(W133)=\"\"),\"\",IF(OR(W133=0,TRIM(W133)=\"\"),\"-\",ROUNDDOWN(IF(TRIM(W132)=\"\",0,W132)/W133,1)))","v":""},null,null,{"$f":"IF(AND(TRIM(Z132)=\"\",TRIM(Z133)=\"\"),\"\",IF(OR(Z133=0,TRIM(Z133)=\"\"),\"-\",ROUNDDOWN(IF(TRIM(Z132)=\"\",0,Z132)/Z133,1)))","v":""},null,null,{"$f":"IF(AND(TRIM(AC132)=\"\",TRIM(AC133)=\"\"),\"\",IF(OR(AC133=0,TRIM(AC133)=\"\"),\"-\",ROUNDDOWN(IF(TRIM(AC132)=\"\",0,AC132)/AC133,1)))","v":""},null,null,{"$f":"IF(AND(TRIM(AF132)=\"\",TRIM(AF133)=\"\"),\"\",IF(OR(AF133=0,TRIM(AF133)=\"\"),\"-\",ROUNDDOWN(IF(TRIM(AF132)=\"\",0,AF132)/AF133,1)))","v":""},null,null,{"$f":"IF(AND(TRIM(AI132)=\"\",TRIM(AI133)=\"\"),\"\",IF(OR(AI133=0,TRIM(AI133)=\"\"),\"-\",ROUNDDOWN(IF(TRIM(AI132)=\"\",0,AI132)/AI133,1)))","v":""},null,null,{"$f":"IF(AND(TRIM(AL132)=\"\",TRIM(AL133)=\"\"),\"\",IF(OR(AL133=0,TRIM(AL133)=\"\"),\"-\",ROUNDDOWN(IF(TRIM(AL132)=\"\",0,AL132)/AL133,1)))","v":""},null,null,{"$f":"IF(AND(TRIM(AO132)=\"\",TRIM(AO133)=\"\"),\"\",IF(OR(AO133=0,TRIM(AO133)=\"\"),\"-\",ROUNDDOWN(IF(TRIM(AO132)=\"\",0,AO132)/AO133,1)))","v":""},null,null,{"$f":"IF(AND(TRIM(AR132)=\"\",TRIM(AR133)=\"\"),\"\",IF(OR(AR133=0,TRIM(AR133)=\"\"),\"-\",ROUNDDOWN(IF(TRIM(AR132)=\"\",0,AR132)/AR133,1)))","v":""},null,null,{"$f":"IF(AND(TRIM(AU132)=\"\",TRIM(AU133)=\"\"),\"\",IF(OR(AU133=0,TRIM(AU133)=\"\"),\"-\",ROUNDDOWN(IF(TRIM(AU132)=\"\",0,AU132)/AU133,1)))","v":""},null,null,{"$f":"IF(AND(TRIM(AX132)=\"\",TRIM(AX133)=\"\"),\"\",IF(OR(AX133=0,TRIM(AX133)=\"\"),\"-\",ROUNDDOWN(IF(TRIM(AX132)=\"\",0,AX132)/AX133,1)))","v":""}]
[null,"判定",null,null,null,null,null,null,null,null,null,{"$f":"判定目安_平均残業時間&\"時間未満\"","v":"45時間未満"},null,null,null,null,{"$f":"IF(AND(Q134<>\"\",Q134<>\"-\"),IF(Q134<判定目安_平均残業時間,\"○\",\"×\"),\"\")","v":""},null,null,{"$f":"IF(AND(T134<>\"\",T134<>\"-\"),IF(T134<判定目安_平均残業時間,\"○\",\"×\"),\"\")","v":""},null,null,{"$f":"IF(AND(W134<>\"\",W134<>\"-\"),IF(W134<判定目安_平均残業時間,\"○\",\"×\"),\"\")","v":""},null,null,{"$f":"IF(AND(Z134<>\"\",Z134<>\"-\"),IF(Z134<判定目安_平均残業時間,\"○\",\"×\"),\"\")","v":""},null,null,{"$f":"IF(AND(AC134<>\"\",AC134<>\"-\"),IF(AC134<判定目安_平均残業時間,\"○\",\"×\"),\"\")","v":""},null,null,{"$f":"IF(AND(AF134<>\"\",AF134<>\"-\"),IF(AF134<判定目安_平均残業時間,\"○\",\"×\"),\"\")","v":""},null,null,{"$f":"IF(AND(AI134<>\"\",AI134<>\"-\"),IF(AI134<判定目安_平均残業時間,\"○\",\"×\"),\"\")","v":""},null,null,{"$f":"IF(AND(AL134<>\"\",AL134<>\"-\"),IF(AL134<判定目安_平均残業時間,\"○\",\"×\"),\"\")","v":""},null,null,{"$f":"IF(AND(AO134<>\"\",AO134<>\"-\"),IF(AO134<判定目安_平均残業時間,\"○\",\"×\"),\"\")","v":""},null,null,{"$f":"IF(AND(AR134<>\"\",AR134<>\"-\"),IF(AR134<判定目安_平均残業時間,\"○\",\"×\"),\"\")","v":""},null,null,{"$f":"IF(AND(AU134<>\"\",AU134<>\"-\"),IF(AU134<判定目安_平均残業時間,\"○\",\"×\"),\"\")","v":""},null,null,{"$f":"IF(AND(AX134<>\"\",AX134<>\"-\"),IF(AX134<判定目安_平均残業時間,\"○\",\"×\"),\"\")","v":""}]
[]
[]
[null,null,null,"※","残業時間数等＝（法定時間外労働＋法定休日労働）\n常時雇用する労働者は、（２）パートタイム労働者と（３）専門業務型裁量労働制および企画業務型裁量労働制の適用を受ける労働者と（１）それ以外とに、区分して把握する。"]
[]
[]
[null,null,null,null,"⇒詳しくは用語解説⑪へ"]
[]
[]
[]
[]
[]
[]
[]
[]
[]
[null,null,null,null,null,null,null,null,null,null,null,null,"全体"]
[null,"女性の管理職数",null,null,null,null,null,null,null,null,"(A)",null," "]
[null,"管理職数",null,null,null,null,null,null,null,null,"(B)",null," "]
[null,"管理職に占める女性労働者の割合",null,null,null,null,null,null,null,null,"(A/B)",null,{"$f":"IF(AND(TRIM(M152)=\"\",TRIM(M153)=\"\"),\"\",IF(OR(M153=0,TRIM(M153)=\"\"),\"-\",ROUNDDOWN(IF(TRIM(M152)=\"\",0,M152)/M153,3)))","v":""}]
[null,"判定",null,null,null,null,null,null,{"$f":"判定目安_管理職情報","v":0.2},null,null,null,{"$f":"IF(AND(M151<>\"\",M154<>\"\",M154<>\"-\"),IF(M154>=$I$155,\"○\",\"×\"),\"\")","v":""}]
[]
[]
[null,null,null,"※　管理職とは、「課長級」と「課長級より上位の役職（役員を除く）」にある労働者の合計"]
[null,null,null,null,"⇒詳しくは用語解説⑯へ"]

{"sheet":"現状把握","index":18,"n_rows":37,"n_cols":26,"rows_kept":37,"cut":false,"hidden":false,"merged":[[35,2,35,32],[36,2,40,32],[21,2,22,8],[19,2,20,8],[28,2,31,8],[28,9,31,32],[23,2,24,8],[23,9,24,16],[23,17,24,24],[23,25,24,32],[27,2,27,8],[27,9,27,32],[19,9,20,16],[2,1,2,40],[19,17,20,24],[19,25,20,32],[21,9,22,16],[21,17,22,24],[21,25,22,32],[13,2,15,37]]}
[]
[null,null,null,null,{"$f":"初期設定!$E$9","v":"中小企業のための女性活躍『行動計画』策定プログラム"}]
[null," "]
[]
[]
[]
[]
[]
[]
[]
[]
[null,"＜ＳＴＥＰ３＞　状況把握"]
[]
[null,null,"自社の女性活躍状況にどのような特徴や課題があるか分析するため、これまで入力した基礎項目について、目安の値と自社の値を比較し判定します。"]
[]
[]
[]
[null,"○タイプ分類と特徴"]
[]
[null,null,null,null,null,null,null,null,null,"採用した労働者に占める女性労働者の割合",null,null,null,null,null,null,null,"男女の平均継続勤務\n年数の差異",null,null,null,null,null,null,null,"管理職に占める女性\n労働者の割合"]
[]
[null,null,"目安の値",null,null,null,null,null,null,{"$f":"判定目安_採用者情報","v":0.2},null,null,null,null,null,null,null,{"$f":"判定目安_平均勤続年数","v":0.7},null,null,null,null,null,null,null,{"$f":"判定目安_管理職情報","v":0.2}]
[]
[null,null,"判定",null,null,null,null,null,null,{"$f":"IF(採用者情報_自社比率>=J22,\"○\",\"×\")","v":"○"},null,null,null,null,null,null,null,{"$f":"IF(平均勤続年数_自社比率>=R22,\"○\",\"×\")","v":"○"},null,null,null,null,null,null,null,{"$f":"IF(管理職情報_自社比率>=Z22,\"○\",\"×\")","v":"○"}]
[]
[]
[]
[null,null,"タイプ",null,null,null,null,null,null,"特徴"]
[null,null,{"$f":"タイプ分類名","v":"⑥"},null,null,null,null,null,null,{"$f":"タイプ分類特徴","v":"女性の活躍が比較的進んでいる企業"}]
[]
[]
[]
[]
[null,"○長時間労働の状況"]
[]
[null,null,"特徴"]
[null,null,{"$f":"IF(労働時間課題有無=\"×\",SUBSTITUTE(労働時間課題文言,\"%1\",労働時間超過月数),労働時間課題無し文言)","v":"「残業時間（法定労働時間を超える時間数）」が全ての月で、「45時間」を上回っている月はありません。\n更なる長時間労働削減等、働き方改革のための課題を設定し、取り組みましょう。"}]

{"sheet":"女性活躍の現状","index":19,"n_rows":62,"n_cols":52,"rows_kept":62,"cut":false,"hidden":false,"merged":[[53,1,53,2],[53,3,53,18],[59,1,59,2],[59,3,59,18],[45,22,45,23],[45,24,45,25],[45,26,45,27],[45,14,45,15],[45,16,45,17],[46,22,46,23],[46,24,46,25],[46,26,46,27],[45,4,45,5],[45,6,45,7],[45,8,45,9],[45,10,45,11],[45,12,45,13],[46,4,46,5],[46,6,46,7],[46,8,46,9],[46,10,46,11],[46,12,46,13],[46,14,46,15],[42,26,42,27],[43,4,43,5],[43,6,43,7],[43,8,43,9],[43,10,43,11],[43,12,43,13],[43,14,43,15],[43,16,43,17],[43,18,43,19],[43,20,43,21],[43,22,43,23],[43,24,43,25],[43,26,43,27],[42,4,42,5],[42,6,42,7],[42,8,42,9],[42,10,42,11],[42,12,42,13],[40,14,40,15],[40,16,40,17],[39,10,39,11],[39,24,39,25],[39,12,39,13],[46,18,46,19],[46,20,46,21],[45,18,45,19],[45,20,45,21],[42,22,42,23],[42,24,42,25],[42,14,42,15],[42,16,42,17],[46,16,46,17],[42,20,42,21],[40,26,40,27],[39,26,39,27],[28,19,28,21],[28,22,28,24],[40,22,40,23],[36,3,36,24],[39,14,39,15],[39,16,39,17],[39,18,39,19],[39,20,39,21],[34,10,34,12],[34,13,34,15],[34,16,34,18],[39,4,39,5],[40,24,40,25],[39,6,39,7],[39,8,39,9],[40,18,40,19],[40,20,40,21],[40,4,40,5],[40,6,40,7],[40,8,40,9],[40,10,40,11],[40,12,40,13],[28,7,28,9],[29,19,29,21],[28,28,28,30],[18,9,18,30],[26,3,26,18],[26,1,26,2],[29,25,29,27],[29,13,29,15],[29,4,29,6],[29,7,29,9],[29,10,29,12],[28,25,28,27],[28,10,28,12],[28,13,28,15],[11,1,11,30],[29,28,29,30],[29,1,29,3],[29,22,29,24],[34,28,34,30],[31,1,31,2],[12,24,12,29],[20,14,20,18],[22,14,22,18],[21,14,21,18],[18,1,18,2],[20,9,20,13],[22,9,22,13],[21,9,21,13],[19,1,19,2],[16,1,16,2],[16,9,16,30],[17,1,17,2],[17,9,17,30],[28,16,28,18],[31,3,31,19],[29,16,29,18],[28,1,28,3],[28,4,28,6],[2,1,2,40],[36,1,36,2],[39,22,39,23],[61,3,64,30],[33,16,33,18],[33,19,33,21],[33,22,33,24],[33,25,33,27],[33,28,33,30],[33,1,33,3],[33,4,33,6],[33,7,33,9],[33,10,33,12],[33,13,33,15],[56,6,57,30],[48,1,48,2],[34,19,34,21],[34,22,34,24],[34,25,34,27],[49,9,49,12],[34,1,34,3],[34,4,34,6],[34,7,34,9],[42,18,42,19]]}
[]
[null,null,null,null,{"$f":"初期設定!$E$9","v":"中小企業のための女性活躍『行動計画』策定プログラム"}]
[null," "]
[]
[]
[]
[]
[]
[]
[]
[]
[null,{"$f":"状況管理!G3&\"　女性活躍の状況\"","v":"　女性活躍の状況"}]
[null,null,null,null,null,null,null,null,null,null,null,null,null,null,null,null,null,null,null,null,null,null,null,null,{"$f":"NOW()","v":"2021-10-25T14:46:41.380"}]
[]
[null,"１ ．企業基本情報"]
[]
[null,1,null,"企業名：",null,null,null,null,null,{"$f":"状況管理!G3","v":""}]
[null,2,null,"企業名（フリガナ）：",null,null,null,null,null,{"$f":"状況管理!G4","v":""}]
[null,3,null,"主たる業種：",null,null,null,null,null,{"$f":"状況管理!G5","v":""}]
[null,4,null,"常時雇用する労働者："]
[null,null,null,null,null,null,null,null,null,"正社員",null,null,null,null,"非正社員"]
[null,null,null,null,null,null,"女性",null,null,{"$f":"労働者数_正社員_女性","v":" "},null,null,null,null,{"$f":"労働者数_契約社員_女性","v":" "}]
[null,null,null,null,null,null,"男性",null,null,{"$f":"労働者数_正社員_男性","v":" "},null,null,null,null,{"$f":"労働者数_契約社員_男性","v":" "}]
[]
[null,"２．基礎項目入力結果"]
[]
[null,1,null,"採用した労働者に占める女性労働者の割合"]
[]
[null,{"$f":"区分名１","v":"全体"},null,null,{"$f":"区分名２","v":""},null,null,{"$f":"区分名３","v":""},null,null,{"$f":"区分名４","v":""},null,null,{"$f":"区分名５","v":""},null,null,{"$f":"区分名６","v":""},null,null,{"$f":"区分名７","v":""},null,null,{"$f":"区分名８","v":""},null,null,{"$f":"区分名９","v":""},null,null,{"$f":"区分名１０","v":""}]
[null,{"$f":"状況管理!J13","v":""},null,null,{"$f":"状況管理!K13","v":""},null,null,{"$f":"状況管理!L13","v":""},null,null,{"$f":"状況管理!M13","v":""},null,null,{"$f":"状況管理!N13","v":""},null,null,{"$f":"状況管理!O13","v":""},null,null,{"$f":"状況管理!P13","v":""},null,null,{"$f":"状況管理!Q13","v":""},null,null,{"$f":"状況管理!R13","v":""},null,null,{"$f":"状況管理!S13","v":""},null,null,null,null,null,null,null,null,null,null,null,null,null,null,null,null,null,null,null,null,null,null,13]
[]
[null,2,null,"男女の平均継続勤務年数の差異"]
[]
[null,{"$f":"区分名１","v":"全体"},null,null,{"$f":"区分名２","v":""},null,null,{"$f":"区分名３","v":""},null,null,{"$f":"区分名４","v":""},null,null,{"$f":"区分名５","v":""},null,null,{"$f":"区分名６","v":""},null,null,{"$f":"区分名７","v":""},null,null,{"$f":"区分名８","v":""},null,null,{"$f":"区分名９","v":""},null,null,{"$f":"区分名１０","v":""}]
[null,{"$f":"状況管理!J19","v":""},null,null,{"$f":"状況管理!K19","v":""},null,null,{"$f":"状況管理!L19","v":""},null,null,{"$f":"状況管理!M19","v":""},null,null,{"$f":"状況管理!N19","v":""},null,null,{"$f":"状況管理!O19","v":""},null,null,{"$f":"状況管理!P19","v":""},null,null,{"$f":"状況管理!Q19","v":""},null,null,{"$f":"状況管理!R19","v":""},null,null,{"$f":"状況管理!S19","v":""},null,null,null,null,null,null,null,null,null,null,null,null,null,null,null,null,null,null,null,null,null,null,13]
[]
[null,3,null,"労働者の各月ごとの平均残業時間数等の労働時間"]
[]
[null,null,null,"Ⅰ 常時雇用する労働者等（ Ⅱ、Ⅲ  以外）"]
[null,null,null,null,{"$f":"残業時間_全体_開始月","v":" "},null,{"$f":"IF(TRIM(E40)=\"\",\"\",MONTH(DATE(2019, E40+2,1)-1))","v":""},null,{"$f":"IF(TRIM(G40)=\"\",\"\",MONTH(DATE(2019, G40+2,1)-1))","v":""},null,{"$f":"IF(TRIM(I40)=\"\",\"\",MONTH(DATE(2019, I40+2,1)-1))","v":""},null,{"$f":"IF(TRIM(K40)=\"\",\"\",MONTH(DATE(2019, K40+2,1)-1))","v":""},null,{"$f":"IF(TRIM(M40)=\"\",\"\",MONTH(DATE(2019, M40+2,1)-1))","v":""},null,{"$f":"IF(TRIM(O40)=\"\",\"\",MONTH(DATE(2019, O40+2,1)-1))","v":""},null,{"$f":"IF(TRIM(Q40)=\"\",\"\",MONTH(DATE(2019, Q40+2,1)-1))","v":""},null,{"$f":"IF(TRIM(S40)=\"\",\"\",MONTH(DATE(2019, S40+2,1)-1))","v":""},null,{"$f":"IF(TRIM(U40)=\"\",\"\",MONTH(DATE(2019, U40+2,1)-1))","v":""},null,{"$f":"IF(TRIM(W40)=\"\",\"\",MONTH(DATE(2019, W40+2,1)-1))","v":""},null,{"$f":"IF(TRIM(Y40)=\"\",\"\",MONTH(DATE(2019, Y40+2,1)-1))","v":""}]
[null,null,null,null,{"$f":"状況管理!J25","v":""},null,{"$f":"状況管理!K25","v":""},null,{"$f":"状況管理!L25","v":""},null,{"$f":"状況管理!M25","v":""},null,{"$f":"状況管理!N25","v":""},null,{"$f":"状況管理!O25","v":""},null,{"$f":"状況管理!P25","v":""},null,{"$f":"状況管理!Q25","v":""},null,{"$f":"状況管理!R25","v":""},null,{"$f":"状況管理!S25","v":""},null,{"$f":"状況管理!T25","v":""},null,{"$f":"状況管理!U25","v":""}]
[null,null,null,"Ⅱ パートタイム労働者"]
[null,null,null,null,{"$f":"IF(TRIM(残業時間_２_開始月)=\"\",残業時間_全体_開始月,残業時間_２_開始月)","v":" "},null,{"$f":"IF(TRIM(E43)=\"\",\"\",MONTH(DATE(2019, E43+2,1)-1))","v":""},null,{"$f":"IF(TRIM(G43)=\"\",\"\",MONTH(DATE(2019, G43+2,1)-1))","v":""},null,{"$f":"IF(TRIM(I43)=\"\",\"\",MONTH(DATE(2019, I43+2,1)-1))","v":""},null,{"$f":"IF(TRIM(K43)=\"\",\"\",MONTH(DATE(2019, K43+2,1)-1))","v":""},null,{"$f":"IF(TRIM(M43)=\"\",\"\",MONTH(DATE(2019, M43+2,1)-1))","v":""},null,{"$f":"IF(TRIM(O43)=\"\",\"\",MONTH(DATE(2019, O43+2,1)-1))","v":""},null,{"$f":"IF(TRIM(Q43)=\"\",\"\",MONTH(DATE(2019, Q43+2,1)-1))","v":""},null,{"$f":"IF(TRIM(S43)=\"\",\"\",MONTH(DATE(2019, S43+2,1)-1))","v":""},null,{"$f":"IF(TRIM(U43)=\"\",\"\",MONTH(DATE(2019, U43+2,1)-1))","v":""},null,{"$f":"IF(TRIM(W43)=\"\",\"\",MONTH(DATE(2019, W43+2,1)-1))","v":""},null,{"$f":"IF(TRIM(Y43)=\"\",\"\",MONTH(DATE(2019, Y43+2,1)-1))","v":""}]
[null,null,null,null,{"$f":"状況管理!J32","v":""},null,{"$f":"状況管理!K32","v":""},null,{"$f":"状況管理!L32","v":""},null,{"$f":"状況管理!M32","v":""},null,{"$f":"状況管理!N32","v":""},null,{"$f":"状況管理!O32","v":""},null,{"$f":"状況管理!P32","v":""},null,{"$f":"状況管理!Q32","v":""},null,{"$f":"状況管理!R32","v":""},null,{"$f":"状況管理!S32","v":""},null,{"$f":"状況管理!T32","v":""},null,{"$f":"状況管理!U32","v":""}]
[null,null,null,"Ⅲ  専門業務型裁量労働制および企画業務型裁量労働制の適用を受ける労働者"]
[null,null,null,null,{"$f":"IF(TRIM(残業時間_３_開始月)=\"\",残業時間_全体_開始月,残業時間_３_開始月)","v":" "},null,{"$f":"IF(TRIM(E46)=\"\",\"\",MONTH(DATE(2019, E46+2,1)-1))","v":""},null,{"$f":"IF(TRIM(G46)=\"\",\"\",MONTH(DATE(2019, G46+2,1)-1))","v":""},null,{"$f":"IF(TRIM(I46)=\"\",\"\",MONTH(DATE(2019, I46+2,1)-1))","v":""},null,{"$f":"IF(TRIM(K46)=\"\",\"\",MONTH(DATE(2019, K46+2,1)-1))","v":""},null,{"$f":"IF(TRIM(M46)=\"\",\"\",MONTH(DATE(2019, M46+2,1)-1))","v":""},null,{"$f":"IF(TRIM(O46)=\"\",\"\",MONTH(DATE(2019, O46+2,1)-1))","v":""},null,{"$f":"IF(TRIM(Q46)=\"\",\"\",MONTH(DATE(2019, Q46+2,1)-1))","v":""},null,{"$f":"IF(TRIM(S46)=\"\",\"\",MONTH(DATE(2019, S46+2,1)-1))","v":""},null,{"$f":"IF(TRIM(U46)=\"\",\"\",MONTH(DATE(2019, U46+2,1)-1))","v":""},null,{"$f":"IF(TRIM(W46)=\"\",\"\",MONTH(DATE(2019, W46+2,1)-1))","v":""},null,{"$f":"IF(TRIM(Y46)=\"\",\"\",MONTH(DATE(2019, Y46+2,1)-1))","v":""}]
[null,null,null,null,{"$f":"状況管理!J38","v":""},null,{"$f":"状況管理!K38","v":""},null,{"$f":"状況管理!L38","v":""},null,{"$f":"状況管理!M38","v":""},null,{"$f":"状況管理!N38","v":""},null,{"$f":"状況管理!O38","v":""},null,{"$f":"状況管理!P38","v":""},null,{"$f":"状況管理!Q38","v":""},null,{"$f":"状況管理!R38","v":""},null,{"$f":"状況管理!S38","v":""},null,{"$f":"状況管理!T38","v":""},null,{"$f":"状況管理!U38","v":""}]
[]
[null,4,null,"管理職に占める女性労働者の割合"]
[null,null,null,null,null,null,null,null,null,{"$f":"状況管理!J44","v":""}]
[]
[null,"３．自社の女性活躍の状況把握"]
[]
[null,1,null,"タイプ分類と特徴"]
[]
[null,null,null,"タイプ",null,null,{"$f":"タイプ分類名","v":"⑥"}]
[null,null,null,"特徴",null,null,{"$f":"タイプ分類特徴","v":"女性の活躍が比較的進んでいる企業"}]
[]
[]
[null,2,null,"長時間労働の状況"]
[]
[null,null,null,{"$f":"IF(労働時間課題有無=\"×\",SUBSTITUTE(労働時間課題文言,\"%1\",労働時間超過月数),労働時間課題無し文言)","v":"「残業時間（法定労働時間を超える時間数）」が全ての月で、「45時間」を上回っている月はありません。\n更なる長時間労働削減等、働き方改革のための課題を設定し、取り組みましょう。"}]

{"sheet":"まとめ出力","index":20,"n_rows":62,"n_cols":29,"rows_kept":62,"cut":false,"hidden":false,"merged":[[46,22,46,23],[46,24,46,25],[46,26,46,27],[48,1,48,2],[49,9,49,12],[56,6,57,30],[61,3,64,30],[46,4,46,5],[46,6,46,7],[46,8,46,9],[46,10,46,11],[46,12,46,13],[46,14,46,15],[46,16,46,17],[46,18,46,19],[46,20,46,21],[53,1,53,2],[53,3,53,18],[59,1,59,2],[59,3,59,18],[45,22,45,23],[45,24,45,25],[45,26,45,27],[43,4,43,5],[43,6,43,7],[43,8,43,9],[43,10,43,11],[43,12,43,13],[43,14,43,15],[43,16,43,17],[43,18,43,19],[43,20,43,21],[45,4,45,5],[45,6,45,7],[45,8,45,9],[45,10,45,11],[45,12,45,13],[45,14,45,15],[45,16,45,17],[45,18,45,19],[45,20,45,21],[40,22,40,23],[40,24,40,25],[40,26,40,27],[39,18,39,19],[39,20,39,21],[39,22,39,23],[39,24,39,25],[39,26,39,27],[43,22,43,23],[43,24,43,25],[43,26,43,27],[40,4,40,5],[40,6,40,7],[40,8,40,9],[40,10,40,11],[40,12,40,13],[40,14,40,15],[40,16,40,17],[40,18,40,19],[40,20,40,21],[33,28,33,30],[34,1,34,3],[34,4,34,6],[34,7,34,9],[34,10,34,12],[34,13,34,15],[34,16,34,18],[34,19,34,21],[34,22,34,24],[34,25,34,27],[34,28,34,30],[33,1,33,3],[33,4,33,6],[33,7,33,9],[33,10,33,12],[33,13,33,15],[33,16,33,18],[33,19,33,21],[33,22,33,24],[33,25,33,27],[42,16,42,17],[42,18,42,19],[42,20,42,21],[42,22,42,23],[42,24,42,25],[42,26,42,27],[42,4,42,5],[42,6,42,7],[42,8,42,9],[42,10,42,11],[42,12,42,13],[42,14,42,15],[11,1,11,30],[16,1,16,2],[16,9,16,30],[12,24,12,29],[17,1,17,2],[17,9,17,30],[19,1,19,2],[20,9,20,13],[20,14,20,18],[18,1,18,2],[18,9,18,30],[28,28,28,30],[29,28,29,30],[31,1,31,2],[31,3,31,19],[29,1,29,3],[29,4,29,6],[29,7,29,9],[29,10,29,12],[29,13,29,15],[29,16,29,18],[29,19,29,21],[29,22,29,24],[29,25,29,27],[28,25,28,27],[22,9,22,13],[22,14,22,18],[21,9,21,13],[21,14,21,18],[26,1,26,2],[28,1,28,3],[28,4,28,6],[28,7,28,9],[28,10,28,12],[26,3,26,18],[36,1,36,2],[36,3,36,24],[39,4,39,5],[39,6,39,7],[39,8,39,9],[39,10,39,11],[39,12,39,13],[39,14,39,15],[28,13,28,15],[28,16,28,18],[28,19,28,21],[28,22,28,24],[39,16,39,17]]}
[]
[]
[]
[]
[]
[]
[]
[]
[]
[]
[]
[null,"テスト企業　女性活躍の状況"]
[null,null,null,null,null,null,null,null,null,null,null,null,null,null,null,null,null,null,null,null,null,null,null,null,"2020-02-08T11:48:37.260"]
[]
[null,"１ ．企業基本情報"]
[]
[null,1,null,"企業名：",null,null,null,null,null,"テスト企業"]
[null,2,null,"企業名（フリガナ）：",null,null,null,null,null,"テストキギョウ"]
[null,3,null,"主たる業種：",null,null,null,null,null,"電気・ガス・熱供給・水道業"]
[null,4,null,"常時雇用する労働者："]
[null,null,null,null,null,null,null,null,null,"正社員",null,null,null,null,"非正社員"]
[null,null,null,null,null,null,"女性",null,null,20,null,null,null,null,10]
[null,null,null,null,null,null,"男性",null,null,50,null,null,null,null,10]
[]
[null,"２．基礎項目入力結果"]
[]
[null,1,null,"採用した労働者に占める女性労働者の割合"]
[]
[null,"あ",null,null,"い",null,null,"う",null,null,"え",null,null,"お",null,null,"か",null,null,"き",null,null,"く",null,null,"け",null,null,"こ"]
[null,0.2,null,null,"",null,null,"",null,null,"",null,null,"",null,null,"",null,null,"",null,null,"",null,null,"",null,null,""]
[]
[null,2,null,"男女の平均継続勤務年数の差異"]
[]
[null,"あ",null,null,"い",null,null,"う",null,null,"え",null,null,"お",null,null,"か",null,null,"き",null,null,"く",null,null,"け",null,null,"こ"]
[null,0.7,null,null,"",null,null,"",null,null,"",null,null,"",null,null,"",null,null,"",null,null,"",null,null,"",null,null,""]
[]
[null,3,null,"労働者の各月ごとの平均残業時間数等の労働時間"]
[]
[null,null,null,"Ⅰ 常時雇用する労働者等（ Ⅱ、Ⅲ  以外）"]
[null,null,null,null,1,null,2,null,3,null,4,null,5,null,6,null,7,null,8,null,9,null,10,null,11,null,12]
[null,null,null,null,50,null,"",null,"",null,"",null,"",null,"",null,"",null,"",null,"",null,"",null,"",null,""]
[null,null,null,"Ⅱ パートタイム労働者"]
[null,null,null,null,1,null,2,null,3,null,4,null,5,null,6,null,7,null,8,null,9,null,10,null,11,null,12]
[null,null,null,null,"",null,"",null,"",null,"",null,"",null,"",null,"",null,"",null,"",null,"",null,"",null,""]
[null,null,null,"Ⅲ  専門業務型裁量労働制および企画業務型裁量労働制の適用を受ける労働者"]
[null,null,null,null,1,null,2,null,3,null,4,null,5,null,6,null,7,null,8,null,9,null,10,null,11,null,12]
[null,null,null,null,"",null,"",null,"",null,"",null,"",null,"",null,"",null,"",null,"",null,"",null,"",null,""]
[]
[null,4,null,"管理職に占める女性労働者の割合"]
[null,null,null,null,null,null,null,null,null,0.1]
[]
[null,"３．自社の女性活躍の状況把握"]
[]
[null,1,null,"タイプ分類と特徴"]
[]
[null,null,null,"タイプ",null,null,"①"]
[null,null,null,"特徴",null,null,"女性の採用・就業継続はできているが、管理職が少ない企業"]
[]
[]
[null,2,null,"長時間労働の状況"]
[]
[null,null,null,"「残業時間（法定労働時間を超える時間数）」が、対象となる労働者のなかで「４５時間」を上回っている月がありました。\n長時間労働に関する課題があると考えられます。\n目標設定・取組内容の検討において、長時間労働の解消を優先的課題として検討を行ってください。\n"]

{"sheet":"ケース選択＞","index":21,"n_rows":16,"n_cols":19,"rows_kept":16,"cut":false,"hidden":false,"merged":[]}
["管理者用シート　リリース時には非表示になります。"]
[null,{"$f":"タイプ分類名","v":"⑥"}]
[null,null,null,null,null,null,"抽出課題",null,null,null,null,null,null,"選択課題",null,null,null,null,"退避領域"]
[null,"抽出行No.","元No.","ケース名","課題",null,"選択行No.","抽出No.","元No.","ケース名","課題","SEL",null,"選択行No.","元No.","ケース名","課題",null,"SEL"]
[null,{"$f":"IF($C5=\"\",\"\",MAX($B$1:$B4)+1)","v":1},{"$f":"IF(OR($B$2=タイプ別ケース!$C4,AND(タイプ別ケース!$C4=\"\",タイプ別ケース!$F4<>\"\")),タイプ別ケース!$B4,\"\")","v":1},{"$f":"IF($C5<>\"\",タイプ別ケース!$D4&\"\",\"\")","v":""},{"$f":"IF($C5<>\"\",タイプ別ケース!$F4,\"\")","v":"課題分析の視点の全表示"},null,{"$f":"IF($L5=\"\",\"\",MAX($G$1:$G4)+1)","v":""},{"$f":"IF(MAX($H$1:$H4)+1>MAX($B$5:$B$16),\"\",MAX($H$1:$H4)+1)","v":1},{"$f":"VLOOKUP($H5,$B$5:$E$16,2,0)","v":1},{"$f":"VLOOKUP($H5,$B$5:$E$16,3,0)","v":""},{"$f":"VLOOKUP($H5,$B$5:$E$16,4,0)","v":"課題分析の視点の全表示"},null,null,{"$f":"IF(MAX($N$1:$N4)+1>MAX($G$5:$G$16),\"\",MAX($N$1:$N4)+1)","v":""},{"$f":"IF($N5=\"\",\"\",VLOOKUP($N5,$G$5:$J$16,3,0))","v":""},{"$f":"IF($N5=\"\",\"\",VLOOKUP($N5,$G$5:$K$14,4,0))","v":""},{"$f":"IF($N5=\"\",\"\",VLOOKUP($N5,$G$5:$K$16,5,0))","v":""}]
[null,{"$f":"IF($C6=\"\",\"\",MAX($B$1:$B5)+1)","v":""},{"$f":"IF(OR($B$2=タイプ別ケース!$C5,AND(タイプ別ケース!$C5=\"\",タイプ別ケース!$F5<>\"\")),タイプ別ケース!$B5,\"\")","v":""},{"$f":"IF($C6<>\"\",タイプ別ケース!$D5&\"\",\"\")","v":""},{"$f":"IF($C6<>\"\",タイプ別ケース!$F5,\"\")","v":""},null,{"$f":"IF($L6=\"\",\"\",MAX($G$1:$G5)+1)","v":""},{"$f":"IF(MAX($H$1:$H5)+1>MAX($B$5:$B$16),\"\",MAX($H$1:$H5)+1)","v":2},{"$f":"VLOOKUP($H6,$B$5:$E$16,2,0)","v":10},{"$f":"VLOOKUP($H6,$B$5:$E$16,3,0)","v":"ケース１"},{"$f":"VLOOKUP($H6,$B$5:$E$16,4,0)","v":"男女間で賃金格差が生じている"},null,null,{"$f":"IF(MAX($N$1:$N5)+1>MAX($G$5:$G$14),\"\",MAX($N$1:$N5)+1)","v":""},{"$f":"IF($N6=\"\",\"\",VLOOKUP($N6,$G$5:$J$14,3,0))","v":""},"",{"$f":"IF($N6=\"\",\"\",VLOOKUP($N6,$G$5:$K$14,5,0))","v":""}]
[null,{"$f":"IF($C7=\"\",\"\",MAX($B$1:$B6)+1)","v":""},{"$f":"IF(OR($B$2=タイプ別ケース!$C6,AND(タイプ別ケース!$C6=\"\",タイプ別ケース!$F6<>\"\")),タイプ別ケース!$B6,\"\")","v":""},{"$f":"IF($C7<>\"\",タイプ別ケース!$D6&\"\",\"\")","v":""},{"$f":"IF($C7<>\"\",タイプ別ケース!$F6,\"\")","v":""},null,{"$f":"IF($L7=\"\",\"\",MAX($G$1:$G6)+1)","v":""},{"$f":"IF(MAX($H$1:$H6)+1>MAX($B$5:$B$16),\"\",MAX($H$1:$H6)+1)","v":3},11,"ケース２","より一層、女性活躍を推進できるよう、さらに上を目指す",null,null,{"$f":"IF(MAX($N$1:$N6)+1>MAX($G$5:$G$14),\"\",MAX($N$1:$N6)+1)","v":""},"","",""]
[null,{"$f":"IF($C8=\"\",\"\",MAX($B$1:$B7)+1)","v":""},{"$f":"IF(OR($B$2=タイプ別ケース!$C7,AND(タイプ別ケース!$C7=\"\",タイプ別ケース!$F7<>\"\")),タイプ別ケース!$B7,\"\")","v":""},{"$f":"IF($C8<>\"\",タイプ別ケース!$D7&\"\",\"\")","v":""},{"$f":"IF($C8<>\"\",タイプ別ケース!$F7,\"\")","v":""},null,{"$f":"IF($L8=\"\",\"\",MAX($G$1:$G7)+1)","v":""},{"$f":"IF(MAX($H$1:$H7)+1>MAX($B$5:$B$16),\"\",MAX($H$1:$H7)+1)","v":""},"","","",null,null,{"$f":"IF(MAX($N$1:$N7)+1>MAX($G$5:$G$14),\"\",MAX($N$1:$N7)+1)","v":""},"","",""]
[null,{"$f":"IF($C9=\"\",\"\",MAX($B$1:$B8)+1)","v":""},{"$f":"IF(OR($B$2=タイプ別ケース!$C8,AND(タイプ別ケース!$C8=\"\",タイプ別ケース!$F8<>\"\")),タイプ別ケース!$B8,\"\")","v":""},{"$f":"IF($C9<>\"\",タイプ別ケース!$D8&\"\",\"\")","v":""},{"$f":"IF($C9<>\"\",タイプ別ケース!$F8,\"\")","v":""},null,{"$f":"IF($L9=\"\",\"\",MAX($G$1:$G8)+1)","v":""},{"$f":"IF(MAX($H$1:$H8)+1>MAX($B$5:$B$16),\"\",MAX($H$1:$H8)+1)","v":""},"","","",null,null,{"$f":"IF(MAX($N$1:$N8)+1>MAX($G$5:$G$14),\"\",MAX($N$1:$N8)+1)","v":""},"","",""]
[null,{"$f":"IF($C10=\"\",\"\",MAX($B$1:$B9)+1)","v":""},{"$f":"IF(OR($B$2=タイプ別ケース!$C9,AND(タイプ別ケース!$C9=\"\",タイプ別ケース!$F9<>\"\")),タイプ別ケース!$B9,\"\")","v":""},{"$f":"IF($C10<>\"\",タイプ別ケース!$D9&\"\",\"\")","v":""},{"$f":"IF($C10<>\"\",タイプ別ケース!$F9,\"\")","v":""},null,{"$f":"IF($L10=\"\",\"\",MAX($G$1:$G9)+1)","v":""},{"$f":"IF(MAX($H$1:$H9)+1>MAX($B$5:$B$16),\"\",MAX($H$1:$H9)+1)","v":""},"","","",null,null,{"$f":"IF(MAX($N$1:$N9)+1>MAX($G$5:$G$14),\"\",MAX($N$1:$N9)+1)","v":""},"","",""]
[null,{"$f":"IF($C11=\"\",\"\",MAX($B$1:$B10)+1)","v":""},{"$f":"IF(OR($B$2=タイプ別ケース!$C10,AND(タイプ別ケース!$C10=\"\",タイプ別ケース!$F10<>\"\")),タイプ別ケース!$B10,\"\")","v":""},{"$f":"IF($C11<>\"\",タイプ別ケース!$D10&\"\",\"\")","v":""},{"$f":"IF($C11<>\"\",タイプ別ケース!$F10,\"\")","v":""},null,{"$f":"IF($L11=\"\",\"\",MAX($G$1:$G10)+1)","v":""},{"$f":"IF(MAX($H$1:$H10)+1>MAX($B$5:$B$16),\"\",MAX($H$1:$H10)+1)","v":""},"","","",null,null,{"$f":"IF(MAX($N$1:$N10)+1>MAX($G$5:$G$14),\"\",MAX($N$1:$N10)+1)","v":""},"","",""]
[null,{"$f":"IF($C12=\"\",\"\",MAX($B$1:$B11)+1)","v":""},{"$f":"IF(OR($B$2=タイプ別ケース!$C11,AND(タイプ別ケース!$C11=\"\",タイプ別ケース!$F11<>\"\")),タイプ別ケース!$B11,\"\")","v":""},{"$f":"IF($C12<>\"\",タイプ別ケース!$D11&\"\",\"\")","v":""},{"$f":"IF($C12<>\"\",タイプ別ケース!$F11,\"\")","v":""},null,{"$f":"IF($L12=\"\",\"\",MAX($G$1:$G11)+1)","v":""},{"$f":"IF(MAX($H$1:$H11)+1>MAX($B$5:$B$16),\"\",MAX($H$1:$H11)+1)","v":""},"","","",null,null,{"$f":"IF(MAX($N$1:$N11)+1>MAX($G$5:$G$14),\"\",MAX($N$1:$N11)+1)","v":""},"","",""]
[null,{"$f":"IF($C13=\"\",\"\",MAX($B$1:$B12)+1)","v":""},{"$f":"IF(OR($B$2=タイプ別ケース!$C12,AND(タイプ別ケース!$C12=\"\",タイプ別ケース!$F12<>\"\")),タイプ別ケース!$B12,\"\")","v":""},{"$f":"IF($C13<>\"\",タイプ別ケース!$D12&\"\",\"\")","v":""},{"$f":"IF($C13<>\"\",タイプ別ケース!$F12,\"\")","v":""},null,{"$f":"IF($L13=\"\",\"\",MAX($G$1:$G12)+1)","v":""},{"$f":"IF(MAX($H$1:$H12)+1>MAX($B$5:$B$16),\"\",MAX($H$1:$H12)+1)","v":""},"","","",null,null,{"$f":"IF(MAX($N$1:$N12)+1>MAX($G$5:$G$14),\"\",MAX($N$1:$N12)+1)","v":""},"","",""]
[null,{"$f":"IF($C14=\"\",\"\",MAX($B$1:$B13)+1)","v":2},{"$f":"IF(OR($B$2=タイプ別ケース!$C13,AND(タイプ別ケース!$C13=\"\",タイプ別ケース!$F13<>\"\")),タイプ別ケース!$B13,\"\")","v":10},{"$f":"IF($C14<>\"\",タイプ別ケース!$D13&\"\",\"\")","v":"ケース１"},{"$f":"IF($C14<>\"\",タイプ別ケース!$F13,\"\")","v":"男女間で賃金格差が生じている"},null,{"$f":"IF($L14=\"\",\"\",MAX($G$1:$G13)+1)","v":""},{"$f":"IF(MAX($H$1:$H13)+1>MAX($B$5:$B$16),\"\",MAX($H$1:$H13)+1)","v":""},"","","",null,null,{"$f":"IF(MAX($N$1:$N13)+1>MAX($G$5:$G$14),\"\",MAX($N$1:$N13)+1)","v":""},"","",""]
[null,{"$f":"IF($C15=\"\",\"\",MAX($B$1:$B14)+1)","v":3},{"$f":"IF(OR($B$2=タイプ別ケース!$C14,AND(タイプ別ケース!$C14=\"\",タイプ別ケース!$F14<>\"\")),タイプ別ケース!$B14,\"\")","v":11},{"$f":"IF($C15<>\"\",タイプ別ケース!$D14&\"\",\"\")","v":"ケース２"},{"$f":"IF($C15<>\"\",タイプ別ケース!$F14,\"\")","v":"より一層、女性活躍を推進できるよう、さらに上を目指す"},null,{"$f":"IF($L15=\"\",\"\",MAX($G$1:$G14)+1)","v":""},{"$f":"IF(MAX($H$1:$H14)+1>MAX($B$5:$B$16),\"\",MAX($H$1:$H14)+1)","v":""},"","","",null,null,{"$f":"IF(MAX($N$1:$N14)+1>MAX($G$5:$G$14),\"\",MAX($N$1:$N14)+1)","v":""},"","",""]
[null,{"$f":"IF($C16=\"\",\"\",MAX($B$1:$B15)+1)","v":""},{"$f":"IF(OR($B$2=タイプ別ケース!$C15,AND(タイプ別ケース!$C15=\"\",タイプ別ケース!$F15<>\"\")),タイプ別ケース!$B15,\"\")","v":""},{"$f":"IF($C16<>\"\",タイプ別ケース!$D15&\"\",\"\")","v":""},{"$f":"IF($C16<>\"\",タイプ別ケース!$F15,\"\")","v":""},null,{"$f":"IF($L16=\"\",\"\",MAX($G$1:$G15)+1)","v":""},{"$f":"IF(MAX($H$1:$H15)+1>MAX($B$5:$B$16),\"\",MAX($H$1:$H15)+1)","v":""},"","","",null,null,{"$f":"IF(MAX($N$1:$N15)+1>MAX($G$5:$G$14),\"\",MAX($N$1:$N15)+1)","v":""},"","",""]

{"sheet":"ケース選択","index":22,"n_rows":31,"n_cols":39,"rows_kept":31,"cut":false,"hidden":false,"merged":[[2,1,2,40],[13,5,14,5],[27,4,28,36],[29,4,30,36],[23,4,24,36],[25,4,26,36],[13,2,14,4],[13,6,14,37],[19,2,19,38],[20,2,20,38]]}
[]
[null,null,null,null,{"$f":"初期設定!$E$9","v":"中小企業のための女性活躍『行動計画』策定プログラム"}]
[null," "]
[]
[]
[]
[]
[]
[]
[]
[]
[null,"＜ＳＴＥＰ４＞　タイプごとにあなたの会社の課題を選びます"]
[]
[null,null,{"$f":"タイプ分類名","v":"⑥"},null,null,null,{"$f":"タイプ分類特徴","v":"女性の活躍が比較的進んでいる企業"}]
[]
[]
[null,{"$f":"\"○タイプ\"&C14&\"で想定される課題の選択\"","v":"○タイプ⑥で想定される課題の選択"}]
[]
[null,null,{"$f":"IF(E26=\"\",\"タイプ\"&C14&\"で想定される「課題分析」を行います。\",\"タイプ\"&C14&\"で想定されるケースを基に、行動計画の目標や取組内容を決定します。\")","v":"タイプ⑥で想定されるケースを基に、行動計画の目標や取組内容を決定します。"}]
[null,null,{"$f":"IF(E26=\"\",\"選択□ボタンにチェックをして進んでください。\",\"まずは、より詳細な課題を分析していくために、あてはまるケースを選択して、次へ進んでください。\")","v":"まずは、より詳細な課題を分析していくために、あてはまるケースを選択して、次へ進んでください。"}]
[null,null,{"$f":"IF(E26=\"\",\"\",\"ケースを選択せずにより詳細な課題分析をする場合は、「課題分析の視点の全表示」を選択し、次へ進んで下さい。\")","v":"ケースを選択せずにより詳細な課題分析をする場合は、「課題分析の視点の全表示」を選択し、次へ進んで下さい。"}]
[]
[null,null,"選択"]
[null,null,null,null,{"$f":"IF('ケース選択＞'!J5=\"\",\"\",'ケース選択＞'!J5&\"：\")&'ケース選択＞'!K5","v":"課題分析の視点の全表示"}]
[]
[null,null,null,null,{"$f":"IF('ケース選択＞'!J6=\"\",\"\",\"課題分析（\"&'ケース選択＞'!J6&\"：\") & 'ケース選択＞'!K6 & IF('ケース選択＞'!J6=\"\",\"\",\"）の表示\")","v":"課題分析（ケース１：男女間で賃金格差が生じている）の表示"}]
[]
[null,null,null,null,{"$f":"IF('ケース選択＞'!J7=\"\",\"\",\"課題分析（\"&'ケース選択＞'!J7&\"：\")&'ケース選択＞'!K7 & IF('ケース選択＞'!J7=\"\",\"\",\"）の表示\")","v":"課題分析（ケース２：より一層、女性活躍を推進できるよう、さらに上を目指す）の表示"}]
[]
[]
[null,null,null,null,null,null,null,null,null,null,null,null,null,null,null,null,null,null,null,null,null,null,null,null,null,null,null,null,null,null,null,null,null,null,null,null,null,null,{"$f":"IF($E31=\"\",\"\",\"はい\")","v":""}]

{"sheet":"選択項目＞","index":23,"n_rows":56,"n_cols":19,"rows_kept":56,"cut":false,"hidden":false,"merged":[]}
["管理者用シート　リリース時には非表示になります。"]
[null,{"$f":"タイプ分類名","v":"⑥"},{"$f":"IF($B$3=\"\",IF('ケース選択＞'!$L$5=1,1,IF('ケース選択＞'!$L$6=1,2,IF('ケース選択＞'!$L$7=1,3,4))),$B$3)","v":4},{"$f":"IF(労働時間課題有無=\"×\",\"時間\",\"基本\")","v":"基本"},{"$f":"IF(C2=4,\"全て\",B2&C2&D2)","v":"全て"},{"$f":"MATCH($E$2,選択項目一覧!$F$6:$AP$6,0)","v":37},{"$f":"IF('ケース選択＞'!$P$5=\"\",'ケース選択＞'!$Q$5,'ケース選択＞'!$P$5&\"：\"&'ケース選択＞'!$Q$5)","v":""},{"$f":"労働時間課題有無","v":"○"}]
[]
[null,"抽出行No.","元No.","課題分類","目標",null,"選択行No.","抽出No.","元No.","課題分類","目標","YES",null,"選択行No.","元No.","課題分類","目標",null,"YES"]
[null,{"$f":"IF($C5=\"\",\"\",MAX($B$4:$B4)+1)","v":1},{"$f":"IF(INDIRECT(ADDRESS(ROW(選択項目一覧!$F7),COLUMN(選択項目一覧!$F$6)+$F$2-1, 1, 1, \"選択項目一覧\" ))=\"○\", 選択項目一覧!$B7, \"\" )","v":1},{"$f":"IF($C5<>\"\",選択項目一覧!$C7&\"\",\"\")","v":"採用"},{"$f":"IF($C5<>\"\",選択項目一覧!$D7&\"\",\"\")","v":"採用した労働者に占める女性労働者の割合に偏りがある"},null,{"$f":"IF(OR($L5=\"\",$K5=\"\"),\"\",MAX($G$1:$G4)+1)","v":""},{"$f":"IF(MAX($H$4:$H4)+1>MAX($B$5:$B$54),\"\",MAX($H$4:$H4)+1)","v":1},{"$f":"VLOOKUP($H5,$B$5:$E$54,2,0)","v":1},{"$f":"VLOOKUP($H5,$B$5:$E$54,3,0)","v":"採用"},{"$f":"VLOOKUP($H5,$B$5:$E$54,4,0)","v":"採用した労働者に占める女性労働者の割合に偏りがある"},null,null,{"$f":"IF(MAX($N$1:$N4)+1>MAX($G$5:$G$56),\"\",MAX($N$1:$N4)+1)","v":""},{"$f":"IF($N5=\"\",\"\",VLOOKUP($N5,$G$5:$J$56,3,0))","v":""},{"$f":"IF($N5=\"\",\"\",VLOOKUP($N5,$G$5:$K$56,4,0))","v":""},{"$f":"IF($N5=\"\",\"\",VLOOKUP($N5,$G$5:$K$56,5,0))","v":""}]
[null,{"$f":"IF($C6=\"\",\"\",MAX($B$4:$B5)+1)","v":2},{"$f":"IF(INDIRECT(ADDRESS(ROW(選択項目一覧!$F8),COLUMN(選択項目一覧!$F$6)+$F$2-1, 1, 1, \"選択項目一覧\" ))=\"○\", 選択項目一覧!$B8, \"\" )","v":2},{"$f":"IF($C6<>\"\",選択項目一覧!$C8&\"\",\"\")","v":"採用"},{"$f":"IF($C6<>\"\",選択項目一覧!$D8&\"\",\"\")","v":"採用者に占める女性割合が低い雇用管理区分がある"},null,{"$f":"IF(OR($L6=\"\",$K6=\"\"),\"\",MAX($G$1:$G5)+1)","v":""},{"$f":"IF(MAX($H$4:$H5)+1>MAX($B$5:$B$54),\"\",MAX($H$4:$H5)+1)","v":2},2,"採用","採用者に占める女性割合が低い雇用管理区分がある",null,null,{"$f":"IF(MAX($N$1:$N5)+1>MAX($G$5:$G$56),\"\",MAX($N$1:$N5)+1)","v":""},{"$f":"IF($N6=\"\",\"\",VLOOKUP($N6,$G$5:$J$56,3,0))","v":""},{"$f":"IF($N6=\"\",\"\",VLOOKUP($N6,$G$5:$K$56,4,0))","v":""},{"$f":"IF($N6=\"\",\"\",VLOOKUP($N6,$G$5:$K$56,5,0))","v":""}]
[null,{"$f":"IF($C7=\"\",\"\",MAX($B$4:$B6)+1)","v":3},{"$f":"IF(INDIRECT(ADDRESS(ROW(選択項目一覧!$F9),COLUMN(選択項目一覧!$F$6)+$F$2-1, 1, 1, \"選択項目一覧\" ))=\"○\", 選択項目一覧!$B9, \"\" )","v":3},{"$f":"IF($C7<>\"\",選択項目一覧!$C9&\"\",\"\")","v":"採用"},{"$f":"IF($C7<>\"\",選択項目一覧!$D9&\"\",\"\")","v":"再雇用又は中途採用の実績に男女の偏りがある"},null,{"$f":"IF(OR($L7=\"\",$K7=\"\"),\"\",MAX($G$1:$G6)+1)","v":""},{"$f":"IF(MAX($H$4:$H6)+1>MAX($B$5:$B$54),\"\",MAX($H$4:$H6)+1)","v":3},3,"採用","再雇用又は中途採用の実績に男女の偏りがある",null,null,{"$f":"IF(MAX($N$1:$N6)+1>MAX($G$5:$G$56),\"\",MAX($N$1:$N6)+1)","v":""},"","",""]
[null,{"$f":"IF($C8=\"\",\"\",MAX($B$4:$B7)+1)","v":4},{"$f":"IF(INDIRECT(ADDRESS(ROW(選択項目一覧!$F10),COLUMN(選択項目一覧!$F$6)+$F$2-1, 1, 1, \"選択項目一覧\" ))=\"○\", 選択項目一覧!$B10, \"\" )","v":4},{"$f":"IF($C8<>\"\",選択項目一覧!$C10&\"\",\"\")","v":"配置・育成"},{"$f":"IF($C8<>\"\",選択項目一覧!$D10&\"\",\"\")","v":"女性がほとんど配置されていない部署がある"},null,{"$f":"IF(OR($L8=\"\",$K8=\"\"),\"\",MAX($G$1:$G7)+1)","v":""},{"$f":"IF(MAX($H$4:$H7)+1>MAX($B$5:$B$54),\"\",MAX($H$4:$H7)+1)","v":4},4,"配置・育成","女性がほとんど配置されていない部署がある",null,null,{"$f":"IF(MAX($N$1:$N7)+1>MAX($G$5:$G$56),\"\",MAX($N$1:$N7)+1)","v":""},"","",""]
[null,{"$f":"IF($C9=\"\",\"\",MAX($B$4:$B8)+1)","v":5},{"$f":"IF(INDIRECT(ADDRESS(ROW(選択項目一覧!$F11),COLUMN(選択項目一覧!$F$6)+$F$2-1, 1, 1, \"選択項目一覧\" ))=\"○\", 選択項目一覧!$B11, \"\" )","v":5},{"$f":"IF($C9<>\"\",選択項目一覧!$C11&\"\",\"\")","v":"配置・育成"},{"$f":"IF($C9<>\"\",選択項目一覧!$D11&\"\",\"\")","v":"同世代の男性社員に比べ、女性社員の育成が遅れがちになっている"},null,{"$f":"IF(OR($L9=\"\",$K9=\"\"),\"\",MAX($G$1:$G8)+1)","v":""},{"$f":"IF(MAX($H$4:$H8)+1>MAX($B$5:$B$54),\"\",MAX($H$4:$H8)+1)","v":5},5,"配置・育成","同世代の男性社員に比べ、女性社員の育成が遅れがちになっている",null,null,{"$f":"IF(MAX($N$1:$N8)+1>MAX($G$5:$G$56),\"\",MAX($N$1:$N8)+1)","v":""},"","",""]
[null,{"$f":"IF($C10=\"\",\"\",MAX($B$4:$B9)+1)","v":6},{"$f":"IF(INDIRECT(ADDRESS(ROW(選択項目一覧!$F12),COLUMN(選択項目一覧!$F$6)+$F$2-1, 1, 1, \"選択項目一覧\" ))=\"○\", 選択項目一覧!$B12, \"\" )","v":6},{"$f":"IF($C10<>\"\",選択項目一覧!$C12&\"\",\"\")","v":"配置・育成"},{"$f":"IF($C10<>\"\",選択項目一覧!$D12&\"\",\"\")","v":"管理職や男女の労働者の配置・育成・評価・昇進その他に関する意識に男女の偏りがある"},null,{"$f":"IF(OR($L10=\"\",$K10=\"\"),\"\",MAX($G$1:$G9)+1)","v":""},{"$f":"IF(MAX($H$4:$H9)+1>MAX($B$5:$B$54),\"\",MAX($H$4:$H9)+1)","v":6},6,"配置・育成","管理職や男女の労働者の配置・育成・評価・昇進その他に関する意識に男女の偏りがある",null,null,{"$f":"IF(MAX($N$1:$N9)+1>MAX($G$5:$G$56),\"\",MAX($N$1:$N9)+1)","v":""},"","",""]
[null,{"$f":"IF($C11=\"\",\"\",MAX($B$4:$B10)+1)","v":7},{"$f":"IF(INDIRECT(ADDRESS(ROW(選択項目一覧!$F13),COLUMN(選択項目一覧!$F$6)+$F$2-1, 1, 1, \"選択項目一覧\" ))=\"○\", 選択項目一覧!$B13, \"\" )","v":7},{"$f":"IF($C11<>\"\",選択項目一覧!$C13&\"\",\"\")","v":"配置・育成"},{"$f":"IF($C11<>\"\",選択項目一覧!$D13&\"\",\"\")","v":"非正社員の育成・登用が進んでいない"},null,{"$f":"IF(OR($L11=\"\",$K11=\"\"),\"\",MAX($G$1:$G10)+1)","v":""},{"$f":"IF(MAX($H$4:$H10)+1>MAX($B$5:$B$54),\"\",MAX($H$4:$H10)+1)","v":7},7,"配置・育成","非正社員の育成・登用が進んでいない",null,null,{"$f":"IF(MAX($N$1:$N10)+1>MAX($G$5:$G$56),\"\",MAX($N$1:$N10)+1)","v":""},"","",""]
[null,{"$f":"IF($C12=\"\",\"\",MAX($B$4:$B11)+1)","v":8},{"$f":"IF(INDIRECT(ADDRESS(ROW(選択項目一覧!$F14),COLUMN(選択項目一覧!$F$6)+$F$2-1, 1, 1, \"選択項目一覧\" ))=\"○\", 選択項目一覧!$B14, \"\" )","v":8},{"$f":"IF($C12<>\"\",選択項目一覧!$C14&\"\",\"\")","v":"配置・育成"},{"$f":"IF($C12<>\"\",選択項目一覧!$D14&\"\",\"\")","v":"非正社員のキャリアアップに向けた研修の受講の状況に男女の偏りがある"},null,{"$f":"IF(OR($L12=\"\",$K12=\"\"),\"\",MAX($G$1:$G11)+1)","v":""},{"$f":"IF(MAX($H$4:$H11)+1>MAX($B$5:$B$54),\"\",MAX($H$4:$H11)+1)","v":8},8,"配置・育成","非正社員のキャリアアップに向けた研修の受講の状況に男女の偏りがある",null,null,{"$f":"IF(MAX($N$1:$N11)+1>MAX($G$5:$G$56),\"\",MAX($N$1:$N11)+1)","v":""},"","",""]
[null,{"$f":"IF($C13=\"\",\"\",MAX($B$4:$B12)+1)","v":9},{"$f":"IF(INDIRECT(ADDRESS(ROW(選択項目一覧!$F15),COLUMN(選択項目一覧!$F$6)+$F$2-1, 1, 1, \"選択項目一覧\" ))=\"○\", 選択項目一覧!$B15, \"\" )","v":9},{"$f":"IF($C13<>\"\",選択項目一覧!$C15&\"\",\"\")","v":"就業継続・働き方"},{"$f":"IF($C13<>\"\",選択項目一覧!$D15&\"\",\"\")","v":"男女の平均継続勤務年数の差異はないが、勤続年数自体は短い"},null,{"$f":"IF(OR($L13=\"\",$K13=\"\"),\"\",MAX($G$1:$G12)+1)","v":""},{"$f":"IF(MAX($H$4:$H12)+1>MAX($B$5:$B$54),\"\",MAX($H$4:$H12)+1)","v":9},9,"就業継続・働き方","男女の平均継続勤務年数の差異はないが、勤続年数自体は短い",null,null,{"$f":"IF(MAX($N$1:$N12)+1>MAX($G$5:$G$56),\"\",MAX($N$1:$N12)+1)","v":""},"","",""]
[null,{"$f":"IF($C14=\"\",\"\",MAX($B$4:$B13)+1)","v":10},{"$f":"IF(INDIRECT(ADDRESS(ROW(選択項目一覧!$F16),COLUMN(選択項目一覧!$F$6)+$F$2-1, 1, 1, \"選択項目一覧\" ))=\"○\", 選択項目一覧!$B16, \"\" )","v":10},{"$f":"IF($C14<>\"\",選択項目一覧!$C16&\"\",\"\")","v":"就業継続・働き方"},{"$f":"IF($C14<>\"\",選択項目一覧!$D16&\"\",\"\")","v":"出産・子育て等を機に（あるいはそれ以前に）、女性社員が退職する傾向にある。"},null,{"$f":"IF(OR($L14=\"\",$K14=\"\"),\"\",MAX($G$1:$G13)+1)","v":""},{"$f":"IF(MAX($H$4:$H13)+1>MAX($B$5:$B$54),\"\",MAX($H$4:$H13)+1)","v":10},10,"就業継続・働き方","出産・子育て等を機に（あるいはそれ以前に）、女性社員が退職する傾向にある。",null,null,{"$f":"IF(MAX($N$1:$N13)+1>MAX($G$5:$G$56),\"\",MAX($N$1:$N13)+1)","v":""},"","",""]
[null,{"$f":"IF($C15=\"\",\"\",MAX($B$4:$B14)+1)","v":11},{"$f":"IF(INDIRECT(ADDRESS(ROW(選択項目一覧!$F17),COLUMN(選択項目一覧!$F$6)+$F$2-1, 1, 1, \"選択項目一覧\" ))=\"○\", 選択項目一覧!$B17, \"\" )","v":11},{"$f":"IF($C15<>\"\",選択項目一覧!$C17&\"\",\"\")","v":"就業継続・働き方"},{"$f":"IF($C15<>\"\",選択項目一覧!$D17&\"\",\"\")","v":"女性社員が少ない、もしくはいない"},null,{"$f":"IF(OR($L15=\"\",$K15=\"\"),\"\",MAX($G$1:$G14)+1)","v":""},{"$f":"IF(MAX($H$4:$H14)+1>MAX($B$5:$B$54),\"\",MAX($H$4:$H14)+1)","v":11},11,"就業継続・働き方","女性社員が少ない、もしくはいない",null,null,{"$f":"IF(MAX($N$1:$N14)+1>MAX($G$5:$G$56),\"\",MAX($N$1:$N14)+1)","v":""},"","",""]
[null,{"$f":"IF($C16=\"\",\"\",MAX($B$4:$B15)+1)","v":12},{"$f":"IF(INDIRECT(ADDRESS(ROW(選択項目一覧!$F18),COLUMN(選択項目一覧!$F$6)+$F$2-1, 1, 1, \"選択項目一覧\" ))=\"○\", 選択項目一覧!$B18, \"\" )","v":12},{"$f":"IF($C16<>\"\",選択項目一覧!$C18&\"\",\"\")","v":"就業継続・働き方"},{"$f":"IF($C16<>\"\",選択項目一覧!$D18&\"\",\"\")","v":"育児休業取得率が低い、または平均取得期間が短い。"},null,{"$f":"IF(OR($L16=\"\",$K16=\"\"),\"\",MAX($G$1:$G15)+1)","v":""},{"$f":"IF(MAX($H$4:$H15)+1>MAX($B$5:$B$54),\"\",MAX($H$4:$H15)+1)","v":12},12,"就業継続・働き方","育児休業取得率が低い、または平均取得期間が短い。",null,null,{"$f":"IF(MAX($N$1:$N15)+1>MAX($G$5:$G$56),\"\",MAX($N$1:$N15)+1)","v":""},"","",""]
[null,{"$f":"IF($C17=\"\",\"\",MAX($B$4:$B16)+1)","v":13},{"$f":"IF(INDIRECT(ADDRESS(ROW(選択項目一覧!$F19),COLUMN(選択項目一覧!$F$6)+$F$2-1, 1, 1, \"選択項目一覧\" ))=\"○\", 選択項目一覧!$B19, \"\" )","v":13},{"$f":"IF($C17<>\"\",選択項目一覧!$C19&\"\",\"\")","v":"就業継続・働き方"},{"$f":"IF($C17<>\"\",選択項目一覧!$D19&\"\",\"\")","v":"職業生活と家庭生活との両立を支援するための制度（育児休業を除く）が十分ではない"},null,{"$f":"IF(OR($L17=\"\",$K17=\"\"),\"\",MAX($G$1:$G16)+1)","v":""},{"$f":"IF(MAX($H$4:$H16)+1>MAX($B$5:$B$54),\"\",MAX($H$4:$H16)+1)","v":13},13,"就業継続・働き方","職業生活と家庭生活との両立を支援するための制度（育児休業を除く）が十分ではない",null,null,{"$f":"IF(MAX($N$1:$N16)+1>MAX($G$5:$G$56),\"\",MAX($N$1:$N16)+1)","v":""},"","",""]
[null,{"$f":"IF($C18=\"\",\"\",MAX($B$4:$B17)+1)","v":14},{"$f":"IF(INDIRECT(ADDRESS(ROW(選択項目一覧!$F20),COLUMN(選択項目一覧!$F$6)+$F$2-1, 1, 1, \"選択項目一覧\" ))=\"○\", 選択項目一覧!$B20, \"\" )","v":14},{"$f":"IF($C18<>\"\",選択項目一覧!$C20&\"\",\"\")","v":"就業継続・働き方"},{"$f":"IF($C18<>\"\",選択項目一覧!$D20&\"\",\"\")","v":"フレックスタイム制、在宅勤務、テレワーク等の柔軟な働き方に資する制度の利用実績に男女の偏りがある"},null,{"$f":"IF(OR($L18=\"\",$K18=\"\"),\"\",MAX($G$1:$G17)+1)","v":""},{"$f":"IF(MAX($H$4:$H17)+1>MAX($B$5:$B$54),\"\",MAX($H$4:$H17)+1)","v":14},14,"就業継続・働き方","フレックスタイム制、在宅勤務、テレワーク等の柔軟な働き方に資する制度の利用実績に男女の偏りがある",null,null,{"$f":"IF(MAX($N$1:$N17)+1>MAX($G$5:$G$56),\"\",MAX($N$1:$N17)+1)","v":""},"","",""]
[null,{"$f":"IF($C19=\"\",\"\",MAX($B$4:$B18)+1)","v":15},{"$f":"IF(INDIRECT(ADDRESS(ROW(選択項目一覧!$F21),COLUMN(選択項目一覧!$F$6)+$F$2-1, 1, 1, \"選択項目一覧\" ))=\"○\", 選択項目一覧!$B21, \"\" )","v":15},{"$f":"IF($C19<>\"\",選択項目一覧!$C21&\"\",\"\")","v":"就業継続・働き方"},{"$f":"IF($C19<>\"\",選択項目一覧!$D21&\"\",\"\")","v":"労働者の各月ごとの平均残業時間等が特に長い月がある"},null,{"$f":"IF(OR($L19=\"\",$K19=\"\"),\"\",MAX($G$1:$G18)+1)","v":""},{"$f":"IF(MAX($H$4:$H18)+1>MAX($B$5:$B$54),\"\",MAX($H$4:$H18)+1)","v":15},15,"就業継続・働き方","労働者の各月ごとの平均残業時間等が特に長い月がある",null,null,{"$f":"IF(MAX($N$1:$N18)+1>MAX($G$5:$G$56),\"\",MAX($N$1:$N18)+1)","v":""},"","",""]
[null,{"$f":"IF($C20=\"\",\"\",MAX($B$4:$B19)+1)","v":16},{"$f":"IF(INDIRECT(ADDRESS(ROW(選択項目一覧!$F22),COLUMN(選択項目一覧!$F$6)+$F$2-1, 1, 1, \"選択項目一覧\" ))=\"○\", 選択項目一覧!$B22, \"\" )","v":16},{"$f":"IF($C20<>\"\",選択項目一覧!$C22&\"\",\"\")","v":"就業継続・働き方"},{"$f":"IF($C20<>\"\",選択項目一覧!$D22&\"\",\"\")","v":"労働者の各月ごとの平均残業時間等で特に労働時間が長い雇用管理区分がある"},null,{"$f":"IF(OR($L20=\"\",$K20=\"\"),\"\",MAX($G$1:$G19)+1)","v":""},{"$f":"IF(MAX($H$4:$H19)+1>MAX($B$5:$B$54),\"\",MAX($H$4:$H19)+1)","v":16},16,"就業継続・働き方","労働者の各月ごとの平均残業時間等で特に労働時間が長い雇用管理区分がある",null,null,{"$f":"IF(MAX($N$1:$N19)+1>MAX($G$5:$G$56),\"\",MAX($N$1:$N19)+1)","v":""},"","",""]
[null,{"$f":"IF($C21=\"\",\"\",MAX($B$4:$B20)+1)","v":17},{"$f":"IF(INDIRECT(ADDRESS(ROW(選択項目一覧!$F23),COLUMN(選択項目一覧!$F$6)+$F$2-1, 1, 1, \"選択項目一覧\" ))=\"○\", 選択項目一覧!$B23, \"\" )","v":17},{"$f":"IF($C21<>\"\",選択項目一覧!$C23&\"\",\"\")","v":"就業継続・働き方"},{"$f":"IF($C21<>\"\",選択項目一覧!$D23&\"\",\"\")","v":"管理職の各月ごとの労働時間等が一般の労働者と比較して長くなっている"},null,{"$f":"IF(OR($L21=\"\",$K21=\"\"),\"\",MAX($G$1:$G20)+1)","v":""},{"$f":"IF(MAX($H$4:$H20)+1>MAX($B$5:$B$54),\"\",MAX($H$4:$H20)+1)","v":17},17,"就業継続・働き方","管理職の各月ごとの労働時間等が一般の労働者と比較して長くなっている",null,null,{"$f":"IF(MAX($N$1:$N20)+1>MAX($G$5:$G$56),\"\",MAX($N$1:$N20)+1)","v":""},"","",""]
[null,{"$f":"IF($C22=\"\",\"\",MAX($B$4:$B21)+1)","v":18},{"$f":"IF(INDIRECT(ADDRESS(ROW(選択項目一覧!$F24),COLUMN(選択項目一覧!$F$6)+$F$2-1, 1, 1, \"選択項目一覧\" ))=\"○\", 選択項目一覧!$B24, \"\" )","v":18},{"$f":"IF($C22<>\"\",選択項目一覧!$C24&\"\",\"\")","v":"就業継続・働き方"},{"$f":"IF($C22<>\"\",選択項目一覧!$D24&\"\",\"\")","v":"有給休暇取得率の低い雇用管理区分がある"},null,{"$f":"IF(OR($L22=\"\",$K22=\"\"),\"\",MAX($G$1:$G21)+1)","v":""},{"$f":"IF(MAX($H$4:$H21)+1>MAX($B$5:$B$54),\"\",MAX($H$4:$H21)+1)","v":18},18,"就業継続・働き方","有給休暇取得率の低い雇用管理区分がある",null,null,{"$f":"IF(MAX($N$1:$N21)+1>MAX($G$5:$G$56),\"\",MAX($N$1:$N21)+1)","v":""},"","",""]
[null,{"$f":"IF($C23=\"\",\"\",MAX($B$4:$B22)+1)","v":19},{"$f":"IF(INDIRECT(ADDRESS(ROW(選択項目一覧!$F25),COLUMN(選択項目一覧!$F$6)+$F$2-1, 1, 1, \"選択項目一覧\" ))=\"○\", 選択項目一覧!$B25, \"\" )","v":19},{"$f":"IF($C23<>\"\",選択項目一覧!$C25&\"\",\"\")","v":"評価・登用"},{"$f":"IF($C23<>\"\",選択項目一覧!$D25&\"\",\"\")","v":"女性管理職が少ない、またはいない。"},null,{"$f":"IF(OR($L23=\"\",$K23=\"\"),\"\",MAX($G$1:$G22)+1)","v":""},{"$f":"IF(MAX($H$4:$H22)+1>MAX($B$5:$B$54),\"\",MAX($H$4:$H22)+1)","v":19},19,"評価・登用","女性管理職が少ない、またはいない。",null,null,{"$f":"IF(MAX($N$1:$N22)+1>MAX($G$5:$G$56),\"\",MAX($N$1:$N22)+1)","v":""},"","",""]
[null,{"$f":"IF($C24=\"\",\"\",MAX($B$4:$B23)+1)","v":20},{"$f":"IF(INDIRECT(ADDRESS(ROW(選択項目一覧!$F26),COLUMN(選択項目一覧!$F$6)+$F$2-1, 1, 1, \"選択項目一覧\" ))=\"○\", 選択項目一覧!$B26, \"\" )","v":20},{"$f":"IF($C24<>\"\",選択項目一覧!$C26&\"\",\"\")","v":"評価・登用"},{"$f":"IF($C24<>\"\",選択項目一覧!$D26&\"\",\"\")","v":"各職階の労働者に占める女性労働者の割合が低い"},null,{"$f":"IF(OR($L24=\"\",$K24=\"\"),\"\",MAX($G$1:$G23)+1)","v":""},{"$f":"IF(MAX($H$4:$H23)+1>MAX($B$5:$B$54),\"\",MAX($H$4:$H23)+1)","v":20},20,"評価・登用","各職階の労働者に占める女性労働者の割合が低い",null,null,{"$f":"IF(MAX($N$1:$N23)+1>MAX($G$5:$G$56),\"\",MAX($N$1:$N23)+1)","v":""},"","",""]
[null,{"$f":"IF($C25=\"\",\"\",MAX($B$4:$B24)+1)","v":21},{"$f":"IF(INDIRECT(ADDRESS(ROW(選択項目一覧!$F27),COLUMN(選択項目一覧!$F$6)+$F$2-1, 1, 1, \"選択項目一覧\" ))=\"○\", 選択項目一覧!$B27, \"\" )","v":21},{"$f":"IF($C25<>\"\",選択項目一覧!$C27&\"\",\"\")","v":"評価・登用"},{"$f":"IF($C25<>\"\",選択項目一覧!$D27&\"\",\"\")","v":"役員に占める女性の割合が低い"},null,{"$f":"IF(OR($L25=\"\",$K25=\"\"),\"\",MAX($G$1:$G24)+1)","v":""},{"$f":"IF(MAX($H$4:$H24)+1>MAX($B$5:$B$54),\"\",MAX($H$4:$H24)+1)","v":21},21,"評価・登用","役員に占める女性の割合が低い",null,null,{"$f":"IF(MAX($N$1:$N24)+1>MAX($G$5:$G$56),\"\",MAX($N$1:$N24)+1)","v":""},"","",""]
[null,{"$f":"IF($C26=\"\",\"\",MAX($B$4:$B25)+1)","v":22},{"$f":"IF(INDIRECT(ADDRESS(ROW(選択項目一覧!$F28),COLUMN(選択項目一覧!$F$6)+$F$2-1, 1, 1, \"選択項目一覧\" ))=\"○\", 選択項目一覧!$B28, \"\" )","v":22},{"$f":"IF($C26<>\"\",選択項目一覧!$C28&\"\",\"\")","v":"評価・登用"},{"$f":"IF($C26<>\"\",選択項目一覧!$D28&\"\",\"\")","v":"１つ上位の職階へ昇進した労働者の割合に男女の偏りがある"},null,{"$f":"IF(OR($L26=\"\",$K26=\"\"),\"\",MAX($G$1:$G25)+1)","v":""},{"$f":"IF(MAX($H$4:$H25)+1>MAX($B$5:$B$54),\"\",MAX($H$4:$H25)+1)","v":22},22,"評価・登用","１つ上位の職階へ昇進した労働者の割合に男女の偏りがある",null,null,{"$f":"IF(MAX($N$1:$N25)+1>MAX($G$5:$G$56),\"\",MAX($N$1:$N25)+1)","v":""},"","",""]
[null,{"$f":"IF($C27=\"\",\"\",MAX($B$4:$B26)+1)","v":23},{"$f":"IF(INDIRECT(ADDRESS(ROW(選択項目一覧!$F29),COLUMN(選択項目一覧!$F$6)+$F$2-1, 1, 1, \"選択項目一覧\" ))=\"○\", 選択項目一覧!$B29, \"\" )","v":23},{"$f":"IF($C27<>\"\",選択項目一覧!$C29&\"\",\"\")","v":"評価・登用"},{"$f":"IF($C27<>\"\",選択項目一覧!$D29&\"\",\"\")","v":"係長やその手前の段階で多くの女性が滞留している。"},null,{"$f":"IF(OR($L27=\"\",$K27=\"\"),\"\",MAX($G$1:$G26)+1)","v":""},{"$f":"IF(MAX($H$4:$H26)+1>MAX($B$5:$B$54),\"\",MAX($H$4:$H26)+1)","v":23},23,"評価・登用","係長やその手前の段階で多くの女性が滞留している。",null,null,{"$f":"IF(MAX($N$1:$N26)+1>MAX($G$5:$G$56),\"\",MAX($N$1:$N26)+1)","v":""},"","",""]
[null,{"$f":"IF($C28=\"\",\"\",MAX($B$4:$B27)+1)","v":24},{"$f":"IF(INDIRECT(ADDRESS(ROW(選択項目一覧!$F30),COLUMN(選択項目一覧!$F$6)+$F$2-1, 1, 1, \"選択項目一覧\" ))=\"○\", 選択項目一覧!$B30, \"\" )","v":24},{"$f":"IF($C28<>\"\",選択項目一覧!$C30&\"\",\"\")","v":"評価・登用"},{"$f":"IF($C28<>\"\",選択項目一覧!$D30&\"\",\"\")","v":"女性社員が出産・子育てをしながらキャリア形成していくイメージや意欲を持つことができていない。管理職が、復職女性に対するマネジメント責任を認識できていない。"},null,{"$f":"IF(OR($L28=\"\",$K28=\"\"),\"\",MAX($G$1:$G27)+1)","v":""},{"$f":"IF(MAX($H$4:$H27)+1>MAX($B$5:$B$54),\"\",MAX($H$4:$H27)+1)","v":24},24,"評価・登用","女性社員が出産・子育てをしながらキャリア形成していくイメージや意欲を持つことができていない。管理職が、復職女性に対するマネジメント責任を認識できていない。",null,null,{"$f":"IF(MAX($N$1:$N27)+1>MAX($G$5:$G$56),\"\",MAX($N$1:$N27)+1)","v":""},"","",""]
[null,{"$f":"IF($C29=\"\",\"\",MAX($B$4:$B28)+1)","v":25},{"$f":"IF(INDIRECT(ADDRESS(ROW(選択項目一覧!$F31),COLUMN(選択項目一覧!$F$6)+$F$2-1, 1, 1, \"選択項目一覧\" ))=\"○\", 選択項目一覧!$B31, \"\" )","v":25},{"$f":"IF($C29<>\"\",選択項目一覧!$C31&\"\",\"\")","v":"職場風土"},{"$f":"IF($C29<>\"\",選択項目一覧!$D31&\"\",\"\")","v":"女性には向かない仕事・職場であるとの意識が管理職や社員のなかにある"},null,{"$f":"IF(OR($L29=\"\",$K29=\"\"),\"\",MAX($G$1:$G28)+1)","v":""},{"$f":"IF(MAX($H$4:$H28)+1>MAX($B$5:$B$54),\"\",MAX($H$4:$H28)+1)","v":25},25,"職場風土","女性には向かない仕事・職場であるとの意識が管理職や社員のなかにある",null,null,{"$f":"IF(MAX($N$1:$N28)+1>MAX($G$5:$G$56),\"\",MAX($N$1:$N28)+1)","v":""},"","",""]
[null,{"$f":"IF($C30=\"\",\"\",MAX($B$4:$B29)+1)","v":26},{"$f":"IF(INDIRECT(ADDRESS(ROW(選択項目一覧!$F32),COLUMN(選択項目一覧!$F$6)+$F$2-1, 1, 1, \"選択項目一覧\" ))=\"○\", 選択項目一覧!$B32, \"\" )","v":26},{"$f":"IF($C30<>\"\",選択項目一覧!$C32&\"\",\"\")","v":"職場風土"},{"$f":"IF($C30<>\"\",選択項目一覧!$D32&\"\",\"\")","v":"女性を配慮しにくい職場環境（衛生面・装備面等）になっている"},null,{"$f":"IF(OR($L30=\"\",$K30=\"\"),\"\",MAX($G$1:$G29)+1)","v":""},{"$f":"IF(MAX($H$4:$H29)+1>MAX($B$5:$B$54),\"\",MAX($H$4:$H29)+1)","v":26},26,"職場風土","女性を配慮しにくい職場環境（衛生面・装備面等）になっている",null,null,{"$f":"IF(MAX($N$1:$N29)+1>MAX($G$5:$G$56),\"\",MAX($N$1:$N29)+1)","v":""},"","",""]
[null,{"$f":"IF($C31=\"\",\"\",MAX($B$4:$B30)+1)","v":27},{"$f":"IF(INDIRECT(ADDRESS(ROW(選択項目一覧!$F33),COLUMN(選択項目一覧!$F$6)+$F$2-1, 1, 1, \"選択項目一覧\" ))=\"○\", 選択項目一覧!$B33, \"\" )","v":27},{"$f":"IF($C31<>\"\",選択項目一覧!$C33&\"\",\"\")","v":"評価・登用"},{"$f":"IF($C31<>\"\",選択項目一覧!$D33&\"\",\"\")","v":"男女の人事評価の結果に差異がある"},null,{"$f":"IF(OR($L31=\"\",$K31=\"\"),\"\",MAX($G$1:$G30)+1)","v":""},{"$f":"IF(MAX($H$4:$H30)+1>MAX($B$5:$B$54),\"\",MAX($H$4:$H30)+1)","v":27},27,"評価・登用","男女の人事評価の結果に差異がある",null,null,{"$f":"IF(MAX($N$1:$N30)+1>MAX($G$5:$G$56),\"\",MAX($N$1:$N30)+1)","v":""},"","",""]
[null,{"$f":"IF($C32=\"\",\"\",MAX($B$4:$B31)+1)","v":28},{"$f":"IF(INDIRECT(ADDRESS(ROW(選択項目一覧!$F34),COLUMN(選択項目一覧!$F$6)+$F$2-1, 1, 1, \"選択項目一覧\" ))=\"○\", 選択項目一覧!$B34, \"\" )","v":28},{"$f":"IF($C32<>\"\",選択項目一覧!$C34&\"\",\"\")","v":"総合"},{"$f":"IF($C32<>\"\",選択項目一覧!$D34&\"\",\"\")","v":"男女の賃金に差異がある"},null,{"$f":"IF(OR($L32=\"\",$K32=\"\"),\"\",MAX($G$1:$G31)+1)","v":""},{"$f":"IF(MAX($H$4:$H31)+1>MAX($B$5:$B$54),\"\",MAX($H$4:$H31)+1)","v":28},28,"総合","男女の賃金に差異がある",null,null,{"$f":"IF(MAX($N$1:$N31)+1>MAX($G$5:$G$56),\"\",MAX($N$1:$N31)+1)","v":""},"","",""]
[null,{"$f":"IF($C33=\"\",\"\",MAX($B$4:$B32)+1)","v":""},{"$f":"IF(INDIRECT(ADDRESS(ROW(選択項目一覧!$F35),COLUMN(選択項目一覧!$F$6)+$F$2-1, 1, 1, \"選択項目一覧\" ))=\"○\", 選択項目一覧!$B35, \"\" )","v":""},{"$f":"IF($C33<>\"\",選択項目一覧!$C35&\"\",\"\")","v":""},{"$f":"IF($C33<>\"\",選択項目一覧!$D35&\"\",\"\")","v":""},null,{"$f":"IF(OR($L33=\"\",$K33=\"\"),\"\",MAX($G$1:$G32)+1)","v":""},{"$f":"IF(MAX($H$4:$H32)+1>MAX($B$5:$B$54),\"\",MAX($H$4:$H32)+1)","v":""},"","","",null,null,{"$f":"IF(MAX($N$1:$N32)+1>MAX($G$5:$G$56),\"\",MAX($N$1:$N32)+1)","v":""},"","",""]
[null,{"$f":"IF($C34=\"\",\"\",MAX($B$4:$B33)+1)","v":""},{"$f":"IF(INDIRECT(ADDRESS(ROW(選択項目一覧!$F36),COLUMN(選択項目一覧!$F$6)+$F$2-1, 1, 1, \"選択項目一覧\" ))=\"○\", 選択項目一覧!$B36, \"\" )","v":""},{"$f":"IF($C34<>\"\",選択項目一覧!$C36&\"\",\"\")","v":""},{"$f":"IF($C34<>\"\",選択項目一覧!$D36&\"\",\"\")","v":""},null,{"$f":"IF(OR($L34=\"\",$K34=\"\"),\"\",MAX($G$1:$G33)+1)","v":""},{"$f":"IF(MAX($H$4:$H33)+1>MAX($B$5:$B$54),\"\",MAX($H$4:$H33)+1)","v":""},"","","",null,null,{"$f":"IF(MAX($N$1:$N33)+1>MAX($G$5:$G$56),\"\",MAX($N$1:$N33)+1)","v":""},"","",""]
[null,{"$f":"IF($C35=\"\",\"\",MAX($B$4:$B34)+1)","v":""},{"$f":"IF(INDIRECT(ADDRESS(ROW(選択項目一覧!$F37),COLUMN(選択項目一覧!$F$6)+$F$2-1, 1, 1, \"選択項目一覧\" ))=\"○\", 選択項目一覧!$B37, \"\" )","v":""},{"$f":"IF($C35<>\"\",選択項目一覧!$C37&\"\",\"\")","v":""},{"$f":"IF($C35<>\"\",選択項目一覧!$D37&\"\",\"\")","v":""},null,{"$f":"IF(OR($L35=\"\",$K35=\"\"),\"\",MAX($G$1:$G34)+1)","v":""},{"$f":"IF(MAX($H$4:$H34)+1>MAX($B$5:$B$54),\"\",MAX($H$4:$H34)+1)","v":""},"","","",null,null,{"$f":"IF(MAX($N$1:$N34)+1>MAX($G$5:$G$56),\"\",MAX($N$1:$N34)+1)","v":""},"","",""]
[null,{"$f":"IF($C36=\"\",\"\",MAX($B$4:$B35)+1)","v":""},{"$f":"IF(INDIRECT(ADDRESS(ROW(選択項目一覧!$F38),COLUMN(選択項目一覧!$F$6)+$F$2-1, 1, 1, \"選択項目一覧\" ))=\"○\", 選択項目一覧!$B38, \"\" )","v":""},{"$f":"IF($C36<>\"\",選択項目一覧!$C38&\"\",\"\")","v":""},{"$f":"IF($C36<>\"\",選択項目一覧!$D38&\"\",\"\")","v":""},null,{"$f":"IF(OR($L36=\"\",$K36=\"\"),\"\",MAX($G$1:$G35)+1)","v":""},{"$f":"IF(MAX($H$4:$H35)+1>MAX($B$5:$B$54),\"\",MAX($H$4:$H35)+1)","v":""},"","","",null,null,{"$f":"IF(MAX($N$1:$N35)+1>MAX($G$5:$G$56),\"\",MAX($N$1:$N35)+1)","v":""},"","",""]
[null,{"$f":"IF($C37=\"\",\"\",MAX($B$4:$B36)+1)","v":""},{"$f":"IF(INDIRECT(ADDRESS(ROW(選択項目一覧!$F39),COLUMN(選択項目一覧!$F$6)+$F$2-1, 1, 1, \"選択項目一覧\" ))=\"○\", 選択項目一覧!$B39, \"\" )","v":""},{"$f":"IF($C37<>\"\",選択項目一覧!$C39&\"\",\"\")","v":""},{"$f":"IF($C37<>\"\",選択項目一覧!$D39&\"\",\"\")","v":""},null,{"$f":"IF(OR($L37=\"\",$K37=\"\"),\"\",MAX($G$1:$G36)+1)","v":""},{"$f":"IF(MAX($H$4:$H36)+1>MAX($B$5:$B$54),\"\",MAX($H$4:$H36)+1)","v":""},{"$f":"VLOOKUP($H37,$B$5:$E$54,2,0)","v":""},{"$f":"VLOOKUP($H37,$B$5:$E$54,3,0)","v":""},{"$f":"VLOOKUP($H37,$B$5:$E$54,4,0)","v":""},null,null,{"$f":"IF(MAX($N$1:$N36)+1>MAX($G$5:$G$56),\"\",MAX($N$1:$N36)+1)","v":""},"","",""]
[null,{"$f":"IF($C38=\"\",\"\",MAX($B$4:$B37)+1)","v":""},{"$f":"IF(INDIRECT(ADDRESS(ROW(選択項目一覧!$F40),COLUMN(選択項目一覧!$F$6)+$F$2-1, 1, 1, \"選択項目一覧\" ))=\"○\", 選択項目一覧!$B40, \"\" )","v":""},{"$f":"IF($C38<>\"\",選択項目一覧!$C40&\"\",\"\")","v":""},{"$f":"IF($C38<>\"\",選択項目一覧!$D40&\"\",\"\")","v":""},null,{"$f":"IF(OR($L38=\"\",$K38=\"\"),\"\",MAX($G$1:$G37)+1)","v":""},{"$f":"IF(MAX($H$4:$H37)+1>MAX($B$5:$B$54),\"\",MAX($H$4:$H37)+1)","v":""},"","","",null,null,{"$f":"IF(MAX($N$1:$N37)+1>MAX($G$5:$G$56),\"\",MAX($N$1:$N37)+1)","v":""},"","",""]
[null,{"$f":"IF($C39=\"\",\"\",MAX($B$4:$B38)+1)","v":""},{"$f":"IF(INDIRECT(ADDRESS(ROW(選択項目一覧!$F41),COLUMN(選択項目一覧!$F$6)+$F$2-1, 1, 1, \"選択項目一覧\" ))=\"○\", 選択項目一覧!$B41, \"\" )","v":""},{"$f":"IF($C39<>\"\",選択項目一覧!$C41&\"\",\"\")","v":""},{"$f":"IF($C39<>\"\",選択項目一覧!$D41&\"\",\"\")","v":""},null,{"$f":"IF(OR($L39=\"\",$K39=\"\"),\"\",MAX($G$1:$G38)+1)","v":""},{"$f":"IF(MAX($H$4:$H38)+1>MAX($B$5:$B$54),\"\",MAX($H$4:$H38)+1)","v":""},"","","",null,null,{"$f":"IF(MAX($N$1:$N38)+1>MAX($G$5:$G$56),\"\",MAX($N$1:$N38)+1)","v":""},"","",""]
[null,{"$f":"IF($C40=\"\",\"\",MAX($B$4:$B39)+1)","v":""},{"$f":"IF(INDIRECT(ADDRESS(ROW(選択項目一覧!$F42),COLUMN(選択項目一覧!$F$6)+$F$2-1, 1, 1, \"選択項目一覧\" ))=\"○\", 選択項目一覧!$B42, \"\" )","v":""},{"$f":"IF($C40<>\"\",選択項目一覧!$C42&\"\",\"\")","v":""},{"$f":"IF($C40<>\"\",選択項目一覧!$D42&\"\",\"\")","v":""},null,{"$f":"IF(OR($L40=\"\",$K40=\"\"),\"\",MAX($G$1:$G39)+1)","v":""},{"$f":"IF(MAX($H$4:$H39)+1>MAX($B$5:$B$54),\"\",MAX($H$4:$H39)+1)","v":""},"","","",null,null,{"$f":"IF(MAX($N$1:$N39)+1>MAX($G$5:$G$56),\"\",MAX($N$1:$N39)+1)","v":""},"","",""]
[null,{"$f":"IF($C41=\"\",\"\",MAX($B$4:$B40)+1)","v":""},{"$f":"IF(INDIRECT(ADDRESS(ROW(選択項目一覧!$F43),COLUMN(選択項目一覧!$F$6)+$F$2-1, 1, 1, \"選択項目一覧\" ))=\"○\", 選択項目一覧!$B43, \"\" )","v":""},{"$f":"IF($C41<>\"\",選択項目一覧!$C43&\"\",\"\")","v":""},{"$f":"IF($C41<>\"\",選択項目一覧!$D43&\"\",\"\")","v":""},null,{"$f":"IF(OR($L41=\"\",$K41=\"\"),\"\",MAX($G$1:$G40)+1)","v":""},{"$f":"IF(MAX($H$4:$H40)+1>MAX($B$5:$B$54),\"\",MAX($H$4:$H40)+1)","v":""},"","","",null,null,{"$f":"IF(MAX($N$1:$N40)+1>MAX($G$5:$G$56),\"\",MAX($N$1:$N40)+1)","v":""},"","",""]
[null,{"$f":"IF($C42=\"\",\"\",MAX($B$4:$B41)+1)","v":""},{"$f":"IF(INDIRECT(ADDRESS(ROW(選択項目一覧!$F44),COLUMN(選択項目一覧!$F$6)+$F$2-1, 1, 1, \"選択項目一覧\" ))=\"○\", 選択項目一覧!$B44, \"\" )","v":""},{"$f":"IF($C42<>\"\",選択項目一覧!$C44&\"\",\"\")","v":""},{"$f":"IF($C42<>\"\",選択項目一覧!$D44&\"\",\"\")","v":""},null,{"$f":"IF(OR($L42=\"\",$K42=\"\"),\"\",MAX($G$1:$G41)+1)","v":""},{"$f":"IF(MAX($H$4:$H41)+1>MAX($B$5:$B$54),\"\",MAX($H$4:$H41)+1)","v":""},"","","",null,null,{"$f":"IF(MAX($N$1:$N41)+1>MAX($G$5:$G$56),\"\",MAX($N$1:$N41)+1)","v":""},"","",""]
[null,{"$f":"IF($C43=\"\",\"\",MAX($B$4:$B42)+1)","v":""},{"$f":"IF(INDIRECT(ADDRESS(ROW(選択項目一覧!$F45),COLUMN(選択項目一覧!$F$6)+$F$2-1, 1, 1, \"選択項目一覧\" ))=\"○\", 選択項目一覧!$B45, \"\" )","v":""},{"$f":"IF($C43<>\"\",選択項目一覧!$C45&\"\",\"\")","v":""},{"$f":"IF($C43<>\"\",選択項目一覧!$D45&\"\",\"\")","v":""},null,{"$f":"IF(OR($L43=\"\",$K43=\"\"),\"\",MAX($G$1:$G42)+1)","v":""},{"$f":"IF(MAX($H$4:$H42)+1>MAX($B$5:$B$54),\"\",MAX($H$4:$H42)+1)","v":""},"","","",null,null,{"$f":"IF(MAX($N$1:$N42)+1>MAX($G$5:$G$56),\"\",MAX($N$1:$N42)+1)","v":""},"","",""]
[null,{"$f":"IF($C44=\"\",\"\",MAX($B$4:$B43)+1)","v":""},{"$f":"IF(INDIRECT(ADDRESS(ROW(選択項目一覧!$F46),COLUMN(選択項目一覧!$F$6)+$F$2-1, 1, 1, \"選択項目一覧\" ))=\"○\", 選択項目一覧!$B46, \"\" )","v":""},{"$f":"IF($C44<>\"\",選択項目一覧!$C46&\"\",\"\")","v":""},{"$f":"IF($C44<>\"\",選択項目一覧!$D46&\"\",\"\")","v":""},null,{"$f":"IF(OR($L44=\"\",$K44=\"\"),\"\",MAX($G$1:$G43)+1)","v":""},{"$f":"IF(MAX($H$4:$H43)+1>MAX($B$5:$B$54),\"\",MAX($H$4:$H43)+1)","v":""},"","","",null,null,{"$f":"IF(MAX($N$1:$N43)+1>MAX($G$5:$G$56),\"\",MAX($N$1:$N43)+1)","v":""},"","",""]
[null,null,{"$f":"IF(AND($H$2=\"×\",労働時間課題!$B5<>\"\"),MAX(選択項目一覧!$B$7:$B$46)+労働時間課題!$B5,\"\")","v":""},{"$f":"IF($C45<>\"\",労働時間課題!C5&\"\",\"\")","v":""},{"$f":"IF($C45<>\"\",労働時間課題!D5&\"\",\"\")","v":""},null,{"$f":"IF(OR($L45=\"\",$K45=\"\"),\"\",MAX($G$1:$G44)+1)","v":""},{"$f":"IF(MAX($H$4:$H44)+1>MAX($B$5:$B$54),\"\",MAX($H$4:$H44)+1)","v":""},"","","",null,null,{"$f":"IF(MAX($N$1:$N44)+1>MAX($G$5:$G$56),\"\",MAX($N$1:$N44)+1)","v":""},"","",""]
[null,null,{"$f":"IF(AND($H$2=\"×\",労働時間課題!$B6<>\"\"),MAX(選択項目一覧!$B$7:$B$46)+労働時間課題!$B6,\"\")","v":""},{"$f":"IF($C46<>\"\",労働時間課題!C6&\"\",\"\")","v":""},{"$f":"IF($C46<>\"\",労働時間課題!D6&\"\",\"\")","v":""},null,{"$f":"IF(OR($L46=\"\",$K46=\"\"),\"\",MAX($G$1:$G45)+1)","v":""},{"$f":"IF(MAX($H$4:$H45)+1>MAX($B$5:$B$54),\"\",MAX($H$4:$H45)+1)","v":""},"","","",null,null,{"$f":"IF(MAX($N$1:$N45)+1>MAX($G$5:$G$56),\"\",MAX($N$1:$N45)+1)","v":""},"","",""]
[null,null,{"$f":"IF(AND($H$2=\"×\",労働時間課題!$B7<>\"\"),MAX(選択項目一覧!$B$7:$B$46)+労働時間課題!$B7,\"\")","v":""},{"$f":"IF($C47<>\"\",労働時間課題!C7&\"\",\"\")","v":""},{"$f":"IF($C47<>\"\",労働時間課題!D7&\"\",\"\")","v":""},null,{"$f":"IF(OR($L47=\"\",$K47=\"\"),\"\",MAX($G$1:$G46)+1)","v":""},{"$f":"IF(MAX($H$4:$H46)+1>MAX($B$5:$B$54),\"\",MAX($H$4:$H46)+1)","v":""},"","","",null,null,{"$f":"IF(MAX($N$1:$N46)+1>MAX($G$5:$G$56),\"\",MAX($N$1:$N46)+1)","v":""},"","",""]
[null,null,{"$f":"IF(AND($H$2=\"×\",労働時間課題!$B8<>\"\"),MAX(選択項目一覧!$B$7:$B$46)+労働時間課題!$B8,\"\")","v":""},{"$f":"IF($C48<>\"\",労働時間課題!C8&\"\",\"\")","v":""},{"$f":"IF($C48<>\"\",労働時間課題!D8&\"\",\"\")","v":""},null,{"$f":"IF(OR($L48=\"\",$K48=\"\"),\"\",MAX($G$1:$G47)+1)","v":""},{"$f":"IF(MAX($H$4:$H47)+1>MAX($B$5:$B$54),\"\",MAX($H$4:$H47)+1)","v":""},"","","",null,null,{"$f":"IF(MAX($N$1:$N47)+1>MAX($G$5:$G$56),\"\",MAX($N$1:$N47)+1)","v":""},"","",""]
[null,null,{"$f":"IF(AND($H$2=\"×\",労働時間課題!$B9<>\"\"),MAX(選択項目一覧!$B$7:$B$46)+労働時間課題!$B9,\"\")","v":""},{"$f":"IF($C49<>\"\",労働時間課題!C9&\"\",\"\")","v":""},{"$f":"IF($C49<>\"\",労働時間課題!D9&\"\",\"\")","v":""},null,{"$f":"IF(OR($L49=\"\",$K49=\"\"),\"\",MAX($G$1:$G48)+1)","v":""},{"$f":"IF(MAX($H$4:$H48)+1>MAX($B$5:$B$54),\"\",MAX($H$4:$H48)+1)","v":""},"","","",null,null,{"$f":"IF(MAX($N$1:$N48)+1>MAX($G$5:$G$56),\"\",MAX($N$1:$N48)+1)","v":""},"","",""]
[null,null,{"$f":"IF(AND($H$2=\"×\",労働時間課題!$B10<>\"\"),MAX(選択項目一覧!$B$7:$B$46)+労働時間課題!$B10,\"\")","v":""},{"$f":"IF($C50<>\"\",労働時間課題!C10&\"\",\"\")","v":""},{"$f":"IF($C50<>\"\",労働時間課題!D10&\"\",\"\")","v":""},null,{"$f":"IF(OR($L50=\"\",$K50=\"\"),\"\",MAX($G$1:$G49)+1)","v":""},{"$f":"IF(MAX($H$4:$H49)+1>MAX($B$5:$B$54),\"\",MAX($H$4:$H49)+1)","v":""},"","","",null,null,{"$f":"IF(MAX($N$1:$N49)+1>MAX($G$5:$G$56),\"\",MAX($N$1:$N49)+1)","v":""},"","",""]
[null,null,{"$f":"IF(AND($H$2=\"×\",労働時間課題!$B11<>\"\"),MAX(選択項目一覧!$B$7:$B$46)+労働時間課題!$B11,\"\")","v":""},{"$f":"IF($C51<>\"\",労働時間課題!C11&\"\",\"\")","v":""},{"$f":"IF($C51<>\"\",労働時間課題!D11&\"\",\"\")","v":""},null,{"$f":"IF(OR($L51=\"\",$K51=\"\"),\"\",MAX($G$1:$G50)+1)","v":""},{"$f":"IF(MAX($H$4:$H50)+1>MAX($B$5:$B$54),\"\",MAX($H$4:$H50)+1)","v":""},"","","",null,null,{"$f":"IF(MAX($N$1:$N50)+1>MAX($G$5:$G$56),\"\",MAX($N$1:$N50)+1)","v":""},"","",""]
[null,{"$f":"IF($C52=\"\",\"\",MAX($B$4:$B51)+1)","v":""},{"$f":"IF(AND($H$2=\"×\",労働時間課題!$B12<>\"\"),MAX(選択項目一覧!$B$7:$B$46)+労働時間課題!$B12,\"\")","v":""},{"$f":"IF($C52<>\"\",労働時間課題!C12&\"\",\"\")","v":""},{"$f":"IF($C52<>\"\",労働時間課題!D12&\"\",\"\")","v":""},null,{"$f":"IF(OR($L52=\"\",$K52=\"\"),\"\",MAX($G$1:$G51)+1)","v":""},{"$f":"IF(MAX($H$4:$H51)+1>MAX($B$5:$B$54),\"\",MAX($H$4:$H51)+1)","v":""},"","","",null,null,{"$f":"IF(MAX($N$1:$N51)+1>MAX($G$5:$G$56),\"\",MAX($N$1:$N51)+1)","v":""},"","",""]
[null,{"$f":"IF($C53=\"\",\"\",MAX($B$4:$B52)+1)","v":""},{"$f":"IF(AND($H$2=\"×\",労働時間課題!$B13<>\"\"),MAX(選択項目一覧!$B$7:$B$46)+労働時間課題!$B13,\"\")","v":""},{"$f":"IF($C53<>\"\",労働時間課題!C13&\"\",\"\")","v":""},{"$f":"IF($C53<>\"\",労働時間課題!D13&\"\",\"\")","v":""},null,{"$f":"IF(OR($L53=\"\",$K53=\"\"),\"\",MAX($G$1:$G52)+1)","v":""},{"$f":"IF(MAX($H$4:$H52)+1>MAX($B$5:$B$54),\"\",MAX($H$4:$H52)+1)","v":""},"","","",null,null,{"$f":"IF(MAX($N$1:$N52)+1>MAX($G$5:$G$56),\"\",MAX($N$1:$N52)+1)","v":""},"","",""]
[null,{"$f":"IF($C54=\"\",\"\",MAX($B$4:$B53)+1)","v":""},{"$f":"IF(AND($H$2=\"×\",労働時間課題!$B14<>\"\"),MAX(選択項目一覧!$B$7:$B$46)+労働時間課題!$B14,\"\")","v":""},{"$f":"IF($C54<>\"\",労働時間課題!C14&\"\",\"\")","v":""},{"$f":"IF($C54<>\"\",労働時間課題!D14&\"\",\"\")","v":""},null,{"$f":"IF(OR($L54=\"\",$K54=\"\"),\"\",MAX($G$1:$G53)+1)","v":""},{"$f":"IF(MAX($H$4:$H53)+1>MAX($B$5:$B$54),\"\",MAX($H$4:$H53)+1)","v":""},"","","",null,null,{"$f":"IF(MAX($N$1:$N53)+1>MAX($G$5:$G$56),\"\",MAX($N$1:$N53)+1)","v":""},"","",""]
[null,null,null,null,null,null,{"$f":"IF(OR($L55=\"\",$K55=\"\"),\"\",MAX($G$1:$G54)+1)","v":""},{"$f":"MAX(H5:H54)+1","v":29},{"$f":"C45","v":""},{"$f":"D45","v":""},{"$f":"E45","v":""},{"$f":"IF(労働時間課題有無=\"×\",1,\"\")","v":""},null,null,null,null,null,null,{"$f":"IF(労働時間課題有無=\"×\",1,\"\")","v":""}]
[null,null,null,null,null,null,{"$f":"IF(OR($L56=\"\"),\"\",MAX($G$1:$G55)+1)","v":""},{"$f":"MAX(H6:H55)+1","v":30},{"$f":"MAX(選択項目一覧!$B$7:$B$46)+1","v":32},"その他"," ",{"$f":"IF(COUNT('目標追加＞'!E5:E20)=0,\"\",1)","v":""},null,null,null,null,null,null,{"$f":"IF(COUNT('目標追加＞'!L5:L20)=0,\"\",1)","v":""}]

{"sheet":"選択項目","index":24,"n_rows":122,"n_cols":11,"rows_kept":122,"cut":false,"hidden":false,"merged":[[93,4,94,8],[95,4,96,8],[97,4,98,8],[99,4,100,8],[101,4,102,8],[83,4,84,8],[85,4,86,8],[87,4,88,8],[89,4,90,8],[91,4,92,8],[113,4,114,8],[115,4,116,8],[117,4,118,8],[119,4,120,8],[121,4,122,8],[103,4,104,8],[105,4,106,8],[107,4,108,8],[109,4,110,8],[111,4,112,8],[37,10,38,42],[35,4,36,8],[37,4,38,8],[39,4,40,8],[79,4,80,8],[81,4,82,8],[63,4,64,8],[65,4,66,8],[67,4,68,8],[69,4,70,8],[71,4,72,8],[55,4,56,8],[57,4,58,8],[59,4,60,8],[61,4,62,8],[73,4,74,8],[75,4,76,8],[77,4,78,8],[87,10,88,42],[65,10,66,42],[67,10,68,42],[69,10,70,42],[71,10,72,42],[73,10,74,42],[43,4,44,8],[45,4,46,8],[47,4,48,8],[49,4,50,8],[51,4,52,8],[113,10,114,42],[115,10,116,42],[117,10,118,42],[119,10,120,42],[121,10,122,42],[111,10,112,42],[89,10,90,42],[91,10,92,42],[93,10,94,42],[95,10,96,42],[97,10,98,42],[99,10,100,42],[101,10,102,42],[103,10,104,42],[105,10,106,42],[107,10,108,42],[109,10,110,42],[33,10,34,42],[33,4,34,8],[75,10,76,42],[77,10,78,42],[79,10,80,42],[81,10,82,42],[83,10,84,42],[85,10,86,42],[63,10,64,42],[41,10,42,42],[43,10,44,42],[45,10,46,42],[47,10,48,42],[49,10,50,42],[51,10,52,42],[53,10,54,42],[55,10,56,42],[57,10,58,42],[59,10,60,42],[61,10,62,42],[53,4,54,8],[41,4,42,8],[39,10,40,42],[35,10,36,42],[2,1,2,40],[13,2,14,4],[13,5,14,5],[13,6,14,37],[23,10,24,42],[25,10,26,42],[27,10,28,42],[29,10,30,42],[31,10,32,42],[22,10,22,42],[22,4,22,8],[23,4,24,8],[25,4,26,8],[27,4,28,8],[29,4,30,8],[31,4,32,8]]}
[]
[null,null,null,null,{"$f":"初期設定!$E$9","v":"中小企業のための女性活躍『行動計画』策定プログラム"}]
[null," "]
[]
[]
[]
[]
[]
[]
[]
[]
[null,"＜ＳＴＥＰ４＞　タイプごとにあなたの会社の課題を選びます"]
[]
[null,null,{"$f":"タイプ分類名","v":"⑥"},null,null,null,{"$f":"タイプ分類特徴","v":"女性の活躍が比較的進んでいる企業"}]
[]
[]
[null,{"$f":"\"○タイプ\"&C14&IF('選択項目＞'!G2=\"課題分析の視点の全表示\",\"\",\" 「\"&'選択項目＞'!G2&\"」\")&\"に関連する選択項目\"","v":"○タイプ⑥ 「」に関連する選択項目"}]
[]
[null,null,"以下の選択項目のうち、自社の課題に該当すると思われる項目を選択してください。"]
[null,null,"（項目の目安として概ね10個未満で選択してください。）"]
[null,null,"なお、該当する項目が１つもないと思われる場合は、より近いと思われる項目を選択してください。"]
[]
[null,null,"選択",null,"分類",null,null,null,null,null,"選択項目"]
[null,null,null,null,{"$f":"INDIRECT(\"'選択項目＞'!$J\"&(ROW($E24)-ROW($E$22))/2+4,TRUE)","v":"採用"},null,null,null,null,null,{"$f":"INDIRECT(\"'選択項目＞'!$K\"&(ROW($K24)-ROW($J$22))/2+4,TRUE)","v":"採用した労働者に占める女性労働者の割合に偏りがある"}]
[]
[null,null,null,null,{"$f":"INDIRECT(\"'選択項目＞'!$J\"&(ROW($E26)-ROW($E$22))/2+4,TRUE)","v":"採用"},null,null,null,null,null,{"$f":"INDIRECT(\"'選択項目＞'!$K\"&(ROW($K26)-ROW($E$22))/2+4,TRUE)","v":"採用者に占める女性割合が低い雇用管理区分がある"}]
[]
[null,null,null,null,{"$f":"INDIRECT(\"'選択項目＞'!$J\"&(ROW($E28)-ROW($E$22))/2+4,TRUE)","v":"採用"},null,null,null,null,null,{"$f":"INDIRECT(\"'選択項目＞'!$K\"&(ROW($K28)-ROW($E$22))/2+4,TRUE)","v":"再雇用又は中途採用の実績に男女の偏りがある"}]
[]
[null,null,null,null,{"$f":"INDIRECT(\"'選択項目＞'!$J\"&(ROW($E30)-ROW($E$22))/2+4,TRUE)","v":"配置・育成"},null,null,null,null,null,{"$f":"INDIRECT(\"'選択項目＞'!$K\"&(ROW($K30)-ROW($E$22))/2+4,TRUE)","v":"女性がほとんど配置されていない部署がある"}]
[]
[null,null,null,null,{"$f":"INDIRECT(\"'選択項目＞'!$J\"&(ROW($E32)-ROW($E$22))/2+4,TRUE)","v":"配置・育成"},null,null,null,null,null,{"$f":"INDIRECT(\"'選択項目＞'!$K\"&(ROW($K32)-ROW($E$22))/2+4,TRUE)","v":"同世代の男性社員に比べ、女性社員の育成が遅れがちになっている"}]
[]
[null,null,null,null,{"$f":"INDIRECT(\"'選択項目＞'!$J\"&(ROW($E34)-ROW($E$22))/2+4,TRUE)","v":"配置・育成"},null,null,null,null,null,{"$f":"INDIRECT(\"'選択項目＞'!$K\"&(ROW($K34)-ROW($E$22))/2+4,TRUE)","v":"管理職や男女の労働者の配置・育成・評価・昇進その他に関する意識に男女の偏りがある"}]
[]
[null,null,null,null,{"$f":"INDIRECT(\"'選択項目＞'!$J\"&(ROW($E36)-ROW($E$22))/2+4,TRUE)","v":"配置・育成"},null,null,null,null,null,{"$f":"INDIRECT(\"'選択項目＞'!$K\"&(ROW($K36)-ROW($E$22))/2+4,TRUE)","v":"非正社員の育成・登用が進んでいない"}]
[]
[null,null,null,null,{"$f":"INDIRECT(\"'選択項目＞'!$J\"&(ROW($E38)-ROW($E$22))/2+4,TRUE)","v":"配置・育成"},null,null,null,null,null,{"$f":"INDIRECT(\"'選択項目＞'!$K\"&(ROW($K38)-ROW($E$22))/2+4,TRUE)","v":"非正社員のキャリアアップに向けた研修の受講の状況に男女の偏りがある"}]
[]
[null,null,null,null,{"$f":"INDIRECT(\"'選択項目＞'!$J\"&(ROW($E40)-ROW($E$22))/2+4,TRUE)","v":"就業継続・働き方"},null,null,null,null,null,{"$f":"INDIRECT(\"'選択項目＞'!$K\"&(ROW($K40)-ROW($E$22))/2+4,TRUE)","v":"男女の平均継続勤務年数の差異はないが、勤続年数自体は短い"}]
[]
[null,null,null,null,{"$f":"INDIRECT(\"'選択項目＞'!$J\"&(ROW($E42)-ROW($E$22))/2+4,TRUE)","v":"就業継続・働き方"},null,null,null,null,null,{"$f":"INDIRECT(\"'選択項目＞'!$K\"&(ROW($K42)-ROW($E$22))/2+4,TRUE)","v":"出産・子育て等を機に（あるいはそれ以前に）、女性社員が退職する傾向にある。"}]
[]
[null,null,null,null,{"$f":"INDIRECT(\"'選択項目＞'!$J\"&(ROW($E44)-ROW($E$22))/2+4,TRUE)","v":"就業継続・働き方"},null,null,null,null,null,{"$f":"INDIRECT(\"'選択項目＞'!$K\"&(ROW($K44)-ROW($E$22))/2+4,TRUE)","v":"女性社員が少ない、もしくはいない"}]
[]
[null,null,null,null,{"$f":"INDIRECT(\"'選択項目＞'!$J\"&(ROW($E46)-ROW($E$22))/2+4,TRUE)","v":"就業継続・働き方"},null,null,null,null,null,{"$f":"INDIRECT(\"'選択項目＞'!$K\"&(ROW($K46)-ROW($E$22))/2+4,TRUE)","v":"育児休業取得率が低い、または平均取得期間が短い。"}]
[]
[null,null,null,null,{"$f":"INDIRECT(\"'選択項目＞'!$J\"&(ROW($E48)-ROW($E$22))/2+4,TRUE)","v":"就業継続・働き方"},null,null,null,null,null,{"$f":"INDIRECT(\"'選択項目＞'!$K\"&(ROW($K48)-ROW($E$22))/2+4,TRUE)","v":"職業生活と家庭生活との両立を支援するための制度（育児休業を除く）が十分ではない"}]
[]
[null,null,null,null,{"$f":"INDIRECT(\"'選択項目＞'!$J\"&(ROW($E50)-ROW($E$22))/2+4,TRUE)","v":"就業継続・働き方"},null,null,null,null,null,{"$f":"INDIRECT(\"'選択項目＞'!$K\"&(ROW($K50)-ROW($E$22))/2+4,TRUE)","v":"フレックスタイム制、在宅勤務、テレワーク等の柔軟な働き方に資する制度の利用実績に男女の偏りがある"}]
[]
[null,null,null,null,{"$f":"INDIRECT(\"'選択項目＞'!$J\"&(ROW($E52)-ROW($E$22))/2+4,TRUE)","v":"就業継続・働き方"},null,null,null,null,null,{"$f":"INDIRECT(\"'選択項目＞'!$K\"&(ROW($K52)-ROW($E$22))/2+4,TRUE)","v":"労働者の各月ごとの平均残業時間等が特に長い月がある"}]
[]
[null,null,null,null,{"$f":"INDIRECT(\"'選択項目＞'!$J\"&(ROW($E54)-ROW($E$22))/2+4,TRUE)","v":"就業継続・働き方"},null,null,null,null,null,{"$f":"INDIRECT(\"'選択項目＞'!$K\"&(ROW($K54)-ROW($E$22))/2+4,TRUE)","v":"労働者の各月ごとの平均残業時間等で特に労働時間が長い雇用管理区分がある"}]
[]
[null,null,null,null,{"$f":"INDIRECT(\"'選択項目＞'!$J\"&(ROW($E56)-ROW($E$22))/2+4,TRUE)","v":"就業継続・働き方"},null,null,null,null,null,{"$f":"INDIRECT(\"'選択項目＞'!$K\"&(ROW($K56)-ROW($E$22))/2+4,TRUE)","v":"管理職の各月ごとの労働時間等が一般の労働者と比較して長くなっている"}]
[]
[null,null,null,null,{"$f":"INDIRECT(\"'選択項目＞'!$J\"&(ROW($E58)-ROW($E$22))/2+4,TRUE)","v":"就業継続・働き方"},null,null,null,null,null,{"$f":"INDIRECT(\"'選択項目＞'!$K\"&(ROW($K58)-ROW($E$22))/2+4,TRUE)","v":"有給休暇取得率の低い雇用管理区分がある"}]
[]
[null,null,null,null,"評価・登用",null,null,null,null,null,{"$f":"INDIRECT(\"'選択項目＞'!$K\"&(ROW($K60)-ROW($E$22))/2+4,TRUE)","v":"女性管理職が少ない、またはいない。"}]
[]
[null,null,null,null,"評価・登用",null,null,null,null,null,{"$f":"INDIRECT(\"'選択項目＞'!$K\"&(ROW($K62)-ROW($E$22))/2+4,TRUE)","v":"各職階の労働者に占める女性労働者の割合が低い"}]
[]
[null,null,null,null,"評価・登用",null,null,null,null,null,{"$f":"INDIRECT(\"'選択項目＞'!$K\"&(ROW($K64)-ROW($E$22))/2+4,TRUE)","v":"役員に占める女性の割合が低い"}]
[]
[null,null,null,null,"評価・登用",null,null,null,null,null,{"$f":"INDIRECT(\"'選択項目＞'!$K\"&(ROW($K66)-ROW($E$22))/2+4,TRUE)","v":"１つ上位の職階へ昇進した労働者の割合に男女の偏りがある"}]
[]
[null,null,null,null,"評価・登用",null,null,null,null,null,{"$f":"INDIRECT(\"'選択項目＞'!$K\"&(ROW($K68)-ROW($E$22))/2+4,TRUE)","v":"係長やその手前の段階で多くの女性が滞留している。"}]
[]
[null,null,null,null,"評価・登用",null,null,null,null,null,{"$f":"INDIRECT(\"'選択項目＞'!$K\"&(ROW($K70)-ROW($E$22))/2+4,TRUE)","v":"女性社員が出産・子育てをしながらキャリア形成していくイメージや意欲を持つことができていない。管理職が、復職女性に対するマネジメント責任を認識できていない。"}]
[]
[null,null,null,null,"職場風土",null,null,null,null,null,{"$f":"INDIRECT(\"'選択項目＞'!$K\"&(ROW($K72)-ROW($E$22))/2+4,TRUE)","v":"女性には向かない仕事・職場であるとの意識が管理職や社員のなかにある"}]
[]
[null,null,null,null,"職場風土",null,null,null,null,null,{"$f":"INDIRECT(\"'選択項目＞'!$K\"&(ROW($K74)-ROW($E$22))/2+4,TRUE)","v":"女性を配慮しにくい職場環境（衛生面・装備面等）になっている"}]
[]
[null,null,null,null,"評価・登用",null,null,null,null,null,{"$f":"INDIRECT(\"'選択項目＞'!$K\"&(ROW($K76)-ROW($E$22))/2+4,TRUE)","v":"男女の人事評価の結果に差異がある"}]
[]
[null,null,null,null,"総合",null,null,null,null,null,{"$f":"INDIRECT(\"'選択項目＞'!$K\"&(ROW($K78)-ROW($E$22))/2+4,TRUE)","v":"男女の賃金に差異がある"}]
[]
[null,null,null,null,"",null,null,null,null,null,{"$f":"INDIRECT(\"'選択項目＞'!$K\"&(ROW($K80)-ROW($E$22))/2+4,TRUE)","v":""}]
[]
[null,null,null,null,"",null,null,null,null,null,{"$f":"INDIRECT(\"'選択項目＞'!$K\"&(ROW($K82)-ROW($E$22))/2+4,TRUE)","v":""}]
[]
[null,null,null,null,"",null,null,null,null,null,{"$f":"INDIRECT(\"'選択項目＞'!$K\"&(ROW($K84)-ROW($E$22))/2+4,TRUE)","v":""}]
[]
[null,null,null,null,"",null,null,null,null,null,{"$f":"INDIRECT(\"'選択項目＞'!$K\"&(ROW($K86)-ROW($E$22))/2+4,TRUE)","v":""}]
[]
[null,null,null,null,"",null,null,null,null,null,{"$f":"INDIRECT(\"'選択項目＞'!$K\"&(ROW($K88)-ROW($E$22))/2+4,TRUE)","v":""}]
[]
[null,null,null,null,"",null,null,null,null,null,{"$f":"INDIRECT(\"'選択項目＞'!$K\"&(ROW($K90)-ROW($E$22))/2+4,TRUE)","v":""}]
[]
[null,null,null,null,"",null,null,null,null,null,{"$f":"INDIRECT(\"'選択項目＞'!$K\"&(ROW($K92)-ROW($E$22))/2+4,TRUE)","v":""}]
[]
[null,null,null,null,"",null,null,null,null,null,{"$f":"INDIRECT(\"'選択項目＞'!$K\"&(ROW($K94)-ROW($E$22))/2+4,TRUE)","v":""}]
[]
[null,null,null,null,"",null,null,null,null,null,{"$f":"INDIRECT(\"'選択項目＞'!$K\"&(ROW($K96)-ROW($E$22))/2+4,TRUE)","v":""}]
[]
[null,null,null,null,"",null,null,null,null,null,{"$f":"INDIRECT(\"'選択項目＞'!$K\"&(ROW($K98)-ROW($E$22))/2+4,TRUE)","v":""}]
[]
[null,null,null,null,"",null,null,null,null,null,{"$f":"INDIRECT(\"'選択項目＞'!$K\"&(ROW($K100)-ROW($E$22))/2+4,TRUE)","v":""}]
[]
[null,null,null,null,"",null,null,null,null,null,{"$f":"INDIRECT(\"'選択項目＞'!$K\"&(ROW($K102)-ROW($E$22))/2+4,TRUE)","v":""}]
[]
[null,null,null,null,"",null,null,null,null,null,{"$f":"INDIRECT(\"'選択項目＞'!$K\"&(ROW($K104)-ROW($E$22))/2+4,TRUE)","v":""}]
[]
[null,null,null,null,"",null,null,null,null,null,{"$f":"INDIRECT(\"'選択項目＞'!$K\"&(ROW($K106)-ROW($E$22))/2+4,TRUE)","v":""}]
[]
[null,null,null,null,"",null,null,null,null,null,{"$f":"INDIRECT(\"'選択項目＞'!$K\"&(ROW($K108)-ROW($E$22))/2+4,TRUE)","v":""}]
[]
[null,null,null,null,"",null,null,null,null,null,{"$f":"INDIRECT(\"'選択項目＞'!$K\"&(ROW($K110)-ROW($E$22))/2+4,TRUE)","v":""}]
[]
[null,null,null,null,"",null,null,null,null,null,{"$f":"INDIRECT(\"'選択項目＞'!$K\"&(ROW($K112)-ROW($E$22))/2+4,TRUE)","v":""}]
[]
[null,null,null,null,"",null,null,null,null,null,{"$f":"INDIRECT(\"'選択項目＞'!$K\"&(ROW($K114)-ROW($E$22))/2+4,TRUE)","v":""}]
[]
[null,null,null,null,"",null,null,null,null,null,{"$f":"INDIRECT(\"'選択項目＞'!$K\"&(ROW($K116)-ROW($E$22))/2+4,TRUE)","v":""}]
[]
[null,null,null,null,"",null,null,null,null,null,{"$f":"INDIRECT(\"'選択項目＞'!$K\"&(ROW($K118)-ROW($E$22))/2+4,TRUE)","v":""}]
[]
[null,null,null,null,"",null,null,null,null,null,{"$f":"INDIRECT(\"'選択項目＞'!$K\"&(ROW($K120)-ROW($E$22))/2+4,TRUE)","v":""}]
[]
[null,null,null,null,{"$f":"INDIRECT(\"'選択項目＞'!$J\"&(ROW($E122)-ROW($E$22))/2+4,TRUE)","v":""},null,null,null,null,null,{"$f":"INDIRECT(\"'選択項目＞'!$K\"&(ROW($K122)-ROW($E$22))/2+4,TRUE)","v":""}]

{"sheet":"目標入力＞","index":25,"n_rows":67,"n_cols":55,"rows_kept":67,"cut":false,"hidden":false,"merged":[]}
["管理者用シート　リリース時には非表示になります。"]
[]
[null,null,null,null,null,null,null,null,null,null,null,null,null,null,null,null,null,null,null,null,null,null,null,null,null,null,null,null,null,null,"退避1","退避2",null,null,null,null,null,null,null,null,null,null,null,null,null,null,null,"抽出目標",null,null,null,null,null,null,"選択目標"]
[null,"抽出行No.","グループ","元No.","課題分類","目標","出力用","A","B","C","D",null,"選択行No.","抽出No.","元No.","課題分類","（Ａ）","（Ｂ）","（Ｃ）","（Ｄ）","目標","出力","YES",null,"選択行No.","元No.","課題分類","目標","出力",null,"YES","（Ａ）","（Ｂ）","（Ｃ）","（Ｄ）"]
[null,{"$f":"IF($D5=\"\",\"\",MAX($B$4:$B4)+1)","v":1},{"$f":"MATCH(\"○\",目標一覧!F4:BD4,0)","v":2},{"$f":"目標一覧!B4","v":1},{"$f":"IF($D5<>\"\",目標一覧!$C4&\"\",\"\")","v":"採用"},{"$f":"IF($D5<>\"\",目標一覧!$D4,\"\")","v":"採用した労働者に占める女性割合を（Ａ）％以上とする"},{"$f":"IF($D5<>\"\",目標一覧!$E4,\"\")","v":"採用した労働者に占める女性割合を（Ａ）％以上とする"},{"$f":"IF($D5<>\"\",目標一覧!BD4&\"\",\"\")","v":"割合"},{"$f":"IF($D5<>\"\",目標一覧!BE4&\"\",\"\")","v":""},{"$f":"IF($D5<>\"\",目標一覧!BF4&\"\",\"\")","v":""},{"$f":"IF($D5<>\"\",目標一覧!BG4&\"\",\"\")","v":""},{"$f":"MATCH(ROW(),目標入力!AZ$1:AZ$551,0)","v":34},{"$f":"IF(AND($W5=\"\",P5<>\"その他＋\"),\"\",MAX($M$4:$M4)+1)","v":""},{"$f":"IF(MAX($N$4:$N4)+1>MAX($B$5:$B$55),\"\",MAX($N$4:$N4)+1)","v":1},{"$f":"VLOOKUP($N5,$B$5:$F$60,3,0)","v":1},{"$f":"VLOOKUP($N5,$B$5:$F$55,4,0)","v":"採用"},{"$f":"IF(INDIRECT(\"'目標入力'!BA\"&$L5,TRUE)&\"\"=\"\",\"\",INDIRECT(\"'目標入力'!\" & INDIRECT(\"'目標入力'!BA\"&$L5,TRUE) & $L5,TRUE))","v":" "},{"$f":"IF(INDIRECT(\"'目標入力'!BB\"&$L5,TRUE)&\"\"=\"\",\"\",INDIRECT(\"'目標入力'!\" & INDIRECT(\"'目標入力'!BB\"&$L5,TRUE) & $L5,TRUE))","v":""},{"$f":"IF(INDIRECT(\"'目標入力'!BC\"&$L5,TRUE)&\"\"=\"\",\"\",INDIRECT(\"'目標入力'!\" & INDIRECT(\"'目標入力'!BC\"&$L5,TRUE) & $L5,TRUE))","v":""},{"$f":"IF(INDIRECT(\"'目標入力'!BD\"&$L5,TRUE)&\"\"=\"\",\"\",INDIRECT(\"'目標入力'!\" & INDIRECT(\"'目標入力'!BD\"&$L5,TRUE) & $L5,TRUE))","v":""},{"$f":"SUBSTITUTE(SUBSTITUTE(SUBSTITUTE(SUBSTITUTE(VLOOKUP($N5,$B$5:$F$60,5,0),$Q$4,IF(TRIM($Q5)=\"\",\"●\",\"（\" & $Q5 & \"）\"),1),$R$4,IF(TRIM($R5)=\"\",\"●\",\"（\" & $R5 & \"）\"),1),$S$4,IF(TRIM($S5)=\"\",\"●\",\"（\" & $S5 & \"）\"),1),$T$4,IF(TRIM($T5)=\"\",\"●\",\"（\" & $T5 & \"）\"),1)","v":"採用した労働者に占める女性割合を●％以上とする"},{"$f":"SUBSTITUTE(SUBSTITUTE(SUBSTITUTE(SUBSTITUTE(VLOOKUP($N5,$B$5:$G$60,6,0),$Q$4,IF(TRIM($Q5)=\"\",\"●\",$Q5),1),$R$4,IF(TRIM($R5)=\"\",\"●\",$R5),1),$S$4,IF(TRIM($S5)=\"\",\"●\",$S5),1),$T$4,IF(TRIM($T5)=\"\",\"●\",$T5),1)","v":"採用した労働者に占める女性割合を●％以上とする"},null,null,{"$f":"IF(MAX($Y$2:$Y4)+1>MAX($M$5:$M$60),\"\",MAX($Y$2:$Y4)+1)","v":""},{"$f":"IF($Y5=\"\",\"\",VLOOKUP($Y5,$M$5:$P$60,3,0))","v":""},{"$f":"IF($Y5=\"\",\"\",VLOOKUP($Y5,$M$5:$U$60,4,0))","v":""},{"$f":"IF($Y5=\"\",\"\",VLOOKUP($Y5,$M$5:$U$60,9,0))","v":""},{"$f":"IF($Y5=\"\",\"\",VLOOKUP($Y5,$M$5:$V$60,10,0))","v":""}]
[null,{"$f":"IF($D6=\"\",\"\",MAX($B$4:$B5)+1)","v":2},{"$f":"MATCH(\"○\",目標一覧!F5:BD5,0)","v":{"$error":"#N/A"}},{"$f":"目標一覧!B5","v":2},{"$f":"IF($D6<>\"\",目標一覧!$C5&\"\",\"\")","v":"採用"},{"$f":"IF($D6<>\"\",目標一覧!$D5,\"\")","v":"女性の競争倍率を男性と同水準の（Ａ）倍以内とする"},{"$f":"IF($D6<>\"\",目標一覧!$E5,\"\")","v":"女性の競争倍率を男性と同水準の（Ａ）倍以内とする"},{"$f":"IF($D6<>\"\",目標一覧!BD5&\"\",\"\")","v":"倍数"},{"$f":"IF($D6<>\"\",目標一覧!BE5&\"\",\"\")","v":""},{"$f":"IF($D6<>\"\",目標一覧!BF5&\"\",\"\")","v":""},{"$f":"IF($D6<>\"\",目標一覧!BG5&\"\",\"\")","v":""},{"$f":"MATCH(ROW(),目標入力!AZ$1:AZ$551,0)","v":{"$error":"#N/A"}},{"$f":"IF(AND($W6=\"\",P6<>\"その他＋\"),\"\",MAX($M$4:$M5)+1)","v":""},{"$f":"IF(MAX($N$4:$N5)+1>MAX($B$5:$B$55),\"\",MAX($N$4:$N5)+1)","v":2},2,{"$f":"VLOOKUP($N6,$B$5:$F$55,4,0)","v":"採用"},null,null,null,null,{"$f":"SUBSTITUTE(SUBSTITUTE(SUBSTITUTE(SUBSTITUTE(VLOOKUP($N6,$B$5:$F$60,5,0),$Q$4,IF(TRIM($Q6)=\"\",\"●\",\"（\" & $Q6 & \"）\"),1),$R$4,IF(TRIM($R6)=\"\",\"●\",\"（\" & $R6 & \"）\"),1),$S$4,IF(TRIM($S6)=\"\",\"●\",\"（\" & $S6 & \"）\"),1),$T$4,IF(TRIM($T6)=\"\",\"●\",\"（\" & $T6 & \"）\"),1)","v":"女性の競争倍率を男性と同水準の●倍以内とする"},{"$f":"SUBSTITUTE(SUBSTITUTE(SUBSTITUTE(SUBSTITUTE(VLOOKUP($N6,$B$5:$G$60,6,0),$Q$4,IF(TRIM($Q6)=\"\",\"●\",$Q6),1),$R$4,IF(TRIM($R6)=\"\",\"●\",$R6),1),$S$4,IF(TRIM($S6)=\"\",\"●\",$S6),1),$T$4,IF(TRIM($T6)=\"\",\"●\",$T6),1)","v":"女性の競争倍率を男性と同水準の●倍以内とする"},null,null,{"$f":"IF(MAX($Y$2:$Y5)+1>MAX($M$5:$M$60),\"\",MAX($Y$2:$Y5)+1)","v":""},"","",{"$f":"IF($Y6=\"\",\"\",VLOOKUP($Y6,$M$5:$U$60,9,0))","v":""},{"$f":"IF($Y6=\"\",\"\",VLOOKUP($Y6,$M$5:$V$60,10,0))","v":""}]
[null,{"$f":"IF($D7=\"\",\"\",MAX($B$4:$B6)+1)","v":3},{"$f":"MATCH(\"○\",目標一覧!F6:BD6,0)","v":2},{"$f":"目標一覧!B6","v":3},{"$f":"IF($D7<>\"\",目標一覧!$C6&\"\",\"\")","v":"配置・育成"},{"$f":"IF($D7<>\"\",目標一覧!$D6,\"\")","v":"女性労働者を（Ａ）人採用する"},{"$f":"IF($D7<>\"\",目標一覧!$E6,\"\")","v":"女性労働者を（Ａ）人採用する"},{"$f":"IF($D7<>\"\",目標一覧!BD6&\"\",\"\")","v":"人数"},{"$f":"IF($D7<>\"\",目標一覧!BE6&\"\",\"\")","v":""},{"$f":"IF($D7<>\"\",目標一覧!BF6&\"\",\"\")","v":""},{"$f":"IF($D7<>\"\",目標一覧!BG6&\"\",\"\")","v":""},{"$f":"MATCH(ROW(),目標入力!AZ$1:AZ$551,0)","v":37},{"$f":"IF(AND($W7=\"\",P7<>\"その他＋\"),\"\",MAX($M$4:$M6)+1)","v":""},{"$f":"IF(MAX($N$4:$N6)+1>MAX($B$5:$B$55),\"\",MAX($N$4:$N6)+1)","v":3},3,"配置・育成",{"$f":"IF(INDIRECT(\"'目標入力'!BA\"&$L7,TRUE)&\"\"=\"\",\"\",INDIRECT(\"'目標入力'!\" & INDIRECT(\"'目標入力'!BA\"&$L7,TRUE) & $L7,TRUE))","v":" "},{"$f":"IF(INDIRECT(\"'目標入力'!BB\"&$L7,TRUE)&\"\"=\"\",\"\",INDIRECT(\"'目標入力'!\" & INDIRECT(\"'目標入力'!BB\"&$L7,TRUE) & $L7,TRUE))","v":""},{"$f":"IF(INDIRECT(\"'目標入力'!BC\"&$L7,TRUE)&\"\"=\"\",\"\",INDIRECT(\"'目標入力'!\" & INDIRECT(\"'目標入力'!BC\"&$L7,TRUE) & $L7,TRUE))","v":""},{"$f":"IF(INDIRECT(\"'目標入力'!BD\"&$L7,TRUE)&\"\"=\"\",\"\",INDIRECT(\"'目標入力'!\" & INDIRECT(\"'目標入力'!BD\"&$L7,TRUE) & $L7,TRUE))","v":""},"女性労働者を●人採用する","女性労働者を●人採用する",null,null,{"$f":"IF(MAX($Y$2:$Y6)+1>MAX($M$5:$M$60),\"\",MAX($Y$2:$Y6)+1)","v":""},"","","",""]
[null,{"$f":"IF($D8=\"\",\"\",MAX($B$4:$B7)+1)","v":4},{"$f":"MATCH(\"○\",目標一覧!F7:BD7,0)","v":{"$error":"#N/A"}},{"$f":"目標一覧!B7","v":4},{"$f":"IF($D8<>\"\",目標一覧!$C7&\"\",\"\")","v":"採用（再雇用）"},{"$f":"IF($D8<>\"\",目標一覧!$D7,\"\")","v":"再雇用制度の登録者数を対象となる層（離職者等）の（Ａ）％以上とする"},{"$f":"IF($D8<>\"\",目標一覧!$E7,\"\")","v":"再雇用制度の登録者数を対象となる層（離職者等）の（Ａ）％以上とする"},{"$f":"IF($D8<>\"\",目標一覧!BD7&\"\",\"\")","v":"割合"},{"$f":"IF($D8<>\"\",目標一覧!BE7&\"\",\"\")","v":""},{"$f":"IF($D8<>\"\",目標一覧!BF7&\"\",\"\")","v":""},{"$f":"IF($D8<>\"\",目標一覧!BG7&\"\",\"\")","v":""},{"$f":"MATCH(ROW(),目標入力!AZ$1:AZ$551,0)","v":51},{"$f":"IF(AND($W8=\"\",P8<>\"その他＋\"),\"\",MAX($M$4:$M7)+1)","v":""},{"$f":"IF(MAX($N$4:$N7)+1>MAX($B$5:$B$55),\"\",MAX($N$4:$N7)+1)","v":4},4,"採用（再雇用）"," ","","","","再雇用制度の登録者数を対象となる層（離職者等）の●％以上とする","再雇用制度の登録者数を対象となる層（離職者等）の●％以上とする",null,null,{"$f":"IF(MAX($Y$2:$Y7)+1>MAX($M$5:$M$60),\"\",MAX($Y$2:$Y7)+1)","v":""},"","","",""]
[null,{"$f":"IF($D9=\"\",\"\",MAX($B$4:$B8)+1)","v":5},{"$f":"MATCH(\"○\",目標一覧!F8:BD8,0)","v":4},{"$f":"目標一覧!B8","v":5},{"$f":"IF($D9<>\"\",目標一覧!$C8&\"\",\"\")","v":"配置・育成"},{"$f":"IF($D9<>\"\",目標一覧!$D8,\"\")","v":"（Ａ）（※）で働く女性労働者を（Ｂ）人増やす（※これまで女性があまり配属されてこなかった部署・職種、復職女性の配属が困難な部署・職種等を設定）"},{"$f":"IF($D9<>\"\",目標一覧!$E8,\"\")","v":"（Ａ）で働く女性労働者を（Ｂ）人増やす"},{"$f":"IF($D9<>\"\",目標一覧!BD8&\"\",\"\")","v":"部署"},{"$f":"IF($D9<>\"\",目標一覧!BE8&\"\",\"\")","v":"人数"},{"$f":"IF($D9<>\"\",目標一覧!BF8&\"\",\"\")","v":""},{"$f":"IF($D9<>\"\",目標一覧!BG8&\"\",\"\")","v":""},{"$f":"MATCH(ROW(),目標入力!AZ$1:AZ$551,0)","v":67},{"$f":"IF(AND($W9=\"\",P9<>\"その他＋\"),\"\",MAX($M$4:$M8)+1)","v":""},{"$f":"IF(MAX($N$4:$N8)+1>MAX($B$5:$B$55),\"\",MAX($N$4:$N8)+1)","v":5},5,"配置・育成"," "," ","","","●（※）で働く女性労働者を●人増やす（※これまで女性があまり配属されてこなかった部署・職種、復職女性の配属が困難な部署・職種等を設定）","●で働く女性労働者を●人増やす",null,null,{"$f":"IF(MAX($Y$2:$Y8)+1>MAX($M$5:$M$60),\"\",MAX($Y$2:$Y8)+1)","v":""},"","","",""]
[null,{"$f":"IF($D10=\"\",\"\",MAX($B$4:$B9)+1)","v":6},{"$f":"MATCH(\"○\",目標一覧!F9:BD9,0)","v":4},{"$f":"目標一覧!B9","v":6},{"$f":"IF($D10<>\"\",目標一覧!$C9&\"\",\"\")","v":"配置・育成"},{"$f":"IF($D10<>\"\",目標一覧!$D9,\"\")","v":"すべての部署・職種で、女性の割合を（最低でも）（Ａ）％以上とする"},{"$f":"IF($D10<>\"\",目標一覧!$E9,\"\")","v":"すべての部署・職種で、女性の割合を（最低でも）（Ａ）％以上とする"},{"$f":"IF($D10<>\"\",目標一覧!BD9&\"\",\"\")","v":"割合"},{"$f":"IF($D10<>\"\",目標一覧!BE9&\"\",\"\")","v":""},{"$f":"IF($D10<>\"\",目標一覧!BF9&\"\",\"\")","v":""},{"$f":"IF($D10<>\"\",目標一覧!BG9&\"\",\"\")","v":""},{"$f":"MATCH(ROW(),目標入力!AZ$1:AZ$551,0)","v":70},{"$f":"IF(AND($W10=\"\",P10<>\"その他＋\"),\"\",MAX($M$4:$M9)+1)","v":""},{"$f":"IF(MAX($N$4:$N9)+1>MAX($B$5:$B$55),\"\",MAX($N$4:$N9)+1)","v":6},6,"配置・育成"," ","","","","すべての部署・職種で、女性の割合を（最低でも）●％以上とする","すべての部署・職種で、女性の割合を（最低でも）●％以上とする",null,null,{"$f":"IF(MAX($Y$2:$Y9)+1>MAX($M$5:$M$60),\"\",MAX($Y$2:$Y9)+1)","v":""},"","","",""]
[null,{"$f":"IF($D11=\"\",\"\",MAX($B$4:$B10)+1)","v":7},{"$f":"MATCH(\"○\",目標一覧!F10:BD10,0)","v":5},{"$f":"目標一覧!B10","v":7},{"$f":"IF($D11<>\"\",目標一覧!$C10&\"\",\"\")","v":"配置・育成"},{"$f":"IF($D11<>\"\",目標一覧!$D10,\"\")","v":"女性のキャリアアップ研修等の受講割合を男性と同水準の（Ａ）％以上（対象層に占める割合）とする"},{"$f":"IF($D11<>\"\",目標一覧!$E10,\"\")","v":"女性のキャリアアップ研修等の受講割合を男性と同水準の（Ａ）％以上（対象層に占める割合）とする"},{"$f":"IF($D11<>\"\",目標一覧!BD10&\"\",\"\")","v":"割合"},{"$f":"IF($D11<>\"\",目標一覧!BE10&\"\",\"\")","v":""},{"$f":"IF($D11<>\"\",目標一覧!BF10&\"\",\"\")","v":""},{"$f":"IF($D11<>\"\",目標一覧!BG10&\"\",\"\")","v":""},{"$f":"MATCH(ROW(),目標入力!AZ$1:AZ$551,0)","v":87},{"$f":"IF(AND($W11=\"\",P11<>\"その他＋\"),\"\",MAX($M$4:$M10)+1)","v":""},{"$f":"IF(MAX($N$4:$N10)+1>MAX($B$5:$B$55),\"\",MAX($N$4:$N10)+1)","v":7},7,"配置・育成"," ","","","","女性のキャリアアップ研修等の受講割合を男性と同水準の●％以上（対象層に占める割合）とする","女性のキャリアアップ研修等の受講割合を男性と同水準の●％以上（対象層に占める割合）とする",null,null,{"$f":"IF(MAX($Y$2:$Y10)+1>MAX($M$5:$M$60),\"\",MAX($Y$2:$Y10)+1)","v":""},"","","",""]
[null,{"$f":"IF($D12=\"\",\"\",MAX($B$4:$B11)+1)","v":8},{"$f":"MATCH(\"○\",目標一覧!F11:BD11,0)","v":5},{"$f":"目標一覧!B11","v":8},{"$f":"IF($D12<>\"\",目標一覧!$C11&\"\",\"\")","v":"配置・育成"},{"$f":"IF($D12<>\"\",目標一覧!$D11,\"\")","v":"（（Ａ）ヶ月以上の）育休取得者とその上司を対象とした復職研修を100％実施する"},{"$f":"IF($D12<>\"\",目標一覧!$E11,\"\")","v":"（（Ａ）ヶ月以上の）育休取得者とその上司を対象とした復職研修を100％実施する"},{"$f":"IF($D12<>\"\",目標一覧!BD11&\"\",\"\")","v":"月数"},{"$f":"IF($D12<>\"\",目標一覧!BE11&\"\",\"\")","v":""},{"$f":"IF($D12<>\"\",目標一覧!BF11&\"\",\"\")","v":""},{"$f":"IF($D12<>\"\",目標一覧!BG11&\"\",\"\")","v":""},{"$f":"MATCH(ROW(),目標入力!AZ$1:AZ$551,0)","v":90},{"$f":"IF(AND($W12=\"\",P12<>\"その他＋\"),\"\",MAX($M$4:$M11)+1)","v":""},{"$f":"IF(MAX($N$4:$N11)+1>MAX($B$5:$B$55),\"\",MAX($N$4:$N11)+1)","v":8},8,"配置・育成"," ","","","","（●ヶ月以上の）育休取得者とその上司を対象とした復職研修を100％実施する","（●ヶ月以上の）育休取得者とその上司を対象とした復職研修を100％実施する",null,null,{"$f":"IF(MAX($Y$2:$Y11)+1>MAX($M$5:$M$60),\"\",MAX($Y$2:$Y11)+1)","v":""},"","","",""]
[null,{"$f":"IF($D13=\"\",\"\",MAX($B$4:$B12)+1)","v":9},{"$f":"MATCH(\"○\",目標一覧!F12:BD12,0)","v":7},{"$f":"目標一覧!B12","v":9},{"$f":"IF($D13<>\"\",目標一覧!$C12&\"\",\"\")","v":"配置・育成"},{"$f":"IF($D13<>\"\",目標一覧!$D12,\"\")","v":"非正社員から（Ａ）人以上、正社員への登用をする"},{"$f":"IF($D13<>\"\",目標一覧!$E12,\"\")","v":"非正社員から（Ａ）人以上、正社員への登用をする"},{"$f":"IF($D13<>\"\",目標一覧!BD12&\"\",\"\")","v":"人数"},{"$f":"IF($D13<>\"\",目標一覧!BE12&\"\",\"\")","v":""},{"$f":"IF($D13<>\"\",目標一覧!BF12&\"\",\"\")","v":""},{"$f":"IF($D13<>\"\",目標一覧!BG12&\"\",\"\")","v":""},{"$f":"MATCH(ROW(),目標入力!AZ$1:AZ$551,0)","v":107},{"$f":"IF(AND($W13=\"\",P13<>\"その他＋\"),\"\",MAX($M$4:$M12)+1)","v":""},{"$f":"IF(MAX($N$4:$N12)+1>MAX($B$5:$B$55),\"\",MAX($N$4:$N12)+1)","v":9},9,"配置・育成"," ","","","","非正社員から●人以上、正社員への登用をする","非正社員から●人以上、正社員への登用をする",null,null,{"$f":"IF(MAX($Y$2:$Y12)+1>MAX($M$5:$M$60),\"\",MAX($Y$2:$Y12)+1)","v":""},"","","",""]
[null,{"$f":"IF($D14=\"\",\"\",MAX($B$4:$B13)+1)","v":10},{"$f":"MATCH(\"○\",目標一覧!F13:BD13,0)","v":7},{"$f":"目標一覧!B13","v":10},{"$f":"IF($D14<>\"\",目標一覧!$C13&\"\",\"\")","v":"配置・育成"},{"$f":"IF($D14<>\"\",目標一覧!$D13,\"\")","v":"非正社員のキャリアアップ研修の受講率を（Ａ）％以上にする"},{"$f":"IF($D14<>\"\",目標一覧!$E13,\"\")","v":"非正社員のキャリアアップ研修の受講率を（Ａ）％以上にする"},{"$f":"IF($D14<>\"\",目標一覧!BD13&\"\",\"\")","v":"割合"},{"$f":"IF($D14<>\"\",目標一覧!BE13&\"\",\"\")","v":""},{"$f":"IF($D14<>\"\",目標一覧!BF13&\"\",\"\")","v":""},{"$f":"IF($D14<>\"\",目標一覧!BG13&\"\",\"\")","v":""},{"$f":"MATCH(ROW(),目標入力!AZ$1:AZ$551,0)","v":110},{"$f":"IF(AND($W14=\"\",P14<>\"その他＋\"),\"\",MAX($M$4:$M13)+1)","v":""},{"$f":"IF(MAX($N$4:$N13)+1>MAX($B$5:$B$55),\"\",MAX($N$4:$N13)+1)","v":10},10,"配置・育成"," ","","","","非正社員のキャリアアップ研修の受講率を●％以上にする","非正社員のキャリアアップ研修の受講率を●％以上にする",null,null,{"$f":"IF(MAX($Y$2:$Y13)+1>MAX($M$5:$M$60),\"\",MAX($Y$2:$Y13)+1)","v":""},"","","",""]
[null,{"$f":"IF($D15=\"\",\"\",MAX($B$4:$B14)+1)","v":11},{"$f":"MATCH(\"○\",目標一覧!F14:BD14,0)","v":10},{"$f":"目標一覧!B14","v":11},{"$f":"IF($D15<>\"\",目標一覧!$C14&\"\",\"\")","v":"就業継続・働き方"},{"$f":"IF($D15<>\"\",目標一覧!$D14,\"\")","v":"男性の平均勤続年数に対する女性の平均勤続年数割合を（Ａ）％以上とする"},{"$f":"IF($D15<>\"\",目標一覧!$E14,\"\")","v":"男性の平均勤続年数に対する女性の平均勤続年数割合を（Ａ）％以上とする"},{"$f":"IF($D15<>\"\",目標一覧!BD14&\"\",\"\")","v":"割合"},{"$f":"IF($D15<>\"\",目標一覧!BE14&\"\",\"\")","v":""},{"$f":"IF($D15<>\"\",目標一覧!BF14&\"\",\"\")","v":""},{"$f":"IF($D15<>\"\",目標一覧!BG14&\"\",\"\")","v":""},{"$f":"MATCH(ROW(),目標入力!AZ$1:AZ$551,0)","v":144},{"$f":"IF(AND($W15=\"\",P15<>\"その他＋\"),\"\",MAX($M$4:$M14)+1)","v":""},{"$f":"IF(MAX($N$4:$N14)+1>MAX($B$5:$B$55),\"\",MAX($N$4:$N14)+1)","v":11},11,"就業継続・働き方"," ","","","","男性の平均勤続年数に対する女性の平均勤続年数割合を●％以上とする","男性の平均勤続年数に対する女性の平均勤続年数割合を●％以上とする",null,null,{"$f":"IF(MAX($Y$2:$Y14)+1>MAX($M$5:$M$60),\"\",MAX($Y$2:$Y14)+1)","v":""},"","","",""]
[null,{"$f":"IF($D16=\"\",\"\",MAX($B$4:$B15)+1)","v":12},{"$f":"MATCH(\"○\",目標一覧!F15:BD15,0)","v":9},{"$f":"目標一覧!B15","v":12},{"$f":"IF($D16<>\"\",目標一覧!$C15&\"\",\"\")","v":"就業継続・働き方"},{"$f":"IF($D16<>\"\",目標一覧!$D15,\"\")","v":"男女ともに平均勤続年数を（Ａ）年以上とする"},{"$f":"IF($D16<>\"\",目標一覧!$E15,\"\")","v":"男女ともに平均勤続年数を（Ａ）年以上とする"},{"$f":"IF($D16<>\"\",目標一覧!BD15&\"\",\"\")","v":"年数"},{"$f":"IF($D16<>\"\",目標一覧!BE15&\"\",\"\")","v":""},{"$f":"IF($D16<>\"\",目標一覧!BF15&\"\",\"\")","v":""},{"$f":"IF($D16<>\"\",目標一覧!BG15&\"\",\"\")","v":""},{"$f":"MATCH(ROW(),目標入力!AZ$1:AZ$551,0)","v":130},{"$f":"IF(AND($W16=\"\",P16<>\"その他＋\"),\"\",MAX($M$4:$M15)+1)","v":""},{"$f":"IF(MAX($N$4:$N15)+1>MAX($B$5:$B$55),\"\",MAX($N$4:$N15)+1)","v":12},12,"就業継続・働き方"," ","","","","男女ともに平均勤続年数を●年以上とする","男女ともに平均勤続年数を●年以上とする",null,null,{"$f":"IF(MAX($Y$2:$Y15)+1>MAX($M$5:$M$60),\"\",MAX($Y$2:$Y15)+1)","v":""},"","","",""]
[null,{"$f":"IF($D17=\"\",\"\",MAX($B$4:$B16)+1)","v":13},{"$f":"MATCH(\"○\",目標一覧!F16:BD16,0)","v":{"$error":"#N/A"}},{"$f":"目標一覧!B16","v":13},{"$f":"IF($D17<>\"\",目標一覧!$C16&\"\",\"\")","v":"就業継続・働き方"},{"$f":"IF($D17<>\"\",目標一覧!$D16,\"\")","v":"男女ともに平均勤続年数を（Ａ）年以上とする"},{"$f":"IF($D17<>\"\",目標一覧!$E16,\"\")","v":"男女ともに平均勤続年数を（Ａ）年以上とする"},{"$f":"IF($D17<>\"\",目標一覧!BD16&\"\",\"\")","v":"年数"},{"$f":"IF($D17<>\"\",目標一覧!BE16&\"\",\"\")","v":""},{"$f":"IF($D17<>\"\",目標一覧!BF16&\"\",\"\")","v":""},{"$f":"IF($D17<>\"\",目標一覧!BG16&\"\",\"\")","v":""},{"$f":"MATCH(ROW(),目標入力!AZ$1:AZ$551,0)","v":{"$error":"#N/A"}},{"$f":"IF(AND($W17=\"\",P17<>\"その他＋\"),\"\",MAX($M$4:$M16)+1)","v":""},{"$f":"IF(MAX($N$4:$N16)+1>MAX($B$5:$B$55),\"\",MAX($N$4:$N16)+1)","v":13},13,"就業継続・働き方",null,null,null,null,null,null,null,null,{"$f":"IF(MAX($Y$2:$Y16)+1>MAX($M$5:$M$60),\"\",MAX($Y$2:$Y16)+1)","v":""},"","","",""]
[null,{"$f":"IF($D18=\"\",\"\",MAX($B$4:$B17)+1)","v":14},{"$f":"MATCH(\"○\",目標一覧!F17:BD17,0)","v":11},{"$f":"目標一覧!B17","v":14},{"$f":"IF($D18<>\"\",目標一覧!$C17&\"\",\"\")","v":"就業継続・働き方"},{"$f":"IF($D18<>\"\",目標一覧!$D17,\"\")","v":"労働者に占める女性割合を（Ａ）％以上とする"},{"$f":"IF($D18<>\"\",目標一覧!$E17,\"\")","v":"労働者に占める女性割合を（Ａ）％以上とする"},{"$f":"IF($D18<>\"\",目標一覧!BD17&\"\",\"\")","v":"割合"},{"$f":"IF($D18<>\"\",目標一覧!BE17&\"\",\"\")","v":""},{"$f":"IF($D18<>\"\",目標一覧!BF17&\"\",\"\")","v":""},{"$f":"IF($D18<>\"\",目標一覧!BG17&\"\",\"\")","v":""},{"$f":"MATCH(ROW(),目標入力!AZ$1:AZ$551,0)","v":158},{"$f":"IF(AND($W18=\"\",P18<>\"その他＋\"),\"\",MAX($M$4:$M17)+1)","v":""},{"$f":"IF(MAX($N$4:$N17)+1>MAX($B$5:$B$55),\"\",MAX($N$4:$N17)+1)","v":14},14,"就業継続・働き方"," ","","","","労働者に占める女性割合を●％以上とする","労働者に占める女性割合を●％以上とする",null,null,{"$f":"IF(MAX($Y$2:$Y17)+1>MAX($M$5:$M$60),\"\",MAX($Y$2:$Y17)+1)","v":""},"","","",""]
[null,{"$f":"IF($D19=\"\",\"\",MAX($B$4:$B18)+1)","v":15},{"$f":"MATCH(\"○\",目標一覧!F18:BD18,0)","v":12},{"$f":"目標一覧!B18","v":15},{"$f":"IF($D19<>\"\",目標一覧!$C18&\"\",\"\")","v":"就業継続・働き方"},{"$f":"IF($D19<>\"\",目標一覧!$D18,\"\")","v":"育児休業の利用率を、男女ともに(対象となる層の）（Ａ）％以上とする"},{"$f":"IF($D19<>\"\",目標一覧!$E18,\"\")","v":"育児休業の利用率を、男女ともに(対象となる層の）（Ａ）％以上とする"},{"$f":"IF($D19<>\"\",目標一覧!BD18&\"\",\"\")","v":"割合"},{"$f":"IF($D19<>\"\",目標一覧!BE18&\"\",\"\")","v":""},{"$f":"IF($D19<>\"\",目標一覧!BF18&\"\",\"\")","v":""},{"$f":"IF($D19<>\"\",目標一覧!BG18&\"\",\"\")","v":""},{"$f":"MATCH(ROW(),目標入力!AZ$1:AZ$551,0)","v":172},{"$f":"IF(AND($W19=\"\",P19<>\"その他＋\"),\"\",MAX($M$4:$M18)+1)","v":""},{"$f":"IF(MAX($N$4:$N18)+1>MAX($B$5:$B$55),\"\",MAX($N$4:$N18)+1)","v":15},15,"就業継続・働き方"," ","","","","育児休業の利用率を、男女ともに(対象となる層の）●％以上とする","育児休業の利用率を、男女ともに(対象となる層の）●％以上とする",null,null,{"$f":"IF(MAX($Y$2:$Y18)+1>MAX($M$5:$M$60),\"\",MAX($Y$2:$Y18)+1)","v":""},"","","",""]
[null,{"$f":"IF($D20=\"\",\"\",MAX($B$4:$B19)+1)","v":16},{"$f":"MATCH(\"○\",目標一覧!F19:BD19,0)","v":14},{"$f":"目標一覧!B19","v":16},{"$f":"IF($D20<>\"\",目標一覧!$C19&\"\",\"\")","v":"就業継続・働き方"},{"$f":"IF($D20<>\"\",目標一覧!$D19,\"\")","v":"フレックスタイム制度の利用率を、男女ともに(対象となる層の）（Ａ）％以上とする"},{"$f":"IF($D20<>\"\",目標一覧!$E19,\"\")","v":"フレックスタイム制度の利用率を、男女ともに(対象となる層の）（Ａ）％以上とする"},{"$f":"IF($D20<>\"\",目標一覧!BD19&\"\",\"\")","v":"割合"},{"$f":"IF($D20<>\"\",目標一覧!BE19&\"\",\"\")","v":""},{"$f":"IF($D20<>\"\",目標一覧!BF19&\"\",\"\")","v":""},{"$f":"IF($D20<>\"\",目標一覧!BG19&\"\",\"\")","v":""},{"$f":"MATCH(ROW(),目標入力!AZ$1:AZ$551,0)","v":207},{"$f":"IF(AND($W20=\"\",P20<>\"その他＋\"),\"\",MAX($M$4:$M19)+1)","v":""},{"$f":"IF(MAX($N$4:$N19)+1>MAX($B$5:$B$55),\"\",MAX($N$4:$N19)+1)","v":16},16,"就業継続・働き方"," ","","","","フレックスタイム制度の利用率を、男女ともに(対象となる層の）●％以上とする","フレックスタイム制度の利用率を、男女ともに(対象となる層の）●％以上とする",null,null,{"$f":"IF(MAX($Y$2:$Y19)+1>MAX($M$5:$M$60),\"\",MAX($Y$2:$Y19)+1)","v":""},"","","",""]
[null,{"$f":"IF($D21=\"\",\"\",MAX($B$4:$B20)+1)","v":17},{"$f":"MATCH(\"○\",目標一覧!F20:BD20,0)","v":14},{"$f":"目標一覧!B20","v":17},{"$f":"IF($D21<>\"\",目標一覧!$C20&\"\",\"\")","v":"就業継続・働き方"},{"$f":"IF($D21<>\"\",目標一覧!$D20,\"\")","v":"在宅勤務やテレワークの利用率を、男女ともに（対象となる層の）（Ａ）％以上とする"},{"$f":"IF($D21<>\"\",目標一覧!$E20,\"\")","v":"在宅勤務やテレワークの利用率を、男女ともに（対象となる層の）（Ａ）％以上とする"},{"$f":"IF($D21<>\"\",目標一覧!BD20&\"\",\"\")","v":"割合"},{"$f":"IF($D21<>\"\",目標一覧!BE20&\"\",\"\")","v":""},{"$f":"IF($D21<>\"\",目標一覧!BF20&\"\",\"\")","v":""},{"$f":"IF($D21<>\"\",目標一覧!BG20&\"\",\"\")","v":""},{"$f":"MATCH(ROW(),目標入力!AZ$1:AZ$551,0)","v":210},{"$f":"IF(AND($W21=\"\",P21<>\"その他＋\"),\"\",MAX($M$4:$M20)+1)","v":""},{"$f":"IF(MAX($N$4:$N20)+1>MAX($B$5:$B$55),\"\",MAX($N$4:$N20)+1)","v":17},17,"就業継続・働き方"," ","","","","在宅勤務やテレワークの利用率を、男女ともに（対象となる層の）●％以上とする","在宅勤務やテレワークの利用率を、男女ともに（対象となる層の）●％以上とする",null,null,{"$f":"IF(MAX($Y$2:$Y20)+1>MAX($M$5:$M$60),\"\",MAX($Y$2:$Y20)+1)","v":""},"","","",""]
[null,{"$f":"IF($D22=\"\",\"\",MAX($B$4:$B21)+1)","v":18},{"$f":"MATCH(\"○\",目標一覧!F21:BD21,0)","v":13},{"$f":"目標一覧!B21","v":18},{"$f":"IF($D22<>\"\",目標一覧!$C21&\"\",\"\")","v":"就業継続・働き方"},{"$f":"IF($D22<>\"\",目標一覧!$D21,\"\")","v":"（Ａ）制度（※）の利用実績を男女ともに（対象となる層の）（Ｂ）％以上とする（※短時間勤務、看護休暇制度など、自社のその他の両立支援制度を設定）"},{"$f":"IF($D22<>\"\",目標一覧!$E21,\"\")","v":"（Ａ）制度の利用実績を男女ともに（対象となる層の）（Ｂ）％以上とする"},{"$f":"IF($D22<>\"\",目標一覧!BD21&\"\",\"\")","v":"制度"},{"$f":"IF($D22<>\"\",目標一覧!BE21&\"\",\"\")","v":"割合"},{"$f":"IF($D22<>\"\",目標一覧!BF21&\"\",\"\")","v":""},{"$f":"IF($D22<>\"\",目標一覧!BG21&\"\",\"\")","v":""},{"$f":"MATCH(ROW(),目標入力!AZ$1:AZ$551,0)","v":191},{"$f":"IF(AND($W22=\"\",P22<>\"その他＋\"),\"\",MAX($M$4:$M21)+1)","v":""},{"$f":"IF(MAX($N$4:$N21)+1>MAX($B$5:$B$55),\"\",MAX($N$4:$N21)+1)","v":18},18,"就業継続・働き方"," "," ","","","●制度（※）の利用実績を男女ともに（対象となる層の）●％以上とする（※短時間勤務、看護休暇制度など、自社のその他の両立支援制度を設定）","●制度の利用実績を男女ともに（対象となる層の）●％以上とする",null,null,{"$f":"IF(MAX($Y$2:$Y21)+1>MAX($M$5:$M$60),\"\",MAX($Y$2:$Y21)+1)","v":""},"","","",""]
[null,{"$f":"IF($D23=\"\",\"\",MAX($B$4:$B22)+1)","v":19},{"$f":"MATCH(\"○\",目標一覧!F22:BD22,0)","v":12},{"$f":"目標一覧!B22","v":19},{"$f":"IF($D23<>\"\",目標一覧!$C22&\"\",\"\")","v":"就業継続・働き方"},{"$f":"IF($D23<>\"\",目標一覧!$D22,\"\")","v":"男性の育児休業取得期間を（Ａ）％アップさせる"},{"$f":"IF($D23<>\"\",目標一覧!$E22,\"\")","v":"男性の育児休業取得期間を（Ａ）％アップさせる"},{"$f":"IF($D23<>\"\",目標一覧!BD22&\"\",\"\")","v":"割合"},{"$f":"IF($D23<>\"\",目標一覧!BE22&\"\",\"\")","v":""},{"$f":"IF($D23<>\"\",目標一覧!BF22&\"\",\"\")","v":""},{"$f":"IF($D23<>\"\",目標一覧!BG22&\"\",\"\")","v":""},{"$f":"MATCH(ROW(),目標入力!AZ$1:AZ$551,0)","v":175},{"$f":"IF(AND($W23=\"\",P23<>\"その他＋\"),\"\",MAX($M$4:$M22)+1)","v":""},{"$f":"IF(MAX($N$4:$N22)+1>MAX($B$5:$B$55),\"\",MAX($N$4:$N22)+1)","v":19},19,"就業継続・働き方"," ","","","","男性の育児休業取得期間を●％アップさせる","男性の育児休業取得期間を●％アップさせる",null,null,{"$f":"IF(MAX($Y$2:$Y22)+1>MAX($M$5:$M$60),\"\",MAX($Y$2:$Y22)+1)","v":""},"","","",""]
[null,{"$f":"IF($D24=\"\",\"\",MAX($B$4:$B23)+1)","v":20},{"$f":"MATCH(\"○\",目標一覧!F23:BD23,0)","v":15},{"$f":"目標一覧!B23","v":20},{"$f":"IF($D24<>\"\",目標一覧!$C23&\"\",\"\")","v":"労働時間"},{"$f":"IF($D24<>\"\",目標一覧!$D23,\"\")","v":"労働者全体の残業時間を月平均（Ａ）時間以内とする"},{"$f":"IF($D24<>\"\",目標一覧!$E23,\"\")","v":"労働者全体の残業時間を月平均（Ａ）時間以内とする"},{"$f":"IF($D24<>\"\",目標一覧!BD23&\"\",\"\")","v":"時間"},{"$f":"IF($D24<>\"\",目標一覧!BE23&\"\",\"\")","v":""},{"$f":"IF($D24<>\"\",目標一覧!BF23&\"\",\"\")","v":""},{"$f":"IF($D24<>\"\",目標一覧!BG23&\"\",\"\")","v":""},{"$f":"MATCH(ROW(),目標入力!AZ$1:AZ$551,0)","v":224},{"$f":"IF(AND($W24=\"\",P24<>\"その他＋\"),\"\",MAX($M$4:$M23)+1)","v":""},{"$f":"IF(MAX($N$4:$N23)+1>MAX($B$5:$B$55),\"\",MAX($N$4:$N23)+1)","v":20},20,"労働時間"," ","","","","労働者全体の残業時間を月平均●時間以内とする","労働者全体の残業時間を月平均●時間以内とする",null,null,{"$f":"IF(MAX($Y$2:$Y23)+1>MAX($M$5:$M$60),\"\",MAX($Y$2:$Y23)+1)","v":""},"","","",""]
[null,{"$f":"IF($D25=\"\",\"\",MAX($B$4:$B24)+1)","v":21},{"$f":"MATCH(\"○\",目標一覧!F24:BD24,0)","v":16},{"$f":"目標一覧!B24","v":21},{"$f":"IF($D25<>\"\",目標一覧!$C24&\"\",\"\")","v":"労働時間"},{"$f":"IF($D25<>\"\",目標一覧!$D24,\"\")","v":"（Ａ）（※）の残業時間を月平均（Ｂ）時間以内とする（※長時間労働が発生している雇用管理区分、男女の残業時間の差が大きい雇用管理区分等を設定）"},{"$f":"IF($D25<>\"\",目標一覧!$E24,\"\")","v":"（Ａ）の残業時間を月平均（Ｂ）時間以内とする"},{"$f":"IF($D25<>\"\",目標一覧!BD24&\"\",\"\")","v":"職制"},{"$f":"IF($D25<>\"\",目標一覧!BE24&\"\",\"\")","v":"時間"},{"$f":"IF($D25<>\"\",目標一覧!BF24&\"\",\"\")","v":""},{"$f":"IF($D25<>\"\",目標一覧!BG24&\"\",\"\")","v":""},{"$f":"MATCH(ROW(),目標入力!AZ$1:AZ$551,0)","v":244},{"$f":"IF(AND($W25=\"\",P25<>\"その他＋\"),\"\",MAX($M$4:$M24)+1)","v":""},{"$f":"IF(MAX($N$4:$N24)+1>MAX($B$5:$B$55),\"\",MAX($N$4:$N24)+1)","v":21},21,"労働時間"," "," ","","","●（※）の残業時間を月平均●時間以内とする（※長時間労働が発生している雇用管理区分、男女の残業時間の差が大きい雇用管理区分等を設定）","●の残業時間を月平均●時間以内とする",null,null,{"$f":"IF(MAX($Y$2:$Y24)+1>MAX($M$5:$M$60),\"\",MAX($Y$2:$Y24)+1)","v":""},"","","",""]
[null,{"$f":"IF($D26=\"\",\"\",MAX($B$4:$B25)+1)","v":22},{"$f":"MATCH(\"○\",目標一覧!F25:BD25,0)","v":17},{"$f":"目標一覧!B25","v":22},{"$f":"IF($D26<>\"\",目標一覧!$C25&\"\",\"\")","v":"労働時間"},{"$f":"IF($D26<>\"\",目標一覧!$D25,\"\")","v":"管理職の労働時間を月平均（Ａ）時間以内とする"},{"$f":"IF($D26<>\"\",目標一覧!$E25,\"\")","v":"管理職の労働時間を月平均（Ａ）時間以内とする"},{"$f":"IF($D26<>\"\",目標一覧!BD25&\"\",\"\")","v":"時間"},{"$f":"IF($D26<>\"\",目標一覧!BE25&\"\",\"\")","v":""},{"$f":"IF($D26<>\"\",目標一覧!BF25&\"\",\"\")","v":""},{"$f":"IF($D26<>\"\",目標一覧!BG25&\"\",\"\")","v":""},{"$f":"MATCH(ROW(),目標入力!AZ$1:AZ$551,0)","v":260},{"$f":"IF(AND($W26=\"\",P26<>\"その他＋\"),\"\",MAX($M$4:$M25)+1)","v":""},{"$f":"IF(MAX($N$4:$N25)+1>MAX($B$5:$B$55),\"\",MAX($N$4:$N25)+1)","v":22},22,"労働時間"," ","","","","管理職の労働時間を月平均●時間以内とする","管理職の労働時間を月平均●時間以内とする",null,null,{"$f":"IF(MAX($Y$2:$Y25)+1>MAX($M$5:$M$60),\"\",MAX($Y$2:$Y25)+1)","v":""},"","","",""]
[null,{"$f":"IF($D27=\"\",\"\",MAX($B$4:$B26)+1)","v":23},{"$f":"MATCH(\"○\",目標一覧!F26:BD26,0)","v":18},{"$f":"目標一覧!B26","v":23},{"$f":"IF($D27<>\"\",目標一覧!$C26&\"\",\"\")","v":"有給休暇"},{"$f":"IF($D27<>\"\",目標一覧!$D26,\"\")","v":"有給休暇取得率を（Ａ）％以上とする"},{"$f":"IF($D27<>\"\",目標一覧!$E26,\"\")","v":"有給休暇取得率を（Ａ）％以上とする"},{"$f":"IF($D27<>\"\",目標一覧!BD26&\"\",\"\")","v":"割合"},{"$f":"IF($D27<>\"\",目標一覧!BE26&\"\",\"\")","v":""},{"$f":"IF($D27<>\"\",目標一覧!BF26&\"\",\"\")","v":""},{"$f":"IF($D27<>\"\",目標一覧!BG26&\"\",\"\")","v":""},{"$f":"MATCH(ROW(),目標入力!AZ$1:AZ$551,0)","v":276},{"$f":"IF(AND($W27=\"\",P27<>\"その他＋\"),\"\",MAX($M$4:$M26)+1)","v":""},{"$f":"IF(MAX($N$4:$N26)+1>MAX($B$5:$B$55),\"\",MAX($N$4:$N26)+1)","v":23},23,"有給休暇"," ","","","","有給休暇取得率を●％以上とする","有給休暇取得率を●％以上とする",null,null,{"$f":"IF(MAX($Y$2:$Y26)+1>MAX($M$5:$M$60),\"\",MAX($Y$2:$Y26)+1)","v":""},"","","",""]
[null,{"$f":"IF($D28=\"\",\"\",MAX($B$4:$B27)+1)","v":24},{"$f":"MATCH(\"○\",目標一覧!F27:BD27,0)","v":19},{"$f":"目標一覧!B27","v":24},{"$f":"IF($D28<>\"\",目標一覧!$C27&\"\",\"\")","v":"評価・登用"},{"$f":"IF($D28<>\"\",目標一覧!$D27,\"\")","v":"管理職に占める女性割合を（Ａ）人以上（（Ｂ）％以上）とする"},{"$f":"IF($D28<>\"\",目標一覧!$E27,\"\")","v":"管理職に占める女性割合を（Ａ）人以上（（Ｂ）％以上）とする"},{"$f":"IF($D28<>\"\",目標一覧!BD27&\"\",\"\")","v":"人数"},{"$f":"IF($D28<>\"\",目標一覧!BE27&\"\",\"\")","v":"割合"},{"$f":"IF($D28<>\"\",目標一覧!BF27&\"\",\"\")","v":""},{"$f":"IF($D28<>\"\",目標一覧!BG27&\"\",\"\")","v":""},{"$f":"MATCH(ROW(),目標入力!AZ$1:AZ$551,0)","v":290},{"$f":"IF(AND($W28=\"\",P28<>\"その他＋\"),\"\",MAX($M$4:$M27)+1)","v":""},{"$f":"IF(MAX($N$4:$N27)+1>MAX($B$5:$B$55),\"\",MAX($N$4:$N27)+1)","v":24},24,"評価・登用"," "," ","","","管理職に占める女性割合を●人以上（●％以上）とする","管理職に占める女性割合を●人以上（●％以上）とする",null,null,{"$f":"IF(MAX($Y$2:$Y27)+1>MAX($M$5:$M$60),\"\",MAX($Y$2:$Y27)+1)","v":""},"","","",""]
[null,{"$f":"IF($D29=\"\",\"\",MAX($B$4:$B28)+1)","v":25},{"$f":"MATCH(\"○\",目標一覧!F28:BD28,0)","v":15},{"$f":"目標一覧!B28","v":25},{"$f":"IF($D29<>\"\",目標一覧!$C28&\"\",\"\")","v":"有給休暇"},{"$f":"IF($D29<>\"\",目標一覧!$D28,\"\")","v":"有給休暇取得率を（Ａ）％以上とする"},{"$f":"IF($D29<>\"\",目標一覧!$E28,\"\")","v":"有給休暇取得率を（Ａ）％以上とする"},{"$f":"IF($D29<>\"\",目標一覧!BD28&\"\",\"\")","v":"割合"},{"$f":"IF($D29<>\"\",目標一覧!BE28&\"\",\"\")","v":""},{"$f":"IF($D29<>\"\",目標一覧!BF28&\"\",\"\")","v":""},{"$f":"IF($D29<>\"\",目標一覧!BG28&\"\",\"\")","v":""},{"$f":"MATCH(ROW(),目標入力!AZ$1:AZ$551,0)","v":227},{"$f":"IF(AND($W29=\"\",P29<>\"その他＋\"),\"\",MAX($M$4:$M28)+1)","v":""},{"$f":"IF(MAX($N$4:$N28)+1>MAX($B$5:$B$55),\"\",MAX($N$4:$N28)+1)","v":25},25,"有給休暇"," ","","","","有給休暇取得率を●％以上とする","有給休暇取得率を●％以上とする",null,null,{"$f":"IF(MAX($Y$2:$Y28)+1>MAX($M$5:$M$60),\"\",MAX($Y$2:$Y28)+1)","v":""},"","","",""]
[null,{"$f":"IF($D30=\"\",\"\",MAX($B$4:$B29)+1)","v":26},{"$f":"MATCH(\"○\",目標一覧!F29:BD29,0)","v":23},{"$f":"目標一覧!B29","v":26},{"$f":"IF($D30<>\"\",目標一覧!$C29&\"\",\"\")","v":"評価・登用"},{"$f":"IF($D30<>\"\",目標一覧!$D29,\"\")","v":"係長級の役職者に占める女性割合を（Ａ）人以上（（Ｂ）％以上）とする"},{"$f":"IF($D30<>\"\",目標一覧!$E29,\"\")","v":"係長級の役職者に占める女性割合を（Ａ）人以上（（Ｂ）％以上）とする"},{"$f":"IF($D30<>\"\",目標一覧!BD29&\"\",\"\")","v":"人数"},{"$f":"IF($D30<>\"\",目標一覧!BE29&\"\",\"\")","v":"割合"},{"$f":"IF($D30<>\"\",目標一覧!BF29&\"\",\"\")","v":""},{"$f":"IF($D30<>\"\",目標一覧!BG29&\"\",\"\")","v":""},{"$f":"MATCH(ROW(),目標入力!AZ$1:AZ$551,0)","v":324},{"$f":"IF(AND($W30=\"\",P30<>\"その他＋\"),\"\",MAX($M$4:$M29)+1)","v":""},{"$f":"IF(MAX($N$4:$N29)+1>MAX($B$5:$B$55),\"\",MAX($N$4:$N29)+1)","v":26},26,"評価・登用"," "," ","","","係長級の役職者に占める女性割合を●人以上（●％以上）とする","係長級の役職者に占める女性割合を●人以上（●％以上）とする",null,null,{"$f":"IF(MAX($Y$2:$Y29)+1>MAX($M$5:$M$60),\"\",MAX($Y$2:$Y29)+1)","v":""},"","","",""]
[null,{"$f":"IF($D31=\"\",\"\",MAX($B$4:$B30)+1)","v":27},{"$f":"MATCH(\"○\",目標一覧!F30:BD30,0)","v":21},{"$f":"目標一覧!B30","v":27},{"$f":"IF($D31<>\"\",目標一覧!$C30&\"\",\"\")","v":"評価・登用"},{"$f":"IF($D31<>\"\",目標一覧!$D30,\"\")","v":"役員や部長に占める女性の割合を（Ａ）％以上とする"},{"$f":"IF($D31<>\"\",目標一覧!$E30,\"\")","v":"役員や部長に占める女性の割合を（Ａ）％以上とする"},{"$f":"IF($D31<>\"\",目標一覧!BD30&\"\",\"\")","v":"割合"},{"$f":"IF($D31<>\"\",目標一覧!BE30&\"\",\"\")","v":""},{"$f":"IF($D31<>\"\",目標一覧!BF30&\"\",\"\")","v":""},{"$f":"IF($D31<>\"\",目標一覧!BG30&\"\",\"\")","v":""},{"$f":"MATCH(ROW(),目標入力!AZ$1:AZ$551,0)","v":307},{"$f":"IF(AND($W31=\"\",P31<>\"その他＋\"),\"\",MAX($M$4:$M30)+1)","v":""},{"$f":"IF(MAX($N$4:$N30)+1>MAX($B$5:$B$55),\"\",MAX($N$4:$N30)+1)","v":27},27,"評価・登用"," ","","","","役員や部長に占める女性の割合を●％以上とする","役員や部長に占める女性の割合を●％以上とする",null,null,{"$f":"IF(MAX($Y$2:$Y30)+1>MAX($M$5:$M$60),\"\",MAX($Y$2:$Y30)+1)","v":""},"","","",""]
[null,{"$f":"IF($D32=\"\",\"\",MAX($B$4:$B31)+1)","v":28},{"$f":"MATCH(\"○\",目標一覧!F31:BD31,0)","v":24},{"$f":"目標一覧!B31","v":28},{"$f":"IF($D32<>\"\",目標一覧!$C31&\"\",\"\")","v":"評価・登用"},{"$f":"IF($D32<>\"\",目標一覧!$D31,\"\")","v":"マネジメント層や女性社員に対する意識調査の結果について、就業継続意欲などの基準（※）を（Ａ）ポイント以上向上する（※昇進意欲があるかなど、自社の意識調査内容を踏まえて基準を設定）"},{"$f":"IF($D32<>\"\",目標一覧!$E31,\"\")","v":"マネジメント層や女性社員に対する意識調査の結果について、就業継続意欲などの基準を（Ａ）ポイント以上向上する"},{"$f":"IF($D32<>\"\",目標一覧!BD31&\"\",\"\")","v":"ポイント"},{"$f":"IF($D32<>\"\",目標一覧!BE31&\"\",\"\")","v":""},{"$f":"IF($D32<>\"\",目標一覧!BF31&\"\",\"\")","v":""},{"$f":"IF($D32<>\"\",目標一覧!BG31&\"\",\"\")","v":""},{"$f":"MATCH(ROW(),目標入力!AZ$1:AZ$551,0)","v":339},{"$f":"IF(AND($W32=\"\",P32<>\"その他＋\"),\"\",MAX($M$4:$M31)+1)","v":""},{"$f":"IF(MAX($N$4:$N31)+1>MAX($B$5:$B$55),\"\",MAX($N$4:$N31)+1)","v":28},28,"評価・登用"," ","","","","マネジメント層や女性社員に対する意識調査の結果について、就業継続意欲などの基準（※）を●ポイント以上向上する（※昇進意欲があるかなど、自社の意識調査内容を踏まえて基準を設定）","マネジメント層や女性社員に対する意識調査の結果について、就業継続意欲などの基準を●ポイント以上向上する",null,null,{"$f":"IF(MAX($Y$2:$Y31)+1>MAX($M$5:$M$60),\"\",MAX($Y$2:$Y31)+1)","v":""},"","","",""]
[null,{"$f":"IF($D33=\"\",\"\",MAX($B$4:$B32)+1)","v":29},{"$f":"MATCH(\"○\",目標一覧!F32:BD32,0)","v":25},{"$f":"目標一覧!B32","v":29},{"$f":"IF($D33<>\"\",目標一覧!$C32&\"\",\"\")","v":"職場風土"},{"$f":"IF($D33<>\"\",目標一覧!$D32,\"\")","v":"マネジメント層や女性社員に対する意識調査の結果について、職場環境に対する満足度などの基準（※）を（Ａ）ポイント以上向上する（※適性な業務配分や権限の付与、仕事のやりがいなど、自社の意識調査内容を踏まえて設定）"},{"$f":"IF($D33<>\"\",目標一覧!$E32,\"\")","v":"マネジメント層や女性社員に対する意識調査の結果について、職場環境に対する満足度などの基準を（Ａ）ポイント以上向上する"},{"$f":"IF($D33<>\"\",目標一覧!BD32&\"\",\"\")","v":"ポイント"},{"$f":"IF($D33<>\"\",目標一覧!BE32&\"\",\"\")","v":""},{"$f":"IF($D33<>\"\",目標一覧!BF32&\"\",\"\")","v":""},{"$f":"IF($D33<>\"\",目標一覧!BG32&\"\",\"\")","v":""},{"$f":"MATCH(ROW(),目標入力!AZ$1:AZ$551,0)","v":353},{"$f":"IF(AND($W33=\"\",P33<>\"その他＋\"),\"\",MAX($M$4:$M32)+1)","v":""},{"$f":"IF(MAX($N$4:$N32)+1>MAX($B$5:$B$55),\"\",MAX($N$4:$N32)+1)","v":29},29,"職場風土"," ","","","","マネジメント層や女性社員に対する意識調査の結果について、職場環境に対する満足度などの基準（※）を●ポイント以上向上する（※適性な業務配分や権限の付与、仕事のやりがいなど、自社の意識調査内容を踏まえて設定）","マネジメント層や女性社員に対する意識調査の結果について、職場環境に対する満足度などの基準を●ポイント以上向上する",null,null,{"$f":"IF(MAX($Y$2:$Y32)+1>MAX($M$5:$M$60),\"\",MAX($Y$2:$Y32)+1)","v":""},"","","",""]
[null,{"$f":"IF($D34=\"\",\"\",MAX($B$4:$B33)+1)","v":30},{"$f":"MATCH(\"○\",目標一覧!F33:BD33,0)","v":26},{"$f":"目標一覧!B33","v":30},{"$f":"IF($D34<>\"\",目標一覧!$C33&\"\",\"\")","v":"職場風土"},{"$f":"IF($D34<>\"\",目標一覧!$D33,\"\")","v":"マネジメント層や女性社員に対する意識調査の結果について、職場環境に対する満足度などの基準（※）を（Ａ）ポイント以上向上する（※適性な業務配分や権限の付与、仕事のやりがいなど、自社の意識調査内容を踏まえて設定）"},{"$f":"IF($D34<>\"\",目標一覧!$E33,\"\")","v":"マネジメント層や女性社員に対する意識調査の結果について、職場環境に対する満足度などの基準を（Ａ）ポイント以上向上する"},{"$f":"IF($D34<>\"\",目標一覧!BD33&\"\",\"\")","v":"ポイント"},{"$f":"IF($D34<>\"\",目標一覧!BE33&\"\",\"\")","v":""},{"$f":"IF($D34<>\"\",目標一覧!BF33&\"\",\"\")","v":""},{"$f":"IF($D34<>\"\",目標一覧!BG33&\"\",\"\")","v":""},{"$f":"MATCH(ROW(),目標入力!AZ$1:AZ$551,0)","v":368},{"$f":"IF(AND($W34=\"\",P34<>\"その他＋\"),\"\",MAX($M$4:$M33)+1)","v":""},{"$f":"IF(MAX($N$4:$N33)+1>MAX($B$5:$B$55),\"\",MAX($N$4:$N33)+1)","v":30},30,"職場風土"," ","","","","マネジメント層や女性社員に対する意識調査の結果について、職場環境に対する満足度などの基準（※）を●ポイント以上向上する（※適性な業務配分や権限の付与、仕事のやりがいなど、自社の意識調査内容を踏まえて設定）","マネジメント層や女性社員に対する意識調査の結果について、職場環境に対する満足度などの基準を●ポイント以上向上する",null,null,{"$f":"IF(MAX($Y$2:$Y33)+1>MAX($M$5:$M$60),\"\",MAX($Y$2:$Y33)+1)","v":""},"","","",""]
[null,{"$f":"IF($D35=\"\",\"\",MAX($B$4:$B34)+1)","v":31},{"$f":"MATCH(\"○\",目標一覧!F34:BD34,0)","v":{"$error":"#N/A"}},{"$f":"目標一覧!B34","v":31},{"$f":"IF($D35<>\"\",目標一覧!$C34&\"\",\"\")","v":"職場風土"},{"$f":"IF($D35<>\"\",目標一覧!$D34,\"\")","v":"マネジメント層や女性社員に対する意識調査の結果について、就業継続意欲などの基準（※）を（Ａ）ポイント以上向上する（※昇進意欲があるかなど、自社の意識調査内容を踏まえて基準を設定）"},{"$f":"IF($D35<>\"\",目標一覧!$E34,\"\")","v":"マネジメント層や女性社員に対する意識調査の結果について、就業継続意欲などの基準を（Ａ）ポイント以上向上する"},{"$f":"IF($D35<>\"\",目標一覧!BD34&\"\",\"\")","v":"割合"},{"$f":"IF($D35<>\"\",目標一覧!BE34&\"\",\"\")","v":""},{"$f":"IF($D35<>\"\",目標一覧!BF34&\"\",\"\")","v":""},{"$f":"IF($D35<>\"\",目標一覧!BG34&\"\",\"\")","v":""},{"$f":"MATCH(ROW(),目標入力!AZ$1:AZ$551,0)","v":{"$error":"#N/A"}},{"$f":"IF(AND($W35=\"\",P35<>\"その他＋\"),\"\",MAX($M$4:$M34)+1)","v":""},{"$f":"IF(MAX($N$4:$N34)+1>MAX($B$5:$B$55),\"\",MAX($N$4:$N34)+1)","v":31},31,"職場風土",null,null,null,null,null,null,null,null,{"$f":"IF(MAX($Y$2:$Y34)+1>MAX($M$5:$M$60),\"\",MAX($Y$2:$Y34)+1)","v":""},"","","",""]
[null,{"$f":"IF($D36=\"\",\"\",MAX($B$4:$B35)+1)","v":32},{"$f":"MATCH(\"○\",目標一覧!F35:BD35,0)","v":27},{"$f":"目標一覧!B35","v":32},{"$f":"IF($D36<>\"\",目標一覧!$C35&\"\",\"\")","v":"評価・登用"},{"$f":"IF($D36<>\"\",目標一覧!$D35,\"\")","v":"人事評価の評価段階ごとの男女別部分の差異を（Ａ）％以内とする"},{"$f":"IF($D36<>\"\",目標一覧!$E35,\"\")","v":"人事評価の評価段階ごとの男女別部分の差異を（Ａ）％以内とする"},{"$f":"IF($D36<>\"\",目標一覧!BD35&\"\",\"\")","v":"ポイント"},{"$f":"IF($D36<>\"\",目標一覧!BE35&\"\",\"\")","v":""},{"$f":"IF($D36<>\"\",目標一覧!BF35&\"\",\"\")","v":""},{"$f":"IF($D36<>\"\",目標一覧!BG35&\"\",\"\")","v":""},{"$f":"MATCH(ROW(),目標入力!AZ$1:AZ$551,0)","v":382},{"$f":"IF(AND($W36=\"\",P36<>\"その他＋\"),\"\",MAX($M$4:$M35)+1)","v":""},{"$f":"IF(MAX($N$4:$N35)+1>MAX($B$5:$B$55),\"\",MAX($N$4:$N35)+1)","v":32},32,"評価・登用"," ","","","","人事評価の評価段階ごとの男女別部分の差異を●％以内とする","人事評価の評価段階ごとの男女別部分の差異を●％以内とする",null,null,{"$f":"IF(MAX($Y$2:$Y35)+1>MAX($M$5:$M$60),\"\",MAX($Y$2:$Y35)+1)","v":""},"","","",""]
[null,{"$f":"IF($D37=\"\",\"\",MAX($B$4:$B36)+1)","v":33},{"$f":"MATCH(\"○\",目標一覧!F36:BD36,0)","v":28},{"$f":"目標一覧!B36","v":33},{"$f":"IF($D37<>\"\",目標一覧!$C36&\"\",\"\")","v":"総合"},{"$f":"IF($D37<>\"\",目標一覧!$D36,\"\")","v":"男女の平均賃金の差異を（Ａ）％以内とする。"},{"$f":"IF($D37<>\"\",目標一覧!$E36,\"\")","v":"男女の平均賃金の差異を（Ａ）％以内とする。"},{"$f":"IF($D37<>\"\",目標一覧!BD36&\"\",\"\")","v":"割合"},{"$f":"IF($D37<>\"\",目標一覧!BE36&\"\",\"\")","v":""},{"$f":"IF($D37<>\"\",目標一覧!BF36&\"\",\"\")","v":""},{"$f":"IF($D37<>\"\",目標一覧!BG36&\"\",\"\")","v":""},{"$f":"MATCH(ROW(),目標入力!AZ$1:AZ$551,0)","v":396},{"$f":"IF(AND($W37=\"\",P37<>\"その他＋\"),\"\",MAX($M$4:$M36)+1)","v":""},{"$f":"IF(MAX($N$4:$N36)+1>MAX($B$5:$B$55),\"\",MAX($N$4:$N36)+1)","v":33},33,"総合"," ","","","","男女の平均賃金の差異を●％以内とする。","男女の平均賃金の差異を●％以内とする。",null,null,{"$f":"IF(MAX($Y$2:$Y36)+1>MAX($M$5:$M$60),\"\",MAX($Y$2:$Y36)+1)","v":""},{"$f":"IF($Y37=\"\",\"\",VLOOKUP($Y37,$M$5:$P$60,3,0))","v":""},{"$f":"IF($Y37=\"\",\"\",VLOOKUP($Y37,$M$5:$U$60,4,0))","v":""},"",""]
[null,{"$f":"IF($D38=\"\",\"\",MAX($B$4:$B37)+1)","v":34},{"$f":"MATCH(\"○\",目標一覧!F37:BD37,0)","v":29},{"$f":"目標一覧!B37","v":34},{"$f":"IF($D38<>\"\",目標一覧!$C37&\"\",\"\")","v":"労働時間"},{"$f":"IF($D38<>\"\",目標一覧!$D37,\"\")","v":"労働者全体の残業時間を月平均（Ａ）時間以内とする"},{"$f":"IF($D38<>\"\",目標一覧!$E37,\"\")","v":"労働者全体の残業時間を月平均（Ａ）時間以内とする"},{"$f":"IF($D38<>\"\",目標一覧!BD37&\"\",\"\")","v":"時間"},{"$f":"IF($D38<>\"\",目標一覧!BE37&\"\",\"\")","v":""},{"$f":"IF($D38<>\"\",目標一覧!BF37&\"\",\"\")","v":""},{"$f":"IF($D38<>\"\",目標一覧!BG37&\"\",\"\")","v":""},{"$f":"MATCH(ROW(),目標入力!AZ$1:AZ$551,0)","v":410},{"$f":"IF(AND($W38=\"\",P38<>\"その他＋\"),\"\",MAX($M$4:$M37)+1)","v":""},{"$f":"IF(MAX($N$4:$N37)+1>MAX($B$5:$B$55),\"\",MAX($N$4:$N37)+1)","v":34},34,"労働時間"," ","","","","労働者全体の残業時間を月平均●時間以内とする","労働者全体の残業時間を月平均●時間以内とする",null,null,{"$f":"IF(MAX($Y$2:$Y37)+1>MAX($M$5:$M$60),\"\",MAX($Y$2:$Y37)+1)","v":""},"","","",""]
[null,{"$f":"IF($D39=\"\",\"\",MAX($B$4:$B38)+1)","v":35},{"$f":"MATCH(\"○\",目標一覧!F38:BD38,0)","v":30},{"$f":"目標一覧!B38","v":35},{"$f":"IF($D39<>\"\",目標一覧!$C38&\"\",\"\")","v":"労働時間"},{"$f":"IF($D39<>\"\",目標一覧!$D38,\"\")","v":"月毎の平均残業時間の差異を（Ａ）時間以内とする"},{"$f":"IF($D39<>\"\",目標一覧!$E38,\"\")","v":"月毎の平均残業時間の差異を（Ａ）時間以内とする"},{"$f":"IF($D39<>\"\",目標一覧!BD38&\"\",\"\")","v":"時間"},{"$f":"IF($D39<>\"\",目標一覧!BE38&\"\",\"\")","v":""},{"$f":"IF($D39<>\"\",目標一覧!BF38&\"\",\"\")","v":""},{"$f":"IF($D39<>\"\",目標一覧!BG38&\"\",\"\")","v":""},{"$f":"MATCH(ROW(),目標入力!AZ$1:AZ$551,0)","v":424},{"$f":"IF(AND($W39=\"\",P39<>\"その他＋\"),\"\",MAX($M$4:$M38)+1)","v":""},{"$f":"IF(MAX($N$4:$N38)+1>MAX($B$5:$B$55),\"\",MAX($N$4:$N38)+1)","v":35},35,"労働時間"," ","","","","月毎の平均残業時間の差異を●時間以内とする","月毎の平均残業時間の差異を●時間以内とする",null,null,{"$f":"IF(MAX($Y$2:$Y38)+1>MAX($M$5:$M$60),\"\",MAX($Y$2:$Y38)+1)","v":""},"","","",""]
[null,{"$f":"IF($D40=\"\",\"\",MAX($B$4:$B39)+1)","v":36},{"$f":"MATCH(\"○\",目標一覧!F39:BD39,0)","v":31},{"$f":"目標一覧!B39","v":36},{"$f":"IF($D40<>\"\",目標一覧!$C39&\"\",\"\")","v":"労働時間"},{"$f":"IF($D40<>\"\",目標一覧!$D39,\"\")","v":"（Ａ）（※）の残業時間を月平均（Ｂ）時間以内とする（※長時間労働が発生している雇用管理区分、男女の残業時間の差が大きい雇用管理区分等を設定）"},{"$f":"IF($D40<>\"\",目標一覧!$E39,\"\")","v":"（Ａ）の残業時間を月平均（Ｂ）時間以内とする"},{"$f":"IF($D40<>\"\",目標一覧!BD39&\"\",\"\")","v":"部署"},{"$f":"IF($D40<>\"\",目標一覧!BE39&\"\",\"\")","v":"時間"},{"$f":"IF($D40<>\"\",目標一覧!BF39&\"\",\"\")","v":""},{"$f":"IF($D40<>\"\",目標一覧!BG39&\"\",\"\")","v":""},{"$f":"MATCH(ROW(),目標入力!AZ$1:AZ$551,0)","v":438},{"$f":"IF(AND($W40=\"\",P40<>\"その他＋\"),\"\",MAX($M$4:$M39)+1)","v":""},{"$f":"IF(MAX($N$4:$N39)+1>MAX($B$5:$B$55),\"\",MAX($N$4:$N39)+1)","v":36},36,"労働時間"," "," ","","","●（※）の残業時間を月平均●時間以内とする（※長時間労働が発生している雇用管理区分、男女の残業時間の差が大きい雇用管理区分等を設定）","●の残業時間を月平均●時間以内とする",null,null,{"$f":"IF(MAX($Y$2:$Y39)+1>MAX($M$5:$M$60),\"\",MAX($Y$2:$Y39)+1)","v":""},"","","",""]
[null,{"$f":"IF($D41=\"\",\"\",MAX($B$4:$B40)+1)","v":""},{"$f":"MATCH(\"○\",目標一覧!F40:BD40,0)","v":{"$error":"#N/A"}},{"$f":"目標一覧!B40","v":""},{"$f":"IF($D41<>\"\",目標一覧!$C40&\"\",\"\")","v":""},{"$f":"IF($D41<>\"\",目標一覧!$D40,\"\")","v":""},{"$f":"IF($D41<>\"\",目標一覧!$E40,\"\")","v":""},{"$f":"IF($D41<>\"\",目標一覧!BD40&\"\",\"\")","v":""},{"$f":"IF($D41<>\"\",目標一覧!BE40&\"\",\"\")","v":""},{"$f":"IF($D41<>\"\",目標一覧!BF40&\"\",\"\")","v":""},{"$f":"IF($D41<>\"\",目標一覧!BG40&\"\",\"\")","v":""},{"$f":"MATCH(ROW(),目標入力!AZ$1:AZ$551,0)","v":{"$error":"#N/A"}},{"$f":"IF(AND($W41=\"\",P41<>\"その他＋\"),\"\",MAX($M$4:$M40)+1)","v":""},{"$f":"IF(MAX($N$4:$N40)+1>MAX($B$5:$B$55),\"\",MAX($N$4:$N40)+1)","v":""},"","",null,null,null,null,null,null,null,null,{"$f":"IF(MAX($Y$2:$Y40)+1>MAX($M$5:$M$60),\"\",MAX($Y$2:$Y40)+1)","v":""},"","","",""]
[null,{"$f":"IF($D42=\"\",\"\",MAX($B$4:$B41)+1)","v":""},{"$f":"MATCH(\"○\",目標一覧!F41:BD41,0)","v":{"$error":"#N/A"}},{"$f":"目標一覧!B41","v":""},{"$f":"IF($D42<>\"\",目標一覧!$C41&\"\",\"\")","v":""},{"$f":"IF($D42<>\"\",目標一覧!$D41,\"\")","v":""},{"$f":"IF($D42<>\"\",目標一覧!$E41,\"\")","v":""},{"$f":"IF($D42<>\"\",目標一覧!BD41&\"\",\"\")","v":""},{"$f":"IF($D42<>\"\",目標一覧!BE41&\"\",\"\")","v":""},{"$f":"IF($D42<>\"\",目標一覧!BF41&\"\",\"\")","v":""},{"$f":"IF($D42<>\"\",目標一覧!BG41&\"\",\"\")","v":""},{"$f":"MATCH(ROW(),目標入力!AZ$1:AZ$551,0)","v":{"$error":"#N/A"}},{"$f":"IF(AND($W42=\"\",P42<>\"その他＋\"),\"\",MAX($M$4:$M41)+1)","v":""},{"$f":"IF(MAX($N$4:$N41)+1>MAX($B$5:$B$55),\"\",MAX($N$4:$N41)+1)","v":""},"","",null,null,null,null,null,null,null,null,{"$f":"IF(MAX($Y$2:$Y41)+1>MAX($M$5:$M$60),\"\",MAX($Y$2:$Y41)+1)","v":""},"","","",""]
[null,{"$f":"IF($D43=\"\",\"\",MAX($B$4:$B42)+1)","v":""},{"$f":"MATCH(\"○\",目標一覧!F42:BD42,0)","v":{"$error":"#N/A"}},{"$f":"目標一覧!B42","v":""},{"$f":"IF($D43<>\"\",目標一覧!$C42&\"\",\"\")","v":""},{"$f":"IF($D43<>\"\",目標一覧!$D42,\"\")","v":""},{"$f":"IF($D43<>\"\",目標一覧!$E42,\"\")","v":""},{"$f":"IF($D43<>\"\",目標一覧!BD42&\"\",\"\")","v":""},{"$f":"IF($D43<>\"\",目標一覧!BE42&\"\",\"\")","v":""},{"$f":"IF($D43<>\"\",目標一覧!BF42&\"\",\"\")","v":""},{"$f":"IF($D43<>\"\",目標一覧!BG42&\"\",\"\")","v":""},{"$f":"MATCH(ROW(),目標入力!AZ$1:AZ$551,0)","v":{"$error":"#N/A"}},{"$f":"IF(AND($W43=\"\",P43<>\"その他＋\"),\"\",MAX($M$4:$M42)+1)","v":""},{"$f":"IF(MAX($N$4:$N42)+1>MAX($B$5:$B$55),\"\",MAX($N$4:$N42)+1)","v":""},"","",null,null,null,null,null,null,null,null,{"$f":"IF(MAX($Y$2:$Y42)+1>MAX($M$5:$M$60),\"\",MAX($Y$2:$Y42)+1)","v":""},"","","",""]
[null,{"$f":"IF($D44=\"\",\"\",MAX($B$4:$B43)+1)","v":""},{"$f":"MATCH(\"○\",目標一覧!F43:BD43,0)","v":{"$error":"#N/A"}},{"$f":"目標一覧!B43","v":""},{"$f":"IF($D44<>\"\",目標一覧!$C43&\"\",\"\")","v":""},{"$f":"IF($D44<>\"\",目標一覧!$D43,\"\")","v":""},{"$f":"IF($D44<>\"\",目標一覧!$E43,\"\")","v":""},{"$f":"IF($D44<>\"\",目標一覧!BD43&\"\",\"\")","v":""},{"$f":"IF($D44<>\"\",目標一覧!BE43&\"\",\"\")","v":""},{"$f":"IF($D44<>\"\",目標一覧!BF43&\"\",\"\")","v":""},{"$f":"IF($D44<>\"\",目標一覧!BG43&\"\",\"\")","v":""},{"$f":"MATCH(ROW(),目標入力!AZ$1:AZ$551,0)","v":{"$error":"#N/A"}},{"$f":"IF(AND($W44=\"\",P44<>\"その他＋\"),\"\",MAX($M$4:$M43)+1)","v":""},{"$f":"IF(MAX($N$4:$N43)+1>MAX($B$5:$B$55),\"\",MAX($N$4:$N43)+1)","v":""},"","",null,null,null,null,null,null,null,null,{"$f":"IF(MAX($Y$2:$Y43)+1>MAX($M$5:$M$60),\"\",MAX($Y$2:$Y43)+1)","v":""},"","","",""]
[null,{"$f":"IF($D45=\"\",\"\",MAX($B$4:$B44)+1)","v":""},{"$f":"MATCH(\"○\",目標一覧!F44:BD44,0)","v":{"$error":"#N/A"}},{"$f":"目標一覧!B44","v":""},{"$f":"IF($D45<>\"\",目標一覧!$C44&\"\",\"\")","v":""},{"$f":"IF($D45<>\"\",目標一覧!$D44,\"\")","v":""},{"$f":"IF($D45<>\"\",目標一覧!$E44,\"\")","v":""},{"$f":"IF($D45<>\"\",目標一覧!BD44&\"\",\"\")","v":""},{"$f":"IF($D45<>\"\",目標一覧!BE44&\"\",\"\")","v":""},{"$f":"IF($D45<>\"\",目標一覧!BF44&\"\",\"\")","v":""},{"$f":"IF($D45<>\"\",目標一覧!BG44&\"\",\"\")","v":""},{"$f":"MATCH(ROW(),目標入力!AZ$1:AZ$551,0)","v":{"$error":"#N/A"}},{"$f":"IF(AND($W45=\"\",P45<>\"その他＋\"),\"\",MAX($M$4:$M44)+1)","v":""},{"$f":"IF(MAX($N$4:$N44)+1>MAX($B$5:$B$55),\"\",MAX($N$4:$N44)+1)","v":""},"","",null,null,null,null,null,null,null,null,{"$f":"IF(MAX($Y$2:$Y44)+1>MAX($M$5:$M$60),\"\",MAX($Y$2:$Y44)+1)","v":""},"","","",""]
[null,{"$f":"IF($D46=\"\",\"\",MAX($B$4:$B45)+1)","v":""},{"$f":"MATCH(\"○\",目標一覧!F45:BD45,0)","v":{"$error":"#N/A"}},{"$f":"目標一覧!B45","v":""},{"$f":"IF($D46<>\"\",目標一覧!$C45&\"\",\"\")","v":""},{"$f":"IF($D46<>\"\",目標一覧!$D45,\"\")","v":""},{"$f":"IF($D46<>\"\",目標一覧!$E45,\"\")","v":""},{"$f":"IF($D46<>\"\",目標一覧!BD45&\"\",\"\")","v":""},{"$f":"IF($D46<>\"\",目標一覧!BE45&\"\",\"\")","v":""},{"$f":"IF($D46<>\"\",目標一覧!BF45&\"\",\"\")","v":""},{"$f":"IF($D46<>\"\",目標一覧!BG45&\"\",\"\")","v":""},{"$f":"MATCH(ROW(),目標入力!AZ$1:AZ$551,0)","v":{"$error":"#N/A"}},{"$f":"IF(AND($W46=\"\",P46<>\"その他＋\"),\"\",MAX($M$4:$M45)+1)","v":""},{"$f":"IF(MAX($N$4:$N45)+1>MAX($B$5:$B$55),\"\",MAX($N$4:$N45)+1)","v":""},"","",null,null,null,null,null,null,null,null,{"$f":"IF(MAX($Y$2:$Y45)+1>MAX($M$5:$M$60),\"\",MAX($Y$2:$Y45)+1)","v":""},"","","",""]
[null,{"$f":"IF($D47=\"\",\"\",MAX($B$4:$B46)+1)","v":""},{"$f":"MATCH(\"○\",目標一覧!F46:BD46,0)","v":{"$error":"#N/A"}},{"$f":"目標一覧!B46","v":""},{"$f":"IF($D47<>\"\",目標一覧!$C46&\"\",\"\")","v":""},{"$f":"IF($D47<>\"\",目標一覧!$D46,\"\")","v":""},{"$f":"IF($D47<>\"\",目標一覧!$E46,\"\")","v":""},{"$f":"IF($D47<>\"\",目標一覧!BD46&\"\",\"\")","v":""},{"$f":"IF($D47<>\"\",目標一覧!BE46&\"\",\"\")","v":""},{"$f":"IF($D47<>\"\",目標一覧!BF46&\"\",\"\")","v":""},{"$f":"IF($D47<>\"\",目標一覧!BG46&\"\",\"\")","v":""},{"$f":"MATCH(ROW(),目標入力!AZ$1:AZ$551,0)","v":{"$error":"#N/A"}},{"$f":"IF(AND($W47=\"\",P47<>\"その他＋\"),\"\",MAX($M$4:$M46)+1)","v":""},{"$f":"IF(MAX($N$4:$N46)+1>MAX($B$5:$B$55),\"\",MAX($N$4:$N46)+1)","v":""},"","",null,null,null,null,null,null,null,null,{"$f":"IF(MAX($Y$2:$Y46)+1>MAX($M$5:$M$60),\"\",MAX($Y$2:$Y46)+1)","v":""},"","","",""]
[null,{"$f":"IF($D48=\"\",\"\",MAX($B$4:$B47)+1)","v":""},{"$f":"MATCH(\"○\",目標一覧!F47:BD47,0)","v":{"$error":"#N/A"}},{"$f":"目標一覧!B47","v":""},{"$f":"IF($D48<>\"\",目標一覧!$C47&\"\",\"\")","v":""},{"$f":"IF($D48<>\"\",目標一覧!$D47,\"\")","v":""},{"$f":"IF($D48<>\"\",目標一覧!$E47,\"\")","v":""},{"$f":"IF($D48<>\"\",目標一覧!BD47&\"\",\"\")","v":""},{"$f":"IF($D48<>\"\",目標一覧!BE47&\"\",\"\")","v":""},{"$f":"IF($D48<>\"\",目標一覧!BF47&\"\",\"\")","v":""},{"$f":"IF($D48<>\"\",目標一覧!BG47&\"\",\"\")","v":""},{"$f":"MATCH(ROW(),目標入力!AZ$1:AZ$551,0)","v":{"$error":"#N/A"}},{"$f":"IF(AND($W48=\"\",P48<>\"その他＋\"),\"\",MAX($M$4:$M47)+1)","v":""},{"$f":"IF(MAX($N$4:$N47)+1>MAX($B$5:$B$55),\"\",MAX($N$4:$N47)+1)","v":""},"","",null,null,null,null,null,null,null,null,{"$f":"IF(MAX($Y$2:$Y47)+1>MAX($M$5:$M$60),\"\",MAX($Y$2:$Y47)+1)","v":""},"","","",""]
[null,{"$f":"IF($D49=\"\",\"\",MAX($B$4:$B48)+1)","v":""},{"$f":"MATCH(\"○\",目標一覧!F48:BD48,0)","v":{"$error":"#N/A"}},{"$f":"目標一覧!B48","v":""},{"$f":"IF($D49<>\"\",目標一覧!$C48&\"\",\"\")","v":""},{"$f":"IF($D49<>\"\",目標一覧!$D48,\"\")","v":""},{"$f":"IF($D49<>\"\",目標一覧!$E48,\"\")","v":""},{"$f":"IF($D49<>\"\",目標一覧!BD48&\"\",\"\")","v":""},{"$f":"IF($D49<>\"\",目標一覧!BE48&\"\",\"\")","v":""},{"$f":"IF($D49<>\"\",目標一覧!BF48&\"\",\"\")","v":""},{"$f":"IF($D49<>\"\",目標一覧!BG48&\"\",\"\")","v":""},{"$f":"MATCH(ROW(),目標入力!AZ$1:AZ$551,0)","v":{"$error":"#N/A"}},{"$f":"IF(AND($W49=\"\",P49<>\"その他＋\"),\"\",MAX($M$4:$M48)+1)","v":""},{"$f":"IF(MAX($N$4:$N48)+1>MAX($B$5:$B$55),\"\",MAX($N$4:$N48)+1)","v":""},"","",null,null,null,null,null,null,null,null,{"$f":"IF(MAX($Y$2:$Y48)+1>MAX($M$5:$M$60),\"\",MAX($Y$2:$Y48)+1)","v":""},"","","",""]
[null,{"$f":"IF($D50=\"\",\"\",MAX($B$4:$B49)+1)","v":""},{"$f":"MATCH(\"○\",目標一覧!F49:BD49,0)","v":{"$error":"#N/A"}},{"$f":"目標一覧!B49","v":""},{"$f":"IF($D50<>\"\",目標一覧!$C49&\"\",\"\")","v":""},{"$f":"IF($D50<>\"\",目標一覧!$D49,\"\")","v":""},{"$f":"IF($D50<>\"\",目標一覧!$E49,\"\")","v":""},{"$f":"IF($D50<>\"\",目標一覧!BD49&\"\",\"\")","v":""},{"$f":"IF($D50<>\"\",目標一覧!BE49&\"\",\"\")","v":""},{"$f":"IF($D50<>\"\",目標一覧!BF49&\"\",\"\")","v":""},{"$f":"IF($D50<>\"\",目標一覧!BG49&\"\",\"\")","v":""},{"$f":"MATCH(ROW(),目標入力!AZ$1:AZ$551,0)","v":{"$error":"#N/A"}},{"$f":"IF(AND($W50=\"\",P50<>\"その他＋\"),\"\",MAX($M$4:$M49)+1)","v":""},{"$f":"IF(MAX($N$4:$N49)+1>MAX($B$5:$B$55),\"\",MAX($N$4:$N49)+1)","v":""},"","",null,null,null,null,null,null,null,null,{"$f":"IF(MAX($Y$2:$Y49)+1>MAX($M$5:$M$60),\"\",MAX($Y$2:$Y49)+1)","v":""},"","","",""]
[null,{"$f":"IF($D51=\"\",\"\",MAX($B$4:$B50)+1)","v":""},{"$f":"MATCH(\"○\",目標一覧!F50:BD50,0)","v":{"$error":"#N/A"}},{"$f":"目標一覧!B50","v":""},{"$f":"IF($D51<>\"\",目標一覧!$C50&\"\",\"\")","v":""},{"$f":"IF($D51<>\"\",目標一覧!$D50,\"\")","v":""},{"$f":"IF($D51<>\"\",目標一覧!$E50,\"\")","v":""},{"$f":"IF($D51<>\"\",目標一覧!BD50&\"\",\"\")","v":""},{"$f":"IF($D51<>\"\",目標一覧!BE50&\"\",\"\")","v":""},{"$f":"IF($D51<>\"\",目標一覧!BF50&\"\",\"\")","v":""},{"$f":"IF($D51<>\"\",目標一覧!BG50&\"\",\"\")","v":""},{"$f":"MATCH(ROW(),目標入力!AZ$1:AZ$551,0)","v":{"$error":"#N/A"}},{"$f":"IF(AND($W51=\"\",P51<>\"その他＋\"),\"\",MAX($M$4:$M50)+1)","v":""},{"$f":"IF(MAX($N$4:$N50)+1>MAX($B$5:$B$55),\"\",MAX($N$4:$N50)+1)","v":""},"","",null,null,null,null,null,null,null,null,{"$f":"IF(MAX($Y$2:$Y50)+1>MAX($M$5:$M$60),\"\",MAX($Y$2:$Y50)+1)","v":""},"","","",""]
[null,{"$f":"IF($D52=\"\",\"\",MAX($B$4:$B51)+1)","v":""},{"$f":"MATCH(\"○\",目標一覧!F51:BD51,0)","v":{"$error":"#N/A"}},{"$f":"目標一覧!B51","v":""},{"$f":"IF($D52<>\"\",目標一覧!$C51&\"\",\"\")","v":""},{"$f":"IF($D52<>\"\",目標一覧!$D51,\"\")","v":""},{"$f":"IF($D52<>\"\",目標一覧!$E51,\"\")","v":""},{"$f":"IF($D52<>\"\",目標一覧!BD51&\"\",\"\")","v":""},{"$f":"IF($D52<>\"\",目標一覧!BE51&\"\",\"\")","v":""},{"$f":"IF($D52<>\"\",目標一覧!BF51&\"\",\"\")","v":""},{"$f":"IF($D52<>\"\",目標一覧!BG51&\"\",\"\")","v":""},{"$f":"MATCH(ROW(),目標入力!AZ$1:AZ$551,0)","v":{"$error":"#N/A"}},{"$f":"IF(AND($W52=\"\",P52<>\"その他＋\"),\"\",MAX($M$4:$M51)+1)","v":""},{"$f":"IF(MAX($N$4:$N51)+1>MAX($B$5:$B$55),\"\",MAX($N$4:$N51)+1)","v":""},"","",null,null,null,null,null,null,null,null,{"$f":"IF(MAX($Y$2:$Y51)+1>MAX($M$5:$M$60),\"\",MAX($Y$2:$Y51)+1)","v":""},"","","",""]
[null,{"$f":"IF($D53=\"\",\"\",MAX($B$4:$B52)+1)","v":""},{"$f":"MATCH(\"○\",目標一覧!F52:BD52,0)","v":{"$error":"#N/A"}},{"$f":"目標一覧!B52","v":""},{"$f":"IF($D53<>\"\",目標一覧!$C52&\"\",\"\")","v":""},{"$f":"IF($D53<>\"\",目標一覧!$D52,\"\")","v":""},{"$f":"IF($D53<>\"\",目標一覧!$E52,\"\")","v":""},{"$f":"IF($D53<>\"\",目標一覧!BD52&\"\",\"\")","v":""},{"$f":"IF($D53<>\"\",目標一覧!BE52&\"\",\"\")","v":""},{"$f":"IF($D53<>\"\",目標一覧!BF52&\"\",\"\")","v":""},{"$f":"IF($D53<>\"\",目標一覧!BG52&\"\",\"\")","v":""},{"$f":"MATCH(ROW(),目標入力!AZ$1:AZ$551,0)","v":{"$error":"#N/A"}},{"$f":"IF(AND($W53=\"\",P53<>\"その他＋\"),\"\",MAX($M$4:$M52)+1)","v":""},{"$f":"IF(MAX($N$4:$N52)+1>MAX($B$5:$B$55),\"\",MAX($N$4:$N52)+1)","v":""},"","",null,null,null,null,null,null,null,null,{"$f":"IF(MAX($Y$2:$Y52)+1>MAX($M$5:$M$60),\"\",MAX($Y$2:$Y52)+1)","v":""},"","","",""]
[null,{"$f":"IF($D54=\"\",\"\",MAX($B$4:$B53)+1)","v":""},{"$f":"MATCH(\"○\",目標一覧!F53:BD53,0)","v":{"$error":"#N/A"}},{"$f":"目標一覧!B53","v":""},{"$f":"IF($D54<>\"\",目標一覧!$C53&\"\",\"\")","v":""},{"$f":"IF($D54<>\"\",目標一覧!$D53,\"\")","v":""},{"$f":"IF($D54<>\"\",目標一覧!$E53,\"\")","v":""},{"$f":"IF($D54<>\"\",目標一覧!BD53&\"\",\"\")","v":""},{"$f":"IF($D54<>\"\",目標一覧!BE53&\"\",\"\")","v":""},{"$f":"IF($D54<>\"\",目標一覧!BF53&\"\",\"\")","v":""},{"$f":"IF($D54<>\"\",目標一覧!BG53&\"\",\"\")","v":""},{"$f":"MATCH(ROW(),目標入力!AZ$1:AZ$551,0)","v":{"$error":"#N/A"}},{"$f":"IF(AND($W54=\"\",P54<>\"その他＋\"),\"\",MAX($M$4:$M53)+1)","v":""},{"$f":"IF(MAX($N$4:$N53)+1>MAX($B$5:$B$55),\"\",MAX($N$4:$N53)+1)","v":""},"","",null,null,null,null,null,null,null,null,{"$f":"IF(MAX($Y$2:$Y53)+1>MAX($M$5:$M$60),\"\",MAX($Y$2:$Y53)+1)","v":""},"","","",""]
[null,{"$f":"IF($D55=\"\",\"\",MAX($B$4:$B54)+1)","v":""},null,{"$f":"目標一覧!B51","v":""},{"$f":"IF($D55<>\"\",目標一覧!$C51&\"\",\"\")","v":""},{"$f":"IF($D55<>\"\",目標一覧!$D51,\"\")","v":""},{"$f":"IF($D55<>\"\",目標一覧!$E51,\"\")","v":""},{"$f":"IF($D55<>\"\",目標一覧!BD51&\"\",\"\")","v":""},{"$f":"IF($D55<>\"\",目標一覧!BE51&\"\",\"\")","v":""},{"$f":"IF($D55<>\"\",目標一覧!BF51&\"\",\"\")","v":""},{"$f":"IF($D55<>\"\",目標一覧!BG51&\"\",\"\")","v":""},{"$f":"MATCH(ROW(),目標入力!AZ$1:AZ$551,0)","v":{"$error":"#N/A"}},{"$f":"IF(AND($W55=\"\",P55<>\"その他＋\"),\"\",MAX($M$4:$M54)+1)","v":""},{"$f":"IF(MAX($N$4:$N54)+1>MAX($B$5:$B$55),\"\",MAX($N$4:$N54)+1)","v":""},"","",null,null,null,null,null,null,null,null,{"$f":"IF(MAX($Y$2:$Y54)+1>MAX($M$5:$M$60),\"\",MAX($Y$2:$Y54)+1)","v":""},"","","",""]
[null,{"$f":"IF($D56=\"\",\"\",MAX($B$4:$B55)+1)","v":""},null,{"$f":"'目標追加＞'!F5","v":""},"その他",{"$f":"'目標追加＞'!G5","v":""},{"$f":"'目標追加＞'!G5","v":""},null,null,null,null,{"$f":"MATCH(ROW(),目標入力!AZ$1:AZ$551,0)","v":452},{"$f":"IF(AND($W56=\"\",P56<>\"その他＋\"),\"\",MAX($M$4:$M55)+1)","v":""},{"$f":"IF(MAX($N$4:$N55)+1>MAX($B$5:$B$60),\"\",MAX($N$4:$N55)+1)","v":""},{"$f":"VLOOKUP($N56,$B$5:$F$60,3,0)","v":""},{"$f":"VLOOKUP($N56,$B$5:$F$60,4,0)","v":""},null,null,null,null,{"$f":"SUBSTITUTE(SUBSTITUTE(SUBSTITUTE(SUBSTITUTE(VLOOKUP($N56,$B$5:$F$60,5,0),$Q$4,IF(TRIM($Q56)=\"\",$Q$4,\"（\" & $Q56 & \"）\"),1),$R$4,IF(TRIM($R56)=\"\",$R$4,\"（\" & $R56 & \"）\"),1),$S$4,IF(TRIM($S56)=\"\",$S$4,\"（\" & $S56 & \"）\"),1),$T$4,IF(TRIM($T56)=\"\",$T$4,\"（\" & $T56 & \"）\"),1)","v":""},{"$f":"SUBSTITUTE(SUBSTITUTE(SUBSTITUTE(SUBSTITUTE(VLOOKUP($N56,$B$5:$G$60,6,0),$Q$4,IF(TRIM($Q56)=\"\",$Q$4,$Q56),1),$R$4,IF(TRIM($R56)=\"\",$R$4,$R56),1),$S$4,IF(TRIM($S56)=\"\",$S$4,$S56),1),$T$4,IF(TRIM($T56)=\"\",$T$4,$T56),1)","v":""},null,null,{"$f":"IF(MAX($Y$2:$Y55)+1>MAX($M$5:$M$60),\"\",MAX($Y$2:$Y55)+1)","v":""},"","","",""]
[null,{"$f":"IF($D57=\"\",\"\",MAX($B$4:$B56)+1)","v":""},null,{"$f":"'目標追加＞'!F6","v":""},"その他",{"$f":"'目標追加＞'!G6","v":""},{"$f":"'目標追加＞'!G6","v":""},null,null,null,null,{"$f":"MATCH(ROW(),目標入力!AZ$1:AZ$551,0)","v":455},{"$f":"IF(AND($W57=\"\",P57<>\"その他＋\"),\"\",MAX($M$4:$M56)+1)","v":""},{"$f":"IF(MAX($N$4:$N56)+1>MAX($B$5:$B$60),\"\",MAX($N$4:$N56)+1)","v":""},"","",null,null,null,null,"","",null,null,{"$f":"IF(MAX($Y$2:$Y56)+1>MAX($M$5:$M$60),\"\",MAX($Y$2:$Y56)+1)","v":""},"","","",""]
[null,{"$f":"IF($D58=\"\",\"\",MAX($B$4:$B57)+1)","v":""},null,{"$f":"'目標追加＞'!F7","v":""},"その他",{"$f":"'目標追加＞'!G7","v":""},{"$f":"'目標追加＞'!G7","v":""},null,null,null,null,{"$f":"MATCH(ROW(),目標入力!AZ$1:AZ$551,0)","v":458},{"$f":"IF(AND($W58=\"\",P58<>\"その他＋\"),\"\",MAX($M$4:$M57)+1)","v":""},{"$f":"IF(MAX($N$4:$N57)+1>MAX($B$5:$B$60),\"\",MAX($N$4:$N57)+1)","v":""},"","",null,null,null,null,"","",null,null,{"$f":"IF(MAX($Y$2:$Y57)+1>MAX($M$5:$M$60),\"\",MAX($Y$2:$Y57)+1)","v":""},"","","",""]
[null,{"$f":"IF($D59=\"\",\"\",MAX($B$4:$B58)+1)","v":""},null,{"$f":"'目標追加＞'!F8","v":""},"その他",{"$f":"'目標追加＞'!G8","v":""},{"$f":"'目標追加＞'!G8","v":""},null,null,null,null,{"$f":"MATCH(ROW(),目標入力!AZ$1:AZ$551,0)","v":461},{"$f":"IF(AND($W59=\"\",P59<>\"その他＋\"),\"\",MAX($M$4:$M58)+1)","v":""},{"$f":"IF(MAX($N$4:$N58)+1>MAX($B$5:$B$60),\"\",MAX($N$4:$N58)+1)","v":""},"","",null,null,null,null,"","",null,null,{"$f":"IF(MAX($Y$2:$Y58)+1>MAX($M$5:$M$60),\"\",MAX($Y$2:$Y58)+1)","v":""},"","","",""]
[null,{"$f":"IF($D60=\"\",\"\",MAX($B$4:$B59)+1)","v":""},null,{"$f":"'目標追加＞'!F9","v":""},"その他",{"$f":"'目標追加＞'!G9","v":""},{"$f":"'目標追加＞'!G9","v":""},null,null,null,null,{"$f":"MATCH(ROW(),目標入力!AZ$1:AZ$551,0)","v":464},{"$f":"IF(AND($W60=\"\",P60<>\"その他＋\"),\"\",MAX($M$4:$M59)+1)","v":""},{"$f":"IF(MAX($N$4:$N59)+1>MAX($B$5:$B$60),\"\",MAX($N$4:$N59)+1)","v":""},"","",null,null,null,null,"","",null,null,{"$f":"IF(MAX($Y$2:$Y59)+1>MAX($M$5:$M$60),\"\",MAX($Y$2:$Y59)+1)","v":""},"","","",""]
[null,null,null,null,null,null,null,null,null,null,null,null,null,null,null,null,null,null,null,null,null,null,null,null,"選択追加目標"]
[null,null,null,null,null,null,null,null,null,null,null,null,null,null,null,null,null,null,null,null,null,null,null,null,"選択行No.","元No.","課題分類","目標","出力"]
[null,null,null,null,null,null,null,null,null,null,null,null,null,null,null,null,null,null,null,null,null,null,null,null,{"$f":"IF(MIN($M$56:$M$60)=0,\"\",MIN($M$56:$M$60))","v":""},{"$f":"IF($Y63=\"\",\"\",VLOOKUP($Y63,$M$56:$P$60,3,0))","v":""},{"$f":"IF($Y63=\"\",\"\",VLOOKUP($Y63,$M$56:$U$60,4,0))","v":""},{"$f":"IF($Y63=\"\",\"\",VLOOKUP($Y63,$M$56:$U$60,9,0))","v":""},{"$f":"IF($Y63=\"\",\"\",VLOOKUP($Y63,$M$56:$V$60,10,0))","v":""}]
[null,null,null,null,null,null,null,null,null,null,null,null,null,null,null,null,null,null,null,null,null,null,null,null,{"$f":"IF(MAX($Y$62:$Y63)+1>MAX($M$56:$M$60),\"\",MAX($Y$62:$Y63)+1)","v":""},{"$f":"IF($Y64=\"\",\"\",VLOOKUP($Y64,$M$56:$P$60,3,0))","v":""},{"$f":"IF($Y64=\"\",\"\",VLOOKUP($Y64,$M$56:$U$60,4,0))","v":""},{"$f":"IF($Y64=\"\",\"\",VLOOKUP($Y64,$M$56:$U$60,9,0))","v":""},{"$f":"IF($Y64=\"\",\"\",VLOOKUP($Y64,$M$56:$V$60,10,0))","v":""}]
[null,null,null,null,null,null,null,null,null,null,null,null,null,null,null,null,null,null,null,null,null,null,null,null,{"$f":"IF(MAX($Y$62:$Y64)+1>MAX($M$56:$M$60),\"\",MAX($Y$62:$Y64)+1)","v":""},"","","",""]
[null,null,null,null,null,null,null,null,null,null,null,null,null,null,null,null,null,null,null,null,null,null,null,null,{"$f":"IF(MAX($Y$62:$Y65)+1>MAX($M$56:$M$60),\"\",MAX($Y$62:$Y65)+1)","v":""},"","","",""]
[null,null,null,null,null,null,null,null,null,null,null,null,null,null,null,null,null,null,null,null,null,null,null,null,{"$f":"IF(MAX($Y$62:$Y66)+1>MAX($M$56:$M$60),\"\",MAX($Y$62:$Y66)+1)","v":""},"","","",""]

{"sheet":"目標入力","index":26,"n_rows":464,"n_cols":54,"rows_kept":464,"cut":false,"hidden":false,"merged":[[89,7,89,9],[77,12,77,14],[93,11,93,26],[94,12,94,14],[94,15,94,17],[94,24,94,26],[114,15,114,17],[114,24,114,26],[114,12,114,14],[109,6,109,18],[109,22,109,26],[113,11,113,26],[223,19,223,24],[141,3,141,5],[143,23,143,25],[194,4,195,7],[147,4,148,7],[213,11,213,37],[178,11,178,22],[181,24,181,26],[181,12,181,14],[174,15,174,17],[104,3,104,5],[195,24,195,26],[197,24,197,26],[209,27,209,29],[93,4,94,7],[113,4,114,7],[191,6,191,33],[206,29,206,33],[179,18,179,20],[181,18,181,20],[106,11,106,13],[106,14,106,23],[342,15,342,17],[264,25,264,26],[266,29,266,30],[266,31,266,32],[342,26,342,28],[341,11,341,37],[338,6,338,8],[133,4,134,7],[73,4,74,7],[77,21,77,23],[73,24,73,26],[76,24,76,26],[77,24,77,26],[77,15,77,17],[74,15,74,17],[94,21,94,23],[250,17,250,18],[250,13,250,14],[264,19,264,20],[289,18,289,20],[248,29,248,30],[214,12,214,14],[214,21,214,23],[243,22,243,33],[247,4,248,7],[76,11,76,22],[74,12,74,14],[86,24,86,26],[234,22,234,32],[190,29,190,33],[197,18,197,20],[109,19,109,21],[148,15,148,17],[129,15,129,17],[134,12,134,14],[148,12,148,14],[134,15,134,17],[214,15,214,17],[214,24,214,26],[231,22,231,24],[247,11,247,26],[248,11,248,12],[248,23,248,24],[197,12,197,14],[213,4,214,7],[248,17,248,18],[226,15,226,19],[221,3,221,5],[13,6,14,37],[31,3,31,5],[40,11,40,26],[33,17,33,19],[41,12,41,14],[41,15,41,17],[33,20,33,24],[36,6,36,10],[36,14,36,17],[33,6,33,16],[36,11,36,13],[40,4,41,7],[18,2,22,41],[13,2,14,4],[13,5,14,5],[264,23,264,24],[190,6,190,8],[190,26,190,28],[206,26,206,28],[279,4,280,7],[275,15,275,19],[234,15,234,17],[293,4,294,7],[294,12,294,14],[263,4,264,7],[259,18,259,23],[259,15,259,17],[263,11,263,26],[279,11,279,26],[266,11,266,12],[266,13,266,14],[266,17,266,18],[266,19,266,20],[266,23,266,24],[264,11,264,12],[275,6,275,11],[275,12,275,14],[250,25,250,26],[197,15,197,17],[327,4,328,7],[304,3,304,5],[264,13,264,14],[264,17,264,18],[280,22,280,32],[127,3,127,5],[143,6,143,22],[143,26,143,30],[129,6,129,14],[129,18,129,22],[133,11,133,26],[266,25,266,26],[264,31,264,32],[257,3,257,5],[248,13,248,14],[273,3,273,5],[195,15,195,17],[243,6,243,8],[243,19,243,21],[226,6,226,11],[226,12,226,14],[230,4,231,7],[230,11,230,37],[231,12,231,14],[311,12,311,14],[311,15,311,17],[311,24,311,26],[310,4,311,7],[335,3,335,5],[321,3,321,5],[323,30,323,32],[293,11,293,26],[250,31,250,32],[294,15,294,17],[294,24,294,26],[306,20,306,24],[264,29,264,30],[250,19,250,20],[250,23,250,24],[250,11,250,12],[259,6,259,14],[287,3,287,5],[328,12,328,14],[328,15,328,17],[328,24,328,26],[327,11,327,37],[310,11,310,37],[323,21,323,23],[393,3,393,5],[385,4,386,7],[395,17,395,22],[409,6,409,15],[409,19,409,24],[381,24,381,28],[386,12,386,14],[399,4,400,7],[400,12,400,14],[407,3,407,5],[385,11,385,26],[386,21,386,23],[381,6,381,20],[386,15,386,17],[386,24,386,26],[400,15,400,17],[399,11,399,37],[395,14,395,16],[395,6,395,13],[266,43,266,44],[266,37,266,38],[266,41,266,42],[266,35,266,36],[248,37,248,38],[248,41,248,42],[248,43,248,44],[250,37,250,38],[250,41,250,42],[250,43,250,44],[264,41,264,42],[248,35,248,36],[264,43,264,44],[264,35,264,36],[264,37,264,38],[250,35,250,36],[457,6,458,37],[463,6,464,37],[460,6,461,37],[341,4,342,7],[342,12,342,14],[342,23,342,25],[352,9,352,38],[353,6,353,13],[372,26,372,28],[379,3,379,5],[428,12,428,14],[428,18,428,19],[414,18,414,19],[413,11,413,37],[368,6,368,13],[367,6,367,8],[371,4,372,7],[371,11,371,37],[372,12,372,14],[372,15,372,17],[372,23,372,25],[352,6,352,8],[356,4,357,7],[357,15,357,17],[351,6,351,38],[441,4,442,7],[442,12,442,14],[442,18,442,19],[441,11,441,30],[367,9,367,38],[306,17,306,19],[409,16,409,18],[381,21,381,23],[423,15,423,17],[423,6,423,14],[423,18,423,23],[428,15,428,17],[413,4,414,7],[414,15,414,17],[427,4,428,7],[427,11,427,37],[349,3,349,5],[357,12,357,14],[357,23,357,25],[357,26,357,28],[366,6,366,38],[364,3,364,5],[356,11,356,37],[451,6,452,37],[454,6,455,37],[421,3,421,5],[414,12,414,14],[437,6,437,8],[437,18,437,20],[449,3,449,5],[435,3,435,5],[442,15,442,17],[441,32,441,34],[437,9,437,17],[438,6,438,33],[437,21,437,26],[250,29,250,30],[248,31,248,32],[48,3,48,5],[73,11,73,22],[74,21,74,23],[66,9,66,17],[66,21,66,24],[55,18,55,20],[57,18,57,20],[66,18,66,20],[50,23,50,25],[57,12,57,17],[57,24,57,28],[50,26,50,30],[55,29,55,31],[57,29,57,31],[66,6,66,8],[64,3,64,5],[69,22,69,24],[69,25,69,29],[178,4,179,7],[54,4,55,7],[74,24,74,26],[84,3,84,5],[289,30,289,34],[181,15,181,17],[195,12,195,14],[248,19,248,20],[194,11,194,38],[106,6,106,10],[209,30,209,34],[179,12,179,14],[179,15,179,17],[171,6,171,21],[171,25,171,29],[174,6,174,14],[190,9,190,25],[231,25,231,27],[157,15,157,17],[157,18,157,22],[248,25,248,26],[233,11,233,26],[234,12,234,14],[244,6,244,33],[231,15,231,17],[289,27,289,29],[280,12,280,14],[280,15,280,17],[50,6,50,22],[69,6,69,21],[86,6,86,23],[89,10,89,33],[206,6,206,25],[209,6,209,26],[179,27,179,29],[161,4,162,7],[169,3,169,5],[188,3,188,5],[174,18,174,23],[161,11,161,26],[162,12,162,14],[162,15,162,17],[204,3,204,5],[181,27,181,29],[195,18,195,20],[155,3,155,5],[179,24,179,26],[171,22,171,24],[157,6,157,14],[54,11,54,22],[55,12,55,17],[55,24,55,28],[333,2,333,39],[2,1,2,40],[86,27,86,38],[306,6,306,16],[337,6,337,37],[338,9,338,37],[66,25,66,38],[67,6,67,38],[323,24,323,29],[323,6,323,20],[323,33,323,38],[289,6,289,17],[289,21,289,26],[114,21,114,23],[147,11,147,26],[116,11,116,34],[117,12,117,14],[117,15,117,17],[117,21,117,23],[117,24,117,26],[223,16,223,18],[241,3,241,5],[223,6,223,15],[243,9,243,18]]}
[]
[null,null,null,null,{"$f":"初期設定!$E$9","v":"中小企業のための女性活躍『行動計画』策定プログラム"}]
[null," "]
[]
[]
[]
[]
[]
[]
[]
[]
[null,"＜ＳＴＥＰ５＞　目標例の中から設定したい目標を選び数値を入力"]
[]
[null,null,{"$f":"タイプ分類名","v":"⑥"},null,null,null,{"$f":"タイプ分類特徴","v":"女性の活躍が比較的進んでいる企業"}]
[]
[]
[null,{"$f":"\"○タイプ\"&C14&IF('選択項目＞'!G2=\"課題分析の視点の全表示\",\"\",\" 「\"&'選択項目＞'!G2&\"」\")&\"に関連する目標\"","v":"○タイプ⑥ 「」に関連する目標"}]
[]
[null,null,"選択した課題（選択項目）に対する目標例から、自社の目標としたいものを選択し、目標の数値を入力してください。複数の目標選択が可能です。（目標の数は目安として２～３個選択します。このプログラムでは５個まで選択可能としています。）\n現状把握（任意）では、自社の現状の数値を入力し、数値目標を定める参考としてください。(この欄を入力しなくても次に進められます。) \n目標案の中に適切なものがない場合や、自社独自の目標を追加したい場合は、「独自目標追加」ボタンより、自社の独自の目標を直接入力出来ます。"]
[]
[]
[]
[]
[]
[]
[]
[null,null,{"$f":"選択項目一覧!$D7&選択項目一覧!$E7","v":"採用した労働者に占める女性労働者の割合に偏りがある"}]
[]
[]
[null,null,{"$f":"INDIRECT(\"選択項目一覧!$D\"& 7+COUNTA($C$27:$C29),TRUE) & INDIRECT(\"選択項目一覧!$E\"& 7+COUNTA($C$27:$C29),TRUE)","v":"採用者に占める女性割合が低い雇用管理区分がある"}]
[]
[null,null,null,"目標例"]
[]
[null,null,null,null,"選択",null,"採用した労働者に占める女性割合を",null,null,null,null,null,null,null,null,null,null," ",null,null,"％以上とする",null,null,null,null,null,null,null,null,null,null,null,null,null,null,null,null,null,null,null,null,null,null,null,null,null,null,null,null,null,null,5,"R"]
[]
[]
[null,null,null,null,"選択",null,"女性労働者を",null,null,null,null," ",null,null,"人採用する",null,null,null,null,null,null,null,null,null,null,null,null,null,null,null,null,null,null,null,null,null,null,null,null,null,null,null,null,null,null,null,null,null,null,null,null,7,"L"]
[]
[]
[]
[null,null,null,null,"現状把握\n（任意）",null,null,null,null,null,null,"採用した労働者に占める女性労働者の割合"]
[null,null,null,null,null,null,null,null,null,null,null,null,null,null,null," ",null,null,"％"]
[]
[]
[]
[]
[null,null,{"$f":"INDIRECT(\"選択項目一覧!$D\"& 7+COUNTA($C$27:$C46),TRUE) & INDIRECT(\"選択項目一覧!$E\"& 7+COUNTA($C$27:$C46),TRUE)","v":"再雇用又は中途採用の実績に男女の偏りがある"}]
[]
[null,null,null,"目標例"]
[]
[null,null,null,null,"選択",null,"再雇用制度の登録者数を対象となる層（離職者等）の",null,null,null,null,null,null,null,null,null,null,null,null,null,null,null,null," ",null,null,"％以上とする",null,null,null,null,null,null,null,null,null,null,null,null,null,null,null,null,null,null,null,null,null,null,null,null,8,"X"]
[]
[]
[]
[null,null,null,null,"現状把握\n（任意）",null,null,null,null,null,null,"再雇用又は中途採用の実績"]
[null,null,null,null,null,null,null,null,null,null,null,null,"女性：（再雇用）",null,null,null,null,null," ",null,null,"人",null,null," （中途採用）",null,null,null,null," ",null,null,"人"]
[]
[null,null,null,null,null,null,null,null,null,null,null,null,"男性：（再雇用）",null,null,null,null,null," ",null,null,"人",null,null," （中途採用）",null,null,null,null," ",null,null,"人"]
[]
[]
[]
[]
[null,null,{"$f":"INDIRECT(\"選択項目一覧!$D\"& 7+COUNTA($C$27:$C62),TRUE) & INDIRECT(\"選択項目一覧!$E\"& 7+COUNTA($C$27:$C62),TRUE)","v":"女性がほとんど配置されていない部署がある"}]
[]
[null,null,null,"目標例"]
[]
[null,null,null,null,"選択",null," ",null,null,"（※）で働く女性労働者を",null,null,null,null,null,null,null,null," ",null,null,"人増やす",null,null,null,"（※配属されてこなかった部署・職種、",null,null,null,null,null,null,null,null,null,null,null,null,null,null,null,null,null,null,null,null,null,null,null,null,null,9,"G","S"]
[null,null,null,null,null,null,"復職女性の配属が困難な部署・職種・管理区分等を設定）"]
[]
[null,null,null,null,"選択",null,"すべての部署・職種で、女性の割合を（最低でも）",null,null,null,null,null,null,null,null,null,null,null,null,null,null,null," ",null,null,"％以上とする",null,null,null,null,null,null,null,null,null,null,null,null,null,null,null,null,null,null,null,null,null,null,null,null,null,10,"W"]
[]
[]
[]
[null,null,null,null,"現状把握\n（任意）",null,null,null,null,null,null,"女性配置割合の低い部署",null,null,null,null,null,null,null,null,null,null,null,"("," ",null,null,")"]
[null,null,null,null,null,null,null,null,null,null,null,null,"女性",null,null," ",null,null,"％",null,null,"男性",null,null," ",null,null,"％"]
[]
[null,null,null,null,null,null,null,null,null,null,null,"女性配置割合の高い部署",null,null,null,null,null,null,null,null,null,null,null,"("," ",null,null,")"]
[null,null,null,null,null,null,null,null,null,null,null,null,"女性",null,null," ",null,null,"％",null,null,"男性",null,null," ",null,null,"％"]
[]
[]
[]
[]
[null,null,{"$f":"INDIRECT(\"選択項目一覧!$D\"& 7+COUNTA($C$27:$C82),TRUE) & INDIRECT(\"選択項目一覧!$E\"& 7+COUNTA($C$27:$C82),TRUE)","v":"同世代の男性社員に比べ、女性社員の育成が遅れがちになっている"}]
[]
[null,null,null,"目標例"]
[]
[null,null,null,null,"選択",null,"女性のキャリアアップ研修等の受講割合を男性と同水準の",null,null,null,null,null,null,null,null,null,null,null,null,null,null,null,null,null," ",null,null,"％以上（対象層に占める割合）とする",null,null,null,null,null,null,null,null,null,null,null,null,null,null,null,null,null,null,null,null,null,null,null,11,"Y"]
[]
[]
[null,null,null,null,"選択",null,"（"," ",null,null,"ヶ月以上の）育休取得者とその上司を対象とした復職研修を100％実施する",null,null,null,null,null,null,null,null,null,null,null,null,null,null,null,null,null,null,null,null,null,null,null,null,null,null,null,null,null,null,null,null,null,null,null,null,null,null,null,null,12,"H"]
[]
[]
[]
[null,null,null,null,"現状把握\n（任意）",null,null,null,null,null,null,"将来の人材育成を目的とした教育訓練の受講の状況"]
[null,null,null,null,null,null,null,null,null,null,null,null,"女性",null,null," ",null,null,"％",null,null,"男性",null,null," ",null,null,"％"]
[]
[]
[]
[]
[null,null,{"$f":"INDIRECT(\"選択項目一覧!$D\"& 7+COUNTA($C$27:$C99),TRUE) & INDIRECT(\"選択項目一覧!$E\"& 7+COUNTA($C$27:$C99),TRUE)","v":"管理職や男女の労働者の配置・育成・評価・昇進その他に関する意識に男女の偏りがある"}]
[]
[]
[null,null,{"$f":"INDIRECT(\"選択項目一覧!$D\"& 7+COUNTA($C$27:$C102),TRUE) & INDIRECT(\"選択項目一覧!$E\"& 7+COUNTA($C$27:$C102),TRUE)","v":"非正社員の育成・登用が進んでいない"}]
[]
[null,null,null,"目標例"]
[]
[null,null,null,null,"選択",null,"非正社員から",null,null,null,null," ",null,null,"人以上、正社員への登用をする",null,null,null,null,null,null,null,null,null,null,null,null,null,null,null,null,null,null,null,null,null,null,null,null,null,null,null,null,null,null,null,null,null,null,null,null,13,"L"]
[]
[]
[null,null,null,null,"選択",null,"非正社員のキャリアアップ研修の受講率を",null,null,null,null,null,null,null,null,null,null,null,null," ",null,null,"％以上にする",null,null,null,null,null,null,null,null,null,null,null,null,null,null,null,null,null,null,null,null,null,null,null,null,null,null,null,null,14,"T"]
[]
[]
[]
[null,null,null,null,"現状把握\n（任意）",null,null,null,null,null,null,"非正社員からの正社員への登用の実績"]
[null,null,null,null,null,null,null,null,null,null,null,null,"女性",null,null," ",null,null,"人",null,null,"男性",null,null," ",null,null,"人"]
[]
[null,null,null,null,null,null,null,null,null,null,null,"非正社員のキャリアアップに向けた研修の受講の状況"]
[null,null,null,null,null,null,null,null,null,null,null,null,"女性",null,null," ",null,null,"％",null,null,"男性",null,null," ",null,null,"％"]
[]
[]
[]
[]
[null,null,{"$f":"INDIRECT(\"選択項目一覧!$D\"& 7+COUNTA($C$27:$C122),TRUE) & INDIRECT(\"選択項目一覧!$E\"& 7+COUNTA($C$27:$C122),TRUE)","v":"非正社員のキャリアアップに向けた研修の受講の状況に男女の偏りがある"}]
[]
[]
[null,null,{"$f":"INDIRECT(\"選択項目一覧!$D\"& 7+COUNTA($C$27:$C125),TRUE) & INDIRECT(\"選択項目一覧!$E\"& 7+COUNTA($C$27:$C125),TRUE)","v":"男女の平均継続勤務年数の差異はないが、勤続年数自体は短い"}]
[]
[null,null,null,"目標例"]
[]
[null,null,null,null,"選択",null,"男女ともに平均勤続年数を",null,null,null,null,null,null,null,null," ",null,null,"年以上とする",null,null,null,null,null,null,null,null,null,null,null,null,null,null,null,null,null,null,null,null,null,null,null,null,null,null,null,null,null,null,null,null,16,"P"]
[]
[]
[]
[null,null,null,null,"現状把握\n（任意）",null,null,null,null,null,null,"男女の平均継続勤務年数"]
[null,null,null,null,null,null,null,null,null,null,null,null,null,null,null," ",null,null,"年"]
[]
[]
[]
[]
[null,null,{"$f":"INDIRECT(\"選択項目一覧!$D\"& 7+COUNTA($C$27:$C139),TRUE) & INDIRECT(\"選択項目一覧!$E\"& 7+COUNTA($C$27:$C139),TRUE)","v":"出産・子育て等を機に（あるいはそれ以前に）、女性社員が退職する傾向にある。"}]
[]
[null,null,null,"目標例"]
[]
[null,null,null,null,"選択",null,"男性の平均勤続年数に対する女性の平均勤続年数割合を",null,null,null,null,null,null,null,null,null,null,null,null,null,null,null,null," ",null,null,"％以上とする",null,null,null,null,null,null,null,null,null,null,null,null,null,null,null,null,null,null,null,null,null,null,null,null,15,"X"]
[]
[]
[]
[null,null,null,null,"現状把握\n（任意）",null,null,null,null,null,null,"男女の平均継続勤務年数の差異"]
[null,null,null,null,null,null,null,null,null,null,null,null,null,null,null," ",null,null,"％"]
[]
[]
[]
[]
[null,null,{"$f":"INDIRECT(\"選択項目一覧!$D\"& 7+COUNTA($C$27:$C153),TRUE) & INDIRECT(\"選択項目一覧!$E\"& 7+COUNTA($C$27:$C153),TRUE)","v":"女性社員が少ない、もしくはいない"}]
[]
[null,null,null,"目標例"]
[]
[null,null,null,null,"選択",null,"労働者に占める女性割合を",null,null,null,null,null,null,null,null," ",null,null,"％以上とする",null,null,null,null,null,null,null,null,null,null,null,null,null,null,null,null,null,null,null,null,null,null,null,null,null,null,null,null,null,null,null,null,18,"P"]
[]
[]
[]
[null,null,null,null,"現状把握\n（任意）",null,null,null,null,null,null,"労働者に占める女性労働者の割合"]
[null,null,null,null,null,null,null,null,null,null,null,null,null,null,null," ",null,null,"％"]
[]
[]
[]
[]
[null,null,{"$f":"INDIRECT(\"選択項目一覧!$D\"& 7+COUNTA($C$27:$C167),TRUE) & INDIRECT(\"選択項目一覧!$E\"& 7+COUNTA($C$27:$C167),TRUE)","v":"育児休業取得率が低い、または平均取得期間が短い。"}]
[]
[null,null,null,"目標例"]
[]
[null,null,null,null,"選択",null,"育児休業の利用率を、男女ともに(対象となる層の）",null,null,null,null,null,null,null,null,null,null,null,null,null,null,null," ",null,null,"％以上とする",null,null,null,null,null,null,null,null,null,null,null,null,null,null,null,null,null,null,null,null,null,null,null,null,null,19,"W"]
[]
[]
[null,null,null,null,"選択",null,"男性の育児休業取得期間を",null,null,null,null,null,null,null,null," ",null,null,"％アップさせる",null,null,null,null,null,null,null,null,null,null,null,null,null,null,null,null,null,null,null,null,null,null,null,null,null,null,null,null,null,null,null,null,23,"P"]
[]
[]
[]
[null,null,null,null,"現状把握\n（任意）",null,null,null,null,null,null,"育児休業取得率及び平均取得期間"]
[null,null,null,null,null,null,null,null,null,null,null,null,"取得率",null,null,"女性",null,null," ",null,null,"％",null,null,"男性",null,null," ",null,null,"％"]
[]
[null,null,null,null,null,null,null,null,null,null,null,null,"取得期間",null,null,"女性",null,null," ",null,null,"日",null,null,"男性",null,null," ",null,null,"日"]
[]
[]
[]
[]
[null,null,{"$f":"INDIRECT(\"選択項目一覧!$D\"& 7+COUNTA($C$27:$C186),TRUE) & INDIRECT(\"選択項目一覧!$E\"& 7+COUNTA($C$27:$C186),TRUE)","v":"職業生活と家庭生活との両立を支援するための制度（育児休業を除く）が十分ではない"}]
[]
[null,null,null,"目標例"]
[]
[null,null,null,null,"選択",null," ",null,null,"制度（※）の利用実績を男女ともに（対象となる層の）",null,null,null,null,null,null,null,null,null,null,null,null,null,null,null,null," ",null,null,"％以上とする",null,null,null,null,null,null,null,null,null,null,null,null,null,null,null,null,null,null,null,null,null,22,"G","AA"]
[null,null,null,null,null,null,"（※短時間勤務、看護休暇制度など、自社のその他の両立支援制度を設定）"]
[]
[]
[null,null,null,null,"現状把握\n（任意）",null,null,null,null,null,null,"職業生活と家庭生活との両立を支援するための制度（育児休業を除く）の利用実績"]
[null,null,null,null,null,null,null,null,null,null,null,null,"女性",null,null," ",null,null," ",null,null,"人",null,null," ",null,null,"日"]
[]
[null,null,null,null,null,null,null,null,null,null,null,null,"男性",null,null," ",null,null," ",null,null,"人",null,null," ",null,null,"日"]
[]
[]
[]
[]
[null,null,{"$f":"INDIRECT(\"選択項目一覧!$D\"& 7+COUNTA($C$27:$C202),TRUE) & INDIRECT(\"選択項目一覧!$E\"& 7+COUNTA($C$27:$C202),TRUE)","v":"フレックスタイム制、在宅勤務、テレワーク等の柔軟な働き方に資する制度の利用実績に男女の偏りがある"}]
[]
[null,null,null,"目標例"]
[]
[null,null,null,null,"選択",null,"フレックスタイム制度の利用率を、男女ともに(対象となる層の）",null,null,null,null,null,null,null,null,null,null,null,null,null,null,null,null,null,null,null," ",null,null,"％以上とする",null,null,null,null,null,null,null,null,null,null,null,null,null,null,null,null,null,null,null,null,null,20,"AA"]
[]
[]
[null,null,null,null,"選択",null,"在宅勤務やテレワークの利用率を、男女ともに（対象となる層の）",null,null,null,null,null,null,null,null,null,null,null,null,null,null,null,null,null,null,null,null," ",null,null,"％以上とする",null,null,null,null,null,null,null,null,null,null,null,null,null,null,null,null,null,null,null,null,21,"AB"]
[]
[]
[]
[null,null,null,null,"現状把握\n（任意）",null,null,null,null,null,null,"フレックスタイム制、在宅勤務、テレワーク等の柔軟な働き方に資する制度の利用実績"]
[null,null,null,null,null,null,null,null,null,null,null,null,"女性",null,null," ",null,null,"人",null,null,"男性",null,null," ",null,null,"人"]
[]
[]
[]
[]
[null,null,{"$f":"INDIRECT(\"選択項目一覧!$D\"& 7+COUNTA($C$27:$C219),TRUE) & INDIRECT(\"選択項目一覧!$E\"& 7+COUNTA($C$27:$C219),TRUE)","v":"労働者の各月ごとの平均残業時間等が特に長い月がある"}]
[]
[null,null,null,"目標例"]
[]
[null,null,null,null,"選択",null,"労働者全体の残業時間を月平均",null,null,null,null,null,null,null,null,null," ",null,null,"時間以内とする",null,null,null,null,null,null,null,null,null,null,null,null,null,null,null,null,null,null,null,null,null,null,null,null,null,null,null,null,null,null,null,24,"Q"]
[]
[]
[null,null,null,null,"選択",null,"有給休暇取得率を",null,null,null,null,null," ",null,null,"％以上とする",null,null,null,null,null,null,null,null,null,null,null,null,null,null,null,null,null,null,null,null,null,null,null,null,null,null,null,null,null,null,null,null,null,null,null,29,"M"]
[]
[]
[]
[null,null,null,null,"現状把握\n（任意）",null,null,null,null,null,null,"労働者の各月ごとの平均残業時間等の労働時間の状況"]
[null,null,null,null,null,null,null,null,null,null,null,null,"女性",null,null," ",null,null,"時間",null,null,null,"男性",null,null," ",null,null,"時間"]
[]
[null,null,null,null,null,null,null,null,null,null,null,"有給休暇取得率"]
[null,null,null,null,null,null,null,null,null,null,null,null,null,null,null," ",null,null,"％",null,null,null,"※目安70％"]
[]
[]
[]
[]
[null,null,{"$f":"INDIRECT(\"選択項目一覧!$D\"& 7+COUNTA($C$27:$C239),TRUE) & INDIRECT(\"選択項目一覧!$E\"& 7+COUNTA($C$27:$C239),TRUE)","v":"労働者の各月ごとの平均残業時間等で特に労働時間が長い雇用管理区分がある"}]
[]
[null,null,null,"目標例"]
[]
[null,null,null,null,"選択",null," ",null,null," （※）の残業時間を月平均",null,null,null,null,null,null,null,null,null," ",null,null,"時間以内とする（※長時間労働が発生",null,null,null,null,null,null,null,null,null,null,null,null,null,null,null,null,null,null,null,null,null,null,null,null,null,null,null,null,25,"G","T"]
[null,null,null,null,null,null,"している雇用管理区分、男女の残業時間の差が大きい雇用管理区分等を設定）"]
[]
[]
[null,null,null,null,"現状把握\n（任意）",null,null,null,null,null,null,"労働者の各月ごとの平均残業時間等の労働時間の状況"]
[null,null,null,null,null,null,null,null,null,null,null,{"$f":"状況管理!$J$22","v":" "},null," ",null,"時間",null,{"$f":"状況管理!$K$22","v":""},null," ",null,"時間",null,{"$f":"状況管理!$L$22","v":""},null," ",null,"時間",null,{"$f":"状況管理!$M$22","v":""},null," ",null,"時間",null,{"$f":"状況管理!$N$22","v":""},null," ",null,"時間",null,{"$f":"状況管理!$O$22","v":""},null," ",null,"時間"]
[]
[null,null,null,null,null,null,null,null,null,null,null,{"$f":"状況管理!$P$22","v":""},null," ",null,"時間",null,{"$f":"状況管理!$Q$22","v":""},null," ",null,"時間",null,{"$f":"状況管理!$R$22","v":""},null," ",null,"時間",null,{"$f":"状況管理!$S$22","v":""},null," ",null,"時間",null,{"$f":"状況管理!$T$22","v":""},null," ",null,"時間",null,{"$f":"状況管理!$U$22","v":""},null," ",null,"時間"]
[]
[]
[]
[]
[null,null,{"$f":"INDIRECT(\"選択項目一覧!$D\"& 7+COUNTA($C$27:$C255),TRUE) & INDIRECT(\"選択項目一覧!$E\"& 7+COUNTA($C$27:$C255),TRUE)","v":"管理職の各月ごとの労働時間等が一般の労働者と比較して長くなっている"}]
[]
[null,null,null,"目標例"]
[]
[null,null,null,null,"選択",null,"管理職の労働時間を月平均",null,null,null,null,null,null,null,null," ",null,null,"時間以内とする",null,null,null,null,null,null,null,null,null,null,null,null,null,null,null,null,null,null,null,null,null,null,null,null,null,null,null,null,null,null,null,null,26,"P"]
[]
[]
[]
[null,null,null,null,"現状把握\n（任意）",null,null,null,null,null,null,"管理職の各月ごとの労働時間等の勤務状状況"]
[null,null,null,null,null,null,null,null,null,null,null,{"$f":"状況管理!$J$22","v":" "},null," ",null,"時間",null,{"$f":"状況管理!$K$22","v":""},null," ",null,"時間",null,{"$f":"状況管理!$L$22","v":""},null," ",null,"時間",null,{"$f":"状況管理!$M$22","v":""},null," ",null,"時間",null,{"$f":"状況管理!$N$22","v":""},null," ",null,"時間",null,{"$f":"状況管理!$O$22","v":""},null," ",null,"時間"]
[]
[null,null,null,null,null,null,null,null,null,null,null,{"$f":"状況管理!$P$22","v":""},null," ",null,"時間",null,{"$f":"状況管理!$Q$22","v":""},null," ",null,"時間",null,{"$f":"状況管理!$R$22","v":""},null," ",null,"時間",null,{"$f":"状況管理!$S$22","v":""},null," ",null,"時間",null,{"$f":"状況管理!$T$22","v":""},null," ",null,"時間",null,{"$f":"状況管理!$U$22","v":""},null," ",null,"時間"]
[]
[]
[]
[]
[null,null,{"$f":"INDIRECT(\"選択項目一覧!$D\"& 7+COUNTA($C$27:$C271),TRUE) & INDIRECT(\"選択項目一覧!$E\"& 7+COUNTA($C$27:$C271),TRUE)","v":"有給休暇取得率の低い雇用管理区分がある"}]
[]
[null,null,null,"目標例"]
[]
[null,null,null,null,"選択",null,"有給休暇取得率を",null,null,null,null,null," ",null,null,"％以上とする",null,null,null,null,null,null,null,null,null,null,null,null,null,null,null,null,null,null,null,null,null,null,null,null,null,null,null,null,null,null,null,null,null,null,null,27,"M"]
[]
[]
[]
[null,null,null,null,"現状把握\n（任意）",null,null,null,null,null,null,"有給休暇取得率"]
[null,null,null,null,null,null,null,null,null,null,null,null,null,null,null," ",null,null,"％",null,null,null,"※目安70％"]
[]
[]
[]
[]
[null,null,{"$f":"INDIRECT(\"選択項目一覧!$D\"& 7+COUNTA($C$27:$C285),TRUE) & INDIRECT(\"選択項目一覧!$E\"& 7+COUNTA($C$27:$C285),TRUE)","v":"女性管理職が少ない、またはいない。"}]
[]
[null,null,null,"目標例"]
[]
[null,null,null,null,"選択",null,"管理職に占める女性の人数（割合）を",null,null,null,null,null,null,null,null,null,null,null," ",null,null,"人以上または（",null,null,null,null,null," ",null,null,"％以上）とする",null,null,null,null,null,null,null,null,null,null,null,null,null,null,null,null,null,null,null,null,28,"S","AB"]
[]
[]
[]
[null,null,null,null,"現状把握\n（任意）",null,null,null,null,null,null,"管理職に占める女性労働者の人数または割合"]
[null,null,null,null,null,null,null,null,null,null,null,null,null,null,null," ",null,null,"人",null,null,null,null,null," ",null,null,"％"]
[]
[]
[]
[]
[null,null,{"$f":"INDIRECT(\"選択項目一覧!$D\"& 7+COUNTA($C$27:$C299),TRUE) & INDIRECT(\"選択項目一覧!$E\"& 7+COUNTA($C$27:$C299),TRUE)","v":"各職階の労働者に占める女性労働者の割合が低い"}]
[]
[]
[null,null,{"$f":"INDIRECT(\"選択項目一覧!$D\"& 7+COUNTA($C$27:$C302),TRUE) & INDIRECT(\"選択項目一覧!$E\"& 7+COUNTA($C$27:$C302),TRUE)","v":"役員に占める女性の割合が低い"}]
[]
[null,null,null,"目標例"]
[]
[null,null,null,null,"選択",null,"役員や部長に占める女性の割合を",null,null,null,null,null,null,null,null,null,null," ",null,null,"％以上とする。",null,null,null,null,null,null,null,null,null,null,null,null,null,null,null,null,null,null,null,null,null,null,null,null,null,null,null,null,null,null,31,"R"]
[]
[]
[]
[null,null,null,null,"現状把握\n（任意）",null,null,null,null,null,null,"役員や部長に占める女性の人数"]
[null,null,null,null,null,null,null,null,null,null,null,null,null,null,null," ",null,null,"人",null,null,null,null,null," ",null,null,"％"]
[]
[]
[]
[]
[null,null,{"$f":"INDIRECT(\"選択項目一覧!$D\"& 7+COUNTA($C$27:$C316),TRUE) & INDIRECT(\"選択項目一覧!$E\"& 7+COUNTA($C$27:$C316),TRUE)","v":"１つ上位の職階へ昇進した労働者の割合に男女の偏りがある"}]
[]
[]
[null,null,{"$f":"INDIRECT(\"選択項目一覧!$D\"& 7+COUNTA($C$27:$C319),TRUE) & INDIRECT(\"選択項目一覧!$E\"& 7+COUNTA($C$27:$C319),TRUE)","v":"係長やその手前の段階で多くの女性が滞留している。"}]
[]
[null,null,null,"目標例"]
[]
[null,null,null,null,"選択",null,"係長級の役職者に占める女性の人数（割合）を",null,null,null,null,null,null,null,null,null,null,null,null,null,null," ",null,null,"人以上または（",null,null,null,null,null," ",null,null,"％以上）とする。",null,null,null,null,null,null,null,null,null,null,null,null,null,null,null,null,null,30,"V","AE"]
[]
[]
[]
[null,null,null,null,"現状把握\n（任意）",null,null,null,null,null,null,"各職階の労働者（係長）に占める女性労働者の人数または割合"]
[null,null,null,null,null,null,null,null,null,null,null,null,"係長級",null,null," ",null,null,"人",null,null,null,null,null," ",null,null,"％"]
[]
[]
[]
[]
[null,null,{"$f":"INDIRECT(\"選択項目一覧!$D\"& 7+COUNTA($C$27:$C333),TRUE) & INDIRECT(\"選択項目一覧!$E\"& 7+COUNTA($C$27:$C333),TRUE)","v":"女性社員が出産・子育てをしながらキャリア形成していくイメージや意欲を持つことができていない。管理職が、復職女性に対するマネジメント責任を認識できていない。"}]
[]
[null,null,null,"目標例"]
[]
[null,null,null,null,"選択",null,"マネジメント層や女性社員に対する意識調査の結果について、就業継続意欲などの基準（※）を"]
[null,null,null,null,null,null," ",null,null,"ポイント以上向上する（※昇進意欲があるかなど、自社の意識調査内容を踏まえて基準を設定）",null,null,null,null,null,null,null,null,null,null,null,null,null,null,null,null,null,null,null,null,null,null,null,null,null,null,null,null,null,null,null,null,null,null,null,null,null,null,null,null,null,32,"G"]
[]
[]
[null,null,null,null,"現状把握\n（任意）",null,null,null,null,null,null,"管理職や男女の労働者の性別役割分担意識・その他の職場風土に関する意識"]
[null,null,null,null,null,null,null,null,null,null,null,null,"女性",null,null," ",null,null,"ポイント",null,null,null,null,"男性",null,null," ",null,null,"ポイント"]
[]
[]
[]
[]
[null,null,{"$f":"INDIRECT(\"選択項目一覧!$D\"& 7+COUNTA($C$27:$C347),TRUE) & INDIRECT(\"選択項目一覧!$E\"& 7+COUNTA($C$27:$C347),TRUE)","v":"女性には向かない仕事・職場であるとの意識が管理職や社員のなかにある"}]
[]
[null,null,null,"目標例"]
[]
[null,null,null,null,"選択",null,"マネジメント層や女性社員に対する意識調査の結果について、職場環境に対する満足度などの基準（※）を"]
[null,null,null,null,null,null," ",null,null,"ポイント以上向上する（※適性な業務配分や権限の付与、仕事のやりがいなど、自社の意識調査",null,null,null,null,null,null,null,null,null,null,null,null,null,null,null,null,null,null,null,null,null,null,null,null,null,null,null,null,null,null,null,null,null,null,null,null,null,null,null,null,null,33,"G"]
[null,null,null,null,null,null,"内容を踏まえて設定）"]
[]
[]
[null,null,null,null,"現状把握\n（任意）",null,null,null,null,null,null,"管理職や男女の労働者の性別役割分担意識・その他の職場風土に関する意識"]
[null,null,null,null,null,null,null,null,null,null,null,null,"女性",null,null," ",null,null,"ポイント",null,null,null,null,"男性",null,null," ",null,null,"ポイント"]
[]
[]
[]
[]
[null,null,{"$f":"INDIRECT(\"選択項目一覧!$D\"& 7+COUNTA($C$27:$C362),TRUE) & INDIRECT(\"選択項目一覧!$E\"& 7+COUNTA($C$27:$C362),TRUE)","v":"女性を配慮しにくい職場環境（衛生面・装備面等）になっている"}]
[]
[null,null,null,"目標例"]
[]
[null,null,null,null,"選択",null,"マネジメント層や女性社員に対する意識調査の結果について、職場環境に対する満足度などの基準（※）を"]
[null,null,null,null,null,null," ",null,null,"ポイント以上向上する（※適性な業務配分や権限の付与、仕事のやりがいなど、自社の意識調査",null,null,null,null,null,null,null,null,null,null,null,null,null,null,null,null,null,null,null,null,null,null,null,null,null,null,null,null,null,null,null,null,null,null,null,null,null,null,null,null,null,34,"G"]
[null,null,null,null,null,null,"内容を踏まえて設定）"]
[]
[]
[null,null,null,null,"現状把握\n（任意）",null,null,null,null,null,null,"管理職や男女の労働者の性別役割分担意識・その他の職場風土に関する意識"]
[null,null,null,null,null,null,null,null,null,null,null,null,"女性",null,null," ",null,null,"ポイント",null,null,null,null,"男性",null,null," ",null,null,"ポイント"]
[]
[]
[]
[]
[null,null,{"$f":"INDIRECT(\"選択項目一覧!$D\"& 7+COUNTA($C$27:$C377),TRUE) & INDIRECT(\"選択項目一覧!$E\"& 7+COUNTA($C$27:$C377),TRUE)","v":"男女の人事評価の結果に差異がある"}]
[]
[null,null,null,"目標例"]
[]
[null,null,null,null,"選択",null,"人事評価の評価段階ごとの男女別部分の差異を",null,null,null,null,null,null,null,null,null,null,null,null,null,null," ",null,null,"％以内とする",null,null,null,null,null,null,null,null,null,null,null,null,null,null,null,null,null,null,null,null,null,null,null,null,null,null,36,"V"]
[]
[]
[]
[null,null,null,null,"現状把握\n（任意）",null,null,null,null,null,null,"男女の人事評価の結果における差異"]
[null,null,null,null,null,null,null,null,null,null,null,null,"女性",null,null," ",null,null,"％",null,null,"男性",null,null," ",null,null,"％"]
[]
[]
[]
[]
[null,null,{"$f":"INDIRECT(\"選択項目一覧!$D\"& 7+COUNTA($C$27:$C389),TRUE) & INDIRECT(\"選択項目一覧!$E\"& 7+COUNTA($C$27:$C389),TRUE)","v":"男女の賃金に差異がある"}]
[]
[null,null,null,"目標例"]
[]
[null,null,null,null,"選択",null,"男女の平均賃金の差異を",null,null,null,null,null,null,null," ",null,null,"％以内とする。",null,null,null,null,null,null,null,null,null,null,null,null,null,null,null,null,null,null,null,null,null,null,null,null,null,null,null,null,null,null,null,null,null,37,"O"]
[]
[]
[]
[null,null,null,null,"現状把握\n（任意）",null,null,null,null,null,null,"男女の賃金の差異"]
[null,null,null,null,null,null,null,null,null,null,null,null,null,null,null," ",null,null,"％"]
[]
[]
[]
[]
[null,null,{"$f":"INDIRECT(\"選択項目一覧!$D\"& 7+COUNTA($C$27:$C405),TRUE) & INDIRECT(\"選択項目一覧!$E\"& 7+COUNTA($C$27:$C405),TRUE)","v":"長時間労働が常態化している"}]
[]
[null,null,null,"目標例"]
[]
[null,null,null,null,"選択",null,"労働者全体の残業時間を月平均",null,null,null,null,null,null,null,null,null," ",null,null,"時間以内とする",null,null,null,null,null,null,null,null,null,null,null,null,null,null,null,null,null,null,null,null,null,null,null,null,null,null,null,null,null,null,null,38,"Q"]
[]
[]
[]
[null,null,null,null,"現状把握\n（任意）",null,null,null,null,null,null,"労働者全体の月平均残業時間"]
[null,null,null,null,null,null,null,null,null,null,null,null,null,null,null," ",null,null,"時間"]
[]
[]
[]
[]
[null,null,{"$f":"INDIRECT(\"選択項目一覧!$D\"& 7+COUNTA($C$27:$C419),TRUE) & INDIRECT(\"選択項目一覧!$E\"& 7+COUNTA($C$27:$C419),TRUE)","v":"月による繁閑差が大きい"}]
[]
[null,null,null,"目標例"]
[]
[null,null,null,null,"選択",null,"月毎の平均残業時間の差異を",null,null,null,null,null,null,null,null," ",null,null,"時間以内とする",null,null,null,null,null,null,null,null,null,null,null,null,null,null,null,null,null,null,null,null,null,null,null,null,null,null,null,null,null,null,null,null,39,"P"]
[]
[]
[]
[null,null,null,null,"現状把握\n（任意）",null,null,null,null,null,null,"月毎の平均残業時間の差異"]
[null,null,null,null,null,null,null,null,null,null,null,null,null,null,null," ",null,null,"時間"]
[]
[]
[]
[]
[null,null,{"$f":"INDIRECT(\"選択項目一覧!$D\"& 7+COUNTA($C$27:$C433),TRUE) & INDIRECT(\"選択項目一覧!$E\"& 7+COUNTA($C$27:$C433),TRUE)","v":"特定の部署や雇用管理区分で長時間労働になっている"}]
[]
[null,null,null,"目標例"]
[]
[null,null,null,null,"選択",null," ",null,null,"（※）の残業時間を月平均",null,null,null,null,null,null,null,null," ",null,null,"時間以内とする",null,null,null,null,null,null,null,null,null,null,null,null,null,null,null,null,null,null,null,null,null,null,null,null,null,null,null,null,null,40,"G","S"]
[null,null,null,null,null,null,"（※長時間労働になっている部署、職種、雇用管理区分等を設定）"]
[]
[]
[null,null,null,null,"現状把握\n（任意）",null,null,null,null,null,null,"長時間労働になっている部署や雇用管理区分と月平均残業時間",null,null,null,null,null,null,null,null,null,null,null,null,null,null,null,null,null,null,null,"("," ",null,null,")"]
[null,null,null,null,null,null,null,null,null,null,null,null,null,null,null," ",null,null,"時間"]
[]
[]
[]
[]
[null,null,"独自追加目標"]
[]
[null,null,null,"目標例"]
[]
[null,null,null,null,"選択",null,{"$f":"INDIRECT(\"'目標入力＞'!U\"&$AZ452,TRUE)","v":""},null,null,null,null,null,null,null,null,null,null,null,null,null,null,null,null,null,null,null,null,null,null,null,null,null,null,null,null,null,null,null,null,null,null,null,null,null,null,null,null,null,null,null,null,56]
[]
[]
[null,null,null,null,"選択",null,{"$f":"INDIRECT(\"'目標入力＞'!U\"&$AZ455,TRUE)","v":""},null,null,null,null,null,null,null,null,null,null,null,null,null,null,null,null,null,null,null,null,null,null,null,null,null,null,null,null,null,null,null,null,null,null,null,null,null,null,null,null,null,null,null,null,57]
[]
[]
[null,null,null,null,"選択",null,{"$f":"INDIRECT(\"'目標入力＞'!U\"&$AZ458,TRUE)","v":""},null,null,null,null,null,null,null,null,null,null,null,null,null,null,null,null,null,null,null,null,null,null,null,null,null,null,null,null,null,null,null,null,null,null,null,null,null,null,null,null,null,null,null,null,58]
[]
[]
[null,null,null,null,"選択",null,{"$f":"INDIRECT(\"'目標入力＞'!U\"&$AZ461,TRUE)","v":""},null,null,null,null,null,null,null,null,null,null,null,null,null,null,null,null,null,null,null,null,null,null,null,null,null,null,null,null,null,null,null,null,null,null,null,null,null,null,null,null,null,null,null,null,59]
[]
[]
[null,null,null,null,"選択",null,{"$f":"INDIRECT(\"'目標入力＞'!U\"&$AZ464,TRUE)","v":""},null,null,null,null,null,null,null,null,null,null,null,null,null,null,null,null,null,null,null,null,null,null,null,null,null,null,null,null,null,null,null,null,null,null,null,null,null,null,null,null,null,null,null,null,60]

{"sheet":"目標追加＞","index":27,"n_rows":20,"n_cols":10,"rows_kept":20,"cut":false,"hidden":false,"merged":[]}
["管理者用シート　リリース時には非表示になります。"]
[]
[null,null,null,null,"追加目標"]
[null,"選択行No.","目標",null,"選択行No.","元No.","目標",null,"元No.","目標"]
[null,{"$f":"IF(TRIM($C5)=\"\",\"\",MAX($B$4:$B4)+1)","v":""},{"$f":"目標追加!追加目標１","v":" "},null,{"$f":"IF(MAX($E$4:$E4)+1>MAX($B$5:$B$20),\"\",MAX($E$4:$E4)+1)","v":""},{"$f":"IF($E5=\"\",\"\",VLOOKUP($E5,$B$5:$C$20,1,0)+100)","v":""},{"$f":"IF($E5=\"\",\"\",VLOOKUP($E5,$B$5:$C$20,2,0))","v":""}]
[null,{"$f":"IF(TRIM($C6)=\"\",\"\",MAX($B$4:$B5)+1)","v":""},{"$f":"目標追加!追加目標２","v":" "},null,{"$f":"IF(MAX($E$4:$E5)+1>MAX($B$5:$B$20),\"\",MAX($E$4:$E5)+1)","v":""},"",""]
[null,{"$f":"IF(TRIM($C7)=\"\",\"\",MAX($B$4:$B6)+1)","v":""},{"$f":"目標追加!追加目標３","v":" "},null,{"$f":"IF(MAX($E$4:$E6)+1>MAX($B$5:$B$20),\"\",MAX($E$4:$E6)+1)","v":""},"",""]
[null,{"$f":"IF(TRIM($C8)=\"\",\"\",MAX($B$4:$B7)+1)","v":""},{"$f":"目標追加!追加目標４","v":" "},null,{"$f":"IF(MAX($E$4:$E7)+1>MAX($B$5:$B$20),\"\",MAX($E$4:$E7)+1)","v":""},"",""]
[null,{"$f":"IF(TRIM($C9)=\"\",\"\",MAX($B$4:$B8)+1)","v":""},{"$f":"目標追加!追加目標５","v":" "},null,{"$f":"IF(MAX($E$4:$E8)+1>MAX($B$5:$B$20),\"\",MAX($E$4:$E8)+1)","v":""},"",""]
[null,{"$f":"IF(TRIM($C10)=\"\",\"\",MAX($B$4:$B9)+1)","v":""},null,null,{"$f":"IF(MAX($E$4:$E9)+1>MAX($B$5:$B$20),\"\",MAX($E$4:$E9)+1)","v":""},"",""]
[null,{"$f":"IF(TRIM($C11)=\"\",\"\",MAX($B$4:$B10)+1)","v":""},null,null,{"$f":"IF(MAX($E$4:$E10)+1>MAX($B$5:$B$20),\"\",MAX($E$4:$E10)+1)","v":""},"",""]
[null,{"$f":"IF(TRIM($C12)=\"\",\"\",MAX($B$4:$B11)+1)","v":""},null,null,{"$f":"IF(MAX($E$4:$E11)+1>MAX($B$5:$B$20),\"\",MAX($E$4:$E11)+1)","v":""},"",""]
[null,{"$f":"IF(TRIM($C13)=\"\",\"\",MAX($B$4:$B12)+1)","v":""},null,null,{"$f":"IF(MAX($E$4:$E12)+1>MAX($B$5:$B$20),\"\",MAX($E$4:$E12)+1)","v":""},"",""]
[null,{"$f":"IF(TRIM($C14)=\"\",\"\",MAX($B$4:$B13)+1)","v":""},null,null,{"$f":"IF(MAX($E$4:$E13)+1>MAX($B$5:$B$20),\"\",MAX($E$4:$E13)+1)","v":""},"",""]
[null,{"$f":"IF(TRIM($C15)=\"\",\"\",MAX($B$4:$B14)+1)","v":""},null,null,{"$f":"IF(MAX($E$4:$E14)+1>MAX($B$5:$B$20),\"\",MAX($E$4:$E14)+1)","v":""},"",""]
[null,{"$f":"IF(TRIM($C16)=\"\",\"\",MAX($B$4:$B15)+1)","v":""},null,null,{"$f":"IF(MAX($E$4:$E15)+1>MAX($B$5:$B$20),\"\",MAX($E$4:$E15)+1)","v":""},"",""]
[null,{"$f":"IF(TRIM($C17)=\"\",\"\",MAX($B$4:$B16)+1)","v":""},null,null,{"$f":"IF(MAX($E$4:$E16)+1>MAX($B$5:$B$20),\"\",MAX($E$4:$E16)+1)","v":""},"",""]
[null,{"$f":"IF(TRIM($C18)=\"\",\"\",MAX($B$4:$B17)+1)","v":""},null,null,{"$f":"IF(MAX($E$4:$E17)+1>MAX($B$5:$B$20),\"\",MAX($E$4:$E17)+1)","v":""},"",""]
[null,{"$f":"IF(TRIM($C19)=\"\",\"\",MAX($B$4:$B18)+1)","v":""},null,null,{"$f":"IF(MAX($E$4:$E18)+1>MAX($B$5:$B$20),\"\",MAX($E$4:$E18)+1)","v":""},"",""]
[null,{"$f":"IF(TRIM($C20)=\"\",\"\",MAX($B$4:$B19)+1)","v":""},null,null,{"$f":"IF(MAX($E$4:$E19)+1>MAX($B$5:$B$20),\"\",MAX($E$4:$E19)+1)","v":""},"",""]

{"sheet":"目標追加","index":28,"n_rows":31,"n_cols":7,"rows_kept":31,"cut":false,"hidden":false,"merged":[[2,1,2,40],[28,3,29,35],[30,3,31,35],[13,2,14,4],[13,5,14,5],[13,6,14,37],[22,3,23,35],[24,3,25,35],[26,3,27,35]]}
[]
[null,null,null,null,{"$f":"初期設定!$E$9","v":"中小企業のための女性活躍『行動計画』策定プログラム"}]
[null," "]
[]
[]
[]
[]
[]
[]
[]
[]
[null,"＜ＳＴＥＰ５＞　目標例の中から設定したい目標を選び数値を入力"]
[]
[null,null,{"$f":"タイプ分類名","v":"⑥"},null,null,null,{"$f":"タイプ分類特徴","v":"女性の活躍が比較的進んでいる企業"}]
[]
[]
[null,{"$f":"\"○タイプ\"&C14&\" 　独自目標を入力\"","v":"○タイプ⑥ 　独自目標を入力"}]
[]
[null,null,"独自の目標を入力欄に直接入力してください。最大で５つの独自目標が設定できます。"]
[null,null,"入力が完了したら「戻る」ボタンを押して目標選択の画面に戻ってください。「追加目標」として入力した目標が画面に表示されます。"]
[]
[]
[null,null,"●"," "]
[]
[null,null,"●"," "]
[]
[null,null,"●"," "]
[]
[null,null,"●"," "]
[]
[null,null,"●"," "]

{"sheet":"取組選択＞","index":29,"n_rows":311,"n_cols":75,"rows_kept":311,"cut":false,"hidden":false,"merged":[]}
["管理者用シート　リリース時には非表示になります。"]
[null,null,null,null,{"$f":"COLUMN(取組一覧!$F$96)+MATCH(E$4,取組一覧!$F$3:'取組一覧'!$CG$3,0)-1","v":{"$error":"#N/A"}},{"$f":"COLUMN(取組一覧!$F$96)+MATCH(F$4,取組一覧!$F$3:'取組一覧'!$CG$3,0)-1","v":{"$error":"#N/A"}},{"$f":"COLUMN(取組一覧!$F$96)+MATCH(G$4,取組一覧!$F$3:'取組一覧'!$CG$3,0)-1","v":{"$error":"#N/A"}},{"$f":"COLUMN(取組一覧!$F$96)+MATCH(H$4,取組一覧!$F$3:'取組一覧'!$CG$3,0)-1","v":{"$error":"#N/A"}},{"$f":"COLUMN(取組一覧!$F$96)+MATCH(I$4,取組一覧!$F$3:'取組一覧'!$CG$3,0)-1","v":{"$error":"#N/A"}},{"$f":"COLUMN(取組一覧!$F$96)+MATCH(J$4,取組一覧!$F$3:'取組一覧'!$CG$3,0)-1","v":{"$error":"#N/A"}},{"$f":"COLUMN(取組一覧!$F$96)+MATCH(K$4,取組一覧!$F$3:'取組一覧'!$CG$3,0)-1","v":{"$error":"#N/A"}},{"$f":"COLUMN(取組一覧!$F$96)+MATCH(L$4,取組一覧!$F$3:'取組一覧'!$CG$3,0)-1","v":{"$error":"#N/A"}},{"$f":"COLUMN(取組一覧!$F$96)+MATCH(M$4,取組一覧!$F$3:'取組一覧'!$CG$3,0)-1","v":{"$error":"#N/A"}},{"$f":"COLUMN(取組一覧!$F$96)+MATCH(N$4,取組一覧!$F$3:'取組一覧'!$CG$3,0)-1","v":{"$error":"#N/A"}},{"$f":"COLUMN(取組一覧!$F$96)+MATCH(O$4,取組一覧!$F$3:'取組一覧'!$CG$3,0)-1","v":{"$error":"#N/A"}},{"$f":"COLUMN(取組一覧!$F$96)+MATCH(P$4,取組一覧!$F$3:'取組一覧'!$CG$3,0)-1","v":{"$error":"#N/A"}},{"$f":"COLUMN(取組一覧!$F$96)+MATCH(Q$4,取組一覧!$F$3:'取組一覧'!$CG$3,0)-1","v":{"$error":"#N/A"}},{"$f":"COLUMN(取組一覧!$F$96)+MATCH(R$4,取組一覧!$F$3:'取組一覧'!$CG$3,0)-1","v":{"$error":"#N/A"}},{"$f":"COLUMN(取組一覧!$F$96)+MATCH(S$4,取組一覧!$F$3:'取組一覧'!$CG$3,0)-1","v":{"$error":"#N/A"}},{"$f":"COLUMN(取組一覧!$F$96)+MATCH(T$4,取組一覧!$F$3:'取組一覧'!$CG$3,0)-1","v":{"$error":"#N/A"}},{"$f":"COLUMN(取組一覧!$F$96)+MATCH(U$4,取組一覧!$F$3:'取組一覧'!$CG$3,0)-1","v":{"$error":"#N/A"}},{"$f":"COLUMN(取組一覧!$F$96)+MATCH(V$4,取組一覧!$F$3:'取組一覧'!$CG$3,0)-1","v":{"$error":"#N/A"}},{"$f":"COLUMN(取組一覧!$F$96)+MATCH(W$4,取組一覧!$F$3:'取組一覧'!$CG$3,0)-1","v":{"$error":"#N/A"}},{"$f":"COLUMN(取組一覧!$F$96)+MATCH(X$4,取組一覧!$F$3:'取組一覧'!$CG$3,0)-1","v":{"$error":"#N/A"}},{"$f":"COLUMN(取組一覧!$F$96)+MATCH(Y$4,取組一覧!$F$3:'取組一覧'!$CG$3,0)-1","v":{"$error":"#N/A"}},{"$f":"COLUMN(取組一覧!$F$96)+MATCH(Z$4,取組一覧!$F$3:'取組一覧'!$CG$3,0)-1","v":{"$error":"#N/A"}},{"$f":"COLUMN(取組一覧!$F$96)+MATCH(AA$4,取組一覧!$F$3:'取組一覧'!$CG$3,0)-1","v":{"$error":"#N/A"}},{"$f":"COLUMN(取組一覧!$F$96)+MATCH(AB$4,取組一覧!$F$3:'取組一覧'!$CG$3,0)-1","v":{"$error":"#N/A"}},{"$f":"COLUMN(取組一覧!$F$96)+MATCH(AC$4,取組一覧!$F$3:'取組一覧'!$CG$3,0)-1","v":{"$error":"#N/A"}},{"$f":"COLUMN(取組一覧!$F$96)+MATCH(AD$4,取組一覧!$F$3:'取組一覧'!$CG$3,0)-1","v":{"$error":"#N/A"}},{"$f":"COLUMN(取組一覧!$F$96)+MATCH(AE$4,取組一覧!$F$3:'取組一覧'!$CG$3,0)-1","v":{"$error":"#N/A"}},{"$f":"COLUMN(取組一覧!$F$96)+MATCH(AF$4,取組一覧!$F$3:'取組一覧'!$CG$3,0)-1","v":{"$error":"#N/A"}},{"$f":"COLUMN(取組一覧!$F$96)+MATCH(AG$4,取組一覧!$F$3:'取組一覧'!$CG$3,0)-1","v":{"$error":"#N/A"}},{"$f":"COLUMN(取組一覧!$F$96)+MATCH(AH$4,取組一覧!$F$3:'取組一覧'!$CG$3,0)-1","v":{"$error":"#N/A"}},{"$f":"COLUMN(取組一覧!$F$96)+MATCH(AI$4,取組一覧!$F$3:'取組一覧'!$CG$3,0)-1","v":{"$error":"#N/A"}},{"$f":"COLUMN(取組一覧!$F$96)+MATCH(AJ$4,取組一覧!$F$3:'取組一覧'!$CG$3,0)-1","v":{"$error":"#N/A"}},{"$f":"COLUMN(取組一覧!$F$96)+MATCH(AK$4,取組一覧!$F$3:'取組一覧'!$CG$3,0)-1","v":{"$error":"#N/A"}},{"$f":"COLUMN(取組一覧!$F$96)+MATCH(AL$4,取組一覧!$F$3:'取組一覧'!$CG$3,0)-1","v":{"$error":"#N/A"}},{"$f":"COLUMN(取組一覧!$F$96)+MATCH(AM$4,取組一覧!$F$3:'取組一覧'!$CG$3,0)-1","v":{"$error":"#N/A"}},{"$f":"COLUMN(取組一覧!$F$96)+MATCH(AN$4,取組一覧!$F$3:'取組一覧'!$CG$3,0)-1","v":{"$error":"#N/A"}},{"$f":"COLUMN(取組一覧!$F$96)+MATCH(AO$4,取組一覧!$F$3:'取組一覧'!$CG$3,0)-1","v":{"$error":"#N/A"}},{"$f":"COLUMN(取組一覧!$F$96)+MATCH(AP$4,取組一覧!$F$3:'取組一覧'!$CG$3,0)-1","v":{"$error":"#N/A"}},{"$f":"COLUMN(取組一覧!$F$96)+MATCH(AQ$4,取組一覧!$F$3:'取組一覧'!$CG$3,0)-1","v":{"$error":"#N/A"}},{"$f":"COLUMN(取組一覧!$F$96)+MATCH(AR$4,取組一覧!$F$3:'取組一覧'!$CG$3,0)-1","v":{"$error":"#N/A"}},{"$f":"COLUMN(取組一覧!$F$96)+MATCH(AS$4,取組一覧!$F$3:'取組一覧'!$CG$3,0)-1","v":{"$error":"#N/A"}},{"$f":"COLUMN(取組一覧!$F$96)+MATCH(AT$4,取組一覧!$F$3:'取組一覧'!$CG$3,0)-1","v":{"$error":"#N/A"}},{"$f":"COLUMN(取組一覧!$F$96)+MATCH(AU$4,取組一覧!$F$3:'取組一覧'!$CG$3,0)-1","v":{"$error":"#N/A"}},{"$f":"COLUMN(取組一覧!$F$96)+MATCH(AV$4,取組一覧!$F$3:'取組一覧'!$CG$3,0)-1","v":{"$error":"#N/A"}},{"$f":"COLUMN(取組一覧!$F$96)+MATCH(AW$4,取組一覧!$F$3:'取組一覧'!$CG$3,0)-1","v":{"$error":"#N/A"}},{"$f":"COLUMN(取組一覧!$F$96)+MATCH(AX$4,取組一覧!$F$3:'取組一覧'!$CG$3,0)-1","v":{"$error":"#N/A"}},{"$f":"COLUMN(取組一覧!$F$96)+MATCH(AY$4,取組一覧!$F$3:'取組一覧'!$CG$3,0)-1","v":{"$error":"#N/A"}},{"$f":"COLUMN(取組一覧!$F$96)+MATCH(AZ$4,取組一覧!$F$3:'取組一覧'!$CG$3,0)-1","v":{"$error":"#N/A"}},{"$f":"COLUMN(取組一覧!$F$96)+MATCH(BA$4,取組一覧!$F$3:'取組一覧'!$CG$3,0)-1","v":{"$error":"#N/A"}},{"$f":"COLUMN(取組一覧!$F$96)+MATCH(BB$4,取組一覧!$F$3:'取組一覧'!$CG$3,0)-1","v":{"$error":"#N/A"}}]
[null,null,null,null,"目標→",null,null,null,null,null,null,null,null,null,null,null,null,null,null,null,null,null,null,null,null,null,null,null,null,null,null,null,null,null,null,null,null,null,null,null,null,null,null,null,null,null,null,null,null,null,null,null,null,null,null,null,null,null,null,null,null,null,54,55,56,null,null,null,null,null,null,null,null,null,"退避"]
[null,"抽出行No.","元No.","追加分",{"$f":"INDIRECT(\"'目標入力＞'!Z\" & (COLUMN()-COLUMN($E$3)+5),TRUE)","v":""},{"$f":"INDIRECT(\"'目標入力＞'!Z\" & (COLUMN()-COLUMN($E$3)+5),TRUE)","v":""},"","","","","","","","","","","","","","","","","","","","","","","","","","","","","","","","","","","","","","","","","","","","","","","",{"$f":"IF(B2=\"A\",\"A\",\"\")","v":""},"課題分類","取組","出力",null,"選択行No.","目標NO","元No.","目標","課題分類","取組","出力","YES",null,"選択行No.","目標No","元No.","課題分類","取組","出力",null,"YES"]
[{"$f":"ROW(取組一覧!$F4)","v":4},{"$f":"IF($C5=\"\",\"\",MAX($B$4:$B4)+1)","v":""},{"$f":"IF(COUNTIF($E5:$BB5,\"○\")>0,取組一覧!$B4,\"\")","v":""},null,{"$f":"IF(OR(E$4=\"\",E$4>100),\"\",INDIRECT(ADDRESS($A5,E$2,1,1,\"取組一覧\"))&\"\")","v":""},{"$f":"IF(OR(F$4=\"\",F$4>100),\"\",INDIRECT(ADDRESS($A5,F$2,1,1,\"取組一覧\"))&\"\")","v":""},"","","","","","","","","","","","","","","",{"$f":"IF(OR(V$4=\"\",V$4>100),\"\",INDIRECT(ADDRESS($A5,V$2,1,1,\"取組一覧\"))&\"\")","v":""},"","","","","","","","","","","","","","","",{"$f":"IF(OR(AL$4=\"\",AL$4>100),\"\",INDIRECT(ADDRESS($A5,AL$2,1,1,\"取組一覧\"))&\"\")","v":""},"","","","","","","","","","","","","","","",{"$f":"IF(OR(BB$4=\"\",BB$4>100),\"\",INDIRECT(ADDRESS($A5,BB$2,1,1,\"取組一覧\"))&\"\")","v":""},{"$f":"IF($C5<>\"\",取組一覧!$C4&\"\",\"\")","v":""},{"$f":"IF($C5<>\"\",取組一覧!$D4&\"\",\"\")","v":""},{"$f":"IF($C5<>\"\",取組一覧!$E4&\"\",\"\")","v":""},null,{"$f":"IF($BN5=\"\",\"\",MAX($BG$4:$BG4)+1)","v":""},{"$f":"$B112","v":""},{"$f":"$C112","v":""},{"$f":"VLOOKUP($BH5,'目標入力＞'!$Z$5:$AC$60,4,0)","v":""},{"$f":"VLOOKUP($BI5,$C$5:$BE$109,BK$3-1,0)","v":""},"","",null,null,{"$f":"IF(MAX($BP$1:$BP4)+1>MAX($BG$5:$BG$204),\"\",MAX($BP$1:$BP4)+1)","v":""},{"$f":"IF($BP5=\"\",\"\",VLOOKUP($BP5,$BG$5:$BK$204,2,0))","v":""},{"$f":"IF($BP5=\"\",\"\",VLOOKUP($BP5,$BG$5:$BK$204,3,0))","v":""},{"$f":"IF($BP5=\"\",\"\",VLOOKUP($BP5,$BG$5:$BL$204,5,0))","v":""},{"$f":"IF($BP5=\"\",\"\",VLOOKUP($BP5,$BG$5:$BM$204,6,0))","v":""},{"$f":"IF($BP5=\"\",\"\",VLOOKUP($BP5,$BG$5:$BM$204,7,0))","v":""}]
[{"$f":"ROW(取組一覧!$F5)","v":5},{"$f":"IF($C6=\"\",\"\",MAX($B$4:$B5)+1)","v":""},{"$f":"IF(COUNTIF($E6:$BB6,\"○\")>0,取組一覧!$B5,\"\")","v":""},null,{"$f":"IF(OR(E$4=\"\",E$4>100),\"\",INDIRECT(ADDRESS($A6,E$2,1,1,\"取組一覧\"))&\"\")","v":""},"","","","","","","","","","","","","","","","","","","","","","","","","","","","","","","","","","","","","","","","","","","","","","","","","",{"$f":"IF($C6<>\"\",取組一覧!$C5&\"\",\"\")","v":""},{"$f":"IF($C6<>\"\",取組一覧!$D5&\"\",\"\")","v":""},{"$f":"IF($C6<>\"\",取組一覧!$E5&\"\",\"\")","v":""},null,{"$f":"IF($BN6=\"\",\"\",MAX($BG$4:$BG5)+1)","v":""},"","",{"$f":"VLOOKUP($BH6,'目標入力＞'!$Z$5:$AC$60,4,0)","v":""},"","","",null,null,{"$f":"IF(MAX($BP$1:$BP5)+1>MAX($BG$5:$BG$204),\"\",MAX($BP$1:$BP5)+1)","v":""},{"$f":"IF($BP6=\"\",\"\",VLOOKUP($BP6,$BG$5:$BK$204,2,0))","v":""},{"$f":"IF($BP6=\"\",\"\",VLOOKUP($BP6,$BG$5:$BK$204,3,0))","v":""},{"$f":"IF($BP6=\"\",\"\",VLOOKUP($BP6,$BG$5:$BL$204,5,0))","v":""},{"$f":"IF($BP6=\"\",\"\",VLOOKUP($BP6,$BG$5:$BM$204,6,0))","v":""},{"$f":"IF($BP6=\"\",\"\",VLOOKUP($BP6,$BG$5:$BM$204,7,0))","v":""}]
[{"$f":"ROW(取組一覧!$F6)","v":6},{"$f":"IF($C7=\"\",\"\",MAX($B$4:$B6)+1)","v":""},{"$f":"IF(COUNTIF($E7:$BB7,\"○\")>0,取組一覧!$B6,\"\")","v":""},null,{"$f":"IF(OR(E$4=\"\",E$4>100),\"\",INDIRECT(ADDRESS($A7,E$2,1,1,\"取組一覧\"))&\"\")","v":""},"","","","","","","","","","","","","","","","","","","","","","","","","","","","","","","","","","","","","","","","","","","","","","","","","",{"$f":"IF($C7<>\"\",取組一覧!$C6&\"\",\"\")","v":""},{"$f":"IF($C7<>\"\",取組一覧!$D6&\"\",\"\")","v":""},{"$f":"IF($C7<>\"\",取組一覧!$E6&\"\",\"\")","v":""},null,{"$f":"IF($BN7=\"\",\"\",MAX($BG$4:$BG6)+1)","v":""},"","",{"$f":"VLOOKUP($BH7,'目標入力＞'!$Z$5:$AC$60,4,0)","v":""},"","","",null,null,{"$f":"IF(MAX($BP$1:$BP6)+1>MAX($BG$5:$BG$204),\"\",MAX($BP$1:$BP6)+1)","v":""},"","","","",""]
[{"$f":"ROW(取組一覧!$F7)","v":7},{"$f":"IF($C8=\"\",\"\",MAX($B$4:$B7)+1)","v":""},{"$f":"IF(COUNTIF($E8:$BB8,\"○\")>0,取組一覧!$B7,\"\")","v":""},null,"","","","","","","","","","","","","","","","","","","","","","","","","","","","","","","","","","","","","","","","","","","","","","","","","","",{"$f":"IF($C8<>\"\",取組一覧!$C7&\"\",\"\")","v":""},{"$f":"IF($C8<>\"\",取組一覧!$D7&\"\",\"\")","v":""},{"$f":"IF($C8<>\"\",取組一覧!$E7&\"\",\"\")","v":""},null,{"$f":"IF($BN8=\"\",\"\",MAX($BG$4:$BG7)+1)","v":""},"","",{"$f":"VLOOKUP($BH8,'目標入力＞'!$Z$5:$AC$60,4,0)","v":""},"","","",null,null,{"$f":"IF(MAX($BP$1:$BP7)+1>MAX($BG$5:$BG$204),\"\",MAX($BP$1:$BP7)+1)","v":""},"","","","",""]
[{"$f":"ROW(取組一覧!$F8)","v":8},{"$f":"IF($C9=\"\",\"\",MAX($B$4:$B8)+1)","v":""},{"$f":"IF(COUNTIF($E9:$BB9,\"○\")>0,取組一覧!$B8,\"\")","v":""},null,"","","","","","","","","","","","","","","","","","","","","","","","","","","","","","","","","","","","","","","","","","","","","","","","","","",{"$f":"IF($C9<>\"\",取組一覧!$C8&\"\",\"\")","v":""},{"$f":"IF($C9<>\"\",取組一覧!$D8&\"\",\"\")","v":""},{"$f":"IF($C9<>\"\",取組一覧!$E8&\"\",\"\")","v":""},null,{"$f":"IF($BN9=\"\",\"\",MAX($BG$4:$BG8)+1)","v":""},"","",{"$f":"VLOOKUP($BH9,'目標入力＞'!$Z$5:$AC$60,4,0)","v":""},"","","",null,null,{"$f":"IF(MAX($BP$1:$BP8)+1>MAX($BG$5:$BG$204),\"\",MAX($BP$1:$BP8)+1)","v":""},"","","","",""]
[{"$f":"ROW(取組一覧!$F9)","v":9},{"$f":"IF($C10=\"\",\"\",MAX($B$4:$B9)+1)","v":""},{"$f":"IF(COUNTIF($E10:$BB10,\"○\")>0,取組一覧!$B9,\"\")","v":""},null,"","","","","","","","","","","","","","","","","","","","","","","","","","","","","","","","","","","","","","","","","","","","","","","","","","",{"$f":"IF($C10<>\"\",取組一覧!$C9&\"\",\"\")","v":""},{"$f":"IF($C10<>\"\",取組一覧!$D9&\"\",\"\")","v":""},{"$f":"IF($C10<>\"\",取組一覧!$E9&\"\",\"\")","v":""},null,{"$f":"IF($BN10=\"\",\"\",MAX($BG$4:$BG9)+1)","v":""},"","",{"$f":"VLOOKUP($BH10,'目標入力＞'!$Z$5:$AC$60,4,0)","v":""},"","","",null,null,{"$f":"IF(MAX($BP$1:$BP9)+1>MAX($BG$5:$BG$204),\"\",MAX($BP$1:$BP9)+1)","v":""},"","","","",""]
[{"$f":"ROW(取組一覧!$F10)","v":10},{"$f":"IF($C11=\"\",\"\",MAX($B$4:$B10)+1)","v":""},{"$f":"IF(COUNTIF($E11:$BB11,\"○\")>0,取組一覧!$B10,\"\")","v":""},null,"","","","","","","","","","","","","","","","","","","","","","","","","","","","","","","","","","","","","","","","","","","","","","","","","","",{"$f":"IF($C11<>\"\",取組一覧!$C10&\"\",\"\")","v":""},{"$f":"IF($C11<>\"\",取組一覧!$D10&\"\",\"\")","v":""},{"$f":"IF($C11<>\"\",取組一覧!$E10&\"\",\"\")","v":""},null,{"$f":"IF($BN11=\"\",\"\",MAX($BG$4:$BG10)+1)","v":""},"","",{"$f":"VLOOKUP($BH11,'目標入力＞'!$Z$5:$AC$60,4,0)","v":""},"","","",null,null,{"$f":"IF(MAX($BP$1:$BP10)+1>MAX($BG$5:$BG$204),\"\",MAX($BP$1:$BP10)+1)","v":""},"","","","",""]
[{"$f":"ROW(取組一覧!$F11)","v":11},{"$f":"IF($C12=\"\",\"\",MAX($B$4:$B11)+1)","v":""},{"$f":"IF(COUNTIF($E12:$BB12,\"○\")>0,取組一覧!$B11,\"\")","v":""},null,"","","","","","","","","","","","","","","","","","","","","","","","","","","","","","","","","","","","","","","","","","","","","","","","","","",{"$f":"IF($C12<>\"\",取組一覧!$C11&\"\",\"\")","v":""},{"$f":"IF($C12<>\"\",取組一覧!$D11&\"\",\"\")","v":""},{"$f":"IF($C12<>\"\",取組一覧!$E11&\"\",\"\")","v":""},null,{"$f":"IF($BN12=\"\",\"\",MAX($BG$4:$BG11)+1)","v":""},"","",{"$f":"VLOOKUP($BH12,'目標入力＞'!$Z$5:$AC$60,4,0)","v":""},"","","",null,null,{"$f":"IF(MAX($BP$1:$BP11)+1>MAX($BG$5:$BG$204),\"\",MAX($BP$1:$BP11)+1)","v":""},"","","","",""]
[{"$f":"ROW(取組一覧!$F12)","v":12},{"$f":"IF($C13=\"\",\"\",MAX($B$4:$B12)+1)","v":""},{"$f":"IF(COUNTIF($E13:$BB13,\"○\")>0,取組一覧!$B12,\"\")","v":""},null,"","","","","","","","","","","","","","","","","","","","","","","","","","","","","","","","","","","","","","","","","","","","","","","","","","",{"$f":"IF($C13<>\"\",取組一覧!$C12&\"\",\"\")","v":""},{"$f":"IF($C13<>\"\",取組一覧!$D12&\"\",\"\")","v":""},{"$f":"IF($C13<>\"\",取組一覧!$E12&\"\",\"\")","v":""},null,{"$f":"IF($BN13=\"\",\"\",MAX($BG$4:$BG12)+1)","v":""},"","",{"$f":"VLOOKUP($BH13,'目標入力＞'!$Z$5:$AC$60,4,0)","v":""},"","","",null,null,{"$f":"IF(MAX($BP$1:$BP12)+1>MAX($BG$5:$BG$204),\"\",MAX($BP$1:$BP12)+1)","v":""},"","","","",""]
[{"$f":"ROW(取組一覧!$F13)","v":13},{"$f":"IF($C14=\"\",\"\",MAX($B$4:$B13)+1)","v":""},{"$f":"IF(COUNTIF($E14:$BB14,\"○\")>0,取組一覧!$B13,\"\")","v":""},null,"","","","","","","","","","","","","","","","","","","","","","","","","","","","","","","","","","","","","","","","","","","","","","","","","","",{"$f":"IF($C14<>\"\",取組一覧!$C13&\"\",\"\")","v":""},{"$f":"IF($C14<>\"\",取組一覧!$D13&\"\",\"\")","v":""},{"$f":"IF($C14<>\"\",取組一覧!$E13&\"\",\"\")","v":""},null,{"$f":"IF($BN14=\"\",\"\",MAX($BG$4:$BG13)+1)","v":""},"","",{"$f":"VLOOKUP($BH14,'目標入力＞'!$Z$5:$AC$60,4,0)","v":""},"","","",null,null,{"$f":"IF(MAX($BP$1:$BP13)+1>MAX($BG$5:$BG$204),\"\",MAX($BP$1:$BP13)+1)","v":""},"","","","",""]
[{"$f":"ROW(取組一覧!$F14)","v":14},{"$f":"IF($C15=\"\",\"\",MAX($B$4:$B14)+1)","v":""},{"$f":"IF(COUNTIF($E15:$BB15,\"○\")>0,取組一覧!$B14,\"\")","v":""},null,"","","","","","","","","","","","","","","","","","","","","","","","","","","","","","","","","","","","","","","","","","","","","","","","","","",{"$f":"IF($C15<>\"\",取組一覧!$C14&\"\",\"\")","v":""},{"$f":"IF($C15<>\"\",取組一覧!$D14&\"\",\"\")","v":""},{"$f":"IF($C15<>\"\",取組一覧!$E14&\"\",\"\")","v":""},null,{"$f":"IF($BN15=\"\",\"\",MAX($BG$4:$BG14)+1)","v":""},"","",{"$f":"VLOOKUP($BH15,'目標入力＞'!$Z$5:$AC$60,4,0)","v":""},"","","",null,null,{"$f":"IF(MAX($BP$1:$BP14)+1>MAX($BG$5:$BG$204),\"\",MAX($BP$1:$BP14)+1)","v":""},"","","","",""]
[{"$f":"ROW(取組一覧!$F15)","v":15},{"$f":"IF($C16=\"\",\"\",MAX($B$4:$B15)+1)","v":""},{"$f":"IF(COUNTIF($E16:$BB16,\"○\")>0,取組一覧!$B15,\"\")","v":""},null,"","","","","","","","","","","","","","","","","","","","","","","","","","","","","","","","","","","","","","","","","","","","","","","","","","",{"$f":"IF($C16<>\"\",取組一覧!$C15&\"\",\"\")","v":""},{"$f":"IF($C16<>\"\",取組一覧!$D15&\"\",\"\")","v":""},{"$f":"IF($C16<>\"\",取組一覧!$E15&\"\",\"\")","v":""},null,{"$f":"IF($BN16=\"\",\"\",MAX($BG$4:$BG15)+1)","v":""},"","",{"$f":"VLOOKUP($BH16,'目標入力＞'!$Z$5:$AC$60,4,0)","v":""},"","","",null,null,{"$f":"IF(MAX($BP$1:$BP15)+1>MAX($BG$5:$BG$204),\"\",MAX($BP$1:$BP15)+1)","v":""},"","","","",""]
[{"$f":"ROW(取組一覧!$F16)","v":16},{"$f":"IF($C17=\"\",\"\",MAX($B$4:$B16)+1)","v":""},{"$f":"IF(COUNTIF($E17:$BB17,\"○\")>0,取組一覧!$B16,\"\")","v":""},null,"","","","","","","","","","","","","","","","","","","","","","","","","","","","","","","","","","","","","","","","","","","","","","","","","","",{"$f":"IF($C17<>\"\",取組一覧!$C16&\"\",\"\")","v":""},{"$f":"IF($C17<>\"\",取組一覧!$D16&\"\",\"\")","v":""},{"$f":"IF($C17<>\"\",取組一覧!$E16&\"\",\"\")","v":""},null,{"$f":"IF($BN17=\"\",\"\",MAX($BG$4:$BG16)+1)","v":""},"","",{"$f":"VLOOKUP($BH17,'目標入力＞'!$Z$5:$AC$60,4,0)","v":""},"","","",null,null,{"$f":"IF(MAX($BP$1:$BP16)+1>MAX($BG$5:$BG$204),\"\",MAX($BP$1:$BP16)+1)","v":""},"","","","",""]
[{"$f":"ROW(取組一覧!$F17)","v":17},{"$f":"IF($C18=\"\",\"\",MAX($B$4:$B17)+1)","v":""},{"$f":"IF(COUNTIF($E18:$BB18,\"○\")>0,取組一覧!$B17,\"\")","v":""},null,"","","","","","","","","","","","","","","","","","","","","","","","","","","","","","","","","","","","","","","","","","","","","","","","","","",{"$f":"IF($C18<>\"\",取組一覧!$C17&\"\",\"\")","v":""},{"$f":"IF($C18<>\"\",取組一覧!$D17&\"\",\"\")","v":""},{"$f":"IF($C18<>\"\",取組一覧!$E17&\"\",\"\")","v":""},null,{"$f":"IF($BN18=\"\",\"\",MAX($BG$4:$BG17)+1)","v":""},"","",{"$f":"VLOOKUP($BH18,'目標入力＞'!$Z$5:$AC$60,4,0)","v":""},"","","",null,null,{"$f":"IF(MAX($BP$1:$BP17)+1>MAX($BG$5:$BG$204),\"\",MAX($BP$1:$BP17)+1)","v":""},"","","","",""]
[{"$f":"ROW(取組一覧!$F18)","v":18},{"$f":"IF($C19=\"\",\"\",MAX($B$4:$B18)+1)","v":""},{"$f":"IF(COUNTIF($E19:$BB19,\"○\")>0,取組一覧!$B18,\"\")","v":""},null,"","","","","","","","","","","","","","","","","","","","","","","","","","","","","","","","","","","","","","","","","","","","","","","","","","",{"$f":"IF($C19<>\"\",取組一覧!$C18&\"\",\"\")","v":""},{"$f":"IF($C19<>\"\",取組一覧!$D18&\"\",\"\")","v":""},{"$f":"IF($C19<>\"\",取組一覧!$E18&\"\",\"\")","v":""},null,{"$f":"IF($BN19=\"\",\"\",MAX($BG$4:$BG18)+1)","v":""},"","",{"$f":"VLOOKUP($BH19,'目標入力＞'!$Z$5:$AC$60,4,0)","v":""},"","","",null,null,{"$f":"IF(MAX($BP$1:$BP18)+1>MAX($BG$5:$BG$204),\"\",MAX($BP$1:$BP18)+1)","v":""},"","","","",""]
[{"$f":"ROW(取組一覧!$F19)","v":19},{"$f":"IF($C20=\"\",\"\",MAX($B$4:$B19)+1)","v":""},{"$f":"IF(COUNTIF($E20:$BB20,\"○\")>0,取組一覧!$B19,\"\")","v":""},null,"","","","","","","","","","","","","","","","",{"$f":"IF(OR(U$4=\"\",U$4>100),\"\",INDIRECT(ADDRESS($A20,U$2,1,1,\"取組一覧\"))&\"\")","v":""},"","","","","","","","","","","","","","","",{"$f":"IF(OR(AK$4=\"\",AK$4>100),\"\",INDIRECT(ADDRESS($A20,AK$2,1,1,\"取組一覧\"))&\"\")","v":""},"","","","","","","","","","","","","","","",{"$f":"IF(OR(BA$4=\"\",BA$4>100),\"\",INDIRECT(ADDRESS($A20,BA$2,1,1,\"取組一覧\"))&\"\")","v":""},"",{"$f":"IF($C20<>\"\",取組一覧!$C19&\"\",\"\")","v":""},{"$f":"IF($C20<>\"\",取組一覧!$D19&\"\",\"\")","v":""},{"$f":"IF($C20<>\"\",取組一覧!$E19&\"\",\"\")","v":""},null,{"$f":"IF($BN20=\"\",\"\",MAX($BG$4:$BG19)+1)","v":""},"","",{"$f":"VLOOKUP($BH20,'目標入力＞'!$Z$5:$AC$60,4,0)","v":""},"","","",null,null,{"$f":"IF(MAX($BP$1:$BP19)+1>MAX($BG$5:$BG$204),\"\",MAX($BP$1:$BP19)+1)","v":""},"","","","",""]
[{"$f":"ROW(取組一覧!$F20)","v":20},{"$f":"IF($C21=\"\",\"\",MAX($B$4:$B20)+1)","v":""},{"$f":"IF(COUNTIF($E21:$BB21,\"○\")>0,取組一覧!$B20,\"\")","v":""},null,"","","","","","","","","","","","","","","","","","","","","","","","","","","","","","","","","","","","","","","","","","","","","","","","","","",{"$f":"IF($C21<>\"\",取組一覧!$C20&\"\",\"\")","v":""},{"$f":"IF($C21<>\"\",取組一覧!$D20&\"\",\"\")","v":""},{"$f":"IF($C21<>\"\",取組一覧!$E20&\"\",\"\")","v":""},null,{"$f":"IF($BN21=\"\",\"\",MAX($BG$4:$BG20)+1)","v":""},"","",{"$f":"VLOOKUP($BH21,'目標入力＞'!$Z$5:$AC$60,4,0)","v":""},"","","",null,null,{"$f":"IF(MAX($BP$1:$BP20)+1>MAX($BG$5:$BG$204),\"\",MAX($BP$1:$BP20)+1)","v":""},"","","","",""]
[{"$f":"ROW(取組一覧!$F21)","v":21},{"$f":"IF($C22=\"\",\"\",MAX($B$4:$B21)+1)","v":""},{"$f":"IF(COUNTIF($E22:$BB22,\"○\")>0,取組一覧!$B21,\"\")","v":""},null,{"$f":"IF(OR(E$4=\"\",E$4>100),\"\",INDIRECT(ADDRESS($A22,E$2,1,1,\"取組一覧\"))&\"\")","v":""},"","","","","","","","","","","","","","","","","","","","","","","","","","","","","","","","","","","","","","","","","","","","","","","","","",{"$f":"IF($C22<>\"\",取組一覧!$C21&\"\",\"\")","v":""},{"$f":"IF($C22<>\"\",取組一覧!$D21&\"\",\"\")","v":""},{"$f":"IF($C22<>\"\",取組一覧!$E21&\"\",\"\")","v":""},null,{"$f":"IF($BN22=\"\",\"\",MAX($BG$4:$BG21)+1)","v":""},"","",{"$f":"VLOOKUP($BH22,'目標入力＞'!$Z$5:$AC$60,4,0)","v":""},"","","",null,null,{"$f":"IF(MAX($BP$1:$BP21)+1>MAX($BG$5:$BG$204),\"\",MAX($BP$1:$BP21)+1)","v":""},"","","","",""]
[{"$f":"ROW(取組一覧!$F22)","v":22},{"$f":"IF($C23=\"\",\"\",MAX($B$4:$B22)+1)","v":""},{"$f":"IF(COUNTIF($E23:$BB23,\"○\")>0,取組一覧!$B22,\"\")","v":""},null,"","","","","","","","","","","","","","","","","","","","","","","","","","","","","","","","","","","","","","","","","","","","","","","","","","",{"$f":"IF($C23<>\"\",取組一覧!$C22&\"\",\"\")","v":""},{"$f":"IF($C23<>\"\",取組一覧!$D22&\"\",\"\")","v":""},{"$f":"IF($C23<>\"\",取組一覧!$E22&\"\",\"\")","v":""},null,{"$f":"IF($BN23=\"\",\"\",MAX($BG$4:$BG22)+1)","v":""},"","",{"$f":"VLOOKUP($BH23,'目標入力＞'!$Z$5:$AC$60,4,0)","v":""},"","","",null,null,{"$f":"IF(MAX($BP$1:$BP22)+1>MAX($BG$5:$BG$204),\"\",MAX($BP$1:$BP22)+1)","v":""},"","","","",""]
[{"$f":"ROW(取組一覧!$F23)","v":23},{"$f":"IF($C24=\"\",\"\",MAX($B$4:$B23)+1)","v":""},{"$f":"IF(COUNTIF($E24:$BB24,\"○\")>0,取組一覧!$B23,\"\")","v":""},null,"","","","","","","","","","","","","","","","","","","","","","","","","","","","","","","","","","","","","","","","","","","","","","","","","","",{"$f":"IF($C24<>\"\",取組一覧!$C23&\"\",\"\")","v":""},{"$f":"IF($C24<>\"\",取組一覧!$D23&\"\",\"\")","v":""},{"$f":"IF($C24<>\"\",取組一覧!$E23&\"\",\"\")","v":""},null,{"$f":"IF($BN24=\"\",\"\",MAX($BG$4:$BG23)+1)","v":""},"","",{"$f":"VLOOKUP($BH24,'目標入力＞'!$Z$5:$AC$60,4,0)","v":""},"","","",null,null,{"$f":"IF(MAX($BP$1:$BP23)+1>MAX($BG$5:$BG$204),\"\",MAX($BP$1:$BP23)+1)","v":""},"","","","",""]
[{"$f":"ROW(取組一覧!$F24)","v":24},{"$f":"IF($C25=\"\",\"\",MAX($B$4:$B24)+1)","v":""},{"$f":"IF(COUNTIF($E25:$BB25,\"○\")>0,取組一覧!$B24,\"\")","v":""},null,"","","","","","","","","","","","","","","","","","","","","","","","","","","","","","","","","","","","","","","","","","","","","","","","","","",{"$f":"IF($C25<>\"\",取組一覧!$C24&\"\",\"\")","v":""},{"$f":"IF($C25<>\"\",取組一覧!$D24&\"\",\"\")","v":""},{"$f":"IF($C25<>\"\",取組一覧!$E24&\"\",\"\")","v":""},null,{"$f":"IF($BN25=\"\",\"\",MAX($BG$4:$BG24)+1)","v":""},"","",{"$f":"VLOOKUP($BH25,'目標入力＞'!$Z$5:$AC$60,4,0)","v":""},{"$f":"VLOOKUP($BI25,$C$5:$BE$109,BK$3-1,0)","v":""},"","",null,null,{"$f":"IF(MAX($BP$1:$BP24)+1>MAX($BG$5:$BG$204),\"\",MAX($BP$1:$BP24)+1)","v":""},"","","","",""]
[{"$f":"ROW(取組一覧!$F25)","v":25},{"$f":"IF($C26=\"\",\"\",MAX($B$4:$B25)+1)","v":""},{"$f":"IF(COUNTIF($E26:$BB26,\"○\")>0,取組一覧!$B25,\"\")","v":""},null,"","","","","","","","","","","","","","","","","","","","","","","","","","","","","","","","","","","","","","","","","","","","","","","","","","",{"$f":"IF($C26<>\"\",取組一覧!$C25&\"\",\"\")","v":""},{"$f":"IF($C26<>\"\",取組一覧!$D25&\"\",\"\")","v":""},{"$f":"IF($C26<>\"\",取組一覧!$E25&\"\",\"\")","v":""},null,{"$f":"IF($BN26=\"\",\"\",MAX($BG$4:$BG25)+1)","v":""},"","",{"$f":"VLOOKUP($BH26,'目標入力＞'!$Z$5:$AC$60,4,0)","v":""},"","","",null,null,{"$f":"IF(MAX($BP$1:$BP25)+1>MAX($BG$5:$BG$204),\"\",MAX($BP$1:$BP25)+1)","v":""},"","","","",""]
[{"$f":"ROW(取組一覧!$F26)","v":26},{"$f":"IF($C27=\"\",\"\",MAX($B$4:$B26)+1)","v":""},{"$f":"IF(COUNTIF($E27:$BB27,\"○\")>0,取組一覧!$B26,\"\")","v":""},null,"","","","","","","","","","","","","","","","","","","","","","","","","","","","","","","","","","","","","","","","","","","","","","","","","","",{"$f":"IF($C27<>\"\",取組一覧!$C26&\"\",\"\")","v":""},{"$f":"IF($C27<>\"\",取組一覧!$D26&\"\",\"\")","v":""},{"$f":"IF($C27<>\"\",取組一覧!$E26&\"\",\"\")","v":""},null,{"$f":"IF($BN27=\"\",\"\",MAX($BG$4:$BG26)+1)","v":""},"","",{"$f":"VLOOKUP($BH27,'目標入力＞'!$Z$5:$AC$60,4,0)","v":""},"","","",null,null,{"$f":"IF(MAX($BP$1:$BP26)+1>MAX($BG$5:$BG$204),\"\",MAX($BP$1:$BP26)+1)","v":""},"","","","",""]
[{"$f":"ROW(取組一覧!$F27)","v":27},{"$f":"IF($C28=\"\",\"\",MAX($B$4:$B27)+1)","v":""},{"$f":"IF(COUNTIF($E28:$BB28,\"○\")>0,取組一覧!$B27,\"\")","v":""},null,"","","","","","","","","","","","","","","","","","","","","","","","","","","","","","","","","","","","","","","","","","","","","","","","","","",{"$f":"IF($C28<>\"\",取組一覧!$C27&\"\",\"\")","v":""},{"$f":"IF($C28<>\"\",取組一覧!$D27&\"\",\"\")","v":""},{"$f":"IF($C28<>\"\",取組一覧!$E27&\"\",\"\")","v":""},null,{"$f":"IF($BN28=\"\",\"\",MAX($BG$4:$BG27)+1)","v":""},"","",{"$f":"VLOOKUP($BH28,'目標入力＞'!$Z$5:$AC$60,4,0)","v":""},"","","",null,null,{"$f":"IF(MAX($BP$1:$BP27)+1>MAX($BG$5:$BG$204),\"\",MAX($BP$1:$BP27)+1)","v":""},"","","","",""]
[{"$f":"ROW(取組一覧!$F28)","v":28},{"$f":"IF($C29=\"\",\"\",MAX($B$4:$B28)+1)","v":""},{"$f":"IF(COUNTIF($E29:$BB29,\"○\")>0,取組一覧!$B28,\"\")","v":""},null,"","","","","","","","","","","","","","","","","","","","","","","","","","","","","","","","","","","","","","","","","","","","","","","","","","",{"$f":"IF($C29<>\"\",取組一覧!$C28&\"\",\"\")","v":""},{"$f":"IF($C29<>\"\",取組一覧!$D28&\"\",\"\")","v":""},{"$f":"IF($C29<>\"\",取組一覧!$E28&\"\",\"\")","v":""},null,{"$f":"IF($BN29=\"\",\"\",MAX($BG$4:$BG28)+1)","v":""},"","",{"$f":"VLOOKUP($BH29,'目標入力＞'!$Z$5:$AC$60,4,0)","v":""},"","","",null,null,{"$f":"IF(MAX($BP$1:$BP28)+1>MAX($BG$5:$BG$204),\"\",MAX($BP$1:$BP28)+1)","v":""},"","","","",""]
[{"$f":"ROW(取組一覧!$F29)","v":29},{"$f":"IF($C30=\"\",\"\",MAX($B$4:$B29)+1)","v":""},{"$f":"IF(COUNTIF($E30:$BB30,\"○\")>0,取組一覧!$B29,\"\")","v":""},null,"","","","","","","","","","","","","","","","","","","","","","","","","","","","","","","","","","","","","","","","","","","","","","","","","","",{"$f":"IF($C30<>\"\",取組一覧!$C29&\"\",\"\")","v":""},{"$f":"IF($C30<>\"\",取組一覧!$D29&\"\",\"\")","v":""},{"$f":"IF($C30<>\"\",取組一覧!$E29&\"\",\"\")","v":""},null,{"$f":"IF($BN30=\"\",\"\",MAX($BG$4:$BG29)+1)","v":""},"","",{"$f":"VLOOKUP($BH30,'目標入力＞'!$Z$5:$AC$60,4,0)","v":""},"","","",null,null,{"$f":"IF(MAX($BP$1:$BP29)+1>MAX($BG$5:$BG$204),\"\",MAX($BP$1:$BP29)+1)","v":""},"","","","",""]
[{"$f":"ROW(取組一覧!$F30)","v":30},{"$f":"IF($C31=\"\",\"\",MAX($B$4:$B30)+1)","v":""},{"$f":"IF(COUNTIF($E31:$BB31,\"○\")>0,取組一覧!$B30,\"\")","v":""},null,"","","","","","","","","","","","","","","","","","","","","","","","","","","","","","","","","","","","","","","","","","","","","","","","","","",{"$f":"IF($C31<>\"\",取組一覧!$C30&\"\",\"\")","v":""},{"$f":"IF($C31<>\"\",取組一覧!$D30&\"\",\"\")","v":""},{"$f":"IF($C31<>\"\",取組一覧!$E30&\"\",\"\")","v":""},null,{"$f":"IF($BN31=\"\",\"\",MAX($BG$4:$BG30)+1)","v":""},"","",{"$f":"VLOOKUP($BH31,'目標入力＞'!$Z$5:$AC$60,4,0)","v":""},"","","",null,null,{"$f":"IF(MAX($BP$1:$BP30)+1>MAX($BG$5:$BG$204),\"\",MAX($BP$1:$BP30)+1)","v":""},"","","","",""]
[{"$f":"ROW(取組一覧!$F31)","v":31},{"$f":"IF($C32=\"\",\"\",MAX($B$4:$B31)+1)","v":""},{"$f":"IF(COUNTIF($E32:$BB32,\"○\")>0,取組一覧!$B31,\"\")","v":""},null,"","","","","","","","","","","","","","","","","","","","","","","","","","","","","","","","","","","","","","","","","","","","","","","","","","",{"$f":"IF($C32<>\"\",取組一覧!$C31&\"\",\"\")","v":""},{"$f":"IF($C32<>\"\",取組一覧!$D31&\"\",\"\")","v":""},{"$f":"IF($C32<>\"\",取組一覧!$E31&\"\",\"\")","v":""},null,{"$f":"IF($BN32=\"\",\"\",MAX($BG$4:$BG31)+1)","v":""},"","",{"$f":"VLOOKUP($BH32,'目標入力＞'!$Z$5:$AC$60,4,0)","v":""},"","","",null,null,{"$f":"IF(MAX($BP$1:$BP31)+1>MAX($BG$5:$BG$204),\"\",MAX($BP$1:$BP31)+1)","v":""},"","","","",""]
[{"$f":"ROW(取組一覧!$F32)","v":32},{"$f":"IF($C33=\"\",\"\",MAX($B$4:$B32)+1)","v":""},{"$f":"IF(COUNTIF($E33:$BB33,\"○\")>0,取組一覧!$B32,\"\")","v":""},null,"","","","","","","","","","","","","","","","","","","","","","","","","","","","","","","","","","","","","","","","","","","","","","","","","","",{"$f":"IF($C33<>\"\",取組一覧!$C32&\"\",\"\")","v":""},{"$f":"IF($C33<>\"\",取組一覧!$D32&\"\",\"\")","v":""},{"$f":"IF($C33<>\"\",取組一覧!$E32&\"\",\"\")","v":""},null,{"$f":"IF($BN33=\"\",\"\",MAX($BG$4:$BG32)+1)","v":""},"","",{"$f":"VLOOKUP($BH33,'目標入力＞'!$Z$5:$AC$60,4,0)","v":""},"","","",null,null,{"$f":"IF(MAX($BP$1:$BP32)+1>MAX($BG$5:$BG$204),\"\",MAX($BP$1:$BP32)+1)","v":""},"","","","",""]
[{"$f":"ROW(取組一覧!$F33)","v":33},{"$f":"IF($C34=\"\",\"\",MAX($B$4:$B33)+1)","v":""},{"$f":"IF(COUNTIF($E34:$BB34,\"○\")>0,取組一覧!$B33,\"\")","v":""},null,"","","","","","","","","","","","","","","","","","","","","","","","","","","","","","","","","","","","","","","","","","","","","","","","","","",{"$f":"IF($C34<>\"\",取組一覧!$C33&\"\",\"\")","v":""},{"$f":"IF($C34<>\"\",取組一覧!$D33&\"\",\"\")","v":""},{"$f":"IF($C34<>\"\",取組一覧!$E33&\"\",\"\")","v":""},null,{"$f":"IF($BN34=\"\",\"\",MAX($BG$4:$BG33)+1)","v":""},"","",{"$f":"VLOOKUP($BH34,'目標入力＞'!$Z$5:$AC$60,4,0)","v":""},"","","",null,null,{"$f":"IF(MAX($BP$1:$BP33)+1>MAX($BG$5:$BG$204),\"\",MAX($BP$1:$BP33)+1)","v":""},"","","","",""]
[{"$f":"ROW(取組一覧!$F34)","v":34},{"$f":"IF($C35=\"\",\"\",MAX($B$4:$B34)+1)","v":""},{"$f":"IF(COUNTIF($E35:$BB35,\"○\")>0,取組一覧!$B34,\"\")","v":""},null,"","","","","","","","","","","","","","","","","","","","","","","","","","","","","","","","","","","","","","","","","","","","","","","","","","",{"$f":"IF($C35<>\"\",取組一覧!$C34&\"\",\"\")","v":""},{"$f":"IF($C35<>\"\",取組一覧!$D34&\"\",\"\")","v":""},{"$f":"IF($C35<>\"\",取組一覧!$E34&\"\",\"\")","v":""},null,{"$f":"IF($BN35=\"\",\"\",MAX($BG$4:$BG34)+1)","v":""},"","",{"$f":"VLOOKUP($BH35,'目標入力＞'!$Z$5:$AC$60,4,0)","v":""},"","","",null,null,{"$f":"IF(MAX($BP$1:$BP34)+1>MAX($BG$5:$BG$204),\"\",MAX($BP$1:$BP34)+1)","v":""},"","","","",""]
[{"$f":"ROW(取組一覧!$F35)","v":35},{"$f":"IF($C36=\"\",\"\",MAX($B$4:$B35)+1)","v":""},{"$f":"IF(COUNTIF($E36:$BB36,\"○\")>0,取組一覧!$B35,\"\")","v":""},null,"","","","","","","","","","","","","","","","",{"$f":"IF(OR(U$4=\"\",U$4>100),\"\",INDIRECT(ADDRESS($A36,U$2,1,1,\"取組一覧\"))&\"\")","v":""},"","","","","","","","","","","","","","","",{"$f":"IF(OR(AK$4=\"\",AK$4>100),\"\",INDIRECT(ADDRESS($A36,AK$2,1,1,\"取組一覧\"))&\"\")","v":""},"","","","","","","","","","","","","","","","","",{"$f":"IF($C36<>\"\",取組一覧!$C35&\"\",\"\")","v":""},{"$f":"IF($C36<>\"\",取組一覧!$D35&\"\",\"\")","v":""},{"$f":"IF($C36<>\"\",取組一覧!$E35&\"\",\"\")","v":""},null,{"$f":"IF($BN36=\"\",\"\",MAX($BG$4:$BG35)+1)","v":""},"","",{"$f":"VLOOKUP($BH36,'目標入力＞'!$Z$5:$AC$60,4,0)","v":""},"","","",null,null,{"$f":"IF(MAX($BP$1:$BP35)+1>MAX($BG$5:$BG$204),\"\",MAX($BP$1:$BP35)+1)","v":""},"","","","",""]
[{"$f":"ROW(取組一覧!$F36)","v":36},{"$f":"IF($C37=\"\",\"\",MAX($B$4:$B36)+1)","v":""},{"$f":"IF(COUNTIF($E37:$BB37,\"○\")>0,取組一覧!$B36,\"\")","v":""},null,"","","","","","","","","","","","","","","",{"$f":"IF(OR(T$4=\"\",T$4>100),\"\",INDIRECT(ADDRESS($A37,T$2,1,1,\"取組一覧\"))&\"\")","v":""},"","","","","","","","","","","","","","","","","","","","","","","","","","","","","","","","","","",{"$f":"IF($C37<>\"\",取組一覧!$C36&\"\",\"\")","v":""},{"$f":"IF($C37<>\"\",取組一覧!$D36&\"\",\"\")","v":""},{"$f":"IF($C37<>\"\",取組一覧!$E36&\"\",\"\")","v":""},null,{"$f":"IF($BN37=\"\",\"\",MAX($BG$4:$BG36)+1)","v":""},{"$f":"$B144","v":""},{"$f":"$C144","v":""},{"$f":"VLOOKUP($BH37,'目標入力＞'!$Z$5:$AC$60,4,0)","v":""},"","","",null,null,{"$f":"IF(MAX($BP$1:$BP36)+1>MAX($BG$5:$BG$204),\"\",MAX($BP$1:$BP36)+1)","v":""},"","","","",""]
[{"$f":"ROW(取組一覧!$F37)","v":37},{"$f":"IF($C38=\"\",\"\",MAX($B$4:$B37)+1)","v":""},{"$f":"IF(COUNTIF($E38:$BB38,\"○\")>0,取組一覧!$B37,\"\")","v":""},null,{"$f":"IF(OR(E$4=\"\",E$4>100),\"\",INDIRECT(ADDRESS($A38,E$2,1,1,\"取組一覧\"))&\"\")","v":""},"","","","","","","","","","","","","","","","","","","","","","","","","","","","","","","","","","","","","","","","","","","","","","","","","",{"$f":"IF($C38<>\"\",取組一覧!$C37&\"\",\"\")","v":""},{"$f":"IF($C38<>\"\",取組一覧!$D37&\"\",\"\")","v":""},{"$f":"IF($C38<>\"\",取組一覧!$E37&\"\",\"\")","v":""},null,{"$f":"IF($BN38=\"\",\"\",MAX($BG$4:$BG37)+1)","v":""},"","",{"$f":"VLOOKUP($BH38,'目標入力＞'!$Z$5:$AC$60,4,0)","v":""},"","","",null,null,{"$f":"IF(MAX($BP$1:$BP37)+1>MAX($BG$5:$BG$204),\"\",MAX($BP$1:$BP37)+1)","v":""},"","","","",""]
[{"$f":"ROW(取組一覧!$F38)","v":38},{"$f":"IF($C39=\"\",\"\",MAX($B$4:$B38)+1)","v":""},{"$f":"IF(COUNTIF($E39:$BB39,\"○\")>0,取組一覧!$B38,\"\")","v":""},null,"","","","","","","","","","","","","","","","","","","","","","","","","","","","","","","","","","","","","","","","","","","","","","","","","","",{"$f":"IF($C39<>\"\",取組一覧!$C38&\"\",\"\")","v":""},{"$f":"IF($C39<>\"\",取組一覧!$D38&\"\",\"\")","v":""},{"$f":"IF($C39<>\"\",取組一覧!$E38&\"\",\"\")","v":""},null,{"$f":"IF($BN39=\"\",\"\",MAX($BG$4:$BG38)+1)","v":""},"","",{"$f":"VLOOKUP($BH39,'目標入力＞'!$Z$5:$AC$60,4,0)","v":""},"","","",null,null,{"$f":"IF(MAX($BP$1:$BP38)+1>MAX($BG$5:$BG$204),\"\",MAX($BP$1:$BP38)+1)","v":""},"","","","",""]
[{"$f":"ROW(取組一覧!$F39)","v":39},{"$f":"IF($C40=\"\",\"\",MAX($B$4:$B39)+1)","v":""},{"$f":"IF(COUNTIF($E40:$BB40,\"○\")>0,取組一覧!$B39,\"\")","v":""},null,"","","","","","","","","","","","","","","","","","","","","","","","","","","","","","","","","","","","","","","","","","","","","","","","",{"$f":"IF(OR(BA$4=\"\",BA$4>100),\"\",INDIRECT(ADDRESS($A40,BA$2,1,1,\"取組一覧\"))&\"\")","v":""},"",{"$f":"IF($C40<>\"\",取組一覧!$C39&\"\",\"\")","v":""},{"$f":"IF($C40<>\"\",取組一覧!$D39&\"\",\"\")","v":""},{"$f":"IF($C40<>\"\",取組一覧!$E39&\"\",\"\")","v":""},null,{"$f":"IF($BN40=\"\",\"\",MAX($BG$4:$BG39)+1)","v":""},"","",{"$f":"VLOOKUP($BH40,'目標入力＞'!$Z$5:$AC$60,4,0)","v":""},"","","",null,null,{"$f":"IF(MAX($BP$1:$BP39)+1>MAX($BG$5:$BG$204),\"\",MAX($BP$1:$BP39)+1)","v":""},"","","","",""]
[{"$f":"ROW(取組一覧!$F40)","v":40},{"$f":"IF($C41=\"\",\"\",MAX($B$4:$B40)+1)","v":""},{"$f":"IF(COUNTIF($E41:$BB41,\"○\")>0,取組一覧!$B40,\"\")","v":""},null,"","","","","","","","","","","","","","","","","","","","","","","","","","","","","","","","","","","","","","","","","","","","","","","","","","",{"$f":"IF($C41<>\"\",取組一覧!$C40&\"\",\"\")","v":""},{"$f":"IF($C41<>\"\",取組一覧!$D40&\"\",\"\")","v":""},{"$f":"IF($C41<>\"\",取組一覧!$E40&\"\",\"\")","v":""},null,{"$f":"IF($BN41=\"\",\"\",MAX($BG$4:$BG40)+1)","v":""},"","",{"$f":"VLOOKUP($BH41,'目標入力＞'!$Z$5:$AC$60,4,0)","v":""},"","","",null,null,{"$f":"IF(MAX($BP$1:$BP40)+1>MAX($BG$5:$BG$204),\"\",MAX($BP$1:$BP40)+1)","v":""},"","","","",""]
[{"$f":"ROW(取組一覧!$F41)","v":41},{"$f":"IF($C42=\"\",\"\",MAX($B$4:$B41)+1)","v":""},{"$f":"IF(COUNTIF($E42:$BB42,\"○\")>0,取組一覧!$B41,\"\")","v":""},null,"","","","","","","","","","","","","","","","","","","","","","","","","","","","","","","","","","","","","","","","","","","","","","","","","","",{"$f":"IF($C42<>\"\",取組一覧!$C41&\"\",\"\")","v":""},{"$f":"IF($C42<>\"\",取組一覧!$D41&\"\",\"\")","v":""},{"$f":"IF($C42<>\"\",取組一覧!$E41&\"\",\"\")","v":""},null,{"$f":"IF($BN42=\"\",\"\",MAX($BG$4:$BG41)+1)","v":""},"","",{"$f":"VLOOKUP($BH42,'目標入力＞'!$Z$5:$AC$60,4,0)","v":""},"","","",null,null,{"$f":"IF(MAX($BP$1:$BP41)+1>MAX($BG$5:$BG$204),\"\",MAX($BP$1:$BP41)+1)","v":""},"","","","",""]
[{"$f":"ROW(取組一覧!$F42)","v":42},{"$f":"IF($C43=\"\",\"\",MAX($B$4:$B42)+1)","v":""},{"$f":"IF(COUNTIF($E43:$BB43,\"○\")>0,取組一覧!$B42,\"\")","v":""},null,"","","","","","","","","","","","","","","","","","","","","","","","","","","","","","","","","","","","","","","","","","","","","","","","","","",{"$f":"IF($C43<>\"\",取組一覧!$C42&\"\",\"\")","v":""},{"$f":"IF($C43<>\"\",取組一覧!$D42&\"\",\"\")","v":""},{"$f":"IF($C43<>\"\",取組一覧!$E42&\"\",\"\")","v":""},null,{"$f":"IF($BN43=\"\",\"\",MAX($BG$4:$BG42)+1)","v":""},"","",{"$f":"VLOOKUP($BH43,'目標入力＞'!$Z$5:$AC$60,4,0)","v":""},"","","",null,null,{"$f":"IF(MAX($BP$1:$BP42)+1>MAX($BG$5:$BG$204),\"\",MAX($BP$1:$BP42)+1)","v":""},"","","","",""]
[{"$f":"ROW(取組一覧!$F43)","v":43},{"$f":"IF($C44=\"\",\"\",MAX($B$4:$B43)+1)","v":""},{"$f":"IF(COUNTIF($E44:$BB44,\"○\")>0,取組一覧!$B43,\"\")","v":""},null,"","","","","","","","","","","","","","","","","","","","","","","","","","","","","","","","","","","","","","","","","","","","","","","","","","",{"$f":"IF($C44<>\"\",取組一覧!$C43&\"\",\"\")","v":""},{"$f":"IF($C44<>\"\",取組一覧!$D43&\"\",\"\")","v":""},{"$f":"IF($C44<>\"\",取組一覧!$E43&\"\",\"\")","v":""},null,{"$f":"IF($BN44=\"\",\"\",MAX($BG$4:$BG43)+1)","v":""},"","",{"$f":"VLOOKUP($BH44,'目標入力＞'!$Z$5:$AC$60,4,0)","v":""},"","","",null,null,{"$f":"IF(MAX($BP$1:$BP43)+1>MAX($BG$5:$BG$204),\"\",MAX($BP$1:$BP43)+1)","v":""},"","","","",""]
[{"$f":"ROW(取組一覧!$F44)","v":44},{"$f":"IF($C45=\"\",\"\",MAX($B$4:$B44)+1)","v":""},{"$f":"IF(COUNTIF($E45:$BB45,\"○\")>0,取組一覧!$B44,\"\")","v":""},null,"","","","","","","","","","","","","","","","","","","","","","","","","","","","","","","","","","","","","","","","","","","","","","","","","","",{"$f":"IF($C45<>\"\",取組一覧!$C44&\"\",\"\")","v":""},{"$f":"IF($C45<>\"\",取組一覧!$D44&\"\",\"\")","v":""},{"$f":"IF($C45<>\"\",取組一覧!$E44&\"\",\"\")","v":""},null,{"$f":"IF($BN45=\"\",\"\",MAX($BG$4:$BG44)+1)","v":""},"","",{"$f":"VLOOKUP($BH45,'目標入力＞'!$Z$5:$AC$60,4,0)","v":""},{"$f":"VLOOKUP($BI45,$C$5:$BE$109,BK$3-1,0)","v":""},"","",null,null,{"$f":"IF(MAX($BP$1:$BP44)+1>MAX($BG$5:$BG$204),\"\",MAX($BP$1:$BP44)+1)","v":""},"","","","",""]
[{"$f":"ROW(取組一覧!$F45)","v":45},{"$f":"IF($C46=\"\",\"\",MAX($B$4:$B45)+1)","v":""},{"$f":"IF(COUNTIF($E46:$BB46,\"○\")>0,取組一覧!$B45,\"\")","v":""},null,"","","","","","","","","","","","","","","","","","","","","","","","","","","","","","","","","","","","","","","","","","","","","","","","","","",{"$f":"IF($C46<>\"\",取組一覧!$C45&\"\",\"\")","v":""},{"$f":"IF($C46<>\"\",取組一覧!$D45&\"\",\"\")","v":""},{"$f":"IF($C46<>\"\",取組一覧!$E45&\"\",\"\")","v":""},null,{"$f":"IF($BN46=\"\",\"\",MAX($BG$4:$BG45)+1)","v":""},"","",{"$f":"VLOOKUP($BH46,'目標入力＞'!$Z$5:$AC$60,4,0)","v":""},"","","",null,null,{"$f":"IF(MAX($BP$1:$BP45)+1>MAX($BG$5:$BG$204),\"\",MAX($BP$1:$BP45)+1)","v":""},"","","","",""]
[{"$f":"ROW(取組一覧!$F46)","v":46},{"$f":"IF($C47=\"\",\"\",MAX($B$4:$B46)+1)","v":""},{"$f":"IF(COUNTIF($E47:$BB47,\"○\")>0,取組一覧!$B46,\"\")","v":""},null,"","","","","","","","","","","","","","","","","","","","","","","","","","","","","","","","","","","","","","","","","","","","","","","","","","",{"$f":"IF($C47<>\"\",取組一覧!$C46&\"\",\"\")","v":""},{"$f":"IF($C47<>\"\",取組一覧!$D46&\"\",\"\")","v":""},{"$f":"IF($C47<>\"\",取組一覧!$E46&\"\",\"\")","v":""},null,{"$f":"IF($BN47=\"\",\"\",MAX($BG$4:$BG46)+1)","v":""},"","",{"$f":"VLOOKUP($BH47,'目標入力＞'!$Z$5:$AC$60,4,0)","v":""},"","","",null,null,{"$f":"IF(MAX($BP$1:$BP46)+1>MAX($BG$5:$BG$204),\"\",MAX($BP$1:$BP46)+1)","v":""},"","","","",""]
[{"$f":"ROW(取組一覧!$F47)","v":47},{"$f":"IF($C48=\"\",\"\",MAX($B$4:$B47)+1)","v":""},{"$f":"IF(COUNTIF($E48:$BB48,\"○\")>0,取組一覧!$B47,\"\")","v":""},null,"","","","","","","","","","","","","","","","","","","","","","","","","","","","","","","","","","","","","","","","","","","","","","","","","","",{"$f":"IF($C48<>\"\",取組一覧!$C47&\"\",\"\")","v":""},{"$f":"IF($C48<>\"\",取組一覧!$D47&\"\",\"\")","v":""},{"$f":"IF($C48<>\"\",取組一覧!$E47&\"\",\"\")","v":""},null,{"$f":"IF($BN48=\"\",\"\",MAX($BG$4:$BG47)+1)","v":""},"","",{"$f":"VLOOKUP($BH48,'目標入力＞'!$Z$5:$AC$60,4,0)","v":""},"","","",null,null,{"$f":"IF(MAX($BP$1:$BP47)+1>MAX($BG$5:$BG$204),\"\",MAX($BP$1:$BP47)+1)","v":""},"","","","",""]
[{"$f":"ROW(取組一覧!$F48)","v":48},{"$f":"IF($C49=\"\",\"\",MAX($B$4:$B48)+1)","v":""},{"$f":"IF(COUNTIF($E49:$BB49,\"○\")>0,取組一覧!$B48,\"\")","v":""},null,"","","","","","","","","","","","","","","","","","","","","","","","","","","","","","","","","","","","","","","","","","","","","","","","","","",{"$f":"IF($C49<>\"\",取組一覧!$C48&\"\",\"\")","v":""},{"$f":"IF($C49<>\"\",取組一覧!$D48&\"\",\"\")","v":""},{"$f":"IF($C49<>\"\",取組一覧!$E48&\"\",\"\")","v":""},null,{"$f":"IF($BN49=\"\",\"\",MAX($BG$4:$BG48)+1)","v":""},"","",{"$f":"VLOOKUP($BH49,'目標入力＞'!$Z$5:$AC$60,4,0)","v":""},"","","",null,null,{"$f":"IF(MAX($BP$1:$BP48)+1>MAX($BG$5:$BG$204),\"\",MAX($BP$1:$BP48)+1)","v":""},"","","","",""]
[{"$f":"ROW(取組一覧!$F49)","v":49},{"$f":"IF($C50=\"\",\"\",MAX($B$4:$B49)+1)","v":""},{"$f":"IF(COUNTIF($E50:$BB50,\"○\")>0,取組一覧!$B49,\"\")","v":""},null,"","","","","","","","","","","","","","","","","","","","","","","","","","","","","","","","","","","","","","","","","","","","","","","","","","",{"$f":"IF($C50<>\"\",取組一覧!$C49&\"\",\"\")","v":""},{"$f":"IF($C50<>\"\",取組一覧!$D49&\"\",\"\")","v":""},{"$f":"IF($C50<>\"\",取組一覧!$E49&\"\",\"\")","v":""},null,{"$f":"IF($BN50=\"\",\"\",MAX($BG$4:$BG49)+1)","v":""},"","",{"$f":"VLOOKUP($BH50,'目標入力＞'!$Z$5:$AC$60,4,0)","v":""},"","","",null,null,{"$f":"IF(MAX($BP$1:$BP49)+1>MAX($BG$5:$BG$204),\"\",MAX($BP$1:$BP49)+1)","v":""},"","","","",""]
[{"$f":"ROW(取組一覧!$F50)","v":50},{"$f":"IF($C51=\"\",\"\",MAX($B$4:$B50)+1)","v":""},{"$f":"IF(COUNTIF($E51:$BB51,\"○\")>0,取組一覧!$B50,\"\")","v":""},null,"","","","","","","","","","","","","","","","","","","","","","","","","","","","","","","",{"$f":"IF(OR(AJ$4=\"\",AJ$4>100),\"\",INDIRECT(ADDRESS($A51,AJ$2,1,1,\"取組一覧\"))&\"\")","v":""},"","","","","","","","","","","","","","","",{"$f":"IF(OR(AZ$4=\"\",AZ$4>100),\"\",INDIRECT(ADDRESS($A51,AZ$2,1,1,\"取組一覧\"))&\"\")","v":""},"","",{"$f":"IF($C51<>\"\",取組一覧!$C50&\"\",\"\")","v":""},{"$f":"IF($C51<>\"\",取組一覧!$D50&\"\",\"\")","v":""},{"$f":"IF($C51<>\"\",取組一覧!$E50&\"\",\"\")","v":""},null,{"$f":"IF($BN51=\"\",\"\",MAX($BG$4:$BG50)+1)","v":""},"","",{"$f":"VLOOKUP($BH51,'目標入力＞'!$Z$5:$AC$60,4,0)","v":""},"","","",null,null,{"$f":"IF(MAX($BP$1:$BP50)+1>MAX($BG$5:$BG$204),\"\",MAX($BP$1:$BP50)+1)","v":""},"","","","",""]
[{"$f":"ROW(取組一覧!$F51)","v":51},{"$f":"IF($C52=\"\",\"\",MAX($B$4:$B51)+1)","v":""},{"$f":"IF(COUNTIF($E52:$BB52,\"○\")>0,取組一覧!$B51,\"\")","v":""},null,"","","","","","","","","","","","","","","","","","","","","","","","","","","","","","","","","","","","","","","","","","","","","","","","","","",{"$f":"IF($C52<>\"\",取組一覧!$C51&\"\",\"\")","v":""},{"$f":"IF($C52<>\"\",取組一覧!$D51&\"\",\"\")","v":""},{"$f":"IF($C52<>\"\",取組一覧!$E51&\"\",\"\")","v":""},null,{"$f":"IF($BN52=\"\",\"\",MAX($BG$4:$BG51)+1)","v":""},"","",{"$f":"VLOOKUP($BH52,'目標入力＞'!$Z$5:$AC$60,4,0)","v":""},"","","",null,null,{"$f":"IF(MAX($BP$1:$BP51)+1>MAX($BG$5:$BG$204),\"\",MAX($BP$1:$BP51)+1)","v":""},"","","","",""]
[{"$f":"ROW(取組一覧!$F52)","v":52},{"$f":"IF($C53=\"\",\"\",MAX($B$4:$B52)+1)","v":""},{"$f":"IF(COUNTIF($E53:$BB53,\"○\")>0,取組一覧!$B52,\"\")","v":""},null,"","","","","","","","","","","","","","","","",{"$f":"IF(OR(U$4=\"\",U$4>100),\"\",INDIRECT(ADDRESS($A53,U$2,1,1,\"取組一覧\"))&\"\")","v":""},"","","","","","","","","","","","","","","","","","","","","","","","","","","","","","","","","",{"$f":"IF($C53<>\"\",取組一覧!$C52&\"\",\"\")","v":""},{"$f":"IF($C53<>\"\",取組一覧!$D52&\"\",\"\")","v":""},{"$f":"IF($C53<>\"\",取組一覧!$E52&\"\",\"\")","v":""},null,{"$f":"IF($BN53=\"\",\"\",MAX($BG$4:$BG52)+1)","v":""},"","",{"$f":"VLOOKUP($BH53,'目標入力＞'!$Z$5:$AC$60,4,0)","v":""},"","","",null,null,{"$f":"IF(MAX($BP$1:$BP52)+1>MAX($BG$5:$BG$204),\"\",MAX($BP$1:$BP52)+1)","v":""},"","","","",""]
[{"$f":"ROW(取組一覧!$F53)","v":53},{"$f":"IF($C54=\"\",\"\",MAX($B$4:$B53)+1)","v":""},{"$f":"IF(COUNTIF($E54:$BB54,\"○\")>0,取組一覧!$B53,\"\")","v":""},null,{"$f":"IF(OR(E$4=\"\",E$4>100),\"\",INDIRECT(ADDRESS($A54,E$2,1,1,\"取組一覧\"))&\"\")","v":""},"","","","","","","","","","","","","","","","","","","","","","","","","","","","","","","","","","","","","","","","","","","","","","","","","",{"$f":"IF($C54<>\"\",取組一覧!$C53&\"\",\"\")","v":""},{"$f":"IF($C54<>\"\",取組一覧!$D53&\"\",\"\")","v":""},{"$f":"IF($C54<>\"\",取組一覧!$E53&\"\",\"\")","v":""},null,{"$f":"IF($BN54=\"\",\"\",MAX($BG$4:$BG53)+1)","v":""},"","",{"$f":"VLOOKUP($BH54,'目標入力＞'!$Z$5:$AC$60,4,0)","v":""},"","","",null,null,{"$f":"IF(MAX($BP$1:$BP53)+1>MAX($BG$5:$BG$204),\"\",MAX($BP$1:$BP53)+1)","v":""},"","","","",""]
[{"$f":"ROW(取組一覧!$F54)","v":54},{"$f":"IF($C55=\"\",\"\",MAX($B$4:$B54)+1)","v":""},{"$f":"IF(COUNTIF($E55:$BB55,\"○\")>0,取組一覧!$B54,\"\")","v":""},null,"","","","","","","","","","","","","","","","","","","","","","","","","","","","","","","","","","","","","","","","","","","","","","","","","","",{"$f":"IF($C55<>\"\",取組一覧!$C54&\"\",\"\")","v":""},{"$f":"IF($C55<>\"\",取組一覧!$D54&\"\",\"\")","v":""},{"$f":"IF($C55<>\"\",取組一覧!$E54&\"\",\"\")","v":""},null,{"$f":"IF($BN55=\"\",\"\",MAX($BG$4:$BG54)+1)","v":""},"","",{"$f":"VLOOKUP($BH55,'目標入力＞'!$Z$5:$AC$60,4,0)","v":""},"","","",null,null,{"$f":"IF(MAX($BP$1:$BP54)+1>MAX($BG$5:$BG$204),\"\",MAX($BP$1:$BP54)+1)","v":""},"","","","",""]
[{"$f":"ROW(取組一覧!$F55)","v":55},{"$f":"IF($C56=\"\",\"\",MAX($B$4:$B55)+1)","v":""},{"$f":"IF(COUNTIF($E56:$BB56,\"○\")>0,取組一覧!$B55,\"\")","v":""},null,"","","","","","","","","","","","","","","","","","","","","","","","","","","","","","","","","","","","","","","","","","","","","","","","","","",{"$f":"IF($C56<>\"\",取組一覧!$C55&\"\",\"\")","v":""},{"$f":"IF($C56<>\"\",取組一覧!$D55&\"\",\"\")","v":""},{"$f":"IF($C56<>\"\",取組一覧!$E55&\"\",\"\")","v":""},null,{"$f":"IF($BN56=\"\",\"\",MAX($BG$4:$BG55)+1)","v":""},"","",{"$f":"VLOOKUP($BH56,'目標入力＞'!$Z$5:$AC$60,4,0)","v":""},"","","",null,null,{"$f":"IF(MAX($BP$1:$BP55)+1>MAX($BG$5:$BG$204),\"\",MAX($BP$1:$BP55)+1)","v":""},"","","","",""]
[{"$f":"ROW(取組一覧!$F56)","v":56},{"$f":"IF($C57=\"\",\"\",MAX($B$4:$B56)+1)","v":""},{"$f":"IF(COUNTIF($E57:$BB57,\"○\")>0,取組一覧!$B56,\"\")","v":""},null,"","","","","","","","","","","","","","","","","","","","","","","","","","","","","","","","","","","","","","","","","","","","","","","","","","",{"$f":"IF($C57<>\"\",取組一覧!$C56&\"\",\"\")","v":""},{"$f":"IF($C57<>\"\",取組一覧!$D56&\"\",\"\")","v":""},{"$f":"IF($C57<>\"\",取組一覧!$E56&\"\",\"\")","v":""},null,{"$f":"IF($BN57=\"\",\"\",MAX($BG$4:$BG56)+1)","v":""},"","",{"$f":"VLOOKUP($BH57,'目標入力＞'!$Z$5:$AC$60,4,0)","v":""},"","","",null,null,{"$f":"IF(MAX($BP$1:$BP56)+1>MAX($BG$5:$BG$204),\"\",MAX($BP$1:$BP56)+1)","v":""},"","","","",""]
[{"$f":"ROW(取組一覧!$F57)","v":57},{"$f":"IF($C58=\"\",\"\",MAX($B$4:$B57)+1)","v":""},{"$f":"IF(COUNTIF($E58:$BB58,\"○\")>0,取組一覧!$B57,\"\")","v":""},null,"","","","","","","","","","","","","","","","","","","","","","","","","","","","","","","","","","","","","","","","","","","","","","","","","","",{"$f":"IF($C58<>\"\",取組一覧!$C57&\"\",\"\")","v":""},{"$f":"IF($C58<>\"\",取組一覧!$D57&\"\",\"\")","v":""},{"$f":"IF($C58<>\"\",取組一覧!$E57&\"\",\"\")","v":""},null,{"$f":"IF($BN58=\"\",\"\",MAX($BG$4:$BG57)+1)","v":""},"","",{"$f":"VLOOKUP($BH58,'目標入力＞'!$Z$5:$AC$60,4,0)","v":""},"","","",null,null,{"$f":"IF(MAX($BP$1:$BP57)+1>MAX($BG$5:$BG$204),\"\",MAX($BP$1:$BP57)+1)","v":""},"","","","",""]
[{"$f":"ROW(取組一覧!$F58)","v":58},{"$f":"IF($C59=\"\",\"\",MAX($B$4:$B58)+1)","v":""},{"$f":"IF(COUNTIF($E59:$BB59,\"○\")>0,取組一覧!$B58,\"\")","v":""},null,"","","","","","","","","","","","","","","","","","","","","","","","","","","","","","","","","","","","","","","","","","","","","","","","","","",{"$f":"IF($C59<>\"\",取組一覧!$C58&\"\",\"\")","v":""},{"$f":"IF($C59<>\"\",取組一覧!$D58&\"\",\"\")","v":""},{"$f":"IF($C59<>\"\",取組一覧!$E58&\"\",\"\")","v":""},null,{"$f":"IF($BN59=\"\",\"\",MAX($BG$4:$BG58)+1)","v":""},"","",{"$f":"VLOOKUP($BH59,'目標入力＞'!$Z$5:$AC$60,4,0)","v":""},"","","",null,null,{"$f":"IF(MAX($BP$1:$BP58)+1>MAX($BG$5:$BG$204),\"\",MAX($BP$1:$BP58)+1)","v":""},"","","","",""]
[{"$f":"ROW(取組一覧!$F59)","v":59},{"$f":"IF($C60=\"\",\"\",MAX($B$4:$B59)+1)","v":""},{"$f":"IF(COUNTIF($E60:$BB60,\"○\")>0,取組一覧!$B59,\"\")","v":""},null,"","","","","","","","","","","","","","","","","","","","","","","","","","","","","","","","","","","","","","","","","","","","","","","","","","",{"$f":"IF($C60<>\"\",取組一覧!$C59&\"\",\"\")","v":""},{"$f":"IF($C60<>\"\",取組一覧!$D59&\"\",\"\")","v":""},{"$f":"IF($C60<>\"\",取組一覧!$E59&\"\",\"\")","v":""},null,{"$f":"IF($BN60=\"\",\"\",MAX($BG$4:$BG59)+1)","v":""},"","",{"$f":"VLOOKUP($BH60,'目標入力＞'!$Z$5:$AC$60,4,0)","v":""},"","","",null,null,{"$f":"IF(MAX($BP$1:$BP59)+1>MAX($BG$5:$BG$204),\"\",MAX($BP$1:$BP59)+1)","v":""},"","","","",""]
[{"$f":"ROW(取組一覧!$F60)","v":60},{"$f":"IF($C61=\"\",\"\",MAX($B$4:$B60)+1)","v":""},{"$f":"IF(COUNTIF($E61:$BB61,\"○\")>0,取組一覧!$B60,\"\")","v":""},null,"","","","","","","","","","","","","","","","","","","","","","","","","","","","","","","","","","","","","","","","","","","","","","","","","","",{"$f":"IF($C61<>\"\",取組一覧!$C60&\"\",\"\")","v":""},{"$f":"IF($C61<>\"\",取組一覧!$D60&\"\",\"\")","v":""},{"$f":"IF($C61<>\"\",取組一覧!$E60&\"\",\"\")","v":""},null,{"$f":"IF($BN61=\"\",\"\",MAX($BG$4:$BG60)+1)","v":""},"","",{"$f":"VLOOKUP($BH61,'目標入力＞'!$Z$5:$AC$60,4,0)","v":""},"","","",null,null,{"$f":"IF(MAX($BP$1:$BP60)+1>MAX($BG$5:$BG$204),\"\",MAX($BP$1:$BP60)+1)","v":""},"","","","",""]
[{"$f":"ROW(取組一覧!$F61)","v":61},{"$f":"IF($C62=\"\",\"\",MAX($B$4:$B61)+1)","v":""},{"$f":"IF(COUNTIF($E62:$BB62,\"○\")>0,取組一覧!$B61,\"\")","v":""},null,"","","","","","","","","","","","","","","","","","","","","","","","","","","","","","","","","","","","","","","","","","","","","","","","","","",{"$f":"IF($C62<>\"\",取組一覧!$C61&\"\",\"\")","v":""},{"$f":"IF($C62<>\"\",取組一覧!$D61&\"\",\"\")","v":""},{"$f":"IF($C62<>\"\",取組一覧!$E61&\"\",\"\")","v":""},null,{"$f":"IF($BN62=\"\",\"\",MAX($BG$4:$BG61)+1)","v":""},"","",{"$f":"VLOOKUP($BH62,'目標入力＞'!$Z$5:$AC$60,4,0)","v":""},"","","",null,null,{"$f":"IF(MAX($BP$1:$BP61)+1>MAX($BG$5:$BG$204),\"\",MAX($BP$1:$BP61)+1)","v":""},"","","","",""]
[{"$f":"ROW(取組一覧!$F62)","v":62},{"$f":"IF($C63=\"\",\"\",MAX($B$4:$B62)+1)","v":""},{"$f":"IF(COUNTIF($E63:$BB63,\"○\")>0,取組一覧!$B62,\"\")","v":""},null,"","","","","","","","","","","","","","","","","","","","","","","","","","","","","","","","","","","","","","","","","","","","","","","","","","",{"$f":"IF($C63<>\"\",取組一覧!$C62&\"\",\"\")","v":""},{"$f":"IF($C63<>\"\",取組一覧!$D62&\"\",\"\")","v":""},{"$f":"IF($C63<>\"\",取組一覧!$E62&\"\",\"\")","v":""},null,{"$f":"IF($BN63=\"\",\"\",MAX($BG$4:$BG62)+1)","v":""},"","",{"$f":"VLOOKUP($BH63,'目標入力＞'!$Z$5:$AC$60,4,0)","v":""},"","","",null,null,{"$f":"IF(MAX($BP$1:$BP62)+1>MAX($BG$5:$BG$204),\"\",MAX($BP$1:$BP62)+1)","v":""},"","","","",""]
[{"$f":"ROW(取組一覧!$F63)","v":63},{"$f":"IF($C64=\"\",\"\",MAX($B$4:$B63)+1)","v":""},{"$f":"IF(COUNTIF($E64:$BB64,\"○\")>0,取組一覧!$B63,\"\")","v":""},null,"","","","","","","","","","","","","","","","","","","","","","","","","","","","","","","","","","","","","","","","","","","","","","","","","","",{"$f":"IF($C64<>\"\",取組一覧!$C63&\"\",\"\")","v":""},{"$f":"IF($C64<>\"\",取組一覧!$D63&\"\",\"\")","v":""},{"$f":"IF($C64<>\"\",取組一覧!$E63&\"\",\"\")","v":""},null,{"$f":"IF($BN64=\"\",\"\",MAX($BG$4:$BG63)+1)","v":""},"","",{"$f":"VLOOKUP($BH64,'目標入力＞'!$Z$5:$AC$60,4,0)","v":""},"","","",null,null,{"$f":"IF(MAX($BP$1:$BP63)+1>MAX($BG$5:$BG$204),\"\",MAX($BP$1:$BP63)+1)","v":""},"","","","",""]
[{"$f":"ROW(取組一覧!$F64)","v":64},{"$f":"IF($C65=\"\",\"\",MAX($B$4:$B64)+1)","v":""},{"$f":"IF(COUNTIF($E65:$BB65,\"○\")>0,取組一覧!$B64,\"\")","v":""},null,"","","","","","","","","","","","","","","","","","","","","","","","","","","","","","","","","","","","","","","","","","","","","","","","","","",{"$f":"IF($C65<>\"\",取組一覧!$C64&\"\",\"\")","v":""},{"$f":"IF($C65<>\"\",取組一覧!$D64&\"\",\"\")","v":""},{"$f":"IF($C65<>\"\",取組一覧!$E64&\"\",\"\")","v":""},null,{"$f":"IF($BN65=\"\",\"\",MAX($BG$4:$BG64)+1)","v":""},"","",{"$f":"VLOOKUP($BH65,'目標入力＞'!$Z$5:$AC$60,4,0)","v":""},{"$f":"VLOOKUP($BI65,$C$5:$BE$109,BK$3-1,0)","v":""},"","",null,null,{"$f":"IF(MAX($BP$1:$BP64)+1>MAX($BG$5:$BG$204),\"\",MAX($BP$1:$BP64)+1)","v":""},"","","","",""]
[{"$f":"ROW(取組一覧!$F65)","v":65},{"$f":"IF($C66=\"\",\"\",MAX($B$4:$B65)+1)","v":""},{"$f":"IF(COUNTIF($E66:$BB66,\"○\")>0,取組一覧!$B65,\"\")","v":""},null,"","","","","","","","","","","","","","","","","","","","","","","","","","","","","","","","","","","","","","","","","","","","","","","","","","",{"$f":"IF($C66<>\"\",取組一覧!$C65&\"\",\"\")","v":""},{"$f":"IF($C66<>\"\",取組一覧!$D65&\"\",\"\")","v":""},{"$f":"IF($C66<>\"\",取組一覧!$E65&\"\",\"\")","v":""},null,{"$f":"IF($BN66=\"\",\"\",MAX($BG$4:$BG65)+1)","v":""},"","",{"$f":"VLOOKUP($BH66,'目標入力＞'!$Z$5:$AC$60,4,0)","v":""},"","","",null,null,{"$f":"IF(MAX($BP$1:$BP65)+1>MAX($BG$5:$BG$204),\"\",MAX($BP$1:$BP65)+1)","v":""},"","","","",""]
[{"$f":"ROW(取組一覧!$F66)","v":66},{"$f":"IF($C67=\"\",\"\",MAX($B$4:$B66)+1)","v":""},{"$f":"IF(COUNTIF($E67:$BB67,\"○\")>0,取組一覧!$B66,\"\")","v":""},null,"","","","","","","","","","","","","","","","","","","","","","","","","","","","","","","","",{"$f":"IF(OR(AK$4=\"\",AK$4>100),\"\",INDIRECT(ADDRESS($A67,AK$2,1,1,\"取組一覧\"))&\"\")","v":""},"","","","","","","","","","","","","","","","","",{"$f":"IF($C67<>\"\",取組一覧!$C66&\"\",\"\")","v":""},{"$f":"IF($C67<>\"\",取組一覧!$D66&\"\",\"\")","v":""},{"$f":"IF($C67<>\"\",取組一覧!$E66&\"\",\"\")","v":""},null,{"$f":"IF($BN67=\"\",\"\",MAX($BG$4:$BG66)+1)","v":""},"","",{"$f":"VLOOKUP($BH67,'目標入力＞'!$Z$5:$AC$60,4,0)","v":""},"","","",null,null,{"$f":"IF(MAX($BP$1:$BP66)+1>MAX($BG$5:$BG$204),\"\",MAX($BP$1:$BP66)+1)","v":""},"","","","",""]
[{"$f":"ROW(取組一覧!$F67)","v":67},{"$f":"IF($C68=\"\",\"\",MAX($B$4:$B67)+1)","v":""},{"$f":"IF(COUNTIF($E68:$BB68,\"○\")>0,取組一覧!$B67,\"\")","v":""},null,"","","","","","","","","","","","","","","","","","","","","","","","","","","","","","","","","","","","","","","","","","","","","","","","","","",{"$f":"IF($C68<>\"\",取組一覧!$C67&\"\",\"\")","v":""},{"$f":"IF($C68<>\"\",取組一覧!$D67&\"\",\"\")","v":""},{"$f":"IF($C68<>\"\",取組一覧!$E67&\"\",\"\")","v":""},null,{"$f":"IF($BN68=\"\",\"\",MAX($BG$4:$BG67)+1)","v":""},"","",{"$f":"VLOOKUP($BH68,'目標入力＞'!$Z$5:$AC$60,4,0)","v":""},"","","",null,null,{"$f":"IF(MAX($BP$1:$BP67)+1>MAX($BG$5:$BG$204),\"\",MAX($BP$1:$BP67)+1)","v":""},"","","","",""]
[{"$f":"ROW(取組一覧!$F68)","v":68},{"$f":"IF($C69=\"\",\"\",MAX($B$4:$B68)+1)","v":""},{"$f":"IF(COUNTIF($E69:$BB69,\"○\")>0,取組一覧!$B68,\"\")","v":""},null,"","","","","","","","","","","","","","","",{"$f":"IF(OR(T$4=\"\",T$4>100),\"\",INDIRECT(ADDRESS($A69,T$2,1,1,\"取組一覧\"))&\"\")","v":""},"","","","","","","","","","","","","","","",{"$f":"IF(OR(AJ$4=\"\",AJ$4>100),\"\",INDIRECT(ADDRESS($A69,AJ$2,1,1,\"取組一覧\"))&\"\")","v":""},"","","","","","","","","","","","","","","","","","",{"$f":"IF($C69<>\"\",取組一覧!$C68&\"\",\"\")","v":""},{"$f":"IF($C69<>\"\",取組一覧!$D68&\"\",\"\")","v":""},{"$f":"IF($C69<>\"\",取組一覧!$E68&\"\",\"\")","v":""},null,{"$f":"IF($BN69=\"\",\"\",MAX($BG$4:$BG68)+1)","v":""},{"$f":"$B176","v":""},{"$f":"$C176","v":""},{"$f":"VLOOKUP($BH69,'目標入力＞'!$Z$5:$AC$60,4,0)","v":""},"","","",null,null,{"$f":"IF(MAX($BP$1:$BP68)+1>MAX($BG$5:$BG$204),\"\",MAX($BP$1:$BP68)+1)","v":""},"","","","",""]
[{"$f":"ROW(取組一覧!$F69)","v":69},{"$f":"IF($C70=\"\",\"\",MAX($B$4:$B69)+1)","v":""},{"$f":"IF(COUNTIF($E70:$BB70,\"○\")>0,取組一覧!$B69,\"\")","v":""},null,{"$f":"IF(OR(E$4=\"\",E$4>100),\"\",INDIRECT(ADDRESS($A70,E$2,1,1,\"取組一覧\"))&\"\")","v":""},"","","","","","","","","","","","","","","","","","","","","","","","","","","","","","","","","","","","","","","","","","","","","","","","","",{"$f":"IF($C70<>\"\",取組一覧!$C69&\"\",\"\")","v":""},{"$f":"IF($C70<>\"\",取組一覧!$D69&\"\",\"\")","v":""},{"$f":"IF($C70<>\"\",取組一覧!$E69&\"\",\"\")","v":""},null,{"$f":"IF($BN70=\"\",\"\",MAX($BG$4:$BG69)+1)","v":""},"","",{"$f":"VLOOKUP($BH70,'目標入力＞'!$Z$5:$AC$60,4,0)","v":""},"","","",null,null,{"$f":"IF(MAX($BP$1:$BP69)+1>MAX($BG$5:$BG$204),\"\",MAX($BP$1:$BP69)+1)","v":""},{"$f":"IF($BP70=\"\",\"\",VLOOKUP($BP70,$BG$5:$BK$204,2,0))","v":""},{"$f":"IF($BP70=\"\",\"\",VLOOKUP($BP70,$BG$5:$BK$204,3,0))","v":""},{"$f":"IF($BP70=\"\",\"\",VLOOKUP($BP70,$BG$5:$BL$204,5,0))","v":""},{"$f":"IF($BP70=\"\",\"\",VLOOKUP($BP70,$BG$5:$BM$204,6,0))","v":""},{"$f":"IF($BP70=\"\",\"\",VLOOKUP($BP70,$BG$5:$BM$204,7,0))","v":""}]
[{"$f":"ROW(取組一覧!$F70)","v":70},{"$f":"IF($C71=\"\",\"\",MAX($B$4:$B70)+1)","v":""},{"$f":"IF(COUNTIF($E71:$BB71,\"○\")>0,取組一覧!$B70,\"\")","v":""},null,"","","","","","","","","","","","","","","","","","","","","","","","","","","","","","","","","","","","","","","","","","","","","","","","",{"$f":"IF(OR(BA$4=\"\",BA$4>100),\"\",INDIRECT(ADDRESS($A71,BA$2,1,1,\"取組一覧\"))&\"\")","v":""},"",{"$f":"IF($C71<>\"\",取組一覧!$C70&\"\",\"\")","v":""},{"$f":"IF($C71<>\"\",取組一覧!$D70&\"\",\"\")","v":""},{"$f":"IF($C71<>\"\",取組一覧!$E70&\"\",\"\")","v":""},null,{"$f":"IF($BN71=\"\",\"\",MAX($BG$4:$BG70)+1)","v":""},"","",{"$f":"VLOOKUP($BH71,'目標入力＞'!$Z$5:$AC$60,4,0)","v":""},"","","",null,null,{"$f":"IF(MAX($BP$1:$BP70)+1>MAX($BG$5:$BG$204),\"\",MAX($BP$1:$BP70)+1)","v":""},"","","","",""]
[{"$f":"ROW(取組一覧!$F71)","v":71},{"$f":"IF($C72=\"\",\"\",MAX($B$4:$B71)+1)","v":""},{"$f":"IF(COUNTIF($E72:$BB72,\"○\")>0,取組一覧!$B71,\"\")","v":""},null,"","","","","","","","","","","","","","","","","","","","","","","","","","","","","","","","","","","","","","","","","","","","","","","","","","",{"$f":"IF($C72<>\"\",取組一覧!$C71&\"\",\"\")","v":""},{"$f":"IF($C72<>\"\",取組一覧!$D71&\"\",\"\")","v":""},{"$f":"IF($C72<>\"\",取組一覧!$E71&\"\",\"\")","v":""},null,{"$f":"IF($BN72=\"\",\"\",MAX($BG$4:$BG71)+1)","v":""},"","",{"$f":"VLOOKUP($BH72,'目標入力＞'!$Z$5:$AC$60,4,0)","v":""},"","","",null,null,{"$f":"IF(MAX($BP$1:$BP71)+1>MAX($BG$5:$BG$204),\"\",MAX($BP$1:$BP71)+1)","v":""},"","","","",""]
[{"$f":"ROW(取組一覧!$F72)","v":72},{"$f":"IF($C73=\"\",\"\",MAX($B$4:$B72)+1)","v":""},{"$f":"IF(COUNTIF($E73:$BB73,\"○\")>0,取組一覧!$B72,\"\")","v":""},null,"","","","","","","","","","","","","","","","","","","","","","","","","","","","","","","","","","","","","","","","","","","","","","","","","","",{"$f":"IF($C73<>\"\",取組一覧!$C72&\"\",\"\")","v":""},{"$f":"IF($C73<>\"\",取組一覧!$D72&\"\",\"\")","v":""},{"$f":"IF($C73<>\"\",取組一覧!$E72&\"\",\"\")","v":""},null,{"$f":"IF($BN73=\"\",\"\",MAX($BG$4:$BG72)+1)","v":""},"","",{"$f":"VLOOKUP($BH73,'目標入力＞'!$Z$5:$AC$60,4,0)","v":""},"","","",null,null,{"$f":"IF(MAX($BP$1:$BP72)+1>MAX($BG$5:$BG$204),\"\",MAX($BP$1:$BP72)+1)","v":""},"","","","",""]
[{"$f":"ROW(取組一覧!$F73)","v":73},{"$f":"IF($C74=\"\",\"\",MAX($B$4:$B73)+1)","v":""},{"$f":"IF(COUNTIF($E74:$BB74,\"○\")>0,取組一覧!$B73,\"\")","v":""},null,"","","","","","","","","","","","","","","","","","","","","","","","","","","","","","","","","","","","","","","","","","","","","","","","","","",{"$f":"IF($C74<>\"\",取組一覧!$C73&\"\",\"\")","v":""},{"$f":"IF($C74<>\"\",取組一覧!$D73&\"\",\"\")","v":""},{"$f":"IF($C74<>\"\",取組一覧!$E73&\"\",\"\")","v":""},null,{"$f":"IF($BN74=\"\",\"\",MAX($BG$4:$BG73)+1)","v":""},"","",{"$f":"VLOOKUP($BH74,'目標入力＞'!$Z$5:$AC$60,4,0)","v":""},"","","",null,null,{"$f":"IF(MAX($BP$1:$BP73)+1>MAX($BG$5:$BG$204),\"\",MAX($BP$1:$BP73)+1)","v":""},"","","","",""]
[{"$f":"ROW(取組一覧!$F74)","v":74},{"$f":"IF($C75=\"\",\"\",MAX($B$4:$B74)+1)","v":""},{"$f":"IF(COUNTIF($E75:$BB75,\"○\")>0,取組一覧!$B74,\"\")","v":""},null,"","","","","","","","","","","","","","","","","","","","","","","","","","","","","","","","","","","","","","","","","","","","","","","","","","",{"$f":"IF($C75<>\"\",取組一覧!$C74&\"\",\"\")","v":""},{"$f":"IF($C75<>\"\",取組一覧!$D74&\"\",\"\")","v":""},{"$f":"IF($C75<>\"\",取組一覧!$E74&\"\",\"\")","v":""},null,{"$f":"IF($BN75=\"\",\"\",MAX($BG$4:$BG74)+1)","v":""},"","",{"$f":"VLOOKUP($BH75,'目標入力＞'!$Z$5:$AC$60,4,0)","v":""},"","","",null,null,{"$f":"IF(MAX($BP$1:$BP74)+1>MAX($BG$5:$BG$204),\"\",MAX($BP$1:$BP74)+1)","v":""},"","","","",""]
[{"$f":"ROW(取組一覧!$F75)","v":75},{"$f":"IF($C76=\"\",\"\",MAX($B$4:$B75)+1)","v":""},{"$f":"IF(COUNTIF($E76:$BB76,\"○\")>0,取組一覧!$B75,\"\")","v":""},null,"","","","","","","","","","","","","","","","","","","","","","","","","","","","","","","","","","","","","","","","","","","","","","","","","","",{"$f":"IF($C76<>\"\",取組一覧!$C75&\"\",\"\")","v":""},{"$f":"IF($C76<>\"\",取組一覧!$D75&\"\",\"\")","v":""},{"$f":"IF($C76<>\"\",取組一覧!$E75&\"\",\"\")","v":""},null,{"$f":"IF($BN76=\"\",\"\",MAX($BG$4:$BG75)+1)","v":""},"","",{"$f":"VLOOKUP($BH76,'目標入力＞'!$Z$5:$AC$60,4,0)","v":""},"","","",null,null,{"$f":"IF(MAX($BP$1:$BP75)+1>MAX($BG$5:$BG$204),\"\",MAX($BP$1:$BP75)+1)","v":""},"","","","",""]
[{"$f":"ROW(取組一覧!$F76)","v":76},{"$f":"IF($C77=\"\",\"\",MAX($B$4:$B76)+1)","v":""},{"$f":"IF(COUNTIF($E77:$BB77,\"○\")>0,取組一覧!$B76,\"\")","v":""},null,"","","","","","","","","","","","","","","","","","","","","","","","","","","","","","","","","","","","","","","","","","","","","","","","","","",{"$f":"IF($C77<>\"\",取組一覧!$C76&\"\",\"\")","v":""},{"$f":"IF($C77<>\"\",取組一覧!$D76&\"\",\"\")","v":""},{"$f":"IF($C77<>\"\",取組一覧!$E76&\"\",\"\")","v":""},null,{"$f":"IF($BN77=\"\",\"\",MAX($BG$4:$BG76)+1)","v":""},"","",{"$f":"VLOOKUP($BH77,'目標入力＞'!$Z$5:$AC$60,4,0)","v":""},"","","",null,null,{"$f":"IF(MAX($BP$1:$BP76)+1>MAX($BG$5:$BG$204),\"\",MAX($BP$1:$BP76)+1)","v":""},"","","","",""]
[{"$f":"ROW(取組一覧!$F77)","v":77},{"$f":"IF($C78=\"\",\"\",MAX($B$4:$B77)+1)","v":""},{"$f":"IF(COUNTIF($E78:$BB78,\"○\")>0,取組一覧!$B77,\"\")","v":""},null,"","","","","","","","","","","","","","","","","","","","","","","","","","","","","","","","","","","","","","","","","","","","","","","","","","",{"$f":"IF($C78<>\"\",取組一覧!$C77&\"\",\"\")","v":""},{"$f":"IF($C78<>\"\",取組一覧!$D77&\"\",\"\")","v":""},{"$f":"IF($C78<>\"\",取組一覧!$E77&\"\",\"\")","v":""},null,{"$f":"IF($BN78=\"\",\"\",MAX($BG$4:$BG77)+1)","v":""},"","",{"$f":"VLOOKUP($BH78,'目標入力＞'!$Z$5:$AC$60,4,0)","v":""},"","","",null,null,{"$f":"IF(MAX($BP$1:$BP77)+1>MAX($BG$5:$BG$204),\"\",MAX($BP$1:$BP77)+1)","v":""},"","","","",""]
[{"$f":"ROW(取組一覧!$F78)","v":78},{"$f":"IF($C79=\"\",\"\",MAX($B$4:$B78)+1)","v":""},{"$f":"IF(COUNTIF($E79:$BB79,\"○\")>0,取組一覧!$B78,\"\")","v":""},null,"","","","","","","","","","","","","","","","","","","","","","","","","","","","","","","","","","","","","","","","","","","","","","","","","","",{"$f":"IF($C79<>\"\",取組一覧!$C78&\"\",\"\")","v":""},{"$f":"IF($C79<>\"\",取組一覧!$D78&\"\",\"\")","v":""},{"$f":"IF($C79<>\"\",取組一覧!$E78&\"\",\"\")","v":""},null,{"$f":"IF($BN79=\"\",\"\",MAX($BG$4:$BG78)+1)","v":""},"","",{"$f":"VLOOKUP($BH79,'目標入力＞'!$Z$5:$AC$60,4,0)","v":""},"","","",null,null,{"$f":"IF(MAX($BP$1:$BP78)+1>MAX($BG$5:$BG$204),\"\",MAX($BP$1:$BP78)+1)","v":""},"","","","",""]
[{"$f":"ROW(取組一覧!$F79)","v":79},{"$f":"IF($C80=\"\",\"\",MAX($B$4:$B79)+1)","v":""},{"$f":"IF(COUNTIF($E80:$BB80,\"○\")>0,取組一覧!$B79,\"\")","v":""},null,"","","","","","","","","","","","","","","","","","","","","","","","","","","","","","","","","","","","","","","","","","","","","","","","","","",{"$f":"IF($C80<>\"\",取組一覧!$C79&\"\",\"\")","v":""},{"$f":"IF($C80<>\"\",取組一覧!$D79&\"\",\"\")","v":""},{"$f":"IF($C80<>\"\",取組一覧!$E79&\"\",\"\")","v":""},null,{"$f":"IF($BN80=\"\",\"\",MAX($BG$4:$BG79)+1)","v":""},"","",{"$f":"VLOOKUP($BH80,'目標入力＞'!$Z$5:$AC$60,4,0)","v":""},"","","",null,null,{"$f":"IF(MAX($BP$1:$BP79)+1>MAX($BG$5:$BG$204),\"\",MAX($BP$1:$BP79)+1)","v":""},"","","","",""]
[{"$f":"ROW(取組一覧!$F80)","v":80},{"$f":"IF($C81=\"\",\"\",MAX($B$4:$B80)+1)","v":""},{"$f":"IF(COUNTIF($E81:$BB81,\"○\")>0,取組一覧!$B80,\"\")","v":""},null,"","","","","","","","","","","","","","","","","","","","","","","","","","","","","","","","","","","","","","","","","","","","","","","","","","",{"$f":"IF($C81<>\"\",取組一覧!$C80&\"\",\"\")","v":""},{"$f":"IF($C81<>\"\",取組一覧!$D80&\"\",\"\")","v":""},{"$f":"IF($C81<>\"\",取組一覧!$E80&\"\",\"\")","v":""},null,{"$f":"IF($BN81=\"\",\"\",MAX($BG$4:$BG80)+1)","v":""},"","",{"$f":"VLOOKUP($BH81,'目標入力＞'!$Z$5:$AC$60,4,0)","v":""},"","","",null,null,{"$f":"IF(MAX($BP$1:$BP80)+1>MAX($BG$5:$BG$204),\"\",MAX($BP$1:$BP80)+1)","v":""},"","","","",""]
[{"$f":"ROW(取組一覧!$F81)","v":81},{"$f":"IF($C82=\"\",\"\",MAX($B$4:$B81)+1)","v":""},{"$f":"IF(COUNTIF($E82:$BB82,\"○\")>0,取組一覧!$B81,\"\")","v":""},null,"","","","","","","","","","","","","","","","","","","","","","","","","","","","","","","","","","","","","","","","","","","","","","","","","","",{"$f":"IF($C82<>\"\",取組一覧!$C81&\"\",\"\")","v":""},{"$f":"IF($C82<>\"\",取組一覧!$D81&\"\",\"\")","v":""},{"$f":"IF($C82<>\"\",取組一覧!$E81&\"\",\"\")","v":""},null,{"$f":"IF($BN82=\"\",\"\",MAX($BG$4:$BG81)+1)","v":""},"","",{"$f":"VLOOKUP($BH82,'目標入力＞'!$Z$5:$AC$60,4,0)","v":""},"","","",null,null,{"$f":"IF(MAX($BP$1:$BP81)+1>MAX($BG$5:$BG$204),\"\",MAX($BP$1:$BP81)+1)","v":""},"","","","",""]
[{"$f":"ROW(取組一覧!$F82)","v":82},{"$f":"IF($C83=\"\",\"\",MAX($B$4:$B82)+1)","v":""},{"$f":"IF(COUNTIF($E83:$BB83,\"○\")>0,取組一覧!$B82,\"\")","v":""},null,"","","","","","","","","","","","","","","","","","","","","","","","","","","","","","","","","","","","","","","","","","","","","","","",{"$f":"IF(OR(AZ$4=\"\",AZ$4>100),\"\",INDIRECT(ADDRESS($A83,AZ$2,1,1,\"取組一覧\"))&\"\")","v":""},"","",{"$f":"IF($C83<>\"\",取組一覧!$C82&\"\",\"\")","v":""},{"$f":"IF($C83<>\"\",取組一覧!$D82&\"\",\"\")","v":""},{"$f":"IF($C83<>\"\",取組一覧!$E82&\"\",\"\")","v":""},null,{"$f":"IF($BN83=\"\",\"\",MAX($BG$4:$BG82)+1)","v":""},"","",{"$f":"VLOOKUP($BH83,'目標入力＞'!$Z$5:$AC$60,4,0)","v":""},"","","",null,null,{"$f":"IF(MAX($BP$1:$BP82)+1>MAX($BG$5:$BG$204),\"\",MAX($BP$1:$BP82)+1)","v":""},"","","","",""]
[{"$f":"ROW(取組一覧!$F83)","v":83},{"$f":"IF($C84=\"\",\"\",MAX($B$4:$B83)+1)","v":""},{"$f":"IF(COUNTIF($E84:$BB84,\"○\")>0,取組一覧!$B83,\"\")","v":""},null,"","","","","","","","","","","","","","","","","","","","","","","","","","","","","","",{"$f":"IF(OR(AI$4=\"\",AI$4>100),\"\",INDIRECT(ADDRESS($A84,AI$2,1,1,\"取組一覧\"))&\"\")","v":""},"","","","","","","","","","","","","","","","","","","",{"$f":"IF($C84<>\"\",取組一覧!$C83&\"\",\"\")","v":""},{"$f":"IF($C84<>\"\",取組一覧!$D83&\"\",\"\")","v":""},{"$f":"IF($C84<>\"\",取組一覧!$E83&\"\",\"\")","v":""},null,{"$f":"IF($BN84=\"\",\"\",MAX($BG$4:$BG83)+1)","v":""},"","",{"$f":"VLOOKUP($BH84,'目標入力＞'!$Z$5:$AC$60,4,0)","v":""},"","","",null,null,{"$f":"IF(MAX($BP$1:$BP83)+1>MAX($BG$5:$BG$204),\"\",MAX($BP$1:$BP83)+1)","v":""},"","","","",""]
[{"$f":"ROW(取組一覧!$F84)","v":84},{"$f":"IF($C85=\"\",\"\",MAX($B$4:$B84)+1)","v":""},{"$f":"IF(COUNTIF($E85:$BB85,\"○\")>0,取組一覧!$B84,\"\")","v":""},null,"","","","","","","","","","","","","","","","",{"$f":"IF(OR(U$4=\"\",U$4>100),\"\",INDIRECT(ADDRESS($A85,U$2,1,1,\"取組一覧\"))&\"\")","v":""},"","","","","","","","","","","","","","","","","","","","","","","","","","","","","",{"$f":"IF(OR(AY$4=\"\",AY$4>100),\"\",INDIRECT(ADDRESS($A85,AY$2,1,1,\"取組一覧\"))&\"\")","v":""},"","","",{"$f":"IF($C85<>\"\",取組一覧!$C84&\"\",\"\")","v":""},{"$f":"IF($C85<>\"\",取組一覧!$D84&\"\",\"\")","v":""},{"$f":"IF($C85<>\"\",取組一覧!$E84&\"\",\"\")","v":""},null,{"$f":"IF($BN85=\"\",\"\",MAX($BG$4:$BG84)+1)","v":""},"","",{"$f":"VLOOKUP($BH85,'目標入力＞'!$Z$5:$AC$60,4,0)","v":""},{"$f":"VLOOKUP($BI85,$C$5:$BE$109,BK$3-1,0)","v":""},"","",null,null,{"$f":"IF(MAX($BP$1:$BP84)+1>MAX($BG$5:$BG$204),\"\",MAX($BP$1:$BP84)+1)","v":""},"","","","",""]
[{"$f":"ROW(取組一覧!$F85)","v":85},{"$f":"IF($C86=\"\",\"\",MAX($B$4:$B85)+1)","v":""},{"$f":"IF(COUNTIF($E86:$BB86,\"○\")>0,取組一覧!$B85,\"\")","v":""},null,{"$f":"IF(OR(E$4=\"\",E$4>100),\"\",INDIRECT(ADDRESS($A86,E$2,1,1,\"取組一覧\"))&\"\")","v":""},"","","","","","","","","","","","","","","","","","","","","","","","","","","","","","","","","","","","","","","","","","","","","","","","","",{"$f":"IF($C86<>\"\",取組一覧!$C85&\"\",\"\")","v":""},{"$f":"IF($C86<>\"\",取組一覧!$D85&\"\",\"\")","v":""},{"$f":"IF($C86<>\"\",取組一覧!$E85&\"\",\"\")","v":""},null,{"$f":"IF($BN86=\"\",\"\",MAX($BG$4:$BG85)+1)","v":""},"","",{"$f":"VLOOKUP($BH86,'目標入力＞'!$Z$5:$AC$60,4,0)","v":""},"","","",null,null,{"$f":"IF(MAX($BP$1:$BP85)+1>MAX($BG$5:$BG$204),\"\",MAX($BP$1:$BP85)+1)","v":""},"","","","",""]
[{"$f":"ROW(取組一覧!$F86)","v":86},{"$f":"IF($C87=\"\",\"\",MAX($B$4:$B86)+1)","v":""},{"$f":"IF(COUNTIF($E87:$BB87,\"○\")>0,取組一覧!$B86,\"\")","v":""},null,"","","","","","","","","","","","","","","","","","","","","","","","","","","","","","","","","","","","","","","","","","","","","","","","","","",{"$f":"IF($C87<>\"\",取組一覧!$C86&\"\",\"\")","v":""},{"$f":"IF($C87<>\"\",取組一覧!$D86&\"\",\"\")","v":""},{"$f":"IF($C87<>\"\",取組一覧!$E86&\"\",\"\")","v":""},null,{"$f":"IF($BN87=\"\",\"\",MAX($BG$4:$BG86)+1)","v":""},"","",{"$f":"VLOOKUP($BH87,'目標入力＞'!$Z$5:$AC$60,4,0)","v":""},"","","",null,null,{"$f":"IF(MAX($BP$1:$BP86)+1>MAX($BG$5:$BG$204),\"\",MAX($BP$1:$BP86)+1)","v":""},"","","","",""]
[{"$f":"ROW(取組一覧!$F87)","v":87},{"$f":"IF($C88=\"\",\"\",MAX($B$4:$B87)+1)","v":""},{"$f":"IF(COUNTIF($E88:$BB88,\"○\")>0,取組一覧!$B87,\"\")","v":""},null,"","","","","","","","","","","","","","","","","","","","","","","","","","","","","","","","","","","","","","","","","","","","","","","","","","",{"$f":"IF($C88<>\"\",取組一覧!$C87&\"\",\"\")","v":""},{"$f":"IF($C88<>\"\",取組一覧!$D87&\"\",\"\")","v":""},{"$f":"IF($C88<>\"\",取組一覧!$E87&\"\",\"\")","v":""},null,{"$f":"IF($BN88=\"\",\"\",MAX($BG$4:$BG87)+1)","v":""},"","",{"$f":"VLOOKUP($BH88,'目標入力＞'!$Z$5:$AC$60,4,0)","v":""},"","","",null,null,{"$f":"IF(MAX($BP$1:$BP87)+1>MAX($BG$5:$BG$204),\"\",MAX($BP$1:$BP87)+1)","v":""},"","","","",""]
[{"$f":"ROW(取組一覧!$F88)","v":88},{"$f":"IF($C89=\"\",\"\",MAX($B$4:$B88)+1)","v":""},{"$f":"IF(COUNTIF($E89:$BB89,\"○\")>0,取組一覧!$B88,\"\")","v":""},null,"","","","","","","","","","","","","","","","","","","","","","","","","","","","","","","","","","","","","","","","","","","","","","","","","","",{"$f":"IF($C89<>\"\",取組一覧!$C88&\"\",\"\")","v":""},{"$f":"IF($C89<>\"\",取組一覧!$D88&\"\",\"\")","v":""},{"$f":"IF($C89<>\"\",取組一覧!$E88&\"\",\"\")","v":""},null,{"$f":"IF($BN89=\"\",\"\",MAX($BG$4:$BG88)+1)","v":""},"","",{"$f":"VLOOKUP($BH89,'目標入力＞'!$Z$5:$AC$60,4,0)","v":""},"","","",null,null,{"$f":"IF(MAX($BP$1:$BP88)+1>MAX($BG$5:$BG$204),\"\",MAX($BP$1:$BP88)+1)","v":""},"","","","",""]
[{"$f":"ROW(取組一覧!$F89)","v":89},{"$f":"IF($C90=\"\",\"\",MAX($B$4:$B89)+1)","v":""},{"$f":"IF(COUNTIF($E90:$BB90,\"○\")>0,取組一覧!$B89,\"\")","v":""},null,"","","","","","","","","","","","","","","","","","","","","","","","","","","","","","","","","","","","","","","","","","","","","","","","","","",{"$f":"IF($C90<>\"\",取組一覧!$C89&\"\",\"\")","v":""},{"$f":"IF($C90<>\"\",取組一覧!$D89&\"\",\"\")","v":""},{"$f":"IF($C90<>\"\",取組一覧!$E89&\"\",\"\")","v":""},null,{"$f":"IF($BN90=\"\",\"\",MAX($BG$4:$BG89)+1)","v":""},"","",{"$f":"VLOOKUP($BH90,'目標入力＞'!$Z$5:$AC$60,4,0)","v":""},"","","",null,null,{"$f":"IF(MAX($BP$1:$BP89)+1>MAX($BG$5:$BG$204),\"\",MAX($BP$1:$BP89)+1)","v":""},"","","","",""]
[{"$f":"ROW(取組一覧!$F90)","v":90},{"$f":"IF($C91=\"\",\"\",MAX($B$4:$B90)+1)","v":""},{"$f":"IF(COUNTIF($E91:$BB91,\"○\")>0,取組一覧!$B90,\"\")","v":""},null,"","","","","","","","","","","","","","","","","","","","","","","","","","","","","","","","","","","","","","","","","","","","","","","","","","",{"$f":"IF($C91<>\"\",取組一覧!$C90&\"\",\"\")","v":""},{"$f":"IF($C91<>\"\",取組一覧!$D90&\"\",\"\")","v":""},{"$f":"IF($C91<>\"\",取組一覧!$E90&\"\",\"\")","v":""},null,{"$f":"IF($BN91=\"\",\"\",MAX($BG$4:$BG90)+1)","v":""},"","",{"$f":"VLOOKUP($BH91,'目標入力＞'!$Z$5:$AC$60,4,0)","v":""},"","","",null,null,{"$f":"IF(MAX($BP$1:$BP90)+1>MAX($BG$5:$BG$204),\"\",MAX($BP$1:$BP90)+1)","v":""},"","","","",""]
[{"$f":"ROW(取組一覧!$F91)","v":91},{"$f":"IF($C92=\"\",\"\",MAX($B$4:$B91)+1)","v":""},{"$f":"IF(COUNTIF($E92:$BB92,\"○\")>0,取組一覧!$B91,\"\")","v":""},null,"","","","","","","","","","","","","","","","","","","","","","","","","","","","","","","","","","","","","","","","","","","","","","","","","","",{"$f":"IF($C92<>\"\",取組一覧!$C91&\"\",\"\")","v":""},{"$f":"IF($C92<>\"\",取組一覧!$D91&\"\",\"\")","v":""},{"$f":"IF($C92<>\"\",取組一覧!$E91&\"\",\"\")","v":""},null,{"$f":"IF($BN92=\"\",\"\",MAX($BG$4:$BG91)+1)","v":""},"","",{"$f":"VLOOKUP($BH92,'目標入力＞'!$Z$5:$AC$60,4,0)","v":""},"","","",null,null,{"$f":"IF(MAX($BP$1:$BP91)+1>MAX($BG$5:$BG$204),\"\",MAX($BP$1:$BP91)+1)","v":""},"","","","",""]
[{"$f":"ROW(取組一覧!$F92)","v":92},{"$f":"IF($C93=\"\",\"\",MAX($B$4:$B92)+1)","v":""},{"$f":"IF(COUNTIF($E93:$BB93,\"○\")>0,取組一覧!$B92,\"\")","v":""},null,"","","","","","","","","","","","","","","","","","","","","","","","","","","","","","","","","","","","","","","","","","","","","","","","","","",{"$f":"IF($C93<>\"\",取組一覧!$C92&\"\",\"\")","v":""},{"$f":"IF($C93<>\"\",取組一覧!$D92&\"\",\"\")","v":""},{"$f":"IF($C93<>\"\",取組一覧!$E92&\"\",\"\")","v":""},null,{"$f":"IF($BN93=\"\",\"\",MAX($BG$4:$BG92)+1)","v":""},"","",{"$f":"VLOOKUP($BH93,'目標入力＞'!$Z$5:$AC$60,4,0)","v":""},"","","",null,null,{"$f":"IF(MAX($BP$1:$BP92)+1>MAX($BG$5:$BG$204),\"\",MAX($BP$1:$BP92)+1)","v":""},"","","","",""]
[{"$f":"ROW(取組一覧!$F93)","v":93},{"$f":"IF($C94=\"\",\"\",MAX($B$4:$B93)+1)","v":""},{"$f":"IF(COUNTIF($E94:$BB94,\"○\")>0,取組一覧!$B93,\"\")","v":""},null,"","","","","","","","","","","","","","","","","","","","","","","","","","","","","","","","","","","","","","","","","","","","","","","","","","",{"$f":"IF($C94<>\"\",取組一覧!$C93&\"\",\"\")","v":""},{"$f":"IF($C94<>\"\",取組一覧!$D93&\"\",\"\")","v":""},{"$f":"IF($C94<>\"\",取組一覧!$E93&\"\",\"\")","v":""},null,{"$f":"IF($BN94=\"\",\"\",MAX($BG$4:$BG93)+1)","v":""},"","",{"$f":"VLOOKUP($BH94,'目標入力＞'!$Z$5:$AC$60,4,0)","v":""},"","","",null,null,{"$f":"IF(MAX($BP$1:$BP93)+1>MAX($BG$5:$BG$204),\"\",MAX($BP$1:$BP93)+1)","v":""},"","","","",""]
[{"$f":"ROW(取組一覧!$F94)","v":94},{"$f":"IF($C95=\"\",\"\",MAX($B$4:$B94)+1)","v":""},{"$f":"IF(COUNTIF($E95:$BB95,\"○\")>0,取組一覧!$B94,\"\")","v":""},null,"","","","","","","","","","","","","","","","","","","","","","","","","","","","","","","","","","","","","","","","","","","","","","","","","","",{"$f":"IF($C95<>\"\",取組一覧!$C94&\"\",\"\")","v":""},{"$f":"IF($C95<>\"\",取組一覧!$D94&\"\",\"\")","v":""},{"$f":"IF($C95<>\"\",取組一覧!$E94&\"\",\"\")","v":""},null,{"$f":"IF($BN95=\"\",\"\",MAX($BG$4:$BG94)+1)","v":""},"","",{"$f":"VLOOKUP($BH95,'目標入力＞'!$Z$5:$AC$60,4,0)","v":""},"","","",null,null,{"$f":"IF(MAX($BP$1:$BP94)+1>MAX($BG$5:$BG$204),\"\",MAX($BP$1:$BP94)+1)","v":""},"","","","",""]
[{"$f":"ROW(取組一覧!$F95)","v":95},{"$f":"IF($C96=\"\",\"\",MAX($B$4:$B95)+1)","v":""},{"$f":"IF(COUNTIF($E96:$BB96,\"○\")>0,取組一覧!$B95,\"\")","v":""},null,"","","","","","","","","","","","","","","","","","","","","","","","","","","","","","","","","","","","","","","","","","","","","","","","","","",{"$f":"IF($C96<>\"\",取組一覧!$C95&\"\",\"\")","v":""},{"$f":"IF($C96<>\"\",取組一覧!$D95&\"\",\"\")","v":""},{"$f":"IF($C96<>\"\",取組一覧!$E95&\"\",\"\")","v":""},null,{"$f":"IF($BN96=\"\",\"\",MAX($BG$4:$BG95)+1)","v":""},"","",{"$f":"VLOOKUP($BH96,'目標入力＞'!$Z$5:$AC$60,4,0)","v":""},"","","",null,null,{"$f":"IF(MAX($BP$1:$BP95)+1>MAX($BG$5:$BG$204),\"\",MAX($BP$1:$BP95)+1)","v":""},"","","","",""]
[{"$f":"ROW(取組一覧!$F96)","v":96},{"$f":"IF($C97=\"\",\"\",MAX($B$4:$B96)+1)","v":""},{"$f":"IF(COUNTIF($E97:$BB97,\"○\")>0,取組一覧!$B96,\"\")","v":""},null,"","","","","","","","","","","","","","","","","","","","","","","","","","","","","","","","","","","","","","","","","","","","","","","","","","",{"$f":"IF($C97<>\"\",取組一覧!$C96&\"\",\"\")","v":""},{"$f":"IF($C97<>\"\",取組一覧!$D96&\"\",\"\")","v":""},{"$f":"IF($C97<>\"\",取組一覧!$E96&\"\",\"\")","v":""},null,{"$f":"IF($BN97=\"\",\"\",MAX($BG$4:$BG96)+1)","v":""},"","",{"$f":"VLOOKUP($BH97,'目標入力＞'!$Z$5:$AC$60,4,0)","v":""},"","","",null,null,{"$f":"IF(MAX($BP$1:$BP96)+1>MAX($BG$5:$BG$204),\"\",MAX($BP$1:$BP96)+1)","v":""},"","","","",""]
[{"$f":"ROW(取組一覧!$F97)","v":97},{"$f":"IF($C98=\"\",\"\",MAX($B$4:$B97)+1)","v":""},{"$f":"IF(COUNTIF($E98:$BB98,\"○\")>0,取組一覧!$B97,\"\")","v":""},null,"","","","","","","","","","","","","","","","","","","","","","","","","","","","","","","","","","","","","","","","","","","","","","","","","","",{"$f":"IF($C98<>\"\",取組一覧!$C97&\"\",\"\")","v":""},{"$f":"IF($C98<>\"\",取組一覧!$D97&\"\",\"\")","v":""},{"$f":"IF($C98<>\"\",取組一覧!$E97&\"\",\"\")","v":""},null,{"$f":"IF($BN98=\"\",\"\",MAX($BG$4:$BG97)+1)","v":""},"","",{"$f":"VLOOKUP($BH98,'目標入力＞'!$Z$5:$AC$60,4,0)","v":""},"","","",null,null,{"$f":"IF(MAX($BP$1:$BP97)+1>MAX($BG$5:$BG$204),\"\",MAX($BP$1:$BP97)+1)","v":""},"","","","",""]
[{"$f":"ROW(取組一覧!$F98)","v":98},{"$f":"IF($C99=\"\",\"\",MAX($B$4:$B98)+1)","v":""},{"$f":"IF(COUNTIF($E99:$BB99,\"○\")>0,取組一覧!$B98,\"\")","v":""},null,"","","","","","","","","","","","","","","","","","","","","","","","","","","","","","","","","","","","","","","","","","","","","","","","","","",{"$f":"IF($C99<>\"\",取組一覧!$C98&\"\",\"\")","v":""},{"$f":"IF($C99<>\"\",取組一覧!$D98&\"\",\"\")","v":""},{"$f":"IF($C99<>\"\",取組一覧!$E98&\"\",\"\")","v":""},null,{"$f":"IF($BN99=\"\",\"\",MAX($BG$4:$BG98)+1)","v":""},"","",{"$f":"VLOOKUP($BH99,'目標入力＞'!$Z$5:$AC$60,4,0)","v":""},"","","",null,null,{"$f":"IF(MAX($BP$1:$BP98)+1>MAX($BG$5:$BG$204),\"\",MAX($BP$1:$BP98)+1)","v":""},"","","","",""]
[{"$f":"ROW(取組一覧!$F99)","v":99},{"$f":"IF($C100=\"\",\"\",MAX($B$4:$B99)+1)","v":""},{"$f":"IF(COUNTIF($E100:$BB100,\"○\")>0,取組一覧!$B99,\"\")","v":""},null,"","","","","","","","","","","","","","","","","","","","","","","","","","","","","","","","",{"$f":"IF(OR(AK$4=\"\",AK$4>100),\"\",INDIRECT(ADDRESS($A100,AK$2,1,1,\"取組一覧\"))&\"\")","v":""},"","","","","","","","","","","","","","","","","",{"$f":"IF($C100<>\"\",取組一覧!$C99&\"\",\"\")","v":""},{"$f":"IF($C100<>\"\",取組一覧!$D99&\"\",\"\")","v":""},{"$f":"IF($C100<>\"\",取組一覧!$E99&\"\",\"\")","v":""},null,{"$f":"IF($BN100=\"\",\"\",MAX($BG$4:$BG99)+1)","v":""},"","",{"$f":"VLOOKUP($BH100,'目標入力＞'!$Z$5:$AC$60,4,0)","v":""},"","","",null,null,{"$f":"IF(MAX($BP$1:$BP99)+1>MAX($BG$5:$BG$204),\"\",MAX($BP$1:$BP99)+1)","v":""},"","","","",""]
[{"$f":"ROW(取組一覧!$F100)","v":100},{"$f":"IF($C101=\"\",\"\",MAX($B$4:$B100)+1)","v":""},{"$f":"IF(COUNTIF($E101:$BB101,\"○\")>0,取組一覧!$B100,\"\")","v":""},null,"","","","","","","","","","","","","","","",{"$f":"IF(OR(T$4=\"\",T$4>100),\"\",INDIRECT(ADDRESS($A101,T$2,1,1,\"取組一覧\"))&\"\")","v":""},"","","","","","","","","","","","","","","",{"$f":"IF(OR(AJ$4=\"\",AJ$4>100),\"\",INDIRECT(ADDRESS($A101,AJ$2,1,1,\"取組一覧\"))&\"\")","v":""},"","","","","","","","","","","","","","","","","","",{"$f":"IF($C101<>\"\",取組一覧!$C100&\"\",\"\")","v":""},{"$f":"IF($C101<>\"\",取組一覧!$D100&\"\",\"\")","v":""},{"$f":"IF($C101<>\"\",取組一覧!$E100&\"\",\"\")","v":""},null,{"$f":"IF($BN101=\"\",\"\",MAX($BG$4:$BG100)+1)","v":""},{"$f":"$B208","v":""},{"$f":"$C208","v":""},{"$f":"VLOOKUP($BH101,'目標入力＞'!$Z$5:$AC$60,4,0)","v":""},{"$f":"VLOOKUP($BI101,$C$5:$BE$109,BK$3-1,0)","v":""},"","",null,null,{"$f":"IF(MAX($BP$1:$BP100)+1>MAX($BG$5:$BG$204),\"\",MAX($BP$1:$BP100)+1)","v":""},"","","","",""]
[{"$f":"ROW(取組一覧!$F101)","v":101},{"$f":"IF($C102=\"\",\"\",MAX($B$4:$B101)+1)","v":""},{"$f":"IF(COUNTIF($E102:$BB102,\"○\")>0,取組一覧!$B101,\"\")","v":""},null,{"$f":"IF(OR(E$4=\"\",E$4>100),\"\",INDIRECT(ADDRESS($A102,E$2,1,1,\"取組一覧\"))&\"\")","v":""},"","","","","","","","","","","","","","","","","","","","","","","","","","","","","","","","","","","","","","","","","","","","","","","","","",{"$f":"IF($C102<>\"\",取組一覧!$C101&\"\",\"\")","v":""},{"$f":"IF($C102<>\"\",取組一覧!$D101&\"\",\"\")","v":""},{"$f":"IF($C102<>\"\",取組一覧!$E101&\"\",\"\")","v":""},null,{"$f":"IF($BN102=\"\",\"\",MAX($BG$4:$BG101)+1)","v":""},"","",{"$f":"VLOOKUP($BH102,'目標入力＞'!$Z$5:$AC$60,4,0)","v":""},"","","",null,null,{"$f":"IF(MAX($BP$1:$BP101)+1>MAX($BG$5:$BG$204),\"\",MAX($BP$1:$BP101)+1)","v":""},"","","","",""]
[{"$f":"ROW(取組一覧!$F102)","v":102},{"$f":"IF($C103=\"\",\"\",MAX($B$4:$B102)+1)","v":""},{"$f":"IF(COUNTIF($E103:$BB103,\"○\")>0,取組一覧!$B102,\"\")","v":""},null,"","","","","","","","","","","","","","","","","","","","","","","","","","","","","","","","","","","","","","","","","","","","","","","","","","",{"$f":"IF($C103<>\"\",取組一覧!$C102&\"\",\"\")","v":""},{"$f":"IF($C103<>\"\",取組一覧!$D102&\"\",\"\")","v":""},{"$f":"IF($C103<>\"\",取組一覧!$E102&\"\",\"\")","v":""},null,{"$f":"IF($BN103=\"\",\"\",MAX($BG$4:$BG102)+1)","v":""},"","",{"$f":"VLOOKUP($BH103,'目標入力＞'!$Z$5:$AC$60,4,0)","v":""},"","","",null,null,{"$f":"IF(MAX($BP$1:$BP102)+1>MAX($BG$5:$BG$204),\"\",MAX($BP$1:$BP102)+1)","v":""},"","","","",""]
[null,null,null,null,null,null,null,null,null,null,null,null,null,null,null,null,null,null,null,null,null,null,null,null,null,null,null,null,null,null,null,null,null,null,null,null,null,null,null,null,null,null,null,null,null,null,null,null,null,null,null,null,null,null,null,null,null,null,{"$f":"IF($BN104=\"\",\"\",MAX($BG$4:$BG103)+1)","v":""},"","",{"$f":"VLOOKUP($BH104,'目標入力＞'!$Z$5:$AC$60,4,0)","v":""},"","","",null,null,{"$f":"IF(MAX($BP$1:$BP103)+1>MAX($BG$5:$BG$204),\"\",MAX($BP$1:$BP103)+1)","v":""},"","","","",""]
[null,{"$f":"IF($C105=\"\",\"\",MAX($B$4:$B104)+1)","v":1},{"$f":"IF(AND(TRIM('取組追加＞'!J5)=\"\",TRIM('取組追加＞'!J6)=\"\",TRIM('取組追加＞'!J7)=\"\",TRIM('取組追加＞'!J8)=\"\",TRIM('取組追加＞'!J9)=\"\"),101,'取組追加＞'!G5)","v":101},{"$f":"IF(AND(TRIM('取組追加＞'!J5)=\"\",TRIM('取組追加＞'!J6)=\"\",TRIM('取組追加＞'!J7)=\"\",TRIM('取組追加＞'!J8)=\"\",TRIM('取組追加＞'!J9)=\"\"),101,'取組追加＞'!J5)","v":101},{"$f":"IF(AND($D105<>\"\",$D105=E$4),\"○\",\"\")","v":""},"","","","","","","","","","","","","","","",{"$f":"IF(AND($D105<>\"\",$D105=U$4),\"○\",\"\")","v":""},"","","","","","","","","","","","","","","",{"$f":"IF(AND($D105<>\"\",$D105=AK$4),\"○\",\"\")","v":""},"","","","","","","","","","","","","","","",{"$f":"IF(AND($D105<>\"\",$D105=BA$4),\"○\",\"\")","v":""},"","その他",{"$f":"'取組追加＞'!H5","v":""},{"$f":"'取組追加＞'!H5","v":""},null,{"$f":"IF($BN105=\"\",\"\",MAX($BG$4:$BG104)+1)","v":""},"","",{"$f":"VLOOKUP($BH105,'目標入力＞'!$Z$5:$AC$60,4,0)","v":""},{"$f":"VLOOKUP($BI105,$C$5:$BE$109,BK$3-1,0)","v":""},"","",null,null,{"$f":"IF(MAX($BP$1:$BP104)+1>MAX($BG$5:$BG$204),\"\",MAX($BP$1:$BP104)+1)","v":""},"","","","",""]
[null,{"$f":"IF($C106=\"\",\"\",MAX($B$4:$B105)+1)","v":2},{"$f":"IF(AND(TRIM('取組追加＞'!J5)=\"\",TRIM('取組追加＞'!J6)=\"\",TRIM('取組追加＞'!J7)=\"\",TRIM('取組追加＞'!J8)=\"\",TRIM('取組追加＞'!J9)=\"\"),101,'取組追加＞'!G6)","v":101},{"$f":"IF(AND(TRIM('取組追加＞'!J5)=\"\",TRIM('取組追加＞'!J6)=\"\",TRIM('取組追加＞'!J7)=\"\",TRIM('取組追加＞'!J8)=\"\",TRIM('取組追加＞'!J9)=\"\"),102,'取組追加＞'!J6)","v":102},"","","","","","","","","","","","","","","","","","","","","","","","","","","","","","","","","","","","","","","","","","","","","","","","","","","その他",{"$f":"'取組追加＞'!H6","v":""},{"$f":"'取組追加＞'!H6","v":""},null,{"$f":"IF($BN106=\"\",\"\",MAX($BG$4:$BG105)+1)","v":""},"","",{"$f":"VLOOKUP($BH106,'目標入力＞'!$Z$5:$AC$60,4,0)","v":""},"","","",null,null,{"$f":"IF(MAX($BP$1:$BP105)+1>MAX($BG$5:$BG$204),\"\",MAX($BP$1:$BP105)+1)","v":""},"","","","",""]
[null,{"$f":"IF($C107=\"\",\"\",MAX($B$4:$B106)+1)","v":3},{"$f":"IF(AND(TRIM('取組追加＞'!J5)=\"\",TRIM('取組追加＞'!J6)=\"\",TRIM('取組追加＞'!J7)=\"\",TRIM('取組追加＞'!J8)=\"\",TRIM('取組追加＞'!J9)=\"\"),101,'取組追加＞'!G7)","v":101},{"$f":"IF(AND(TRIM('取組追加＞'!J5)=\"\",TRIM('取組追加＞'!J6)=\"\",TRIM('取組追加＞'!J7)=\"\",TRIM('取組追加＞'!J8)=\"\",TRIM('取組追加＞'!J9)=\"\"),103,'取組追加＞'!J7)","v":103},"","","","","","",{"$f":"IF(AND($D107<>\"\",$D107=K$4),\"○\",\"\")","v":""},"","","","","","","","","","","","","","","","","","","","","","","","","","","","","","","","","","","","","","","","","","","","その他",{"$f":"'取組追加＞'!H7","v":""},{"$f":"'取組追加＞'!H7","v":""},null,{"$f":"IF($BN107=\"\",\"\",MAX($BG$4:$BG106)+1)","v":""},"","",{"$f":"VLOOKUP($BH107,'目標入力＞'!$Z$5:$AC$60,4,0)","v":""},"","","",null,null,{"$f":"IF(MAX($BP$1:$BP106)+1>MAX($BG$5:$BG$204),\"\",MAX($BP$1:$BP106)+1)","v":""},"","","","",""]
[null,{"$f":"IF($C108=\"\",\"\",MAX($B$4:$B107)+1)","v":4},{"$f":"IF(AND(TRIM('取組追加＞'!J5)=\"\",TRIM('取組追加＞'!J6)=\"\",TRIM('取組追加＞'!J7)=\"\",TRIM('取組追加＞'!J8)=\"\",TRIM('取組追加＞'!J9)=\"\"),101,'取組追加＞'!G8)","v":101},{"$f":"IF(AND(TRIM('取組追加＞'!J5)=\"\",TRIM('取組追加＞'!J6)=\"\",TRIM('取組追加＞'!J7)=\"\",TRIM('取組追加＞'!J8)=\"\",TRIM('取組追加＞'!J9)=\"\"),104,'取組追加＞'!J8)","v":104},"","","","","","","","","","","","","","","","","","","","","","","","","","","","","","","","","","","","","","","","","","","","","","","","","","","その他",{"$f":"'取組追加＞'!H8","v":""},{"$f":"'取組追加＞'!H8","v":""},null,{"$f":"IF($BN108=\"\",\"\",MAX($BG$4:$BG107)+1)","v":""},"","",{"$f":"VLOOKUP($BH108,'目標入力＞'!$Z$5:$AC$60,4,0)","v":""},"","","",null,null,{"$f":"IF(MAX($BP$1:$BP107)+1>MAX($BG$5:$BG$204),\"\",MAX($BP$1:$BP107)+1)","v":""},"","","","",""]
[null,{"$f":"IF($C109=\"\",\"\",MAX($B$4:$B108)+1)","v":5},{"$f":"IF(AND(TRIM('取組追加＞'!J5)=\"\",TRIM('取組追加＞'!J6)=\"\",TRIM('取組追加＞'!J7)=\"\",TRIM('取組追加＞'!J8)=\"\",TRIM('取組追加＞'!J9)=\"\"),101,'取組追加＞'!G9)","v":101},{"$f":"IF(AND(TRIM('取組追加＞'!J5)=\"\",TRIM('取組追加＞'!J6)=\"\",TRIM('取組追加＞'!J7)=\"\",TRIM('取組追加＞'!J8)=\"\",TRIM('取組追加＞'!J9)=\"\"),105,'取組追加＞'!J9)","v":105},"","","","","","","","","","","","","","","","","","","","","","","","","","","","","","","","","","","","","","","","","","","","","","","","","","","その他",{"$f":"'取組追加＞'!H9","v":""},{"$f":"'取組追加＞'!H9","v":""},null,{"$f":"IF($BN109=\"\",\"\",MAX($BG$4:$BG108)+1)","v":""},"","",{"$f":"VLOOKUP($BH109,'目標入力＞'!$Z$5:$AC$60,4,0)","v":""},"","","",null,null,{"$f":"IF(MAX($BP$1:$BP108)+1>MAX($BG$5:$BG$204),\"\",MAX($BP$1:$BP108)+1)","v":""},"","","","",""]
[null,null,null,null,{"$f":"COUNTIF(E5:E109,\"○\")","v":0},{"$f":"E110+COUNTIF(F5:F109,\"○\")","v":0},{"$f":"F110+COUNTIF(G5:G109,\"○\")","v":0},{"$f":"G110+COUNTIF(H5:H109,\"○\")","v":0},0,0,0,0,0,0,0,0,0,0,0,0,0,0,0,0,0,0,0,0,0,0,0,0,0,0,0,0,0,0,0,0,0,0,0,0,0,0,0,0,0,0,0,0,0,0,null,null,null,null,{"$f":"IF($BN110=\"\",\"\",MAX($BG$4:$BG109)+1)","v":""},"","",{"$f":"VLOOKUP($BH110,'目標入力＞'!$Z$5:$AC$60,4,0)","v":""},"","","",null,null,{"$f":"IF(MAX($BP$1:$BP109)+1>MAX($BG$5:$BG$204),\"\",MAX($BP$1:$BP109)+1)","v":""},"","","","",""]
[null,null,null,null,0,0,0,0,0,0,0,0,0,0,0,0,0,0,0,0,0,0,0,0,0,0,0,0,0,0,0,0,0,0,0,0,0,0,0,0,0,0,0,0,0,0,0,0,0,0,0,0,0,0,null,null,null,null,{"$f":"IF($BN111=\"\",\"\",MAX($BG$4:$BG110)+1)","v":""},"","",{"$f":"VLOOKUP($BH111,'目標入力＞'!$Z$5:$AC$60,4,0)","v":""},"","","",null,null,{"$f":"IF(MAX($BP$1:$BP110)+1>MAX($BG$5:$BG$204),\"\",MAX($BP$1:$BP110)+1)","v":""},"","","","",""]
[1,{"$f":"IF(C112=\"\",\"\",INDEX(E$4:BB$4,COUNTBLANK($E112:$BB112)+1))","v":""},{"$f":"IF(MAX($E112:$BB112)=0,\"\",INDEX($C$5:$C$109,MAX($E112:$BB112)))","v":""},null,{"$f":"IF(D112<>\"\",0,IF(OR(E111=\"\",E111>=105,$A112>E$110),\"\",MATCH(\"○\",INDIRECT(ADDRESS(ROW(E$4)+1+E111,COLUMN(E$4))&\":\"&ADDRESS(ROW(E$109),COLUMN(E$4)),TRUE),0 )+E111))","v":""},{"$f":"IF(E112<>\"\",0,IF(OR(F111=\"\",F111>=105,$A112>F$110),\"\",MATCH(\"○\",INDIRECT(ADDRESS(ROW(F$4)+1+F111,COLUMN(F$4))&\":\"&ADDRESS(ROW(F$109),COLUMN(F$4)),TRUE),0 )+F111))","v":""},"","","","","","","","","","","","","","","","","","","","","","","","","","","","","","","","","","","","","","","","","","","","","","","","",null,null,null,null,{"$f":"IF($BN112=\"\",\"\",MAX($BG$4:$BG111)+1)","v":""},"","",{"$f":"VLOOKUP($BH112,'目標入力＞'!$Z$5:$AC$60,4,0)","v":""},"","","",null,null,{"$f":"IF(MAX($BP$1:$BP111)+1>MAX($BG$5:$BG$204),\"\",MAX($BP$1:$BP111)+1)","v":""},"","","","",""]
[2,"","",null,{"$f":"IF(D113<>\"\",0,IF(OR(E112=\"\",E112>=105,$A113>E$110),\"\",MATCH(\"○\",INDIRECT(ADDRESS(ROW(E$4)+1+E112,COLUMN(E$4))&\":\"&ADDRESS(ROW(E$109),COLUMN(E$4)),TRUE),0 )+E112))","v":""},"","","","","","","","","","","","","","","","","","","","","","","","","","","","","","","","","","","","","","","","","","","","","","","","","",null,null,null,null,{"$f":"IF($BN113=\"\",\"\",MAX($BG$4:$BG112)+1)","v":""},"","",{"$f":"VLOOKUP($BH113,'目標入力＞'!$Z$5:$AC$60,4,0)","v":""},"","","",null,null,{"$f":"IF(MAX($BP$1:$BP112)+1>MAX($BG$5:$BG$204),\"\",MAX($BP$1:$BP112)+1)","v":""},"","","","",""]
[3,"","",null,{"$f":"IF(D114<>\"\",0,IF(OR(E113=\"\",E113>=105,$A114>E$110),\"\",MATCH(\"○\",INDIRECT(ADDRESS(ROW(E$4)+1+E113,COLUMN(E$4))&\":\"&ADDRESS(ROW(E$109),COLUMN(E$4)),TRUE),0 )+E113))","v":""},"","","","","","","","","","","","","","","","","","","","","","","","","","","","","","","","","","","","","","","","","","","","","","","","","",null,null,null,null,{"$f":"IF($BN114=\"\",\"\",MAX($BG$4:$BG113)+1)","v":""},"","",{"$f":"VLOOKUP($BH114,'目標入力＞'!$Z$5:$AC$60,4,0)","v":""},"","","",null,null,{"$f":"IF(MAX($BP$1:$BP113)+1>MAX($BG$5:$BG$204),\"\",MAX($BP$1:$BP113)+1)","v":""},"","","","",""]
[4,"","",null,{"$f":"IF(D115<>\"\",0,IF(OR(E114=\"\",E114>=105,$A115>E$110),\"\",MATCH(\"○\",INDIRECT(ADDRESS(ROW(E$4)+1+E114,COLUMN(E$4))&\":\"&ADDRESS(ROW(E$109),COLUMN(E$4)),TRUE),0 )+E114))","v":""},"","","","","","","","","","","","","","","","","","","","","","","","","","","","","","","","","","","","","","","","","","","","","","","","","",null,null,null,null,{"$f":"IF($BN115=\"\",\"\",MAX($BG$4:$BG114)+1)","v":""},"","",{"$f":"VLOOKUP($BH115,'目標入力＞'!$Z$5:$AC$60,4,0)","v":""},"","","",null,null,{"$f":"IF(MAX($BP$1:$BP114)+1>MAX($BG$5:$BG$204),\"\",MAX($BP$1:$BP114)+1)","v":""},"","","","",""]
[5,"","",null,{"$f":"IF(D116<>\"\",0,IF(OR(E115=\"\",E115>=105,$A116>E$110),\"\",MATCH(\"○\",INDIRECT(ADDRESS(ROW(E$4)+1+E115,COLUMN(E$4))&\":\"&ADDRESS(ROW(E$109),COLUMN(E$4)),TRUE),0 )+E115))","v":""},"","","","","","","","","","","","","","","","","","","","","","","","","","","","","","","","","","","","","","","","","","","","","","","","","",null,null,null,null,{"$f":"IF($BN116=\"\",\"\",MAX($BG$4:$BG115)+1)","v":""},"","",{"$f":"VLOOKUP($BH116,'目標入力＞'!$Z$5:$AC$60,4,0)","v":""},"","","",null,null,{"$f":"IF(MAX($BP$1:$BP115)+1>MAX($BG$5:$BG$204),\"\",MAX($BP$1:$BP115)+1)","v":""},"","","","",""]
[6,"","",null,{"$f":"IF(D117<>\"\",0,IF(OR(E116=\"\",E116>=105,$A117>E$110),\"\",MATCH(\"○\",INDIRECT(ADDRESS(ROW(E$4)+1+E116,COLUMN(E$4))&\":\"&ADDRESS(ROW(E$109),COLUMN(E$4)),TRUE),0 )+E116))","v":""},"","","","","","","","","","","","","","","","","","","","","","","","","","","","","","","","","","","","","","","","","","","","","","","","","",null,null,null,null,{"$f":"IF($BN117=\"\",\"\",MAX($BG$4:$BG116)+1)","v":""},"","",{"$f":"VLOOKUP($BH117,'目標入力＞'!$Z$5:$AC$60,4,0)","v":""},"","","",null,null,{"$f":"IF(MAX($BP$1:$BP116)+1>MAX($BG$5:$BG$204),\"\",MAX($BP$1:$BP116)+1)","v":""},"","","","",""]
[7,"","",null,{"$f":"IF(D118<>\"\",0,IF(OR(E117=\"\",E117>=105,$A118>E$110),\"\",MATCH(\"○\",INDIRECT(ADDRESS(ROW(E$4)+1+E117,COLUMN(E$4))&\":\"&ADDRESS(ROW(E$109),COLUMN(E$4)),TRUE),0 )+E117))","v":""},"","","","","","","","","","","","","","","","","","","","","","","","","","","","","","","","","","","","","","","","","","","","","","","","","",null,null,null,null,{"$f":"IF($BN118=\"\",\"\",MAX($BG$4:$BG117)+1)","v":""},"","",{"$f":"VLOOKUP($BH118,'目標入力＞'!$Z$5:$AC$60,4,0)","v":""},"","","",null,null,{"$f":"IF(MAX($BP$1:$BP117)+1>MAX($BG$5:$BG$204),\"\",MAX($BP$1:$BP117)+1)","v":""},"","","","",""]
[8,{"$f":"IF(C119=\"\",\"\",INDEX(E$4:BB$4,COUNTBLANK($E119:$BB119)+1))","v":""},"",null,{"$f":"IF(D119<>\"\",0,IF(OR(E118=\"\",E118>=105,$A119>E$110),\"\",MATCH(\"○\",INDIRECT(ADDRESS(ROW(E$4)+1+E118,COLUMN(E$4))&\":\"&ADDRESS(ROW(E$109),COLUMN(E$4)),TRUE),0 )+E118))","v":""},"","","","","","","","","","","","","","","","","","","","","","","","","","","","","","","","","","","","","","","","","","","","","","","","","",null,null,null,null,{"$f":"IF($BN119=\"\",\"\",MAX($BG$4:$BG118)+1)","v":""},"","",{"$f":"VLOOKUP($BH119,'目標入力＞'!$Z$5:$AC$60,4,0)","v":""},"","","",null,null,{"$f":"IF(MAX($BP$1:$BP118)+1>MAX($BG$5:$BG$204),\"\",MAX($BP$1:$BP118)+1)","v":""},"","","","",""]
[9,{"$f":"IF(C120=\"\",\"\",INDEX(E$4:BB$4,COUNTBLANK($E120:$BB120)+1))","v":""},"",null,{"$f":"IF(D120<>\"\",0,IF(OR(E119=\"\",E119>=105,$A120>E$110),\"\",MATCH(\"○\",INDIRECT(ADDRESS(ROW(E$4)+1+E119,COLUMN(E$4))&\":\"&ADDRESS(ROW(E$109),COLUMN(E$4)),TRUE),0 )+E119))","v":""},"","","","","","","","","","","","","","","","","","","","","","","","","","","","","","","","","","","","","","","","","","","","","","","","","",null,null,null,null,{"$f":"IF($BN120=\"\",\"\",MAX($BG$4:$BG119)+1)","v":""},"","",{"$f":"VLOOKUP($BH120,'目標入力＞'!$Z$5:$AC$60,4,0)","v":""},"","","",null,null,{"$f":"IF(MAX($BP$1:$BP119)+1>MAX($BG$5:$BG$204),\"\",MAX($BP$1:$BP119)+1)","v":""},"","","","",""]
[10,"","",null,{"$f":"IF(D121<>\"\",0,IF(OR(E120=\"\",E120>=105,$A121>E$110),\"\",MATCH(\"○\",INDIRECT(ADDRESS(ROW(E$4)+1+E120,COLUMN(E$4))&\":\"&ADDRESS(ROW(E$109),COLUMN(E$4)),TRUE),0 )+E120))","v":""},"","","","","","","","","","","","","","","","","","","","","","","","","","","","","","","","","","","","","","","","","","","","","","","","","",null,null,null,null,{"$f":"IF($BN121=\"\",\"\",MAX($BG$4:$BG120)+1)","v":""},"","",{"$f":"VLOOKUP($BH121,'目標入力＞'!$Z$5:$AC$60,4,0)","v":""},"","","",null,null,{"$f":"IF(MAX($BP$1:$BP120)+1>MAX($BG$5:$BG$204),\"\",MAX($BP$1:$BP120)+1)","v":""},"","","","",""]
[11,"","",null,{"$f":"IF(D122<>\"\",0,IF(OR(E121=\"\",E121>=105,$A122>E$110),\"\",MATCH(\"○\",INDIRECT(ADDRESS(ROW(E$4)+1+E121,COLUMN(E$4))&\":\"&ADDRESS(ROW(E$109),COLUMN(E$4)),TRUE),0 )+E121))","v":""},"","","","","","","","","","","","","","","","","","","","","","","","","","","","","","","","","","","","","","","","","","","","","","","","","",null,null,null,null,{"$f":"IF($BN122=\"\",\"\",MAX($BG$4:$BG121)+1)","v":""},"","",{"$f":"VLOOKUP($BH122,'目標入力＞'!$Z$5:$AC$60,4,0)","v":""},"","","",null,null,{"$f":"IF(MAX($BP$1:$BP121)+1>MAX($BG$5:$BG$204),\"\",MAX($BP$1:$BP121)+1)","v":""},"","","","",""]
[12,"","",null,{"$f":"IF(D123<>\"\",0,IF(OR(E122=\"\",E122>=105,$A123>E$110),\"\",MATCH(\"○\",INDIRECT(ADDRESS(ROW(E$4)+1+E122,COLUMN(E$4))&\":\"&ADDRESS(ROW(E$109),COLUMN(E$4)),TRUE),0 )+E122))","v":""},"","","","","","","","","","","","","","","","","","","","","","","","","","","","","","","","","","","","","","","","","","","","","","","","","",null,null,null,null,{"$f":"IF($BN123=\"\",\"\",MAX($BG$4:$BG122)+1)","v":""},"","",{"$f":"VLOOKUP($BH123,'目標入力＞'!$Z$5:$AC$60,4,0)","v":""},"","","",null,null,{"$f":"IF(MAX($BP$1:$BP122)+1>MAX($BG$5:$BG$204),\"\",MAX($BP$1:$BP122)+1)","v":""},"","","","",""]
[13,"","",null,{"$f":"IF(D124<>\"\",0,IF(OR(E123=\"\",E123>=105,$A124>E$110),\"\",MATCH(\"○\",INDIRECT(ADDRESS(ROW(E$4)+1+E123,COLUMN(E$4))&\":\"&ADDRESS(ROW(E$109),COLUMN(E$4)),TRUE),0 )+E123))","v":""},"","","","","","","","","","","","","","","","","","","","","","","","","","","","","","","","","","","","","","","","","","","","","","","","","",null,null,null,null,{"$f":"IF($BN124=\"\",\"\",MAX($BG$4:$BG123)+1)","v":""},"","",{"$f":"VLOOKUP($BH124,'目標入力＞'!$Z$5:$AC$60,4,0)","v":""},"","","",null,null,{"$f":"IF(MAX($BP$1:$BP123)+1>MAX($BG$5:$BG$204),\"\",MAX($BP$1:$BP123)+1)","v":""},"","","","",""]
[14,"","",null,{"$f":"IF(D125<>\"\",0,IF(OR(E124=\"\",E124>=105,$A125>E$110),\"\",MATCH(\"○\",INDIRECT(ADDRESS(ROW(E$4)+1+E124,COLUMN(E$4))&\":\"&ADDRESS(ROW(E$109),COLUMN(E$4)),TRUE),0 )+E124))","v":""},"","","","","","","","","","","","","","","","","","","","","","","","","","","","","","","","","","","","","","","","","","","","","","","","","",null,null,null,null,{"$f":"IF($BN125=\"\",\"\",MAX($BG$4:$BG124)+1)","v":""},"","",{"$f":"VLOOKUP($BH125,'目標入力＞'!$Z$5:$AC$60,4,0)","v":""},{"$f":"VLOOKUP($BI125,$C$5:$BE$109,BK$3-1,0)","v":""},"","",null,null,{"$f":"IF(MAX($BP$1:$BP124)+1>MAX($BG$5:$BG$204),\"\",MAX($BP$1:$BP124)+1)","v":""},"","","","",""]
[15,"","",null,{"$f":"IF(D126<>\"\",0,IF(OR(E125=\"\",E125>=105,$A126>E$110),\"\",MATCH(\"○\",INDIRECT(ADDRESS(ROW(E$4)+1+E125,COLUMN(E$4))&\":\"&ADDRESS(ROW(E$109),COLUMN(E$4)),TRUE),0 )+E125))","v":""},"","","","","","","","","","","","","","","","","","","","","","","","","","","","","","","","","","","","","","","","","","","","","","","","","",null,null,null,null,{"$f":"IF($BN126=\"\",\"\",MAX($BG$4:$BG125)+1)","v":""},"","",{"$f":"VLOOKUP($BH126,'目標入力＞'!$Z$5:$AC$60,4,0)","v":""},"","","",null,null,{"$f":"IF(MAX($BP$1:$BP125)+1>MAX($BG$5:$BG$204),\"\",MAX($BP$1:$BP125)+1)","v":""},"","","","",""]
[16,"","",null,{"$f":"IF(D127<>\"\",0,IF(OR(E126=\"\",E126>=105,$A127>E$110),\"\",MATCH(\"○\",INDIRECT(ADDRESS(ROW(E$4)+1+E126,COLUMN(E$4))&\":\"&ADDRESS(ROW(E$109),COLUMN(E$4)),TRUE),0 )+E126))","v":""},"","","","","","","","","","","","","","","","","","","","","","","","","","","","","","","","","","","","","","","","","","","","","","","","","",null,null,null,null,{"$f":"IF($BN127=\"\",\"\",MAX($BG$4:$BG126)+1)","v":""},"","",{"$f":"VLOOKUP($BH127,'目標入力＞'!$Z$5:$AC$60,4,0)","v":""},"","","",null,null,{"$f":"IF(MAX($BP$1:$BP126)+1>MAX($BG$5:$BG$204),\"\",MAX($BP$1:$BP126)+1)","v":""},"","","","",""]
[17,"","",null,{"$f":"IF(D128<>\"\",0,IF(OR(E127=\"\",E127>=105,$A128>E$110),\"\",MATCH(\"○\",INDIRECT(ADDRESS(ROW(E$4)+1+E127,COLUMN(E$4))&\":\"&ADDRESS(ROW(E$109),COLUMN(E$4)),TRUE),0 )+E127))","v":""},"","","","","","","","","","","","","","","","","","","","","","","","","","","","","","","","","","","","","","","","","","","","","","","","","",null,null,null,null,{"$f":"IF($BN128=\"\",\"\",MAX($BG$4:$BG127)+1)","v":""},"","",{"$f":"VLOOKUP($BH128,'目標入力＞'!$Z$5:$AC$60,4,0)","v":""},"","","",null,null,{"$f":"IF(MAX($BP$1:$BP127)+1>MAX($BG$5:$BG$204),\"\",MAX($BP$1:$BP127)+1)","v":""},"","","","",""]
[18,"","",null,{"$f":"IF(D129<>\"\",0,IF(OR(E128=\"\",E128>=105,$A129>E$110),\"\",MATCH(\"○\",INDIRECT(ADDRESS(ROW(E$4)+1+E128,COLUMN(E$4))&\":\"&ADDRESS(ROW(E$109),COLUMN(E$4)),TRUE),0 )+E128))","v":""},"","","","","","","","","","","","","","","","","","","","","","","","","","","","","","","","","","","","","","","","","","","","","","","","","",null,null,null,null,{"$f":"IF($BN129=\"\",\"\",MAX($BG$4:$BG128)+1)","v":""},"","",{"$f":"VLOOKUP($BH129,'目標入力＞'!$Z$5:$AC$60,4,0)","v":""},"","","",null,null,{"$f":"IF(MAX($BP$1:$BP128)+1>MAX($BG$5:$BG$204),\"\",MAX($BP$1:$BP128)+1)","v":""},"","","","",""]
[19,"","",null,{"$f":"IF(D130<>\"\",0,IF(OR(E129=\"\",E129>=105,$A130>E$110),\"\",MATCH(\"○\",INDIRECT(ADDRESS(ROW(E$4)+1+E129,COLUMN(E$4))&\":\"&ADDRESS(ROW(E$109),COLUMN(E$4)),TRUE),0 )+E129))","v":""},"","","","","","","","","","","","","","","","","","","","","","","","","","","","","","","","","","","","","","","","","","","","","","","","","",null,null,null,null,{"$f":"IF($BN130=\"\",\"\",MAX($BG$4:$BG129)+1)","v":""},"","",{"$f":"VLOOKUP($BH130,'目標入力＞'!$Z$5:$AC$60,4,0)","v":""},"","","",null,null,{"$f":"IF(MAX($BP$1:$BP129)+1>MAX($BG$5:$BG$204),\"\",MAX($BP$1:$BP129)+1)","v":""},"","","","",""]
[20,"","",null,{"$f":"IF(D131<>\"\",0,IF(OR(E130=\"\",E130>=105,$A131>E$110),\"\",MATCH(\"○\",INDIRECT(ADDRESS(ROW(E$4)+1+E130,COLUMN(E$4))&\":\"&ADDRESS(ROW(E$109),COLUMN(E$4)),TRUE),0 )+E130))","v":""},"","","","","","","","","","","","","","","","","","","","","","","","","","","","","","","","","","","","","","","","","","","","","","","","","",null,null,null,null,{"$f":"IF($BN131=\"\",\"\",MAX($BG$4:$BG130)+1)","v":""},"","",{"$f":"VLOOKUP($BH131,'目標入力＞'!$Z$5:$AC$60,4,0)","v":""},"","","",null,null,{"$f":"IF(MAX($BP$1:$BP130)+1>MAX($BG$5:$BG$204),\"\",MAX($BP$1:$BP130)+1)","v":""},"","","","",""]
[21,"","",null,{"$f":"IF(D132<>\"\",0,IF(OR(E131=\"\",E131>=105,$A132>E$110),\"\",MATCH(\"○\",INDIRECT(ADDRESS(ROW(E$4)+1+E131,COLUMN(E$4))&\":\"&ADDRESS(ROW(E$109),COLUMN(E$4)),TRUE),0 )+E131))","v":""},"","","","","","","","","","","","","","","","","","","","","","","","","","","","","","","","","","","","","","","","","","","","","","","","","",null,null,null,null,{"$f":"IF($BN132=\"\",\"\",MAX($BG$4:$BG131)+1)","v":""},"","",{"$f":"VLOOKUP($BH132,'目標入力＞'!$Z$5:$AC$60,4,0)","v":""},"","","",null,null,{"$f":"IF(MAX($BP$1:$BP131)+1>MAX($BG$5:$BG$204),\"\",MAX($BP$1:$BP131)+1)","v":""},"","","","",""]
[22,"","",null,{"$f":"IF(D133<>\"\",0,IF(OR(E132=\"\",E132>=105,$A133>E$110),\"\",MATCH(\"○\",INDIRECT(ADDRESS(ROW(E$4)+1+E132,COLUMN(E$4))&\":\"&ADDRESS(ROW(E$109),COLUMN(E$4)),TRUE),0 )+E132))","v":""},"","","","","","","","","","","","","","","","","","","","","","","","","","","","","","","","","","","","","","","","","","","","","","","","","",null,null,null,null,{"$f":"IF($BN133=\"\",\"\",MAX($BG$4:$BG132)+1)","v":""},{"$f":"$B240","v":""},{"$f":"$C240","v":""},{"$f":"VLOOKUP($BH133,'目標入力＞'!$Z$5:$AC$60,4,0)","v":""},"","","",null,null,{"$f":"IF(MAX($BP$1:$BP132)+1>MAX($BG$5:$BG$204),\"\",MAX($BP$1:$BP132)+1)","v":""},"","","","",""]
[23,"","",null,{"$f":"IF(D134<>\"\",0,IF(OR(E133=\"\",E133>=105,$A134>E$110),\"\",MATCH(\"○\",INDIRECT(ADDRESS(ROW(E$4)+1+E133,COLUMN(E$4))&\":\"&ADDRESS(ROW(E$109),COLUMN(E$4)),TRUE),0 )+E133))","v":""},"","","","","","","","","","","","","","","","","","","","","","","","","","","","","","","","","","","","","","","","","","","","","","","","","",null,null,null,null,{"$f":"IF($BN134=\"\",\"\",MAX($BG$4:$BG133)+1)","v":""},"","",{"$f":"VLOOKUP($BH134,'目標入力＞'!$Z$5:$AC$60,4,0)","v":""},"","","",null,null,{"$f":"IF(MAX($BP$1:$BP133)+1>MAX($BG$5:$BG$204),\"\",MAX($BP$1:$BP133)+1)","v":""},{"$f":"IF($BP134=\"\",\"\",VLOOKUP($BP134,$BG$5:$BK$204,2,0))","v":""},{"$f":"IF($BP134=\"\",\"\",VLOOKUP($BP134,$BG$5:$BK$204,3,0))","v":""},{"$f":"IF($BP134=\"\",\"\",VLOOKUP($BP134,$BG$5:$BL$204,5,0))","v":""},{"$f":"IF($BP134=\"\",\"\",VLOOKUP($BP134,$BG$5:$BM$204,6,0))","v":""},{"$f":"IF($BP134=\"\",\"\",VLOOKUP($BP134,$BG$5:$BM$204,7,0))","v":""}]
[24,"","",null,{"$f":"IF(D135<>\"\",0,IF(OR(E134=\"\",E134>=105,$A135>E$110),\"\",MATCH(\"○\",INDIRECT(ADDRESS(ROW(E$4)+1+E134,COLUMN(E$4))&\":\"&ADDRESS(ROW(E$109),COLUMN(E$4)),TRUE),0 )+E134))","v":""},"","","","","","","","","","","","","","","","","","","","","","","","","","","","","","","","","","","","","","","","","","","","","","","","","",null,null,null,null,{"$f":"IF($BN135=\"\",\"\",MAX($BG$4:$BG134)+1)","v":""},"","",{"$f":"VLOOKUP($BH135,'目標入力＞'!$Z$5:$AC$60,4,0)","v":""},"","","",null,null,{"$f":"IF(MAX($BP$1:$BP134)+1>MAX($BG$5:$BG$204),\"\",MAX($BP$1:$BP134)+1)","v":""},"","","","",""]
[25,"","",null,{"$f":"IF(D136<>\"\",0,IF(OR(E135=\"\",E135>=105,$A136>E$110),\"\",MATCH(\"○\",INDIRECT(ADDRESS(ROW(E$4)+1+E135,COLUMN(E$4))&\":\"&ADDRESS(ROW(E$109),COLUMN(E$4)),TRUE),0 )+E135))","v":""},"","","","","","","","","","","","","","","","","","","","","","","","","","","","","","","","","","","","","","","","","","","","","","","","","",null,null,null,null,{"$f":"IF($BN136=\"\",\"\",MAX($BG$4:$BG135)+1)","v":""},"","",{"$f":"VLOOKUP($BH136,'目標入力＞'!$Z$5:$AC$60,4,0)","v":""},"","","",null,null,{"$f":"IF(MAX($BP$1:$BP135)+1>MAX($BG$5:$BG$204),\"\",MAX($BP$1:$BP135)+1)","v":""},"","","","",""]
[26,"","",null,{"$f":"IF(D137<>\"\",0,IF(OR(E136=\"\",E136>=105,$A137>E$110),\"\",MATCH(\"○\",INDIRECT(ADDRESS(ROW(E$4)+1+E136,COLUMN(E$4))&\":\"&ADDRESS(ROW(E$109),COLUMN(E$4)),TRUE),0 )+E136))","v":""},"","","","","","","","","","","","","","","","","","","","","","","","","","","","","","","","","","","","","","","","","","","","","","","","","",null,null,null,null,{"$f":"IF($BN137=\"\",\"\",MAX($BG$4:$BG136)+1)","v":""},"","",{"$f":"VLOOKUP($BH137,'目標入力＞'!$Z$5:$AC$60,4,0)","v":""},"","","",null,null,{"$f":"IF(MAX($BP$1:$BP136)+1>MAX($BG$5:$BG$204),\"\",MAX($BP$1:$BP136)+1)","v":""},"","","","",""]
[27,"","",null,{"$f":"IF(D138<>\"\",0,IF(OR(E137=\"\",E137>=105,$A138>E$110),\"\",MATCH(\"○\",INDIRECT(ADDRESS(ROW(E$4)+1+E137,COLUMN(E$4))&\":\"&ADDRESS(ROW(E$109),COLUMN(E$4)),TRUE),0 )+E137))","v":""},"","","","","","","","","","","","","","","","","","","","","","","","","","","","","","","","","","","","","","","","","","","","","","","","","",null,null,null,null,{"$f":"IF($BN138=\"\",\"\",MAX($BG$4:$BG137)+1)","v":""},"","",{"$f":"VLOOKUP($BH138,'目標入力＞'!$Z$5:$AC$60,4,0)","v":""},"","","",null,null,{"$f":"IF(MAX($BP$1:$BP137)+1>MAX($BG$5:$BG$204),\"\",MAX($BP$1:$BP137)+1)","v":""},"","","","",""]
[28,"","",null,{"$f":"IF(D139<>\"\",0,IF(OR(E138=\"\",E138>=105,$A139>E$110),\"\",MATCH(\"○\",INDIRECT(ADDRESS(ROW(E$4)+1+E138,COLUMN(E$4))&\":\"&ADDRESS(ROW(E$109),COLUMN(E$4)),TRUE),0 )+E138))","v":""},"","","","","","","","","","","","","","","","","","","","","","","","","","","","","","","","","","","","","","","","","","","","","","","","","",null,null,null,null,{"$f":"IF($BN139=\"\",\"\",MAX($BG$4:$BG138)+1)","v":""},"","",{"$f":"VLOOKUP($BH139,'目標入力＞'!$Z$5:$AC$60,4,0)","v":""},"","","",null,null,{"$f":"IF(MAX($BP$1:$BP138)+1>MAX($BG$5:$BG$204),\"\",MAX($BP$1:$BP138)+1)","v":""},"","","","",""]
[29,"","",null,{"$f":"IF(D140<>\"\",0,IF(OR(E139=\"\",E139>=105,$A140>E$110),\"\",MATCH(\"○\",INDIRECT(ADDRESS(ROW(E$4)+1+E139,COLUMN(E$4))&\":\"&ADDRESS(ROW(E$109),COLUMN(E$4)),TRUE),0 )+E139))","v":""},"","","","","","","","","","","","","","","","","","","","","","","","","","","","","","","","","","","","","","","","","","","","","","","","","",null,null,null,null,{"$f":"IF($BN140=\"\",\"\",MAX($BG$4:$BG139)+1)","v":""},"","",{"$f":"VLOOKUP($BH140,'目標入力＞'!$Z$5:$AC$60,4,0)","v":""},"","","",null,null,{"$f":"IF(MAX($BP$1:$BP139)+1>MAX($BG$5:$BG$204),\"\",MAX($BP$1:$BP139)+1)","v":""},"","","","",""]
[30,"","",null,{"$f":"IF(D141<>\"\",0,IF(OR(E140=\"\",E140>=105,$A141>E$110),\"\",MATCH(\"○\",INDIRECT(ADDRESS(ROW(E$4)+1+E140,COLUMN(E$4))&\":\"&ADDRESS(ROW(E$109),COLUMN(E$4)),TRUE),0 )+E140))","v":""},"","","","","","","","","","","","","","","","","","","","","","","","","","","","","","","","","","","","","","","","","","","","","","","","","",null,null,null,null,{"$f":"IF($BN141=\"\",\"\",MAX($BG$4:$BG140)+1)","v":""},"","",{"$f":"VLOOKUP($BH141,'目標入力＞'!$Z$5:$AC$60,4,0)","v":""},"","","",null,null,{"$f":"IF(MAX($BP$1:$BP140)+1>MAX($BG$5:$BG$204),\"\",MAX($BP$1:$BP140)+1)","v":""},"","","","",""]
[31,"","",null,{"$f":"IF(D142<>\"\",0,IF(OR(E141=\"\",E141>=105,$A142>E$110),\"\",MATCH(\"○\",INDIRECT(ADDRESS(ROW(E$4)+1+E141,COLUMN(E$4))&\":\"&ADDRESS(ROW(E$109),COLUMN(E$4)),TRUE),0 )+E141))","v":""},"","","","","","","","","","","","","","","","","","","","","","","","","","","","","","","","","","","","","","","","","","","","","","","","","",null,null,null,null,{"$f":"IF($BN142=\"\",\"\",MAX($BG$4:$BG141)+1)","v":""},"","",{"$f":"VLOOKUP($BH142,'目標入力＞'!$Z$5:$AC$60,4,0)","v":""},"","","",null,null,{"$f":"IF(MAX($BP$1:$BP141)+1>MAX($BG$5:$BG$204),\"\",MAX($BP$1:$BP141)+1)","v":""},"","","","",""]
[32,"","",null,{"$f":"IF(D143<>\"\",0,IF(OR(E142=\"\",E142>=105,$A143>E$110),\"\",MATCH(\"○\",INDIRECT(ADDRESS(ROW(E$4)+1+E142,COLUMN(E$4))&\":\"&ADDRESS(ROW(E$109),COLUMN(E$4)),TRUE),0 )+E142))","v":""},"","","","","","","","","","","","","","","","","","","","","","","","","","","","","","","","","","","","","","","","","","","","","","","","","",null,null,null,null,{"$f":"IF($BN143=\"\",\"\",MAX($BG$4:$BG142)+1)","v":""},"","",{"$f":"VLOOKUP($BH143,'目標入力＞'!$Z$5:$AC$60,4,0)","v":""},"","","",null,null,{"$f":"IF(MAX($BP$1:$BP142)+1>MAX($BG$5:$BG$204),\"\",MAX($BP$1:$BP142)+1)","v":""},"","","","",""]
[33,"","",null,{"$f":"IF(D144<>\"\",0,IF(OR(E143=\"\",E143>=105,$A144>E$110),\"\",MATCH(\"○\",INDIRECT(ADDRESS(ROW(E$4)+1+E143,COLUMN(E$4))&\":\"&ADDRESS(ROW(E$109),COLUMN(E$4)),TRUE),0 )+E143))","v":""},"","","","","","","","","","","","","","","","","","","","","","","","","","","","","","","","","","","","","","","","","","","","","","","","","",null,null,null,null,{"$f":"IF($BN144=\"\",\"\",MAX($BG$4:$BG143)+1)","v":""},"","",{"$f":"VLOOKUP($BH144,'目標入力＞'!$Z$5:$AC$60,4,0)","v":""},"","","",null,null,{"$f":"IF(MAX($BP$1:$BP143)+1>MAX($BG$5:$BG$204),\"\",MAX($BP$1:$BP143)+1)","v":""},"","","","",""]
[34,"","",null,{"$f":"IF(D145<>\"\",0,IF(OR(E144=\"\",E144>=105,$A145>E$110),\"\",MATCH(\"○\",INDIRECT(ADDRESS(ROW(E$4)+1+E144,COLUMN(E$4))&\":\"&ADDRESS(ROW(E$109),COLUMN(E$4)),TRUE),0 )+E144))","v":""},"","","","","","","","","","","","","","","","","","","","","","","","","","","","","","","","","","","","","","","","","","","","","","","","","",null,null,null,null,{"$f":"IF($BN145=\"\",\"\",MAX($BG$4:$BG144)+1)","v":""},"","",{"$f":"VLOOKUP($BH145,'目標入力＞'!$Z$5:$AC$60,4,0)","v":""},{"$f":"VLOOKUP($BI145,$C$5:$BE$109,BK$3-1,0)","v":""},"","",null,null,{"$f":"IF(MAX($BP$1:$BP144)+1>MAX($BG$5:$BG$204),\"\",MAX($BP$1:$BP144)+1)","v":""},"","","","",""]
[35,"","",null,{"$f":"IF(D146<>\"\",0,IF(OR(E145=\"\",E145>=105,$A146>E$110),\"\",MATCH(\"○\",INDIRECT(ADDRESS(ROW(E$4)+1+E145,COLUMN(E$4))&\":\"&ADDRESS(ROW(E$109),COLUMN(E$4)),TRUE),0 )+E145))","v":""},"","","","","","","","","","","","","","","","","","","","","","","","","","","","","","","","","","","","","","","","","","","","","","","","","",null,null,null,null,{"$f":"IF($BN146=\"\",\"\",MAX($BG$4:$BG145)+1)","v":""},"","",{"$f":"VLOOKUP($BH146,'目標入力＞'!$Z$5:$AC$60,4,0)","v":""},"","","",null,null,{"$f":"IF(MAX($BP$1:$BP145)+1>MAX($BG$5:$BG$204),\"\",MAX($BP$1:$BP145)+1)","v":""},"","","","",""]
[36,"","",null,{"$f":"IF(D147<>\"\",0,IF(OR(E146=\"\",E146>=105,$A147>E$110),\"\",MATCH(\"○\",INDIRECT(ADDRESS(ROW(E$4)+1+E146,COLUMN(E$4))&\":\"&ADDRESS(ROW(E$109),COLUMN(E$4)),TRUE),0 )+E146))","v":""},"","","","","","","","","","","","","","","","","","","","","","","","","","","","","","","","","","","","","","","","","","","","","","","","","",null,null,null,null,{"$f":"IF($BN147=\"\",\"\",MAX($BG$4:$BG146)+1)","v":""},"","",{"$f":"VLOOKUP($BH147,'目標入力＞'!$Z$5:$AC$60,4,0)","v":""},"","","",null,null,{"$f":"IF(MAX($BP$1:$BP146)+1>MAX($BG$5:$BG$204),\"\",MAX($BP$1:$BP146)+1)","v":""},"","","","",""]
[37,"","",null,{"$f":"IF(D148<>\"\",0,IF(OR(E147=\"\",E147>=105,$A148>E$110),\"\",MATCH(\"○\",INDIRECT(ADDRESS(ROW(E$4)+1+E147,COLUMN(E$4))&\":\"&ADDRESS(ROW(E$109),COLUMN(E$4)),TRUE),0 )+E147))","v":""},"","","","","","","","","","","","","","","","","","","","","","","","","","","","","","","","","","","","","","","","","","","","","","","","","",null,null,null,null,{"$f":"IF($BN148=\"\",\"\",MAX($BG$4:$BG147)+1)","v":""},"","",{"$f":"VLOOKUP($BH148,'目標入力＞'!$Z$5:$AC$60,4,0)","v":""},"","","",null,null,{"$f":"IF(MAX($BP$1:$BP147)+1>MAX($BG$5:$BG$204),\"\",MAX($BP$1:$BP147)+1)","v":""},"","","","",""]
[38,"","",null,{"$f":"IF(D149<>\"\",0,IF(OR(E148=\"\",E148>=105,$A149>E$110),\"\",MATCH(\"○\",INDIRECT(ADDRESS(ROW(E$4)+1+E148,COLUMN(E$4))&\":\"&ADDRESS(ROW(E$109),COLUMN(E$4)),TRUE),0 )+E148))","v":""},"","","","","","","","","","","","","","","","","","","","","","","","","","","","","","","","","","","","","","","","","","","","","","","","","",null,null,null,null,{"$f":"IF($BN149=\"\",\"\",MAX($BG$4:$BG148)+1)","v":""},"","",{"$f":"VLOOKUP($BH149,'目標入力＞'!$Z$5:$AC$60,4,0)","v":""},"","","",null,null,{"$f":"IF(MAX($BP$1:$BP148)+1>MAX($BG$5:$BG$204),\"\",MAX($BP$1:$BP148)+1)","v":""},"","","","",""]
[39,"","",null,{"$f":"IF(D150<>\"\",0,IF(OR(E149=\"\",E149>=105,$A150>E$110),\"\",MATCH(\"○\",INDIRECT(ADDRESS(ROW(E$4)+1+E149,COLUMN(E$4))&\":\"&ADDRESS(ROW(E$109),COLUMN(E$4)),TRUE),0 )+E149))","v":""},"","","","","","","","","","","","","","","","","","","","","","","","","","","","","","","","","","","","","","","","","","","","","","","","","",null,null,null,null,{"$f":"IF($BN150=\"\",\"\",MAX($BG$4:$BG149)+1)","v":""},"","",{"$f":"VLOOKUP($BH150,'目標入力＞'!$Z$5:$AC$60,4,0)","v":""},"","","",null,null,{"$f":"IF(MAX($BP$1:$BP149)+1>MAX($BG$5:$BG$204),\"\",MAX($BP$1:$BP149)+1)","v":""},"","","","",""]
[40,"","",null,{"$f":"IF(D151<>\"\",0,IF(OR(E150=\"\",E150>=105,$A151>E$110),\"\",MATCH(\"○\",INDIRECT(ADDRESS(ROW(E$4)+1+E150,COLUMN(E$4))&\":\"&ADDRESS(ROW(E$109),COLUMN(E$4)),TRUE),0 )+E150))","v":""},"","","","","","","","","","","","","","","","","","","","","","","","","","","","","","","","","","","","","","","","","","","","","","","","","",null,null,null,null,{"$f":"IF($BN151=\"\",\"\",MAX($BG$4:$BG150)+1)","v":""},"","",{"$f":"VLOOKUP($BH151,'目標入力＞'!$Z$5:$AC$60,4,0)","v":""},"","","",null,null,{"$f":"IF(MAX($BP$1:$BP150)+1>MAX($BG$5:$BG$204),\"\",MAX($BP$1:$BP150)+1)","v":""},"","","","",""]
[41,"","",null,{"$f":"IF(D152<>\"\",0,IF(OR(E151=\"\",E151>=105,$A152>E$110),\"\",MATCH(\"○\",INDIRECT(ADDRESS(ROW(E$4)+1+E151,COLUMN(E$4))&\":\"&ADDRESS(ROW(E$109),COLUMN(E$4)),TRUE),0 )+E151))","v":""},"","","","","","","","","","","","","","","","","","","","","","","","","","","","","","","","","","","","","","","","","","","","","","","","","",null,null,null,null,{"$f":"IF($BN152=\"\",\"\",MAX($BG$4:$BG151)+1)","v":""},"","",{"$f":"VLOOKUP($BH152,'目標入力＞'!$Z$5:$AC$60,4,0)","v":""},"","","",null,null,{"$f":"IF(MAX($BP$1:$BP151)+1>MAX($BG$5:$BG$204),\"\",MAX($BP$1:$BP151)+1)","v":""},"","","","",""]
[42,"","",null,{"$f":"IF(D153<>\"\",0,IF(OR(E152=\"\",E152>=105,$A153>E$110),\"\",MATCH(\"○\",INDIRECT(ADDRESS(ROW(E$4)+1+E152,COLUMN(E$4))&\":\"&ADDRESS(ROW(E$109),COLUMN(E$4)),TRUE),0 )+E152))","v":""},"","","","","","","","","","","","","","","","","","","","","","","","","","","","","","","","","","","","","","","","","","","","","","","","","",null,null,null,null,{"$f":"IF($BN153=\"\",\"\",MAX($BG$4:$BG152)+1)","v":""},"","",{"$f":"VLOOKUP($BH153,'目標入力＞'!$Z$5:$AC$60,4,0)","v":""},"","","",null,null,{"$f":"IF(MAX($BP$1:$BP152)+1>MAX($BG$5:$BG$204),\"\",MAX($BP$1:$BP152)+1)","v":""},"","","","",""]
[43,"","",null,{"$f":"IF(D154<>\"\",0,IF(OR(E153=\"\",E153>=105,$A154>E$110),\"\",MATCH(\"○\",INDIRECT(ADDRESS(ROW(E$4)+1+E153,COLUMN(E$4))&\":\"&ADDRESS(ROW(E$109),COLUMN(E$4)),TRUE),0 )+E153))","v":""},"","","","","","","","","","","","","","","","","","","","","","","","","","","","","","","","","","","","","","","","","","","","","","","","","",null,null,null,null,{"$f":"IF($BN154=\"\",\"\",MAX($BG$4:$BG153)+1)","v":""},"","",{"$f":"VLOOKUP($BH154,'目標入力＞'!$Z$5:$AC$60,4,0)","v":""},"","","",null,null,{"$f":"IF(MAX($BP$1:$BP153)+1>MAX($BG$5:$BG$204),\"\",MAX($BP$1:$BP153)+1)","v":""},"","","","",""]
[44,"","",null,{"$f":"IF(D155<>\"\",0,IF(OR(E154=\"\",E154>=105,$A155>E$110),\"\",MATCH(\"○\",INDIRECT(ADDRESS(ROW(E$4)+1+E154,COLUMN(E$4))&\":\"&ADDRESS(ROW(E$109),COLUMN(E$4)),TRUE),0 )+E154))","v":""},"","","","","","","","","","","","","","","","","","","","","","","","","","","","","","","","","","","","","","","","","","","","","","","","","",null,null,null,null,{"$f":"IF($BN155=\"\",\"\",MAX($BG$4:$BG154)+1)","v":""},"","",{"$f":"VLOOKUP($BH155,'目標入力＞'!$Z$5:$AC$60,4,0)","v":""},"","","",null,null,{"$f":"IF(MAX($BP$1:$BP154)+1>MAX($BG$5:$BG$204),\"\",MAX($BP$1:$BP154)+1)","v":""},"","","","",""]
[45,"","",null,{"$f":"IF(D156<>\"\",0,IF(OR(E155=\"\",E155>=105,$A156>E$110),\"\",MATCH(\"○\",INDIRECT(ADDRESS(ROW(E$4)+1+E155,COLUMN(E$4))&\":\"&ADDRESS(ROW(E$109),COLUMN(E$4)),TRUE),0 )+E155))","v":""},"","","","","","","","","","","","","","","","","","","","","","","","","","","","","","","","","","","","","","","","","","","","","","","","","",null,null,null,null,{"$f":"IF($BN156=\"\",\"\",MAX($BG$4:$BG155)+1)","v":""},"","",{"$f":"VLOOKUP($BH156,'目標入力＞'!$Z$5:$AC$60,4,0)","v":""},"","","",null,null,{"$f":"IF(MAX($BP$1:$BP155)+1>MAX($BG$5:$BG$204),\"\",MAX($BP$1:$BP155)+1)","v":""},"","","","",""]
[46,"","",null,{"$f":"IF(D157<>\"\",0,IF(OR(E156=\"\",E156>=105,$A157>E$110),\"\",MATCH(\"○\",INDIRECT(ADDRESS(ROW(E$4)+1+E156,COLUMN(E$4))&\":\"&ADDRESS(ROW(E$109),COLUMN(E$4)),TRUE),0 )+E156))","v":""},"","","","","","","","","","","","","","","","","","","","","","","","","","","","","","","","","","","","","","","","","","","","","","","","","",null,null,null,null,{"$f":"IF($BN157=\"\",\"\",MAX($BG$4:$BG156)+1)","v":""},"","",{"$f":"VLOOKUP($BH157,'目標入力＞'!$Z$5:$AC$60,4,0)","v":""},"","","",null,null,{"$f":"IF(MAX($BP$1:$BP156)+1>MAX($BG$5:$BG$204),\"\",MAX($BP$1:$BP156)+1)","v":""},"","","","",""]
[47,"","",null,{"$f":"IF(D158<>\"\",0,IF(OR(E157=\"\",E157>=105,$A158>E$110),\"\",MATCH(\"○\",INDIRECT(ADDRESS(ROW(E$4)+1+E157,COLUMN(E$4))&\":\"&ADDRESS(ROW(E$109),COLUMN(E$4)),TRUE),0 )+E157))","v":""},"","","","","","","","","","","","","","","","","","","","","","","","","","","","","","","","","","","","","","","","","","","","","","","","","",null,null,null,null,{"$f":"IF($BN158=\"\",\"\",MAX($BG$4:$BG157)+1)","v":""},"","",{"$f":"VLOOKUP($BH158,'目標入力＞'!$Z$5:$AC$60,4,0)","v":""},"","","",null,null,{"$f":"IF(MAX($BP$1:$BP157)+1>MAX($BG$5:$BG$204),\"\",MAX($BP$1:$BP157)+1)","v":""},"","","","",""]
[48,"","",null,{"$f":"IF(D159<>\"\",0,IF(OR(E158=\"\",E158>=105,$A159>E$110),\"\",MATCH(\"○\",INDIRECT(ADDRESS(ROW(E$4)+1+E158,COLUMN(E$4))&\":\"&ADDRESS(ROW(E$109),COLUMN(E$4)),TRUE),0 )+E158))","v":""},"","","","","","","","","","","","","","","","","","","","","","","","","","","","","","","","","","","","","","","","","","","","","","","","","",null,null,null,null,{"$f":"IF($BN159=\"\",\"\",MAX($BG$4:$BG158)+1)","v":""},"","",{"$f":"VLOOKUP($BH159,'目標入力＞'!$Z$5:$AC$60,4,0)","v":""},"","","",null,null,{"$f":"IF(MAX($BP$1:$BP158)+1>MAX($BG$5:$BG$204),\"\",MAX($BP$1:$BP158)+1)","v":""},"","","","",""]
[49,"","",null,{"$f":"IF(D160<>\"\",0,IF(OR(E159=\"\",E159>=105,$A160>E$110),\"\",MATCH(\"○\",INDIRECT(ADDRESS(ROW(E$4)+1+E159,COLUMN(E$4))&\":\"&ADDRESS(ROW(E$109),COLUMN(E$4)),TRUE),0 )+E159))","v":""},"","","","","","","","","","","","","","","","","","","","","","","","","","","","","","","","","","","","","","","","","","","","","","","","","",null,null,null,null,{"$f":"IF($BN160=\"\",\"\",MAX($BG$4:$BG159)+1)","v":""},"","",{"$f":"VLOOKUP($BH160,'目標入力＞'!$Z$5:$AC$60,4,0)","v":""},"","","",null,null,{"$f":"IF(MAX($BP$1:$BP159)+1>MAX($BG$5:$BG$204),\"\",MAX($BP$1:$BP159)+1)","v":""},"","","","",""]
[50,"","",null,{"$f":"IF(D161<>\"\",0,IF(OR(E160=\"\",E160>=105,$A161>E$110),\"\",MATCH(\"○\",INDIRECT(ADDRESS(ROW(E$4)+1+E160,COLUMN(E$4))&\":\"&ADDRESS(ROW(E$109),COLUMN(E$4)),TRUE),0 )+E160))","v":""},"","","","","","","","","","","","","","","","","","","","","","","","","","","","","","","","","","","","","","","","","","","","","","","","","",null,null,null,null,{"$f":"IF($BN161=\"\",\"\",MAX($BG$4:$BG160)+1)","v":""},"","",{"$f":"VLOOKUP($BH161,'目標入力＞'!$Z$5:$AC$60,4,0)","v":""},"","","",null,null,{"$f":"IF(MAX($BP$1:$BP160)+1>MAX($BG$5:$BG$204),\"\",MAX($BP$1:$BP160)+1)","v":""},"","","","",""]
[51,"","",null,{"$f":"IF(D162<>\"\",0,IF(OR(E161=\"\",E161>=105,$A162>E$110),\"\",MATCH(\"○\",INDIRECT(ADDRESS(ROW(E$4)+1+E161,COLUMN(E$4))&\":\"&ADDRESS(ROW(E$109),COLUMN(E$4)),TRUE),0 )+E161))","v":""},"","","","","","","","","","","","","","","","","","","","","","","","","","","","","","","","","","","","","","","","","","","","","","","","","",null,null,null,null,{"$f":"IF($BN162=\"\",\"\",MAX($BG$4:$BG161)+1)","v":""},"","",{"$f":"VLOOKUP($BH162,'目標入力＞'!$Z$5:$AC$60,4,0)","v":""},"","","",null,null,{"$f":"IF(MAX($BP$1:$BP161)+1>MAX($BG$5:$BG$204),\"\",MAX($BP$1:$BP161)+1)","v":""},"","","","",""]
[52,"","",null,{"$f":"IF(D163<>\"\",0,IF(OR(E162=\"\",E162>=105,$A163>E$110),\"\",MATCH(\"○\",INDIRECT(ADDRESS(ROW(E$4)+1+E162,COLUMN(E$4))&\":\"&ADDRESS(ROW(E$109),COLUMN(E$4)),TRUE),0 )+E162))","v":""},"","","","","","","","","","","","","","","","","","","","","","","","","","","","","","","","","","","","","","","","","","","","","","","","","",null,null,null,null,{"$f":"IF($BN163=\"\",\"\",MAX($BG$4:$BG162)+1)","v":""},"","",{"$f":"VLOOKUP($BH163,'目標入力＞'!$Z$5:$AC$60,4,0)","v":""},"","","",null,null,{"$f":"IF(MAX($BP$1:$BP162)+1>MAX($BG$5:$BG$204),\"\",MAX($BP$1:$BP162)+1)","v":""},"","","","",""]
[53,"","",null,{"$f":"IF(D164<>\"\",0,IF(OR(E163=\"\",E163>=105,$A164>E$110),\"\",MATCH(\"○\",INDIRECT(ADDRESS(ROW(E$4)+1+E163,COLUMN(E$4))&\":\"&ADDRESS(ROW(E$109),COLUMN(E$4)),TRUE),0 )+E163))","v":""},"","","","","","","","","","","","","","","","","","","","","","","","","","","","","","","","","","","","","","","","","","","","","","","","","",null,null,null,null,{"$f":"IF($BN164=\"\",\"\",MAX($BG$4:$BG163)+1)","v":""},"","",{"$f":"VLOOKUP($BH164,'目標入力＞'!$Z$5:$AC$60,4,0)","v":""},"","","",null,null,{"$f":"IF(MAX($BP$1:$BP163)+1>MAX($BG$5:$BG$204),\"\",MAX($BP$1:$BP163)+1)","v":""},"","","","",""]
[54,"","",null,{"$f":"IF(D165<>\"\",0,IF(OR(E164=\"\",E164>=105,$A165>E$110),\"\",MATCH(\"○\",INDIRECT(ADDRESS(ROW(E$4)+1+E164,COLUMN(E$4))&\":\"&ADDRESS(ROW(E$109),COLUMN(E$4)),TRUE),0 )+E164))","v":""},"","","","","","","","","","","","","","","","","","","","","","","","","","","","","","","","","","","","","","","","","","","","","","","","","",null,null,null,null,{"$f":"IF($BN165=\"\",\"\",MAX($BG$4:$BG164)+1)","v":""},{"$f":"$B272","v":""},{"$f":"$C272","v":""},{"$f":"VLOOKUP($BH165,'目標入力＞'!$Z$5:$AC$60,4,0)","v":""},{"$f":"VLOOKUP($BI165,$C$5:$BE$109,BK$3-1,0)","v":""},"","",null,null,{"$f":"IF(MAX($BP$1:$BP164)+1>MAX($BG$5:$BG$204),\"\",MAX($BP$1:$BP164)+1)","v":""},"","","","",""]
[55,"","",null,{"$f":"IF(D166<>\"\",0,IF(OR(E165=\"\",E165>=105,$A166>E$110),\"\",MATCH(\"○\",INDIRECT(ADDRESS(ROW(E$4)+1+E165,COLUMN(E$4))&\":\"&ADDRESS(ROW(E$109),COLUMN(E$4)),TRUE),0 )+E165))","v":""},"","","","","","","","","","","","","","","","","","","","","","","","","","","","","","","","","","","","","","","","","","","","","","","","","",null,null,null,null,{"$f":"IF($BN166=\"\",\"\",MAX($BG$4:$BG165)+1)","v":""},"","",{"$f":"VLOOKUP($BH166,'目標入力＞'!$Z$5:$AC$60,4,0)","v":""},"","","",null,null,{"$f":"IF(MAX($BP$1:$BP165)+1>MAX($BG$5:$BG$204),\"\",MAX($BP$1:$BP165)+1)","v":""},"","","","",""]
[56,"","",null,{"$f":"IF(D167<>\"\",0,IF(OR(E166=\"\",E166>=105,$A167>E$110),\"\",MATCH(\"○\",INDIRECT(ADDRESS(ROW(E$4)+1+E166,COLUMN(E$4))&\":\"&ADDRESS(ROW(E$109),COLUMN(E$4)),TRUE),0 )+E166))","v":""},"","","","","","","","","","","","","","","","","","","","","","","","","","","","","","","","","","","","","","","","","","","","","","","","","",null,null,null,null,{"$f":"IF($BN167=\"\",\"\",MAX($BG$4:$BG166)+1)","v":""},"","",{"$f":"VLOOKUP($BH167,'目標入力＞'!$Z$5:$AC$60,4,0)","v":""},"","","",null,null,{"$f":"IF(MAX($BP$1:$BP166)+1>MAX($BG$5:$BG$204),\"\",MAX($BP$1:$BP166)+1)","v":""},"","","","",""]
[57,"","",null,{"$f":"IF(D168<>\"\",0,IF(OR(E167=\"\",E167>=105,$A168>E$110),\"\",MATCH(\"○\",INDIRECT(ADDRESS(ROW(E$4)+1+E167,COLUMN(E$4))&\":\"&ADDRESS(ROW(E$109),COLUMN(E$4)),TRUE),0 )+E167))","v":""},"","","","","","","","","","","","","","","","","","","","","","","","","","","","","","","","","","","","","","","","","","","","","","","","","",null,null,null,null,{"$f":"IF($BN168=\"\",\"\",MAX($BG$4:$BG167)+1)","v":""},"","",{"$f":"VLOOKUP($BH168,'目標入力＞'!$Z$5:$AC$60,4,0)","v":""},"","","",null,null,{"$f":"IF(MAX($BP$1:$BP167)+1>MAX($BG$5:$BG$204),\"\",MAX($BP$1:$BP167)+1)","v":""},"","","","",""]
[58,"","",null,{"$f":"IF(D169<>\"\",0,IF(OR(E168=\"\",E168>=105,$A169>E$110),\"\",MATCH(\"○\",INDIRECT(ADDRESS(ROW(E$4)+1+E168,COLUMN(E$4))&\":\"&ADDRESS(ROW(E$109),COLUMN(E$4)),TRUE),0 )+E168))","v":""},"","","","","","","","","","","","","","","","","","","","","","","","","","","","","","","","","","","","","","","","","","","","","","","","","",null,null,null,null,{"$f":"IF($BN169=\"\",\"\",MAX($BG$4:$BG168)+1)","v":""},"","",{"$f":"VLOOKUP($BH169,'目標入力＞'!$Z$5:$AC$60,4,0)","v":""},"","","",null,null,{"$f":"IF(MAX($BP$1:$BP168)+1>MAX($BG$5:$BG$204),\"\",MAX($BP$1:$BP168)+1)","v":""},"","","","",""]
[59,"","",null,{"$f":"IF(D170<>\"\",0,IF(OR(E169=\"\",E169>=105,$A170>E$110),\"\",MATCH(\"○\",INDIRECT(ADDRESS(ROW(E$4)+1+E169,COLUMN(E$4))&\":\"&ADDRESS(ROW(E$109),COLUMN(E$4)),TRUE),0 )+E169))","v":""},"","","","","","","","","","","","","","","","","","","","","","","","","","","","","","","","","","","","","","","","","","","","","","","","","",null,null,null,null,{"$f":"IF($BN170=\"\",\"\",MAX($BG$4:$BG169)+1)","v":""},"","",{"$f":"VLOOKUP($BH170,'目標入力＞'!$Z$5:$AC$60,4,0)","v":""},"","","",null,null,{"$f":"IF(MAX($BP$1:$BP169)+1>MAX($BG$5:$BG$204),\"\",MAX($BP$1:$BP169)+1)","v":""},"","","","",""]
[60,"","",null,{"$f":"IF(D171<>\"\",0,IF(OR(E170=\"\",E170>=105,$A171>E$110),\"\",MATCH(\"○\",INDIRECT(ADDRESS(ROW(E$4)+1+E170,COLUMN(E$4))&\":\"&ADDRESS(ROW(E$109),COLUMN(E$4)),TRUE),0 )+E170))","v":""},"","","","","","","","","","","","","","","","","","","","","","","","","","","","","","","","","","","","","","","","","","","","","","","","","",null,null,null,null,{"$f":"IF($BN171=\"\",\"\",MAX($BG$4:$BG170)+1)","v":""},"","",{"$f":"VLOOKUP($BH171,'目標入力＞'!$Z$5:$AC$60,4,0)","v":""},"","","",null,null,{"$f":"IF(MAX($BP$1:$BP170)+1>MAX($BG$5:$BG$204),\"\",MAX($BP$1:$BP170)+1)","v":""},"","","","",""]
[61,"","",null,{"$f":"IF(D172<>\"\",0,IF(OR(E171=\"\",E171>=105,$A172>E$110),\"\",MATCH(\"○\",INDIRECT(ADDRESS(ROW(E$4)+1+E171,COLUMN(E$4))&\":\"&ADDRESS(ROW(E$109),COLUMN(E$4)),TRUE),0 )+E171))","v":""},"","","","","","","","","","","","","","","","","","","","","","","","","","","","","","","","","","","","","","","","","","","","","","","","","",null,null,null,null,{"$f":"IF($BN172=\"\",\"\",MAX($BG$4:$BG171)+1)","v":""},"","",{"$f":"VLOOKUP($BH172,'目標入力＞'!$Z$5:$AC$60,4,0)","v":""},"","","",null,null,{"$f":"IF(MAX($BP$1:$BP171)+1>MAX($BG$5:$BG$204),\"\",MAX($BP$1:$BP171)+1)","v":""},"","","","",""]
[62,"","",null,{"$f":"IF(D173<>\"\",0,IF(OR(E172=\"\",E172>=105,$A173>E$110),\"\",MATCH(\"○\",INDIRECT(ADDRESS(ROW(E$4)+1+E172,COLUMN(E$4))&\":\"&ADDRESS(ROW(E$109),COLUMN(E$4)),TRUE),0 )+E172))","v":""},"","","","","","","","","","","","","","","","","","","","","","","","","","","","","","","","","","","","","","","","","","","","","","","","","",null,null,null,null,{"$f":"IF($BN173=\"\",\"\",MAX($BG$4:$BG172)+1)","v":""},"","",{"$f":"VLOOKUP($BH173,'目標入力＞'!$Z$5:$AC$60,4,0)","v":""},"","","",null,null,{"$f":"IF(MAX($BP$1:$BP172)+1>MAX($BG$5:$BG$204),\"\",MAX($BP$1:$BP172)+1)","v":""},"","","","",""]
[63,"","",null,{"$f":"IF(D174<>\"\",0,IF(OR(E173=\"\",E173>=105,$A174>E$110),\"\",MATCH(\"○\",INDIRECT(ADDRESS(ROW(E$4)+1+E173,COLUMN(E$4))&\":\"&ADDRESS(ROW(E$109),COLUMN(E$4)),TRUE),0 )+E173))","v":""},"","","","","","","","","","","","","","","","","","","","","","","","","","","","","","","","","","","","","","","","","","","","","","","","","",null,null,null,null,{"$f":"IF($BN174=\"\",\"\",MAX($BG$4:$BG173)+1)","v":""},"","",{"$f":"VLOOKUP($BH174,'目標入力＞'!$Z$5:$AC$60,4,0)","v":""},"","","",null,null,{"$f":"IF(MAX($BP$1:$BP173)+1>MAX($BG$5:$BG$204),\"\",MAX($BP$1:$BP173)+1)","v":""},"","","","",""]
[64,"","",null,{"$f":"IF(D175<>\"\",0,IF(OR(E174=\"\",E174>=105,$A175>E$110),\"\",MATCH(\"○\",INDIRECT(ADDRESS(ROW(E$4)+1+E174,COLUMN(E$4))&\":\"&ADDRESS(ROW(E$109),COLUMN(E$4)),TRUE),0 )+E174))","v":""},"","","","","","","","","","","","","","","","","","","","","","","","","","","","","","","","","","","","","","","","","","","","","","","","","",null,null,null,null,{"$f":"IF($BN175=\"\",\"\",MAX($BG$4:$BG174)+1)","v":""},"","",{"$f":"VLOOKUP($BH175,'目標入力＞'!$Z$5:$AC$60,4,0)","v":""},"","","",null,null,{"$f":"IF(MAX($BP$1:$BP174)+1>MAX($BG$5:$BG$204),\"\",MAX($BP$1:$BP174)+1)","v":""},"","","","",""]
[65,"",{"$f":"IF(MAX($E176:$BB176)=0,\"\",INDEX($C$5:$C$109,MAX($E176:$BB176)))","v":""},null,{"$f":"IF(D176<>\"\",0,IF(OR(E175=\"\",E175>=105,$A176>E$110),\"\",MATCH(\"○\",INDIRECT(ADDRESS(ROW(E$4)+1+E175,COLUMN(E$4))&\":\"&ADDRESS(ROW(E$109),COLUMN(E$4)),TRUE),0 )+E175))","v":""},"","","","","","","","","","","","","","","","","","","","","","","","","","","","","","","","","","","","","","","","","","","","","","","","","",null,null,null,null,{"$f":"IF($BN176=\"\",\"\",MAX($BG$4:$BG175)+1)","v":""},"","",{"$f":"VLOOKUP($BH176,'目標入力＞'!$Z$5:$AC$60,4,0)","v":""},"","","",null,null,{"$f":"IF(MAX($BP$1:$BP175)+1>MAX($BG$5:$BG$204),\"\",MAX($BP$1:$BP175)+1)","v":""},"","","","",""]
[66,"","",null,{"$f":"IF(D177<>\"\",0,IF(OR(E176=\"\",E176>=105,$A177>E$110),\"\",MATCH(\"○\",INDIRECT(ADDRESS(ROW(E$4)+1+E176,COLUMN(E$4))&\":\"&ADDRESS(ROW(E$109),COLUMN(E$4)),TRUE),0 )+E176))","v":""},"","","","","","","","","","","","","","","","","","","","","","","","","","","","","","","","","","","","","","","","","","","","","","","","","",null,null,null,null,{"$f":"IF($BN177=\"\",\"\",MAX($BG$4:$BG176)+1)","v":""},"","",{"$f":"VLOOKUP($BH177,'目標入力＞'!$Z$5:$AC$60,4,0)","v":""},"","","",null,null,{"$f":"IF(MAX($BP$1:$BP176)+1>MAX($BG$5:$BG$204),\"\",MAX($BP$1:$BP176)+1)","v":""},"","","","",""]
[67,"","",null,{"$f":"IF(D178<>\"\",0,IF(OR(E177=\"\",E177>=105,$A178>E$110),\"\",MATCH(\"○\",INDIRECT(ADDRESS(ROW(E$4)+1+E177,COLUMN(E$4))&\":\"&ADDRESS(ROW(E$109),COLUMN(E$4)),TRUE),0 )+E177))","v":""},"","","","","","","","","","","","","","","","","","","","","","","","","","","","","","","","","","","","","","","","","","","","","","","","","",null,null,null,null,{"$f":"IF($BN178=\"\",\"\",MAX($BG$4:$BG177)+1)","v":""},"","",{"$f":"VLOOKUP($BH178,'目標入力＞'!$Z$5:$AC$60,4,0)","v":""},"","","",null,null,{"$f":"IF(MAX($BP$1:$BP177)+1>MAX($BG$5:$BG$204),\"\",MAX($BP$1:$BP177)+1)","v":""},"","","","",""]
[68,"","",null,{"$f":"IF(D179<>\"\",0,IF(OR(E178=\"\",E178>=105,$A179>E$110),\"\",MATCH(\"○\",INDIRECT(ADDRESS(ROW(E$4)+1+E178,COLUMN(E$4))&\":\"&ADDRESS(ROW(E$109),COLUMN(E$4)),TRUE),0 )+E178))","v":""},"","","","","","","","","","","","","","","","","","","","","","","","","","","","","","","","","","","","","","","","","","","","","","","","","",null,null,null,null,{"$f":"IF($BN179=\"\",\"\",MAX($BG$4:$BG178)+1)","v":""},"","",{"$f":"VLOOKUP($BH179,'目標入力＞'!$Z$5:$AC$60,4,0)","v":""},"","","",null,null,{"$f":"IF(MAX($BP$1:$BP178)+1>MAX($BG$5:$BG$204),\"\",MAX($BP$1:$BP178)+1)","v":""},"","","","",""]
[69,"","",null,{"$f":"IF(D180<>\"\",0,IF(OR(E179=\"\",E179>=105,$A180>E$110),\"\",MATCH(\"○\",INDIRECT(ADDRESS(ROW(E$4)+1+E179,COLUMN(E$4))&\":\"&ADDRESS(ROW(E$109),COLUMN(E$4)),TRUE),0 )+E179))","v":""},"","","","","","","","","","","","","","","","","","","","","","","","","","","","","","","","","","","","","","","","","","","","","","","","","",null,null,null,null,{"$f":"IF($BN180=\"\",\"\",MAX($BG$4:$BG179)+1)","v":""},"","",{"$f":"VLOOKUP($BH180,'目標入力＞'!$Z$5:$AC$60,4,0)","v":""},"","","",null,null,{"$f":"IF(MAX($BP$1:$BP179)+1>MAX($BG$5:$BG$204),\"\",MAX($BP$1:$BP179)+1)","v":""},"","","","",""]
[70,"","",null,{"$f":"IF(D181<>\"\",0,IF(OR(E180=\"\",E180>=105,$A181>E$110),\"\",MATCH(\"○\",INDIRECT(ADDRESS(ROW(E$4)+1+E180,COLUMN(E$4))&\":\"&ADDRESS(ROW(E$109),COLUMN(E$4)),TRUE),0 )+E180))","v":""},"","","","","","","","","","","","","","","","","","","","","","","","","","","","","","","","","","","","","","","","","","","","","","","","","",null,null,null,null,{"$f":"IF($BN181=\"\",\"\",MAX($BG$4:$BG180)+1)","v":""},"","",{"$f":"VLOOKUP($BH181,'目標入力＞'!$Z$5:$AC$60,4,0)","v":""},"","","",null,null,{"$f":"IF(MAX($BP$1:$BP180)+1>MAX($BG$5:$BG$204),\"\",MAX($BP$1:$BP180)+1)","v":""},"","","","",""]
[71,"","",null,{"$f":"IF(D182<>\"\",0,IF(OR(E181=\"\",E181>=105,$A182>E$110),\"\",MATCH(\"○\",INDIRECT(ADDRESS(ROW(E$4)+1+E181,COLUMN(E$4))&\":\"&ADDRESS(ROW(E$109),COLUMN(E$4)),TRUE),0 )+E181))","v":""},"","","","","","","","","","","","","","","","","","","","","","","","","","","","","","","","","","","","","","","","","","","","","","","","","",null,null,null,null,{"$f":"IF($BN182=\"\",\"\",MAX($BG$4:$BG181)+1)","v":""},"","",{"$f":"VLOOKUP($BH182,'目標入力＞'!$Z$5:$AC$60,4,0)","v":""},"","","",null,null,{"$f":"IF(MAX($BP$1:$BP181)+1>MAX($BG$5:$BG$204),\"\",MAX($BP$1:$BP181)+1)","v":""},"","","","",""]
[72,"","",null,{"$f":"IF(D183<>\"\",0,IF(OR(E182=\"\",E182>=105,$A183>E$110),\"\",MATCH(\"○\",INDIRECT(ADDRESS(ROW(E$4)+1+E182,COLUMN(E$4))&\":\"&ADDRESS(ROW(E$109),COLUMN(E$4)),TRUE),0 )+E182))","v":""},"","","","","","","","","","","","","","","","","","","","","","","","","","","","","","","","","","","","","","","","","","","","","","","","","",null,null,null,null,{"$f":"IF($BN183=\"\",\"\",MAX($BG$4:$BG182)+1)","v":""},"","",{"$f":"VLOOKUP($BH183,'目標入力＞'!$Z$5:$AC$60,4,0)","v":""},"","","",null,null,{"$f":"IF(MAX($BP$1:$BP182)+1>MAX($BG$5:$BG$204),\"\",MAX($BP$1:$BP182)+1)","v":""},"","","","",""]
[73,{"$f":"IF(C184=\"\",\"\",INDEX(E$4:BB$4,COUNTBLANK($E184:$BB184)+1))","v":""},"",null,{"$f":"IF(D184<>\"\",0,IF(OR(E183=\"\",E183>=105,$A184>E$110),\"\",MATCH(\"○\",INDIRECT(ADDRESS(ROW(E$4)+1+E183,COLUMN(E$4))&\":\"&ADDRESS(ROW(E$109),COLUMN(E$4)),TRUE),0 )+E183))","v":""},"","","","","","","","","","","","","","","","","","","","","","","","","","","","","","","","","","","","","","","","","","","","","","","","","",null,null,null,null,{"$f":"IF($BN184=\"\",\"\",MAX($BG$4:$BG183)+1)","v":""},"","",{"$f":"VLOOKUP($BH184,'目標入力＞'!$Z$5:$AC$60,4,0)","v":""},"","","",null,null,{"$f":"IF(MAX($BP$1:$BP183)+1>MAX($BG$5:$BG$204),\"\",MAX($BP$1:$BP183)+1)","v":""},"","","","",""]
[74,"","",null,{"$f":"IF(D185<>\"\",0,IF(OR(E184=\"\",E184>=105,$A185>E$110),\"\",MATCH(\"○\",INDIRECT(ADDRESS(ROW(E$4)+1+E184,COLUMN(E$4))&\":\"&ADDRESS(ROW(E$109),COLUMN(E$4)),TRUE),0 )+E184))","v":""},"","","","","","","","","","","","","","","","","","","","","","","","","","","","","","","","","","","","","","","","","","","","","","","","","",null,null,null,null,{"$f":"IF($BN185=\"\",\"\",MAX($BG$4:$BG184)+1)","v":""},"","",{"$f":"VLOOKUP($BH185,'目標入力＞'!$Z$5:$AC$60,4,0)","v":""},{"$f":"VLOOKUP($BI185,$C$5:$BE$109,BK$3-1,0)","v":""},"","",null,null,{"$f":"IF(MAX($BP$1:$BP184)+1>MAX($BG$5:$BG$204),\"\",MAX($BP$1:$BP184)+1)","v":""},"","","","",""]
[75,"","",null,{"$f":"IF(D186<>\"\",0,IF(OR(E185=\"\",E185>=105,$A186>E$110),\"\",MATCH(\"○\",INDIRECT(ADDRESS(ROW(E$4)+1+E185,COLUMN(E$4))&\":\"&ADDRESS(ROW(E$109),COLUMN(E$4)),TRUE),0 )+E185))","v":""},"","","","","","","","","","","","","","","","","","","","","","","","","","","","","","","","","","","","","","","","","","","","","","","","","",null,null,null,null,{"$f":"IF($BN186=\"\",\"\",MAX($BG$4:$BG185)+1)","v":""},"","",{"$f":"VLOOKUP($BH186,'目標入力＞'!$Z$5:$AC$60,4,0)","v":""},"","","",null,null,{"$f":"IF(MAX($BP$1:$BP185)+1>MAX($BG$5:$BG$204),\"\",MAX($BP$1:$BP185)+1)","v":""},"","","","",""]
[76,"","",null,{"$f":"IF(D187<>\"\",0,IF(OR(E186=\"\",E186>=105,$A187>E$110),\"\",MATCH(\"○\",INDIRECT(ADDRESS(ROW(E$4)+1+E186,COLUMN(E$4))&\":\"&ADDRESS(ROW(E$109),COLUMN(E$4)),TRUE),0 )+E186))","v":""},"","","","","","","","","","","","","","","","","","","","","","","","","","","","","","","","","","","","","","","","","","","","","","","","","",null,null,null,null,{"$f":"IF($BN187=\"\",\"\",MAX($BG$4:$BG186)+1)","v":""},"","",{"$f":"VLOOKUP($BH187,'目標入力＞'!$Z$5:$AC$60,4,0)","v":""},"","","",null,null,{"$f":"IF(MAX($BP$1:$BP186)+1>MAX($BG$5:$BG$204),\"\",MAX($BP$1:$BP186)+1)","v":""},"","","","",""]
[77,{"$f":"IF(C188=\"\",\"\",INDEX(E$4:BB$4,COUNTBLANK($E188:$BB188)+1))","v":""},"",null,{"$f":"IF(D188<>\"\",0,IF(OR(E187=\"\",E187>=105,$A188>E$110),\"\",MATCH(\"○\",INDIRECT(ADDRESS(ROW(E$4)+1+E187,COLUMN(E$4))&\":\"&ADDRESS(ROW(E$109),COLUMN(E$4)),TRUE),0 )+E187))","v":""},"","","","","","","","","","","","","","","","","","","","","","","","","","","","","","","","","","","","","","","","","","","","","","","","","",null,null,null,null,{"$f":"IF($BN188=\"\",\"\",MAX($BG$4:$BG187)+1)","v":""},"","",{"$f":"VLOOKUP($BH188,'目標入力＞'!$Z$5:$AC$60,4,0)","v":""},"","","",null,null,{"$f":"IF(MAX($BP$1:$BP187)+1>MAX($BG$5:$BG$204),\"\",MAX($BP$1:$BP187)+1)","v":""},"","","","",""]
[78,"","",null,{"$f":"IF(D189<>\"\",0,IF(OR(E188=\"\",E188>=105,$A189>E$110),\"\",MATCH(\"○\",INDIRECT(ADDRESS(ROW(E$4)+1+E188,COLUMN(E$4))&\":\"&ADDRESS(ROW(E$109),COLUMN(E$4)),TRUE),0 )+E188))","v":""},"","","","","","","","","","","","","","","","","","","","","","","","","","","","","","","","","","","","","","","","","","","","","","","","","",null,null,null,null,{"$f":"IF($BN189=\"\",\"\",MAX($BG$4:$BG188)+1)","v":""},"","",{"$f":"VLOOKUP($BH189,'目標入力＞'!$Z$5:$AC$60,4,0)","v":""},"","","",null,null,{"$f":"IF(MAX($BP$1:$BP188)+1>MAX($BG$5:$BG$204),\"\",MAX($BP$1:$BP188)+1)","v":""},"","","","",""]
[79,"","",null,{"$f":"IF(D190<>\"\",0,IF(OR(E189=\"\",E189>=105,$A190>E$110),\"\",MATCH(\"○\",INDIRECT(ADDRESS(ROW(E$4)+1+E189,COLUMN(E$4))&\":\"&ADDRESS(ROW(E$109),COLUMN(E$4)),TRUE),0 )+E189))","v":""},"","","","","","","","","","","","","","","","","","","","","","","","","","","","","","","","","","","","","","","","","","","","","","","","","",null,null,null,null,{"$f":"IF($BN190=\"\",\"\",MAX($BG$4:$BG189)+1)","v":""},"","",{"$f":"VLOOKUP($BH190,'目標入力＞'!$Z$5:$AC$60,4,0)","v":""},"","","",null,null,{"$f":"IF(MAX($BP$1:$BP189)+1>MAX($BG$5:$BG$204),\"\",MAX($BP$1:$BP189)+1)","v":""},"","","","",""]
[80,"","",null,{"$f":"IF(D191<>\"\",0,IF(OR(E190=\"\",E190>=105,$A191>E$110),\"\",MATCH(\"○\",INDIRECT(ADDRESS(ROW(E$4)+1+E190,COLUMN(E$4))&\":\"&ADDRESS(ROW(E$109),COLUMN(E$4)),TRUE),0 )+E190))","v":""},"","","","","","","","","","","","","","","","","","","","","","","","","","","","","","","","","","","","","","","","","","","","","","","","","",null,null,null,null,{"$f":"IF($BN191=\"\",\"\",MAX($BG$4:$BG190)+1)","v":""},"","",{"$f":"VLOOKUP($BH191,'目標入力＞'!$Z$5:$AC$60,4,0)","v":""},"","","",null,null,{"$f":"IF(MAX($BP$1:$BP190)+1>MAX($BG$5:$BG$204),\"\",MAX($BP$1:$BP190)+1)","v":""},"","","","",""]
[81,"","",null,{"$f":"IF(D192<>\"\",0,IF(OR(E191=\"\",E191>=105,$A192>E$110),\"\",MATCH(\"○\",INDIRECT(ADDRESS(ROW(E$4)+1+E191,COLUMN(E$4))&\":\"&ADDRESS(ROW(E$109),COLUMN(E$4)),TRUE),0 )+E191))","v":""},"","","","","","","","","","","","","","","","","","","","","","","","","","","","","","","","","","","","","","","","","","","","","","","","","",null,null,null,null,{"$f":"IF($BN192=\"\",\"\",MAX($BG$4:$BG191)+1)","v":""},"","",{"$f":"VLOOKUP($BH192,'目標入力＞'!$Z$5:$AC$60,4,0)","v":""},"","","",null,null,{"$f":"IF(MAX($BP$1:$BP191)+1>MAX($BG$5:$BG$204),\"\",MAX($BP$1:$BP191)+1)","v":""},"","","","",""]
[82,"","",null,{"$f":"IF(D193<>\"\",0,IF(OR(E192=\"\",E192>=105,$A193>E$110),\"\",MATCH(\"○\",INDIRECT(ADDRESS(ROW(E$4)+1+E192,COLUMN(E$4))&\":\"&ADDRESS(ROW(E$109),COLUMN(E$4)),TRUE),0 )+E192))","v":""},"","","","","","","","","","","","","","","","","","","","","","","","","","","","","","","","","","","","","","","","","","","","","","","","","",null,null,null,null,{"$f":"IF($BN193=\"\",\"\",MAX($BG$4:$BG192)+1)","v":""},"","",{"$f":"VLOOKUP($BH193,'目標入力＞'!$Z$5:$AC$60,4,0)","v":""},"","","",null,null,{"$f":"IF(MAX($BP$1:$BP192)+1>MAX($BG$5:$BG$204),\"\",MAX($BP$1:$BP192)+1)","v":""},"","","","",""]
[83,"","",null,{"$f":"IF(D194<>\"\",0,IF(OR(E193=\"\",E193>=105,$A194>E$110),\"\",MATCH(\"○\",INDIRECT(ADDRESS(ROW(E$4)+1+E193,COLUMN(E$4))&\":\"&ADDRESS(ROW(E$109),COLUMN(E$4)),TRUE),0 )+E193))","v":""},"","","","","","","","","","","","","","","","","","","","","","","","","","","","","","","","","","","","","","","","","","","","","","","","","",null,null,null,null,{"$f":"IF($BN194=\"\",\"\",MAX($BG$4:$BG193)+1)","v":""},"","",{"$f":"VLOOKUP($BH194,'目標入力＞'!$Z$5:$AC$60,4,0)","v":""},"","","",null,null,{"$f":"IF(MAX($BP$1:$BP193)+1>MAX($BG$5:$BG$204),\"\",MAX($BP$1:$BP193)+1)","v":""},"","","","",""]
[84,"","",null,{"$f":"IF(D195<>\"\",0,IF(OR(E194=\"\",E194>=105,$A195>E$110),\"\",MATCH(\"○\",INDIRECT(ADDRESS(ROW(E$4)+1+E194,COLUMN(E$4))&\":\"&ADDRESS(ROW(E$109),COLUMN(E$4)),TRUE),0 )+E194))","v":""},"","","","","","","","","","","","","","","","","","","","","","","","","","","","","","","","","","","","","","","","","","","","","","","","","",null,null,null,null,{"$f":"IF($BN195=\"\",\"\",MAX($BG$4:$BG194)+1)","v":""},"","",{"$f":"VLOOKUP($BH195,'目標入力＞'!$Z$5:$AC$60,4,0)","v":""},"","","",null,null,{"$f":"IF(MAX($BP$1:$BP194)+1>MAX($BG$5:$BG$204),\"\",MAX($BP$1:$BP194)+1)","v":""},"","","","",""]
[85,"","",null,{"$f":"IF(D196<>\"\",0,IF(OR(E195=\"\",E195>=105,$A196>E$110),\"\",MATCH(\"○\",INDIRECT(ADDRESS(ROW(E$4)+1+E195,COLUMN(E$4))&\":\"&ADDRESS(ROW(E$109),COLUMN(E$4)),TRUE),0 )+E195))","v":""},"","","","","","","","","","","","","","","","","","","","","","","","","","","","","","","","","","","","","","","","","","","","","","","","","",null,null,null,null,{"$f":"IF($BN196=\"\",\"\",MAX($BG$4:$BG195)+1)","v":""},"","",{"$f":"VLOOKUP($BH196,'目標入力＞'!$Z$5:$AC$60,4,0)","v":""},"","","",null,null,{"$f":"IF(MAX($BP$1:$BP195)+1>MAX($BG$5:$BG$204),\"\",MAX($BP$1:$BP195)+1)","v":""},"","","","",""]
[86,"","",null,{"$f":"IF(D197<>\"\",0,IF(OR(E196=\"\",E196>=105,$A197>E$110),\"\",MATCH(\"○\",INDIRECT(ADDRESS(ROW(E$4)+1+E196,COLUMN(E$4))&\":\"&ADDRESS(ROW(E$109),COLUMN(E$4)),TRUE),0 )+E196))","v":""},"","","","","","","","","","","","","","","","","","","","","","","","","","","","","","","","","","","","","","","","","","","","","","","","","",null,null,null,null,{"$f":"IF($BN197=\"\",\"\",MAX($BG$4:$BG196)+1)","v":""},{"$f":"$B304","v":""},{"$f":"$C304","v":""},{"$f":"VLOOKUP($BH197,'目標入力＞'!$Z$5:$AC$60,4,0)","v":""},"","","",null,null,{"$f":"IF(MAX($BP$1:$BP196)+1>MAX($BG$5:$BG$204),\"\",MAX($BP$1:$BP196)+1)","v":""},"","","","",""]
[87,"","",null,{"$f":"IF(D198<>\"\",0,IF(OR(E197=\"\",E197>=105,$A198>E$110),\"\",MATCH(\"○\",INDIRECT(ADDRESS(ROW(E$4)+1+E197,COLUMN(E$4))&\":\"&ADDRESS(ROW(E$109),COLUMN(E$4)),TRUE),0 )+E197))","v":""},"","","","","","","","","","","","","","","","","","","","","","","","","","","","","","","","","","","","","","","","","","","","","","","","","",null,null,null,null,{"$f":"IF($BN198=\"\",\"\",MAX($BG$4:$BG197)+1)","v":""},"","",{"$f":"VLOOKUP($BH198,'目標入力＞'!$Z$5:$AC$60,4,0)","v":""},"","","",null,null,{"$f":"IF(MAX($BP$1:$BP197)+1>MAX($BG$5:$BG$204),\"\",MAX($BP$1:$BP197)+1)","v":""},{"$f":"IF($BP198=\"\",\"\",VLOOKUP($BP198,$BG$5:$BK$204,2,0))","v":""},{"$f":"IF($BP198=\"\",\"\",VLOOKUP($BP198,$BG$5:$BK$204,3,0))","v":""},{"$f":"IF($BP198=\"\",\"\",VLOOKUP($BP198,$BG$5:$BL$204,5,0))","v":""},{"$f":"IF($BP198=\"\",\"\",VLOOKUP($BP198,$BG$5:$BM$204,6,0))","v":""},{"$f":"IF($BP198=\"\",\"\",VLOOKUP($BP198,$BG$5:$BM$204,7,0))","v":""}]
[88,"","",null,{"$f":"IF(D199<>\"\",0,IF(OR(E198=\"\",E198>=105,$A199>E$110),\"\",MATCH(\"○\",INDIRECT(ADDRESS(ROW(E$4)+1+E198,COLUMN(E$4))&\":\"&ADDRESS(ROW(E$109),COLUMN(E$4)),TRUE),0 )+E198))","v":""},"","","","","","","","","","","","","","","","","","","","","","","","","","","","","","","","","","","","","","","","","","","","","","","","","",null,null,null,null,{"$f":"IF($BN199=\"\",\"\",MAX($BG$4:$BG198)+1)","v":""},"","",{"$f":"VLOOKUP($BH199,'目標入力＞'!$Z$5:$AC$60,4,0)","v":""},"","","",null,null,{"$f":"IF(MAX($BP$1:$BP198)+1>MAX($BG$5:$BG$204),\"\",MAX($BP$1:$BP198)+1)","v":""},"","","","",""]
[89,"","",null,{"$f":"IF(D200<>\"\",0,IF(OR(E199=\"\",E199>=105,$A200>E$110),\"\",MATCH(\"○\",INDIRECT(ADDRESS(ROW(E$4)+1+E199,COLUMN(E$4))&\":\"&ADDRESS(ROW(E$109),COLUMN(E$4)),TRUE),0 )+E199))","v":""},"","","","","","","","","","","","","","","","","","","","","","","","","","","","","","","","","","","","","","","","","","","","","","","","","",null,null,null,null,{"$f":"IF($BN200=\"\",\"\",MAX($BG$4:$BG199)+1)","v":""},"","",{"$f":"VLOOKUP($BH200,'目標入力＞'!$Z$5:$AC$60,4,0)","v":""},"","","",null,null,{"$f":"IF(MAX($BP$1:$BP199)+1>MAX($BG$5:$BG$204),\"\",MAX($BP$1:$BP199)+1)","v":""},"","","","",""]
[90,"","",null,{"$f":"IF(D201<>\"\",0,IF(OR(E200=\"\",E200>=105,$A201>E$110),\"\",MATCH(\"○\",INDIRECT(ADDRESS(ROW(E$4)+1+E200,COLUMN(E$4))&\":\"&ADDRESS(ROW(E$109),COLUMN(E$4)),TRUE),0 )+E200))","v":""},"","","","","","","","","","","","","","","","","","","","","","","","","","","","","","","","","","","","","","","","","","","","","","","","","",null,null,null,null,{"$f":"IF($BN201=\"\",\"\",MAX($BG$4:$BG200)+1)","v":""},"","",{"$f":"VLOOKUP($BH201,'目標入力＞'!$Z$5:$AC$60,4,0)","v":""},"","","",null,null,{"$f":"IF(MAX($BP$1:$BP200)+1>MAX($BG$5:$BG$204),\"\",MAX($BP$1:$BP200)+1)","v":""},"","","","",""]
[91,"","",null,{"$f":"IF(D202<>\"\",0,IF(OR(E201=\"\",E201>=105,$A202>E$110),\"\",MATCH(\"○\",INDIRECT(ADDRESS(ROW(E$4)+1+E201,COLUMN(E$4))&\":\"&ADDRESS(ROW(E$109),COLUMN(E$4)),TRUE),0 )+E201))","v":""},"","","","","","","","","","","","","","","","","","","","","","","","","","","","","","","","","","","","","","","","","","","","","","","","","",null,null,null,null,{"$f":"IF($BN202=\"\",\"\",MAX($BG$4:$BG201)+1)","v":""},"","",{"$f":"VLOOKUP($BH202,'目標入力＞'!$Z$5:$AC$60,4,0)","v":""},"","","",null,null,{"$f":"IF(MAX($BP$1:$BP201)+1>MAX($BG$5:$BG$204),\"\",MAX($BP$1:$BP201)+1)","v":""},"","","","",""]
[92,"","",null,{"$f":"IF(D203<>\"\",0,IF(OR(E202=\"\",E202>=105,$A203>E$110),\"\",MATCH(\"○\",INDIRECT(ADDRESS(ROW(E$4)+1+E202,COLUMN(E$4))&\":\"&ADDRESS(ROW(E$109),COLUMN(E$4)),TRUE),0 )+E202))","v":""},"","","","","","","","","","","","","","","","","","","","","","","","","","","","","","","","","","","","","","","","","","","","","","","","","",null,null,null,null,{"$f":"IF($BN203=\"\",\"\",MAX($BG$4:$BG202)+1)","v":""},"","",{"$f":"VLOOKUP($BH203,'目標入力＞'!$Z$5:$AC$60,4,0)","v":""},"","","",null,null,{"$f":"IF(MAX($BP$1:$BP202)+1>MAX($BG$5:$BG$204),\"\",MAX($BP$1:$BP202)+1)","v":""},"","","","",""]
[93,"","",null,{"$f":"IF(D204<>\"\",0,IF(OR(E203=\"\",E203>=105,$A204>E$110),\"\",MATCH(\"○\",INDIRECT(ADDRESS(ROW(E$4)+1+E203,COLUMN(E$4))&\":\"&ADDRESS(ROW(E$109),COLUMN(E$4)),TRUE),0 )+E203))","v":""},"","","","","","","","","","","","","","","","","","","","","","","","","","","","","","","","","","","","","","","","","","","","","","","","","",null,null,null,null,{"$f":"IF($BN204=\"\",\"\",MAX($BG$4:$BG203)+1)","v":""},"","",{"$f":"VLOOKUP($BH204,'目標入力＞'!$Z$5:$AC$60,4,0)","v":""},"","","",null,null,{"$f":"IF(MAX($BP$1:$BP203)+1>MAX($BG$5:$BG$204),\"\",MAX($BP$1:$BP203)+1)","v":""},"","","","",""]
[94,"","",null,{"$f":"IF(D205<>\"\",0,IF(OR(E204=\"\",E204>=105,$A205>E$110),\"\",MATCH(\"○\",INDIRECT(ADDRESS(ROW(E$4)+1+E204,COLUMN(E$4))&\":\"&ADDRESS(ROW(E$109),COLUMN(E$4)),TRUE),0 )+E204))","v":""},"","","","","","","","","","","","","","","","","","","","","","","","","","","","","","","","","","","","","","","","","","","","","","","","",""]
[95,"","",null,{"$f":"IF(D206<>\"\",0,IF(OR(E205=\"\",E205>=105,$A206>E$110),\"\",MATCH(\"○\",INDIRECT(ADDRESS(ROW(E$4)+1+E205,COLUMN(E$4))&\":\"&ADDRESS(ROW(E$109),COLUMN(E$4)),TRUE),0 )+E205))","v":""},"","","","","","","","","","","","","","","","","","","","","","","","","","","","","","","","","","","","","","","","","","","","","","","","",""]
[96,"","",null,{"$f":"IF(D207<>\"\",0,IF(OR(E206=\"\",E206>=105,$A207>E$110),\"\",MATCH(\"○\",INDIRECT(ADDRESS(ROW(E$4)+1+E206,COLUMN(E$4))&\":\"&ADDRESS(ROW(E$109),COLUMN(E$4)),TRUE),0 )+E206))","v":""},"","","","","","","","","","","","","","","","","","","","","","","","","","","","","","","","","","","","","","","","","","","","","","","","",""]
[97,"","",null,{"$f":"IF(D208<>\"\",0,IF(OR(E207=\"\",E207>=105,$A208>E$110),\"\",MATCH(\"○\",INDIRECT(ADDRESS(ROW(E$4)+1+E207,COLUMN(E$4))&\":\"&ADDRESS(ROW(E$109),COLUMN(E$4)),TRUE),0 )+E207))","v":""},"","","","","","","","","","","","","","","","","","","","","","","","","","","","","","","","","","","","","","","","","","","","","","","","",""]
[98,"","",null,{"$f":"IF(D209<>\"\",0,IF(OR(E208=\"\",E208>=105,$A209>E$110),\"\",MATCH(\"○\",INDIRECT(ADDRESS(ROW(E$4)+1+E208,COLUMN(E$4))&\":\"&ADDRESS(ROW(E$109),COLUMN(E$4)),TRUE),0 )+E208))","v":""},"","","","","","","","","","","","","","","","","","","","","","","","","","","","","","","","","","","","","","","","","","","","","","","","",""]
[99,"","",null,{"$f":"IF(D210<>\"\",0,IF(OR(E209=\"\",E209>=105,$A210>E$110),\"\",MATCH(\"○\",INDIRECT(ADDRESS(ROW(E$4)+1+E209,COLUMN(E$4))&\":\"&ADDRESS(ROW(E$109),COLUMN(E$4)),TRUE),0 )+E209))","v":""},"","","","","","","","","","","","","","","","","","","","","","","","","","","","","","","","","","","","","","","","","","","","","","","","",""]
[100,"","",null,{"$f":"IF(D211<>\"\",0,IF(OR(E210=\"\",E210>=105,$A211>E$110),\"\",MATCH(\"○\",INDIRECT(ADDRESS(ROW(E$4)+1+E210,COLUMN(E$4))&\":\"&ADDRESS(ROW(E$109),COLUMN(E$4)),TRUE),0 )+E210))","v":""},"","","","","","","","","","","","","","","","","","","","","","","","","","","","","","","","","","","","","","","","","","","","","","","","",""]
[101,"","",null,{"$f":"IF(D212<>\"\",0,IF(OR(E211=\"\",E211>=105,$A212>E$110),\"\",MATCH(\"○\",INDIRECT(ADDRESS(ROW(E$4)+1+E211,COLUMN(E$4))&\":\"&ADDRESS(ROW(E$109),COLUMN(E$4)),TRUE),0 )+E211))","v":""},"","","","","","","","","","","","","","","","","","","","","","","","","","","","","","","","","","","","","","","","","","","","","","","","",""]
[102,"","",null,{"$f":"IF(D213<>\"\",0,IF(OR(E212=\"\",E212>=105,$A213>E$110),\"\",MATCH(\"○\",INDIRECT(ADDRESS(ROW(E$4)+1+E212,COLUMN(E$4))&\":\"&ADDRESS(ROW(E$109),COLUMN(E$4)),TRUE),0 )+E212))","v":""},"","","","","","","","","","","","","","","","","","","","","","","","","","","","","","","","","","","","","","","","","","","","","","","","",""]
[103,"","",null,{"$f":"IF(D214<>\"\",0,IF(OR(E213=\"\",E213>=105,$A214>E$110),\"\",MATCH(\"○\",INDIRECT(ADDRESS(ROW(E$4)+1+E213,COLUMN(E$4))&\":\"&ADDRESS(ROW(E$109),COLUMN(E$4)),TRUE),0 )+E213))","v":""},"","","","","","","","","","","","","","","","","","","","","","","","","","","","","","","","","","","","","","","","","","","","","","","","",""]
[104,{"$f":"IF(C215=\"\",\"\",INDEX(E$4:BB$4,COUNTBLANK($E215:$BB215)+1))","v":""},"",null,{"$f":"IF(D215<>\"\",0,IF(OR(E214=\"\",E214>=105,$A215>E$110),\"\",MATCH(\"○\",INDIRECT(ADDRESS(ROW(E$4)+1+E214,COLUMN(E$4))&\":\"&ADDRESS(ROW(E$109),COLUMN(E$4)),TRUE),0 )+E214))","v":""},"","","","","","","","","","","","","","","","","","","","","","","","","","","","","","","","","","","","","","","","","","","","","","","","",""]
[105,{"$f":"IF(C216=\"\",\"\",INDEX(E$4:BB$4,COUNTBLANK($E216:$BB216)+1))","v":""},"",null,{"$f":"IF(D216<>\"\",0,IF(OR(E215=\"\",E215>=105,$A216>E$110),\"\",MATCH(\"○\",INDIRECT(ADDRESS(ROW(E$4)+1+E215,COLUMN(E$4))&\":\"&ADDRESS(ROW(E$109),COLUMN(E$4)),TRUE),0 )+E215))","v":""},"","","","","","","","","","","","","","","","","","","","","","","","","","","","","","","","","","","","","","","","","","","","","","","","",""]
[106,"","",null,{"$f":"IF(D217<>\"\",0,IF(OR(E216=\"\",E216>=105,$A217>E$110),\"\",MATCH(\"○\",INDIRECT(ADDRESS(ROW(E$4)+1+E216,COLUMN(E$4))&\":\"&ADDRESS(ROW(E$109),COLUMN(E$4)),TRUE),0 )+E216))","v":""},"","","","","","","","","","","","","","","","","","","","","","","","","","","","","","","","","","","","","","","","","","","","","","","","",""]
[107,"","",null,{"$f":"IF(D218<>\"\",0,IF(OR(E217=\"\",E217>=105,$A218>E$110),\"\",MATCH(\"○\",INDIRECT(ADDRESS(ROW(E$4)+1+E217,COLUMN(E$4))&\":\"&ADDRESS(ROW(E$109),COLUMN(E$4)),TRUE),0 )+E217))","v":""},"","","","","","","","","","","","","","","","","","","","","","","","","","","","","","","","","","","","","","","","","","","","","","","","",""]
[108,"","",null,{"$f":"IF(D219<>\"\",0,IF(OR(E218=\"\",E218>=105,$A219>E$110),\"\",MATCH(\"○\",INDIRECT(ADDRESS(ROW(E$4)+1+E218,COLUMN(E$4))&\":\"&ADDRESS(ROW(E$109),COLUMN(E$4)),TRUE),0 )+E218))","v":""},"","","","","","","","","","","","","","","","","","","","","","","","","","","","","","","","","","","","","","","","","","","","","","","","",""]
[109,"","",null,{"$f":"IF(D220<>\"\",0,IF(OR(E219=\"\",E219>=105,$A220>E$110),\"\",MATCH(\"○\",INDIRECT(ADDRESS(ROW(E$4)+1+E219,COLUMN(E$4))&\":\"&ADDRESS(ROW(E$109),COLUMN(E$4)),TRUE),0 )+E219))","v":""},"","","","","","","","","","","","","","","","","","","","","","","","","","","","","","","","","","","","","","","","","","","","","","","","",""]
[110,"","",null,{"$f":"IF(D221<>\"\",0,IF(OR(E220=\"\",E220>=105,$A221>E$110),\"\",MATCH(\"○\",INDIRECT(ADDRESS(ROW(E$4)+1+E220,COLUMN(E$4))&\":\"&ADDRESS(ROW(E$109),COLUMN(E$4)),TRUE),0 )+E220))","v":""},"","","","","","","","","","","","","","","","","","","","","","","","","","","","","","","","","","","","","","","","","","","","","","","","",""]
[111,"","",null,{"$f":"IF(D222<>\"\",0,IF(OR(E221=\"\",E221>=105,$A222>E$110),\"\",MATCH(\"○\",INDIRECT(ADDRESS(ROW(E$4)+1+E221,COLUMN(E$4))&\":\"&ADDRESS(ROW(E$109),COLUMN(E$4)),TRUE),0 )+E221))","v":""},"","","","","","","","","","","","","","","","","","","","","","","","","","","","","","","","","","","","","","","","","","","","","","","","",""]
[112,"","",null,{"$f":"IF(D223<>\"\",0,IF(OR(E222=\"\",E222>=105,$A223>E$110),\"\",MATCH(\"○\",INDIRECT(ADDRESS(ROW(E$4)+1+E222,COLUMN(E$4))&\":\"&ADDRESS(ROW(E$109),COLUMN(E$4)),TRUE),0 )+E222))","v":""},"","","","","","","","","","","","","","","","","","","","","","","","","","","","","","","","","","","","","","","","","","","","","","","","",""]
[113,"","",null,{"$f":"IF(D224<>\"\",0,IF(OR(E223=\"\",E223>=105,$A224>E$110),\"\",MATCH(\"○\",INDIRECT(ADDRESS(ROW(E$4)+1+E223,COLUMN(E$4))&\":\"&ADDRESS(ROW(E$109),COLUMN(E$4)),TRUE),0 )+E223))","v":""},"","","","","","","","","","","","","","","","","","","","","","","","","","","","","","","","","","","","","","","","","","","","","","","","",""]
[114,"","",null,{"$f":"IF(D225<>\"\",0,IF(OR(E224=\"\",E224>=105,$A225>E$110),\"\",MATCH(\"○\",INDIRECT(ADDRESS(ROW(E$4)+1+E224,COLUMN(E$4))&\":\"&ADDRESS(ROW(E$109),COLUMN(E$4)),TRUE),0 )+E224))","v":""},"","","","","","","","","","","","","","","","","","","","","","","","","","","","","","","","","","","","","","","","","","","","","","","","",""]
[115,"","",null,{"$f":"IF(D226<>\"\",0,IF(OR(E225=\"\",E225>=105,$A226>E$110),\"\",MATCH(\"○\",INDIRECT(ADDRESS(ROW(E$4)+1+E225,COLUMN(E$4))&\":\"&ADDRESS(ROW(E$109),COLUMN(E$4)),TRUE),0 )+E225))","v":""},"","","","","","","","","","","","","","","","","","","","","","","","","","","","","","","","","","","","","","","","","","","","","","","","",""]
[116,"","",null,{"$f":"IF(D227<>\"\",0,IF(OR(E226=\"\",E226>=105,$A227>E$110),\"\",MATCH(\"○\",INDIRECT(ADDRESS(ROW(E$4)+1+E226,COLUMN(E$4))&\":\"&ADDRESS(ROW(E$109),COLUMN(E$4)),TRUE),0 )+E226))","v":""},"","","","","","","","","","","","","","","","","","","","","","","","","","","","","","","","","","","","","","","","","","","","","","","","",""]
[117,"","",null,{"$f":"IF(D228<>\"\",0,IF(OR(E227=\"\",E227>=105,$A228>E$110),\"\",MATCH(\"○\",INDIRECT(ADDRESS(ROW(E$4)+1+E227,COLUMN(E$4))&\":\"&ADDRESS(ROW(E$109),COLUMN(E$4)),TRUE),0 )+E227))","v":""},"","","","","","","","","","","","","","","","","","","","","","","","","","","","","","","","","","","","","","","","","","","","","","","","",""]
[118,"","",null,{"$f":"IF(D229<>\"\",0,IF(OR(E228=\"\",E228>=105,$A229>E$110),\"\",MATCH(\"○\",INDIRECT(ADDRESS(ROW(E$4)+1+E228,COLUMN(E$4))&\":\"&ADDRESS(ROW(E$109),COLUMN(E$4)),TRUE),0 )+E228))","v":""},"","","","","","","","","","","","","","","","","","","","","","","","","","","","","","","","","","","","","","","","","","","","","","","","",""]
[119,"","",null,{"$f":"IF(D230<>\"\",0,IF(OR(E229=\"\",E229>=105,$A230>E$110),\"\",MATCH(\"○\",INDIRECT(ADDRESS(ROW(E$4)+1+E229,COLUMN(E$4))&\":\"&ADDRESS(ROW(E$109),COLUMN(E$4)),TRUE),0 )+E229))","v":""},"","","","","","","","","","","","","","","","","","","","","","","","","","","","","","","","","","","","","","","","","","","","","","","","",""]
[120,"","",null,{"$f":"IF(D231<>\"\",0,IF(OR(E230=\"\",E230>=105,$A231>E$110),\"\",MATCH(\"○\",INDIRECT(ADDRESS(ROW(E$4)+1+E230,COLUMN(E$4))&\":\"&ADDRESS(ROW(E$109),COLUMN(E$4)),TRUE),0 )+E230))","v":""},"","","","","","","","","","","","","","","","","","","","","","","","","","","","","","","","","","","","","","","","","","","","","","","","",""]
[121,"","",null,{"$f":"IF(D232<>\"\",0,IF(OR(E231=\"\",E231>=105,$A232>E$110),\"\",MATCH(\"○\",INDIRECT(ADDRESS(ROW(E$4)+1+E231,COLUMN(E$4))&\":\"&ADDRESS(ROW(E$109),COLUMN(E$4)),TRUE),0 )+E231))","v":""},"","","","","","","","","","","","","","","","","","","","","","","","","","","","","","","","","","","","","","","","","","","","","","","","",""]
[122,"","",null,{"$f":"IF(D233<>\"\",0,IF(OR(E232=\"\",E232>=105,$A233>E$110),\"\",MATCH(\"○\",INDIRECT(ADDRESS(ROW(E$4)+1+E232,COLUMN(E$4))&\":\"&ADDRESS(ROW(E$109),COLUMN(E$4)),TRUE),0 )+E232))","v":""},"","","","","","","","","","","","","","","","","","","","","","","","","","","","","","","","","","","","","","","","","","","","","","","","",""]
[123,"","",null,{"$f":"IF(D234<>\"\",0,IF(OR(E233=\"\",E233>=105,$A234>E$110),\"\",MATCH(\"○\",INDIRECT(ADDRESS(ROW(E$4)+1+E233,COLUMN(E$4))&\":\"&ADDRESS(ROW(E$109),COLUMN(E$4)),TRUE),0 )+E233))","v":""},"","","","","","","","","","","","","","","","","","","","","","","","","","","","","","","","","","","","","","","","","","","","","","","","",""]
[124,"","",null,{"$f":"IF(D235<>\"\",0,IF(OR(E234=\"\",E234>=105,$A235>E$110),\"\",MATCH(\"○\",INDIRECT(ADDRESS(ROW(E$4)+1+E234,COLUMN(E$4))&\":\"&ADDRESS(ROW(E$109),COLUMN(E$4)),TRUE),0 )+E234))","v":""},"","","","","","","","","","","","","","","","","","","","","","","","","","","","","","","","","","","","","","","","","","","","","","","","",""]
[125,"","",null,{"$f":"IF(D236<>\"\",0,IF(OR(E235=\"\",E235>=105,$A236>E$110),\"\",MATCH(\"○\",INDIRECT(ADDRESS(ROW(E$4)+1+E235,COLUMN(E$4))&\":\"&ADDRESS(ROW(E$109),COLUMN(E$4)),TRUE),0 )+E235))","v":""},"","","","","","","","","","","","","","","","","","","","","","","","","","","","","","","","","","","","","","","","","","","","","","","","",""]
[126,"","",null,{"$f":"IF(D237<>\"\",0,IF(OR(E236=\"\",E236>=105,$A237>E$110),\"\",MATCH(\"○\",INDIRECT(ADDRESS(ROW(E$4)+1+E236,COLUMN(E$4))&\":\"&ADDRESS(ROW(E$109),COLUMN(E$4)),TRUE),0 )+E236))","v":""},"","","","","","","","","","","","","","","","","","","","","","","","","","","","","","","","","","","","","","","","","","","","","","","","",""]
[127,"","",null,{"$f":"IF(D238<>\"\",0,IF(OR(E237=\"\",E237>=105,$A238>E$110),\"\",MATCH(\"○\",INDIRECT(ADDRESS(ROW(E$4)+1+E237,COLUMN(E$4))&\":\"&ADDRESS(ROW(E$109),COLUMN(E$4)),TRUE),0 )+E237))","v":""},"","","","","","","","","","","","","","","","","","","","","","","","","","","","","","","","","","","","","","","","","","","","","","","","",""]
[128,"","",null,{"$f":"IF(D239<>\"\",0,IF(OR(E238=\"\",E238>=105,$A239>E$110),\"\",MATCH(\"○\",INDIRECT(ADDRESS(ROW(E$4)+1+E238,COLUMN(E$4))&\":\"&ADDRESS(ROW(E$109),COLUMN(E$4)),TRUE),0 )+E238))","v":""},"","","","","","","","","","","","","","","","","","","","","","","","","","","","","","","","","","","","","","","","","","","","","","","","",""]
[129,"",{"$f":"IF(MAX($E240:$BB240)=0,\"\",INDEX($C$5:$C$109,MAX($E240:$BB240)))","v":""},null,{"$f":"IF(D240<>\"\",0,IF(OR(E239=\"\",E239>=105,$A240>E$110),\"\",MATCH(\"○\",INDIRECT(ADDRESS(ROW(E$4)+1+E239,COLUMN(E$4))&\":\"&ADDRESS(ROW(E$109),COLUMN(E$4)),TRUE),0 )+E239))","v":""},"","","","","","","","","","","","","","","","","","","","","","","","","","","","","","","","","","","","","","","","","","","","","","","","",""]
[130,"","",null,{"$f":"IF(D241<>\"\",0,IF(OR(E240=\"\",E240>=105,$A241>E$110),\"\",MATCH(\"○\",INDIRECT(ADDRESS(ROW(E$4)+1+E240,COLUMN(E$4))&\":\"&ADDRESS(ROW(E$109),COLUMN(E$4)),TRUE),0 )+E240))","v":""},"","","","","","","","","","","","","","","","","","","","","","","","","","","","","","","","","","","","","","","","","","","","","","","","",""]
[131,"","",null,{"$f":"IF(D242<>\"\",0,IF(OR(E241=\"\",E241>=105,$A242>E$110),\"\",MATCH(\"○\",INDIRECT(ADDRESS(ROW(E$4)+1+E241,COLUMN(E$4))&\":\"&ADDRESS(ROW(E$109),COLUMN(E$4)),TRUE),0 )+E241))","v":""},"","","","","","","","","","","","","","","","","","","","","","","","","","","","","","","","","","","","","","","","","","","","","","","","",""]
[132,"","",null,{"$f":"IF(D243<>\"\",0,IF(OR(E242=\"\",E242>=105,$A243>E$110),\"\",MATCH(\"○\",INDIRECT(ADDRESS(ROW(E$4)+1+E242,COLUMN(E$4))&\":\"&ADDRESS(ROW(E$109),COLUMN(E$4)),TRUE),0 )+E242))","v":""},"","","","","","","","","","","","","","","","","","","","","","","","","","","","","","","","","","","","","","","","","","","","","","","","",""]
[133,"","",null,{"$f":"IF(D244<>\"\",0,IF(OR(E243=\"\",E243>=105,$A244>E$110),\"\",MATCH(\"○\",INDIRECT(ADDRESS(ROW(E$4)+1+E243,COLUMN(E$4))&\":\"&ADDRESS(ROW(E$109),COLUMN(E$4)),TRUE),0 )+E243))","v":""},"","","","","","","","","","","","","","","","","","","","","","","","","","","","","","","","","","","","","","","","","","","","","","","","",""]
[134,"","",null,{"$f":"IF(D245<>\"\",0,IF(OR(E244=\"\",E244>=105,$A245>E$110),\"\",MATCH(\"○\",INDIRECT(ADDRESS(ROW(E$4)+1+E244,COLUMN(E$4))&\":\"&ADDRESS(ROW(E$109),COLUMN(E$4)),TRUE),0 )+E244))","v":""},"","","","","","","","","","","","","","","","","","","","","","","","","","","","","","","","","","","","","","","","","","","","","","","","",""]
[135,"","",null,{"$f":"IF(D246<>\"\",0,IF(OR(E245=\"\",E245>=105,$A246>E$110),\"\",MATCH(\"○\",INDIRECT(ADDRESS(ROW(E$4)+1+E245,COLUMN(E$4))&\":\"&ADDRESS(ROW(E$109),COLUMN(E$4)),TRUE),0 )+E245))","v":""},"","","","","","","","","","","","","","","","","","","","","","","","","","","","","","","","","","","","","","","","","","","","","","","","",""]
[136,"","",null,{"$f":"IF(D247<>\"\",0,IF(OR(E246=\"\",E246>=105,$A247>E$110),\"\",MATCH(\"○\",INDIRECT(ADDRESS(ROW(E$4)+1+E246,COLUMN(E$4))&\":\"&ADDRESS(ROW(E$109),COLUMN(E$4)),TRUE),0 )+E246))","v":""},"","","","","","","","","","","","","","","","","","","","","","","","","","","","","","","","","","","","","","","","","","","","","","","","",""]
[137,"","",null,{"$f":"IF(D248<>\"\",0,IF(OR(E247=\"\",E247>=105,$A248>E$110),\"\",MATCH(\"○\",INDIRECT(ADDRESS(ROW(E$4)+1+E247,COLUMN(E$4))&\":\"&ADDRESS(ROW(E$109),COLUMN(E$4)),TRUE),0 )+E247))","v":""},"","","","","","","","","","","","","","","","","","","","","","","","","","","","","","","","","","","","","","","","","","","","","","","","",""]
[138,"","",null,{"$f":"IF(D249<>\"\",0,IF(OR(E248=\"\",E248>=105,$A249>E$110),\"\",MATCH(\"○\",INDIRECT(ADDRESS(ROW(E$4)+1+E248,COLUMN(E$4))&\":\"&ADDRESS(ROW(E$109),COLUMN(E$4)),TRUE),0 )+E248))","v":""},"","","","","","","","","","","","","","","","","","","","","","","","","","","","","","","","","","","","","","","","","","","","","","","","",""]
[139,"","",null,{"$f":"IF(D250<>\"\",0,IF(OR(E249=\"\",E249>=105,$A250>E$110),\"\",MATCH(\"○\",INDIRECT(ADDRESS(ROW(E$4)+1+E249,COLUMN(E$4))&\":\"&ADDRESS(ROW(E$109),COLUMN(E$4)),TRUE),0 )+E249))","v":""},"","","","","","","","","","","","","","","","","","","","","","","","","","","","","","","","","","","","","","","","","","","","","","","","",""]
[140,"","",null,{"$f":"IF(D251<>\"\",0,IF(OR(E250=\"\",E250>=105,$A251>E$110),\"\",MATCH(\"○\",INDIRECT(ADDRESS(ROW(E$4)+1+E250,COLUMN(E$4))&\":\"&ADDRESS(ROW(E$109),COLUMN(E$4)),TRUE),0 )+E250))","v":""},"","","","","","","","","","","","","","","","","","","","","","","","","","","","","","","","","","","","","","","","","","","","","","","","",""]
[141,"","",null,{"$f":"IF(D252<>\"\",0,IF(OR(E251=\"\",E251>=105,$A252>E$110),\"\",MATCH(\"○\",INDIRECT(ADDRESS(ROW(E$4)+1+E251,COLUMN(E$4))&\":\"&ADDRESS(ROW(E$109),COLUMN(E$4)),TRUE),0 )+E251))","v":""},"","","","","","","","","","","","","","","","","","","","","","","","","","","","","","","","","","","","","","","","","","","","","","","","",""]
[142,"","",null,{"$f":"IF(D253<>\"\",0,IF(OR(E252=\"\",E252>=105,$A253>E$110),\"\",MATCH(\"○\",INDIRECT(ADDRESS(ROW(E$4)+1+E252,COLUMN(E$4))&\":\"&ADDRESS(ROW(E$109),COLUMN(E$4)),TRUE),0 )+E252))","v":""},"","","","","","","","","","","","","","","","","","","","","","","","","","","","","","","","","","","","","","","","","","","","","","","","",""]
[143,"","",null,{"$f":"IF(D254<>\"\",0,IF(OR(E253=\"\",E253>=105,$A254>E$110),\"\",MATCH(\"○\",INDIRECT(ADDRESS(ROW(E$4)+1+E253,COLUMN(E$4))&\":\"&ADDRESS(ROW(E$109),COLUMN(E$4)),TRUE),0 )+E253))","v":""},"","","","","","","","","","","","","","","","","","","","","","","","","","","","","","","","","","","","","","","","","","","","","","","","",""]
[144,"","",null,{"$f":"IF(D255<>\"\",0,IF(OR(E254=\"\",E254>=105,$A255>E$110),\"\",MATCH(\"○\",INDIRECT(ADDRESS(ROW(E$4)+1+E254,COLUMN(E$4))&\":\"&ADDRESS(ROW(E$109),COLUMN(E$4)),TRUE),0 )+E254))","v":""},"","","","","","","","","","","","","","","","","","","","","","","","","","","","","","","","","","","","","","","","","","","","","","","","",""]
[145,"","",null,{"$f":"IF(D256<>\"\",0,IF(OR(E255=\"\",E255>=105,$A256>E$110),\"\",MATCH(\"○\",INDIRECT(ADDRESS(ROW(E$4)+1+E255,COLUMN(E$4))&\":\"&ADDRESS(ROW(E$109),COLUMN(E$4)),TRUE),0 )+E255))","v":""},"","","","","","","","","","","","","","","","","","","","","","","","","","","","","","","","","","","","","","","","","","","","","","","","",""]
[146,"","",null,{"$f":"IF(D257<>\"\",0,IF(OR(E256=\"\",E256>=105,$A257>E$110),\"\",MATCH(\"○\",INDIRECT(ADDRESS(ROW(E$4)+1+E256,COLUMN(E$4))&\":\"&ADDRESS(ROW(E$109),COLUMN(E$4)),TRUE),0 )+E256))","v":""},"","","","","","","","","","","","","","","","","","","","","","","","","","","","","","","","","","","","","","","","","","","","","","","","",""]
[147,"","",null,{"$f":"IF(D258<>\"\",0,IF(OR(E257=\"\",E257>=105,$A258>E$110),\"\",MATCH(\"○\",INDIRECT(ADDRESS(ROW(E$4)+1+E257,COLUMN(E$4))&\":\"&ADDRESS(ROW(E$109),COLUMN(E$4)),TRUE),0 )+E257))","v":""},"","","","","","","","","","","","","","","","","","","","","","","","","","","","","","","","","","","","","","","","","","","","","","","","",""]
[148,"","",null,{"$f":"IF(D259<>\"\",0,IF(OR(E258=\"\",E258>=105,$A259>E$110),\"\",MATCH(\"○\",INDIRECT(ADDRESS(ROW(E$4)+1+E258,COLUMN(E$4))&\":\"&ADDRESS(ROW(E$109),COLUMN(E$4)),TRUE),0 )+E258))","v":""},"","","","","","","","","","","","","","","","","","","","","","","","","","","","","","","","","","","","","","","","","","","","","","","","",""]
[149,"","",null,{"$f":"IF(D260<>\"\",0,IF(OR(E259=\"\",E259>=105,$A260>E$110),\"\",MATCH(\"○\",INDIRECT(ADDRESS(ROW(E$4)+1+E259,COLUMN(E$4))&\":\"&ADDRESS(ROW(E$109),COLUMN(E$4)),TRUE),0 )+E259))","v":""},"","","","","","","","","","","","","","","","","","","","","","","","","","","","","","","","","","","","","","","","","","","","","","","","",""]
[150,"","",null,{"$f":"IF(D261<>\"\",0,IF(OR(E260=\"\",E260>=105,$A261>E$110),\"\",MATCH(\"○\",INDIRECT(ADDRESS(ROW(E$4)+1+E260,COLUMN(E$4))&\":\"&ADDRESS(ROW(E$109),COLUMN(E$4)),TRUE),0 )+E260))","v":""},"","","","","","","","","","","","","","","","","","","","","","","","","","","","","","","","","","","","","","","","","","","","","","","","",""]
[151,"","",null,{"$f":"IF(D262<>\"\",0,IF(OR(E261=\"\",E261>=105,$A262>E$110),\"\",MATCH(\"○\",INDIRECT(ADDRESS(ROW(E$4)+1+E261,COLUMN(E$4))&\":\"&ADDRESS(ROW(E$109),COLUMN(E$4)),TRUE),0 )+E261))","v":""},"","","","","","","","","","","","","","","","","","","","","","","","","","","","","","","","","","","","","","","","","","","","","","","","",""]
[152,"","",null,{"$f":"IF(D263<>\"\",0,IF(OR(E262=\"\",E262>=105,$A263>E$110),\"\",MATCH(\"○\",INDIRECT(ADDRESS(ROW(E$4)+1+E262,COLUMN(E$4))&\":\"&ADDRESS(ROW(E$109),COLUMN(E$4)),TRUE),0 )+E262))","v":""},"","","","","","","","","","","","","","","","","","","","","","","","","","","","","","","","","","","","","","","","","","","","","","","","",""]
[153,"","",null,{"$f":"IF(D264<>\"\",0,IF(OR(E263=\"\",E263>=105,$A264>E$110),\"\",MATCH(\"○\",INDIRECT(ADDRESS(ROW(E$4)+1+E263,COLUMN(E$4))&\":\"&ADDRESS(ROW(E$109),COLUMN(E$4)),TRUE),0 )+E263))","v":""},"","","","","","","","","","","","","","","","","","","","","","","","","","","","","","","","","","","","","","","","","","","","","","","","",""]
[154,"","",null,{"$f":"IF(D265<>\"\",0,IF(OR(E264=\"\",E264>=105,$A265>E$110),\"\",MATCH(\"○\",INDIRECT(ADDRESS(ROW(E$4)+1+E264,COLUMN(E$4))&\":\"&ADDRESS(ROW(E$109),COLUMN(E$4)),TRUE),0 )+E264))","v":""},"","","","","","","","","","","","","","","","","","","","","","","","","","","","","","","","","","","","","","","","","","","","","","","","",""]
[155,"","",null,{"$f":"IF(D266<>\"\",0,IF(OR(E265=\"\",E265>=105,$A266>E$110),\"\",MATCH(\"○\",INDIRECT(ADDRESS(ROW(E$4)+1+E265,COLUMN(E$4))&\":\"&ADDRESS(ROW(E$109),COLUMN(E$4)),TRUE),0 )+E265))","v":""},"","","","","","","","","","","","","","","","","","","","","","","","","","","","","","","","","","","","","","","","","","","","","","","","",""]
[156,"","",null,{"$f":"IF(D267<>\"\",0,IF(OR(E266=\"\",E266>=105,$A267>E$110),\"\",MATCH(\"○\",INDIRECT(ADDRESS(ROW(E$4)+1+E266,COLUMN(E$4))&\":\"&ADDRESS(ROW(E$109),COLUMN(E$4)),TRUE),0 )+E266))","v":""},"","","","","","","","","","","","","","","","","","","","","","","","","","","","","","","","","","","","","","","","","","","","","","","","",""]
[157,"","",null,{"$f":"IF(D268<>\"\",0,IF(OR(E267=\"\",E267>=105,$A268>E$110),\"\",MATCH(\"○\",INDIRECT(ADDRESS(ROW(E$4)+1+E267,COLUMN(E$4))&\":\"&ADDRESS(ROW(E$109),COLUMN(E$4)),TRUE),0 )+E267))","v":""},"","","","","","","","","","","","","","","","","","","","","","","","","","","","","","","","","","","","","","","","","","","","","","","","",""]
[158,"","",null,{"$f":"IF(D269<>\"\",0,IF(OR(E268=\"\",E268>=105,$A269>E$110),\"\",MATCH(\"○\",INDIRECT(ADDRESS(ROW(E$4)+1+E268,COLUMN(E$4))&\":\"&ADDRESS(ROW(E$109),COLUMN(E$4)),TRUE),0 )+E268))","v":""},"","","","","","","","","","","","","","","","","","","","","","","","","","","","","","","","","","","","","","","","","","","","","","","","",""]
[159,"","",null,{"$f":"IF(D270<>\"\",0,IF(OR(E269=\"\",E269>=105,$A270>E$110),\"\",MATCH(\"○\",INDIRECT(ADDRESS(ROW(E$4)+1+E269,COLUMN(E$4))&\":\"&ADDRESS(ROW(E$109),COLUMN(E$4)),TRUE),0 )+E269))","v":""},"","","","","","","","","","","","","","","","","","","","","","","","","","","","","","","","","","","","","","","","","","","","","","","","",""]
[160,"","",null,{"$f":"IF(D271<>\"\",0,IF(OR(E270=\"\",E270>=105,$A271>E$110),\"\",MATCH(\"○\",INDIRECT(ADDRESS(ROW(E$4)+1+E270,COLUMN(E$4))&\":\"&ADDRESS(ROW(E$109),COLUMN(E$4)),TRUE),0 )+E270))","v":""},"","","","","","","","","","","","","","","","","","","","","","","","","","","","","","","","","","","","","","","","","","","","","","","","",""]
[161,"","",null,{"$f":"IF(D272<>\"\",0,IF(OR(E271=\"\",E271>=105,$A272>E$110),\"\",MATCH(\"○\",INDIRECT(ADDRESS(ROW(E$4)+1+E271,COLUMN(E$4))&\":\"&ADDRESS(ROW(E$109),COLUMN(E$4)),TRUE),0 )+E271))","v":""},"","","","","","","","","","","","","","","","","","","","","","","","","","","","","","","","","","","","","","","","","","","","","","","","",""]
[162,"","",null,{"$f":"IF(D273<>\"\",0,IF(OR(E272=\"\",E272>=105,$A273>E$110),\"\",MATCH(\"○\",INDIRECT(ADDRESS(ROW(E$4)+1+E272,COLUMN(E$4))&\":\"&ADDRESS(ROW(E$109),COLUMN(E$4)),TRUE),0 )+E272))","v":""},"","","","","","","","","","","","","","","","","","","","","","","","","","","","","","","","","","","","","","","","","","","","","","","","",""]
[163,"","",null,{"$f":"IF(D274<>\"\",0,IF(OR(E273=\"\",E273>=105,$A274>E$110),\"\",MATCH(\"○\",INDIRECT(ADDRESS(ROW(E$4)+1+E273,COLUMN(E$4))&\":\"&ADDRESS(ROW(E$109),COLUMN(E$4)),TRUE),0 )+E273))","v":""},"","","","","","","","","","","","","","","","","","","","","","","","","","","","","","","","","","","","","","","","","","","","","","","","",""]
[164,"","",null,{"$f":"IF(D275<>\"\",0,IF(OR(E274=\"\",E274>=105,$A275>E$110),\"\",MATCH(\"○\",INDIRECT(ADDRESS(ROW(E$4)+1+E274,COLUMN(E$4))&\":\"&ADDRESS(ROW(E$109),COLUMN(E$4)),TRUE),0 )+E274))","v":""},"","","","","","","","","","","","","","","","","","","","","","","","","","","","","","","","","","","","","","","","","","","","","","","","",""]
[165,"","",null,{"$f":"IF(D276<>\"\",0,IF(OR(E275=\"\",E275>=105,$A276>E$110),\"\",MATCH(\"○\",INDIRECT(ADDRESS(ROW(E$4)+1+E275,COLUMN(E$4))&\":\"&ADDRESS(ROW(E$109),COLUMN(E$4)),TRUE),0 )+E275))","v":""},"","","","","","","","","","","","","","","","","","","","","","","","","","","","","","","","","","","","","","","","","","","","","","","","",""]
[166,"","",null,{"$f":"IF(D277<>\"\",0,IF(OR(E276=\"\",E276>=105,$A277>E$110),\"\",MATCH(\"○\",INDIRECT(ADDRESS(ROW(E$4)+1+E276,COLUMN(E$4))&\":\"&ADDRESS(ROW(E$109),COLUMN(E$4)),TRUE),0 )+E276))","v":""},"","","","","","","","","","","","","","","","","","","","","","","","","","","","","","","","","","","","","","","","","","","","","","","","",""]
[167,"","",null,{"$f":"IF(D278<>\"\",0,IF(OR(E277=\"\",E277>=105,$A278>E$110),\"\",MATCH(\"○\",INDIRECT(ADDRESS(ROW(E$4)+1+E277,COLUMN(E$4))&\":\"&ADDRESS(ROW(E$109),COLUMN(E$4)),TRUE),0 )+E277))","v":""},"","","","","","","","","","","","","","","","","","","","","","","","","","","","","","","","","","","","","","","","","","","","","","","","",""]
[168,"","",null,{"$f":"IF(D279<>\"\",0,IF(OR(E278=\"\",E278>=105,$A279>E$110),\"\",MATCH(\"○\",INDIRECT(ADDRESS(ROW(E$4)+1+E278,COLUMN(E$4))&\":\"&ADDRESS(ROW(E$109),COLUMN(E$4)),TRUE),0 )+E278))","v":""},"","","","","","","","","","","","","","","","","","","","","","","","","","","","","","","","","","","","","","","","","","","","","","","","",""]
[169,{"$f":"IF(C280=\"\",\"\",INDEX(E$4:BB$4,COUNTBLANK($E280:$BB280)+1))","v":""},"",null,{"$f":"IF(D280<>\"\",0,IF(OR(E279=\"\",E279>=105,$A280>E$110),\"\",MATCH(\"○\",INDIRECT(ADDRESS(ROW(E$4)+1+E279,COLUMN(E$4))&\":\"&ADDRESS(ROW(E$109),COLUMN(E$4)),TRUE),0 )+E279))","v":""},"","","","","","","","","","","","","","","","","","","","","","","","","","","","","","","","","","","","","","","","","","","","","","","","",""]
[170,"","",null,{"$f":"IF(D281<>\"\",0,IF(OR(E280=\"\",E280>=105,$A281>E$110),\"\",MATCH(\"○\",INDIRECT(ADDRESS(ROW(E$4)+1+E280,COLUMN(E$4))&\":\"&ADDRESS(ROW(E$109),COLUMN(E$4)),TRUE),0 )+E280))","v":""},"","","","","","","","","","","","","","","","","","","","","","","","","","","","","","","","","","","","","","","","","","","","","","","","",""]
[171,"","",null,{"$f":"IF(D282<>\"\",0,IF(OR(E281=\"\",E281>=105,$A282>E$110),\"\",MATCH(\"○\",INDIRECT(ADDRESS(ROW(E$4)+1+E281,COLUMN(E$4))&\":\"&ADDRESS(ROW(E$109),COLUMN(E$4)),TRUE),0 )+E281))","v":""},"","","","","","","","","","","","","","","","","","","","","","","","","","","","","","","","","","","","","","","","","","","","","","","","",""]
[172,"","",null,{"$f":"IF(D283<>\"\",0,IF(OR(E282=\"\",E282>=105,$A283>E$110),\"\",MATCH(\"○\",INDIRECT(ADDRESS(ROW(E$4)+1+E282,COLUMN(E$4))&\":\"&ADDRESS(ROW(E$109),COLUMN(E$4)),TRUE),0 )+E282))","v":""},"","","","","","","","","","","","","","","","","","","","","","","","","","","","","","","","","","","","","","","","","","","","","","","","",""]
[173,"","",null,{"$f":"IF(D284<>\"\",0,IF(OR(E283=\"\",E283>=105,$A284>E$110),\"\",MATCH(\"○\",INDIRECT(ADDRESS(ROW(E$4)+1+E283,COLUMN(E$4))&\":\"&ADDRESS(ROW(E$109),COLUMN(E$4)),TRUE),0 )+E283))","v":""},"","","","","","","","","","","","","","","","","","","","","","","","","","","","","","","","","","","","","","","","","","","","","","","","",""]
[174,"","",null,{"$f":"IF(D285<>\"\",0,IF(OR(E284=\"\",E284>=105,$A285>E$110),\"\",MATCH(\"○\",INDIRECT(ADDRESS(ROW(E$4)+1+E284,COLUMN(E$4))&\":\"&ADDRESS(ROW(E$109),COLUMN(E$4)),TRUE),0 )+E284))","v":""},"","","","","","","","","","","","","","","","","","","","","","","","","","","","","","","","","","","","","","","","","","","","","","","","",""]
[175,"","",null,{"$f":"IF(D286<>\"\",0,IF(OR(E285=\"\",E285>=105,$A286>E$110),\"\",MATCH(\"○\",INDIRECT(ADDRESS(ROW(E$4)+1+E285,COLUMN(E$4))&\":\"&ADDRESS(ROW(E$109),COLUMN(E$4)),TRUE),0 )+E285))","v":""},"","","","","","","","","","","","","","","","","","","","","","","","","","","","","","","","","","","","","","","","","","","","","","","","",""]
[176,"","",null,{"$f":"IF(D287<>\"\",0,IF(OR(E286=\"\",E286>=105,$A287>E$110),\"\",MATCH(\"○\",INDIRECT(ADDRESS(ROW(E$4)+1+E286,COLUMN(E$4))&\":\"&ADDRESS(ROW(E$109),COLUMN(E$4)),TRUE),0 )+E286))","v":""},"","","","","","","","","","","","","","","","","","","","","","","","","","","","","","","","","","","","","","","","","","","","","","","","",""]
[177,"","",null,{"$f":"IF(D288<>\"\",0,IF(OR(E287=\"\",E287>=105,$A288>E$110),\"\",MATCH(\"○\",INDIRECT(ADDRESS(ROW(E$4)+1+E287,COLUMN(E$4))&\":\"&ADDRESS(ROW(E$109),COLUMN(E$4)),TRUE),0 )+E287))","v":""},"","","","","","","","","","","","","","","","","","","","","","","","","","","","","","","","","","","","","","","","","","","","","","","","",""]
[178,"","",null,{"$f":"IF(D289<>\"\",0,IF(OR(E288=\"\",E288>=105,$A289>E$110),\"\",MATCH(\"○\",INDIRECT(ADDRESS(ROW(E$4)+1+E288,COLUMN(E$4))&\":\"&ADDRESS(ROW(E$109),COLUMN(E$4)),TRUE),0 )+E288))","v":""},"","","","","","","","","","","","","","","","","","","","","","","","","","","","","","","","","","","","","","","","","","","","","","","","",""]
[179,"","",null,{"$f":"IF(D290<>\"\",0,IF(OR(E289=\"\",E289>=105,$A290>E$110),\"\",MATCH(\"○\",INDIRECT(ADDRESS(ROW(E$4)+1+E289,COLUMN(E$4))&\":\"&ADDRESS(ROW(E$109),COLUMN(E$4)),TRUE),0 )+E289))","v":""},"","","","","","","","","","","","","","","","","","","","","","","","","","","","","","","","","","","","","","","","","","","","","","","","",""]
[180,"","",null,{"$f":"IF(D291<>\"\",0,IF(OR(E290=\"\",E290>=105,$A291>E$110),\"\",MATCH(\"○\",INDIRECT(ADDRESS(ROW(E$4)+1+E290,COLUMN(E$4))&\":\"&ADDRESS(ROW(E$109),COLUMN(E$4)),TRUE),0 )+E290))","v":""},"","","","","","","","","","","","","","","","","","","","","","","","","","","","","","","","","","","","","","","","","","","","","","","","",""]
[181,"","",null,{"$f":"IF(D292<>\"\",0,IF(OR(E291=\"\",E291>=105,$A292>E$110),\"\",MATCH(\"○\",INDIRECT(ADDRESS(ROW(E$4)+1+E291,COLUMN(E$4))&\":\"&ADDRESS(ROW(E$109),COLUMN(E$4)),TRUE),0 )+E291))","v":""},"","","","","","","","","","","","","","","","","","","","","","","","","","","","","","","","","","","","","","","","","","","","","","","","",""]
[182,"","",null,{"$f":"IF(D293<>\"\",0,IF(OR(E292=\"\",E292>=105,$A293>E$110),\"\",MATCH(\"○\",INDIRECT(ADDRESS(ROW(E$4)+1+E292,COLUMN(E$4))&\":\"&ADDRESS(ROW(E$109),COLUMN(E$4)),TRUE),0 )+E292))","v":""},"","","","","","","","","","","","","","","","","","","","","","","","","","","","","","","","","","","","","","","","","","","","","","","","",""]
[183,"","",null,{"$f":"IF(D294<>\"\",0,IF(OR(E293=\"\",E293>=105,$A294>E$110),\"\",MATCH(\"○\",INDIRECT(ADDRESS(ROW(E$4)+1+E293,COLUMN(E$4))&\":\"&ADDRESS(ROW(E$109),COLUMN(E$4)),TRUE),0 )+E293))","v":""},"","","","","","","","","","","","","","","","","","","","","","","","","","","","","","","","","","","","","","","","","","","","","","","","",""]
[184,"","",null,{"$f":"IF(D295<>\"\",0,IF(OR(E294=\"\",E294>=105,$A295>E$110),\"\",MATCH(\"○\",INDIRECT(ADDRESS(ROW(E$4)+1+E294,COLUMN(E$4))&\":\"&ADDRESS(ROW(E$109),COLUMN(E$4)),TRUE),0 )+E294))","v":""},"","","","","","","","","","","","","","","","","","","","","","","","","","","","","","","","","","","","","","","","","","","","","","","","",""]
[185,"","",null,{"$f":"IF(D296<>\"\",0,IF(OR(E295=\"\",E295>=105,$A296>E$110),\"\",MATCH(\"○\",INDIRECT(ADDRESS(ROW(E$4)+1+E295,COLUMN(E$4))&\":\"&ADDRESS(ROW(E$109),COLUMN(E$4)),TRUE),0 )+E295))","v":""},"","","","","","","","","","","","","","","","","","","","","","","","","","","","","","","","","","","","","","","","","","","","","","","","",""]
[186,"","",null,{"$f":"IF(D297<>\"\",0,IF(OR(E296=\"\",E296>=105,$A297>E$110),\"\",MATCH(\"○\",INDIRECT(ADDRESS(ROW(E$4)+1+E296,COLUMN(E$4))&\":\"&ADDRESS(ROW(E$109),COLUMN(E$4)),TRUE),0 )+E296))","v":""},"","","","","","","","","","","","","","","","","","","","","","","","","","","","","","","","","","","","","","","","","","","","","","","","",""]
[187,"","",null,{"$f":"IF(D298<>\"\",0,IF(OR(E297=\"\",E297>=105,$A298>E$110),\"\",MATCH(\"○\",INDIRECT(ADDRESS(ROW(E$4)+1+E297,COLUMN(E$4))&\":\"&ADDRESS(ROW(E$109),COLUMN(E$4)),TRUE),0 )+E297))","v":""},"","","","","","","","","","","","","","","","","","","","","","","","","","","","","","","","","","","","","","","","","","","","","","","","",""]
[188,"","",null,{"$f":"IF(D299<>\"\",0,IF(OR(E298=\"\",E298>=105,$A299>E$110),\"\",MATCH(\"○\",INDIRECT(ADDRESS(ROW(E$4)+1+E298,COLUMN(E$4))&\":\"&ADDRESS(ROW(E$109),COLUMN(E$4)),TRUE),0 )+E298))","v":""},"","","","","","","","","","","","","","","","","","","","","","","","","","","","","","","","","","","","","","","","","","","","","","","","",""]
[189,"","",null,{"$f":"IF(D300<>\"\",0,IF(OR(E299=\"\",E299>=105,$A300>E$110),\"\",MATCH(\"○\",INDIRECT(ADDRESS(ROW(E$4)+1+E299,COLUMN(E$4))&\":\"&ADDRESS(ROW(E$109),COLUMN(E$4)),TRUE),0 )+E299))","v":""},"","","","","","","","","","","","","","","","","","","","","","","","","","","","","","","","","","","","","","","","","","","","","","","","",""]
[190,"","",null,{"$f":"IF(D301<>\"\",0,IF(OR(E300=\"\",E300>=105,$A301>E$110),\"\",MATCH(\"○\",INDIRECT(ADDRESS(ROW(E$4)+1+E300,COLUMN(E$4))&\":\"&ADDRESS(ROW(E$109),COLUMN(E$4)),TRUE),0 )+E300))","v":""},"","","","","","","","","","","","","","","","","","","","","","","","","","","","","","","","","","","","","","","","","","","","","","","","",""]
[191,"","",null,{"$f":"IF(D302<>\"\",0,IF(OR(E301=\"\",E301>=105,$A302>E$110),\"\",MATCH(\"○\",INDIRECT(ADDRESS(ROW(E$4)+1+E301,COLUMN(E$4))&\":\"&ADDRESS(ROW(E$109),COLUMN(E$4)),TRUE),0 )+E301))","v":""},"","","","","","","","","","","","","","","","","","","","","","","","","","","","","","","","","","","","","","","","","","","","","","","","",""]
[192,"","",null,{"$f":"IF(D303<>\"\",0,IF(OR(E302=\"\",E302>=105,$A303>E$110),\"\",MATCH(\"○\",INDIRECT(ADDRESS(ROW(E$4)+1+E302,COLUMN(E$4))&\":\"&ADDRESS(ROW(E$109),COLUMN(E$4)),TRUE),0 )+E302))","v":""},"","","","","","","","","","","","","","","","","","","","","","","","","","","","","","","","","","","","","","","","","","","","","","","","",""]
[193,"",{"$f":"IF(MAX($E304:$BB304)=0,\"\",INDEX($C$5:$C$109,MAX($E304:$BB304)))","v":""},null,{"$f":"IF(D304<>\"\",0,IF(OR(E303=\"\",E303>=105,$A304>E$110),\"\",MATCH(\"○\",INDIRECT(ADDRESS(ROW(E$4)+1+E303,COLUMN(E$4))&\":\"&ADDRESS(ROW(E$109),COLUMN(E$4)),TRUE),0 )+E303))","v":""},"","","","","","","","","","","","","","","","","","","","","","","","","","","","","","","","","","","","","","","","","","","","","","","","",""]
[194,"","",null,{"$f":"IF(D305<>\"\",0,IF(OR(E304=\"\",E304>=105,$A305>E$110),\"\",MATCH(\"○\",INDIRECT(ADDRESS(ROW(E$4)+1+E304,COLUMN(E$4))&\":\"&ADDRESS(ROW(E$109),COLUMN(E$4)),TRUE),0 )+E304))","v":""},"","","","","","","","","","","","","","","","","","","","","","","","","","","","","","","","","","","","","","","","","","","","","","","","",""]
[195,{"$f":"IF(C306=\"\",\"\",INDEX(E$4:BB$4,COUNTBLANK($E306:$BB306)+1))","v":""},"",null,{"$f":"IF(D306<>\"\",0,IF(OR(E305=\"\",E305>=105,$A306>E$110),\"\",MATCH(\"○\",INDIRECT(ADDRESS(ROW(E$4)+1+E305,COLUMN(E$4))&\":\"&ADDRESS(ROW(E$109),COLUMN(E$4)),TRUE),0 )+E305))","v":""},"","","","","","","","","","","","","","","","","","","","","","","","","","","","","","","","","","","","","","","","","","","","","","","","",""]
[196,"","",null,{"$f":"IF(D307<>\"\",0,IF(OR(E306=\"\",E306>=105,$A307>E$110),\"\",MATCH(\"○\",INDIRECT(ADDRESS(ROW(E$4)+1+E306,COLUMN(E$4))&\":\"&ADDRESS(ROW(E$109),COLUMN(E$4)),TRUE),0 )+E306))","v":""},"","","","","","","","","","","","","","","","","","","","","","","","","","","","","","","","","","","","","","","","","","","","","","","","",""]
[197,"","",null,{"$f":"IF(D308<>\"\",0,IF(OR(E307=\"\",E307>=105,$A308>E$110),\"\",MATCH(\"○\",INDIRECT(ADDRESS(ROW(E$4)+1+E307,COLUMN(E$4))&\":\"&ADDRESS(ROW(E$109),COLUMN(E$4)),TRUE),0 )+E307))","v":""},"","","","","","","","","","","","","","","","","","","","","","","","","","","","","","","","","","","","","","","","","","","","","","","","",""]
[198,"","",null,{"$f":"IF(D309<>\"\",0,IF(OR(E308=\"\",E308>=105,$A309>E$110),\"\",MATCH(\"○\",INDIRECT(ADDRESS(ROW(E$4)+1+E308,COLUMN(E$4))&\":\"&ADDRESS(ROW(E$109),COLUMN(E$4)),TRUE),0 )+E308))","v":""},"","","","","","","","","","","","","","","","","","","","","","","","","","","","","","","","","","","","","","","","","","","","","","","","",""]
[199,"","",null,{"$f":"IF(D310<>\"\",0,IF(OR(E309=\"\",E309>=105,$A310>E$110),\"\",MATCH(\"○\",INDIRECT(ADDRESS(ROW(E$4)+1+E309,COLUMN(E$4))&\":\"&ADDRESS(ROW(E$109),COLUMN(E$4)),TRUE),0 )+E309))","v":""},"","","","","","","","","","","","","","","","","","","","","","","","","","","","","","","","","","","","","","","","","","","","","","","","",""]
[200,{"$f":"IF(C311=\"\",\"\",INDEX(E$4:BB$4,COUNTBLANK($E311:$BB311)+1))","v":""},"",null,{"$f":"IF(D311<>\"\",0,IF(OR(E310=\"\",E310>=105,$A311>E$110),\"\",MATCH(\"○\",INDIRECT(ADDRESS(ROW(E$4)+1+E310,COLUMN(E$4))&\":\"&ADDRESS(ROW(E$109),COLUMN(E$4)),TRUE),0 )+E310))","v":""},"","","","","","","","","","","","","","","","","","","","","","","","","","","","","","","","","","","","","","","","","","","","","","","","",""]

{"sheet":"取組選択","index":30,"n_rows":902,"n_cols":52,"rows_kept":902,"cut":false,"hidden":false,"merged":[[829,5,830,42],[834,3,834,6],[837,5,838,42],[842,3,842,6],[845,5,846,42],[850,3,850,6],[853,5,854,42],[858,3,858,6],[861,5,862,42],[901,5,902,42],[866,3,866,6],[869,5,870,42],[874,3,874,6],[877,5,878,42],[882,3,882,6],[885,5,886,42],[890,3,890,6],[893,5,894,42],[898,3,898,6],[810,3,810,6],[813,5,814,42],[818,3,818,6],[821,5,822,42],[826,3,826,6],[757,5,758,42],[762,3,762,6],[765,5,766,42],[770,3,770,6],[773,5,774,42],[778,3,778,6],[781,5,782,42],[786,3,786,6],[789,5,790,42],[794,3,794,6],[797,5,798,42],[802,3,802,6],[805,5,806,42],[722,3,722,6],[725,5,726,42],[730,3,730,6],[733,5,734,42],[738,3,738,6],[741,5,742,42],[746,3,746,6],[749,5,750,42],[754,3,754,6],[685,5,686,42],[690,3,690,6],[693,5,694,42],[698,3,698,6],[701,5,702,42],[706,3,706,6],[709,5,710,42],[714,3,714,6],[717,5,718,42],[661,5,662,42],[666,3,666,6],[669,5,670,42],[197,5,198,42],[218,3,218,6],[210,3,210,6],[258,3,258,6],[250,3,250,6],[242,3,242,6],[234,3,234,6],[226,3,226,6],[621,5,622,42],[269,5,270,42],[261,5,262,42],[253,5,254,42],[245,5,246,42],[237,5,238,42],[229,5,230,42],[221,5,222,42],[213,5,214,42],[205,5,206,42],[405,5,406,42],[397,5,398,42],[389,5,390,42],[626,3,626,6],[629,5,630,42],[634,3,634,6],[637,5,638,42],[642,3,642,6],[645,5,646,42],[650,3,650,6],[653,5,654,42],[658,3,658,6],[674,3,674,6],[677,5,678,42],[682,3,682,6],[149,5,150,42],[141,5,142,42],[133,5,134,42],[125,5,126,42],[29,5,30,42],[37,5,38,42],[45,5,46,42],[53,5,54,42],[61,5,62,42],[69,5,70,42],[77,5,78,42],[85,5,86,42],[93,5,94,42],[101,5,102,42],[109,5,110,42],[117,5,118,42],[106,3,106,6],[394,3,394,6],[386,3,386,6],[378,3,378,6],[370,3,370,6],[122,3,122,6],[114,3,114,6],[162,3,162,6],[154,3,154,6],[146,3,146,6],[138,3,138,6],[130,3,130,6],[202,3,202,6],[194,3,194,6],[186,3,186,6],[178,3,178,6],[170,3,170,6],[189,5,190,42],[181,5,182,42],[173,5,174,42],[165,5,166,42],[157,5,158,42],[613,5,614,42],[618,3,618,6],[314,3,314,6],[306,3,306,6],[298,3,298,6],[290,3,290,6],[282,3,282,6],[333,5,334,42],[325,5,326,42],[317,5,318,42],[309,5,310,42],[301,5,302,42],[293,5,294,42],[285,5,286,42],[362,3,362,6],[354,3,354,6],[346,3,346,6],[338,3,338,6],[330,3,330,6],[322,3,322,6],[357,5,358,42],[349,5,350,42],[341,5,342,42],[573,5,574,41],[578,3,578,6],[581,5,582,42],[586,3,586,6],[589,5,590,42],[594,3,594,6],[597,5,598,42],[602,3,602,6],[605,5,606,42],[610,3,610,6],[277,5,278,42],[266,3,266,6],[490,3,490,6],[482,3,482,6],[450,3,450,6],[442,3,442,6],[458,3,458,6],[570,3,570,6],[562,3,562,6],[554,3,554,6],[546,3,546,6],[538,3,538,6],[274,3,274,6],[565,5,566,42],[557,5,558,42],[549,5,550,42],[541,5,542,42],[533,5,534,42],[525,5,526,42],[517,5,518,42],[381,5,382,42],[373,5,374,42],[365,5,366,42],[530,3,530,6],[522,3,522,6],[514,3,514,6],[506,3,506,6],[498,3,498,6],[474,3,474,6],[466,3,466,6],[418,3,418,6],[410,3,410,6],[402,3,402,6],[421,5,422,42],[413,5,414,42],[434,3,434,6],[426,3,426,6],[509,5,510,42],[501,5,502,42],[493,5,494,42],[485,5,486,42],[477,5,478,42],[469,5,470,42],[461,5,462,42],[453,5,454,42],[445,5,446,42],[437,5,438,42],[429,5,430,42],[2,1,2,40],[98,3,98,6],[50,3,50,6],[58,3,58,6],[66,3,66,6],[13,2,14,4],[13,5,14,5],[13,6,14,37],[26,3,26,6],[34,3,34,6],[42,3,42,6],[74,3,74,6],[82,3,82,6],[90,3,90,6]]}
[]
[null,null,null,null,{"$f":"初期設定!$E$9","v":"中小企業のための女性活躍『行動計画』策定プログラム"}]
[null," "]
[]
[]
[]
[]
[]
[]
[]
[]
[null,"＜ＳＴＥＰ６＞　取組内容例から取組内容を選びます"]
[]
[null,null,{"$f":"タイプ分類名","v":"⑥"},null,null,null,{"$f":"タイプ分類特徴","v":"女性の活躍が比較的進んでいる企業"}]
[]
[]
[null,{"$f":"\"○タイプ\"&C14&IF('選択項目＞'!G2=\"課題分析の視点の全表示\",\"\",\" 「\"&'選択項目＞'!G2&\"」\")&\"に関連する取組選択\"","v":"○タイプ⑥ 「」に関連する取組選択"}]
[]
[null,null,"選択した目標に対応する取組内容例から、自社で取り組む内容を選択してください。（取組内容の数は目安として、"]
[null,null,"ひとつの目標に対して１～２個選択します。ただし、このプログラムでは全部で５個まで選択可能としています。）"]
[null,null,"独自目標を設定された場合は、その目標に対しての取組内容は「独自目標取組内容入力」から新たに設定してください。"]
[]
[]
[]
[null,null,{"$f":"\"【目標】\"&INDIRECT(ADDRESS(AZ30,COLUMN('取組選択＞'!$BJ$4),1,1,\"取組選択＞\"), TRUE)","v":"【目標】"}]
[]
[null,null,null,"取組内容例",null,null,null,null,{"$f":"IF(F30=\"\",\"取組内容を追加して下さい。\",\"\")","v":"取組内容を追加して下さい。"}]
[]
[null,null,null,"選択"]
[null,null,null,null,null,{"$f":"INDIRECT(ADDRESS(AZ30,COLUMN('取組選択＞'!$BL$4),1,1,\"取組選択＞\"), TRUE)","v":""},null,null,null,null,null,null,null,null,null,null,null,null,null,null,null,null,null,null,null,null,null,null,null,null,null,null,null,null,null,null,null,null,null,null,null,null,null,null,null,null,null,null,null,null,null,5]
[]
[]
[null,null,{"$f":"\"【目標】\"&INDIRECT(ADDRESS(AZ38,COLUMN('取組選択＞'!$BJ$4),1,1,\"取組選択＞\"), TRUE)","v":"【目標】"}]
[]
[null,null,null,"取組内容例",null,null,null,null,{"$f":"IF(F38=\"\",\"取組内容を追加して下さい。\",\"\")","v":"取組内容を追加して下さい。"}]
[]
[null,null,null,"選択"]
[null,null,null,null,null,{"$f":"INDIRECT(ADDRESS(AZ38,COLUMN('取組選択＞'!$BL$4),1,1,\"取組選択＞\"), TRUE)","v":""},null,null,null,null,null,null,null,null,null,null,null,null,null,null,null,null,null,null,null,null,null,null,null,null,null,null,null,null,null,null,null,null,null,null,null,null,null,null,null,null,null,null,null,null,null,{"$f":"AZ30+1","v":6}]
[]
[]
[null,null,{"$f":"\"【目標】\"&INDIRECT(ADDRESS(AZ46,COLUMN('取組選択＞'!$BJ$4),1,1,\"取組選択＞\"), TRUE)","v":"【目標】"}]
[]
[null,null,null,"取組内容例",null,null,null,null,{"$f":"IF(F46=\"\",\"取組内容を追加して下さい。\",\"\")","v":"取組内容を追加して下さい。"}]
[]
[null,null,null,"選択"]
[null,null,null,null,null,{"$f":"INDIRECT(ADDRESS(AZ46,COLUMN('取組選択＞'!$BL$4),1,1,\"取組選択＞\"), TRUE)","v":""},null,null,null,null,null,null,null,null,null,null,null,null,null,null,null,null,null,null,null,null,null,null,null,null,null,null,null,null,null,null,null,null,null,null,null,null,null,null,null,null,null,null,null,null,null,{"$f":"AZ38+1","v":7}]
[]
[]
[null,null,{"$f":"\"【目標】\"&INDIRECT(ADDRESS(AZ54,COLUMN('取組選択＞'!$BJ$4),1,1,\"取組選択＞\"), TRUE)","v":"【目標】"}]
[]
[null,null,null,"取組内容例",null,null,null,null,{"$f":"IF(F54=\"\",\"取組内容を追加して下さい。\",\"\")","v":"取組内容を追加して下さい。"}]
[]
[null,null,null,"選択"]
[null,null,null,null,null,{"$f":"INDIRECT(ADDRESS(AZ54,COLUMN('取組選択＞'!$BL$4),1,1,\"取組選択＞\"), TRUE)","v":""},null,null,null,null,null,null,null,null,null,null,null,null,null,null,null,null,null,null,null,null,null,null,null,null,null,null,null,null,null,null,null,null,null,null,null,null,null,null,null,null,null,null,null,null,null,{"$f":"AZ46+1","v":8}]
[]
[]
[null,null,{"$f":"\"【目標】\"&INDIRECT(ADDRESS(AZ62,COLUMN('取組選択＞'!$BJ$4),1,1,\"取組選択＞\"), TRUE)","v":"【目標】"}]
[]
[null,null,null,"取組内容例",null,null,null,null,{"$f":"IF(F62=\"\",\"取組内容を追加して下さい。\",\"\")","v":"取組内容を追加して下さい。"}]
[]
[null,null,null,"選択"]
[null,null,null,null,null,{"$f":"INDIRECT(ADDRESS(AZ62,COLUMN('取組選択＞'!$BL$4),1,1,\"取組選択＞\"), TRUE)","v":""},null,null,null,null,null,null,null,null,null,null,null,null,null,null,null,null,null,null,null,null,null,null,null,null,null,null,null,null,null,null,null,null,null,null,null,null,null,null,null,null,null,null,null,null,null,{"$f":"AZ54+1","v":9}]
[]
[]
[null,null,{"$f":"\"【目標】\"&INDIRECT(ADDRESS(AZ70,COLUMN('取組選択＞'!$BJ$4),1,1,\"取組選択＞\"), TRUE)","v":"【目標】"}]
[]
[null,null,null,"取組内容例",null,null,null,null,{"$f":"IF(F70=\"\",\"取組内容を追加して下さい。\",\"\")","v":"取組内容を追加して下さい。"}]
[]
[null,null,null,"選択"]
[null,null,null,null,null,{"$f":"INDIRECT(ADDRESS(AZ70,COLUMN('取組選択＞'!$BL$4),1,1,\"取組選択＞\"), TRUE)","v":""},null,null,null,null,null,null,null,null,null,null,null,null,null,null,null,null,null,null,null,null,null,null,null,null,null,null,null,null,null,null,null,null,null,null,null,null,null,null,null,null,null,null,null,null,null,{"$f":"AZ62+1","v":10}]
[]
[]
[null,null,{"$f":"\"【目標】\"&INDIRECT(ADDRESS(AZ78,COLUMN('取組選択＞'!$BJ$4),1,1,\"取組選択＞\"), TRUE)","v":"【目標】"}]
[]
[null,null,null,"取組内容例",null,null,null,null,{"$f":"IF(F78=\"\",\"取組内容を追加して下さい。\",\"\")","v":"取組内容を追加して下さい。"}]
[]
[null,null,null,"選択"]
[null,null,null,null,null,{"$f":"INDIRECT(ADDRESS(AZ78,COLUMN('取組選択＞'!$BL$4),1,1,\"取組選択＞\"), TRUE)","v":""},null,null,null,null,null,null,null,null,null,null,null,null,null,null,null,null,null,null,null,null,null,null,null,null,null,null,null,null,null,null,null,null,null,null,null,null,null,null,null,null,null,null,null,null,null,{"$f":"AZ70+1","v":11}]
[]
[]
[null,null,{"$f":"\"【目標】\"&INDIRECT(ADDRESS(AZ86,COLUMN('取組選択＞'!$BJ$4),1,1,\"取組選択＞\"), TRUE)","v":"【目標】"}]
[]
[null,null,null,"取組内容例",null,null,null,null,{"$f":"IF(F86=\"\",\"取組内容を追加して下さい。\",\"\")","v":"取組内容を追加して下さい。"}]
[]
[null,null,null,"選択"]
[null,null,null,null,null,{"$f":"INDIRECT(ADDRESS(AZ86,COLUMN('取組選択＞'!$BL$4),1,1,\"取組選択＞\"), TRUE)","v":""},null,null,null,null,null,null,null,null,null,null,null,null,null,null,null,null,null,null,null,null,null,null,null,null,null,null,null,null,null,null,null,null,null,null,null,null,null,null,null,null,null,null,null,null,null,{"$f":"AZ78+1","v":12}]
[]
[]
[null,null,{"$f":"\"【目標】\"&INDIRECT(ADDRESS(AZ94,COLUMN('取組選択＞'!$BJ$4),1,1,\"取組選択＞\"), TRUE)","v":"【目標】"}]
[]
[null,null,null,"取組内容例",null,null,null,null,{"$f":"IF(F94=\"\",\"取組内容を追加して下さい。\",\"\")","v":"取組内容を追加して下さい。"}]
[]
[null,null,null,"選択"]
[null,null,null,null,null,{"$f":"INDIRECT(ADDRESS(AZ94,COLUMN('取組選択＞'!$BL$4),1,1,\"取組選択＞\"), TRUE)","v":""},null,null,null,null,null,null,null,null,null,null,null,null,null,null,null,null,null,null,null,null,null,null,null,null,null,null,null,null,null,null,null,null,null,null,null,null,null,null,null,null,null,null,null,null,null,{"$f":"AZ86+1","v":13}]
[]
[]
[null,null,{"$f":"\"【目標】\"&INDIRECT(ADDRESS(AZ102,COLUMN('取組選択＞'!$BJ$4),1,1,\"取組選択＞\"), TRUE)","v":"【目標】"}]
[]
[null,null,null,"取組内容例",null,null,null,null,{"$f":"IF(F102=\"\",\"取組内容を追加して下さい。\",\"\")","v":"取組内容を追加して下さい。"}]
[]
[null,null,null,"選択"]
[null,null,null,null,null,{"$f":"INDIRECT(ADDRESS(AZ102,COLUMN('取組選択＞'!$BL$4),1,1,\"取組選択＞\"), TRUE)","v":""},null,null,null,null,null,null,null,null,null,null,null,null,null,null,null,null,null,null,null,null,null,null,null,null,null,null,null,null,null,null,null,null,null,null,null,null,null,null,null,null,null,null,null,null,null,{"$f":"AZ94+1","v":14}]
[]
[]
[null,null,{"$f":"\"【目標】\"&INDIRECT(ADDRESS(AZ110,COLUMN('取組選択＞'!$BJ$4),1,1,\"取組選択＞\"), TRUE)","v":"【目標】"}]
[]
[null,null,null,"取組内容例",null,null,null,null,{"$f":"IF(F110=\"\",\"取組内容を追加して下さい。\",\"\")","v":"取組内容を追加して下さい。"}]
[]
[null,null,null,"選択"]
[null,null,null,null,null,{"$f":"INDIRECT(ADDRESS(AZ110,COLUMN('取組選択＞'!$BL$4),1,1,\"取組選択＞\"), TRUE)","v":""},null,null,null,null,null,null,null,null,null,null,null,null,null,null,null,null,null,null,null,null,null,null,null,null,null,null,null,null,null,null,null,null,null,null,null,null,null,null,null,null,null,null,null,null,null,{"$f":"AZ102+1","v":15}]
[]
[]
[null,null,{"$f":"\"【目標】\"&INDIRECT(ADDRESS(AZ118,COLUMN('取組選択＞'!$BJ$4),1,1,\"取組選択＞\"), TRUE)","v":"【目標】"}]
[]
[null,null,null,"取組内容例",null,null,null,null,{"$f":"IF(F118=\"\",\"取組内容を追加して下さい。\",\"\")","v":"取組内容を追加して下さい。"}]
[]
[null,null,null,"選択"]
[null,null,null,null,null,{"$f":"INDIRECT(ADDRESS(AZ118,COLUMN('取組選択＞'!$BL$4),1,1,\"取組選択＞\"), TRUE)","v":""},null,null,null,null,null,null,null,null,null,null,null,null,null,null,null,null,null,null,null,null,null,null,null,null,null,null,null,null,null,null,null,null,null,null,null,null,null,null,null,null,null,null,null,null,null,{"$f":"AZ110+1","v":16}]
[]
[]
[null,null,{"$f":"\"【目標】\"&INDIRECT(ADDRESS(AZ126,COLUMN('取組選択＞'!$BJ$4),1,1,\"取組選択＞\"), TRUE)","v":"【目標】"}]
[]
[null,null,null,"取組内容例",null,null,null,null,{"$f":"IF(F126=\"\",\"取組内容を追加して下さい。\",\"\")","v":"取組内容を追加して下さい。"}]
[]
[null,null,null,"選択"]
[null,null,null,null,null,{"$f":"INDIRECT(ADDRESS(AZ126,COLUMN('取組選択＞'!$BL$4),1,1,\"取組選択＞\"), TRUE)","v":""},null,null,null,null,null,null,null,null,null,null,null,null,null,null,null,null,null,null,null,null,null,null,null,null,null,null,null,null,null,null,null,null,null,null,null,null,null,null,null,null,null,null,null,null,null,{"$f":"AZ118+1","v":17}]
[]
[]
[null,null,{"$f":"\"【目標】\"&INDIRECT(ADDRESS(AZ134,COLUMN('取組選択＞'!$BJ$4),1,1,\"取組選択＞\"), TRUE)","v":"【目標】"}]
[]
[null,null,null,"取組内容例",null,null,null,null,{"$f":"IF(F134=\"\",\"取組内容を追加して下さい。\",\"\")","v":"取組内容を追加して下さい。"}]
[]
[null,null,null,"選択"]
[null,null,null,null,null,{"$f":"INDIRECT(ADDRESS(AZ134,COLUMN('取組選択＞'!$BL$4),1,1,\"取組選択＞\"), TRUE)","v":""},null,null,null,null,null,null,null,null,null,null,null,null,null,null,null,null,null,null,null,null,null,null,null,null,null,null,null,null,null,null,null,null,null,null,null,null,null,null,null,null,null,null,null,null,null,{"$f":"AZ126+1","v":18}]
[]
[]
[null,null,{"$f":"\"【目標】\"&INDIRECT(ADDRESS(AZ142,COLUMN('取組選択＞'!$BJ$4),1,1,\"取組選択＞\"), TRUE)","v":"【目標】"}]
[]
[null,null,null,"取組内容例",null,null,null,null,{"$f":"IF(F142=\"\",\"取組内容を追加して下さい。\",\"\")","v":"取組内容を追加して下さい。"}]
[]
[null,null,null,"選択"]
[null,null,null,null,null,{"$f":"INDIRECT(ADDRESS(AZ142,COLUMN('取組選択＞'!$BL$4),1,1,\"取組選択＞\"), TRUE)","v":""},null,null,null,null,null,null,null,null,null,null,null,null,null,null,null,null,null,null,null,null,null,null,null,null,null,null,null,null,null,null,null,null,null,null,null,null,null,null,null,null,null,null,null,null,null,{"$f":"AZ134+1","v":19}]
[]
[]
[null,null,{"$f":"\"【目標】\"&INDIRECT(ADDRESS(AZ150,COLUMN('取組選択＞'!$BJ$4),1,1,\"取組選択＞\"), TRUE)","v":"【目標】"}]
[]
[null,null,null,"取組内容例",null,null,null,null,{"$f":"IF(F150=\"\",\"取組内容を追加して下さい。\",\"\")","v":"取組内容を追加して下さい。"}]
[]
[null,null,null,"選択"]
[null,null,null,null,null,{"$f":"INDIRECT(ADDRESS(AZ150,COLUMN('取組選択＞'!$BL$4),1,1,\"取組選択＞\"), TRUE)","v":""},null,null,null,null,null,null,null,null,null,null,null,null,null,null,null,null,null,null,null,null,null,null,null,null,null,null,null,null,null,null,null,null,null,null,null,null,null,null,null,null,null,null,null,null,null,{"$f":"AZ142+1","v":20}]
[]
[]
[null,null,{"$f":"\"【目標】\"&INDIRECT(ADDRESS(AZ158,COLUMN('取組選択＞'!$BJ$4),1,1,\"取組選択＞\"), TRUE)","v":"【目標】"}]
[]
[null,null,null,"取組内容例",null,null,null,null,{"$f":"IF(F158=\"\",\"取組内容を追加して下さい。\",\"\")","v":"取組内容を追加して下さい。"}]
[]
[null,null,null,"選択"]
[null,null,null,null,null,{"$f":"INDIRECT(ADDRESS(AZ158,COLUMN('取組選択＞'!$BL$4),1,1,\"取組選択＞\"), TRUE)","v":""},null,null,null,null,null,null,null,null,null,null,null,null,null,null,null,null,null,null,null,null,null,null,null,null,null,null,null,null,null,null,null,null,null,null,null,null,null,null,null,null,null,null,null,null,null,{"$f":"AZ150+1","v":21}]
[]
[]
[null,null,{"$f":"\"【目標】\"&INDIRECT(ADDRESS(AZ166,COLUMN('取組選択＞'!$BJ$4),1,1,\"取組選択＞\"), TRUE)","v":"【目標】"}]
[]
[null,null,null,"取組内容例",null,null,null,null,{"$f":"IF(F166=\"\",\"取組内容を追加して下さい。\",\"\")","v":"取組内容を追加して下さい。"}]
[]
[null,null,null,"選択"]
[null,null,null,null,null,{"$f":"INDIRECT(ADDRESS(AZ166,COLUMN('取組選択＞'!$BL$4),1,1,\"取組選択＞\"), TRUE)","v":""},null,null,null,null,null,null,null,null,null,null,null,null,null,null,null,null,null,null,null,null,null,null,null,null,null,null,null,null,null,null,null,null,null,null,null,null,null,null,null,null,null,null,null,null,null,{"$f":"AZ158+1","v":22}]
[]
[]
[null,null,{"$f":"\"【目標】\"&INDIRECT(ADDRESS(AZ174,COLUMN('取組選択＞'!$BJ$4),1,1,\"取組選択＞\"), TRUE)","v":"【目標】"}]
[]
[null,null,null,"取組内容例",null,null,null,null,{"$f":"IF(F174=\"\",\"取組内容を追加して下さい。\",\"\")","v":"取組内容を追加して下さい。"}]
[]
[null,null,null,"選択"]
[null,null,null,null,null,{"$f":"INDIRECT(ADDRESS(AZ174,COLUMN('取組選択＞'!$BL$4),1,1,\"取組選択＞\"), TRUE)","v":""},null,null,null,null,null,null,null,null,null,null,null,null,null,null,null,null,null,null,null,null,null,null,null,null,null,null,null,null,null,null,null,null,null,null,null,null,null,null,null,null,null,null,null,null,null,{"$f":"AZ166+1","v":23}]
[]
[]
[null,null,{"$f":"\"【目標】\"&INDIRECT(ADDRESS(AZ182,COLUMN('取組選択＞'!$BJ$4),1,1,\"取組選択＞\"), TRUE)","v":"【目標】"}]
[]
[null,null,null,"取組内容例",null,null,null,null,{"$f":"IF(F182=\"\",\"取組内容を追加して下さい。\",\"\")","v":"取組内容を追加して下さい。"}]
[]
[null,null,null,"選択"]
[null,null,null,null,null,{"$f":"INDIRECT(ADDRESS(AZ182,COLUMN('取組選択＞'!$BL$4),1,1,\"取組選択＞\"), TRUE)","v":""},null,null,null,null,null,null,null,null,null,null,null,null,null,null,null,null,null,null,null,null,null,null,null,null,null,null,null,null,null,null,null,null,null,null,null,null,null,null,null,null,null,null,null,null,null,{"$f":"AZ174+1","v":24}]
[]
[]
[null,null,{"$f":"\"【目標】\"&INDIRECT(ADDRESS(AZ190,COLUMN('取組選択＞'!$BJ$4),1,1,\"取組選択＞\"), TRUE)","v":"【目標】"}]
[]
[null,null,null,"取組内容例",null,null,null,null,{"$f":"IF(F190=\"\",\"取組内容を追加して下さい。\",\"\")","v":"取組内容を追加して下さい。"}]
[]
[null,null,null,"選択"]
[null,null,null,null,null,{"$f":"INDIRECT(ADDRESS(AZ190,COLUMN('取組選択＞'!$BL$4),1,1,\"取組選択＞\"), TRUE)","v":""},null,null,null,null,null,null,null,null,null,null,null,null,null,null,null,null,null,null,null,null,null,null,null,null,null,null,null,null,null,null,null,null,null,null,null,null,null,null,null,null,null,null,null,null,null,{"$f":"AZ182+1","v":25}]
[]
[]
[null,null,{"$f":"\"【目標】\"&INDIRECT(ADDRESS(AZ198,COLUMN('取組選択＞'!$BJ$4),1,1,\"取組選択＞\"), TRUE)","v":"【目標】"}]
[]
[null,null,null,"取組内容例",null,null,null,null,{"$f":"IF(F198=\"\",\"取組内容を追加して下さい。\",\"\")","v":"取組内容を追加して下さい。"}]
[]
[null,null,null,"選択"]
[null,null,null,null,null,{"$f":"INDIRECT(ADDRESS(AZ198,COLUMN('取組選択＞'!$BL$4),1,1,\"取組選択＞\"), TRUE)","v":""},null,null,null,null,null,null,null,null,null,null,null,null,null,null,null,null,null,null,null,null,null,null,null,null,null,null,null,null,null,null,null,null,null,null,null,null,null,null,null,null,null,null,null,null,null,{"$f":"AZ190+1","v":26}]
[]
[]
[null,null,{"$f":"\"【目標】\"&INDIRECT(ADDRESS(AZ206,COLUMN('取組選択＞'!$BJ$4),1,1,\"取組選択＞\"), TRUE)","v":"【目標】"}]
[]
[null,null,null,"取組内容例",null,null,null,null,{"$f":"IF(F206=\"\",\"取組内容を追加して下さい。\",\"\")","v":"取組内容を追加して下さい。"}]
[]
[null,null,null,"選択"]
[null,null,null,null,null,{"$f":"INDIRECT(ADDRESS(AZ206,COLUMN('取組選択＞'!$BL$4),1,1,\"取組選択＞\"), TRUE)","v":""},null,null,null,null,null,null,null,null,null,null,null,null,null,null,null,null,null,null,null,null,null,null,null,null,null,null,null,null,null,null,null,null,null,null,null,null,null,null,null,null,null,null,null,null,null,{"$f":"AZ198+1","v":27}]
[]
[]
[null,null,{"$f":"\"【目標】\"&INDIRECT(ADDRESS(AZ214,COLUMN('取組選択＞'!$BJ$4),1,1,\"取組選択＞\"), TRUE)","v":"【目標】"}]
[]
[null,null,null,"取組内容例",null,null,null,null,{"$f":"IF(F214=\"\",\"取組内容を追加して下さい。\",\"\")","v":"取組内容を追加して下さい。"}]
[]
[null,null,null,"選択"]
[null,null,null,null,null,{"$f":"INDIRECT(ADDRESS(AZ214,COLUMN('取組選択＞'!$BL$4),1,1,\"取組選択＞\"), TRUE)","v":""},null,null,null,null,null,null,null,null,null,null,null,null,null,null,null,null,null,null,null,null,null,null,null,null,null,null,null,null,null,null,null,null,null,null,null,null,null,null,null,null,null,null,null,null,null,{"$f":"AZ206+1","v":28}]
[]
[]
[null,null,{"$f":"\"【目標】\"&INDIRECT(ADDRESS(AZ222,COLUMN('取組選択＞'!$BJ$4),1,1,\"取組選択＞\"), TRUE)","v":"【目標】"}]
[]
[null,null,null,"取組内容例",null,null,null,null,{"$f":"IF(F222=\"\",\"取組内容を追加して下さい。\",\"\")","v":"取組内容を追加して下さい。"}]
[]
[null,null,null,"選択"]
[null,null,null,null,null,{"$f":"INDIRECT(ADDRESS(AZ222,COLUMN('取組選択＞'!$BL$4),1,1,\"取組選択＞\"), TRUE)","v":""},null,null,null,null,null,null,null,null,null,null,null,null,null,null,null,null,null,null,null,null,null,null,null,null,null,null,null,null,null,null,null,null,null,null,null,null,null,null,null,null,null,null,null,null,null,{"$f":"AZ214+1","v":29}]
[]
[]
[null,null,{"$f":"\"【目標】\"&INDIRECT(ADDRESS(AZ230,COLUMN('取組選択＞'!$BJ$4),1,1,\"取組選択＞\"), TRUE)","v":"【目標】"}]
[]
[null,null,null,"取組内容例",null,null,null,null,{"$f":"IF(F230=\"\",\"取組内容を追加して下さい。\",\"\")","v":"取組内容を追加して下さい。"}]
[]
[null,null,null,"選択"]
[null,null,null,null,null,{"$f":"INDIRECT(ADDRESS(AZ230,COLUMN('取組選択＞'!$BL$4),1,1,\"取組選択＞\"), TRUE)","v":""},null,null,null,null,null,null,null,null,null,null,null,null,null,null,null,null,null,null,null,null,null,null,null,null,null,null,null,null,null,null,null,null,null,null,null,null,null,null,null,null,null,null,null,null,null,{"$f":"AZ222+1","v":30}]
[]
[]
[null,null,{"$f":"\"【目標】\"&INDIRECT(ADDRESS(AZ238,COLUMN('取組選択＞'!$BJ$4),1,1,\"取組選択＞\"), TRUE)","v":"【目標】"}]
[]
[null,null,null,"取組内容例",null,null,null,null,{"$f":"IF(F238=\"\",\"取組内容を追加して下さい。\",\"\")","v":"取組内容を追加して下さい。"}]
[]
[null,null,null,"選択"]
[null,null,null,null,null,{"$f":"INDIRECT(ADDRESS(AZ238,COLUMN('取組選択＞'!$BL$4),1,1,\"取組選択＞\"), TRUE)","v":""},null,null,null,null,null,null,null,null,null,null,null,null,null,null,null,null,null,null,null,null,null,null,null,null,null,null,null,null,null,null,null,null,null,null,null,null,null,null,null,null,null,null,null,null,null,{"$f":"AZ230+1","v":31}]
[]
[]
[null,null,{"$f":"\"【目標】\"&INDIRECT(ADDRESS(AZ246,COLUMN('取組選択＞'!$BJ$4),1,1,\"取組選択＞\"), TRUE)","v":"【目標】"}]
[]
[null,null,null,"取組内容例",null,null,null,null,{"$f":"IF(F246=\"\",\"取組内容を追加して下さい。\",\"\")","v":"取組内容を追加して下さい。"}]
[]
[null,null,null,"選択"]
[null,null,null,null,null,{"$f":"INDIRECT(ADDRESS(AZ246,COLUMN('取組選択＞'!$BL$4),1,1,\"取組選択＞\"), TRUE)","v":""},null,null,null,null,null,null,null,null,null,null,null,null,null,null,null,null,null,null,null,null,null,null,null,null,null,null,null,null,null,null,null,null,null,null,null,null,null,null,null,null,null,null,null,null,null,{"$f":"AZ238+1","v":32}]
[]
[]
[null,null,{"$f":"\"【目標】\"&INDIRECT(ADDRESS(AZ254,COLUMN('取組選択＞'!$BJ$4),1,1,\"取組選択＞\"), TRUE)","v":"【目標】"}]
[]
[null,null,null,"取組内容例",null,null,null,null,{"$f":"IF(F254=\"\",\"取組内容を追加して下さい。\",\"\")","v":"取組内容を追加して下さい。"}]
[]
[null,null,null,"選択"]
[null,null,null,null,null,{"$f":"INDIRECT(ADDRESS(AZ254,COLUMN('取組選択＞'!$BL$4),1,1,\"取組選択＞\"), TRUE)","v":""},null,null,null,null,null,null,null,null,null,null,null,null,null,null,null,null,null,null,null,null,null,null,null,null,null,null,null,null,null,null,null,null,null,null,null,null,null,null,null,null,null,null,null,null,null,{"$f":"AZ246+1","v":33}]
[]
[]
[null,null,{"$f":"\"【目標】\"&INDIRECT(ADDRESS(AZ262,COLUMN('取組選択＞'!$BJ$4),1,1,\"取組選択＞\"), TRUE)","v":"【目標】"}]
[]
[null,null,null,"取組内容例",null,null,null,null,{"$f":"IF(F262=\"\",\"取組内容を追加して下さい。\",\"\")","v":"取組内容を追加して下さい。"}]
[]
[null,null,null,"選択"]
[null,null,null,null,null,{"$f":"INDIRECT(ADDRESS(AZ262,COLUMN('取組選択＞'!$BL$4),1,1,\"取組選択＞\"), TRUE)","v":""},null,null,null,null,null,null,null,null,null,null,null,null,null,null,null,null,null,null,null,null,null,null,null,null,null,null,null,null,null,null,null,null,null,null,null,null,null,null,null,null,null,null,null,null,null,{"$f":"AZ254+1","v":34}]
[]
[]
[null,null,{"$f":"\"【目標】\"&INDIRECT(ADDRESS(AZ270,COLUMN('取組選択＞'!$BJ$4),1,1,\"取組選択＞\"), TRUE)","v":"【目標】"}]
[]
[null,null,null,"取組内容例",null,null,null,null,{"$f":"IF(F270=\"\",\"取組内容を追加して下さい。\",\"\")","v":"取組内容を追加して下さい。"}]
[]
[null,null,null,"選択"]
[null,null,null,null,null,{"$f":"INDIRECT(ADDRESS(AZ270,COLUMN('取組選択＞'!$BL$4),1,1,\"取組選択＞\"), TRUE)","v":""},null,null,null,null,null,null,null,null,null,null,null,null,null,null,null,null,null,null,null,null,null,null,null,null,null,null,null,null,null,null,null,null,null,null,null,null,null,null,null,null,null,null,null,null,null,{"$f":"AZ262+1","v":35}]
[]
[]
[null,null,{"$f":"\"【目標】\"&INDIRECT(ADDRESS(AZ278,COLUMN('取組選択＞'!$BJ$4),1,1,\"取組選択＞\"), TRUE)","v":"【目標】"}]
[]
[null,null,null,"取組内容例",null,null,null,null,{"$f":"IF(F278=\"\",\"取組内容を追加して下さい。\",\"\")","v":"取組内容を追加して下さい。"}]
[]
[null,null,null,"選択"]
[null,null,null,null,null,{"$f":"INDIRECT(ADDRESS(AZ278,COLUMN('取組選択＞'!$BL$4),1,1,\"取組選択＞\"), TRUE)","v":""},null,null,null,null,null,null,null,null,null,null,null,null,null,null,null,null,null,null,null,null,null,null,null,null,null,null,null,null,null,null,null,null,null,null,null,null,null,null,null,null,null,null,null,null,null,{"$f":"AZ270+1","v":36}]
[]
[]
[null,null,{"$f":"\"【目標】\"&INDIRECT(ADDRESS(AZ286,COLUMN('取組選択＞'!$BJ$4),1,1,\"取組選択＞\"), TRUE)","v":"【目標】"}]
[]
[null,null,null,"取組内容例",null,null,null,null,{"$f":"IF(F286=\"\",\"取組内容を追加して下さい。\",\"\")","v":"取組内容を追加して下さい。"}]
[]
[null,null,null,"選択"]
[null,null,null,null,null,{"$f":"INDIRECT(ADDRESS(AZ286,COLUMN('取組選択＞'!$BL$4),1,1,\"取組選択＞\"), TRUE)","v":""},null,null,null,null,null,null,null,null,null,null,null,null,null,null,null,null,null,null,null,null,null,null,null,null,null,null,null,null,null,null,null,null,null,null,null,null,null,null,null,null,null,null,null,null,null,{"$f":"AZ278+1","v":37}]
[]
[]
[null,null,{"$f":"\"【目標】\"&INDIRECT(ADDRESS(AZ294,COLUMN('取組選択＞'!$BJ$4),1,1,\"取組選択＞\"), TRUE)","v":"【目標】"}]
[]
[null,null,null,"取組内容例",null,null,null,null,{"$f":"IF(F294=\"\",\"取組内容を追加して下さい。\",\"\")","v":"取組内容を追加して下さい。"}]
[]
[null,null,null,"選択"]
[null,null,null,null,null,{"$f":"INDIRECT(ADDRESS(AZ294,COLUMN('取組選択＞'!$BL$4),1,1,\"取組選択＞\"), TRUE)","v":""},null,null,null,null,null,null,null,null,null,null,null,null,null,null,null,null,null,null,null,null,null,null,null,null,null,null,null,null,null,null,null,null,null,null,null,null,null,null,null,null,null,null,null,null,null,{"$f":"AZ286+1","v":38}]
[]
[]
[null,null,{"$f":"\"【目標】\"&INDIRECT(ADDRESS(AZ302,COLUMN('取組選択＞'!$BJ$4),1,1,\"取組選択＞\"), TRUE)","v":"【目標】"}]
[]
[null,null,null,"取組内容例",null,null,null,null,{"$f":"IF(F302=\"\",\"取組内容を追加して下さい。\",\"\")","v":"取組内容を追加して下さい。"}]
[]
[null,null,null,"選択"]
[null,null,null,null,null,{"$f":"INDIRECT(ADDRESS(AZ302,COLUMN('取組選択＞'!$BL$4),1,1,\"取組選択＞\"), TRUE)","v":""},null,null,null,null,null,null,null,null,null,null,null,null,null,null,null,null,null,null,null,null,null,null,null,null,null,null,null,null,null,null,null,null,null,null,null,null,null,null,null,null,null,null,null,null,null,{"$f":"AZ294+1","v":39}]
[]
[]
[null,null,{"$f":"\"【目標】\"&INDIRECT(ADDRESS(AZ310,COLUMN('取組選択＞'!$BJ$4),1,1,\"取組選択＞\"), TRUE)","v":"【目標】"}]
[]
[null,null,null,"取組内容例",null,null,null,null,{"$f":"IF(F310=\"\",\"取組内容を追加して下さい。\",\"\")","v":"取組内容を追加して下さい。"}]
[]
[null,null,null,"選択"]
[null,null,null,null,null,{"$f":"INDIRECT(ADDRESS(AZ310,COLUMN('取組選択＞'!$BL$4),1,1,\"取組選択＞\"), TRUE)","v":""},null,null,null,null,null,null,null,null,null,null,null,null,null,null,null,null,null,null,null,null,null,null,null,null,null,null,null,null,null,null,null,null,null,null,null,null,null,null,null,null,null,null,null,null,null,{"$f":"AZ302+1","v":40}]
[]
[]
[null,null,{"$f":"\"【目標】\"&INDIRECT(ADDRESS(AZ318,COLUMN('取組選択＞'!$BJ$4),1,1,\"取組選択＞\"), TRUE)","v":"【目標】"}]
[]
[null,null,null,"取組内容例",null,null,null,null,{"$f":"IF(F318=\"\",\"取組内容を追加して下さい。\",\"\")","v":"取組内容を追加して下さい。"}]
[]
[null,null,null,"選択"]
[null,null,null,null,null,{"$f":"INDIRECT(ADDRESS(AZ318,COLUMN('取組選択＞'!$BL$4),1,1,\"取組選択＞\"), TRUE)","v":""},null,null,null,null,null,null,null,null,null,null,null,null,null,null,null,null,null,null,null,null,null,null,null,null,null,null,null,null,null,null,null,null,null,null,null,null,null,null,null,null,null,null,null,null,null,{"$f":"AZ310+1","v":41}]
[]
[]
[null,null,{"$f":"\"【目標】\"&INDIRECT(ADDRESS(AZ326,COLUMN('取組選択＞'!$BJ$4),1,1,\"取組選択＞\"), TRUE)","v":"【目標】"}]
[]
[null,null,null,"取組内容例",null,null,null,null,{"$f":"IF(F326=\"\",\"取組内容を追加して下さい。\",\"\")","v":"取組内容を追加して下さい。"}]
[]
[null,null,null,"選択"]
[null,null,null,null,null,{"$f":"INDIRECT(ADDRESS(AZ326,COLUMN('取組選択＞'!$BL$4),1,1,\"取組選択＞\"), TRUE)","v":""},null,null,null,null,null,null,null,null,null,null,null,null,null,null,null,null,null,null,null,null,null,null,null,null,null,null,null,null,null,null,null,null,null,null,null,null,null,null,null,null,null,null,null,null,null,{"$f":"AZ318+1","v":42}]
[]
[]
[null,null,{"$f":"\"【目標】\"&INDIRECT(ADDRESS(AZ334,COLUMN('取組選択＞'!$BJ$4),1,1,\"取組選択＞\"), TRUE)","v":"【目標】"}]
[]
[null,null,null,"取組内容例",null,null,null,null,{"$f":"IF(F334=\"\",\"取組内容を追加して下さい。\",\"\")","v":"取組内容を追加して下さい。"}]
[]
[null,null,null,"選択"]
[null,null,null,null,null,{"$f":"INDIRECT(ADDRESS(AZ334,COLUMN('取組選択＞'!$BL$4),1,1,\"取組選択＞\"), TRUE)","v":""},null,null,null,null,null,null,null,null,null,null,null,null,null,null,null,null,null,null,null,null,null,null,null,null,null,null,null,null,null,null,null,null,null,null,null,null,null,null,null,null,null,null,null,null,null,{"$f":"AZ326+1","v":43}]
[]
[]
[null,null,{"$f":"\"【目標】\"&INDIRECT(ADDRESS(AZ342,COLUMN('取組選択＞'!$BJ$4),1,1,\"取組選択＞\"), TRUE)","v":"【目標】"}]
[]
[null,null,null,"取組内容例",null,null,null,null,{"$f":"IF(F342=\"\",\"取組内容を追加して下さい。\",\"\")","v":"取組内容を追加して下さい。"}]
[]
[null,null,null,"選択"]
[null,null,null,null,null,{"$f":"INDIRECT(ADDRESS(AZ342,COLUMN('取組選択＞'!$BL$4),1,1,\"取組選択＞\"), TRUE)","v":""},null,null,null,null,null,null,null,null,null,null,null,null,null,null,null,null,null,null,null,null,null,null,null,null,null,null,null,null,null,null,null,null,null,null,null,null,null,null,null,null,null,null,null,null,null,{"$f":"AZ334+1","v":44}]
[]
[]
[null,null,{"$f":"\"【目標】\"&INDIRECT(ADDRESS(AZ350,COLUMN('取組選択＞'!$BJ$4),1,1,\"取組選択＞\"), TRUE)","v":"【目標】"}]
[]
[null,null,null,"取組内容例",null,null,null,null,{"$f":"IF(F350=\"\",\"取組内容を追加して下さい。\",\"\")","v":"取組内容を追加して下さい。"}]
[]
[null,null,null,"選択"]
[null,null,null,null,null,{"$f":"INDIRECT(ADDRESS(AZ350,COLUMN('取組選択＞'!$BL$4),1,1,\"取組選択＞\"), TRUE)","v":""},null,null,null,null,null,null,null,null,null,null,null,null,null,null,null,null,null,null,null,null,null,null,null,null,null,null,null,null,null,null,null,null,null,null,null,null,null,null,null,null,null,null,null,null,null,{"$f":"AZ342+1","v":45}]
[]
[]
[null,null,{"$f":"\"【目標】\"&INDIRECT(ADDRESS(AZ358,COLUMN('取組選択＞'!$BJ$4),1,1,\"取組選択＞\"), TRUE)","v":"【目標】"}]
[]
[null,null,null,"取組内容例",null,null,null,null,{"$f":"IF(F358=\"\",\"取組内容を追加して下さい。\",\"\")","v":"取組内容を追加して下さい。"}]
[]
[null,null,null,"選択"]
[null,null,null,null,null,{"$f":"INDIRECT(ADDRESS(AZ358,COLUMN('取組選択＞'!$BL$4),1,1,\"取組選択＞\"), TRUE)","v":""},null,null,null,null,null,null,null,null,null,null,null,null,null,null,null,null,null,null,null,null,null,null,null,null,null,null,null,null,null,null,null,null,null,null,null,null,null,null,null,null,null,null,null,null,null,{"$f":"AZ350+1","v":46}]
[]
[]
[null,null,{"$f":"\"【目標】\"&INDIRECT(ADDRESS(AZ366,COLUMN('取組選択＞'!$BJ$4),1,1,\"取組選択＞\"), TRUE)","v":"【目標】"}]
[]
[null,null,null,"取組内容例",null,null,null,null,{"$f":"IF(F366=\"\",\"取組内容を追加して下さい。\",\"\")","v":"取組内容を追加して下さい。"}]
[]
[null,null,null,"選択"]
[null,null,null,null,null,{"$f":"INDIRECT(ADDRESS(AZ366,COLUMN('取組選択＞'!$BL$4),1,1,\"取組選択＞\"), TRUE)","v":""},null,null,null,null,null,null,null,null,null,null,null,null,null,null,null,null,null,null,null,null,null,null,null,null,null,null,null,null,null,null,null,null,null,null,null,null,null,null,null,null,null,null,null,null,null,{"$f":"AZ358+1","v":47}]
[]
[]
[null,null,{"$f":"\"【目標】\"&INDIRECT(ADDRESS(AZ374,COLUMN('取組選択＞'!$BJ$4),1,1,\"取組選択＞\"), TRUE)","v":"【目標】"}]
[]
[null,null,null,"取組内容例",null,null,null,null,{"$f":"IF(F374=\"\",\"取組内容を追加して下さい。\",\"\")","v":"取組内容を追加して下さい。"}]
[]
[null,null,null,"選択"]
[null,null,null,null,null,{"$f":"INDIRECT(ADDRESS(AZ374,COLUMN('取組選択＞'!$BL$4),1,1,\"取組選択＞\"), TRUE)","v":""},null,null,null,null,null,null,null,null,null,null,null,null,null,null,null,null,null,null,null,null,null,null,null,null,null,null,null,null,null,null,null,null,null,null,null,null,null,null,null,null,null,null,null,null,null,{"$f":"AZ366+1","v":48}]
[]
[]
[null,null,{"$f":"\"【目標】\"&INDIRECT(ADDRESS(AZ382,COLUMN('取組選択＞'!$BJ$4),1,1,\"取組選択＞\"), TRUE)","v":"【目標】"}]
[]
[null,null,null,"取組内容例",null,null,null,null,{"$f":"IF(F382=\"\",\"取組内容を追加して下さい。\",\"\")","v":"取組内容を追加して下さい。"}]
[]
[null,null,null,"選択"]
[null,null,null,null,null,{"$f":"INDIRECT(ADDRESS(AZ382,COLUMN('取組選択＞'!$BL$4),1,1,\"取組選択＞\"), TRUE)","v":""},null,null,null,null,null,null,null,null,null,null,null,null,null,null,null,null,null,null,null,null,null,null,null,null,null,null,null,null,null,null,null,null,null,null,null,null,null,null,null,null,null,null,null,null,null,{"$f":"AZ374+1","v":49}]
[]
[]
[null,null,{"$f":"\"【目標】\"&INDIRECT(ADDRESS(AZ390,COLUMN('取組選択＞'!$BJ$4),1,1,\"取組選択＞\"), TRUE)","v":"【目標】"}]
[]
[null,null,null,"取組内容例",null,null,null,null,{"$f":"IF(F390=\"\",\"取組内容を追加して下さい。\",\"\")","v":"取組内容を追加して下さい。"}]
[]
[null,null,null,"選択"]
[null,null,null,null,null,{"$f":"INDIRECT(ADDRESS(AZ390,COLUMN('取組選択＞'!$BL$4),1,1,\"取組選択＞\"), TRUE)","v":""},null,null,null,null,null,null,null,null,null,null,null,null,null,null,null,null,null,null,null,null,null,null,null,null,null,null,null,null,null,null,null,null,null,null,null,null,null,null,null,null,null,null,null,null,null,{"$f":"AZ382+1","v":50}]
[]
[]
[null,null,{"$f":"\"【目標】\"&INDIRECT(ADDRESS(AZ398,COLUMN('取組選択＞'!$BJ$4),1,1,\"取組選択＞\"), TRUE)","v":"【目標】"}]
[]
[null,null,null,"取組内容例",null,null,null,null,{"$f":"IF(F398=\"\",\"取組内容を追加して下さい。\",\"\")","v":"取組内容を追加して下さい。"}]
[]
[null,null,null,"選択"]
[null,null,null,null,null,{"$f":"INDIRECT(ADDRESS(AZ398,COLUMN('取組選択＞'!$BL$4),1,1,\"取組選択＞\"), TRUE)","v":""},null,null,null,null,null,null,null,null,null,null,null,null,null,null,null,null,null,null,null,null,null,null,null,null,null,null,null,null,null,null,null,null,null,null,null,null,null,null,null,null,null,null,null,null,null,{"$f":"AZ390+1","v":51}]
[]
[]
[null,null,{"$f":"\"【目標】\"&INDIRECT(ADDRESS(AZ406,COLUMN('取組選択＞'!$BJ$4),1,1,\"取組選択＞\"), TRUE)","v":"【目標】"}]
[]
[null,null,null,"取組内容例",null,null,null,null,{"$f":"IF(F406=\"\",\"取組内容を追加して下さい。\",\"\")","v":"取組内容を追加して下さい。"}]
[]
[null,null,null,"選択"]
[null,null,null,null,null,{"$f":"INDIRECT(ADDRESS(AZ406,COLUMN('取組選択＞'!$BL$4),1,1,\"取組選択＞\"), TRUE)","v":""},null,null,null,null,null,null,null,null,null,null,null,null,null,null,null,null,null,null,null,null,null,null,null,null,null,null,null,null,null,null,null,null,null,null,null,null,null,null,null,null,null,null,null,null,null,{"$f":"AZ398+1","v":52}]
[]
[]
[null,null,{"$f":"\"【目標】\"&INDIRECT(ADDRESS(AZ414,COLUMN('取組選択＞'!$BJ$4),1,1,\"取組選択＞\"), TRUE)","v":"【目標】"}]
[]
[null,null,null,"取組内容例",null,null,null,null,{"$f":"IF(F414=\"\",\"取組内容を追加して下さい。\",\"\")","v":"取組内容を追加して下さい。"}]
[]
[null,null,null,"選択"]
[null,null,null,null,null,{"$f":"INDIRECT(ADDRESS(AZ414,COLUMN('取組選択＞'!$BL$4),1,1,\"取組選択＞\"), TRUE)","v":""},null,null,null,null,null,null,null,null,null,null,null,null,null,null,null,null,null,null,null,null,null,null,null,null,null,null,null,null,null,null,null,null,null,null,null,null,null,null,null,null,null,null,null,null,null,{"$f":"AZ406+1","v":53}]
[]
[]
[null,null,{"$f":"\"【目標】\"&INDIRECT(ADDRESS(AZ422,COLUMN('取組選択＞'!$BJ$4),1,1,\"取組選択＞\"), TRUE)","v":"【目標】"}]
[]
[null,null,null,"取組内容例",null,null,null,null,{"$f":"IF(F422=\"\",\"取組内容を追加して下さい。\",\"\")","v":"取組内容を追加して下さい。"}]
[]
[null,null,null,"選択"]
[null,null,null,null,null,{"$f":"INDIRECT(ADDRESS(AZ422,COLUMN('取組選択＞'!$BL$4),1,1,\"取組選択＞\"), TRUE)","v":""},null,null,null,null,null,null,null,null,null,null,null,null,null,null,null,null,null,null,null,null,null,null,null,null,null,null,null,null,null,null,null,null,null,null,null,null,null,null,null,null,null,null,null,null,null,{"$f":"AZ414+1","v":54}]
[]
[]
[null,null,{"$f":"\"【目標】\"&INDIRECT(ADDRESS(AZ430,COLUMN('取組選択＞'!$BJ$4),1,1,\"取組選択＞\"), TRUE)","v":"【目標】"}]
[]
[null,null,null,"取組内容例",null,null,null,null,{"$f":"IF(F430=\"\",\"取組内容を追加して下さい。\",\"\")","v":"取組内容を追加して下さい。"}]
[]
[null,null,null,"選択"]
[null,null,null,null,null,{"$f":"INDIRECT(ADDRESS(AZ430,COLUMN('取組選択＞'!$BL$4),1,1,\"取組選択＞\"), TRUE)","v":""},null,null,null,null,null,null,null,null,null,null,null,null,null,null,null,null,null,null,null,null,null,null,null,null,null,null,null,null,null,null,null,null,null,null,null,null,null,null,null,null,null,null,null,null,null,{"$f":"AZ422+1","v":55}]
[]
[]
[null,null,{"$f":"\"【目標】\"&INDIRECT(ADDRESS(AZ438,COLUMN('取組選択＞'!$BJ$4),1,1,\"取組選択＞\"), TRUE)","v":"【目標】"}]
[]
[null,null,null,"取組内容例",null,null,null,null,{"$f":"IF(F438=\"\",\"取組内容を追加して下さい。\",\"\")","v":"取組内容を追加して下さい。"}]
[]
[null,null,null,"選択"]
[null,null,null,null,null,{"$f":"INDIRECT(ADDRESS(AZ438,COLUMN('取組選択＞'!$BL$4),1,1,\"取組選択＞\"), TRUE)","v":""},null,null,null,null,null,null,null,null,null,null,null,null,null,null,null,null,null,null,null,null,null,null,null,null,null,null,null,null,null,null,null,null,null,null,null,null,null,null,null,null,null,null,null,null,null,{"$f":"AZ430+1","v":56}]
[]
[]
[null,null,{"$f":"\"【目標】\"&INDIRECT(ADDRESS(AZ446,COLUMN('取組選択＞'!$BJ$4),1,1,\"取組選択＞\"), TRUE)","v":"【目標】"}]
[]
[null,null,null,"取組内容例",null,null,null,null,{"$f":"IF(F446=\"\",\"取組内容を追加して下さい。\",\"\")","v":"取組内容を追加して下さい。"}]
[]
[null,null,null,"選択"]
[null,null,null,null,null,{"$f":"INDIRECT(ADDRESS(AZ446,COLUMN('取組選択＞'!$BL$4),1,1,\"取組選択＞\"), TRUE)","v":""},null,null,null,null,null,null,null,null,null,null,null,null,null,null,null,null,null,null,null,null,null,null,null,null,null,null,null,null,null,null,null,null,null,null,null,null,null,null,null,null,null,null,null,null,null,{"$f":"AZ438+1","v":57}]
[]
[]
[null,null,{"$f":"\"【目標】\"&INDIRECT(ADDRESS(AZ454,COLUMN('取組選択＞'!$BJ$4),1,1,\"取組選択＞\"), TRUE)","v":"【目標】"}]
[]
[null,null,null,"取組内容例",null,null,null,null,{"$f":"IF(F454=\"\",\"取組内容を追加して下さい。\",\"\")","v":"取組内容を追加して下さい。"}]
[]
[null,null,null,"選択"]
[null,null,null,null,null,{"$f":"INDIRECT(ADDRESS(AZ454,COLUMN('取組選択＞'!$BL$4),1,1,\"取組選択＞\"), TRUE)","v":""},null,null,null,null,null,null,null,null,null,null,null,null,null,null,null,null,null,null,null,null,null,null,null,null,null,null,null,null,null,null,null,null,null,null,null,null,null,null,null,null,null,null,null,null,null,{"$f":"AZ446+1","v":58}]
[]
[]
[null,null,{"$f":"\"【目標】\"&INDIRECT(ADDRESS(AZ462,COLUMN('取組選択＞'!$BJ$4),1,1,\"取組選択＞\"), TRUE)","v":"【目標】"}]
[]
[null,null,null,"取組内容例",null,null,null,null,{"$f":"IF(F462=\"\",\"取組内容を追加して下さい。\",\"\")","v":"取組内容を追加して下さい。"}]
[]
[null,null,null,"選択"]
[null,null,null,null,null,{"$f":"INDIRECT(ADDRESS(AZ462,COLUMN('取組選択＞'!$BL$4),1,1,\"取組選択＞\"), TRUE)","v":""},null,null,null,null,null,null,null,null,null,null,null,null,null,null,null,null,null,null,null,null,null,null,null,null,null,null,null,null,null,null,null,null,null,null,null,null,null,null,null,null,null,null,null,null,null,{"$f":"AZ454+1","v":59}]
[]
[]
[null,null,{"$f":"\"【目標】\"&INDIRECT(ADDRESS(AZ470,COLUMN('取組選択＞'!$BJ$4),1,1,\"取組選択＞\"), TRUE)","v":"【目標】"}]
[]
[null,null,null,"取組内容例",null,null,null,null,{"$f":"IF(F470=\"\",\"取組内容を追加して下さい。\",\"\")","v":"取組内容を追加して下さい。"}]
[]
[null,null,null,"選択"]
[null,null,null,null,null,{"$f":"INDIRECT(ADDRESS(AZ470,COLUMN('取組選択＞'!$BL$4),1,1,\"取組選択＞\"), TRUE)","v":""},null,null,null,null,null,null,null,null,null,null,null,null,null,null,null,null,null,null,null,null,null,null,null,null,null,null,null,null,null,null,null,null,null,null,null,null,null,null,null,null,null,null,null,null,null,{"$f":"AZ462+1","v":60}]
[]
[]
[null,null,{"$f":"\"【目標】\"&INDIRECT(ADDRESS(AZ478,COLUMN('取組選択＞'!$BJ$4),1,1,\"取組選択＞\"), TRUE)","v":"【目標】"}]
[]
[null,null,null,"取組内容例",null,null,null,null,{"$f":"IF(F478=\"\",\"取組内容を追加して下さい。\",\"\")","v":"取組内容を追加して下さい。"}]
[]
[null,null,null,"選択"]
[null,null,null,null,null,{"$f":"INDIRECT(ADDRESS(AZ478,COLUMN('取組選択＞'!$BL$4),1,1,\"取組選択＞\"), TRUE)","v":""},null,null,null,null,null,null,null,null,null,null,null,null,null,null,null,null,null,null,null,null,null,null,null,null,null,null,null,null,null,null,null,null,null,null,null,null,null,null,null,null,null,null,null,null,null,{"$f":"AZ470+1","v":61}]
[]
[]
[null,null,{"$f":"\"【目標】\"&INDIRECT(ADDRESS(AZ486,COLUMN('取組選択＞'!$BJ$4),1,1,\"取組選択＞\"), TRUE)","v":"【目標】"}]
[]
[null,null,null,"取組内容例",null,null,null,null,{"$f":"IF(F486=\"\",\"取組内容を追加して下さい。\",\"\")","v":"取組内容を追加して下さい。"}]
[]
[null,null,null,"選択"]
[null,null,null,null,null,{"$f":"INDIRECT(ADDRESS(AZ486,COLUMN('取組選択＞'!$BL$4),1,1,\"取組選択＞\"), TRUE)","v":""},null,null,null,null,null,null,null,null,null,null,null,null,null,null,null,null,null,null,null,null,null,null,null,null,null,null,null,null,null,null,null,null,null,null,null,null,null,null,null,null,null,null,null,null,null,{"$f":"AZ478+1","v":62}]
[]
[]
[null,null,{"$f":"\"【目標】\"&INDIRECT(ADDRESS(AZ494,COLUMN('取組選択＞'!$BJ$4),1,1,\"取組選択＞\"), TRUE)","v":"【目標】"}]
[]
[null,null,null,"取組内容例",null,null,null,null,{"$f":"IF(F494=\"\",\"取組内容を追加して下さい。\",\"\")","v":"取組内容を追加して下さい。"}]
[]
[null,null,null,"選択"]
[null,null,null,null,null,{"$f":"INDIRECT(ADDRESS(AZ494,COLUMN('取組選択＞'!$BL$4),1,1,\"取組選択＞\"), TRUE)","v":""},null,null,null,null,null,null,null,null,null,null,null,null,null,null,null,null,null,null,null,null,null,null,null,null,null,null,null,null,null,null,null,null,null,null,null,null,null,null,null,null,null,null,null,null,null,{"$f":"AZ486+1","v":63}]
[]
[]
[null,null,{"$f":"\"【目標】\"&INDIRECT(ADDRESS(AZ502,COLUMN('取組選択＞'!$BJ$4),1,1,\"取組選択＞\"), TRUE)","v":"【目標】"}]
[]
[null,null,null,"取組内容例",null,null,null,null,{"$f":"IF(F502=\"\",\"取組内容を追加して下さい。\",\"\")","v":"取組内容を追加して下さい。"}]
[]
[null,null,null,"選択"]
[null,null,null,null,null,{"$f":"INDIRECT(ADDRESS(AZ502,COLUMN('取組選択＞'!$BL$4),1,1,\"取組選択＞\"), TRUE)","v":""},null,null,null,null,null,null,null,null,null,null,null,null,null,null,null,null,null,null,null,null,null,null,null,null,null,null,null,null,null,null,null,null,null,null,null,null,null,null,null,null,null,null,null,null,null,{"$f":"AZ494+1","v":64}]
[]
[]
[null,null,{"$f":"\"【目標】\"&INDIRECT(ADDRESS(AZ510,COLUMN('取組選択＞'!$BJ$4),1,1,\"取組選択＞\"), TRUE)","v":"【目標】"}]
[]
[null,null,null,"取組内容例",null,null,null,null,{"$f":"IF(F510=\"\",\"取組内容を追加して下さい。\",\"\")","v":"取組内容を追加して下さい。"}]
[]
[null,null,null,"選択"]
[null,null,null,null,null,{"$f":"INDIRECT(ADDRESS(AZ510,COLUMN('取組選択＞'!$BL$4),1,1,\"取組選択＞\"), TRUE)","v":""},null,null,null,null,null,null,null,null,null,null,null,null,null,null,null,null,null,null,null,null,null,null,null,null,null,null,null,null,null,null,null,null,null,null,null,null,null,null,null,null,null,null,null,null,null,{"$f":"AZ502+1","v":65}]
[]
[]
[null,null,{"$f":"\"【目標】\"&INDIRECT(ADDRESS(AZ518,COLUMN('取組選択＞'!$BJ$4),1,1,\"取組選択＞\"), TRUE)","v":"【目標】"}]
[]
[null,null,null,"取組内容例",null,null,null,null,{"$f":"IF(F518=\"\",\"取組内容を追加して下さい。\",\"\")","v":"取組内容を追加して下さい。"}]
[]
[null,null,null,"選択"]
[null,null,null,null,null,{"$f":"INDIRECT(ADDRESS(AZ518,COLUMN('取組選択＞'!$BL$4),1,1,\"取組選択＞\"), TRUE)","v":""},null,null,null,null,null,null,null,null,null,null,null,null,null,null,null,null,null,null,null,null,null,null,null,null,null,null,null,null,null,null,null,null,null,null,null,null,null,null,null,null,null,null,null,null,null,{"$f":"AZ510+1","v":66}]
[]
[]
[null,null,{"$f":"\"【目標】\"&INDIRECT(ADDRESS(AZ526,COLUMN('取組選択＞'!$BJ$4),1,1,\"取組選択＞\"), TRUE)","v":"【目標】"}]
[]
[null,null,null,"取組内容例",null,null,null,null,{"$f":"IF(F526=\"\",\"取組内容を追加して下さい。\",\"\")","v":"取組内容を追加して下さい。"}]
[]
[null,null,null,"選択"]
[null,null,null,null,null,{"$f":"INDIRECT(ADDRESS(AZ526,COLUMN('取組選択＞'!$BL$4),1,1,\"取組選択＞\"), TRUE)","v":""},null,null,null,null,null,null,null,null,null,null,null,null,null,null,null,null,null,null,null,null,null,null,null,null,null,null,null,null,null,null,null,null,null,null,null,null,null,null,null,null,null,null,null,null,null,{"$f":"AZ518+1","v":67}]
[]
[]
[null,null,{"$f":"\"【目標】\"&INDIRECT(ADDRESS(AZ534,COLUMN('取組選択＞'!$BJ$4),1,1,\"取組選択＞\"), TRUE)","v":"【目標】"}]
[]
[null,null,null,"取組内容例",null,null,null,null,{"$f":"IF(F534=\"\",\"取組内容を追加して下さい。\",\"\")","v":"取組内容を追加して下さい。"}]
[]
[null,null,null,"選択"]
[null,null,null,null,null,{"$f":"INDIRECT(ADDRESS(AZ534,COLUMN('取組選択＞'!$BL$4),1,1,\"取組選択＞\"), TRUE)","v":""},null,null,null,null,null,null,null,null,null,null,null,null,null,null,null,null,null,null,null,null,null,null,null,null,null,null,null,null,null,null,null,null,null,null,null,null,null,null,null,null,null,null,null,null,null,{"$f":"AZ526+1","v":68}]
[]
[]
[null,null,{"$f":"\"【目標】\"&INDIRECT(ADDRESS(AZ542,COLUMN('取組選択＞'!$BJ$4),1,1,\"取組選択＞\"), TRUE)","v":"【目標】"}]
[]
[null,null,null,"取組内容例",null,null,null,null,{"$f":"IF(F542=\"\",\"取組内容を追加して下さい。\",\"\")","v":"取組内容を追加して下さい。"}]
[]
[null,null,null,"選択"]
[null,null,null,null,null,{"$f":"INDIRECT(ADDRESS(AZ542,COLUMN('取組選択＞'!$BL$4),1,1,\"取組選択＞\"), TRUE)","v":""},null,null,null,null,null,null,null,null,null,null,null,null,null,null,null,null,null,null,null,null,null,null,null,null,null,null,null,null,null,null,null,null,null,null,null,null,null,null,null,null,null,null,null,null,null,{"$f":"AZ534+1","v":69}]
[]
[]
[null,null,{"$f":"\"【目標】\"&INDIRECT(ADDRESS(AZ550,COLUMN('取組選択＞'!$BJ$4),1,1,\"取組選択＞\"), TRUE)","v":"【目標】"}]
[]
[null,null,null,"取組内容例",null,null,null,null,{"$f":"IF(F550=\"\",\"取組内容を追加して下さい。\",\"\")","v":"取組内容を追加して下さい。"}]
[]
[null,null,null,"選択"]
[null,null,null,null,null,{"$f":"INDIRECT(ADDRESS(AZ550,COLUMN('取組選択＞'!$BL$4),1,1,\"取組選択＞\"), TRUE)","v":""},null,null,null,null,null,null,null,null,null,null,null,null,null,null,null,null,null,null,null,null,null,null,null,null,null,null,null,null,null,null,null,null,null,null,null,null,null,null,null,null,null,null,null,null,null,{"$f":"AZ542+1","v":70}]
[]
[]
[null,null,{"$f":"\"【目標】\"&INDIRECT(ADDRESS(AZ558,COLUMN('取組選択＞'!$BJ$4),1,1,\"取組選択＞\"), TRUE)","v":"【目標】"}]
[]
[null,null,null,"取組内容例",null,null,null,null,{"$f":"IF(F558=\"\",\"取組内容を追加して下さい。\",\"\")","v":"取組内容を追加して下さい。"}]
[]
[null,null,null,"選択"]
[null,null,null,null,null,{"$f":"INDIRECT(ADDRESS(AZ558,COLUMN('取組選択＞'!$BL$4),1,1,\"取組選択＞\"), TRUE)","v":""},null,null,null,null,null,null,null,null,null,null,null,null,null,null,null,null,null,null,null,null,null,null,null,null,null,null,null,null,null,null,null,null,null,null,null,null,null,null,null,null,null,null,null,null,null,{"$f":"AZ550+1","v":71}]
[]
[]
[null,null,{"$f":"\"【目標】\"&INDIRECT(ADDRESS(AZ566,COLUMN('取組選択＞'!$BJ$4),1,1,\"取組選択＞\"), TRUE)","v":"【目標】"}]
[]
[null,null,null,"取組内容例",null,null,null,null,{"$f":"IF(F566=\"\",\"取組内容を追加して下さい。\",\"\")","v":"取組内容を追加して下さい。"}]
[]
[null,null,null,"選択"]
[null,null,null,null,null,{"$f":"INDIRECT(ADDRESS(AZ566,COLUMN('取組選択＞'!$BL$4),1,1,\"取組選択＞\"), TRUE)","v":""},null,null,null,null,null,null,null,null,null,null,null,null,null,null,null,null,null,null,null,null,null,null,null,null,null,null,null,null,null,null,null,null,null,null,null,null,null,null,null,null,null,null,null,null,null,{"$f":"AZ558+1","v":72}]
[]
[]
[null,null,{"$f":"\"【目標】\"&INDIRECT(ADDRESS(AZ574,COLUMN('取組選択＞'!$BJ$4),1,1,\"取組選択＞\"), TRUE)","v":"【目標】"}]
[]
[null,null,null,"取組内容例",null,null,null,null,{"$f":"IF(F574=\"\",\"取組内容を追加して下さい。\",\"\")","v":"取組内容を追加して下さい。"}]
[]
[null,null,null,"選択"]
[null,null,null,null,null,{"$f":"INDIRECT(ADDRESS(AZ574,COLUMN('取組選択＞'!$BL$4),1,1,\"取組選択＞\"), TRUE)","v":""},null,null,null,null,null,null,null,null,null,null,null,null,null,null,null,null,null,null,null,null,null,null,null,null,null,null,null,null,null,null,null,null,null,null,null,null,null,null,null,null,null,null,null,null,null,{"$f":"AZ566+1","v":73}]
[]
[]
[null,null,{"$f":"\"【目標】\"&INDIRECT(ADDRESS(AZ582,COLUMN('取組選択＞'!$BJ$4),1,1,\"取組選択＞\"), TRUE)","v":"【目標】"}]
[]
[null,null,null,"取組内容例",null,null,null,null,{"$f":"IF(F582=\"\",\"取組内容を追加して下さい。\",\"\")","v":"取組内容を追加して下さい。"}]
[]
[null,null,null,"選択"]
[null,null,null,null,null,{"$f":"INDIRECT(ADDRESS(AZ582,COLUMN('取組選択＞'!$BL$4),1,1,\"取組選択＞\"), TRUE)","v":""},null,null,null,null,null,null,null,null,null,null,null,null,null,null,null,null,null,null,null,null,null,null,null,null,null,null,null,null,null,null,null,null,null,null,null,null,null,null,null,null,null,null,null,null,null,{"$f":"AZ574+1","v":74}]
[]
[]
[null,null,{"$f":"\"【目標】\"&INDIRECT(ADDRESS(AZ590,COLUMN('取組選択＞'!$BJ$4),1,1,\"取組選択＞\"), TRUE)","v":"【目標】"}]
[]
[null,null,null,"取組内容例",null,null,null,null,{"$f":"IF(F590=\"\",\"取組内容を追加して下さい。\",\"\")","v":"取組内容を追加して下さい。"}]
[]
[null,null,null,"選択"]
[null,null,null,null,null,{"$f":"INDIRECT(ADDRESS(AZ590,COLUMN('取組選択＞'!$BL$4),1,1,\"取組選択＞\"), TRUE)","v":""},null,null,null,null,null,null,null,null,null,null,null,null,null,null,null,null,null,null,null,null,null,null,null,null,null,null,null,null,null,null,null,null,null,null,null,null,null,null,null,null,null,null,null,null,null,{"$f":"AZ582+1","v":75}]
[]
[]
[null,null,{"$f":"\"【目標】\"&INDIRECT(ADDRESS(AZ598,COLUMN('取組選択＞'!$BJ$4),1,1,\"取組選択＞\"), TRUE)","v":"【目標】"}]
[]
[null,null,null,"取組内容例",null,null,null,null,{"$f":"IF(F598=\"\",\"取組内容を追加して下さい。\",\"\")","v":"取組内容を追加して下さい。"}]
[]
[null,null,null,"選択"]
[null,null,null,null,null,{"$f":"INDIRECT(ADDRESS(AZ598,COLUMN('取組選択＞'!$BL$4),1,1,\"取組選択＞\"), TRUE)","v":""},null,null,null,null,null,null,null,null,null,null,null,null,null,null,null,null,null,null,null,null,null,null,null,null,null,null,null,null,null,null,null,null,null,null,null,null,null,null,null,null,null,null,null,null,null,{"$f":"AZ590+1","v":76}]
[]
[]
[null,null,{"$f":"\"【目標】\"&INDIRECT(ADDRESS(AZ606,COLUMN('取組選択＞'!$BJ$4),1,1,\"取組選択＞\"), TRUE)","v":"【目標】"}]
[]
[null,null,null,"取組内容例",null,null,null,null,{"$f":"IF(F606=\"\",\"取組内容を追加して下さい。\",\"\")","v":"取組内容を追加して下さい。"}]
[]
[null,null,null,"選択"]
[null,null,null,null,null,{"$f":"INDIRECT(ADDRESS(AZ606,COLUMN('取組選択＞'!$BL$4),1,1,\"取組選択＞\"), TRUE)","v":""},null,null,null,null,null,null,null,null,null,null,null,null,null,null,null,null,null,null,null,null,null,null,null,null,null,null,null,null,null,null,null,null,null,null,null,null,null,null,null,null,null,null,null,null,null,{"$f":"AZ598+1","v":77}]
[]
[]
[null,null,{"$f":"\"【目標】\"&INDIRECT(ADDRESS(AZ614,COLUMN('取組選択＞'!$BJ$4),1,1,\"取組選択＞\"), TRUE)","v":"【目標】"}]
[]
[null,null,null,"取組内容例",null,null,null,null,{"$f":"IF(F614=\"\",\"取組内容を追加して下さい。\",\"\")","v":"取組内容を追加して下さい。"}]
[]
[null,null,null,"選択"]
[null,null,null,null,null,{"$f":"INDIRECT(ADDRESS(AZ614,COLUMN('取組選択＞'!$BL$4),1,1,\"取組選択＞\"), TRUE)","v":""},null,null,null,null,null,null,null,null,null,null,null,null,null,null,null,null,null,null,null,null,null,null,null,null,null,null,null,null,null,null,null,null,null,null,null,null,null,null,null,null,null,null,null,null,null,{"$f":"AZ606+1","v":78}]
[]
[]
[null,null,{"$f":"\"【目標】\"&INDIRECT(ADDRESS(AZ622,COLUMN('取組選択＞'!$BJ$4),1,1,\"取組選択＞\"), TRUE)","v":"【目標】"}]
[]
[null,null,null,"取組内容例",null,null,null,null,{"$f":"IF(F622=\"\",\"取組内容を追加して下さい。\",\"\")","v":"取組内容を追加して下さい。"}]
[]
[null,null,null,"選択"]
[null,null,null,null,null,{"$f":"INDIRECT(ADDRESS(AZ622,COLUMN('取組選択＞'!$BL$4),1,1,\"取組選択＞\"), TRUE)","v":""},null,null,null,null,null,null,null,null,null,null,null,null,null,null,null,null,null,null,null,null,null,null,null,null,null,null,null,null,null,null,null,null,null,null,null,null,null,null,null,null,null,null,null,null,null,{"$f":"AZ614+1","v":79}]
[]
[]
[null,null,{"$f":"\"【目標】\"&INDIRECT(ADDRESS(AZ630,COLUMN('取組選択＞'!$BJ$4),1,1,\"取組選択＞\"), TRUE)","v":"【目標】"}]
[]
[null,null,null,"取組内容例",null,null,null,null,{"$f":"IF(F630=\"\",\"取組内容を追加して下さい。\",\"\")","v":"取組内容を追加して下さい。"}]
[]
[null,null,null,"選択"]
[null,null,null,null,null,{"$f":"INDIRECT(ADDRESS(AZ630,COLUMN('取組選択＞'!$BL$4),1,1,\"取組選択＞\"), TRUE)","v":""},null,null,null,null,null,null,null,null,null,null,null,null,null,null,null,null,null,null,null,null,null,null,null,null,null,null,null,null,null,null,null,null,null,null,null,null,null,null,null,null,null,null,null,null,null,{"$f":"AZ622+1","v":80}]
[]
[]
[null,null,{"$f":"\"【目標】\"&INDIRECT(ADDRESS(AZ638,COLUMN('取組選択＞'!$BJ$4),1,1,\"取組選択＞\"), TRUE)","v":"【目標】"}]
[]
[null,null,null,"取組内容例",null,null,null,null,{"$f":"IF(F638=\"\",\"取組内容を追加して下さい。\",\"\")","v":"取組内容を追加して下さい。"}]
[]
[null,null,null,"選択"]
[null,null,null,null,null,{"$f":"INDIRECT(ADDRESS(AZ638,COLUMN('取組選択＞'!$BL$4),1,1,\"取組選択＞\"), TRUE)","v":""},null,null,null,null,null,null,null,null,null,null,null,null,null,null,null,null,null,null,null,null,null,null,null,null,null,null,null,null,null,null,null,null,null,null,null,null,null,null,null,null,null,null,null,null,null,{"$f":"AZ630+1","v":81}]
[]
[]
[null,null,{"$f":"\"【目標】\"&INDIRECT(ADDRESS(AZ646,COLUMN('取組選択＞'!$BJ$4),1,1,\"取組選択＞\"), TRUE)","v":"【目標】"}]
[]
[null,null,null,"取組内容例",null,null,null,null,{"$f":"IF(F646=\"\",\"取組内容を追加して下さい。\",\"\")","v":"取組内容を追加して下さい。"}]
[]
[null,null,null,"選択"]
[null,null,null,null,null,{"$f":"INDIRECT(ADDRESS(AZ646,COLUMN('取組選択＞'!$BL$4),1,1,\"取組選択＞\"), TRUE)","v":""},null,null,null,null,null,null,null,null,null,null,null,null,null,null,null,null,null,null,null,null,null,null,null,null,null,null,null,null,null,null,null,null,null,null,null,null,null,null,null,null,null,null,null,null,null,{"$f":"AZ638+1","v":82}]
[]
[]
[null,null,{"$f":"\"【目標】\"&INDIRECT(ADDRESS(AZ654,COLUMN('取組選択＞'!$BJ$4),1,1,\"取組選択＞\"), TRUE)","v":"【目標】"}]
[]
[null,null,null,"取組内容例",null,null,null,null,{"$f":"IF(F654=\"\",\"取組内容を追加して下さい。\",\"\")","v":"取組内容を追加して下さい。"}]
[]
[null,null,null,"選択"]
[null,null,null,null,null,{"$f":"INDIRECT(ADDRESS(AZ654,COLUMN('取組選択＞'!$BL$4),1,1,\"取組選択＞\"), TRUE)","v":""},null,null,null,null,null,null,null,null,null,null,null,null,null,null,null,null,null,null,null,null,null,null,null,null,null,null,null,null,null,null,null,null,null,null,null,null,null,null,null,null,null,null,null,null,null,{"$f":"AZ646+1","v":83}]
[]
[]
[null,null,{"$f":"\"【目標】\"&INDIRECT(ADDRESS(AZ662,COLUMN('取組選択＞'!$BJ$4),1,1,\"取組選択＞\"), TRUE)","v":"【目標】"}]
[]
[null,null,null,"取組内容例",null,null,null,null,{"$f":"IF(F662=\"\",\"取組内容を追加して下さい。\",\"\")","v":"取組内容を追加して下さい。"}]
[]
[null,null,null,"選択"]
[null,null,null,null,null,{"$f":"INDIRECT(ADDRESS(AZ662,COLUMN('取組選択＞'!$BL$4),1,1,\"取組選択＞\"), TRUE)","v":""},null,null,null,null,null,null,null,null,null,null,null,null,null,null,null,null,null,null,null,null,null,null,null,null,null,null,null,null,null,null,null,null,null,null,null,null,null,null,null,null,null,null,null,null,null,{"$f":"AZ654+1","v":84}]
[]
[]
[null,null,{"$f":"\"【目標】\"&INDIRECT(ADDRESS(AZ670,COLUMN('取組選択＞'!$BJ$4),1,1,\"取組選択＞\"), TRUE)","v":"【目標】"}]
[]
[null,null,null,"取組内容例",null,null,null,null,{"$f":"IF(F670=\"\",\"取組内容を追加して下さい。\",\"\")","v":"取組内容を追加して下さい。"}]
[]
[null,null,null,"選択"]
[null,null,null,null,null,{"$f":"INDIRECT(ADDRESS(AZ670,COLUMN('取組選択＞'!$BL$4),1,1,\"取組選択＞\"), TRUE)","v":""},null,null,null,null,null,null,null,null,null,null,null,null,null,null,null,null,null,null,null,null,null,null,null,null,null,null,null,null,null,null,null,null,null,null,null,null,null,null,null,null,null,null,null,null,null,{"$f":"AZ662+1","v":85}]
[]
[]
[null,null,{"$f":"\"【目標】\"&INDIRECT(ADDRESS(AZ678,COLUMN('取組選択＞'!$BJ$4),1,1,\"取組選択＞\"), TRUE)","v":"【目標】"}]
[]
[null,null,null,"取組内容例",null,null,null,null,{"$f":"IF(F678=\"\",\"取組内容を追加して下さい。\",\"\")","v":"取組内容を追加して下さい。"}]
[]
[null,null,null,"選択"]
[null,null,null,null,null,{"$f":"INDIRECT(ADDRESS(AZ678,COLUMN('取組選択＞'!$BL$4),1,1,\"取組選択＞\"), TRUE)","v":""},null,null,null,null,null,null,null,null,null,null,null,null,null,null,null,null,null,null,null,null,null,null,null,null,null,null,null,null,null,null,null,null,null,null,null,null,null,null,null,null,null,null,null,null,null,{"$f":"AZ670+1","v":86}]
[]
[]
[null,null,{"$f":"\"【目標】\"&INDIRECT(ADDRESS(AZ686,COLUMN('取組選択＞'!$BJ$4),1,1,\"取組選択＞\"), TRUE)","v":"【目標】"}]
[]
[null,null,null,"取組内容例",null,null,null,null,{"$f":"IF(F686=\"\",\"取組内容を追加して下さい。\",\"\")","v":"取組内容を追加して下さい。"}]
[]
[null,null,null,"選択"]
[null,null,null,null,null,{"$f":"INDIRECT(ADDRESS(AZ686,COLUMN('取組選択＞'!$BL$4),1,1,\"取組選択＞\"), TRUE)","v":""},null,null,null,null,null,null,null,null,null,null,null,null,null,null,null,null,null,null,null,null,null,null,null,null,null,null,null,null,null,null,null,null,null,null,null,null,null,null,null,null,null,null,null,null,null,{"$f":"AZ678+1","v":87}]
[]
[]
[null,null,{"$f":"\"【目標】\"&INDIRECT(ADDRESS(AZ694,COLUMN('取組選択＞'!$BJ$4),1,1,\"取組選択＞\"), TRUE)","v":"【目標】"}]
[]
[null,null,null,"取組内容例",null,null,null,null,{"$f":"IF(F694=\"\",\"取組内容を追加して下さい。\",\"\")","v":"取組内容を追加して下さい。"}]
[]
[null,null,null,"選択"]
[null,null,null,null,null,{"$f":"INDIRECT(ADDRESS(AZ694,COLUMN('取組選択＞'!$BL$4),1,1,\"取組選択＞\"), TRUE)","v":""},null,null,null,null,null,null,null,null,null,null,null,null,null,null,null,null,null,null,null,null,null,null,null,null,null,null,null,null,null,null,null,null,null,null,null,null,null,null,null,null,null,null,null,null,null,{"$f":"AZ686+1","v":88}]
[]
[]
[null,null,{"$f":"\"【目標】\"&INDIRECT(ADDRESS(AZ702,COLUMN('取組選択＞'!$BJ$4),1,1,\"取組選択＞\"), TRUE)","v":"【目標】"}]
[]
[null,null,null,"取組内容例",null,null,null,null,{"$f":"IF(F702=\"\",\"取組内容を追加して下さい。\",\"\")","v":"取組内容を追加して下さい。"}]
[]
[null,null,null,"選択"]
[null,null,null,null,null,{"$f":"INDIRECT(ADDRESS(AZ702,COLUMN('取組選択＞'!$BL$4),1,1,\"取組選択＞\"), TRUE)","v":""},null,null,null,null,null,null,null,null,null,null,null,null,null,null,null,null,null,null,null,null,null,null,null,null,null,null,null,null,null,null,null,null,null,null,null,null,null,null,null,null,null,null,null,null,null,{"$f":"AZ694+1","v":89}]
[]
[]
[null,null,{"$f":"\"【目標】\"&INDIRECT(ADDRESS(AZ710,COLUMN('取組選択＞'!$BJ$4),1,1,\"取組選択＞\"), TRUE)","v":"【目標】"}]
[]
[null,null,null,"取組内容例",null,null,null,null,{"$f":"IF(F710=\"\",\"取組内容を追加して下さい。\",\"\")","v":"取組内容を追加して下さい。"}]
[]
[null,null,null,"選択"]
[null,null,null,null,null,{"$f":"INDIRECT(ADDRESS(AZ710,COLUMN('取組選択＞'!$BL$4),1,1,\"取組選択＞\"), TRUE)","v":""},null,null,null,null,null,null,null,null,null,null,null,null,null,null,null,null,null,null,null,null,null,null,null,null,null,null,null,null,null,null,null,null,null,null,null,null,null,null,null,null,null,null,null,null,null,{"$f":"AZ702+1","v":90}]
[]
[]
[null,null,{"$f":"\"【目標】\"&INDIRECT(ADDRESS(AZ718,COLUMN('取組選択＞'!$BJ$4),1,1,\"取組選択＞\"), TRUE)","v":"【目標】"}]
[]
[null,null,null,"取組内容例",null,null,null,null,{"$f":"IF(F718=\"\",\"取組内容を追加して下さい。\",\"\")","v":"取組内容を追加して下さい。"}]
[]
[null,null,null,"選択"]
[null,null,null,null,null,{"$f":"INDIRECT(ADDRESS(AZ718,COLUMN('取組選択＞'!$BL$4),1,1,\"取組選択＞\"), TRUE)","v":""},null,null,null,null,null,null,null,null,null,null,null,null,null,null,null,null,null,null,null,null,null,null,null,null,null,null,null,null,null,null,null,null,null,null,null,null,null,null,null,null,null,null,null,null,null,{"$f":"AZ710+1","v":91}]
[]
[]
[null,null,{"$f":"\"【目標】\"&INDIRECT(ADDRESS(AZ726,COLUMN('取組選択＞'!$BJ$4),1,1,\"取組選択＞\"), TRUE)","v":"【目標】"}]
[]
[null,null,null,"取組内容例",null,null,null,null,{"$f":"IF(F726=\"\",\"取組内容を追加して下さい。\",\"\")","v":"取組内容を追加して下さい。"}]
[]
[null,null,null,"選択"]
[null,null,null,null,null,{"$f":"INDIRECT(ADDRESS(AZ726,COLUMN('取組選択＞'!$BL$4),1,1,\"取組選択＞\"), TRUE)","v":""},null,null,null,null,null,null,null,null,null,null,null,null,null,null,null,null,null,null,null,null,null,null,null,null,null,null,null,null,null,null,null,null,null,null,null,null,null,null,null,null,null,null,null,null,null,{"$f":"AZ718+1","v":92}]
[]
[]
[null,null,{"$f":"\"【目標】\"&INDIRECT(ADDRESS(AZ734,COLUMN('取組選択＞'!$BJ$4),1,1,\"取組選択＞\"), TRUE)","v":"【目標】"}]
[]
[null,null,null,"取組内容例",null,null,null,null,{"$f":"IF(F734=\"\",\"取組内容を追加して下さい。\",\"\")","v":"取組内容を追加して下さい。"}]
[]
[null,null,null,"選択"]
[null,null,null,null,null,{"$f":"INDIRECT(ADDRESS(AZ734,COLUMN('取組選択＞'!$BL$4),1,1,\"取組選択＞\"), TRUE)","v":""},null,null,null,null,null,null,null,null,null,null,null,null,null,null,null,null,null,null,null,null,null,null,null,null,null,null,null,null,null,null,null,null,null,null,null,null,null,null,null,null,null,null,null,null,null,{"$f":"AZ726+1","v":93}]
[]
[]
[null,null,{"$f":"\"【目標】\"&INDIRECT(ADDRESS(AZ742,COLUMN('取組選択＞'!$BJ$4),1,1,\"取組選択＞\"), TRUE)","v":"【目標】"}]
[]
[null,null,null,"取組内容例",null,null,null,null,{"$f":"IF(F742=\"\",\"取組内容を追加して下さい。\",\"\")","v":"取組内容を追加して下さい。"}]
[]
[null,null,null,"選択"]
[null,null,null,null,null,{"$f":"INDIRECT(ADDRESS(AZ742,COLUMN('取組選択＞'!$BL$4),1,1,\"取組選択＞\"), TRUE)","v":""},null,null,null,null,null,null,null,null,null,null,null,null,null,null,null,null,null,null,null,null,null,null,null,null,null,null,null,null,null,null,null,null,null,null,null,null,null,null,null,null,null,null,null,null,null,{"$f":"AZ734+1","v":94}]
[]
[]
[null,null,{"$f":"\"【目標】\"&INDIRECT(ADDRESS(AZ750,COLUMN('取組選択＞'!$BJ$4),1,1,\"取組選択＞\"), TRUE)","v":"【目標】"}]
[]
[null,null,null,"取組内容例",null,null,null,null,{"$f":"IF(F750=\"\",\"取組内容を追加して下さい。\",\"\")","v":"取組内容を追加して下さい。"}]
[]
[null,null,null,"選択"]
[null,null,null,null,null,{"$f":"INDIRECT(ADDRESS(AZ750,COLUMN('取組選択＞'!$BL$4),1,1,\"取組選択＞\"), TRUE)","v":""},null,null,null,null,null,null,null,null,null,null,null,null,null,null,null,null,null,null,null,null,null,null,null,null,null,null,null,null,null,null,null,null,null,null,null,null,null,null,null,null,null,null,null,null,null,{"$f":"AZ742+1","v":95}]
[]
[]
[null,null,{"$f":"\"【目標】\"&INDIRECT(ADDRESS(AZ758,COLUMN('取組選択＞'!$BJ$4),1,1,\"取組選択＞\"), TRUE)","v":"【目標】"}]
[]
[null,null,null,"取組内容例",null,null,null,null,{"$f":"IF(F758=\"\",\"取組内容を追加して下さい。\",\"\")","v":"取組内容を追加して下さい。"}]
[]
[null,null,null,"選択"]
[null,null,null,null,null,{"$f":"INDIRECT(ADDRESS(AZ758,COLUMN('取組選択＞'!$BL$4),1,1,\"取組選択＞\"), TRUE)","v":""},null,null,null,null,null,null,null,null,null,null,null,null,null,null,null,null,null,null,null,null,null,null,null,null,null,null,null,null,null,null,null,null,null,null,null,null,null,null,null,null,null,null,null,null,null,{"$f":"AZ750+1","v":96}]
[]
[]
[null,null,{"$f":"\"【目標】\"&INDIRECT(ADDRESS(AZ766,COLUMN('取組選択＞'!$BJ$4),1,1,\"取組選択＞\"), TRUE)","v":"【目標】"}]
[]
[null,null,null,"取組内容例",null,null,null,null,{"$f":"IF(F766=\"\",\"取組内容を追加して下さい。\",\"\")","v":"取組内容を追加して下さい。"}]
[]
[null,null,null,"選択"]
[null,null,null,null,null,{"$f":"INDIRECT(ADDRESS(AZ766,COLUMN('取組選択＞'!$BL$4),1,1,\"取組選択＞\"), TRUE)","v":""},null,null,null,null,null,null,null,null,null,null,null,null,null,null,null,null,null,null,null,null,null,null,null,null,null,null,null,null,null,null,null,null,null,null,null,null,null,null,null,null,null,null,null,null,null,{"$f":"AZ758+1","v":97}]
[]
[]
[null,null,{"$f":"\"【目標】\"&INDIRECT(ADDRESS(AZ774,COLUMN('取組選択＞'!$BJ$4),1,1,\"取組選択＞\"), TRUE)","v":"【目標】"}]
[]
[null,null,null,"取組内容例",null,null,null,null,{"$f":"IF(F774=\"\",\"取組内容を追加して下さい。\",\"\")","v":"取組内容を追加して下さい。"}]
[]
[null,null,null,"選択"]
[null,null,null,null,null,{"$f":"INDIRECT(ADDRESS(AZ774,COLUMN('取組選択＞'!$BL$4),1,1,\"取組選択＞\"), TRUE)","v":""},null,null,null,null,null,null,null,null,null,null,null,null,null,null,null,null,null,null,null,null,null,null,null,null,null,null,null,null,null,null,null,null,null,null,null,null,null,null,null,null,null,null,null,null,null,{"$f":"AZ766+1","v":98}]
[]
[]
[null,null,{"$f":"\"【目標】\"&INDIRECT(ADDRESS(AZ782,COLUMN('取組選択＞'!$BJ$4),1,1,\"取組選択＞\"), TRUE)","v":"【目標】"}]
[]
[null,null,null,"取組内容例",null,null,null,null,{"$f":"IF(F782=\"\",\"取組内容を追加して下さい。\",\"\")","v":"取組内容を追加して下さい。"}]
[]
[null,null,null,"選択"]
[null,null,null,null,null,{"$f":"INDIRECT(ADDRESS(AZ782,COLUMN('取組選択＞'!$BL$4),1,1,\"取組選択＞\"), TRUE)","v":""},null,null,null,null,null,null,null,null,null,null,null,null,null,null,null,null,null,null,null,null,null,null,null,null,null,null,null,null,null,null,null,null,null,null,null,null,null,null,null,null,null,null,null,null,null,{"$f":"AZ774+1","v":99}]
[]
[]
[null,null,{"$f":"\"【目標】\"&INDIRECT(ADDRESS(AZ790,COLUMN('取組選択＞'!$BJ$4),1,1,\"取組選択＞\"), TRUE)","v":"【目標】"}]
[]
[null,null,null,"取組内容例",null,null,null,null,{"$f":"IF(F790=\"\",\"取組内容を追加して下さい。\",\"\")","v":"取組内容を追加して下さい。"}]
[]
[null,null,null,"選択"]
[null,null,null,null,null,{"$f":"INDIRECT(ADDRESS(AZ790,COLUMN('取組選択＞'!$BL$4),1,1,\"取組選択＞\"), TRUE)","v":""},null,null,null,null,null,null,null,null,null,null,null,null,null,null,null,null,null,null,null,null,null,null,null,null,null,null,null,null,null,null,null,null,null,null,null,null,null,null,null,null,null,null,null,null,null,{"$f":"AZ782+1","v":100}]
[]
[]
[null,null,{"$f":"\"【目標】\"&INDIRECT(ADDRESS(AZ798,COLUMN('取組選択＞'!$BJ$4),1,1,\"取組選択＞\"), TRUE)","v":"【目標】"}]
[]
[null,null,null,"取組内容例",null,null,null,null,{"$f":"IF(F798=\"\",\"取組内容を追加して下さい。\",\"\")","v":"取組内容を追加して下さい。"}]
[]
[null,null,null,"選択"]
[null,null,null,null,null,{"$f":"INDIRECT(ADDRESS(AZ798,COLUMN('取組選択＞'!$BL$4),1,1,\"取組選択＞\"), TRUE)","v":""},null,null,null,null,null,null,null,null,null,null,null,null,null,null,null,null,null,null,null,null,null,null,null,null,null,null,null,null,null,null,null,null,null,null,null,null,null,null,null,null,null,null,null,null,null,{"$f":"AZ790+1","v":101}]
[]
[]
[null,null,{"$f":"\"【目標】\"&INDIRECT(ADDRESS(AZ806,COLUMN('取組選択＞'!$BJ$4),1,1,\"取組選択＞\"), TRUE)","v":"【目標】"}]
[]
[null,null,null,"取組内容例",null,null,null,null,{"$f":"IF(F806=\"\",\"取組内容を追加して下さい。\",\"\")","v":"取組内容を追加して下さい。"}]
[]
[null,null,null,"選択"]
[null,null,null,null,null,{"$f":"INDIRECT(ADDRESS(AZ806,COLUMN('取組選択＞'!$BL$4),1,1,\"取組選択＞\"), TRUE)","v":""},null,null,null,null,null,null,null,null,null,null,null,null,null,null,null,null,null,null,null,null,null,null,null,null,null,null,null,null,null,null,null,null,null,null,null,null,null,null,null,null,null,null,null,null,null,{"$f":"AZ798+1","v":102}]
[]
[]
[null,null,{"$f":"\"【目標】\"&INDIRECT(ADDRESS(AZ814,COLUMN('取組選択＞'!$BJ$4),1,1,\"取組選択＞\"), TRUE)","v":"【目標】"}]
[]
[null,null,null,"取組内容例",null,null,null,null,{"$f":"IF(F814=\"\",\"取組内容を追加して下さい。\",\"\")","v":"取組内容を追加して下さい。"}]
[]
[null,null,null,"選択"]
[null,null,null,null,null,{"$f":"INDIRECT(ADDRESS(AZ814,COLUMN('取組選択＞'!$BL$4),1,1,\"取組選択＞\"), TRUE)","v":""},null,null,null,null,null,null,null,null,null,null,null,null,null,null,null,null,null,null,null,null,null,null,null,null,null,null,null,null,null,null,null,null,null,null,null,null,null,null,null,null,null,null,null,null,null,{"$f":"AZ806+1","v":103}]
[]
[]
[null,null,{"$f":"\"【目標】\"&INDIRECT(ADDRESS(AZ822,COLUMN('取組選択＞'!$BJ$4),1,1,\"取組選択＞\"), TRUE)","v":"【目標】"}]
[]
[null,null,null,"取組内容例",null,null,null,null,{"$f":"IF(F822=\"\",\"取組内容を追加して下さい。\",\"\")","v":"取組内容を追加して下さい。"}]
[]
[null,null,null,"選択"]
[null,null,null,null,null,{"$f":"INDIRECT(ADDRESS(AZ822,COLUMN('取組選択＞'!$BL$4),1,1,\"取組選択＞\"), TRUE)","v":""},null,null,null,null,null,null,null,null,null,null,null,null,null,null,null,null,null,null,null,null,null,null,null,null,null,null,null,null,null,null,null,null,null,null,null,null,null,null,null,null,null,null,null,null,null,{"$f":"AZ814+1","v":104}]
[]
[]
[null,null,{"$f":"\"【目標】\"&INDIRECT(ADDRESS(AZ830,COLUMN('取組選択＞'!$BJ$4),1,1,\"取組選択＞\"), TRUE)","v":"【目標】"}]
[]
[null,null,null,"取組内容例",null,null,null,null,{"$f":"IF(F830=\"\",\"取組内容を追加して下さい。\",\"\")","v":"取組内容を追加して下さい。"}]
[]
[null,null,null,"選択"]
[null,null,null,null,null,{"$f":"INDIRECT(ADDRESS(AZ830,COLUMN('取組選択＞'!$BL$4),1,1,\"取組選択＞\"), TRUE)","v":""},null,null,null,null,null,null,null,null,null,null,null,null,null,null,null,null,null,null,null,null,null,null,null,null,null,null,null,null,null,null,null,null,null,null,null,null,null,null,null,null,null,null,null,null,null,{"$f":"AZ822+1","v":105}]
[]
[]
[null,null,{"$f":"\"【目標】\"&INDIRECT(ADDRESS(AZ838,COLUMN('取組選択＞'!$BJ$4),1,1,\"取組選択＞\"), TRUE)","v":"【目標】"}]
[]
[null,null,null,"取組内容例",null,null,null,null,{"$f":"IF(F838=\"\",\"取組内容を追加して下さい。\",\"\")","v":"取組内容を追加して下さい。"}]
[]
[null,null,null,"選択"]
[null,null,null,null,null,{"$f":"INDIRECT(ADDRESS(AZ838,COLUMN('取組選択＞'!$BL$4),1,1,\"取組選択＞\"), TRUE)","v":""},null,null,null,null,null,null,null,null,null,null,null,null,null,null,null,null,null,null,null,null,null,null,null,null,null,null,null,null,null,null,null,null,null,null,null,null,null,null,null,null,null,null,null,null,null,{"$f":"AZ830+1","v":106}]
[]
[]
[null,null,{"$f":"\"【目標】\"&INDIRECT(ADDRESS(AZ846,COLUMN('取組選択＞'!$BJ$4),1,1,\"取組選択＞\"), TRUE)","v":"【目標】"}]
[]
[null,null,null,"取組内容例",null,null,null,null,{"$f":"IF(F846=\"\",\"取組内容を追加して下さい。\",\"\")","v":"取組内容を追加して下さい。"}]
[]
[null,null,null,"選択"]
[null,null,null,null,null,{"$f":"INDIRECT(ADDRESS(AZ846,COLUMN('取組選択＞'!$BL$4),1,1,\"取組選択＞\"), TRUE)","v":""},null,null,null,null,null,null,null,null,null,null,null,null,null,null,null,null,null,null,null,null,null,null,null,null,null,null,null,null,null,null,null,null,null,null,null,null,null,null,null,null,null,null,null,null,null,{"$f":"AZ838+1","v":107}]
[]
[]
[null,null,{"$f":"\"【目標】\"&INDIRECT(ADDRESS(AZ854,COLUMN('取組選択＞'!$BJ$4),1,1,\"取組選択＞\"), TRUE)","v":"【目標】"}]
[]
[null,null,null,"取組内容例",null,null,null,null,{"$f":"IF(F854=\"\",\"取組内容を追加して下さい。\",\"\")","v":"取組内容を追加して下さい。"}]
[]
[null,null,null,"選択"]
[null,null,null,null,null,{"$f":"INDIRECT(ADDRESS(AZ854,COLUMN('取組選択＞'!$BL$4),1,1,\"取組選択＞\"), TRUE)","v":""},null,null,null,null,null,null,null,null,null,null,null,null,null,null,null,null,null,null,null,null,null,null,null,null,null,null,null,null,null,null,null,null,null,null,null,null,null,null,null,null,null,null,null,null,null,{"$f":"AZ846+1","v":108}]
[]
[]
[null,null,{"$f":"\"【目標】\"&INDIRECT(ADDRESS(AZ862,COLUMN('取組選択＞'!$BJ$4),1,1,\"取組選択＞\"), TRUE)","v":"【目標】"}]
[]
[null,null,null,"取組内容例",null,null,null,null,{"$f":"IF(F862=\"\",\"取組内容を追加して下さい。\",\"\")","v":"取組内容を追加して下さい。"}]
[]
[null,null,null,"選択"]
[null,null,null,null,null,{"$f":"INDIRECT(ADDRESS(AZ862,COLUMN('取組選択＞'!$BL$4),1,1,\"取組選択＞\"), TRUE)","v":""},null,null,null,null,null,null,null,null,null,null,null,null,null,null,null,null,null,null,null,null,null,null,null,null,null,null,null,null,null,null,null,null,null,null,null,null,null,null,null,null,null,null,null,null,null,{"$f":"AZ854+1","v":109}]
[]
[]
[null,null,{"$f":"\"【目標】\"&INDIRECT(ADDRESS(AZ870,COLUMN('取組選択＞'!$BJ$4),1,1,\"取組選択＞\"), TRUE)","v":"【目標】"}]
[]
[null,null,null,"取組内容例",null,null,null,null,{"$f":"IF(F870=\"\",\"取組内容を追加して下さい。\",\"\")","v":"取組内容を追加して下さい。"}]
[]
[null,null,null,"選択"]
[null,null,null,null,null,{"$f":"INDIRECT(ADDRESS(AZ870,COLUMN('取組選択＞'!$BL$4),1,1,\"取組選択＞\"), TRUE)","v":""},null,null,null,null,null,null,null,null,null,null,null,null,null,null,null,null,null,null,null,null,null,null,null,null,null,null,null,null,null,null,null,null,null,null,null,null,null,null,null,null,null,null,null,null,null,{"$f":"AZ862+1","v":110}]
[]
[]
[null,null,{"$f":"\"【目標】\"&INDIRECT(ADDRESS(AZ878,COLUMN('取組選択＞'!$BJ$4),1,1,\"取組選択＞\"), TRUE)","v":"【目標】"}]
[]
[null,null,null,"取組内容例",null,null,null,null,{"$f":"IF(F878=\"\",\"取組内容を追加して下さい。\",\"\")","v":"取組内容を追加して下さい。"}]
[]
[null,null,null,"選択"]
[null,null,null,null,null,{"$f":"INDIRECT(ADDRESS(AZ878,COLUMN('取組選択＞'!$BL$4),1,1,\"取組選択＞\"), TRUE)","v":""},null,null,null,null,null,null,null,null,null,null,null,null,null,null,null,null,null,null,null,null,null,null,null,null,null,null,null,null,null,null,null,null,null,null,null,null,null,null,null,null,null,null,null,null,null,{"$f":"AZ870+1","v":111}]
[]
[]
[null,null,{"$f":"\"【目標】\"&INDIRECT(ADDRESS(AZ886,COLUMN('取組選択＞'!$BJ$4),1,1,\"取組選択＞\"), TRUE)","v":"【目標】"}]
[]
[null,null,null,"取組内容例",null,null,null,null,{"$f":"IF(F886=\"\",\"取組内容を追加して下さい。\",\"\")","v":"取組内容を追加して下さい。"}]
[]
[null,null,null,"選択"]
[null,null,null,null,null,{"$f":"INDIRECT(ADDRESS(AZ886,COLUMN('取組選択＞'!$BL$4),1,1,\"取組選択＞\"), TRUE)","v":""},null,null,null,null,null,null,null,null,null,null,null,null,null,null,null,null,null,null,null,null,null,null,null,null,null,null,null,null,null,null,null,null,null,null,null,null,null,null,null,null,null,null,null,null,null,{"$f":"AZ878+1","v":112}]
[]
[]
[null,null,{"$f":"\"【目標】\"&INDIRECT(ADDRESS(AZ894,COLUMN('取組選択＞'!$BJ$4),1,1,\"取組選択＞\"), TRUE)","v":"【目標】"}]
[]
[null,null,null,"取組内容例",null,null,null,null,{"$f":"IF(F894=\"\",\"取組内容を追加して下さい。\",\"\")","v":"取組内容を追加して下さい。"}]
[]
[null,null,null,"選択"]
[null,null,null,null,null,{"$f":"INDIRECT(ADDRESS(AZ894,COLUMN('取組選択＞'!$BL$4),1,1,\"取組選択＞\"), TRUE)","v":""},null,null,null,null,null,null,null,null,null,null,null,null,null,null,null,null,null,null,null,null,null,null,null,null,null,null,null,null,null,null,null,null,null,null,null,null,null,null,null,null,null,null,null,null,null,{"$f":"AZ886+1","v":113}]
[]
[]
[null,null,{"$f":"\"【目標】\"&INDIRECT(ADDRESS(AZ902,COLUMN('取組選択＞'!$BJ$4),1,1,\"取組選択＞\"), TRUE)","v":"【目標】"}]
[]
[null,null,null,"取組内容例",null,null,null,null,{"$f":"IF(F902=\"\",\"取組内容を追加して下さい。\",\"\")","v":"取組内容を追加して下さい。"}]
[]
[null,null,null,"選択"]
[null,null,null,null,null,{"$f":"INDIRECT(ADDRESS(AZ902,COLUMN('取組選択＞'!$BL$4),1,1,\"取組選択＞\"), TRUE)","v":""},null,null,null,null,null,null,null,null,null,null,null,null,null,null,null,null,null,null,null,null,null,null,null,null,null,null,null,null,null,null,null,null,null,null,null,null,null,null,null,null,null,null,null,null,null,{"$f":"AZ894+1","v":114}]

{"sheet":"取組追加＞","index":31,"n_rows":14,"n_cols":15,"rows_kept":14,"cut":false,"hidden":false,"merged":[]}
["管理者用シート　リリース時には非表示になります。"]
[]
[null,null,null,null,null,"追加取組",null,null,null,null,null,"退避"]
[null,"選択行No.","取組","目標",null,"選択行No.","元No.","取組","目標","目標元NO",null,"元No.","取組","目標","目標元NO"]
[null,{"$f":"IF(TRIM($C5)=\"\",\"\",MAX($B$4:$B4)+1)","v":""},{"$f":"取組追加!追加取組１","v":" "},{"$f":"取組追加!取組追加用目標１","v":" "},null,{"$f":"IF(MAX($F$4:$F4)+1>MAX($B$5:$B$14),\"\",MAX($F$4:$F4)+1)","v":""},{"$f":"IF($F5=\"\",\"\",VLOOKUP($F5,$B$5:$C$14,1,0)+100)","v":""},{"$f":"IF($F5=\"\",\"\",VLOOKUP($F5,$B$5:$C$14,2,0))","v":""},{"$f":"IF($F5=\"\",\"\",VLOOKUP($F5,$B$5:$D$14,3,0))","v":""},{"$f":"INDEX('目標入力＞'!$Z$5:$Z$60,MATCH($I5,選択目標一覧,0),1)","v":""}]
[null,{"$f":"IF(TRIM($C6)=\"\",\"\",MAX($B$4:$B5)+1)","v":""},{"$f":"取組追加!追加取組２","v":" "},{"$f":"取組追加!取組追加用目標２","v":" "},null,{"$f":"IF(MAX($F$4:$F5)+1>MAX($B$5:$B$14),\"\",MAX($F$4:$F5)+1)","v":""},{"$f":"IF($F6=\"\",\"\",VLOOKUP($F6,$B$5:$C$14,1,0)+100)","v":""},{"$f":"IF($F6=\"\",\"\",VLOOKUP($F6,$B$5:$C$14,2,0))","v":""},{"$f":"IF($F6=\"\",\"\",VLOOKUP($F6,$B$5:$D$14,3,0))","v":""},{"$f":"INDEX('目標入力＞'!$Z$5:$Z$60,MATCH($I6,選択目標一覧,0),1)","v":""}]
[null,{"$f":"IF(TRIM($C7)=\"\",\"\",MAX($B$4:$B6)+1)","v":""},{"$f":"取組追加!追加取組３","v":" "},{"$f":"取組追加!取組追加用目標３","v":" "},null,{"$f":"IF(MAX($F$4:$F6)+1>MAX($B$5:$B$14),\"\",MAX($F$4:$F6)+1)","v":""},{"$f":"IF($F7=\"\",\"\",VLOOKUP($F7,$B$5:$C$14,1,0)+100)","v":""},{"$f":"IF($F7=\"\",\"\",VLOOKUP($F7,$B$5:$C$14,2,0))","v":""},{"$f":"IF($F7=\"\",\"\",VLOOKUP($F7,$B$5:$D$14,3,0))","v":""},{"$f":"INDEX('目標入力＞'!$Z$5:$Z$60,MATCH($I7,選択目標一覧,0),1)","v":""}]
[null,{"$f":"IF(TRIM($C8)=\"\",\"\",MAX($B$4:$B7)+1)","v":""},{"$f":"取組追加!追加取組４","v":" "},{"$f":"取組追加!取組追加用目標４","v":" "},null,{"$f":"IF(MAX($F$4:$F7)+1>MAX($B$5:$B$14),\"\",MAX($F$4:$F7)+1)","v":""},{"$f":"IF($F8=\"\",\"\",VLOOKUP($F8,$B$5:$C$14,1,0)+100)","v":""},{"$f":"IF($F8=\"\",\"\",VLOOKUP($F8,$B$5:$C$14,2,0))","v":""},{"$f":"IF($F8=\"\",\"\",VLOOKUP($F8,$B$5:$D$14,3,0))","v":""},{"$f":"INDEX('目標入力＞'!$Z$5:$Z$60,MATCH($I8,選択目標一覧,0),1)","v":""}]
[null,{"$f":"IF(TRIM($C9)=\"\",\"\",MAX($B$4:$B8)+1)","v":""},{"$f":"取組追加!追加取組５","v":" "},{"$f":"取組追加!取組追加用目標５","v":" "},null,{"$f":"IF(MAX($F$4:$F8)+1>MAX($B$5:$B$14),\"\",MAX($F$4:$F8)+1)","v":""},{"$f":"IF($F9=\"\",\"\",VLOOKUP($F9,$B$5:$C$14,1,0)+100)","v":""},{"$f":"IF($F9=\"\",\"\",VLOOKUP($F9,$B$5:$C$14,2,0))","v":""},{"$f":"IF($F9=\"\",\"\",VLOOKUP($F9,$B$5:$D$14,3,0))","v":""},{"$f":"INDEX('目標入力＞'!$Z$5:$Z$60,MATCH($I9,選択目標一覧,0),1)","v":""}]
[null,{"$f":"IF(TRIM($C10)=\"\",\"\",MAX($B$4:$B9)+1)","v":""},null,null,null,{"$f":"IF(MAX($F$4:$F9)+1>MAX($B$5:$B$14),\"\",MAX($F$4:$F9)+1)","v":""}]
[null,{"$f":"IF(TRIM($C11)=\"\",\"\",MAX($B$4:$B10)+1)","v":""},null,null,null,{"$f":"IF(MAX($F$4:$F10)+1>MAX($B$5:$B$14),\"\",MAX($F$4:$F10)+1)","v":""}]
[null,{"$f":"IF(TRIM($C12)=\"\",\"\",MAX($B$4:$B11)+1)","v":""},null,null,null,{"$f":"IF(MAX($F$4:$F11)+1>MAX($B$5:$B$14),\"\",MAX($F$4:$F11)+1)","v":""}]
[null,{"$f":"IF(TRIM($C13)=\"\",\"\",MAX($B$4:$B12)+1)","v":""},null,null,null,{"$f":"IF(MAX($F$4:$F12)+1>MAX($B$5:$B$14),\"\",MAX($F$4:$F12)+1)","v":""}]
[null,{"$f":"IF(TRIM($C14)=\"\",\"\",MAX($B$4:$B13)+1)","v":""},null,null,null,{"$f":"IF(MAX($F$4:$F13)+1>MAX($B$5:$B$14),\"\",MAX($F$4:$F13)+1)","v":""}]

{"sheet":"取組追加","index":32,"n_rows":39,"n_cols":7,"rows_kept":39,"cut":false,"hidden":false,"merged":[[2,1,2,40],[34,3,35,35],[38,3,39,35],[13,2,14,4],[13,5,14,5],[13,6,14,37],[22,3,23,35],[26,3,27,35],[30,3,31,35],[21,5,21,35],[25,5,25,35],[29,5,29,35],[33,5,33,35],[37,5,37,35]]}
[]
[null,null,null,null,{"$f":"初期設定!$E$9","v":"中小企業のための女性活躍『行動計画』策定プログラム"}]
[null," "]
[]
[]
[]
[]
[]
[]
[]
[]
[null,"＜ＳＴＥＰ６＞　取組内容例から取組内容を選びます"]
[]
[null,null,{"$f":"タイプ分類名","v":"⑥"},null,null,null,{"$f":"タイプ分類特徴","v":"女性の活躍が比較的進んでいる企業"}]
[]
[]
[null,{"$f":"\"○タイプ\"&C14&\" 　独自の取組内容を入力\"","v":"○タイプ⑥ 　独自の取組内容を入力"}]
[]
[null,null,"まず、目標欄にてプルダウンでこれまでに設定した目標から該当する目標を選択し、次に入力欄に独自の取組内容を直接入力してください。"]
[null,null,"入力が完了したら「入力完了」ボタンを押して取組内容選択の画面に戻ってください。入力した取組内容が画面に表示されます。"]
[]
[null,null,"目標",null,null," "]
[null,null,"●"," "]
[]
[]
[null,null,"目標",null,null," "]
[null,null,"●"," "]
[]
[]
[null,null,"目標",null,null," "]
[null,null,"●"," "]
[]
[]
[null,null,"目標",null,null," "]
[null,null,"●"," "]
[]
[]
[null,null,"目標",null,null," "]
[null,null,"●"," "]

{"sheet":"取組期間設定","index":33,"n_rows":22,"n_cols":28,"rows_kept":22,"cut":false,"hidden":false,"merged":[[2,1,2,40],[21,9,21,10],[21,11,21,12],[21,19,21,20],[21,21,21,22],[13,2,14,4],[13,5,14,5],[13,6,14,37]]}
[]
[null,null,null,null,{"$f":"初期設定!$E$9","v":"中小企業のための女性活躍『行動計画』策定プログラム"}]
[null," "]
[]
[]
[]
[]
[]
[]
[]
[]
[null,"＜ＳＴＥＰ７＞　具体的な計画期間を設定します"]
[]
[null,null,{"$f":"タイプ分類名","v":"⑥"},null,null,null,{"$f":"タイプ分類特徴","v":"女性の活躍が比較的進んでいる企業"}]
[]
[]
[]
[null,null,"選択した取組内容を実施する期間を、「行動計画期間」として設定しましょう。"]
[null,null,"計画期間は、２～５年で区切り、定期的に進捗を確認しながら改定を行いましょう。"]
[]
[]
[null,null,null,null,"● 計画期間： 　",null,null,null,null,"令和",null,null,null,"年",null,"月",null,"日","～","令和",null,null,null,"年",null,"月",null,"日"]

{"sheet":"取組期間分割＞","index":34,"n_rows":104,"n_cols":30,"rows_kept":104,"cut":false,"hidden":false,"merged":[]}
["管理者用シート　リリース時には非表示になります。"]
[null,10]
[null,null,null,null,null,null,null,null,null,"入力",null,null,null,null,null,null,null,null,"結果",null,null,null,null,null,null,null,"退避"]
[null,"選択行No.","取組No.","行番号","取組","取組分割","目標",null,null,"選択行No.","元No.","取組No.","年号","年","月","取組","目標",null,"選択行No.","元No.","取組No.","年号","年","月","取組",null,"年号","年","月","取組"]
[null,{"$f":"IF(TRIM($C5)=\"\",\"\",MAX($B$4:$B4)+1)","v":""},{"$f":"INDIRECT(ADDRESS(ROW('取組選択＞'!$BR$5)+TRUNC((ROW()-ROW($C$4)-1)/$B$2),COLUMN('取組選択＞'!$BR$5),1,1,\"取組選択＞\"))","v":""},{"$f":"MOD(ROW()-ROW($D$4)-1,$B$2)+1","v":1},{"$f":"IF($C5=\"\",\"\",INDIRECT(ADDRESS(MATCH($C5,取組期間分割一覧!$B$4:$B$108,0)+ROW(取組期間分割一覧!$B$3),COLUMN(取組期間分割一覧!$D$4),1,1,\"取組期間分割一覧\"),TRUE)&\"\")","v":""},{"$f":"IF($C5=\"\",\"\",INDIRECT(ADDRESS(MATCH($C5,取組期間分割一覧!$B$4:$B$108,0)+ROW(取組期間分割一覧!$B$3),COLUMN(取組期間分割一覧!$D$4)+$D5,1,1,\"取組期間分割一覧\"),TRUE)&\"\")","v":""},{"$f":"INDIRECT(ADDRESS(ROW('取組選択＞'!$BQ$5)+TRUNC((ROW()-ROW($C$4)-1)/$B$2),COLUMN('取組選択＞'!$BQ$5),1,1,\"取組選択＞\"))","v":""},null,46,{"$f":"IF(TRIM(P5)=\"\",\"\",MAX($J$3:$J4)+1)","v":""},{"$f":"B5","v":""},{"$f":"C5","v":""},{"$f":"INDIRECT(\"取組期間分割!$E\"&'取組期間分割＞'!$I5)&\"\"","v":"令和"},{"$f":"INDIRECT(\"取組期間分割!$G\"&'取組期間分割＞'!$I5)&\"\"","v":""},{"$f":"INDIRECT(\"取組期間分割!$J\"&'取組期間分割＞'!$I5)&\"\"","v":""},{"$f":"INDIRECT(\"取組期間分割!$O\"&'取組期間分割＞'!$I5)&\"\"","v":""},{"$f":"G5","v":""},null,{"$f":"IF(MAX($S$4:$S4)+1>MAX($J$5:$J$104),\"\",MAX($S$4:$S4)+1)","v":""},{"$f":"IF($S5=\"\",\"\",VLOOKUP($S5,$J$5:$P$104,2,0))","v":""},{"$f":"IF($S5=\"\",\"\",VLOOKUP($S5,$J$5:$P$104,3,0))","v":""},{"$f":"IF($S5=\"\",\"\",VLOOKUP($S5,$J$5:$P$104,4,0))","v":""},{"$f":"IF($S5=\"\",\"\",VLOOKUP($S5,$J$5:$P$104,5,0))","v":""},{"$f":"IF($S5=\"\",\"\",VLOOKUP($S5,$J$5:$P$104,6,0))","v":""},{"$f":"IF($S5=\"\",\"\",VLOOKUP($S5,$J$5:$P$104,7,0))","v":""}]
[null,{"$f":"IF(TRIM($C6)=\"\",\"\",MAX($B$4:$B5)+1)","v":""},{"$f":"C5","v":""},{"$f":"MOD(ROW()-ROW($D$4)-1,$B$2)+1","v":2},{"$f":"IF($C6=\"\",\"\",INDIRECT(ADDRESS(MATCH($C6,取組期間分割一覧!$B$4:$B$108,0)+ROW(取組期間分割一覧!$B$3),COLUMN(取組期間分割一覧!$D$4),1,1,\"取組期間分割一覧\"),TRUE)&\"\")","v":""},{"$f":"IF(C6=\"\",\"\",INDIRECT(ADDRESS(MATCH(C6,取組期間分割一覧!$B$4:$B$108,0)+ROW(取組期間分割一覧!$B$3),COLUMN(取組期間分割一覧!$D$4)+$D6,1,1,\"取組期間分割一覧\"),TRUE)&\"\")","v":""},{"$f":"G5","v":""},null,{"$f":"I5+2","v":48},{"$f":"IF(TRIM(P6)=\"\",\"\",MAX($J$3:$J5)+1)","v":""},"","",{"$f":"INDIRECT(\"取組期間分割!$E\"&'取組期間分割＞'!$I6)&\"\"","v":"令和"},{"$f":"INDIRECT(\"取組期間分割!$G\"&'取組期間分割＞'!$I6)&\"\"","v":""},{"$f":"INDIRECT(\"取組期間分割!$J\"&'取組期間分割＞'!$I6)&\"\"","v":""},{"$f":"INDIRECT(\"取組期間分割!$O\"&'取組期間分割＞'!$I6)&\"\"","v":""},{"$f":"G6","v":""},null,{"$f":"IF(MAX($S$4:$S5)+1>MAX($J$5:$J$104),\"\",MAX($S$4:$S5)+1)","v":""},"",{"$f":"IF($S6=\"\",\"\",VLOOKUP($S6,$J$5:$P$104,3,0))","v":""},{"$f":"IF($S6=\"\",\"\",VLOOKUP($S6,$J$5:$P$104,4,0))","v":""},{"$f":"IF($S6=\"\",\"\",VLOOKUP($S6,$J$5:$P$104,5,0))","v":""},{"$f":"IF($S6=\"\",\"\",VLOOKUP($S6,$J$5:$P$104,6,0))","v":""},{"$f":"IF($S6=\"\",\"\",VLOOKUP($S6,$J$5:$P$104,7,0))","v":""}]
[null,{"$f":"IF(TRIM($C7)=\"\",\"\",MAX($B$4:$B6)+1)","v":""},{"$f":"C6","v":""},3,{"$f":"IF($C7=\"\",\"\",INDIRECT(ADDRESS(MATCH($C7,取組期間分割一覧!$B$4:$B$108,0)+ROW(取組期間分割一覧!$B$3),COLUMN(取組期間分割一覧!$D$4),1,1,\"取組期間分割一覧\"),TRUE)&\"\")","v":""},{"$f":"IF(C7=\"\",\"\",INDIRECT(ADDRESS(MATCH(C7,取組期間分割一覧!$B$4:$B$108,0)+ROW(取組期間分割一覧!$B$3),COLUMN(取組期間分割一覧!$D$4)+$D7,1,1,\"取組期間分割一覧\"),TRUE)&\"\")","v":""},"",null,50,{"$f":"IF(TRIM(P7)=\"\",\"\",MAX($J$3:$J6)+1)","v":""},"","",{"$f":"INDIRECT(\"取組期間分割!$E\"&'取組期間分割＞'!$I7)&\"\"","v":"令和"},{"$f":"INDIRECT(\"取組期間分割!$G\"&'取組期間分割＞'!$I7)&\"\"","v":""},{"$f":"INDIRECT(\"取組期間分割!$J\"&'取組期間分割＞'!$I7)&\"\"","v":""},{"$f":"INDIRECT(\"取組期間分割!$O\"&'取組期間分割＞'!$I7)&\"\"","v":""},"",null,{"$f":"IF(MAX($S$4:$S6)+1>MAX($J$5:$J$104),\"\",MAX($S$4:$S6)+1)","v":""},"","","","","",""]
[null,{"$f":"IF(TRIM($C8)=\"\",\"\",MAX($B$4:$B7)+1)","v":""},"",4,{"$f":"IF($C8=\"\",\"\",INDIRECT(ADDRESS(MATCH($C8,取組期間分割一覧!$B$4:$B$108,0)+ROW(取組期間分割一覧!$B$3),COLUMN(取組期間分割一覧!$D$4),1,1,\"取組期間分割一覧\"),TRUE)&\"\")","v":""},{"$f":"IF(C8=\"\",\"\",INDIRECT(ADDRESS(MATCH(C8,取組期間分割一覧!$B$4:$B$108,0)+ROW(取組期間分割一覧!$B$3),COLUMN(取組期間分割一覧!$D$4)+$D8,1,1,\"取組期間分割一覧\"),TRUE)&\"\")","v":""},"",null,52,{"$f":"IF(TRIM(P8)=\"\",\"\",MAX($J$3:$J7)+1)","v":""},"","",{"$f":"INDIRECT(\"取組期間分割!$E\"&'取組期間分割＞'!$I8)&\"\"","v":"令和"},{"$f":"INDIRECT(\"取組期間分割!$G\"&'取組期間分割＞'!$I8)&\"\"","v":""},{"$f":"INDIRECT(\"取組期間分割!$J\"&'取組期間分割＞'!$I8)&\"\"","v":""},{"$f":"INDIRECT(\"取組期間分割!$O\"&'取組期間分割＞'!$I8)&\"\"","v":""},"",null,{"$f":"IF(MAX($S$4:$S7)+1>MAX($J$5:$J$104),\"\",MAX($S$4:$S7)+1)","v":""},"","","","","",""]
[null,{"$f":"IF(TRIM($C9)=\"\",\"\",MAX($B$4:$B8)+1)","v":""},"",5,{"$f":"IF($C9=\"\",\"\",INDIRECT(ADDRESS(MATCH($C9,取組期間分割一覧!$B$4:$B$108,0)+ROW(取組期間分割一覧!$B$3),COLUMN(取組期間分割一覧!$D$4),1,1,\"取組期間分割一覧\"),TRUE)&\"\")","v":""},{"$f":"IF(C9=\"\",\"\",INDIRECT(ADDRESS(MATCH(C9,取組期間分割一覧!$B$4:$B$108,0)+ROW(取組期間分割一覧!$B$3),COLUMN(取組期間分割一覧!$D$4)+$D9,1,1,\"取組期間分割一覧\"),TRUE)&\"\")","v":""},"",null,54,{"$f":"IF(TRIM(P9)=\"\",\"\",MAX($J$3:$J8)+1)","v":""},"","",{"$f":"INDIRECT(\"取組期間分割!$E\"&'取組期間分割＞'!$I9)&\"\"","v":"令和"},{"$f":"INDIRECT(\"取組期間分割!$G\"&'取組期間分割＞'!$I9)&\"\"","v":""},{"$f":"INDIRECT(\"取組期間分割!$J\"&'取組期間分割＞'!$I9)&\"\"","v":""},{"$f":"INDIRECT(\"取組期間分割!$O\"&'取組期間分割＞'!$I9)&\"\"","v":""},"",null,{"$f":"IF(MAX($S$4:$S8)+1>MAX($J$5:$J$104),\"\",MAX($S$4:$S8)+1)","v":""},"","","","","",""]
[null,{"$f":"IF(TRIM($C10)=\"\",\"\",MAX($B$4:$B9)+1)","v":""},"",6,{"$f":"IF($C10=\"\",\"\",INDIRECT(ADDRESS(MATCH($C10,取組期間分割一覧!$B$4:$B$108,0)+ROW(取組期間分割一覧!$B$3),COLUMN(取組期間分割一覧!$D$4),1,1,\"取組期間分割一覧\"),TRUE)&\"\")","v":""},{"$f":"IF(C10=\"\",\"\",INDIRECT(ADDRESS(MATCH(C10,取組期間分割一覧!$B$4:$B$108,0)+ROW(取組期間分割一覧!$B$3),COLUMN(取組期間分割一覧!$D$4)+$D10,1,1,\"取組期間分割一覧\"),TRUE)&\"\")","v":""},"",null,56,{"$f":"IF(TRIM(P10)=\"\",\"\",MAX($J$3:$J9)+1)","v":""},"","",{"$f":"INDIRECT(\"取組期間分割!$E\"&'取組期間分割＞'!$I10)&\"\"","v":"令和"},{"$f":"INDIRECT(\"取組期間分割!$G\"&'取組期間分割＞'!$I10)&\"\"","v":""},{"$f":"INDIRECT(\"取組期間分割!$J\"&'取組期間分割＞'!$I10)&\"\"","v":""},{"$f":"INDIRECT(\"取組期間分割!$O\"&'取組期間分割＞'!$I10)&\"\"","v":""},"",null,{"$f":"IF(MAX($S$4:$S9)+1>MAX($J$5:$J$104),\"\",MAX($S$4:$S9)+1)","v":""},"","","","","",""]
[null,{"$f":"IF(TRIM($C11)=\"\",\"\",MAX($B$4:$B10)+1)","v":""},"",7,{"$f":"IF($C11=\"\",\"\",INDIRECT(ADDRESS(MATCH($C11,取組期間分割一覧!$B$4:$B$108,0)+ROW(取組期間分割一覧!$B$3),COLUMN(取組期間分割一覧!$D$4),1,1,\"取組期間分割一覧\"),TRUE)&\"\")","v":""},{"$f":"IF(C11=\"\",\"\",INDIRECT(ADDRESS(MATCH(C11,取組期間分割一覧!$B$4:$B$108,0)+ROW(取組期間分割一覧!$B$3),COLUMN(取組期間分割一覧!$D$4)+$D11,1,1,\"取組期間分割一覧\"),TRUE)&\"\")","v":""},"",null,58,{"$f":"IF(TRIM(P11)=\"\",\"\",MAX($J$3:$J10)+1)","v":""},"","",{"$f":"INDIRECT(\"取組期間分割!$E\"&'取組期間分割＞'!$I11)&\"\"","v":"令和"},{"$f":"INDIRECT(\"取組期間分割!$G\"&'取組期間分割＞'!$I11)&\"\"","v":""},{"$f":"INDIRECT(\"取組期間分割!$J\"&'取組期間分割＞'!$I11)&\"\"","v":""},{"$f":"INDIRECT(\"取組期間分割!$O\"&'取組期間分割＞'!$I11)&\"\"","v":""},"",null,{"$f":"IF(MAX($S$4:$S10)+1>MAX($J$5:$J$104),\"\",MAX($S$4:$S10)+1)","v":""},"","","","","",""]
[null,{"$f":"IF(TRIM($C12)=\"\",\"\",MAX($B$4:$B11)+1)","v":""},"",8,{"$f":"IF($C12=\"\",\"\",INDIRECT(ADDRESS(MATCH($C12,取組期間分割一覧!$B$4:$B$108,0)+ROW(取組期間分割一覧!$B$3),COLUMN(取組期間分割一覧!$D$4),1,1,\"取組期間分割一覧\"),TRUE)&\"\")","v":""},{"$f":"IF(C12=\"\",\"\",INDIRECT(ADDRESS(MATCH(C12,取組期間分割一覧!$B$4:$B$108,0)+ROW(取組期間分割一覧!$B$3),COLUMN(取組期間分割一覧!$D$4)+$D12,1,1,\"取組期間分割一覧\"),TRUE)&\"\")","v":""},"",null,60,{"$f":"IF(TRIM(P12)=\"\",\"\",MAX($J$3:$J11)+1)","v":""},"","",{"$f":"INDIRECT(\"取組期間分割!$E\"&'取組期間分割＞'!$I12)&\"\"","v":"令和"},{"$f":"INDIRECT(\"取組期間分割!$G\"&'取組期間分割＞'!$I12)&\"\"","v":""},{"$f":"INDIRECT(\"取組期間分割!$J\"&'取組期間分割＞'!$I12)&\"\"","v":""},{"$f":"INDIRECT(\"取組期間分割!$O\"&'取組期間分割＞'!$I12)&\"\"","v":""},"",null,{"$f":"IF(MAX($S$4:$S11)+1>MAX($J$5:$J$104),\"\",MAX($S$4:$S11)+1)","v":""},"","","","","",""]
[null,{"$f":"IF(TRIM($C13)=\"\",\"\",MAX($B$4:$B12)+1)","v":""},"",9,{"$f":"IF($C13=\"\",\"\",INDIRECT(ADDRESS(MATCH($C13,取組期間分割一覧!$B$4:$B$108,0)+ROW(取組期間分割一覧!$B$3),COLUMN(取組期間分割一覧!$D$4),1,1,\"取組期間分割一覧\"),TRUE)&\"\")","v":""},{"$f":"IF(C13=\"\",\"\",INDIRECT(ADDRESS(MATCH(C13,取組期間分割一覧!$B$4:$B$108,0)+ROW(取組期間分割一覧!$B$3),COLUMN(取組期間分割一覧!$D$4)+$D13,1,1,\"取組期間分割一覧\"),TRUE)&\"\")","v":""},"",null,62,{"$f":"IF(TRIM(P13)=\"\",\"\",MAX($J$3:$J12)+1)","v":""},"","",{"$f":"INDIRECT(\"取組期間分割!$E\"&'取組期間分割＞'!$I13)&\"\"","v":"令和"},{"$f":"INDIRECT(\"取組期間分割!$G\"&'取組期間分割＞'!$I13)&\"\"","v":""},{"$f":"INDIRECT(\"取組期間分割!$J\"&'取組期間分割＞'!$I13)&\"\"","v":""},{"$f":"INDIRECT(\"取組期間分割!$O\"&'取組期間分割＞'!$I13)&\"\"","v":""},"",null,{"$f":"IF(MAX($S$4:$S12)+1>MAX($J$5:$J$104),\"\",MAX($S$4:$S12)+1)","v":""},"","","","","",""]
[null,{"$f":"IF(TRIM($C14)=\"\",\"\",MAX($B$4:$B13)+1)","v":""},"",10,{"$f":"IF($C14=\"\",\"\",INDIRECT(ADDRESS(MATCH($C14,取組期間分割一覧!$B$4:$B$108,0)+ROW(取組期間分割一覧!$B$3),COLUMN(取組期間分割一覧!$D$4),1,1,\"取組期間分割一覧\"),TRUE)&\"\")","v":""},{"$f":"IF(C14=\"\",\"\",INDIRECT(ADDRESS(MATCH(C14,取組期間分割一覧!$B$4:$B$108,0)+ROW(取組期間分割一覧!$B$3),COLUMN(取組期間分割一覧!$D$4)+$D14,1,1,\"取組期間分割一覧\"),TRUE)&\"\")","v":""},"",null,64,{"$f":"IF(TRIM(P14)=\"\",\"\",MAX($J$3:$J13)+1)","v":""},"","",{"$f":"INDIRECT(\"取組期間分割!$E\"&'取組期間分割＞'!$I14)&\"\"","v":"令和"},{"$f":"INDIRECT(\"取組期間分割!$G\"&'取組期間分割＞'!$I14)&\"\"","v":""},{"$f":"INDIRECT(\"取組期間分割!$J\"&'取組期間分割＞'!$I14)&\"\"","v":""},{"$f":"INDIRECT(\"取組期間分割!$O\"&'取組期間分割＞'!$I14)&\"\"","v":""},"",null,{"$f":"IF(MAX($S$4:$S13)+1>MAX($J$5:$J$104),\"\",MAX($S$4:$S13)+1)","v":""},"","","","","",""]
[null,{"$f":"IF(TRIM($C15)=\"\",\"\",MAX($B$4:$B14)+1)","v":""},{"$f":"INDIRECT(ADDRESS(ROW('取組選択＞'!$BR$5)+TRUNC((ROW()-ROW($C$4)-1)/$B$2),COLUMN('取組選択＞'!$BR$5),1,1,\"取組選択＞\"))","v":""},1,{"$f":"IF($C15=\"\",\"\",INDIRECT(ADDRESS(MATCH($C15,取組期間分割一覧!$B$4:$B$108,0)+ROW(取組期間分割一覧!$B$3),COLUMN(取組期間分割一覧!$D$4),1,1,\"取組期間分割一覧\"),TRUE)&\"\")","v":""},{"$f":"IF(C15=\"\",\"\",INDIRECT(ADDRESS(MATCH(C15,取組期間分割一覧!$B$4:$B$108,0)+ROW(取組期間分割一覧!$B$3),COLUMN(取組期間分割一覧!$D$4)+$D15,1,1,\"取組期間分割一覧\"),TRUE)&\"\")","v":""},{"$f":"INDIRECT(ADDRESS(ROW('取組選択＞'!$BQ$5)+TRUNC((ROW()-ROW($C$4)-1)/$B$2),COLUMN('取組選択＞'!$BQ$5),1,1,\"取組選択＞\"))","v":""},null,{"$f":"I14+8","v":72},{"$f":"IF(TRIM(P15)=\"\",\"\",MAX($J$3:$J14)+1)","v":""},"","",{"$f":"INDIRECT(\"取組期間分割!$E\"&'取組期間分割＞'!$I15)&\"\"","v":"令和"},{"$f":"INDIRECT(\"取組期間分割!$G\"&'取組期間分割＞'!$I15)&\"\"","v":""},{"$f":"INDIRECT(\"取組期間分割!$J\"&'取組期間分割＞'!$I15)&\"\"","v":""},{"$f":"INDIRECT(\"取組期間分割!$O\"&'取組期間分割＞'!$I15)&\"\"","v":""},"",null,{"$f":"IF(MAX($S$4:$S14)+1>MAX($J$5:$J$104),\"\",MAX($S$4:$S14)+1)","v":""},"","","","","",""]
[null,{"$f":"IF(TRIM($C16)=\"\",\"\",MAX($B$4:$B15)+1)","v":""},{"$f":"C15","v":""},2,{"$f":"IF($C16=\"\",\"\",INDIRECT(ADDRESS(MATCH($C16,取組期間分割一覧!$B$4:$B$108,0)+ROW(取組期間分割一覧!$B$3),COLUMN(取組期間分割一覧!$D$4),1,1,\"取組期間分割一覧\"),TRUE)&\"\")","v":""},{"$f":"IF(C16=\"\",\"\",INDIRECT(ADDRESS(MATCH(C16,取組期間分割一覧!$B$4:$B$108,0)+ROW(取組期間分割一覧!$B$3),COLUMN(取組期間分割一覧!$D$4)+$D16,1,1,\"取組期間分割一覧\"),TRUE)&\"\")","v":""},{"$f":"G15","v":""},null,{"$f":"I15+2","v":74},{"$f":"IF(TRIM(P16)=\"\",\"\",MAX($J$3:$J15)+1)","v":""},"","",{"$f":"INDIRECT(\"取組期間分割!$E\"&'取組期間分割＞'!$I16)&\"\"","v":"令和"},{"$f":"INDIRECT(\"取組期間分割!$G\"&'取組期間分割＞'!$I16)&\"\"","v":""},{"$f":"INDIRECT(\"取組期間分割!$J\"&'取組期間分割＞'!$I16)&\"\"","v":""},{"$f":"INDIRECT(\"取組期間分割!$O\"&'取組期間分割＞'!$I16)&\"\"","v":""},"",null,{"$f":"IF(MAX($S$4:$S15)+1>MAX($J$5:$J$104),\"\",MAX($S$4:$S15)+1)","v":""},"","","","","",""]
[null,{"$f":"IF(TRIM($C17)=\"\",\"\",MAX($B$4:$B16)+1)","v":""},{"$f":"C16","v":""},3,{"$f":"IF($C17=\"\",\"\",INDIRECT(ADDRESS(MATCH($C17,取組期間分割一覧!$B$4:$B$108,0)+ROW(取組期間分割一覧!$B$3),COLUMN(取組期間分割一覧!$D$4),1,1,\"取組期間分割一覧\"),TRUE)&\"\")","v":""},{"$f":"IF(C17=\"\",\"\",INDIRECT(ADDRESS(MATCH(C17,取組期間分割一覧!$B$4:$B$108,0)+ROW(取組期間分割一覧!$B$3),COLUMN(取組期間分割一覧!$D$4)+$D17,1,1,\"取組期間分割一覧\"),TRUE)&\"\")","v":""},"",null,76,{"$f":"IF(TRIM(P17)=\"\",\"\",MAX($J$3:$J16)+1)","v":""},"","",{"$f":"INDIRECT(\"取組期間分割!$E\"&'取組期間分割＞'!$I17)&\"\"","v":"令和"},{"$f":"INDIRECT(\"取組期間分割!$G\"&'取組期間分割＞'!$I17)&\"\"","v":""},{"$f":"INDIRECT(\"取組期間分割!$J\"&'取組期間分割＞'!$I17)&\"\"","v":""},{"$f":"INDIRECT(\"取組期間分割!$O\"&'取組期間分割＞'!$I17)&\"\"","v":""},"",null,{"$f":"IF(MAX($S$4:$S16)+1>MAX($J$5:$J$104),\"\",MAX($S$4:$S16)+1)","v":""},"","","","","",""]
[null,{"$f":"IF(TRIM($C18)=\"\",\"\",MAX($B$4:$B17)+1)","v":""},"",4,{"$f":"IF($C18=\"\",\"\",INDIRECT(ADDRESS(MATCH($C18,取組期間分割一覧!$B$4:$B$108,0)+ROW(取組期間分割一覧!$B$3),COLUMN(取組期間分割一覧!$D$4),1,1,\"取組期間分割一覧\"),TRUE)&\"\")","v":""},{"$f":"IF(C18=\"\",\"\",INDIRECT(ADDRESS(MATCH(C18,取組期間分割一覧!$B$4:$B$108,0)+ROW(取組期間分割一覧!$B$3),COLUMN(取組期間分割一覧!$D$4)+$D18,1,1,\"取組期間分割一覧\"),TRUE)&\"\")","v":""},"",null,78,{"$f":"IF(TRIM(P18)=\"\",\"\",MAX($J$3:$J17)+1)","v":""},"","",{"$f":"INDIRECT(\"取組期間分割!$E\"&'取組期間分割＞'!$I18)&\"\"","v":"令和"},{"$f":"INDIRECT(\"取組期間分割!$G\"&'取組期間分割＞'!$I18)&\"\"","v":""},{"$f":"INDIRECT(\"取組期間分割!$J\"&'取組期間分割＞'!$I18)&\"\"","v":""},{"$f":"INDIRECT(\"取組期間分割!$O\"&'取組期間分割＞'!$I18)&\"\"","v":""},"",null,{"$f":"IF(MAX($S$4:$S17)+1>MAX($J$5:$J$104),\"\",MAX($S$4:$S17)+1)","v":""},"","","","","",""]
[null,{"$f":"IF(TRIM($C19)=\"\",\"\",MAX($B$4:$B18)+1)","v":""},"",5,{"$f":"IF($C19=\"\",\"\",INDIRECT(ADDRESS(MATCH($C19,取組期間分割一覧!$B$4:$B$108,0)+ROW(取組期間分割一覧!$B$3),COLUMN(取組期間分割一覧!$D$4),1,1,\"取組期間分割一覧\"),TRUE)&\"\")","v":""},{"$f":"IF(C19=\"\",\"\",INDIRECT(ADDRESS(MATCH(C19,取組期間分割一覧!$B$4:$B$108,0)+ROW(取組期間分割一覧!$B$3),COLUMN(取組期間分割一覧!$D$4)+$D19,1,1,\"取組期間分割一覧\"),TRUE)&\"\")","v":""},"",null,80,{"$f":"IF(TRIM(P19)=\"\",\"\",MAX($J$3:$J18)+1)","v":""},"","",{"$f":"INDIRECT(\"取組期間分割!$E\"&'取組期間分割＞'!$I19)&\"\"","v":"令和"},{"$f":"INDIRECT(\"取組期間分割!$G\"&'取組期間分割＞'!$I19)&\"\"","v":""},{"$f":"INDIRECT(\"取組期間分割!$J\"&'取組期間分割＞'!$I19)&\"\"","v":""},{"$f":"INDIRECT(\"取組期間分割!$O\"&'取組期間分割＞'!$I19)&\"\"","v":""},"",null,{"$f":"IF(MAX($S$4:$S18)+1>MAX($J$5:$J$104),\"\",MAX($S$4:$S18)+1)","v":""},"","","","","",""]
[null,{"$f":"IF(TRIM($C20)=\"\",\"\",MAX($B$4:$B19)+1)","v":""},"",6,{"$f":"IF($C20=\"\",\"\",INDIRECT(ADDRESS(MATCH($C20,取組期間分割一覧!$B$4:$B$108,0)+ROW(取組期間分割一覧!$B$3),COLUMN(取組期間分割一覧!$D$4),1,1,\"取組期間分割一覧\"),TRUE)&\"\")","v":""},{"$f":"IF(C20=\"\",\"\",INDIRECT(ADDRESS(MATCH(C20,取組期間分割一覧!$B$4:$B$108,0)+ROW(取組期間分割一覧!$B$3),COLUMN(取組期間分割一覧!$D$4)+$D20,1,1,\"取組期間分割一覧\"),TRUE)&\"\")","v":""},"",null,82,{"$f":"IF(TRIM(P20)=\"\",\"\",MAX($J$3:$J19)+1)","v":""},"","",{"$f":"INDIRECT(\"取組期間分割!$E\"&'取組期間分割＞'!$I20)&\"\"","v":"令和"},{"$f":"INDIRECT(\"取組期間分割!$G\"&'取組期間分割＞'!$I20)&\"\"","v":""},{"$f":"INDIRECT(\"取組期間分割!$J\"&'取組期間分割＞'!$I20)&\"\"","v":""},{"$f":"INDIRECT(\"取組期間分割!$O\"&'取組期間分割＞'!$I20)&\"\"","v":""},"",null,{"$f":"IF(MAX($S$4:$S19)+1>MAX($J$5:$J$104),\"\",MAX($S$4:$S19)+1)","v":""},"","","","","",""]
[null,{"$f":"IF(TRIM($C21)=\"\",\"\",MAX($B$4:$B20)+1)","v":""},"",7,{"$f":"IF($C21=\"\",\"\",INDIRECT(ADDRESS(MATCH($C21,取組期間分割一覧!$B$4:$B$108,0)+ROW(取組期間分割一覧!$B$3),COLUMN(取組期間分割一覧!$D$4),1,1,\"取組期間分割一覧\"),TRUE)&\"\")","v":""},{"$f":"IF(C21=\"\",\"\",INDIRECT(ADDRESS(MATCH(C21,取組期間分割一覧!$B$4:$B$108,0)+ROW(取組期間分割一覧!$B$3),COLUMN(取組期間分割一覧!$D$4)+$D21,1,1,\"取組期間分割一覧\"),TRUE)&\"\")","v":""},"",null,84,{"$f":"IF(TRIM(P21)=\"\",\"\",MAX($J$3:$J20)+1)","v":""},"","",{"$f":"INDIRECT(\"取組期間分割!$E\"&'取組期間分割＞'!$I21)&\"\"","v":"令和"},{"$f":"INDIRECT(\"取組期間分割!$G\"&'取組期間分割＞'!$I21)&\"\"","v":""},{"$f":"INDIRECT(\"取組期間分割!$J\"&'取組期間分割＞'!$I21)&\"\"","v":""},{"$f":"INDIRECT(\"取組期間分割!$O\"&'取組期間分割＞'!$I21)&\"\"","v":""},"",null,{"$f":"IF(MAX($S$4:$S20)+1>MAX($J$5:$J$104),\"\",MAX($S$4:$S20)+1)","v":""},"","","","","",""]
[null,{"$f":"IF(TRIM($C22)=\"\",\"\",MAX($B$4:$B21)+1)","v":""},"",8,{"$f":"IF($C22=\"\",\"\",INDIRECT(ADDRESS(MATCH($C22,取組期間分割一覧!$B$4:$B$108,0)+ROW(取組期間分割一覧!$B$3),COLUMN(取組期間分割一覧!$D$4),1,1,\"取組期間分割一覧\"),TRUE)&\"\")","v":""},{"$f":"IF(C22=\"\",\"\",INDIRECT(ADDRESS(MATCH(C22,取組期間分割一覧!$B$4:$B$108,0)+ROW(取組期間分割一覧!$B$3),COLUMN(取組期間分割一覧!$D$4)+$D22,1,1,\"取組期間分割一覧\"),TRUE)&\"\")","v":""},"",null,86,{"$f":"IF(TRIM(P22)=\"\",\"\",MAX($J$3:$J21)+1)","v":""},"","",{"$f":"INDIRECT(\"取組期間分割!$E\"&'取組期間分割＞'!$I22)&\"\"","v":"令和"},{"$f":"INDIRECT(\"取組期間分割!$G\"&'取組期間分割＞'!$I22)&\"\"","v":""},{"$f":"INDIRECT(\"取組期間分割!$J\"&'取組期間分割＞'!$I22)&\"\"","v":""},{"$f":"INDIRECT(\"取組期間分割!$O\"&'取組期間分割＞'!$I22)&\"\"","v":""},"",null,{"$f":"IF(MAX($S$4:$S21)+1>MAX($J$5:$J$104),\"\",MAX($S$4:$S21)+1)","v":""},"","","","","",""]
[null,{"$f":"IF(TRIM($C23)=\"\",\"\",MAX($B$4:$B22)+1)","v":""},"",9,{"$f":"IF($C23=\"\",\"\",INDIRECT(ADDRESS(MATCH($C23,取組期間分割一覧!$B$4:$B$108,0)+ROW(取組期間分割一覧!$B$3),COLUMN(取組期間分割一覧!$D$4),1,1,\"取組期間分割一覧\"),TRUE)&\"\")","v":""},{"$f":"IF(C23=\"\",\"\",INDIRECT(ADDRESS(MATCH(C23,取組期間分割一覧!$B$4:$B$108,0)+ROW(取組期間分割一覧!$B$3),COLUMN(取組期間分割一覧!$D$4)+$D23,1,1,\"取組期間分割一覧\"),TRUE)&\"\")","v":""},"",null,88,{"$f":"IF(TRIM(P23)=\"\",\"\",MAX($J$3:$J22)+1)","v":""},"","",{"$f":"INDIRECT(\"取組期間分割!$E\"&'取組期間分割＞'!$I23)&\"\"","v":"令和"},{"$f":"INDIRECT(\"取組期間分割!$G\"&'取組期間分割＞'!$I23)&\"\"","v":""},{"$f":"INDIRECT(\"取組期間分割!$J\"&'取組期間分割＞'!$I23)&\"\"","v":""},{"$f":"INDIRECT(\"取組期間分割!$O\"&'取組期間分割＞'!$I23)&\"\"","v":""},"",null,{"$f":"IF(MAX($S$4:$S22)+1>MAX($J$5:$J$104),\"\",MAX($S$4:$S22)+1)","v":""},"","","","","",""]
[null,{"$f":"IF(TRIM($C24)=\"\",\"\",MAX($B$4:$B23)+1)","v":""},"",10,{"$f":"IF($C24=\"\",\"\",INDIRECT(ADDRESS(MATCH($C24,取組期間分割一覧!$B$4:$B$108,0)+ROW(取組期間分割一覧!$B$3),COLUMN(取組期間分割一覧!$D$4),1,1,\"取組期間分割一覧\"),TRUE)&\"\")","v":""},{"$f":"IF(C24=\"\",\"\",INDIRECT(ADDRESS(MATCH(C24,取組期間分割一覧!$B$4:$B$108,0)+ROW(取組期間分割一覧!$B$3),COLUMN(取組期間分割一覧!$D$4)+$D24,1,1,\"取組期間分割一覧\"),TRUE)&\"\")","v":""},"",null,90,{"$f":"IF(TRIM(P24)=\"\",\"\",MAX($J$3:$J23)+1)","v":""},"","",{"$f":"INDIRECT(\"取組期間分割!$E\"&'取組期間分割＞'!$I24)&\"\"","v":"令和"},{"$f":"INDIRECT(\"取組期間分割!$G\"&'取組期間分割＞'!$I24)&\"\"","v":""},{"$f":"INDIRECT(\"取組期間分割!$J\"&'取組期間分割＞'!$I24)&\"\"","v":""},{"$f":"INDIRECT(\"取組期間分割!$O\"&'取組期間分割＞'!$I24)&\"\"","v":""},"",null,{"$f":"IF(MAX($S$4:$S23)+1>MAX($J$5:$J$104),\"\",MAX($S$4:$S23)+1)","v":""},"","","","","",""]
[null,{"$f":"IF(TRIM($C25)=\"\",\"\",MAX($B$4:$B24)+1)","v":""},{"$f":"INDIRECT(ADDRESS(ROW('取組選択＞'!$BR$5)+TRUNC((ROW()-ROW($C$4)-1)/$B$2),COLUMN('取組選択＞'!$BR$5),1,1,\"取組選択＞\"))","v":""},1,{"$f":"IF($C25=\"\",\"\",INDIRECT(ADDRESS(MATCH($C25,取組期間分割一覧!$B$4:$B$108,0)+ROW(取組期間分割一覧!$B$3),COLUMN(取組期間分割一覧!$D$4),1,1,\"取組期間分割一覧\"),TRUE)&\"\")","v":""},{"$f":"IF(C25=\"\",\"\",INDIRECT(ADDRESS(MATCH(C25,取組期間分割一覧!$B$4:$B$108,0)+ROW(取組期間分割一覧!$B$3),COLUMN(取組期間分割一覧!$D$4)+$D25,1,1,\"取組期間分割一覧\"),TRUE)&\"\")","v":""},{"$f":"INDIRECT(ADDRESS(ROW('取組選択＞'!$BQ$5)+TRUNC((ROW()-ROW($C$4)-1)/$B$2),COLUMN('取組選択＞'!$BQ$5),1,1,\"取組選択＞\"))","v":""},null,{"$f":"I24+8","v":98},{"$f":"IF(TRIM(P25)=\"\",\"\",MAX($J$3:$J24)+1)","v":""},"","",{"$f":"INDIRECT(\"取組期間分割!$E\"&'取組期間分割＞'!$I25)&\"\"","v":"令和"},{"$f":"INDIRECT(\"取組期間分割!$G\"&'取組期間分割＞'!$I25)&\"\"","v":""},{"$f":"INDIRECT(\"取組期間分割!$J\"&'取組期間分割＞'!$I25)&\"\"","v":""},{"$f":"INDIRECT(\"取組期間分割!$O\"&'取組期間分割＞'!$I25)&\"\"","v":""},"",null,{"$f":"IF(MAX($S$4:$S24)+1>MAX($J$5:$J$104),\"\",MAX($S$4:$S24)+1)","v":""},"","","","","",""]
[null,{"$f":"IF(TRIM($C26)=\"\",\"\",MAX($B$4:$B25)+1)","v":""},{"$f":"C25","v":""},2,{"$f":"IF($C26=\"\",\"\",INDIRECT(ADDRESS(MATCH($C26,取組期間分割一覧!$B$4:$B$108,0)+ROW(取組期間分割一覧!$B$3),COLUMN(取組期間分割一覧!$D$4),1,1,\"取組期間分割一覧\"),TRUE)&\"\")","v":""},{"$f":"IF(C26=\"\",\"\",INDIRECT(ADDRESS(MATCH(C26,取組期間分割一覧!$B$4:$B$108,0)+ROW(取組期間分割一覧!$B$3),COLUMN(取組期間分割一覧!$D$4)+$D26,1,1,\"取組期間分割一覧\"),TRUE)&\"\")","v":""},{"$f":"G25","v":""},null,{"$f":"I25+2","v":100},{"$f":"IF(TRIM(P26)=\"\",\"\",MAX($J$3:$J25)+1)","v":""},"","",{"$f":"INDIRECT(\"取組期間分割!$E\"&'取組期間分割＞'!$I26)&\"\"","v":"令和"},{"$f":"INDIRECT(\"取組期間分割!$G\"&'取組期間分割＞'!$I26)&\"\"","v":""},{"$f":"INDIRECT(\"取組期間分割!$J\"&'取組期間分割＞'!$I26)&\"\"","v":""},{"$f":"INDIRECT(\"取組期間分割!$O\"&'取組期間分割＞'!$I26)&\"\"","v":""},"",null,{"$f":"IF(MAX($S$4:$S25)+1>MAX($J$5:$J$104),\"\",MAX($S$4:$S25)+1)","v":""},"","","","","",""]
[null,{"$f":"IF(TRIM($C27)=\"\",\"\",MAX($B$4:$B26)+1)","v":""},{"$f":"C26","v":""},3,{"$f":"IF($C27=\"\",\"\",INDIRECT(ADDRESS(MATCH($C27,取組期間分割一覧!$B$4:$B$108,0)+ROW(取組期間分割一覧!$B$3),COLUMN(取組期間分割一覧!$D$4),1,1,\"取組期間分割一覧\"),TRUE)&\"\")","v":""},{"$f":"IF(C27=\"\",\"\",INDIRECT(ADDRESS(MATCH(C27,取組期間分割一覧!$B$4:$B$108,0)+ROW(取組期間分割一覧!$B$3),COLUMN(取組期間分割一覧!$D$4)+$D27,1,1,\"取組期間分割一覧\"),TRUE)&\"\")","v":""},"",null,102,{"$f":"IF(TRIM(P27)=\"\",\"\",MAX($J$3:$J26)+1)","v":""},"","",{"$f":"INDIRECT(\"取組期間分割!$E\"&'取組期間分割＞'!$I27)&\"\"","v":"令和"},{"$f":"INDIRECT(\"取組期間分割!$G\"&'取組期間分割＞'!$I27)&\"\"","v":""},{"$f":"INDIRECT(\"取組期間分割!$J\"&'取組期間分割＞'!$I27)&\"\"","v":""},{"$f":"INDIRECT(\"取組期間分割!$O\"&'取組期間分割＞'!$I27)&\"\"","v":""},"",null,{"$f":"IF(MAX($S$4:$S26)+1>MAX($J$5:$J$104),\"\",MAX($S$4:$S26)+1)","v":""},"","","","","",""]
[null,{"$f":"IF(TRIM($C28)=\"\",\"\",MAX($B$4:$B27)+1)","v":""},"",4,{"$f":"IF($C28=\"\",\"\",INDIRECT(ADDRESS(MATCH($C28,取組期間分割一覧!$B$4:$B$108,0)+ROW(取組期間分割一覧!$B$3),COLUMN(取組期間分割一覧!$D$4),1,1,\"取組期間分割一覧\"),TRUE)&\"\")","v":""},{"$f":"IF(C28=\"\",\"\",INDIRECT(ADDRESS(MATCH(C28,取組期間分割一覧!$B$4:$B$108,0)+ROW(取組期間分割一覧!$B$3),COLUMN(取組期間分割一覧!$D$4)+$D28,1,1,\"取組期間分割一覧\"),TRUE)&\"\")","v":""},"",null,104,{"$f":"IF(TRIM(P28)=\"\",\"\",MAX($J$3:$J27)+1)","v":""},"","",{"$f":"INDIRECT(\"取組期間分割!$E\"&'取組期間分割＞'!$I28)&\"\"","v":"令和"},{"$f":"INDIRECT(\"取組期間分割!$G\"&'取組期間分割＞'!$I28)&\"\"","v":""},{"$f":"INDIRECT(\"取組期間分割!$J\"&'取組期間分割＞'!$I28)&\"\"","v":""},{"$f":"INDIRECT(\"取組期間分割!$O\"&'取組期間分割＞'!$I28)&\"\"","v":""},"",null,{"$f":"IF(MAX($S$4:$S27)+1>MAX($J$5:$J$104),\"\",MAX($S$4:$S27)+1)","v":""},"","","","","",""]
[null,{"$f":"IF(TRIM($C29)=\"\",\"\",MAX($B$4:$B28)+1)","v":""},"",5,{"$f":"IF($C29=\"\",\"\",INDIRECT(ADDRESS(MATCH($C29,取組期間分割一覧!$B$4:$B$108,0)+ROW(取組期間分割一覧!$B$3),COLUMN(取組期間分割一覧!$D$4),1,1,\"取組期間分割一覧\"),TRUE)&\"\")","v":""},{"$f":"IF(C29=\"\",\"\",INDIRECT(ADDRESS(MATCH(C29,取組期間分割一覧!$B$4:$B$108,0)+ROW(取組期間分割一覧!$B$3),COLUMN(取組期間分割一覧!$D$4)+$D29,1,1,\"取組期間分割一覧\"),TRUE)&\"\")","v":""},"",null,106,{"$f":"IF(TRIM(P29)=\"\",\"\",MAX($J$3:$J28)+1)","v":""},"","",{"$f":"INDIRECT(\"取組期間分割!$E\"&'取組期間分割＞'!$I29)&\"\"","v":"令和"},{"$f":"INDIRECT(\"取組期間分割!$G\"&'取組期間分割＞'!$I29)&\"\"","v":""},{"$f":"INDIRECT(\"取組期間分割!$J\"&'取組期間分割＞'!$I29)&\"\"","v":""},{"$f":"INDIRECT(\"取組期間分割!$O\"&'取組期間分割＞'!$I29)&\"\"","v":""},"",null,{"$f":"IF(MAX($S$4:$S28)+1>MAX($J$5:$J$104),\"\",MAX($S$4:$S28)+1)","v":""},"","","","","",""]
[null,{"$f":"IF(TRIM($C30)=\"\",\"\",MAX($B$4:$B29)+1)","v":""},"",6,{"$f":"IF($C30=\"\",\"\",INDIRECT(ADDRESS(MATCH($C30,取組期間分割一覧!$B$4:$B$108,0)+ROW(取組期間分割一覧!$B$3),COLUMN(取組期間分割一覧!$D$4),1,1,\"取組期間分割一覧\"),TRUE)&\"\")","v":""},{"$f":"IF(C30=\"\",\"\",INDIRECT(ADDRESS(MATCH(C30,取組期間分割一覧!$B$4:$B$108,0)+ROW(取組期間分割一覧!$B$3),COLUMN(取組期間分割一覧!$D$4)+$D30,1,1,\"取組期間分割一覧\"),TRUE)&\"\")","v":""},"",null,108,{"$f":"IF(TRIM(P30)=\"\",\"\",MAX($J$3:$J29)+1)","v":""},"","",{"$f":"INDIRECT(\"取組期間分割!$E\"&'取組期間分割＞'!$I30)&\"\"","v":"令和"},{"$f":"INDIRECT(\"取組期間分割!$G\"&'取組期間分割＞'!$I30)&\"\"","v":""},{"$f":"INDIRECT(\"取組期間分割!$J\"&'取組期間分割＞'!$I30)&\"\"","v":""},{"$f":"INDIRECT(\"取組期間分割!$O\"&'取組期間分割＞'!$I30)&\"\"","v":""},"",null,{"$f":"IF(MAX($S$4:$S29)+1>MAX($J$5:$J$104),\"\",MAX($S$4:$S29)+1)","v":""},"","","","","",""]
[null,{"$f":"IF(TRIM($C31)=\"\",\"\",MAX($B$4:$B30)+1)","v":""},"",7,{"$f":"IF($C31=\"\",\"\",INDIRECT(ADDRESS(MATCH($C31,取組期間分割一覧!$B$4:$B$108,0)+ROW(取組期間分割一覧!$B$3),COLUMN(取組期間分割一覧!$D$4),1,1,\"取組期間分割一覧\"),TRUE)&\"\")","v":""},{"$f":"IF(C31=\"\",\"\",INDIRECT(ADDRESS(MATCH(C31,取組期間分割一覧!$B$4:$B$108,0)+ROW(取組期間分割一覧!$B$3),COLUMN(取組期間分割一覧!$D$4)+$D31,1,1,\"取組期間分割一覧\"),TRUE)&\"\")","v":""},"",null,110,{"$f":"IF(TRIM(P31)=\"\",\"\",MAX($J$3:$J30)+1)","v":""},"","",{"$f":"INDIRECT(\"取組期間分割!$E\"&'取組期間分割＞'!$I31)&\"\"","v":"令和"},{"$f":"INDIRECT(\"取組期間分割!$G\"&'取組期間分割＞'!$I31)&\"\"","v":""},{"$f":"INDIRECT(\"取組期間分割!$J\"&'取組期間分割＞'!$I31)&\"\"","v":""},{"$f":"INDIRECT(\"取組期間分割!$O\"&'取組期間分割＞'!$I31)&\"\"","v":""},"",null,{"$f":"IF(MAX($S$4:$S30)+1>MAX($J$5:$J$104),\"\",MAX($S$4:$S30)+1)","v":""},"","","","","",""]
[null,{"$f":"IF(TRIM($C32)=\"\",\"\",MAX($B$4:$B31)+1)","v":""},"",8,{"$f":"IF($C32=\"\",\"\",INDIRECT(ADDRESS(MATCH($C32,取組期間分割一覧!$B$4:$B$108,0)+ROW(取組期間分割一覧!$B$3),COLUMN(取組期間分割一覧!$D$4),1,1,\"取組期間分割一覧\"),TRUE)&\"\")","v":""},{"$f":"IF(C32=\"\",\"\",INDIRECT(ADDRESS(MATCH(C32,取組期間分割一覧!$B$4:$B$108,0)+ROW(取組期間分割一覧!$B$3),COLUMN(取組期間分割一覧!$D$4)+$D32,1,1,\"取組期間分割一覧\"),TRUE)&\"\")","v":""},"",null,112,{"$f":"IF(TRIM(P32)=\"\",\"\",MAX($J$3:$J31)+1)","v":""},"","",{"$f":"INDIRECT(\"取組期間分割!$E\"&'取組期間分割＞'!$I32)&\"\"","v":"令和"},{"$f":"INDIRECT(\"取組期間分割!$G\"&'取組期間分割＞'!$I32)&\"\"","v":""},{"$f":"INDIRECT(\"取組期間分割!$J\"&'取組期間分割＞'!$I32)&\"\"","v":""},{"$f":"INDIRECT(\"取組期間分割!$O\"&'取組期間分割＞'!$I32)&\"\"","v":""},"",null,{"$f":"IF(MAX($S$4:$S31)+1>MAX($J$5:$J$104),\"\",MAX($S$4:$S31)+1)","v":""},"","","","","",""]
[null,{"$f":"IF(TRIM($C33)=\"\",\"\",MAX($B$4:$B32)+1)","v":""},"",9,{"$f":"IF($C33=\"\",\"\",INDIRECT(ADDRESS(MATCH($C33,取組期間分割一覧!$B$4:$B$108,0)+ROW(取組期間分割一覧!$B$3),COLUMN(取組期間分割一覧!$D$4),1,1,\"取組期間分割一覧\"),TRUE)&\"\")","v":""},{"$f":"IF(C33=\"\",\"\",INDIRECT(ADDRESS(MATCH(C33,取組期間分割一覧!$B$4:$B$108,0)+ROW(取組期間分割一覧!$B$3),COLUMN(取組期間分割一覧!$D$4)+$D33,1,1,\"取組期間分割一覧\"),TRUE)&\"\")","v":""},"",null,114,{"$f":"IF(TRIM(P33)=\"\",\"\",MAX($J$3:$J32)+1)","v":""},"","",{"$f":"INDIRECT(\"取組期間分割!$E\"&'取組期間分割＞'!$I33)&\"\"","v":"令和"},{"$f":"INDIRECT(\"取組期間分割!$G\"&'取組期間分割＞'!$I33)&\"\"","v":""},{"$f":"INDIRECT(\"取組期間分割!$J\"&'取組期間分割＞'!$I33)&\"\"","v":""},{"$f":"INDIRECT(\"取組期間分割!$O\"&'取組期間分割＞'!$I33)&\"\"","v":""},"",null,{"$f":"IF(MAX($S$4:$S32)+1>MAX($J$5:$J$104),\"\",MAX($S$4:$S32)+1)","v":""},"","","","","",""]
[null,{"$f":"IF(TRIM($C34)=\"\",\"\",MAX($B$4:$B33)+1)","v":""},"",10,{"$f":"IF($C34=\"\",\"\",INDIRECT(ADDRESS(MATCH($C34,取組期間分割一覧!$B$4:$B$108,0)+ROW(取組期間分割一覧!$B$3),COLUMN(取組期間分割一覧!$D$4),1,1,\"取組期間分割一覧\"),TRUE)&\"\")","v":""},{"$f":"IF(C34=\"\",\"\",INDIRECT(ADDRESS(MATCH(C34,取組期間分割一覧!$B$4:$B$108,0)+ROW(取組期間分割一覧!$B$3),COLUMN(取組期間分割一覧!$D$4)+$D34,1,1,\"取組期間分割一覧\"),TRUE)&\"\")","v":""},"",null,116,{"$f":"IF(TRIM(P34)=\"\",\"\",MAX($J$3:$J33)+1)","v":""},"","",{"$f":"INDIRECT(\"取組期間分割!$E\"&'取組期間分割＞'!$I34)&\"\"","v":"令和"},{"$f":"INDIRECT(\"取組期間分割!$G\"&'取組期間分割＞'!$I34)&\"\"","v":""},{"$f":"INDIRECT(\"取組期間分割!$J\"&'取組期間分割＞'!$I34)&\"\"","v":""},{"$f":"INDIRECT(\"取組期間分割!$O\"&'取組期間分割＞'!$I34)&\"\"","v":""},"",null,{"$f":"IF(MAX($S$4:$S33)+1>MAX($J$5:$J$104),\"\",MAX($S$4:$S33)+1)","v":""},"","","","","",""]
[null,{"$f":"IF(TRIM($C35)=\"\",\"\",MAX($B$4:$B34)+1)","v":""},{"$f":"INDIRECT(ADDRESS(ROW('取組選択＞'!$BR$5)+TRUNC((ROW()-ROW($C$4)-1)/$B$2),COLUMN('取組選択＞'!$BR$5),1,1,\"取組選択＞\"))","v":""},1,{"$f":"IF($C35=\"\",\"\",INDIRECT(ADDRESS(MATCH($C35,取組期間分割一覧!$B$4:$B$108,0)+ROW(取組期間分割一覧!$B$3),COLUMN(取組期間分割一覧!$D$4),1,1,\"取組期間分割一覧\"),TRUE)&\"\")","v":""},{"$f":"IF(C35=\"\",\"\",INDIRECT(ADDRESS(MATCH(C35,取組期間分割一覧!$B$4:$B$108,0)+ROW(取組期間分割一覧!$B$3),COLUMN(取組期間分割一覧!$D$4)+$D35,1,1,\"取組期間分割一覧\"),TRUE)&\"\")","v":""},{"$f":"INDIRECT(ADDRESS(ROW('取組選択＞'!$BQ$5)+TRUNC((ROW()-ROW($C$4)-1)/$B$2),COLUMN('取組選択＞'!$BQ$5),1,1,\"取組選択＞\"))","v":""},null,{"$f":"I34+8","v":124},{"$f":"IF(TRIM(P35)=\"\",\"\",MAX($J$3:$J34)+1)","v":""},"","",{"$f":"INDIRECT(\"取組期間分割!$E\"&'取組期間分割＞'!$I35)&\"\"","v":"令和"},{"$f":"INDIRECT(\"取組期間分割!$G\"&'取組期間分割＞'!$I35)&\"\"","v":""},{"$f":"INDIRECT(\"取組期間分割!$J\"&'取組期間分割＞'!$I35)&\"\"","v":""},{"$f":"INDIRECT(\"取組期間分割!$O\"&'取組期間分割＞'!$I35)&\"\"","v":""},"",null,{"$f":"IF(MAX($S$4:$S34)+1>MAX($J$5:$J$104),\"\",MAX($S$4:$S34)+1)","v":""},"","","","","",""]
[null,{"$f":"IF(TRIM($C36)=\"\",\"\",MAX($B$4:$B35)+1)","v":""},{"$f":"C35","v":""},2,{"$f":"IF($C36=\"\",\"\",INDIRECT(ADDRESS(MATCH($C36,取組期間分割一覧!$B$4:$B$108,0)+ROW(取組期間分割一覧!$B$3),COLUMN(取組期間分割一覧!$D$4),1,1,\"取組期間分割一覧\"),TRUE)&\"\")","v":""},{"$f":"IF(C36=\"\",\"\",INDIRECT(ADDRESS(MATCH(C36,取組期間分割一覧!$B$4:$B$108,0)+ROW(取組期間分割一覧!$B$3),COLUMN(取組期間分割一覧!$D$4)+$D36,1,1,\"取組期間分割一覧\"),TRUE)&\"\")","v":""},{"$f":"G35","v":""},null,{"$f":"I35+2","v":126},{"$f":"IF(TRIM(P36)=\"\",\"\",MAX($J$3:$J35)+1)","v":""},"","",{"$f":"INDIRECT(\"取組期間分割!$E\"&'取組期間分割＞'!$I36)&\"\"","v":"令和"},{"$f":"INDIRECT(\"取組期間分割!$G\"&'取組期間分割＞'!$I36)&\"\"","v":""},{"$f":"INDIRECT(\"取組期間分割!$J\"&'取組期間分割＞'!$I36)&\"\"","v":""},{"$f":"INDIRECT(\"取組期間分割!$O\"&'取組期間分割＞'!$I36)&\"\"","v":""},"",null,{"$f":"IF(MAX($S$4:$S35)+1>MAX($J$5:$J$104),\"\",MAX($S$4:$S35)+1)","v":""},"","","","","",""]
[null,{"$f":"IF(TRIM($C37)=\"\",\"\",MAX($B$4:$B36)+1)","v":""},{"$f":"C36","v":""},3,{"$f":"IF($C37=\"\",\"\",INDIRECT(ADDRESS(MATCH($C37,取組期間分割一覧!$B$4:$B$108,0)+ROW(取組期間分割一覧!$B$3),COLUMN(取組期間分割一覧!$D$4),1,1,\"取組期間分割一覧\"),TRUE)&\"\")","v":""},{"$f":"IF(C37=\"\",\"\",INDIRECT(ADDRESS(MATCH(C37,取組期間分割一覧!$B$4:$B$108,0)+ROW(取組期間分割一覧!$B$3),COLUMN(取組期間分割一覧!$D$4)+$D37,1,1,\"取組期間分割一覧\"),TRUE)&\"\")","v":""},"",null,128,{"$f":"IF(TRIM(P37)=\"\",\"\",MAX($J$3:$J36)+1)","v":""},{"$f":"B37","v":""},{"$f":"C37","v":""},{"$f":"INDIRECT(\"取組期間分割!$E\"&'取組期間分割＞'!$I37)&\"\"","v":"令和"},{"$f":"INDIRECT(\"取組期間分割!$G\"&'取組期間分割＞'!$I37)&\"\"","v":""},{"$f":"INDIRECT(\"取組期間分割!$J\"&'取組期間分割＞'!$I37)&\"\"","v":""},{"$f":"INDIRECT(\"取組期間分割!$O\"&'取組期間分割＞'!$I37)&\"\"","v":""},"",null,{"$f":"IF(MAX($S$4:$S36)+1>MAX($J$5:$J$104),\"\",MAX($S$4:$S36)+1)","v":""},{"$f":"IF($S37=\"\",\"\",VLOOKUP($S37,$J$5:$P$104,2,0))","v":""},"","","","",""]
[null,{"$f":"IF(TRIM($C38)=\"\",\"\",MAX($B$4:$B37)+1)","v":""},"",4,{"$f":"IF($C38=\"\",\"\",INDIRECT(ADDRESS(MATCH($C38,取組期間分割一覧!$B$4:$B$108,0)+ROW(取組期間分割一覧!$B$3),COLUMN(取組期間分割一覧!$D$4),1,1,\"取組期間分割一覧\"),TRUE)&\"\")","v":""},{"$f":"IF(C38=\"\",\"\",INDIRECT(ADDRESS(MATCH(C38,取組期間分割一覧!$B$4:$B$108,0)+ROW(取組期間分割一覧!$B$3),COLUMN(取組期間分割一覧!$D$4)+$D38,1,1,\"取組期間分割一覧\"),TRUE)&\"\")","v":""},"",null,130,{"$f":"IF(TRIM(P38)=\"\",\"\",MAX($J$3:$J37)+1)","v":""},"","",{"$f":"INDIRECT(\"取組期間分割!$E\"&'取組期間分割＞'!$I38)&\"\"","v":"令和"},{"$f":"INDIRECT(\"取組期間分割!$G\"&'取組期間分割＞'!$I38)&\"\"","v":""},{"$f":"INDIRECT(\"取組期間分割!$J\"&'取組期間分割＞'!$I38)&\"\"","v":""},{"$f":"INDIRECT(\"取組期間分割!$O\"&'取組期間分割＞'!$I38)&\"\"","v":""},"",null,{"$f":"IF(MAX($S$4:$S37)+1>MAX($J$5:$J$104),\"\",MAX($S$4:$S37)+1)","v":""},"","","","","",""]
[null,{"$f":"IF(TRIM($C39)=\"\",\"\",MAX($B$4:$B38)+1)","v":""},"",5,{"$f":"IF($C39=\"\",\"\",INDIRECT(ADDRESS(MATCH($C39,取組期間分割一覧!$B$4:$B$108,0)+ROW(取組期間分割一覧!$B$3),COLUMN(取組期間分割一覧!$D$4),1,1,\"取組期間分割一覧\"),TRUE)&\"\")","v":""},{"$f":"IF(C39=\"\",\"\",INDIRECT(ADDRESS(MATCH(C39,取組期間分割一覧!$B$4:$B$108,0)+ROW(取組期間分割一覧!$B$3),COLUMN(取組期間分割一覧!$D$4)+$D39,1,1,\"取組期間分割一覧\"),TRUE)&\"\")","v":""},"",null,132,{"$f":"IF(TRIM(P39)=\"\",\"\",MAX($J$3:$J38)+1)","v":""},"","",{"$f":"INDIRECT(\"取組期間分割!$E\"&'取組期間分割＞'!$I39)&\"\"","v":"令和"},{"$f":"INDIRECT(\"取組期間分割!$G\"&'取組期間分割＞'!$I39)&\"\"","v":""},{"$f":"INDIRECT(\"取組期間分割!$J\"&'取組期間分割＞'!$I39)&\"\"","v":""},{"$f":"INDIRECT(\"取組期間分割!$O\"&'取組期間分割＞'!$I39)&\"\"","v":""},"",null,{"$f":"IF(MAX($S$4:$S38)+1>MAX($J$5:$J$104),\"\",MAX($S$4:$S38)+1)","v":""},"","","","","",""]
[null,{"$f":"IF(TRIM($C40)=\"\",\"\",MAX($B$4:$B39)+1)","v":""},"",6,{"$f":"IF($C40=\"\",\"\",INDIRECT(ADDRESS(MATCH($C40,取組期間分割一覧!$B$4:$B$108,0)+ROW(取組期間分割一覧!$B$3),COLUMN(取組期間分割一覧!$D$4),1,1,\"取組期間分割一覧\"),TRUE)&\"\")","v":""},{"$f":"IF(C40=\"\",\"\",INDIRECT(ADDRESS(MATCH(C40,取組期間分割一覧!$B$4:$B$108,0)+ROW(取組期間分割一覧!$B$3),COLUMN(取組期間分割一覧!$D$4)+$D40,1,1,\"取組期間分割一覧\"),TRUE)&\"\")","v":""},"",null,134,{"$f":"IF(TRIM(P40)=\"\",\"\",MAX($J$3:$J39)+1)","v":""},"","",{"$f":"INDIRECT(\"取組期間分割!$E\"&'取組期間分割＞'!$I40)&\"\"","v":"令和"},{"$f":"INDIRECT(\"取組期間分割!$G\"&'取組期間分割＞'!$I40)&\"\"","v":""},{"$f":"INDIRECT(\"取組期間分割!$J\"&'取組期間分割＞'!$I40)&\"\"","v":""},{"$f":"INDIRECT(\"取組期間分割!$O\"&'取組期間分割＞'!$I40)&\"\"","v":""},"",null,{"$f":"IF(MAX($S$4:$S39)+1>MAX($J$5:$J$104),\"\",MAX($S$4:$S39)+1)","v":""},"","","","","",""]
[null,{"$f":"IF(TRIM($C41)=\"\",\"\",MAX($B$4:$B40)+1)","v":""},"",7,{"$f":"IF($C41=\"\",\"\",INDIRECT(ADDRESS(MATCH($C41,取組期間分割一覧!$B$4:$B$108,0)+ROW(取組期間分割一覧!$B$3),COLUMN(取組期間分割一覧!$D$4),1,1,\"取組期間分割一覧\"),TRUE)&\"\")","v":""},{"$f":"IF(C41=\"\",\"\",INDIRECT(ADDRESS(MATCH(C41,取組期間分割一覧!$B$4:$B$108,0)+ROW(取組期間分割一覧!$B$3),COLUMN(取組期間分割一覧!$D$4)+$D41,1,1,\"取組期間分割一覧\"),TRUE)&\"\")","v":""},"",null,136,{"$f":"IF(TRIM(P41)=\"\",\"\",MAX($J$3:$J40)+1)","v":""},"","",{"$f":"INDIRECT(\"取組期間分割!$E\"&'取組期間分割＞'!$I41)&\"\"","v":"令和"},{"$f":"INDIRECT(\"取組期間分割!$G\"&'取組期間分割＞'!$I41)&\"\"","v":""},{"$f":"INDIRECT(\"取組期間分割!$J\"&'取組期間分割＞'!$I41)&\"\"","v":""},{"$f":"INDIRECT(\"取組期間分割!$O\"&'取組期間分割＞'!$I41)&\"\"","v":""},"",null,{"$f":"IF(MAX($S$4:$S40)+1>MAX($J$5:$J$104),\"\",MAX($S$4:$S40)+1)","v":""},"","","","","",""]
[null,{"$f":"IF(TRIM($C42)=\"\",\"\",MAX($B$4:$B41)+1)","v":""},"",8,{"$f":"IF($C42=\"\",\"\",INDIRECT(ADDRESS(MATCH($C42,取組期間分割一覧!$B$4:$B$108,0)+ROW(取組期間分割一覧!$B$3),COLUMN(取組期間分割一覧!$D$4),1,1,\"取組期間分割一覧\"),TRUE)&\"\")","v":""},{"$f":"IF(C42=\"\",\"\",INDIRECT(ADDRESS(MATCH(C42,取組期間分割一覧!$B$4:$B$108,0)+ROW(取組期間分割一覧!$B$3),COLUMN(取組期間分割一覧!$D$4)+$D42,1,1,\"取組期間分割一覧\"),TRUE)&\"\")","v":""},"",null,138,{"$f":"IF(TRIM(P42)=\"\",\"\",MAX($J$3:$J41)+1)","v":""},"","",{"$f":"INDIRECT(\"取組期間分割!$E\"&'取組期間分割＞'!$I42)&\"\"","v":"令和"},{"$f":"INDIRECT(\"取組期間分割!$G\"&'取組期間分割＞'!$I42)&\"\"","v":""},{"$f":"INDIRECT(\"取組期間分割!$J\"&'取組期間分割＞'!$I42)&\"\"","v":""},{"$f":"INDIRECT(\"取組期間分割!$O\"&'取組期間分割＞'!$I42)&\"\"","v":""},"",null,{"$f":"IF(MAX($S$4:$S41)+1>MAX($J$5:$J$104),\"\",MAX($S$4:$S41)+1)","v":""},"","","","","",""]
[null,{"$f":"IF(TRIM($C43)=\"\",\"\",MAX($B$4:$B42)+1)","v":""},"",9,{"$f":"IF($C43=\"\",\"\",INDIRECT(ADDRESS(MATCH($C43,取組期間分割一覧!$B$4:$B$108,0)+ROW(取組期間分割一覧!$B$3),COLUMN(取組期間分割一覧!$D$4),1,1,\"取組期間分割一覧\"),TRUE)&\"\")","v":""},{"$f":"IF(C43=\"\",\"\",INDIRECT(ADDRESS(MATCH(C43,取組期間分割一覧!$B$4:$B$108,0)+ROW(取組期間分割一覧!$B$3),COLUMN(取組期間分割一覧!$D$4)+$D43,1,1,\"取組期間分割一覧\"),TRUE)&\"\")","v":""},"",null,140,{"$f":"IF(TRIM(P43)=\"\",\"\",MAX($J$3:$J42)+1)","v":""},"","",{"$f":"INDIRECT(\"取組期間分割!$E\"&'取組期間分割＞'!$I43)&\"\"","v":"令和"},{"$f":"INDIRECT(\"取組期間分割!$G\"&'取組期間分割＞'!$I43)&\"\"","v":""},{"$f":"INDIRECT(\"取組期間分割!$J\"&'取組期間分割＞'!$I43)&\"\"","v":""},{"$f":"INDIRECT(\"取組期間分割!$O\"&'取組期間分割＞'!$I43)&\"\"","v":""},"",null,{"$f":"IF(MAX($S$4:$S42)+1>MAX($J$5:$J$104),\"\",MAX($S$4:$S42)+1)","v":""},"","","","","",""]
[null,{"$f":"IF(TRIM($C44)=\"\",\"\",MAX($B$4:$B43)+1)","v":""},"",10,{"$f":"IF($C44=\"\",\"\",INDIRECT(ADDRESS(MATCH($C44,取組期間分割一覧!$B$4:$B$108,0)+ROW(取組期間分割一覧!$B$3),COLUMN(取組期間分割一覧!$D$4),1,1,\"取組期間分割一覧\"),TRUE)&\"\")","v":""},{"$f":"IF(C44=\"\",\"\",INDIRECT(ADDRESS(MATCH(C44,取組期間分割一覧!$B$4:$B$108,0)+ROW(取組期間分割一覧!$B$3),COLUMN(取組期間分割一覧!$D$4)+$D44,1,1,\"取組期間分割一覧\"),TRUE)&\"\")","v":""},"",null,142,{"$f":"IF(TRIM(P44)=\"\",\"\",MAX($J$3:$J43)+1)","v":""},"","",{"$f":"INDIRECT(\"取組期間分割!$E\"&'取組期間分割＞'!$I44)&\"\"","v":"令和"},{"$f":"INDIRECT(\"取組期間分割!$G\"&'取組期間分割＞'!$I44)&\"\"","v":""},{"$f":"INDIRECT(\"取組期間分割!$J\"&'取組期間分割＞'!$I44)&\"\"","v":""},{"$f":"INDIRECT(\"取組期間分割!$O\"&'取組期間分割＞'!$I44)&\"\"","v":""},"",null,{"$f":"IF(MAX($S$4:$S43)+1>MAX($J$5:$J$104),\"\",MAX($S$4:$S43)+1)","v":""},"","","","","",""]
[null,{"$f":"IF(TRIM($C45)=\"\",\"\",MAX($B$4:$B44)+1)","v":""},{"$f":"INDIRECT(ADDRESS(ROW('取組選択＞'!$BR$5)+TRUNC((ROW()-ROW($C$4)-1)/$B$2),COLUMN('取組選択＞'!$BR$5),1,1,\"取組選択＞\"))","v":""},1,{"$f":"IF($C45=\"\",\"\",INDIRECT(ADDRESS(MATCH($C45,取組期間分割一覧!$B$4:$B$108,0)+ROW(取組期間分割一覧!$B$3),COLUMN(取組期間分割一覧!$D$4),1,1,\"取組期間分割一覧\"),TRUE)&\"\")","v":""},{"$f":"IF(C45=\"\",\"\",INDIRECT(ADDRESS(MATCH(C45,取組期間分割一覧!$B$4:$B$108,0)+ROW(取組期間分割一覧!$B$3),COLUMN(取組期間分割一覧!$D$4)+$D45,1,1,\"取組期間分割一覧\"),TRUE)&\"\")","v":""},{"$f":"INDIRECT(ADDRESS(ROW('取組選択＞'!$BQ$5)+TRUNC((ROW()-ROW($C$4)-1)/$B$2),COLUMN('取組選択＞'!$BQ$5),1,1,\"取組選択＞\"))","v":""},null,{"$f":"I44+8","v":150},{"$f":"IF(TRIM(P45)=\"\",\"\",MAX($J$3:$J44)+1)","v":""},"","",{"$f":"INDIRECT(\"取組期間分割!$E\"&'取組期間分割＞'!$I45)&\"\"","v":"令和"},{"$f":"INDIRECT(\"取組期間分割!$G\"&'取組期間分割＞'!$I45)&\"\"","v":""},{"$f":"INDIRECT(\"取組期間分割!$J\"&'取組期間分割＞'!$I45)&\"\"","v":""},{"$f":"INDIRECT(\"取組期間分割!$O\"&'取組期間分割＞'!$I45)&\"\"","v":""},"",null,{"$f":"IF(MAX($S$4:$S44)+1>MAX($J$5:$J$104),\"\",MAX($S$4:$S44)+1)","v":""},"","","","","",""]
[null,{"$f":"IF(TRIM($C46)=\"\",\"\",MAX($B$4:$B45)+1)","v":""},{"$f":"C45","v":""},2,{"$f":"IF($C46=\"\",\"\",INDIRECT(ADDRESS(MATCH($C46,取組期間分割一覧!$B$4:$B$108,0)+ROW(取組期間分割一覧!$B$3),COLUMN(取組期間分割一覧!$D$4),1,1,\"取組期間分割一覧\"),TRUE)&\"\")","v":""},{"$f":"IF(C46=\"\",\"\",INDIRECT(ADDRESS(MATCH(C46,取組期間分割一覧!$B$4:$B$108,0)+ROW(取組期間分割一覧!$B$3),COLUMN(取組期間分割一覧!$D$4)+$D46,1,1,\"取組期間分割一覧\"),TRUE)&\"\")","v":""},{"$f":"G45","v":""},null,{"$f":"I45+2","v":152},{"$f":"IF(TRIM(P46)=\"\",\"\",MAX($J$3:$J45)+1)","v":""},"","",{"$f":"INDIRECT(\"取組期間分割!$E\"&'取組期間分割＞'!$I46)&\"\"","v":"令和"},{"$f":"INDIRECT(\"取組期間分割!$G\"&'取組期間分割＞'!$I46)&\"\"","v":""},{"$f":"INDIRECT(\"取組期間分割!$J\"&'取組期間分割＞'!$I46)&\"\"","v":""},{"$f":"INDIRECT(\"取組期間分割!$O\"&'取組期間分割＞'!$I46)&\"\"","v":""},"",null,{"$f":"IF(MAX($S$4:$S45)+1>MAX($J$5:$J$104),\"\",MAX($S$4:$S45)+1)","v":""},"","","","","",""]
[null,{"$f":"IF(TRIM($C47)=\"\",\"\",MAX($B$4:$B46)+1)","v":""},{"$f":"C46","v":""},3,{"$f":"IF($C47=\"\",\"\",INDIRECT(ADDRESS(MATCH($C47,取組期間分割一覧!$B$4:$B$108,0)+ROW(取組期間分割一覧!$B$3),COLUMN(取組期間分割一覧!$D$4),1,1,\"取組期間分割一覧\"),TRUE)&\"\")","v":""},{"$f":"IF(C47=\"\",\"\",INDIRECT(ADDRESS(MATCH(C47,取組期間分割一覧!$B$4:$B$108,0)+ROW(取組期間分割一覧!$B$3),COLUMN(取組期間分割一覧!$D$4)+$D47,1,1,\"取組期間分割一覧\"),TRUE)&\"\")","v":""},"",null,154,{"$f":"IF(TRIM(P47)=\"\",\"\",MAX($J$3:$J46)+1)","v":""},"","",{"$f":"INDIRECT(\"取組期間分割!$E\"&'取組期間分割＞'!$I47)&\"\"","v":"令和"},{"$f":"INDIRECT(\"取組期間分割!$G\"&'取組期間分割＞'!$I47)&\"\"","v":""},{"$f":"INDIRECT(\"取組期間分割!$J\"&'取組期間分割＞'!$I47)&\"\"","v":""},{"$f":"INDIRECT(\"取組期間分割!$O\"&'取組期間分割＞'!$I47)&\"\"","v":""},"",null,{"$f":"IF(MAX($S$4:$S46)+1>MAX($J$5:$J$104),\"\",MAX($S$4:$S46)+1)","v":""},"","","","","",""]
[null,{"$f":"IF(TRIM($C48)=\"\",\"\",MAX($B$4:$B47)+1)","v":""},"",4,{"$f":"IF($C48=\"\",\"\",INDIRECT(ADDRESS(MATCH($C48,取組期間分割一覧!$B$4:$B$108,0)+ROW(取組期間分割一覧!$B$3),COLUMN(取組期間分割一覧!$D$4),1,1,\"取組期間分割一覧\"),TRUE)&\"\")","v":""},{"$f":"IF(C48=\"\",\"\",INDIRECT(ADDRESS(MATCH(C48,取組期間分割一覧!$B$4:$B$108,0)+ROW(取組期間分割一覧!$B$3),COLUMN(取組期間分割一覧!$D$4)+$D48,1,1,\"取組期間分割一覧\"),TRUE)&\"\")","v":""},"",null,156,{"$f":"IF(TRIM(P48)=\"\",\"\",MAX($J$3:$J47)+1)","v":""},"","",{"$f":"INDIRECT(\"取組期間分割!$E\"&'取組期間分割＞'!$I48)&\"\"","v":"令和"},{"$f":"INDIRECT(\"取組期間分割!$G\"&'取組期間分割＞'!$I48)&\"\"","v":""},{"$f":"INDIRECT(\"取組期間分割!$J\"&'取組期間分割＞'!$I48)&\"\"","v":""},{"$f":"INDIRECT(\"取組期間分割!$O\"&'取組期間分割＞'!$I48)&\"\"","v":""},"",null,{"$f":"IF(MAX($S$4:$S47)+1>MAX($J$5:$J$104),\"\",MAX($S$4:$S47)+1)","v":""},"","","","","",""]
[null,{"$f":"IF(TRIM($C49)=\"\",\"\",MAX($B$4:$B48)+1)","v":""},"",5,{"$f":"IF($C49=\"\",\"\",INDIRECT(ADDRESS(MATCH($C49,取組期間分割一覧!$B$4:$B$108,0)+ROW(取組期間分割一覧!$B$3),COLUMN(取組期間分割一覧!$D$4),1,1,\"取組期間分割一覧\"),TRUE)&\"\")","v":""},{"$f":"IF(C49=\"\",\"\",INDIRECT(ADDRESS(MATCH(C49,取組期間分割一覧!$B$4:$B$108,0)+ROW(取組期間分割一覧!$B$3),COLUMN(取組期間分割一覧!$D$4)+$D49,1,1,\"取組期間分割一覧\"),TRUE)&\"\")","v":""},"",null,158,{"$f":"IF(TRIM(P49)=\"\",\"\",MAX($J$3:$J48)+1)","v":""},"","",{"$f":"INDIRECT(\"取組期間分割!$E\"&'取組期間分割＞'!$I49)&\"\"","v":"令和"},{"$f":"INDIRECT(\"取組期間分割!$G\"&'取組期間分割＞'!$I49)&\"\"","v":""},{"$f":"INDIRECT(\"取組期間分割!$J\"&'取組期間分割＞'!$I49)&\"\"","v":""},{"$f":"INDIRECT(\"取組期間分割!$O\"&'取組期間分割＞'!$I49)&\"\"","v":""},"",null,{"$f":"IF(MAX($S$4:$S48)+1>MAX($J$5:$J$104),\"\",MAX($S$4:$S48)+1)","v":""},"","","","","",""]
[null,{"$f":"IF(TRIM($C50)=\"\",\"\",MAX($B$4:$B49)+1)","v":""},"",6,{"$f":"IF($C50=\"\",\"\",INDIRECT(ADDRESS(MATCH($C50,取組期間分割一覧!$B$4:$B$108,0)+ROW(取組期間分割一覧!$B$3),COLUMN(取組期間分割一覧!$D$4),1,1,\"取組期間分割一覧\"),TRUE)&\"\")","v":""},{"$f":"IF(C50=\"\",\"\",INDIRECT(ADDRESS(MATCH(C50,取組期間分割一覧!$B$4:$B$108,0)+ROW(取組期間分割一覧!$B$3),COLUMN(取組期間分割一覧!$D$4)+$D50,1,1,\"取組期間分割一覧\"),TRUE)&\"\")","v":""},"",null,160,{"$f":"IF(TRIM(P50)=\"\",\"\",MAX($J$3:$J49)+1)","v":""},"","",{"$f":"INDIRECT(\"取組期間分割!$E\"&'取組期間分割＞'!$I50)&\"\"","v":"令和"},{"$f":"INDIRECT(\"取組期間分割!$G\"&'取組期間分割＞'!$I50)&\"\"","v":""},{"$f":"INDIRECT(\"取組期間分割!$J\"&'取組期間分割＞'!$I50)&\"\"","v":""},{"$f":"INDIRECT(\"取組期間分割!$O\"&'取組期間分割＞'!$I50)&\"\"","v":""},"",null,{"$f":"IF(MAX($S$4:$S49)+1>MAX($J$5:$J$104),\"\",MAX($S$4:$S49)+1)","v":""},"","","","","",""]
[null,{"$f":"IF(TRIM($C51)=\"\",\"\",MAX($B$4:$B50)+1)","v":""},"",7,{"$f":"IF($C51=\"\",\"\",INDIRECT(ADDRESS(MATCH($C51,取組期間分割一覧!$B$4:$B$108,0)+ROW(取組期間分割一覧!$B$3),COLUMN(取組期間分割一覧!$D$4),1,1,\"取組期間分割一覧\"),TRUE)&\"\")","v":""},{"$f":"IF(C51=\"\",\"\",INDIRECT(ADDRESS(MATCH(C51,取組期間分割一覧!$B$4:$B$108,0)+ROW(取組期間分割一覧!$B$3),COLUMN(取組期間分割一覧!$D$4)+$D51,1,1,\"取組期間分割一覧\"),TRUE)&\"\")","v":""},"",null,162,{"$f":"IF(TRIM(P51)=\"\",\"\",MAX($J$3:$J50)+1)","v":""},"","",{"$f":"INDIRECT(\"取組期間分割!$E\"&'取組期間分割＞'!$I51)&\"\"","v":"令和"},{"$f":"INDIRECT(\"取組期間分割!$G\"&'取組期間分割＞'!$I51)&\"\"","v":""},{"$f":"INDIRECT(\"取組期間分割!$J\"&'取組期間分割＞'!$I51)&\"\"","v":""},{"$f":"INDIRECT(\"取組期間分割!$O\"&'取組期間分割＞'!$I51)&\"\"","v":""},"",null,{"$f":"IF(MAX($S$4:$S50)+1>MAX($J$5:$J$104),\"\",MAX($S$4:$S50)+1)","v":""},"","","","","",""]
[null,{"$f":"IF(TRIM($C52)=\"\",\"\",MAX($B$4:$B51)+1)","v":""},"",8,{"$f":"IF($C52=\"\",\"\",INDIRECT(ADDRESS(MATCH($C52,取組期間分割一覧!$B$4:$B$108,0)+ROW(取組期間分割一覧!$B$3),COLUMN(取組期間分割一覧!$D$4),1,1,\"取組期間分割一覧\"),TRUE)&\"\")","v":""},{"$f":"IF(C52=\"\",\"\",INDIRECT(ADDRESS(MATCH(C52,取組期間分割一覧!$B$4:$B$108,0)+ROW(取組期間分割一覧!$B$3),COLUMN(取組期間分割一覧!$D$4)+$D52,1,1,\"取組期間分割一覧\"),TRUE)&\"\")","v":""},"",null,164,{"$f":"IF(TRIM(P52)=\"\",\"\",MAX($J$3:$J51)+1)","v":""},"","",{"$f":"INDIRECT(\"取組期間分割!$E\"&'取組期間分割＞'!$I52)&\"\"","v":"令和"},{"$f":"INDIRECT(\"取組期間分割!$G\"&'取組期間分割＞'!$I52)&\"\"","v":""},{"$f":"INDIRECT(\"取組期間分割!$J\"&'取組期間分割＞'!$I52)&\"\"","v":""},{"$f":"INDIRECT(\"取組期間分割!$O\"&'取組期間分割＞'!$I52)&\"\"","v":""},"",null,{"$f":"IF(MAX($S$4:$S51)+1>MAX($J$5:$J$104),\"\",MAX($S$4:$S51)+1)","v":""},"","","","","",""]
[null,{"$f":"IF(TRIM($C53)=\"\",\"\",MAX($B$4:$B52)+1)","v":""},"",9,{"$f":"IF($C53=\"\",\"\",INDIRECT(ADDRESS(MATCH($C53,取組期間分割一覧!$B$4:$B$108,0)+ROW(取組期間分割一覧!$B$3),COLUMN(取組期間分割一覧!$D$4),1,1,\"取組期間分割一覧\"),TRUE)&\"\")","v":""},{"$f":"IF(C53=\"\",\"\",INDIRECT(ADDRESS(MATCH(C53,取組期間分割一覧!$B$4:$B$108,0)+ROW(取組期間分割一覧!$B$3),COLUMN(取組期間分割一覧!$D$4)+$D53,1,1,\"取組期間分割一覧\"),TRUE)&\"\")","v":""},"",null,166,{"$f":"IF(TRIM(P53)=\"\",\"\",MAX($J$3:$J52)+1)","v":""},"","",{"$f":"INDIRECT(\"取組期間分割!$E\"&'取組期間分割＞'!$I53)&\"\"","v":"令和"},{"$f":"INDIRECT(\"取組期間分割!$G\"&'取組期間分割＞'!$I53)&\"\"","v":""},{"$f":"INDIRECT(\"取組期間分割!$J\"&'取組期間分割＞'!$I53)&\"\"","v":""},{"$f":"INDIRECT(\"取組期間分割!$O\"&'取組期間分割＞'!$I53)&\"\"","v":""},"",null,{"$f":"IF(MAX($S$4:$S52)+1>MAX($J$5:$J$104),\"\",MAX($S$4:$S52)+1)","v":""},"","","","","",""]
[null,{"$f":"IF(TRIM($C54)=\"\",\"\",MAX($B$4:$B53)+1)","v":""},"",10,{"$f":"IF($C54=\"\",\"\",INDIRECT(ADDRESS(MATCH($C54,取組期間分割一覧!$B$4:$B$108,0)+ROW(取組期間分割一覧!$B$3),COLUMN(取組期間分割一覧!$D$4),1,1,\"取組期間分割一覧\"),TRUE)&\"\")","v":""},{"$f":"IF(C54=\"\",\"\",INDIRECT(ADDRESS(MATCH(C54,取組期間分割一覧!$B$4:$B$108,0)+ROW(取組期間分割一覧!$B$3),COLUMN(取組期間分割一覧!$D$4)+$D54,1,1,\"取組期間分割一覧\"),TRUE)&\"\")","v":""},"",null,168,{"$f":"IF(TRIM(P54)=\"\",\"\",MAX($J$3:$J53)+1)","v":""},"","",{"$f":"INDIRECT(\"取組期間分割!$E\"&'取組期間分割＞'!$I54)&\"\"","v":"令和"},{"$f":"INDIRECT(\"取組期間分割!$G\"&'取組期間分割＞'!$I54)&\"\"","v":""},{"$f":"INDIRECT(\"取組期間分割!$J\"&'取組期間分割＞'!$I54)&\"\"","v":""},{"$f":"INDIRECT(\"取組期間分割!$O\"&'取組期間分割＞'!$I54)&\"\"","v":""},"",null,{"$f":"IF(MAX($S$4:$S53)+1>MAX($J$5:$J$104),\"\",MAX($S$4:$S53)+1)","v":""},"","","","","",""]
[null,{"$f":"IF(TRIM($C55)=\"\",\"\",MAX($B$4:$B54)+1)","v":""},{"$f":"INDIRECT(ADDRESS(ROW('取組選択＞'!$BR$5)+TRUNC((ROW()-ROW($C$4)-1)/$B$2),COLUMN('取組選択＞'!$BR$5),1,1,\"取組選択＞\"))","v":""},1,{"$f":"IF($C55=\"\",\"\",INDIRECT(ADDRESS(MATCH($C55,取組期間分割一覧!$B$4:$B$108,0)+ROW(取組期間分割一覧!$B$3),COLUMN(取組期間分割一覧!$D$4),1,1,\"取組期間分割一覧\"),TRUE)&\"\")","v":""},{"$f":"IF(C55=\"\",\"\",INDIRECT(ADDRESS(MATCH(C55,取組期間分割一覧!$B$4:$B$108,0)+ROW(取組期間分割一覧!$B$3),COLUMN(取組期間分割一覧!$D$4)+$D55,1,1,\"取組期間分割一覧\"),TRUE)&\"\")","v":""},{"$f":"INDIRECT(ADDRESS(ROW('取組選択＞'!$BQ$5)+TRUNC((ROW()-ROW($C$4)-1)/$B$2),COLUMN('取組選択＞'!$BQ$5),1,1,\"取組選択＞\"))","v":""},null,{"$f":"I54+8","v":176},{"$f":"IF(TRIM(P55)=\"\",\"\",MAX($J$3:$J54)+1)","v":""},"","",{"$f":"INDIRECT(\"取組期間分割!$E\"&'取組期間分割＞'!$I55)&\"\"","v":"令和"},{"$f":"INDIRECT(\"取組期間分割!$G\"&'取組期間分割＞'!$I55)&\"\"","v":""},{"$f":"INDIRECT(\"取組期間分割!$J\"&'取組期間分割＞'!$I55)&\"\"","v":""},{"$f":"INDIRECT(\"取組期間分割!$O\"&'取組期間分割＞'!$I55)&\"\"","v":""},"",null,{"$f":"IF(MAX($S$4:$S54)+1>MAX($J$5:$J$104),\"\",MAX($S$4:$S54)+1)","v":""},"","","","","",""]
[null,{"$f":"IF(TRIM($C56)=\"\",\"\",MAX($B$4:$B55)+1)","v":""},{"$f":"C55","v":""},2,{"$f":"IF($C56=\"\",\"\",INDIRECT(ADDRESS(MATCH($C56,取組期間分割一覧!$B$4:$B$108,0)+ROW(取組期間分割一覧!$B$3),COLUMN(取組期間分割一覧!$D$4),1,1,\"取組期間分割一覧\"),TRUE)&\"\")","v":""},{"$f":"IF(C56=\"\",\"\",INDIRECT(ADDRESS(MATCH(C56,取組期間分割一覧!$B$4:$B$108,0)+ROW(取組期間分割一覧!$B$3),COLUMN(取組期間分割一覧!$D$4)+$D56,1,1,\"取組期間分割一覧\"),TRUE)&\"\")","v":""},{"$f":"G55","v":""},null,{"$f":"I55+2","v":178},{"$f":"IF(TRIM(P56)=\"\",\"\",MAX($J$3:$J55)+1)","v":""},"","",{"$f":"INDIRECT(\"取組期間分割!$E\"&'取組期間分割＞'!$I56)&\"\"","v":"令和"},{"$f":"INDIRECT(\"取組期間分割!$G\"&'取組期間分割＞'!$I56)&\"\"","v":""},{"$f":"INDIRECT(\"取組期間分割!$J\"&'取組期間分割＞'!$I56)&\"\"","v":""},{"$f":"INDIRECT(\"取組期間分割!$O\"&'取組期間分割＞'!$I56)&\"\"","v":""},"",null,{"$f":"IF(MAX($S$4:$S55)+1>MAX($J$5:$J$104),\"\",MAX($S$4:$S55)+1)","v":""},"","","","","",""]
[null,{"$f":"IF(TRIM($C57)=\"\",\"\",MAX($B$4:$B56)+1)","v":""},{"$f":"C56","v":""},3,{"$f":"IF($C57=\"\",\"\",INDIRECT(ADDRESS(MATCH($C57,取組期間分割一覧!$B$4:$B$108,0)+ROW(取組期間分割一覧!$B$3),COLUMN(取組期間分割一覧!$D$4),1,1,\"取組期間分割一覧\"),TRUE)&\"\")","v":""},{"$f":"IF(C57=\"\",\"\",INDIRECT(ADDRESS(MATCH(C57,取組期間分割一覧!$B$4:$B$108,0)+ROW(取組期間分割一覧!$B$3),COLUMN(取組期間分割一覧!$D$4)+$D57,1,1,\"取組期間分割一覧\"),TRUE)&\"\")","v":""},"",null,180,{"$f":"IF(TRIM(P57)=\"\",\"\",MAX($J$3:$J56)+1)","v":""},"","",{"$f":"INDIRECT(\"取組期間分割!$E\"&'取組期間分割＞'!$I57)&\"\"","v":"令和"},{"$f":"INDIRECT(\"取組期間分割!$G\"&'取組期間分割＞'!$I57)&\"\"","v":""},{"$f":"INDIRECT(\"取組期間分割!$J\"&'取組期間分割＞'!$I57)&\"\"","v":""},{"$f":"INDIRECT(\"取組期間分割!$O\"&'取組期間分割＞'!$I57)&\"\"","v":""},"",null,{"$f":"IF(MAX($S$4:$S56)+1>MAX($J$5:$J$104),\"\",MAX($S$4:$S56)+1)","v":""},"","","","","",""]
[null,{"$f":"IF(TRIM($C58)=\"\",\"\",MAX($B$4:$B57)+1)","v":""},"",4,{"$f":"IF($C58=\"\",\"\",INDIRECT(ADDRESS(MATCH($C58,取組期間分割一覧!$B$4:$B$108,0)+ROW(取組期間分割一覧!$B$3),COLUMN(取組期間分割一覧!$D$4),1,1,\"取組期間分割一覧\"),TRUE)&\"\")","v":""},{"$f":"IF(C58=\"\",\"\",INDIRECT(ADDRESS(MATCH(C58,取組期間分割一覧!$B$4:$B$108,0)+ROW(取組期間分割一覧!$B$3),COLUMN(取組期間分割一覧!$D$4)+$D58,1,1,\"取組期間分割一覧\"),TRUE)&\"\")","v":""},"",null,182,{"$f":"IF(TRIM(P58)=\"\",\"\",MAX($J$3:$J57)+1)","v":""},"","",{"$f":"INDIRECT(\"取組期間分割!$E\"&'取組期間分割＞'!$I58)&\"\"","v":"令和"},{"$f":"INDIRECT(\"取組期間分割!$G\"&'取組期間分割＞'!$I58)&\"\"","v":""},{"$f":"INDIRECT(\"取組期間分割!$J\"&'取組期間分割＞'!$I58)&\"\"","v":""},{"$f":"INDIRECT(\"取組期間分割!$O\"&'取組期間分割＞'!$I58)&\"\"","v":""},"",null,{"$f":"IF(MAX($S$4:$S57)+1>MAX($J$5:$J$104),\"\",MAX($S$4:$S57)+1)","v":""},"","","","","",""]
[null,{"$f":"IF(TRIM($C59)=\"\",\"\",MAX($B$4:$B58)+1)","v":""},"",5,{"$f":"IF($C59=\"\",\"\",INDIRECT(ADDRESS(MATCH($C59,取組期間分割一覧!$B$4:$B$108,0)+ROW(取組期間分割一覧!$B$3),COLUMN(取組期間分割一覧!$D$4),1,1,\"取組期間分割一覧\"),TRUE)&\"\")","v":""},{"$f":"IF(C59=\"\",\"\",INDIRECT(ADDRESS(MATCH(C59,取組期間分割一覧!$B$4:$B$108,0)+ROW(取組期間分割一覧!$B$3),COLUMN(取組期間分割一覧!$D$4)+$D59,1,1,\"取組期間分割一覧\"),TRUE)&\"\")","v":""},"",null,184,{"$f":"IF(TRIM(P59)=\"\",\"\",MAX($J$3:$J58)+1)","v":""},"","",{"$f":"INDIRECT(\"取組期間分割!$E\"&'取組期間分割＞'!$I59)&\"\"","v":"令和"},{"$f":"INDIRECT(\"取組期間分割!$G\"&'取組期間分割＞'!$I59)&\"\"","v":""},{"$f":"INDIRECT(\"取組期間分割!$J\"&'取組期間分割＞'!$I59)&\"\"","v":""},{"$f":"INDIRECT(\"取組期間分割!$O\"&'取組期間分割＞'!$I59)&\"\"","v":""},"",null,{"$f":"IF(MAX($S$4:$S58)+1>MAX($J$5:$J$104),\"\",MAX($S$4:$S58)+1)","v":""},"","","","","",""]
[null,{"$f":"IF(TRIM($C60)=\"\",\"\",MAX($B$4:$B59)+1)","v":""},"",6,{"$f":"IF($C60=\"\",\"\",INDIRECT(ADDRESS(MATCH($C60,取組期間分割一覧!$B$4:$B$108,0)+ROW(取組期間分割一覧!$B$3),COLUMN(取組期間分割一覧!$D$4),1,1,\"取組期間分割一覧\"),TRUE)&\"\")","v":""},{"$f":"IF(C60=\"\",\"\",INDIRECT(ADDRESS(MATCH(C60,取組期間分割一覧!$B$4:$B$108,0)+ROW(取組期間分割一覧!$B$3),COLUMN(取組期間分割一覧!$D$4)+$D60,1,1,\"取組期間分割一覧\"),TRUE)&\"\")","v":""},"",null,186,{"$f":"IF(TRIM(P60)=\"\",\"\",MAX($J$3:$J59)+1)","v":""},"","",{"$f":"INDIRECT(\"取組期間分割!$E\"&'取組期間分割＞'!$I60)&\"\"","v":"令和"},{"$f":"INDIRECT(\"取組期間分割!$G\"&'取組期間分割＞'!$I60)&\"\"","v":""},{"$f":"INDIRECT(\"取組期間分割!$J\"&'取組期間分割＞'!$I60)&\"\"","v":""},{"$f":"INDIRECT(\"取組期間分割!$O\"&'取組期間分割＞'!$I60)&\"\"","v":""},"",null,{"$f":"IF(MAX($S$4:$S59)+1>MAX($J$5:$J$104),\"\",MAX($S$4:$S59)+1)","v":""},"","","","","",""]
[null,{"$f":"IF(TRIM($C61)=\"\",\"\",MAX($B$4:$B60)+1)","v":""},"",7,{"$f":"IF($C61=\"\",\"\",INDIRECT(ADDRESS(MATCH($C61,取組期間分割一覧!$B$4:$B$108,0)+ROW(取組期間分割一覧!$B$3),COLUMN(取組期間分割一覧!$D$4),1,1,\"取組期間分割一覧\"),TRUE)&\"\")","v":""},{"$f":"IF(C61=\"\",\"\",INDIRECT(ADDRESS(MATCH(C61,取組期間分割一覧!$B$4:$B$108,0)+ROW(取組期間分割一覧!$B$3),COLUMN(取組期間分割一覧!$D$4)+$D61,1,1,\"取組期間分割一覧\"),TRUE)&\"\")","v":""},"",null,188,{"$f":"IF(TRIM(P61)=\"\",\"\",MAX($J$3:$J60)+1)","v":""},"","",{"$f":"INDIRECT(\"取組期間分割!$E\"&'取組期間分割＞'!$I61)&\"\"","v":"令和"},{"$f":"INDIRECT(\"取組期間分割!$G\"&'取組期間分割＞'!$I61)&\"\"","v":""},{"$f":"INDIRECT(\"取組期間分割!$J\"&'取組期間分割＞'!$I61)&\"\"","v":""},{"$f":"INDIRECT(\"取組期間分割!$O\"&'取組期間分割＞'!$I61)&\"\"","v":""},"",null,{"$f":"IF(MAX($S$4:$S60)+1>MAX($J$5:$J$104),\"\",MAX($S$4:$S60)+1)","v":""},"","","","","",""]
[null,{"$f":"IF(TRIM($C62)=\"\",\"\",MAX($B$4:$B61)+1)","v":""},"",8,{"$f":"IF($C62=\"\",\"\",INDIRECT(ADDRESS(MATCH($C62,取組期間分割一覧!$B$4:$B$108,0)+ROW(取組期間分割一覧!$B$3),COLUMN(取組期間分割一覧!$D$4),1,1,\"取組期間分割一覧\"),TRUE)&\"\")","v":""},{"$f":"IF(C62=\"\",\"\",INDIRECT(ADDRESS(MATCH(C62,取組期間分割一覧!$B$4:$B$108,0)+ROW(取組期間分割一覧!$B$3),COLUMN(取組期間分割一覧!$D$4)+$D62,1,1,\"取組期間分割一覧\"),TRUE)&\"\")","v":""},"",null,190,{"$f":"IF(TRIM(P62)=\"\",\"\",MAX($J$3:$J61)+1)","v":""},"","",{"$f":"INDIRECT(\"取組期間分割!$E\"&'取組期間分割＞'!$I62)&\"\"","v":"令和"},{"$f":"INDIRECT(\"取組期間分割!$G\"&'取組期間分割＞'!$I62)&\"\"","v":""},{"$f":"INDIRECT(\"取組期間分割!$J\"&'取組期間分割＞'!$I62)&\"\"","v":""},{"$f":"INDIRECT(\"取組期間分割!$O\"&'取組期間分割＞'!$I62)&\"\"","v":""},"",null,{"$f":"IF(MAX($S$4:$S61)+1>MAX($J$5:$J$104),\"\",MAX($S$4:$S61)+1)","v":""},"","","","","",""]
[null,{"$f":"IF(TRIM($C63)=\"\",\"\",MAX($B$4:$B62)+1)","v":""},"",9,{"$f":"IF($C63=\"\",\"\",INDIRECT(ADDRESS(MATCH($C63,取組期間分割一覧!$B$4:$B$108,0)+ROW(取組期間分割一覧!$B$3),COLUMN(取組期間分割一覧!$D$4),1,1,\"取組期間分割一覧\"),TRUE)&\"\")","v":""},{"$f":"IF(C63=\"\",\"\",INDIRECT(ADDRESS(MATCH(C63,取組期間分割一覧!$B$4:$B$108,0)+ROW(取組期間分割一覧!$B$3),COLUMN(取組期間分割一覧!$D$4)+$D63,1,1,\"取組期間分割一覧\"),TRUE)&\"\")","v":""},"",null,192,{"$f":"IF(TRIM(P63)=\"\",\"\",MAX($J$3:$J62)+1)","v":""},"","",{"$f":"INDIRECT(\"取組期間分割!$E\"&'取組期間分割＞'!$I63)&\"\"","v":"令和"},{"$f":"INDIRECT(\"取組期間分割!$G\"&'取組期間分割＞'!$I63)&\"\"","v":""},{"$f":"INDIRECT(\"取組期間分割!$J\"&'取組期間分割＞'!$I63)&\"\"","v":""},{"$f":"INDIRECT(\"取組期間分割!$O\"&'取組期間分割＞'!$I63)&\"\"","v":""},"",null,{"$f":"IF(MAX($S$4:$S62)+1>MAX($J$5:$J$104),\"\",MAX($S$4:$S62)+1)","v":""},"","","","","",""]
[null,{"$f":"IF(TRIM($C64)=\"\",\"\",MAX($B$4:$B63)+1)","v":""},"",10,{"$f":"IF($C64=\"\",\"\",INDIRECT(ADDRESS(MATCH($C64,取組期間分割一覧!$B$4:$B$108,0)+ROW(取組期間分割一覧!$B$3),COLUMN(取組期間分割一覧!$D$4),1,1,\"取組期間分割一覧\"),TRUE)&\"\")","v":""},{"$f":"IF(C64=\"\",\"\",INDIRECT(ADDRESS(MATCH(C64,取組期間分割一覧!$B$4:$B$108,0)+ROW(取組期間分割一覧!$B$3),COLUMN(取組期間分割一覧!$D$4)+$D64,1,1,\"取組期間分割一覧\"),TRUE)&\"\")","v":""},"",null,194,{"$f":"IF(TRIM(P64)=\"\",\"\",MAX($J$3:$J63)+1)","v":""},"","",{"$f":"INDIRECT(\"取組期間分割!$E\"&'取組期間分割＞'!$I64)&\"\"","v":"令和"},{"$f":"INDIRECT(\"取組期間分割!$G\"&'取組期間分割＞'!$I64)&\"\"","v":""},{"$f":"INDIRECT(\"取組期間分割!$J\"&'取組期間分割＞'!$I64)&\"\"","v":""},{"$f":"INDIRECT(\"取組期間分割!$O\"&'取組期間分割＞'!$I64)&\"\"","v":""},"",null,{"$f":"IF(MAX($S$4:$S63)+1>MAX($J$5:$J$104),\"\",MAX($S$4:$S63)+1)","v":""},"","","","","",""]
[null,{"$f":"IF(TRIM($C65)=\"\",\"\",MAX($B$4:$B64)+1)","v":""},{"$f":"INDIRECT(ADDRESS(ROW('取組選択＞'!$BR$5)+TRUNC((ROW()-ROW($C$4)-1)/$B$2),COLUMN('取組選択＞'!$BR$5),1,1,\"取組選択＞\"))","v":""},1,{"$f":"IF($C65=\"\",\"\",INDIRECT(ADDRESS(MATCH($C65,取組期間分割一覧!$B$4:$B$108,0)+ROW(取組期間分割一覧!$B$3),COLUMN(取組期間分割一覧!$D$4),1,1,\"取組期間分割一覧\"),TRUE)&\"\")","v":""},{"$f":"IF(C65=\"\",\"\",INDIRECT(ADDRESS(MATCH(C65,取組期間分割一覧!$B$4:$B$108,0)+ROW(取組期間分割一覧!$B$3),COLUMN(取組期間分割一覧!$D$4)+$D65,1,1,\"取組期間分割一覧\"),TRUE)&\"\")","v":""},{"$f":"INDIRECT(ADDRESS(ROW('取組選択＞'!$BQ$5)+TRUNC((ROW()-ROW($C$4)-1)/$B$2),COLUMN('取組選択＞'!$BQ$5),1,1,\"取組選択＞\"))","v":""},null,{"$f":"I64+8","v":202},{"$f":"IF(TRIM(P65)=\"\",\"\",MAX($J$3:$J64)+1)","v":""},"","",{"$f":"INDIRECT(\"取組期間分割!$E\"&'取組期間分割＞'!$I65)&\"\"","v":"令和"},{"$f":"INDIRECT(\"取組期間分割!$G\"&'取組期間分割＞'!$I65)&\"\"","v":""},{"$f":"INDIRECT(\"取組期間分割!$J\"&'取組期間分割＞'!$I65)&\"\"","v":""},{"$f":"INDIRECT(\"取組期間分割!$O\"&'取組期間分割＞'!$I65)&\"\"","v":""},"",null,{"$f":"IF(MAX($S$4:$S64)+1>MAX($J$5:$J$104),\"\",MAX($S$4:$S64)+1)","v":""},"","","","","",""]
[null,{"$f":"IF(TRIM($C66)=\"\",\"\",MAX($B$4:$B65)+1)","v":""},{"$f":"C65","v":""},2,{"$f":"IF($C66=\"\",\"\",INDIRECT(ADDRESS(MATCH($C66,取組期間分割一覧!$B$4:$B$108,0)+ROW(取組期間分割一覧!$B$3),COLUMN(取組期間分割一覧!$D$4),1,1,\"取組期間分割一覧\"),TRUE)&\"\")","v":""},{"$f":"IF(C66=\"\",\"\",INDIRECT(ADDRESS(MATCH(C66,取組期間分割一覧!$B$4:$B$108,0)+ROW(取組期間分割一覧!$B$3),COLUMN(取組期間分割一覧!$D$4)+$D66,1,1,\"取組期間分割一覧\"),TRUE)&\"\")","v":""},{"$f":"G65","v":""},null,{"$f":"I65+2","v":204},{"$f":"IF(TRIM(P66)=\"\",\"\",MAX($J$3:$J65)+1)","v":""},"","",{"$f":"INDIRECT(\"取組期間分割!$E\"&'取組期間分割＞'!$I66)&\"\"","v":"令和"},{"$f":"INDIRECT(\"取組期間分割!$G\"&'取組期間分割＞'!$I66)&\"\"","v":""},{"$f":"INDIRECT(\"取組期間分割!$J\"&'取組期間分割＞'!$I66)&\"\"","v":""},{"$f":"INDIRECT(\"取組期間分割!$O\"&'取組期間分割＞'!$I66)&\"\"","v":""},"",null,{"$f":"IF(MAX($S$4:$S65)+1>MAX($J$5:$J$104),\"\",MAX($S$4:$S65)+1)","v":""},"","","","","",""]
[null,{"$f":"IF(TRIM($C67)=\"\",\"\",MAX($B$4:$B66)+1)","v":""},{"$f":"C66","v":""},3,{"$f":"IF($C67=\"\",\"\",INDIRECT(ADDRESS(MATCH($C67,取組期間分割一覧!$B$4:$B$108,0)+ROW(取組期間分割一覧!$B$3),COLUMN(取組期間分割一覧!$D$4),1,1,\"取組期間分割一覧\"),TRUE)&\"\")","v":""},{"$f":"IF(C67=\"\",\"\",INDIRECT(ADDRESS(MATCH(C67,取組期間分割一覧!$B$4:$B$108,0)+ROW(取組期間分割一覧!$B$3),COLUMN(取組期間分割一覧!$D$4)+$D67,1,1,\"取組期間分割一覧\"),TRUE)&\"\")","v":""},"",null,206,{"$f":"IF(TRIM(P67)=\"\",\"\",MAX($J$3:$J66)+1)","v":""},"","",{"$f":"INDIRECT(\"取組期間分割!$E\"&'取組期間分割＞'!$I67)&\"\"","v":"令和"},{"$f":"INDIRECT(\"取組期間分割!$G\"&'取組期間分割＞'!$I67)&\"\"","v":""},{"$f":"INDIRECT(\"取組期間分割!$J\"&'取組期間分割＞'!$I67)&\"\"","v":""},{"$f":"INDIRECT(\"取組期間分割!$O\"&'取組期間分割＞'!$I67)&\"\"","v":""},"",null,{"$f":"IF(MAX($S$4:$S66)+1>MAX($J$5:$J$104),\"\",MAX($S$4:$S66)+1)","v":""},"","","","","",""]
[null,{"$f":"IF(TRIM($C68)=\"\",\"\",MAX($B$4:$B67)+1)","v":""},"",4,{"$f":"IF($C68=\"\",\"\",INDIRECT(ADDRESS(MATCH($C68,取組期間分割一覧!$B$4:$B$108,0)+ROW(取組期間分割一覧!$B$3),COLUMN(取組期間分割一覧!$D$4),1,1,\"取組期間分割一覧\"),TRUE)&\"\")","v":""},{"$f":"IF(C68=\"\",\"\",INDIRECT(ADDRESS(MATCH(C68,取組期間分割一覧!$B$4:$B$108,0)+ROW(取組期間分割一覧!$B$3),COLUMN(取組期間分割一覧!$D$4)+$D68,1,1,\"取組期間分割一覧\"),TRUE)&\"\")","v":""},"",null,208,{"$f":"IF(TRIM(P68)=\"\",\"\",MAX($J$3:$J67)+1)","v":""},"","",{"$f":"INDIRECT(\"取組期間分割!$E\"&'取組期間分割＞'!$I68)&\"\"","v":"令和"},{"$f":"INDIRECT(\"取組期間分割!$G\"&'取組期間分割＞'!$I68)&\"\"","v":""},{"$f":"INDIRECT(\"取組期間分割!$J\"&'取組期間分割＞'!$I68)&\"\"","v":""},{"$f":"INDIRECT(\"取組期間分割!$O\"&'取組期間分割＞'!$I68)&\"\"","v":""},"",null,{"$f":"IF(MAX($S$4:$S67)+1>MAX($J$5:$J$104),\"\",MAX($S$4:$S67)+1)","v":""},"","","","","",""]
[null,{"$f":"IF(TRIM($C69)=\"\",\"\",MAX($B$4:$B68)+1)","v":""},"",5,{"$f":"IF($C69=\"\",\"\",INDIRECT(ADDRESS(MATCH($C69,取組期間分割一覧!$B$4:$B$108,0)+ROW(取組期間分割一覧!$B$3),COLUMN(取組期間分割一覧!$D$4),1,1,\"取組期間分割一覧\"),TRUE)&\"\")","v":""},{"$f":"IF(C69=\"\",\"\",INDIRECT(ADDRESS(MATCH(C69,取組期間分割一覧!$B$4:$B$108,0)+ROW(取組期間分割一覧!$B$3),COLUMN(取組期間分割一覧!$D$4)+$D69,1,1,\"取組期間分割一覧\"),TRUE)&\"\")","v":""},"",null,210,{"$f":"IF(TRIM(P69)=\"\",\"\",MAX($J$3:$J68)+1)","v":""},{"$f":"B69","v":""},{"$f":"C69","v":""},{"$f":"INDIRECT(\"取組期間分割!$E\"&'取組期間分割＞'!$I69)&\"\"","v":"令和"},{"$f":"INDIRECT(\"取組期間分割!$G\"&'取組期間分割＞'!$I69)&\"\"","v":""},{"$f":"INDIRECT(\"取組期間分割!$J\"&'取組期間分割＞'!$I69)&\"\"","v":""},{"$f":"INDIRECT(\"取組期間分割!$O\"&'取組期間分割＞'!$I69)&\"\"","v":""},"",null,{"$f":"IF(MAX($S$4:$S68)+1>MAX($J$5:$J$104),\"\",MAX($S$4:$S68)+1)","v":""},{"$f":"IF($S69=\"\",\"\",VLOOKUP($S69,$J$5:$P$104,2,0))","v":""},"","","","",""]
[null,{"$f":"IF(TRIM($C70)=\"\",\"\",MAX($B$4:$B69)+1)","v":""},"",{"$f":"MOD(ROW()-ROW($D$4)-1,$B$2)+1","v":6},{"$f":"IF($C70=\"\",\"\",INDIRECT(ADDRESS(MATCH($C70,取組期間分割一覧!$B$4:$B$108,0)+ROW(取組期間分割一覧!$B$3),COLUMN(取組期間分割一覧!$D$4),1,1,\"取組期間分割一覧\"),TRUE)&\"\")","v":""},{"$f":"IF(C70=\"\",\"\",INDIRECT(ADDRESS(MATCH(C70,取組期間分割一覧!$B$4:$B$108,0)+ROW(取組期間分割一覧!$B$3),COLUMN(取組期間分割一覧!$D$4)+$D70,1,1,\"取組期間分割一覧\"),TRUE)&\"\")","v":""},"",null,212,{"$f":"IF(TRIM(P70)=\"\",\"\",MAX($J$3:$J69)+1)","v":""},"","",{"$f":"INDIRECT(\"取組期間分割!$E\"&'取組期間分割＞'!$I70)&\"\"","v":"令和"},{"$f":"INDIRECT(\"取組期間分割!$G\"&'取組期間分割＞'!$I70)&\"\"","v":""},{"$f":"INDIRECT(\"取組期間分割!$J\"&'取組期間分割＞'!$I70)&\"\"","v":""},{"$f":"INDIRECT(\"取組期間分割!$O\"&'取組期間分割＞'!$I70)&\"\"","v":""},{"$f":"G70","v":""},null,{"$f":"IF(MAX($S$4:$S69)+1>MAX($J$5:$J$104),\"\",MAX($S$4:$S69)+1)","v":""},"",{"$f":"IF($S70=\"\",\"\",VLOOKUP($S70,$J$5:$P$104,3,0))","v":""},{"$f":"IF($S70=\"\",\"\",VLOOKUP($S70,$J$5:$P$104,4,0))","v":""},{"$f":"IF($S70=\"\",\"\",VLOOKUP($S70,$J$5:$P$104,5,0))","v":""},{"$f":"IF($S70=\"\",\"\",VLOOKUP($S70,$J$5:$P$104,6,0))","v":""},{"$f":"IF($S70=\"\",\"\",VLOOKUP($S70,$J$5:$P$104,7,0))","v":""}]
[null,{"$f":"IF(TRIM($C71)=\"\",\"\",MAX($B$4:$B70)+1)","v":""},"",7,{"$f":"IF($C71=\"\",\"\",INDIRECT(ADDRESS(MATCH($C71,取組期間分割一覧!$B$4:$B$108,0)+ROW(取組期間分割一覧!$B$3),COLUMN(取組期間分割一覧!$D$4),1,1,\"取組期間分割一覧\"),TRUE)&\"\")","v":""},{"$f":"IF(C71=\"\",\"\",INDIRECT(ADDRESS(MATCH(C71,取組期間分割一覧!$B$4:$B$108,0)+ROW(取組期間分割一覧!$B$3),COLUMN(取組期間分割一覧!$D$4)+$D71,1,1,\"取組期間分割一覧\"),TRUE)&\"\")","v":""},"",null,214,{"$f":"IF(TRIM(P71)=\"\",\"\",MAX($J$3:$J70)+1)","v":""},"","",{"$f":"INDIRECT(\"取組期間分割!$E\"&'取組期間分割＞'!$I71)&\"\"","v":"令和"},{"$f":"INDIRECT(\"取組期間分割!$G\"&'取組期間分割＞'!$I71)&\"\"","v":""},{"$f":"INDIRECT(\"取組期間分割!$J\"&'取組期間分割＞'!$I71)&\"\"","v":""},{"$f":"INDIRECT(\"取組期間分割!$O\"&'取組期間分割＞'!$I71)&\"\"","v":""},"",null,{"$f":"IF(MAX($S$4:$S70)+1>MAX($J$5:$J$104),\"\",MAX($S$4:$S70)+1)","v":""},"","","","","",""]
[null,{"$f":"IF(TRIM($C72)=\"\",\"\",MAX($B$4:$B71)+1)","v":""},"",8,{"$f":"IF($C72=\"\",\"\",INDIRECT(ADDRESS(MATCH($C72,取組期間分割一覧!$B$4:$B$108,0)+ROW(取組期間分割一覧!$B$3),COLUMN(取組期間分割一覧!$D$4),1,1,\"取組期間分割一覧\"),TRUE)&\"\")","v":""},{"$f":"IF(C72=\"\",\"\",INDIRECT(ADDRESS(MATCH(C72,取組期間分割一覧!$B$4:$B$108,0)+ROW(取組期間分割一覧!$B$3),COLUMN(取組期間分割一覧!$D$4)+$D72,1,1,\"取組期間分割一覧\"),TRUE)&\"\")","v":""},"",null,216,{"$f":"IF(TRIM(P72)=\"\",\"\",MAX($J$3:$J71)+1)","v":""},"","",{"$f":"INDIRECT(\"取組期間分割!$E\"&'取組期間分割＞'!$I72)&\"\"","v":"令和"},{"$f":"INDIRECT(\"取組期間分割!$G\"&'取組期間分割＞'!$I72)&\"\"","v":""},{"$f":"INDIRECT(\"取組期間分割!$J\"&'取組期間分割＞'!$I72)&\"\"","v":""},{"$f":"INDIRECT(\"取組期間分割!$O\"&'取組期間分割＞'!$I72)&\"\"","v":""},"",null,{"$f":"IF(MAX($S$4:$S71)+1>MAX($J$5:$J$104),\"\",MAX($S$4:$S71)+1)","v":""},"","","","","",""]
[null,{"$f":"IF(TRIM($C73)=\"\",\"\",MAX($B$4:$B72)+1)","v":""},"",9,{"$f":"IF($C73=\"\",\"\",INDIRECT(ADDRESS(MATCH($C73,取組期間分割一覧!$B$4:$B$108,0)+ROW(取組期間分割一覧!$B$3),COLUMN(取組期間分割一覧!$D$4),1,1,\"取組期間分割一覧\"),TRUE)&\"\")","v":""},{"$f":"IF(C73=\"\",\"\",INDIRECT(ADDRESS(MATCH(C73,取組期間分割一覧!$B$4:$B$108,0)+ROW(取組期間分割一覧!$B$3),COLUMN(取組期間分割一覧!$D$4)+$D73,1,1,\"取組期間分割一覧\"),TRUE)&\"\")","v":""},"",null,218,{"$f":"IF(TRIM(P73)=\"\",\"\",MAX($J$3:$J72)+1)","v":""},"","",{"$f":"INDIRECT(\"取組期間分割!$E\"&'取組期間分割＞'!$I73)&\"\"","v":"令和"},{"$f":"INDIRECT(\"取組期間分割!$G\"&'取組期間分割＞'!$I73)&\"\"","v":""},{"$f":"INDIRECT(\"取組期間分割!$J\"&'取組期間分割＞'!$I73)&\"\"","v":""},{"$f":"INDIRECT(\"取組期間分割!$O\"&'取組期間分割＞'!$I73)&\"\"","v":""},"",null,{"$f":"IF(MAX($S$4:$S72)+1>MAX($J$5:$J$104),\"\",MAX($S$4:$S72)+1)","v":""},"","","","","",""]
[null,{"$f":"IF(TRIM($C74)=\"\",\"\",MAX($B$4:$B73)+1)","v":""},"",10,{"$f":"IF($C74=\"\",\"\",INDIRECT(ADDRESS(MATCH($C74,取組期間分割一覧!$B$4:$B$108,0)+ROW(取組期間分割一覧!$B$3),COLUMN(取組期間分割一覧!$D$4),1,1,\"取組期間分割一覧\"),TRUE)&\"\")","v":""},{"$f":"IF(C74=\"\",\"\",INDIRECT(ADDRESS(MATCH(C74,取組期間分割一覧!$B$4:$B$108,0)+ROW(取組期間分割一覧!$B$3),COLUMN(取組期間分割一覧!$D$4)+$D74,1,1,\"取組期間分割一覧\"),TRUE)&\"\")","v":""},"",null,220,{"$f":"IF(TRIM(P74)=\"\",\"\",MAX($J$3:$J73)+1)","v":""},"","",{"$f":"INDIRECT(\"取組期間分割!$E\"&'取組期間分割＞'!$I74)&\"\"","v":"令和"},{"$f":"INDIRECT(\"取組期間分割!$G\"&'取組期間分割＞'!$I74)&\"\"","v":""},{"$f":"INDIRECT(\"取組期間分割!$J\"&'取組期間分割＞'!$I74)&\"\"","v":""},{"$f":"INDIRECT(\"取組期間分割!$O\"&'取組期間分割＞'!$I74)&\"\"","v":""},"",null,{"$f":"IF(MAX($S$4:$S73)+1>MAX($J$5:$J$104),\"\",MAX($S$4:$S73)+1)","v":""},"","","","","",""]
[null,{"$f":"IF(TRIM($C75)=\"\",\"\",MAX($B$4:$B74)+1)","v":""},{"$f":"INDIRECT(ADDRESS(ROW('取組選択＞'!$BR$5)+TRUNC((ROW()-ROW($C$4)-1)/$B$2),COLUMN('取組選択＞'!$BR$5),1,1,\"取組選択＞\"))","v":""},1,{"$f":"IF($C75=\"\",\"\",INDIRECT(ADDRESS(MATCH($C75,取組期間分割一覧!$B$4:$B$108,0)+ROW(取組期間分割一覧!$B$3),COLUMN(取組期間分割一覧!$D$4),1,1,\"取組期間分割一覧\"),TRUE)&\"\")","v":""},{"$f":"IF(C75=\"\",\"\",INDIRECT(ADDRESS(MATCH(C75,取組期間分割一覧!$B$4:$B$108,0)+ROW(取組期間分割一覧!$B$3),COLUMN(取組期間分割一覧!$D$4)+$D75,1,1,\"取組期間分割一覧\"),TRUE)&\"\")","v":""},{"$f":"INDIRECT(ADDRESS(ROW('取組選択＞'!$BQ$5)+TRUNC((ROW()-ROW($C$4)-1)/$B$2),COLUMN('取組選択＞'!$BQ$5),1,1,\"取組選択＞\"))","v":""},null,{"$f":"I74+8","v":228},{"$f":"IF(TRIM(P75)=\"\",\"\",MAX($J$3:$J74)+1)","v":""},"","",{"$f":"INDIRECT(\"取組期間分割!$E\"&'取組期間分割＞'!$I75)&\"\"","v":"令和"},{"$f":"INDIRECT(\"取組期間分割!$G\"&'取組期間分割＞'!$I75)&\"\"","v":""},{"$f":"INDIRECT(\"取組期間分割!$J\"&'取組期間分割＞'!$I75)&\"\"","v":""},{"$f":"INDIRECT(\"取組期間分割!$O\"&'取組期間分割＞'!$I75)&\"\"","v":""},"",null,{"$f":"IF(MAX($S$4:$S74)+1>MAX($J$5:$J$104),\"\",MAX($S$4:$S74)+1)","v":""},"","","","","",""]
[null,{"$f":"IF(TRIM($C76)=\"\",\"\",MAX($B$4:$B75)+1)","v":""},{"$f":"C75","v":""},2,{"$f":"IF($C76=\"\",\"\",INDIRECT(ADDRESS(MATCH($C76,取組期間分割一覧!$B$4:$B$108,0)+ROW(取組期間分割一覧!$B$3),COLUMN(取組期間分割一覧!$D$4),1,1,\"取組期間分割一覧\"),TRUE)&\"\")","v":""},{"$f":"IF(C76=\"\",\"\",INDIRECT(ADDRESS(MATCH(C76,取組期間分割一覧!$B$4:$B$108,0)+ROW(取組期間分割一覧!$B$3),COLUMN(取組期間分割一覧!$D$4)+$D76,1,1,\"取組期間分割一覧\"),TRUE)&\"\")","v":""},{"$f":"G75","v":""},null,{"$f":"I75+2","v":230},{"$f":"IF(TRIM(P76)=\"\",\"\",MAX($J$3:$J75)+1)","v":""},"","",{"$f":"INDIRECT(\"取組期間分割!$E\"&'取組期間分割＞'!$I76)&\"\"","v":"令和"},{"$f":"INDIRECT(\"取組期間分割!$G\"&'取組期間分割＞'!$I76)&\"\"","v":""},{"$f":"INDIRECT(\"取組期間分割!$J\"&'取組期間分割＞'!$I76)&\"\"","v":""},{"$f":"INDIRECT(\"取組期間分割!$O\"&'取組期間分割＞'!$I76)&\"\"","v":""},"",null,{"$f":"IF(MAX($S$4:$S75)+1>MAX($J$5:$J$104),\"\",MAX($S$4:$S75)+1)","v":""},"","","","","",""]
[null,{"$f":"IF(TRIM($C77)=\"\",\"\",MAX($B$4:$B76)+1)","v":""},{"$f":"C76","v":""},3,{"$f":"IF($C77=\"\",\"\",INDIRECT(ADDRESS(MATCH($C77,取組期間分割一覧!$B$4:$B$108,0)+ROW(取組期間分割一覧!$B$3),COLUMN(取組期間分割一覧!$D$4),1,1,\"取組期間分割一覧\"),TRUE)&\"\")","v":""},{"$f":"IF(C77=\"\",\"\",INDIRECT(ADDRESS(MATCH(C77,取組期間分割一覧!$B$4:$B$108,0)+ROW(取組期間分割一覧!$B$3),COLUMN(取組期間分割一覧!$D$4)+$D77,1,1,\"取組期間分割一覧\"),TRUE)&\"\")","v":""},"",null,232,{"$f":"IF(TRIM(P77)=\"\",\"\",MAX($J$3:$J76)+1)","v":""},"","",{"$f":"INDIRECT(\"取組期間分割!$E\"&'取組期間分割＞'!$I77)&\"\"","v":"令和"},{"$f":"INDIRECT(\"取組期間分割!$G\"&'取組期間分割＞'!$I77)&\"\"","v":""},{"$f":"INDIRECT(\"取組期間分割!$J\"&'取組期間分割＞'!$I77)&\"\"","v":""},{"$f":"INDIRECT(\"取組期間分割!$O\"&'取組期間分割＞'!$I77)&\"\"","v":""},"",null,{"$f":"IF(MAX($S$4:$S76)+1>MAX($J$5:$J$104),\"\",MAX($S$4:$S76)+1)","v":""},"","","","","",""]
[null,{"$f":"IF(TRIM($C78)=\"\",\"\",MAX($B$4:$B77)+1)","v":""},"",4,{"$f":"IF($C78=\"\",\"\",INDIRECT(ADDRESS(MATCH($C78,取組期間分割一覧!$B$4:$B$108,0)+ROW(取組期間分割一覧!$B$3),COLUMN(取組期間分割一覧!$D$4),1,1,\"取組期間分割一覧\"),TRUE)&\"\")","v":""},{"$f":"IF(C78=\"\",\"\",INDIRECT(ADDRESS(MATCH(C78,取組期間分割一覧!$B$4:$B$108,0)+ROW(取組期間分割一覧!$B$3),COLUMN(取組期間分割一覧!$D$4)+$D78,1,1,\"取組期間分割一覧\"),TRUE)&\"\")","v":""},"",null,234,{"$f":"IF(TRIM(P78)=\"\",\"\",MAX($J$3:$J77)+1)","v":""},"","",{"$f":"INDIRECT(\"取組期間分割!$E\"&'取組期間分割＞'!$I78)&\"\"","v":"令和"},{"$f":"INDIRECT(\"取組期間分割!$G\"&'取組期間分割＞'!$I78)&\"\"","v":""},{"$f":"INDIRECT(\"取組期間分割!$J\"&'取組期間分割＞'!$I78)&\"\"","v":""},{"$f":"INDIRECT(\"取組期間分割!$O\"&'取組期間分割＞'!$I78)&\"\"","v":""},"",null,{"$f":"IF(MAX($S$4:$S77)+1>MAX($J$5:$J$104),\"\",MAX($S$4:$S77)+1)","v":""},"","","","","",""]
[null,{"$f":"IF(TRIM($C79)=\"\",\"\",MAX($B$4:$B78)+1)","v":""},"",5,{"$f":"IF($C79=\"\",\"\",INDIRECT(ADDRESS(MATCH($C79,取組期間分割一覧!$B$4:$B$108,0)+ROW(取組期間分割一覧!$B$3),COLUMN(取組期間分割一覧!$D$4),1,1,\"取組期間分割一覧\"),TRUE)&\"\")","v":""},{"$f":"IF(C79=\"\",\"\",INDIRECT(ADDRESS(MATCH(C79,取組期間分割一覧!$B$4:$B$108,0)+ROW(取組期間分割一覧!$B$3),COLUMN(取組期間分割一覧!$D$4)+$D79,1,1,\"取組期間分割一覧\"),TRUE)&\"\")","v":""},"",null,236,{"$f":"IF(TRIM(P79)=\"\",\"\",MAX($J$3:$J78)+1)","v":""},"","",{"$f":"INDIRECT(\"取組期間分割!$E\"&'取組期間分割＞'!$I79)&\"\"","v":"令和"},{"$f":"INDIRECT(\"取組期間分割!$G\"&'取組期間分割＞'!$I79)&\"\"","v":""},{"$f":"INDIRECT(\"取組期間分割!$J\"&'取組期間分割＞'!$I79)&\"\"","v":""},{"$f":"INDIRECT(\"取組期間分割!$O\"&'取組期間分割＞'!$I79)&\"\"","v":""},"",null,{"$f":"IF(MAX($S$4:$S78)+1>MAX($J$5:$J$104),\"\",MAX($S$4:$S78)+1)","v":""},"","","","","",""]
[null,{"$f":"IF(TRIM($C80)=\"\",\"\",MAX($B$4:$B79)+1)","v":""},"",6,{"$f":"IF($C80=\"\",\"\",INDIRECT(ADDRESS(MATCH($C80,取組期間分割一覧!$B$4:$B$108,0)+ROW(取組期間分割一覧!$B$3),COLUMN(取組期間分割一覧!$D$4),1,1,\"取組期間分割一覧\"),TRUE)&\"\")","v":""},{"$f":"IF(C80=\"\",\"\",INDIRECT(ADDRESS(MATCH(C80,取組期間分割一覧!$B$4:$B$108,0)+ROW(取組期間分割一覧!$B$3),COLUMN(取組期間分割一覧!$D$4)+$D80,1,1,\"取組期間分割一覧\"),TRUE)&\"\")","v":""},"",null,238,{"$f":"IF(TRIM(P80)=\"\",\"\",MAX($J$3:$J79)+1)","v":""},"","",{"$f":"INDIRECT(\"取組期間分割!$E\"&'取組期間分割＞'!$I80)&\"\"","v":"令和"},{"$f":"INDIRECT(\"取組期間分割!$G\"&'取組期間分割＞'!$I80)&\"\"","v":""},{"$f":"INDIRECT(\"取組期間分割!$J\"&'取組期間分割＞'!$I80)&\"\"","v":""},{"$f":"INDIRECT(\"取組期間分割!$O\"&'取組期間分割＞'!$I80)&\"\"","v":""},"",null,{"$f":"IF(MAX($S$4:$S79)+1>MAX($J$5:$J$104),\"\",MAX($S$4:$S79)+1)","v":""},"","","","","",""]
[null,{"$f":"IF(TRIM($C81)=\"\",\"\",MAX($B$4:$B80)+1)","v":""},"",7,{"$f":"IF($C81=\"\",\"\",INDIRECT(ADDRESS(MATCH($C81,取組期間分割一覧!$B$4:$B$108,0)+ROW(取組期間分割一覧!$B$3),COLUMN(取組期間分割一覧!$D$4),1,1,\"取組期間分割一覧\"),TRUE)&\"\")","v":""},{"$f":"IF(C81=\"\",\"\",INDIRECT(ADDRESS(MATCH(C81,取組期間分割一覧!$B$4:$B$108,0)+ROW(取組期間分割一覧!$B$3),COLUMN(取組期間分割一覧!$D$4)+$D81,1,1,\"取組期間分割一覧\"),TRUE)&\"\")","v":""},"",null,240,{"$f":"IF(TRIM(P81)=\"\",\"\",MAX($J$3:$J80)+1)","v":""},"","",{"$f":"INDIRECT(\"取組期間分割!$E\"&'取組期間分割＞'!$I81)&\"\"","v":"令和"},{"$f":"INDIRECT(\"取組期間分割!$G\"&'取組期間分割＞'!$I81)&\"\"","v":""},{"$f":"INDIRECT(\"取組期間分割!$J\"&'取組期間分割＞'!$I81)&\"\"","v":""},{"$f":"INDIRECT(\"取組期間分割!$O\"&'取組期間分割＞'!$I81)&\"\"","v":""},"",null,{"$f":"IF(MAX($S$4:$S80)+1>MAX($J$5:$J$104),\"\",MAX($S$4:$S80)+1)","v":""},"","","","","",""]
[null,{"$f":"IF(TRIM($C82)=\"\",\"\",MAX($B$4:$B81)+1)","v":""},"",8,{"$f":"IF($C82=\"\",\"\",INDIRECT(ADDRESS(MATCH($C82,取組期間分割一覧!$B$4:$B$108,0)+ROW(取組期間分割一覧!$B$3),COLUMN(取組期間分割一覧!$D$4),1,1,\"取組期間分割一覧\"),TRUE)&\"\")","v":""},{"$f":"IF(C82=\"\",\"\",INDIRECT(ADDRESS(MATCH(C82,取組期間分割一覧!$B$4:$B$108,0)+ROW(取組期間分割一覧!$B$3),COLUMN(取組期間分割一覧!$D$4)+$D82,1,1,\"取組期間分割一覧\"),TRUE)&\"\")","v":""},"",null,242,{"$f":"IF(TRIM(P82)=\"\",\"\",MAX($J$3:$J81)+1)","v":""},"","",{"$f":"INDIRECT(\"取組期間分割!$E\"&'取組期間分割＞'!$I82)&\"\"","v":"令和"},{"$f":"INDIRECT(\"取組期間分割!$G\"&'取組期間分割＞'!$I82)&\"\"","v":""},{"$f":"INDIRECT(\"取組期間分割!$J\"&'取組期間分割＞'!$I82)&\"\"","v":""},{"$f":"INDIRECT(\"取組期間分割!$O\"&'取組期間分割＞'!$I82)&\"\"","v":""},"",null,{"$f":"IF(MAX($S$4:$S81)+1>MAX($J$5:$J$104),\"\",MAX($S$4:$S81)+1)","v":""},"","","","","",""]
[null,{"$f":"IF(TRIM($C83)=\"\",\"\",MAX($B$4:$B82)+1)","v":""},"",9,{"$f":"IF($C83=\"\",\"\",INDIRECT(ADDRESS(MATCH($C83,取組期間分割一覧!$B$4:$B$108,0)+ROW(取組期間分割一覧!$B$3),COLUMN(取組期間分割一覧!$D$4),1,1,\"取組期間分割一覧\"),TRUE)&\"\")","v":""},{"$f":"IF(C83=\"\",\"\",INDIRECT(ADDRESS(MATCH(C83,取組期間分割一覧!$B$4:$B$108,0)+ROW(取組期間分割一覧!$B$3),COLUMN(取組期間分割一覧!$D$4)+$D83,1,1,\"取組期間分割一覧\"),TRUE)&\"\")","v":""},"",null,244,{"$f":"IF(TRIM(P83)=\"\",\"\",MAX($J$3:$J82)+1)","v":""},"","",{"$f":"INDIRECT(\"取組期間分割!$E\"&'取組期間分割＞'!$I83)&\"\"","v":"令和"},{"$f":"INDIRECT(\"取組期間分割!$G\"&'取組期間分割＞'!$I83)&\"\"","v":""},{"$f":"INDIRECT(\"取組期間分割!$J\"&'取組期間分割＞'!$I83)&\"\"","v":""},{"$f":"INDIRECT(\"取組期間分割!$O\"&'取組期間分割＞'!$I83)&\"\"","v":""},"",null,{"$f":"IF(MAX($S$4:$S82)+1>MAX($J$5:$J$104),\"\",MAX($S$4:$S82)+1)","v":""},"","","","","",""]
[null,{"$f":"IF(TRIM($C84)=\"\",\"\",MAX($B$4:$B83)+1)","v":""},"",10,{"$f":"IF($C84=\"\",\"\",INDIRECT(ADDRESS(MATCH($C84,取組期間分割一覧!$B$4:$B$108,0)+ROW(取組期間分割一覧!$B$3),COLUMN(取組期間分割一覧!$D$4),1,1,\"取組期間分割一覧\"),TRUE)&\"\")","v":""},{"$f":"IF(C84=\"\",\"\",INDIRECT(ADDRESS(MATCH(C84,取組期間分割一覧!$B$4:$B$108,0)+ROW(取組期間分割一覧!$B$3),COLUMN(取組期間分割一覧!$D$4)+$D84,1,1,\"取組期間分割一覧\"),TRUE)&\"\")","v":""},"",null,246,{"$f":"IF(TRIM(P84)=\"\",\"\",MAX($J$3:$J83)+1)","v":""},"","",{"$f":"INDIRECT(\"取組期間分割!$E\"&'取組期間分割＞'!$I84)&\"\"","v":"令和"},{"$f":"INDIRECT(\"取組期間分割!$G\"&'取組期間分割＞'!$I84)&\"\"","v":""},{"$f":"INDIRECT(\"取組期間分割!$J\"&'取組期間分割＞'!$I84)&\"\"","v":""},{"$f":"INDIRECT(\"取組期間分割!$O\"&'取組期間分割＞'!$I84)&\"\"","v":""},"",null,{"$f":"IF(MAX($S$4:$S83)+1>MAX($J$5:$J$104),\"\",MAX($S$4:$S83)+1)","v":""},"","","","","",""]
[null,{"$f":"IF(TRIM($C85)=\"\",\"\",MAX($B$4:$B84)+1)","v":""},{"$f":"INDIRECT(ADDRESS(ROW('取組選択＞'!$BR$5)+TRUNC((ROW()-ROW($C$4)-1)/$B$2),COLUMN('取組選択＞'!$BR$5),1,1,\"取組選択＞\"))","v":""},1,{"$f":"IF($C85=\"\",\"\",INDIRECT(ADDRESS(MATCH($C85,取組期間分割一覧!$B$4:$B$108,0)+ROW(取組期間分割一覧!$B$3),COLUMN(取組期間分割一覧!$D$4),1,1,\"取組期間分割一覧\"),TRUE)&\"\")","v":""},{"$f":"IF(C85=\"\",\"\",INDIRECT(ADDRESS(MATCH(C85,取組期間分割一覧!$B$4:$B$108,0)+ROW(取組期間分割一覧!$B$3),COLUMN(取組期間分割一覧!$D$4)+$D85,1,1,\"取組期間分割一覧\"),TRUE)&\"\")","v":""},{"$f":"INDIRECT(ADDRESS(ROW('取組選択＞'!$BQ$5)+TRUNC((ROW()-ROW($C$4)-1)/$B$2),COLUMN('取組選択＞'!$BQ$5),1,1,\"取組選択＞\"))","v":""},null,{"$f":"I84+8","v":254},{"$f":"IF(TRIM(P85)=\"\",\"\",MAX($J$3:$J84)+1)","v":""},"","",{"$f":"INDIRECT(\"取組期間分割!$E\"&'取組期間分割＞'!$I85)&\"\"","v":"令和"},{"$f":"INDIRECT(\"取組期間分割!$G\"&'取組期間分割＞'!$I85)&\"\"","v":""},{"$f":"INDIRECT(\"取組期間分割!$J\"&'取組期間分割＞'!$I85)&\"\"","v":""},{"$f":"INDIRECT(\"取組期間分割!$O\"&'取組期間分割＞'!$I85)&\"\"","v":""},"",null,{"$f":"IF(MAX($S$4:$S84)+1>MAX($J$5:$J$104),\"\",MAX($S$4:$S84)+1)","v":""},"","","","","",""]
[null,{"$f":"IF(TRIM($C86)=\"\",\"\",MAX($B$4:$B85)+1)","v":""},{"$f":"C85","v":""},2,{"$f":"IF($C86=\"\",\"\",INDIRECT(ADDRESS(MATCH($C86,取組期間分割一覧!$B$4:$B$108,0)+ROW(取組期間分割一覧!$B$3),COLUMN(取組期間分割一覧!$D$4),1,1,\"取組期間分割一覧\"),TRUE)&\"\")","v":""},{"$f":"IF(C86=\"\",\"\",INDIRECT(ADDRESS(MATCH(C86,取組期間分割一覧!$B$4:$B$108,0)+ROW(取組期間分割一覧!$B$3),COLUMN(取組期間分割一覧!$D$4)+$D86,1,1,\"取組期間分割一覧\"),TRUE)&\"\")","v":""},{"$f":"G85","v":""},null,{"$f":"I85+2","v":256},{"$f":"IF(TRIM(P86)=\"\",\"\",MAX($J$3:$J85)+1)","v":""},"","",{"$f":"INDIRECT(\"取組期間分割!$E\"&'取組期間分割＞'!$I86)&\"\"","v":"令和"},{"$f":"INDIRECT(\"取組期間分割!$G\"&'取組期間分割＞'!$I86)&\"\"","v":""},{"$f":"INDIRECT(\"取組期間分割!$J\"&'取組期間分割＞'!$I86)&\"\"","v":""},{"$f":"INDIRECT(\"取組期間分割!$O\"&'取組期間分割＞'!$I86)&\"\"","v":""},"",null,{"$f":"IF(MAX($S$4:$S85)+1>MAX($J$5:$J$104),\"\",MAX($S$4:$S85)+1)","v":""},"","","","","",""]
[null,{"$f":"IF(TRIM($C87)=\"\",\"\",MAX($B$4:$B86)+1)","v":""},{"$f":"C86","v":""},3,{"$f":"IF($C87=\"\",\"\",INDIRECT(ADDRESS(MATCH($C87,取組期間分割一覧!$B$4:$B$108,0)+ROW(取組期間分割一覧!$B$3),COLUMN(取組期間分割一覧!$D$4),1,1,\"取組期間分割一覧\"),TRUE)&\"\")","v":""},{"$f":"IF(C87=\"\",\"\",INDIRECT(ADDRESS(MATCH(C87,取組期間分割一覧!$B$4:$B$108,0)+ROW(取組期間分割一覧!$B$3),COLUMN(取組期間分割一覧!$D$4)+$D87,1,1,\"取組期間分割一覧\"),TRUE)&\"\")","v":""},"",null,258,{"$f":"IF(TRIM(P87)=\"\",\"\",MAX($J$3:$J86)+1)","v":""},"","",{"$f":"INDIRECT(\"取組期間分割!$E\"&'取組期間分割＞'!$I87)&\"\"","v":"令和"},{"$f":"INDIRECT(\"取組期間分割!$G\"&'取組期間分割＞'!$I87)&\"\"","v":""},{"$f":"INDIRECT(\"取組期間分割!$J\"&'取組期間分割＞'!$I87)&\"\"","v":""},{"$f":"INDIRECT(\"取組期間分割!$O\"&'取組期間分割＞'!$I87)&\"\"","v":""},"",null,{"$f":"IF(MAX($S$4:$S86)+1>MAX($J$5:$J$104),\"\",MAX($S$4:$S86)+1)","v":""},"","","","","",""]
[null,{"$f":"IF(TRIM($C88)=\"\",\"\",MAX($B$4:$B87)+1)","v":""},"",4,{"$f":"IF($C88=\"\",\"\",INDIRECT(ADDRESS(MATCH($C88,取組期間分割一覧!$B$4:$B$108,0)+ROW(取組期間分割一覧!$B$3),COLUMN(取組期間分割一覧!$D$4),1,1,\"取組期間分割一覧\"),TRUE)&\"\")","v":""},{"$f":"IF(C88=\"\",\"\",INDIRECT(ADDRESS(MATCH(C88,取組期間分割一覧!$B$4:$B$108,0)+ROW(取組期間分割一覧!$B$3),COLUMN(取組期間分割一覧!$D$4)+$D88,1,1,\"取組期間分割一覧\"),TRUE)&\"\")","v":""},"",null,260,{"$f":"IF(TRIM(P88)=\"\",\"\",MAX($J$3:$J87)+1)","v":""},"","",{"$f":"INDIRECT(\"取組期間分割!$E\"&'取組期間分割＞'!$I88)&\"\"","v":"令和"},{"$f":"INDIRECT(\"取組期間分割!$G\"&'取組期間分割＞'!$I88)&\"\"","v":""},{"$f":"INDIRECT(\"取組期間分割!$J\"&'取組期間分割＞'!$I88)&\"\"","v":""},{"$f":"INDIRECT(\"取組期間分割!$O\"&'取組期間分割＞'!$I88)&\"\"","v":""},"",null,{"$f":"IF(MAX($S$4:$S87)+1>MAX($J$5:$J$104),\"\",MAX($S$4:$S87)+1)","v":""},"","","","","",""]
[null,{"$f":"IF(TRIM($C89)=\"\",\"\",MAX($B$4:$B88)+1)","v":""},"",5,{"$f":"IF($C89=\"\",\"\",INDIRECT(ADDRESS(MATCH($C89,取組期間分割一覧!$B$4:$B$108,0)+ROW(取組期間分割一覧!$B$3),COLUMN(取組期間分割一覧!$D$4),1,1,\"取組期間分割一覧\"),TRUE)&\"\")","v":""},{"$f":"IF(C89=\"\",\"\",INDIRECT(ADDRESS(MATCH(C89,取組期間分割一覧!$B$4:$B$108,0)+ROW(取組期間分割一覧!$B$3),COLUMN(取組期間分割一覧!$D$4)+$D89,1,1,\"取組期間分割一覧\"),TRUE)&\"\")","v":""},"",null,262,{"$f":"IF(TRIM(P89)=\"\",\"\",MAX($J$3:$J88)+1)","v":""},"","",{"$f":"INDIRECT(\"取組期間分割!$E\"&'取組期間分割＞'!$I89)&\"\"","v":"令和"},{"$f":"INDIRECT(\"取組期間分割!$G\"&'取組期間分割＞'!$I89)&\"\"","v":""},{"$f":"INDIRECT(\"取組期間分割!$J\"&'取組期間分割＞'!$I89)&\"\"","v":""},{"$f":"INDIRECT(\"取組期間分割!$O\"&'取組期間分割＞'!$I89)&\"\"","v":""},"",null,{"$f":"IF(MAX($S$4:$S88)+1>MAX($J$5:$J$104),\"\",MAX($S$4:$S88)+1)","v":""},"","","","","",""]
[null,{"$f":"IF(TRIM($C90)=\"\",\"\",MAX($B$4:$B89)+1)","v":""},"",6,{"$f":"IF($C90=\"\",\"\",INDIRECT(ADDRESS(MATCH($C90,取組期間分割一覧!$B$4:$B$108,0)+ROW(取組期間分割一覧!$B$3),COLUMN(取組期間分割一覧!$D$4),1,1,\"取組期間分割一覧\"),TRUE)&\"\")","v":""},{"$f":"IF(C90=\"\",\"\",INDIRECT(ADDRESS(MATCH(C90,取組期間分割一覧!$B$4:$B$108,0)+ROW(取組期間分割一覧!$B$3),COLUMN(取組期間分割一覧!$D$4)+$D90,1,1,\"取組期間分割一覧\"),TRUE)&\"\")","v":""},"",null,264,{"$f":"IF(TRIM(P90)=\"\",\"\",MAX($J$3:$J89)+1)","v":""},"","",{"$f":"INDIRECT(\"取組期間分割!$E\"&'取組期間分割＞'!$I90)&\"\"","v":"令和"},{"$f":"INDIRECT(\"取組期間分割!$G\"&'取組期間分割＞'!$I90)&\"\"","v":""},{"$f":"INDIRECT(\"取組期間分割!$J\"&'取組期間分割＞'!$I90)&\"\"","v":""},{"$f":"INDIRECT(\"取組期間分割!$O\"&'取組期間分割＞'!$I90)&\"\"","v":""},"",null,{"$f":"IF(MAX($S$4:$S89)+1>MAX($J$5:$J$104),\"\",MAX($S$4:$S89)+1)","v":""},"","","","","",""]
[null,{"$f":"IF(TRIM($C91)=\"\",\"\",MAX($B$4:$B90)+1)","v":""},"",7,{"$f":"IF($C91=\"\",\"\",INDIRECT(ADDRESS(MATCH($C91,取組期間分割一覧!$B$4:$B$108,0)+ROW(取組期間分割一覧!$B$3),COLUMN(取組期間分割一覧!$D$4),1,1,\"取組期間分割一覧\"),TRUE)&\"\")","v":""},{"$f":"IF(C91=\"\",\"\",INDIRECT(ADDRESS(MATCH(C91,取組期間分割一覧!$B$4:$B$108,0)+ROW(取組期間分割一覧!$B$3),COLUMN(取組期間分割一覧!$D$4)+$D91,1,1,\"取組期間分割一覧\"),TRUE)&\"\")","v":""},"",null,266,{"$f":"IF(TRIM(P91)=\"\",\"\",MAX($J$3:$J90)+1)","v":""},"","",{"$f":"INDIRECT(\"取組期間分割!$E\"&'取組期間分割＞'!$I91)&\"\"","v":"令和"},{"$f":"INDIRECT(\"取組期間分割!$G\"&'取組期間分割＞'!$I91)&\"\"","v":""},{"$f":"INDIRECT(\"取組期間分割!$J\"&'取組期間分割＞'!$I91)&\"\"","v":""},{"$f":"INDIRECT(\"取組期間分割!$O\"&'取組期間分割＞'!$I91)&\"\"","v":""},"",null,{"$f":"IF(MAX($S$4:$S90)+1>MAX($J$5:$J$104),\"\",MAX($S$4:$S90)+1)","v":""},"","","","","",""]
[null,{"$f":"IF(TRIM($C92)=\"\",\"\",MAX($B$4:$B91)+1)","v":""},"",8,{"$f":"IF($C92=\"\",\"\",INDIRECT(ADDRESS(MATCH($C92,取組期間分割一覧!$B$4:$B$108,0)+ROW(取組期間分割一覧!$B$3),COLUMN(取組期間分割一覧!$D$4),1,1,\"取組期間分割一覧\"),TRUE)&\"\")","v":""},{"$f":"IF(C92=\"\",\"\",INDIRECT(ADDRESS(MATCH(C92,取組期間分割一覧!$B$4:$B$108,0)+ROW(取組期間分割一覧!$B$3),COLUMN(取組期間分割一覧!$D$4)+$D92,1,1,\"取組期間分割一覧\"),TRUE)&\"\")","v":""},"",null,268,{"$f":"IF(TRIM(P92)=\"\",\"\",MAX($J$3:$J91)+1)","v":""},"","",{"$f":"INDIRECT(\"取組期間分割!$E\"&'取組期間分割＞'!$I92)&\"\"","v":"令和"},{"$f":"INDIRECT(\"取組期間分割!$G\"&'取組期間分割＞'!$I92)&\"\"","v":""},{"$f":"INDIRECT(\"取組期間分割!$J\"&'取組期間分割＞'!$I92)&\"\"","v":""},{"$f":"INDIRECT(\"取組期間分割!$O\"&'取組期間分割＞'!$I92)&\"\"","v":""},"",null,{"$f":"IF(MAX($S$4:$S91)+1>MAX($J$5:$J$104),\"\",MAX($S$4:$S91)+1)","v":""},"","","","","",""]
[null,{"$f":"IF(TRIM($C93)=\"\",\"\",MAX($B$4:$B92)+1)","v":""},"",9,{"$f":"IF($C93=\"\",\"\",INDIRECT(ADDRESS(MATCH($C93,取組期間分割一覧!$B$4:$B$108,0)+ROW(取組期間分割一覧!$B$3),COLUMN(取組期間分割一覧!$D$4),1,1,\"取組期間分割一覧\"),TRUE)&\"\")","v":""},{"$f":"IF(C93=\"\",\"\",INDIRECT(ADDRESS(MATCH(C93,取組期間分割一覧!$B$4:$B$108,0)+ROW(取組期間分割一覧!$B$3),COLUMN(取組期間分割一覧!$D$4)+$D93,1,1,\"取組期間分割一覧\"),TRUE)&\"\")","v":""},"",null,270,{"$f":"IF(TRIM(P93)=\"\",\"\",MAX($J$3:$J92)+1)","v":""},"","",{"$f":"INDIRECT(\"取組期間分割!$E\"&'取組期間分割＞'!$I93)&\"\"","v":"令和"},{"$f":"INDIRECT(\"取組期間分割!$G\"&'取組期間分割＞'!$I93)&\"\"","v":""},{"$f":"INDIRECT(\"取組期間分割!$J\"&'取組期間分割＞'!$I93)&\"\"","v":""},{"$f":"INDIRECT(\"取組期間分割!$O\"&'取組期間分割＞'!$I93)&\"\"","v":""},"",null,{"$f":"IF(MAX($S$4:$S92)+1>MAX($J$5:$J$104),\"\",MAX($S$4:$S92)+1)","v":""},"","","","","",""]
[null,{"$f":"IF(TRIM($C94)=\"\",\"\",MAX($B$4:$B93)+1)","v":""},"",10,{"$f":"IF($C94=\"\",\"\",INDIRECT(ADDRESS(MATCH($C94,取組期間分割一覧!$B$4:$B$108,0)+ROW(取組期間分割一覧!$B$3),COLUMN(取組期間分割一覧!$D$4),1,1,\"取組期間分割一覧\"),TRUE)&\"\")","v":""},{"$f":"IF(C94=\"\",\"\",INDIRECT(ADDRESS(MATCH(C94,取組期間分割一覧!$B$4:$B$108,0)+ROW(取組期間分割一覧!$B$3),COLUMN(取組期間分割一覧!$D$4)+$D94,1,1,\"取組期間分割一覧\"),TRUE)&\"\")","v":""},"",null,272,{"$f":"IF(TRIM(P94)=\"\",\"\",MAX($J$3:$J93)+1)","v":""},"","",{"$f":"INDIRECT(\"取組期間分割!$E\"&'取組期間分割＞'!$I94)&\"\"","v":"令和"},{"$f":"INDIRECT(\"取組期間分割!$G\"&'取組期間分割＞'!$I94)&\"\"","v":""},{"$f":"INDIRECT(\"取組期間分割!$J\"&'取組期間分割＞'!$I94)&\"\"","v":""},{"$f":"INDIRECT(\"取組期間分割!$O\"&'取組期間分割＞'!$I94)&\"\"","v":""},"",null,{"$f":"IF(MAX($S$4:$S93)+1>MAX($J$5:$J$104),\"\",MAX($S$4:$S93)+1)","v":""},"","","","","",""]
[null,{"$f":"IF(TRIM($C95)=\"\",\"\",MAX($B$4:$B94)+1)","v":""},{"$f":"INDIRECT(ADDRESS(ROW('取組選択＞'!$BR$5)+TRUNC((ROW()-ROW($C$4)-1)/$B$2),COLUMN('取組選択＞'!$BR$5),1,1,\"取組選択＞\"))","v":""},1,{"$f":"IF($C95=\"\",\"\",INDIRECT(ADDRESS(MATCH($C95,取組期間分割一覧!$B$4:$B$108,0)+ROW(取組期間分割一覧!$B$3),COLUMN(取組期間分割一覧!$D$4),1,1,\"取組期間分割一覧\"),TRUE)&\"\")","v":""},{"$f":"IF(C95=\"\",\"\",INDIRECT(ADDRESS(MATCH(C95,取組期間分割一覧!$B$4:$B$108,0)+ROW(取組期間分割一覧!$B$3),COLUMN(取組期間分割一覧!$D$4)+$D95,1,1,\"取組期間分割一覧\"),TRUE)&\"\")","v":""},{"$f":"INDIRECT(ADDRESS(ROW('取組選択＞'!$BQ$5)+TRUNC((ROW()-ROW($C$4)-1)/$B$2),COLUMN('取組選択＞'!$BQ$5),1,1,\"取組選択＞\"))","v":""},null,{"$f":"I94+8","v":280},{"$f":"IF(TRIM(P95)=\"\",\"\",MAX($J$3:$J94)+1)","v":""},"","",{"$f":"INDIRECT(\"取組期間分割!$E\"&'取組期間分割＞'!$I95)&\"\"","v":"令和"},{"$f":"INDIRECT(\"取組期間分割!$G\"&'取組期間分割＞'!$I95)&\"\"","v":""},{"$f":"INDIRECT(\"取組期間分割!$J\"&'取組期間分割＞'!$I95)&\"\"","v":""},{"$f":"INDIRECT(\"取組期間分割!$O\"&'取組期間分割＞'!$I95)&\"\"","v":""},"",null,{"$f":"IF(MAX($S$4:$S94)+1>MAX($J$5:$J$104),\"\",MAX($S$4:$S94)+1)","v":""},"","","","","",""]
[null,{"$f":"IF(TRIM($C96)=\"\",\"\",MAX($B$4:$B95)+1)","v":""},{"$f":"C95","v":""},2,{"$f":"IF($C96=\"\",\"\",INDIRECT(ADDRESS(MATCH($C96,取組期間分割一覧!$B$4:$B$108,0)+ROW(取組期間分割一覧!$B$3),COLUMN(取組期間分割一覧!$D$4),1,1,\"取組期間分割一覧\"),TRUE)&\"\")","v":""},{"$f":"IF(C96=\"\",\"\",INDIRECT(ADDRESS(MATCH(C96,取組期間分割一覧!$B$4:$B$108,0)+ROW(取組期間分割一覧!$B$3),COLUMN(取組期間分割一覧!$D$4)+$D96,1,1,\"取組期間分割一覧\"),TRUE)&\"\")","v":""},{"$f":"G95","v":""},null,{"$f":"I95+2","v":282},{"$f":"IF(TRIM(P96)=\"\",\"\",MAX($J$3:$J95)+1)","v":""},"","",{"$f":"INDIRECT(\"取組期間分割!$E\"&'取組期間分割＞'!$I96)&\"\"","v":"令和"},{"$f":"INDIRECT(\"取組期間分割!$G\"&'取組期間分割＞'!$I96)&\"\"","v":""},{"$f":"INDIRECT(\"取組期間分割!$J\"&'取組期間分割＞'!$I96)&\"\"","v":""},{"$f":"INDIRECT(\"取組期間分割!$O\"&'取組期間分割＞'!$I96)&\"\"","v":""},"",null,{"$f":"IF(MAX($S$4:$S95)+1>MAX($J$5:$J$104),\"\",MAX($S$4:$S95)+1)","v":""},"","","","","",""]
[null,{"$f":"IF(TRIM($C97)=\"\",\"\",MAX($B$4:$B96)+1)","v":""},{"$f":"C96","v":""},3,{"$f":"IF($C97=\"\",\"\",INDIRECT(ADDRESS(MATCH($C97,取組期間分割一覧!$B$4:$B$108,0)+ROW(取組期間分割一覧!$B$3),COLUMN(取組期間分割一覧!$D$4),1,1,\"取組期間分割一覧\"),TRUE)&\"\")","v":""},{"$f":"IF(C97=\"\",\"\",INDIRECT(ADDRESS(MATCH(C97,取組期間分割一覧!$B$4:$B$108,0)+ROW(取組期間分割一覧!$B$3),COLUMN(取組期間分割一覧!$D$4)+$D97,1,1,\"取組期間分割一覧\"),TRUE)&\"\")","v":""},"",null,284,{"$f":"IF(TRIM(P97)=\"\",\"\",MAX($J$3:$J96)+1)","v":""},"","",{"$f":"INDIRECT(\"取組期間分割!$E\"&'取組期間分割＞'!$I97)&\"\"","v":"令和"},{"$f":"INDIRECT(\"取組期間分割!$G\"&'取組期間分割＞'!$I97)&\"\"","v":""},{"$f":"INDIRECT(\"取組期間分割!$J\"&'取組期間分割＞'!$I97)&\"\"","v":""},{"$f":"INDIRECT(\"取組期間分割!$O\"&'取組期間分割＞'!$I97)&\"\"","v":""},"",null,{"$f":"IF(MAX($S$4:$S96)+1>MAX($J$5:$J$104),\"\",MAX($S$4:$S96)+1)","v":""},"","","","","",""]
[null,{"$f":"IF(TRIM($C98)=\"\",\"\",MAX($B$4:$B97)+1)","v":""},"",4,{"$f":"IF($C98=\"\",\"\",INDIRECT(ADDRESS(MATCH($C98,取組期間分割一覧!$B$4:$B$108,0)+ROW(取組期間分割一覧!$B$3),COLUMN(取組期間分割一覧!$D$4),1,1,\"取組期間分割一覧\"),TRUE)&\"\")","v":""},{"$f":"IF(C98=\"\",\"\",INDIRECT(ADDRESS(MATCH(C98,取組期間分割一覧!$B$4:$B$108,0)+ROW(取組期間分割一覧!$B$3),COLUMN(取組期間分割一覧!$D$4)+$D98,1,1,\"取組期間分割一覧\"),TRUE)&\"\")","v":""},"",null,286,{"$f":"IF(TRIM(P98)=\"\",\"\",MAX($J$3:$J97)+1)","v":""},"","",{"$f":"INDIRECT(\"取組期間分割!$E\"&'取組期間分割＞'!$I98)&\"\"","v":"令和"},{"$f":"INDIRECT(\"取組期間分割!$G\"&'取組期間分割＞'!$I98)&\"\"","v":""},{"$f":"INDIRECT(\"取組期間分割!$J\"&'取組期間分割＞'!$I98)&\"\"","v":""},{"$f":"INDIRECT(\"取組期間分割!$O\"&'取組期間分割＞'!$I98)&\"\"","v":""},"",null,{"$f":"IF(MAX($S$4:$S97)+1>MAX($J$5:$J$104),\"\",MAX($S$4:$S97)+1)","v":""},"","","","","",""]
[null,{"$f":"IF(TRIM($C99)=\"\",\"\",MAX($B$4:$B98)+1)","v":""},"",5,{"$f":"IF($C99=\"\",\"\",INDIRECT(ADDRESS(MATCH($C99,取組期間分割一覧!$B$4:$B$108,0)+ROW(取組期間分割一覧!$B$3),COLUMN(取組期間分割一覧!$D$4),1,1,\"取組期間分割一覧\"),TRUE)&\"\")","v":""},{"$f":"IF(C99=\"\",\"\",INDIRECT(ADDRESS(MATCH(C99,取組期間分割一覧!$B$4:$B$108,0)+ROW(取組期間分割一覧!$B$3),COLUMN(取組期間分割一覧!$D$4)+$D99,1,1,\"取組期間分割一覧\"),TRUE)&\"\")","v":""},"",null,288,{"$f":"IF(TRIM(P99)=\"\",\"\",MAX($J$3:$J98)+1)","v":""},"","",{"$f":"INDIRECT(\"取組期間分割!$E\"&'取組期間分割＞'!$I99)&\"\"","v":"令和"},{"$f":"INDIRECT(\"取組期間分割!$G\"&'取組期間分割＞'!$I99)&\"\"","v":""},{"$f":"INDIRECT(\"取組期間分割!$J\"&'取組期間分割＞'!$I99)&\"\"","v":""},{"$f":"INDIRECT(\"取組期間分割!$O\"&'取組期間分割＞'!$I99)&\"\"","v":""},"",null,{"$f":"IF(MAX($S$4:$S98)+1>MAX($J$5:$J$104),\"\",MAX($S$4:$S98)+1)","v":""},"","","","","",""]
[null,{"$f":"IF(TRIM($C100)=\"\",\"\",MAX($B$4:$B99)+1)","v":""},"",6,{"$f":"IF($C100=\"\",\"\",INDIRECT(ADDRESS(MATCH($C100,取組期間分割一覧!$B$4:$B$108,0)+ROW(取組期間分割一覧!$B$3),COLUMN(取組期間分割一覧!$D$4),1,1,\"取組期間分割一覧\"),TRUE)&\"\")","v":""},{"$f":"IF(C100=\"\",\"\",INDIRECT(ADDRESS(MATCH(C100,取組期間分割一覧!$B$4:$B$108,0)+ROW(取組期間分割一覧!$B$3),COLUMN(取組期間分割一覧!$D$4)+$D100,1,1,\"取組期間分割一覧\"),TRUE)&\"\")","v":""},"",null,290,{"$f":"IF(TRIM(P100)=\"\",\"\",MAX($J$3:$J99)+1)","v":""},"","",{"$f":"INDIRECT(\"取組期間分割!$E\"&'取組期間分割＞'!$I100)&\"\"","v":"令和"},{"$f":"INDIRECT(\"取組期間分割!$G\"&'取組期間分割＞'!$I100)&\"\"","v":""},{"$f":"INDIRECT(\"取組期間分割!$J\"&'取組期間分割＞'!$I100)&\"\"","v":""},{"$f":"INDIRECT(\"取組期間分割!$O\"&'取組期間分割＞'!$I100)&\"\"","v":""},"",null,{"$f":"IF(MAX($S$4:$S99)+1>MAX($J$5:$J$104),\"\",MAX($S$4:$S99)+1)","v":""},"","","","","",""]
[null,{"$f":"IF(TRIM($C101)=\"\",\"\",MAX($B$4:$B100)+1)","v":""},"",7,{"$f":"IF($C101=\"\",\"\",INDIRECT(ADDRESS(MATCH($C101,取組期間分割一覧!$B$4:$B$108,0)+ROW(取組期間分割一覧!$B$3),COLUMN(取組期間分割一覧!$D$4),1,1,\"取組期間分割一覧\"),TRUE)&\"\")","v":""},{"$f":"IF(C101=\"\",\"\",INDIRECT(ADDRESS(MATCH(C101,取組期間分割一覧!$B$4:$B$108,0)+ROW(取組期間分割一覧!$B$3),COLUMN(取組期間分割一覧!$D$4)+$D101,1,1,\"取組期間分割一覧\"),TRUE)&\"\")","v":""},"",null,292,{"$f":"IF(TRIM(P101)=\"\",\"\",MAX($J$3:$J100)+1)","v":""},"","",{"$f":"INDIRECT(\"取組期間分割!$E\"&'取組期間分割＞'!$I101)&\"\"","v":"令和"},{"$f":"INDIRECT(\"取組期間分割!$G\"&'取組期間分割＞'!$I101)&\"\"","v":""},{"$f":"INDIRECT(\"取組期間分割!$J\"&'取組期間分割＞'!$I101)&\"\"","v":""},{"$f":"INDIRECT(\"取組期間分割!$O\"&'取組期間分割＞'!$I101)&\"\"","v":""},"",null,{"$f":"IF(MAX($S$4:$S100)+1>MAX($J$5:$J$104),\"\",MAX($S$4:$S100)+1)","v":""},"","","","","",""]
[null,{"$f":"IF(TRIM($C102)=\"\",\"\",MAX($B$4:$B101)+1)","v":""},"",8,{"$f":"IF($C102=\"\",\"\",INDIRECT(ADDRESS(MATCH($C102,取組期間分割一覧!$B$4:$B$108,0)+ROW(取組期間分割一覧!$B$3),COLUMN(取組期間分割一覧!$D$4),1,1,\"取組期間分割一覧\"),TRUE)&\"\")","v":""},{"$f":"IF(C102=\"\",\"\",INDIRECT(ADDRESS(MATCH(C102,取組期間分割一覧!$B$4:$B$108,0)+ROW(取組期間分割一覧!$B$3),COLUMN(取組期間分割一覧!$D$4)+$D102,1,1,\"取組期間分割一覧\"),TRUE)&\"\")","v":""},"",null,294,{"$f":"IF(TRIM(P102)=\"\",\"\",MAX($J$3:$J101)+1)","v":""},"","",{"$f":"INDIRECT(\"取組期間分割!$E\"&'取組期間分割＞'!$I102)&\"\"","v":"令和"},{"$f":"INDIRECT(\"取組期間分割!$G\"&'取組期間分割＞'!$I102)&\"\"","v":""},{"$f":"INDIRECT(\"取組期間分割!$J\"&'取組期間分割＞'!$I102)&\"\"","v":""},{"$f":"INDIRECT(\"取組期間分割!$O\"&'取組期間分割＞'!$I102)&\"\"","v":""},"",null,{"$f":"IF(MAX($S$4:$S101)+1>MAX($J$5:$J$104),\"\",MAX($S$4:$S101)+1)","v":""},"","","","","",""]
[null,{"$f":"IF(TRIM($C103)=\"\",\"\",MAX($B$4:$B102)+1)","v":""},"",9,{"$f":"IF($C103=\"\",\"\",INDIRECT(ADDRESS(MATCH($C103,取組期間分割一覧!$B$4:$B$108,0)+ROW(取組期間分割一覧!$B$3),COLUMN(取組期間分割一覧!$D$4),1,1,\"取組期間分割一覧\"),TRUE)&\"\")","v":""},{"$f":"IF(C103=\"\",\"\",INDIRECT(ADDRESS(MATCH(C103,取組期間分割一覧!$B$4:$B$108,0)+ROW(取組期間分割一覧!$B$3),COLUMN(取組期間分割一覧!$D$4)+$D103,1,1,\"取組期間分割一覧\"),TRUE)&\"\")","v":""},"",null,296,{"$f":"IF(TRIM(P103)=\"\",\"\",MAX($J$3:$J102)+1)","v":""},"","",{"$f":"INDIRECT(\"取組期間分割!$E\"&'取組期間分割＞'!$I103)&\"\"","v":"令和"},{"$f":"INDIRECT(\"取組期間分割!$G\"&'取組期間分割＞'!$I103)&\"\"","v":""},{"$f":"INDIRECT(\"取組期間分割!$J\"&'取組期間分割＞'!$I103)&\"\"","v":""},{"$f":"INDIRECT(\"取組期間分割!$O\"&'取組期間分割＞'!$I103)&\"\"","v":""},"",null,{"$f":"IF(MAX($S$4:$S102)+1>MAX($J$5:$J$104),\"\",MAX($S$4:$S102)+1)","v":""},"","","","","",""]
[null,{"$f":"IF(TRIM($C104)=\"\",\"\",MAX($B$4:$B103)+1)","v":""},"",10,{"$f":"IF($C104=\"\",\"\",INDIRECT(ADDRESS(MATCH($C104,取組期間分割一覧!$B$4:$B$108,0)+ROW(取組期間分割一覧!$B$3),COLUMN(取組期間分割一覧!$D$4),1,1,\"取組期間分割一覧\"),TRUE)&\"\")","v":""},{"$f":"IF(C104=\"\",\"\",INDIRECT(ADDRESS(MATCH(C104,取組期間分割一覧!$B$4:$B$108,0)+ROW(取組期間分割一覧!$B$3),COLUMN(取組期間分割一覧!$D$4)+$D104,1,1,\"取組期間分割一覧\"),TRUE)&\"\")","v":""},"",null,298,{"$f":"IF(TRIM(P104)=\"\",\"\",MAX($J$3:$J103)+1)","v":""},"","",{"$f":"INDIRECT(\"取組期間分割!$E\"&'取組期間分割＞'!$I104)&\"\"","v":"令和"},{"$f":"INDIRECT(\"取組期間分割!$G\"&'取組期間分割＞'!$I104)&\"\"","v":""},{"$f":"INDIRECT(\"取組期間分割!$J\"&'取組期間分割＞'!$I104)&\"\"","v":""},{"$f":"INDIRECT(\"取組期間分割!$O\"&'取組期間分割＞'!$I104)&\"\"","v":""},"",null,{"$f":"IF(MAX($S$4:$S103)+1>MAX($J$5:$J$104),\"\",MAX($S$4:$S103)+1)","v":""},"","","","","",""]

{"sheet":"取組期間分割","index":35,"n_rows":298,"n_cols":52,"rows_kept":298,"cut":false,"hidden":false,"merged":[[252,4,252,12],[226,4,226,12],[213,6,213,7],[215,4,215,5],[215,6,215,7],[217,4,217,5],[217,6,217,7],[193,4,193,5],[193,6,193,7],[200,4,200,12],[201,6,201,7],[203,4,203,5],[205,4,205,5],[205,6,205,7],[207,4,207,5],[207,6,207,7],[233,4,233,5],[211,6,211,7],[165,6,165,7],[179,4,179,5],[148,4,148,12],[122,4,122,12],[219,4,219,5],[203,6,203,7],[211,4,211,5],[133,4,133,5],[133,6,133,7],[135,4,135,5],[135,6,135,7],[163,4,163,5],[163,6,163,7],[213,4,213,5],[96,4,96,12],[111,6,111,7],[113,4,113,5],[113,6,113,7],[179,6,179,7],[181,4,181,5],[181,6,181,7],[191,4,191,5],[161,6,161,7],[131,4,131,5],[131,6,131,7],[191,6,191,7],[161,4,161,5],[159,4,159,5],[151,6,151,7],[153,4,153,5],[97,4,97,5],[97,6,97,7],[99,4,99,5],[99,6,99,7],[159,6,159,7],[137,4,137,5],[137,6,137,7],[165,4,165,5],[271,4,271,5],[271,6,271,7],[269,4,269,5],[239,4,239,5],[265,4,265,5],[265,6,265,7],[267,4,267,5],[267,6,267,7],[227,4,227,5],[227,6,227,7],[245,4,245,5],[245,6,245,7],[239,6,239,7],[241,4,241,5],[241,6,241,7],[243,4,243,5],[243,6,243,7],[237,4,237,5],[237,6,237,7],[253,6,253,7],[255,4,255,5],[259,4,259,5],[259,6,259,7],[261,4,261,5],[103,4,103,5],[103,6,103,7],[105,4,105,5],[105,6,105,7],[297,4,297,5],[297,6,297,7],[293,4,293,5],[293,6,293,7],[295,4,295,5],[295,6,295,7],[279,4,279,5],[279,6,279,7],[281,4,281,5],[281,6,281,7],[283,4,283,5],[283,6,283,7],[285,4,285,5],[291,4,291,5],[291,6,291,7],[285,6,285,7],[287,4,287,5],[287,6,287,7],[289,4,289,5],[289,6,289,7],[49,4,49,5],[49,6,49,7],[51,4,51,5],[49,14,50,37],[261,6,261,7],[263,4,263,5],[263,6,263,7],[127,4,127,5],[127,6,127,7],[129,4,129,5],[129,6,129,7],[101,4,101,5],[101,6,101,7],[107,4,107,5],[107,6,107,7],[109,4,109,5],[109,6,109,7],[115,4,115,5],[115,6,115,7],[111,4,111,5],[125,4,125,5],[125,6,125,7],[123,4,123,5],[123,6,123,7],[13,2,14,4],[13,5,14,5],[13,6,14,37],[45,4,45,5],[45,6,45,7],[47,4,47,5],[47,6,47,7],[45,14,46,37],[44,14,44,37],[47,14,48,37],[38,10,38,11],[38,22,38,23],[44,4,44,12],[79,4,79,5],[79,6,79,7],[83,4,83,5],[83,6,83,7],[81,4,81,5],[81,6,81,7],[75,4,75,5],[75,6,75,7],[77,4,77,5],[77,6,77,7],[73,4,73,5],[73,6,73,7],[51,6,51,7],[53,4,53,5],[53,6,53,7],[55,4,55,5],[55,6,55,7],[57,4,57,5],[57,6,57,7],[59,4,59,5],[59,6,59,7],[61,4,61,5],[63,4,63,5],[61,6,61,7],[63,6,63,7],[70,4,70,12],[71,4,71,5],[71,6,71,7],[89,4,89,5],[89,6,89,7],[85,4,85,5],[85,6,85,7],[87,4,87,5],[87,6,87,7],[187,4,187,5],[187,6,187,7],[189,4,189,5],[189,6,189,7],[139,4,139,5],[139,6,139,7],[149,4,149,5],[149,6,149,7],[141,4,141,5],[141,6,141,7],[167,4,167,5],[167,6,167,7],[153,6,153,7],[155,4,155,5],[155,6,155,7],[157,4,157,5],[157,6,157,7],[151,4,151,5],[183,14,184,37],[215,14,216,37],[217,14,218,37],[235,4,235,5],[235,6,235,7],[219,6,219,7],[165,14,166,37],[174,14,174,37],[175,14,176,37],[177,14,178,37],[174,4,174,12],[175,4,175,5],[175,6,175,7],[209,4,209,5],[209,6,209,7],[200,14,200,37],[177,4,177,5],[177,6,177,7],[183,4,183,5],[183,6,183,7],[185,4,185,5],[185,6,185,7],[167,14,168,37],[233,6,233,7],[269,6,269,7],[278,4,278,12],[201,14,202,37],[203,14,204,37],[241,14,242,37],[211,14,212,37],[213,14,214,37],[219,14,220,37],[205,14,206,37],[207,14,208,37],[209,14,210,37],[231,14,232,37],[265,14,266,37],[267,14,268,37],[201,4,201,5],[229,4,229,5],[229,6,229,7],[231,4,231,5],[231,6,231,7],[255,6,255,7],[257,4,257,5],[257,6,257,7],[253,4,253,5],[226,14,226,37],[163,14,164,37],[151,14,152,37],[153,14,154,37],[155,14,156,37],[135,14,136,37],[125,14,126,37],[127,14,128,37],[115,14,116,37],[131,14,132,37],[133,14,134,37],[129,14,130,37],[122,14,122,37],[123,14,124,37],[293,14,294,37],[295,14,296,37],[278,14,278,37],[279,14,280,37],[191,14,192,37],[70,14,70,37],[271,14,272,37],[297,14,298,37],[185,14,186,37],[187,14,188,37],[189,14,190,37],[193,14,194,37],[179,14,180,37],[181,14,182,37],[233,14,234,37],[235,14,236,37],[243,14,244,37],[252,14,252,37],[237,14,238,37],[245,14,246,37],[227,14,228,37],[257,14,258,37],[239,14,240,37],[283,14,284,37],[75,14,76,37],[51,14,52,37],[83,14,84,37],[59,14,60,37],[61,14,62,37],[63,14,64,37],[57,14,58,37],[291,14,292,37],[261,14,262,37],[255,14,256,37],[289,14,290,37],[269,14,270,37],[253,14,254,37],[259,14,260,37],[263,14,264,37],[285,14,286,37],[287,14,288,37],[281,14,282,37],[229,14,230,37],[111,14,112,37],[113,14,114,37],[157,14,158,37],[159,14,160,37],[161,14,162,37],[2,1,2,40],[85,14,86,37],[87,14,88,37],[103,14,104,37],[105,14,106,37],[89,14,90,37],[99,14,100,37],[149,14,150,37],[141,14,142,37],[79,14,80,37],[81,14,82,37],[137,14,138,37],[139,14,140,37],[148,14,148,37],[96,14,96,37],[97,14,98,37],[101,14,102,37],[107,14,108,37],[109,14,110,37],[53,14,54,37],[55,14,56,37],[77,14,78,37],[71,14,72,37],[73,14,74,37]]}
[]
[null,null,null,null,{"$f":"初期設定!$E$9","v":"中小企業のための女性活躍『行動計画』策定プログラム"}]
[null," "]
[]
[]
[]
[]
[]
[]
[]
[]
[null,"＜ＳＴＥＰ８＞　取組内容の実施時期と具体的内容を入力します"]
[]
[null,null,{"$f":"タイプ分類名","v":"⑥"},null,null,null,{"$f":"タイプ分類特徴","v":"女性の活躍が比較的進んでいる企業"}]
[]
[]
[null,{"$f":"\"○タイプ\"&C14&\" 取組内容ごとの実施時期と具体的な実施内容を入力\"","v":"○タイプ⑥ 取組内容ごとの実施時期と具体的な実施内容を入力"}]
[]
[null,null,"選択した取組内容を実施するにあたり、具体的な実施内容とそれを実施する時期を設定する必要があります。"]
[null,null,"下記の「準備」「実施」「課題分析」の説明を参考にして、自社で取組内容を検討し、具体的に入力してください。"]
[null,null,"なお、基本パターンは実施時期を３つに分割していますが、自社の実情にあわせて「行削除」「行追加」を活用し、"]
[null,null,"例えば実施時期を２つに減らす、あるいは、４つ、５つに増やすことが可能です。"]
[]
[null,null,"準備：（取組内容をもとに自社で検討し入力すべき内容）"]
[null,null,"「実施内容」はPDCA（Plan=計画、Do＝実行、Check=評価、Action=改善）のサイクルでの実施をお勧めします。"]
[null,null,"選択した「取組内容」を実施していく前の現状を把握しましょう。"]
[null,null,"社内アンケートやヒアリングによる社員の意識調査、社内体制、規則の確認、取組事項の準備等、企業の実態にあわせて"]
[null,null,"具体的に記入してください。"]
[null,null,"（例）「現在の女性の配置状況を整理する。」「現在の配置に関する満足度調査を実施する。」等"]
[]
[null,null,"実施：（取組内容をもとに自社で検討し入力すべき内容）"]
[null,null,"選択した「取組内容」を実施します。実施範囲、実施方法等を具体的に記入してください。"]
[null,null,"（例）●●部に対する女性の配置を増やすための対策会議を開催して検討し、検討結果を実施する。"]
[]
[null,null,"結果分析：（取組内容をもとに自社で検討し入力すべき内容）"]
[null,null,"「取組内容」を実施した結果を分析します。分析方法を具体的に記入してください。"]
[null,null,"（例）実施結果の反省点等を分析する。等"]
[]
[null,null,null,"計画期間： 　",null,null,null,null,{"$f":"取組期間設定!開始元号&\"\"","v":"令和"},null,{"$f":"取組期間設定!L22&\"\"","v":""},null,"年",{"$f":"取組期間設定!開始月&\"\"","v":""},"月",{"$f":"取組期間設定!開始日&\"\"","v":""},"日",null,"～",null,{"$f":"取組期間設定!終了元号&\"\"","v":"令和"},null,{"$f":"取組期間設定!V22&\"\"","v":""},null,"年",{"$f":"取組期間設定!終了月&\"\"","v":""},"月",{"$f":"取組期間設定!終了日&\"\"","v":""},"日"]
[]
[]
[null,null,{"$f":"IF(F42<>\"\",DBCS(1),\"\")","v":""},null,null,{"$f":"VLOOKUP(INDIRECT(\"'取組期間分割＞'!$Q\"&AZ42,TRUE),'目標入力＞'!$Z$5:$AC$60,4,0)","v":""},null,null,null,null,null,null,null,null,null,null,null,null,null,null,null,null,null,null,null,null,null,null,null,null,null,null,null,null,null,null,null,null,null,null,null,null,null,null,null,null,null,null,null,null,null,5]
[]
[null,null,null,{"$f":"\"＜取組内容＞「\"&INDIRECT(\"'取組選択＞'!$BU\" & COUNTA(取組期間分割!$C$41:$C41) +5,TRUE)&\"」\"","v":"＜取組内容＞「」"},null,null,null,null,null,null,null,null,null,null,null,null,null,null,null,null,null,null,null,null,null,null,null,null,null,null,null,null,null,null,null,null,null,null,null,null,null,null,null,null,null,null,null,null,null,null,null,{"$f":"'取組期間分割＞'!C5","v":""}]
[null,null,null,null,"実施時期",null,null,null,null,null,null,null,null,null,"実施内容"]
[null,null,null,"●","令和",null,null,null,"年",null,"月",null,"～",null,null,null,null,null,null,null,null,null,null,null,null,null,null,null,null,null,null,null,null,null,null,null,null,null,null,null,null,null,null,null,null,null,null,null,null,null,null,{"$f":"AZ44","v":""}]
[]
[null,null,null,"●","令和",null,null,null,"年",null,"月",null,"～",null,null,null,null,null,null,null,null,null,null,null,null,null,null,null,null,null,null,null,null,null,null,null,null,null,null,null,null,null,null,null,null,null,null,null,null,null,null,{"$f":"AZ46","v":""}]
[]
[null,null,null,"●","令和",null,null,null,"年",null,"月",null,"～",null,null,null,null,null,null,null,null,null,null,null,null,null,null,null,null,null,null,null,null,null,null,null,null,null,null,null,null,null,null,null,null,null,null,null,null,null,null,{"$f":"AZ48","v":""}]
[]
[null,null,null,"●","令和",null,null,null,"年",null,"月",null,"～",null,null,null,null,null,null,null,null,null,null,null,null,null,null,null,null,null,null,null,null,null,null,null,null,null,null,null,null,null,null,null,null,null,null,null,null,null,null,{"$f":"AZ50","v":""}]
[]
[null,null,null,"●","令和",null,null,null,"年",null,"月",null,"～",null,null,null,null,null,null,null,null,null,null,null,null,null,null,null,null,null,null,null,null,null,null,null,null,null,null,null,null,null,null,null,null,null,null,null,null,null,null,{"$f":"AZ52","v":""}]
[]
[null,null,null,"●","令和",null,null,null,"年",null,"月",null,"～",null,null,null,null,null,null,null,null,null,null,null,null,null,null,null,null,null,null,null,null,null,null,null,null,null,null,null,null,null,null,null,null,null,null,null,null,null,null,{"$f":"AZ54","v":""}]
[]
[null,null,null,"●","令和",null,null,null,"年",null,"月",null,"～",null,null,null,null,null,null,null,null,null,null,null,null,null,null,null,null,null,null,null,null,null,null,null,null,null,null,null,null,null,null,null,null,null,null,null,null,null,null,{"$f":"AZ56","v":""}]
[]
[null,null,null,"●","令和",null,null,null,"年",null,"月",null,"～",null,null,null,null,null,null,null,null,null,null,null,null,null,null,null,null,null,null,null,null,null,null,null,null,null,null,null,null,null,null,null,null,null,null,null,null,null,null,{"$f":"AZ58","v":""}]
[]
[null,null,null,"●","令和",null,null,null,"年",null,"月",null,"～",null,null,null,null,null,null,null,null,null,null,null,null,null,null,null,null,null,null,null,null,null,null,null,null,null,null,null,null,null,null,null,null,null,null,null,null,null,null,{"$f":"AZ60","v":""}]
[]
[null,null,null,"●","令和",null,null,null,"年",null,"月",null,"～",null,null,null,null,null,null,null,null,null,null,null,null,null,null,null,null,null,null,null,null,null,null,null,null,null,null,null,null,null,null,null,null,null,null,null,null,null,null,{"$f":"AZ62","v":""}]
[]
[]
[]
[null,null,{"$f":"IF(F68<>\"\",IF(F42=F68,C42,DBCS(C42+1)),\"\")","v":""},null,null,{"$f":"VLOOKUP(INDIRECT(\"'取組期間分割＞'!$Q\"&AZ68,TRUE),'目標入力＞'!$Z$5:$AC$60,4,0)","v":""},null,null,null,null,null,null,null,null,null,null,null,null,null,null,null,null,null,null,null,null,null,null,null,null,null,null,null,null,null,null,null,null,null,null,null,null,null,null,null,null,null,null,null,null,null,15]
[]
[null,null,null,{"$f":"\"＜取組内容＞「\"&INDIRECT(\"'取組選択＞'!$BU\" & COUNTA(取組期間分割!$C$41:$C67) +5,TRUE)&\"」\"","v":"＜取組内容＞「」"},null,null,null,null,null,null,null,null,null,null,null,null,null,null,null,null,null,null,null,null,null,null,null,null,null,null,null,null,null,null,null,null,null,null,null,null,null,null,null,null,null,null,null,null,null,null,null,{"$f":"'取組期間分割＞'!C15","v":""}]
[null,null,null,null,"実施時期",null,null,null,null,null,null,null,null,null,"実施内容"]
[null,null,null,"●","令和",null,null,null,"年",null,"月",null,"～",null,null,null,null,null,null,null,null,null,null,null,null,null,null,null,null,null,null,null,null,null,null,null,null,null,null,null,null,null,null,null,null,null,null,null,null,null,null,{"$f":"AZ70","v":""}]
[]
[null,null,null,"●","令和",null,null,null,"年",null,"月",null,"～",null,null,null,null,null,null,null,null,null,null,null,null,null,null,null,null,null,null,null,null,null,null,null,null,null,null,null,null,null,null,null,null,null,null,null,null,null,null,{"$f":"AZ72","v":""}]
[]
[null,null,null,"●","令和",null,null,null,"年",null,"月",null,"～",null,null,null,null,null,null,null,null,null,null,null,null,null,null,null,null,null,null,null,null,null,null,null,null,null,null,null,null,null,null,null,null,null,null,null,null,null,null,{"$f":"AZ74","v":""}]
[]
[null,null,null,"●","令和",null,null,null,"年",null,"月",null,"～",null,null,null,null,null,null,null,null,null,null,null,null,null,null,null,null,null,null,null,null,null,null,null,null,null,null,null,null,null,null,null,null,null,null,null,null,null,null,{"$f":"AZ76","v":""}]
[]
[null,null,null,"●","令和",null,null,null,"年",null,"月",null,"～",null,null,null,null,null,null,null,null,null,null,null,null,null,null,null,null,null,null,null,null,null,null,null,null,null,null,null,null,null,null,null,null,null,null,null,null,null,null,{"$f":"AZ78","v":""}]
[]
[null,null,null,"●","令和",null,null,null,"年",null,"月",null,"～",null,null,null,null,null,null,null,null,null,null,null,null,null,null,null,null,null,null,null,null,null,null,null,null,null,null,null,null,null,null,null,null,null,null,null,null,null,null,{"$f":"AZ80","v":""}]
[]
[null,null,null,"●","令和",null,null,null,"年",null,"月",null,"～",null,null,null,null,null,null,null,null,null,null,null,null,null,null,null,null,null,null,null,null,null,null,null,null,null,null,null,null,null,null,null,null,null,null,null,null,null,null,{"$f":"AZ82","v":""}]
[]
[null,null,null,"●","令和",null,null,null,"年",null,"月",null,"～",null,null,null,null,null,null,null,null,null,null,null,null,null,null,null,null,null,null,null,null,null,null,null,null,null,null,null,null,null,null,null,null,null,null,null,null,null,null,{"$f":"AZ84","v":""}]
[]
[null,null,null,"●","令和",null,null,null,"年",null,"月",null,"～",null,null,null,null,null,null,null,null,null,null,null,null,null,null,null,null,null,null,null,null,null,null,null,null,null,null,null,null,null,null,null,null,null,null,null,null,null,null,{"$f":"AZ86","v":""}]
[]
[null,null,null,"●","令和",null,null,null,"年",null,"月",null,"～",null,null,null,null,null,null,null,null,null,null,null,null,null,null,null,null,null,null,null,null,null,null,null,null,null,null,null,null,null,null,null,null,null,null,null,null,null,null,{"$f":"AZ88","v":""}]
[]
[]
[]
[null,null,{"$f":"IF(F94<>\"\",IF(F68=F94,C68,DBCS(C68+1)),\"\")","v":""},null,null,{"$f":"VLOOKUP(INDIRECT(\"'取組期間分割＞'!$Q\"&AZ94,TRUE),'目標入力＞'!$Z$5:$AC$60,4,0)","v":""},null,null,null,null,null,null,null,null,null,null,null,null,null,null,null,null,null,null,null,null,null,null,null,null,null,null,null,null,null,null,null,null,null,null,null,null,null,null,null,null,null,null,null,null,null,25]
[]
[null,null,null,{"$f":"\"＜取組内容＞「\"&INDIRECT(\"'取組選択＞'!$BU\" & COUNTA(取組期間分割!$C$41:$C93) +5,TRUE)&\"」\"","v":"＜取組内容＞「」"},null,null,null,null,null,null,null,null,null,null,null,null,null,null,null,null,null,null,null,null,null,null,null,null,null,null,null,null,null,null,null,null,null,null,null,null,null,null,null,null,null,null,null,null,null,null,null,{"$f":"'取組期間分割＞'!C25","v":""}]
[null,null,null,null,"実施時期",null,null,null,null,null,null,null,null,null,"実施内容"]
[null,null,null,"●","令和",null,null,null,"年",null,"月",null,"～",null,null,null,null,null,null,null,null,null,null,null,null,null,null,null,null,null,null,null,null,null,null,null,null,null,null,null,null,null,null,null,null,null,null,null,null,null,null,{"$f":"AZ96","v":""}]
[]
[null,null,null,"●","令和",null,null,null,"年",null,"月",null,"～",null,null,null,null,null,null,null,null,null,null,null,null,null,null,null,null,null,null,null,null,null,null,null,null,null,null,null,null,null,null,null,null,null,null,null,null,null,null,{"$f":"AZ98","v":""}]
[]
[null,null,null,"●","令和",null,null,null,"年",null,"月",null,"～",null,null,null,null,null,null,null,null,null,null,null,null,null,null,null,null,null,null,null,null,null,null,null,null,null,null,null,null,null,null,null,null,null,null,null,null,null,null,{"$f":"AZ100","v":""}]
[]
[null,null,null,"●","令和",null,null,null,"年",null,"月",null,"～",null,null,null,null,null,null,null,null,null,null,null,null,null,null,null,null,null,null,null,null,null,null,null,null,null,null,null,null,null,null,null,null,null,null,null,null,null,null,{"$f":"AZ102","v":""}]
[]
[null,null,null,"●","令和",null,null,null,"年",null,"月",null,"～",null,null,null,null,null,null,null,null,null,null,null,null,null,null,null,null,null,null,null,null,null,null,null,null,null,null,null,null,null,null,null,null,null,null,null,null,null,null,{"$f":"AZ104","v":""}]
[]
[null,null,null,"●","令和",null,null,null,"年",null,"月",null,"～",null,null,null,null,null,null,null,null,null,null,null,null,null,null,null,null,null,null,null,null,null,null,null,null,null,null,null,null,null,null,null,null,null,null,null,null,null,null,{"$f":"AZ106","v":""}]
[]
[null,null,null,"●","令和",null,null,null,"年",null,"月",null,"～",null,null,null,null,null,null,null,null,null,null,null,null,null,null,null,null,null,null,null,null,null,null,null,null,null,null,null,null,null,null,null,null,null,null,null,null,null,null,{"$f":"AZ108","v":""}]
[]
[null,null,null,"●","令和",null,null,null,"年",null,"月",null,"～",null,null,null,null,null,null,null,null,null,null,null,null,null,null,null,null,null,null,null,null,null,null,null,null,null,null,null,null,null,null,null,null,null,null,null,null,null,null,{"$f":"AZ110","v":""}]
[]
[null,null,null,"●","令和",null,null,null,"年",null,"月",null,"～",null,null,null,null,null,null,null,null,null,null,null,null,null,null,null,null,null,null,null,null,null,null,null,null,null,null,null,null,null,null,null,null,null,null,null,null,null,null,{"$f":"AZ112","v":""}]
[]
[null,null,null,"●","令和",null,null,null,"年",null,"月",null,"～",null,null,null,null,null,null,null,null,null,null,null,null,null,null,null,null,null,null,null,null,null,null,null,null,null,null,null,null,null,null,null,null,null,null,null,null,null,null,{"$f":"AZ114","v":""}]
[]
[]
[]
[null,null,{"$f":"IF(F120<>\"\",IF(F94=F120,C94,DBCS(C94+1)),\"\")","v":""},null,null,{"$f":"VLOOKUP(INDIRECT(\"'取組期間分割＞'!$Q\"&AZ120,TRUE),'目標入力＞'!$Z$5:$AC$60,4,0)","v":""},null,null,null,null,null,null,null,null,null,null,null,null,null,null,null,null,null,null,null,null,null,null,null,null,null,null,null,null,null,null,null,null,null,null,null,null,null,null,null,null,null,null,null,null,null,35]
[]
[null,null,null,{"$f":"\"＜取組内容＞「\"&INDIRECT(\"'取組選択＞'!$BU\" & COUNTA(取組期間分割!$C$41:$C119) +5,TRUE)&\"」\"","v":"＜取組内容＞「」"},null,null,null,null,null,null,null,null,null,null,null,null,null,null,null,null,null,null,null,null,null,null,null,null,null,null,null,null,null,null,null,null,null,null,null,null,null,null,null,null,null,null,null,null,null,null,null,{"$f":"'取組期間分割＞'!C35","v":""}]
[null,null,null,null,"実施時期",null,null,null,null,null,null,null,null,null,"実施内容"]
[null,null,null,"●","令和",null,null,null,"年",null,"月",null,"～",null,null,null,null,null,null,null,null,null,null,null,null,null,null,null,null,null,null,null,null,null,null,null,null,null,null,null,null,null,null,null,null,null,null,null,null,null,null,{"$f":"AZ122","v":""}]
[]
[null,null,null,"●","令和",null,null,null,"年",null,"月",null,"～",null,null,null,null,null,null,null,null,null,null,null,null,null,null,null,null,null,null,null,null,null,null,null,null,null,null,null,null,null,null,null,null,null,null,null,null,null,null,{"$f":"AZ124","v":""}]
[]
[null,null,null,"●","令和",null,null,null,"年",null,"月",null,"～",null,null,null,null,null,null,null,null,null,null,null,null,null,null,null,null,null,null,null,null,null,null,null,null,null,null,null,null,null,null,null,null,null,null,null,null,null,null,{"$f":"AZ126","v":""}]
[]
[null,null,null,"●","令和",null,null,null,"年",null,"月",null,"～",null,null,null,null,null,null,null,null,null,null,null,null,null,null,null,null,null,null,null,null,null,null,null,null,null,null,null,null,null,null,null,null,null,null,null,null,null,null,{"$f":"AZ128","v":""}]
[]
[null,null,null,"●","令和",null,null,null,"年",null,"月",null,"～",null,null,null,null,null,null,null,null,null,null,null,null,null,null,null,null,null,null,null,null,null,null,null,null,null,null,null,null,null,null,null,null,null,null,null,null,null,null,{"$f":"AZ130","v":""}]
[]
[null,null,null,"●","令和",null,null,null,"年",null,"月",null,"～",null,null,null,null,null,null,null,null,null,null,null,null,null,null,null,null,null,null,null,null,null,null,null,null,null,null,null,null,null,null,null,null,null,null,null,null,null,null,{"$f":"AZ132","v":""}]
[]
[null,null,null,"●","令和",null,null,null,"年",null,"月",null,"～",null,null,null,null,null,null,null,null,null,null,null,null,null,null,null,null,null,null,null,null,null,null,null,null,null,null,null,null,null,null,null,null,null,null,null,null,null,null,{"$f":"AZ134","v":""}]
[]
[null,null,null,"●","令和",null,null,null,"年",null,"月",null,"～",null,null,null,null,null,null,null,null,null,null,null,null,null,null,null,null,null,null,null,null,null,null,null,null,null,null,null,null,null,null,null,null,null,null,null,null,null,null,{"$f":"AZ136","v":""}]
[]
[null,null,null,"●","令和",null,null,null,"年",null,"月",null,"～",null,null,null,null,null,null,null,null,null,null,null,null,null,null,null,null,null,null,null,null,null,null,null,null,null,null,null,null,null,null,null,null,null,null,null,null,null,null,{"$f":"AZ138","v":""}]
[]
[null,null,null,"●","令和",null,null,null,"年",null,"月",null,"～",null,null,null,null,null,null,null,null,null,null,null,null,null,null,null,null,null,null,null,null,null,null,null,null,null,null,null,null,null,null,null,null,null,null,null,null,null,null,{"$f":"AZ140","v":""}]
[]
[]
[]
[null,null,{"$f":"IF(F146<>\"\",IF(F120=F146,C120,DBCS(C120+1)),\"\")","v":""},null,null,{"$f":"VLOOKUP(INDIRECT(\"'取組期間分割＞'!$Q\"&AZ146,TRUE),'目標入力＞'!$Z$5:$AC$60,4,0)","v":""},null,null,null,null,null,null,null,null,null,null,null,null,null,null,null,null,null,null,null,null,null,null,null,null,null,null,null,null,null,null,null,null,null,null,null,null,null,null,null,null,null,null,null,null,null,45]
[]
[null,null,null,{"$f":"\"＜取組内容＞「\"&INDIRECT(\"'取組選択＞'!$BU\" & COUNTA(取組期間分割!$C$41:$C145) +5,TRUE)&\"」\"","v":"＜取組内容＞「」"},null,null,null,null,null,null,null,null,null,null,null,null,null,null,null,null,null,null,null,null,null,null,null,null,null,null,null,null,null,null,null,null,null,null,null,null,null,null,null,null,null,null,null,null,null,null,null,{"$f":"'取組期間分割＞'!C45","v":""}]
[null,null,null,null,"実施時期",null,null,null,null,null,null,null,null,null,"実施内容"]
[null,null,null,"●","令和",null,null,null,"年",null,"月",null,"～",null,null,null,null,null,null,null,null,null,null,null,null,null,null,null,null,null,null,null,null,null,null,null,null,null,null,null,null,null,null,null,null,null,null,null,null,null,null,{"$f":"AZ148","v":""}]
[]
[null,null,null,"●","令和",null,null,null,"年",null,"月",null,"～",null,null,null,null,null,null,null,null,null,null,null,null,null,null,null,null,null,null,null,null,null,null,null,null,null,null,null,null,null,null,null,null,null,null,null,null,null,null,{"$f":"AZ150","v":""}]
[]
[null,null,null,"●","令和",null,null,null,"年",null,"月",null,"～",null,null,null,null,null,null,null,null,null,null,null,null,null,null,null,null,null,null,null,null,null,null,null,null,null,null,null,null,null,null,null,null,null,null,null,null,null,null,{"$f":"AZ152","v":""}]
[]
[null,null,null,"●","令和",null,null,null,"年",null,"月",null,"～",null,null,null,null,null,null,null,null,null,null,null,null,null,null,null,null,null,null,null,null,null,null,null,null,null,null,null,null,null,null,null,null,null,null,null,null,null,null,{"$f":"AZ154","v":""}]
[]
[null,null,null,"●","令和",null,null,null,"年",null,"月",null,"～",null,null,null,null,null,null,null,null,null,null,null,null,null,null,null,null,null,null,null,null,null,null,null,null,null,null,null,null,null,null,null,null,null,null,null,null,null,null,{"$f":"AZ156","v":""}]
[]
[null,null,null,"●","令和",null,null,null,"年",null,"月",null,"～",null,null,null,null,null,null,null,null,null,null,null,null,null,null,null,null,null,null,null,null,null,null,null,null,null,null,null,null,null,null,null,null,null,null,null,null,null,null,{"$f":"AZ158","v":""}]
[]
[null,null,null,"●","令和",null,null,null,"年",null,"月",null,"～",null,null,null,null,null,null,null,null,null,null,null,null,null,null,null,null,null,null,null,null,null,null,null,null,null,null,null,null,null,null,null,null,null,null,null,null,null,null,{"$f":"AZ160","v":""}]
[]
[null,null,null,"●","令和",null,null,null,"年",null,"月",null,"～",null,null,null,null,null,null,null,null,null,null,null,null,null,null,null,null,null,null,null,null,null,null,null,null,null,null,null,null,null,null,null,null,null,null,null,null,null,null,{"$f":"AZ162","v":""}]
[]
[null,null,null,"●","令和",null,null,null,"年",null,"月",null,"～",null,null,null,null,null,null,null,null,null,null,null,null,null,null,null,null,null,null,null,null,null,null,null,null,null,null,null,null,null,null,null,null,null,null,null,null,null,null,{"$f":"AZ164","v":""}]
[]
[null,null,null,"●","令和",null,null,null,"年",null,"月",null,"～",null,null,null,null,null,null,null,null,null,null,null,null,null,null,null,null,null,null,null,null,null,null,null,null,null,null,null,null,null,null,null,null,null,null,null,null,null,null,{"$f":"AZ166","v":""}]
[]
[]
[]
[null,null,{"$f":"IF(F172<>\"\",IF(F146=F172,C146,DBCS(C146+1)),\"\")","v":""},null,null,{"$f":"VLOOKUP(INDIRECT(\"'取組期間分割＞'!$Q\"&AZ172,TRUE),'目標入力＞'!$Z$5:$AC$60,4,0)","v":""},null,null,null,null,null,null,null,null,null,null,null,null,null,null,null,null,null,null,null,null,null,null,null,null,null,null,null,null,null,null,null,null,null,null,null,null,null,null,null,null,null,null,null,null,null,55]
[]
[null,null,null,{"$f":"\"＜取組内容＞「\"&INDIRECT(\"'取組選択＞'!$BU\" & COUNTA(取組期間分割!$C$41:$C171) +5,TRUE)&\"」\"","v":"＜取組内容＞「」"},null,null,null,null,null,null,null,null,null,null,null,null,null,null,null,null,null,null,null,null,null,null,null,null,null,null,null,null,null,null,null,null,null,null,null,null,null,null,null,null,null,null,null,null,null,null,null,{"$f":"'取組期間分割＞'!C55","v":""}]
[null,null,null,null,"実施時期",null,null,null,null,null,null,null,null,null,"実施内容"]
[null,null,null,"●","令和",null,null,null,"年",null,"月",null,"～",null,null,null,null,null,null,null,null,null,null,null,null,null,null,null,null,null,null,null,null,null,null,null,null,null,null,null,null,null,null,null,null,null,null,null,null,null,null,{"$f":"AZ174","v":""}]
[]
[null,null,null,"●","令和",null,null,null,"年",null,"月",null,"～",null,null,null,null,null,null,null,null,null,null,null,null,null,null,null,null,null,null,null,null,null,null,null,null,null,null,null,null,null,null,null,null,null,null,null,null,null,null,{"$f":"AZ176","v":""}]
[]
[null,null,null,"●","令和",null,null,null,"年",null,"月",null,"～",null,null,null,null,null,null,null,null,null,null,null,null,null,null,null,null,null,null,null,null,null,null,null,null,null,null,null,null,null,null,null,null,null,null,null,null,null,null,{"$f":"AZ178","v":""}]
[]
[null,null,null,"●","令和",null,null,null,"年",null,"月",null,"～",null,null,null,null,null,null,null,null,null,null,null,null,null,null,null,null,null,null,null,null,null,null,null,null,null,null,null,null,null,null,null,null,null,null,null,null,null,null,{"$f":"AZ180","v":""}]
[]
[null,null,null,"●","令和",null,null,null,"年",null,"月",null,"～",null,null,null,null,null,null,null,null,null,null,null,null,null,null,null,null,null,null,null,null,null,null,null,null,null,null,null,null,null,null,null,null,null,null,null,null,null,null,{"$f":"AZ182","v":""}]
[]
[null,null,null,"●","令和",null,null,null,"年",null,"月",null,"～",null,null,null,null,null,null,null,null,null,null,null,null,null,null,null,null,null,null,null,null,null,null,null,null,null,null,null,null,null,null,null,null,null,null,null,null,null,null,{"$f":"AZ184","v":""}]
[]
[null,null,null,"●","令和",null,null,null,"年",null,"月",null,"～",null,null,null,null,null,null,null,null,null,null,null,null,null,null,null,null,null,null,null,null,null,null,null,null,null,null,null,null,null,null,null,null,null,null,null,null,null,null,{"$f":"AZ186","v":""}]
[]
[null,null,null,"●","令和",null,null,null,"年",null,"月",null,"～",null,null,null,null,null,null,null,null,null,null,null,null,null,null,null,null,null,null,null,null,null,null,null,null,null,null,null,null,null,null,null,null,null,null,null,null,null,null,{"$f":"AZ188","v":""}]
[]
[null,null,null,"●","令和",null,null,null,"年",null,"月",null,"～",null,null,null,null,null,null,null,null,null,null,null,null,null,null,null,null,null,null,null,null,null,null,null,null,null,null,null,null,null,null,null,null,null,null,null,null,null,null,{"$f":"AZ190","v":""}]
[]
[null,null,null,"●","令和",null,null,null,"年",null,"月",null,"～",null,null,null,null,null,null,null,null,null,null,null,null,null,null,null,null,null,null,null,null,null,null,null,null,null,null,null,null,null,null,null,null,null,null,null,null,null,null,{"$f":"AZ192","v":""}]
[]
[]
[]
[null,null,{"$f":"IF(F198<>\"\",IF(F172=F198,C172,DBCS(C172+1)),\"\")","v":""},null,null,{"$f":"VLOOKUP(INDIRECT(\"'取組期間分割＞'!$Q\"&AZ198,TRUE),'目標入力＞'!$Z$5:$AC$60,4,0)","v":""},null,null,null,null,null,null,null,null,null,null,null,null,null,null,null,null,null,null,null,null,null,null,null,null,null,null,null,null,null,null,null,null,null,null,null,null,null,null,null,null,null,null,null,null,null,65]
[]
[null,null,null,{"$f":"\"＜取組内容＞「\"&INDIRECT(\"'取組選択＞'!$BU\" & COUNTA(取組期間分割!$C$41:$C197) +5,TRUE)&\"」\"","v":"＜取組内容＞「」"},null,null,null,null,null,null,null,null,null,null,null,null,null,null,null,null,null,null,null,null,null,null,null,null,null,null,null,null,null,null,null,null,null,null,null,null,null,null,null,null,null,null,null,null,null,null,null,{"$f":"'取組期間分割＞'!C65","v":""}]
[null,null,null,null,"実施時期",null,null,null,null,null,null,null,null,null,"実施内容"]
[null,null,null,"●","令和",null,null,null,"年",null,"月",null,"～",null,null,null,null,null,null,null,null,null,null,null,null,null,null,null,null,null,null,null,null,null,null,null,null,null,null,null,null,null,null,null,null,null,null,null,null,null,null,{"$f":"AZ200","v":""}]
[]
[null,null,null,"●","令和",null,null,null,"年",null,"月",null,"～",null,null,null,null,null,null,null,null,null,null,null,null,null,null,null,null,null,null,null,null,null,null,null,null,null,null,null,null,null,null,null,null,null,null,null,null,null,null,{"$f":"AZ202","v":""}]
[]
[null,null,null,"●","令和",null,null,null,"年",null,"月",null,"～",null,null,null,null,null,null,null,null,null,null,null,null,null,null,null,null,null,null,null,null,null,null,null,null,null,null,null,null,null,null,null,null,null,null,null,null,null,null,{"$f":"AZ204","v":""}]
[]
[null,null,null,"●","令和",null,null,null,"年",null,"月",null,"～",null,null,null,null,null,null,null,null,null,null,null,null,null,null,null,null,null,null,null,null,null,null,null,null,null,null,null,null,null,null,null,null,null,null,null,null,null,null,{"$f":"AZ206","v":""}]
[]
[null,null,null,"●","令和",null,null,null,"年",null,"月",null,"～",null,null,null,null,null,null,null,null,null,null,null,null,null,null,null,null,null,null,null,null,null,null,null,null,null,null,null,null,null,null,null,null,null,null,null,null,null,null,{"$f":"AZ208","v":""}]
[]
[null,null,null,"●","令和",null,null,null,"年",null,"月",null,"～",null,null,null,null,null,null,null,null,null,null,null,null,null,null,null,null,null,null,null,null,null,null,null,null,null,null,null,null,null,null,null,null,null,null,null,null,null,null,{"$f":"AZ210","v":""}]
[]
[null,null,null,"●","令和",null,null,null,"年",null,"月",null,"～",null,null,null,null,null,null,null,null,null,null,null,null,null,null,null,null,null,null,null,null,null,null,null,null,null,null,null,null,null,null,null,null,null,null,null,null,null,null,{"$f":"AZ212","v":""}]
[]
[null,null,null,"●","令和",null,null,null,"年",null,"月",null,"～",null,null,null,null,null,null,null,null,null,null,null,null,null,null,null,null,null,null,null,null,null,null,null,null,null,null,null,null,null,null,null,null,null,null,null,null,null,null,{"$f":"AZ214","v":""}]
[]
[null,null,null,"●","令和",null,null,null,"年",null,"月",null,"～",null,null,null,null,null,null,null,null,null,null,null,null,null,null,null,null,null,null,null,null,null,null,null,null,null,null,null,null,null,null,null,null,null,null,null,null,null,null,{"$f":"AZ216","v":""}]
[]
[null,null,null,"●","令和",null,null,null,"年",null,"月",null,"～",null,null,null,null,null,null,null,null,null,null,null,null,null,null,null,null,null,null,null,null,null,null,null,null,null,null,null,null,null,null,null,null,null,null,null,null,null,null,{"$f":"AZ218","v":""}]
[]
[]
[]
[null,null,{"$f":"IF(F224<>\"\",IF(F198=F224,C198,DBCS(C198+1)),\"\")","v":""},null,null,{"$f":"VLOOKUP(INDIRECT(\"'取組期間分割＞'!$Q\"&AZ224,TRUE),'目標入力＞'!$Z$5:$AC$60,4,0)","v":""},null,null,null,null,null,null,null,null,null,null,null,null,null,null,null,null,null,null,null,null,null,null,null,null,null,null,null,null,null,null,null,null,null,null,null,null,null,null,null,null,null,null,null,null,null,75]
[]
[null,null,null,{"$f":"\"＜取組内容＞「\"&INDIRECT(\"'取組選択＞'!$BU\" & COUNTA(取組期間分割!$C$41:$C223) +5,TRUE)&\"」\"","v":"＜取組内容＞「」"},null,null,null,null,null,null,null,null,null,null,null,null,null,null,null,null,null,null,null,null,null,null,null,null,null,null,null,null,null,null,null,null,null,null,null,null,null,null,null,null,null,null,null,null,null,null,null,{"$f":"'取組期間分割＞'!C75","v":""}]
[null,null,null,null,"実施時期",null,null,null,null,null,null,null,null,null,"実施内容"]
[null,null,null,"●","令和",null,null,null,"年",null,"月",null,"～",null,null,null,null,null,null,null,null,null,null,null,null,null,null,null,null,null,null,null,null,null,null,null,null,null,null,null,null,null,null,null,null,null,null,null,null,null,null,{"$f":"AZ226","v":""}]
[]
[null,null,null,"●","令和",null,null,null,"年",null,"月",null,"～",null,null,null,null,null,null,null,null,null,null,null,null,null,null,null,null,null,null,null,null,null,null,null,null,null,null,null,null,null,null,null,null,null,null,null,null,null,null,{"$f":"AZ228","v":""}]
[]
[null,null,null,"●","令和",null,null,null,"年",null,"月",null,"～",null,null,null,null,null,null,null,null,null,null,null,null,null,null,null,null,null,null,null,null,null,null,null,null,null,null,null,null,null,null,null,null,null,null,null,null,null,null,{"$f":"AZ230","v":""}]
[]
[null,null,null,"●","令和",null,null,null,"年",null,"月",null,"～",null,null,null,null,null,null,null,null,null,null,null,null,null,null,null,null,null,null,null,null,null,null,null,null,null,null,null,null,null,null,null,null,null,null,null,null,null,null,{"$f":"AZ232","v":""}]
[]
[null,null,null,"●","令和",null,null,null,"年",null,"月",null,"～",null,null,null,null,null,null,null,null,null,null,null,null,null,null,null,null,null,null,null,null,null,null,null,null,null,null,null,null,null,null,null,null,null,null,null,null,null,null,{"$f":"AZ234","v":""}]
[]
[null,null,null,"●","令和",null,null,null,"年",null,"月",null,"～",null,null,null,null,null,null,null,null,null,null,null,null,null,null,null,null,null,null,null,null,null,null,null,null,null,null,null,null,null,null,null,null,null,null,null,null,null,null,{"$f":"AZ236","v":""}]
[]
[null,null,null,"●","令和",null,null,null,"年",null,"月",null,"～",null,null,null,null,null,null,null,null,null,null,null,null,null,null,null,null,null,null,null,null,null,null,null,null,null,null,null,null,null,null,null,null,null,null,null,null,null,null,{"$f":"AZ238","v":""}]
[]
[null,null,null,"●","令和",null,null,null,"年",null,"月",null,"～",null,null,null,null,null,null,null,null,null,null,null,null,null,null,null,null,null,null,null,null,null,null,null,null,null,null,null,null,null,null,null,null,null,null,null,null,null,null,{"$f":"AZ240","v":""}]
[]
[null,null,null,"●","令和",null,null,null,"年",null,"月",null,"～",null,null,null,null,null,null,null,null,null,null,null,null,null,null,null,null,null,null,null,null,null,null,null,null,null,null,null,null,null,null,null,null,null,null,null,null,null,null,{"$f":"AZ242","v":""}]
[]
[null,null,null,"●","令和",null,null,null,"年",null,"月",null,"～",null,null,null,null,null,null,null,null,null,null,null,null,null,null,null,null,null,null,null,null,null,null,null,null,null,null,null,null,null,null,null,null,null,null,null,null,null,null,{"$f":"AZ244","v":""}]
[]
[]
[]
[null,null,{"$f":"IF(F250<>\"\",IF(F224=F250,C224,DBCS(C224+1)),\"\")","v":""},null,null,{"$f":"VLOOKUP(INDIRECT(\"'取組期間分割＞'!$Q\"&AZ250,TRUE),'目標入力＞'!$Z$5:$AC$60,4,0)","v":""},null,null,null,null,null,null,null,null,null,null,null,null,null,null,null,null,null,null,null,null,null,null,null,null,null,null,null,null,null,null,null,null,null,null,null,null,null,null,null,null,null,null,null,null,null,85]
[]
[null,null,null,{"$f":"\"＜取組内容＞「\"&INDIRECT(\"'取組選択＞'!$BU\" & COUNTA(取組期間分割!$C$41:$C249) +5,TRUE)&\"」\"","v":"＜取組内容＞「」"},null,null,null,null,null,null,null,null,null,null,null,null,null,null,null,null,null,null,null,null,null,null,null,null,null,null,null,null,null,null,null,null,null,null,null,null,null,null,null,null,null,null,null,null,null,null,null,{"$f":"'取組期間分割＞'!C85","v":""}]
[null,null,null,null,"実施時期",null,null,null,null,null,null,null,null,null,"実施内容"]
[null,null,null,"●","令和",null,null,null,"年",null,"月",null,"～",null,null,null,null,null,null,null,null,null,null,null,null,null,null,null,null,null,null,null,null,null,null,null,null,null,null,null,null,null,null,null,null,null,null,null,null,null,null,{"$f":"AZ252","v":""}]
[]
[null,null,null,"●","令和",null,null,null,"年",null,"月",null,"～",null,null,null,null,null,null,null,null,null,null,null,null,null,null,null,null,null,null,null,null,null,null,null,null,null,null,null,null,null,null,null,null,null,null,null,null,null,null,{"$f":"AZ254","v":""}]
[]
[null,null,null,"●","令和",null,null,null,"年",null,"月",null,"～",null,null,null,null,null,null,null,null,null,null,null,null,null,null,null,null,null,null,null,null,null,null,null,null,null,null,null,null,null,null,null,null,null,null,null,null,null,null,{"$f":"AZ256","v":""}]
[]
[null,null,null,"●","令和",null,null,null,"年",null,"月",null,"～",null,null,null,null,null,null,null,null,null,null,null,null,null,null,null,null,null,null,null,null,null,null,null,null,null,null,null,null,null,null,null,null,null,null,null,null,null,null,{"$f":"AZ258","v":""}]
[]
[null,null,null,"●","令和",null,null,null,"年",null,"月",null,"～",null,null,null,null,null,null,null,null,null,null,null,null,null,null,null,null,null,null,null,null,null,null,null,null,null,null,null,null,null,null,null,null,null,null,null,null,null,null,{"$f":"AZ260","v":""}]
[]
[null,null,null,"●","令和",null,null,null,"年",null,"月",null,"～",null,null,null,null,null,null,null,null,null,null,null,null,null,null,null,null,null,null,null,null,null,null,null,null,null,null,null,null,null,null,null,null,null,null,null,null,null,null,{"$f":"AZ262","v":""}]
[]
[null,null,null,"●","令和",null,null,null,"年",null,"月",null,"～",null,null,null,null,null,null,null,null,null,null,null,null,null,null,null,null,null,null,null,null,null,null,null,null,null,null,null,null,null,null,null,null,null,null,null,null,null,null,{"$f":"AZ264","v":""}]
[]
[null,null,null,"●","令和",null,null,null,"年",null,"月",null,"～",null,null,null,null,null,null,null,null,null,null,null,null,null,null,null,null,null,null,null,null,null,null,null,null,null,null,null,null,null,null,null,null,null,null,null,null,null,null,{"$f":"AZ266","v":""}]
[]
[null,null,null,"●","令和",null,null,null,"年",null,"月",null,"～",null,null,null,null,null,null,null,null,null,null,null,null,null,null,null,null,null,null,null,null,null,null,null,null,null,null,null,null,null,null,null,null,null,null,null,null,null,null,{"$f":"AZ268","v":""}]
[]
[null,null,null,"●","令和",null,null,null,"年",null,"月",null,"～",null,null,null,null,null,null,null,null,null,null,null,null,null,null,null,null,null,null,null,null,null,null,null,null,null,null,null,null,null,null,null,null,null,null,null,null,null,null,{"$f":"AZ270","v":""}]
[]
[]
[]
[null,null,{"$f":"IF(F276<>\"\",IF(F250=F276,C250,DBCS(C250+1)),\"\")","v":""},null,null,{"$f":"VLOOKUP(INDIRECT(\"'取組期間分割＞'!$Q\"&AZ276,TRUE),'目標入力＞'!$Z$5:$AC$60,4,0)","v":""},null,null,null,null,null,null,null,null,null,null,null,null,null,null,null,null,null,null,null,null,null,null,null,null,null,null,null,null,null,null,null,null,null,null,null,null,null,null,null,null,null,null,null,null,null,95]
[]
[null,null,null,{"$f":"\"＜取組内容＞「\"&INDIRECT(\"'取組選択＞'!$BU\" & COUNTA(取組期間分割!$C$41:$C275) +5,TRUE)&\"」\"","v":"＜取組内容＞「」"},null,null,null,null,null,null,null,null,null,null,null,null,null,null,null,null,null,null,null,null,null,null,null,null,null,null,null,null,null,null,null,null,null,null,null,null,null,null,null,null,null,null,null,null,null,null,null,{"$f":"'取組期間分割＞'!C95","v":""}]
[null,null,null,null,"実施時期",null,null,null,null,null,null,null,null,null,"実施内容"]
[null,null,null,"●","令和",null,null,null,"年",null,"月",null,"～",null,null,null,null,null,null,null,null,null,null,null,null,null,null,null,null,null,null,null,null,null,null,null,null,null,null,null,null,null,null,null,null,null,null,null,null,null,null,{"$f":"AZ278","v":""}]
[]
[null,null,null,"●","令和",null,null,null,"年",null,"月",null,"～",null,null,null,null,null,null,null,null,null,null,null,null,null,null,null,null,null,null,null,null,null,null,null,null,null,null,null,null,null,null,null,null,null,null,null,null,null,null,{"$f":"AZ280","v":""}]
[]
[null,null,null,"●","令和",null,null,null,"年",null,"月",null,"～",null,null,null,null,null,null,null,null,null,null,null,null,null,null,null,null,null,null,null,null,null,null,null,null,null,null,null,null,null,null,null,null,null,null,null,null,null,null,{"$f":"AZ282","v":""}]
[]
[null,null,null,"●","令和",null,null,null,"年",null,"月",null,"～",null,null,null,null,null,null,null,null,null,null,null,null,null,null,null,null,null,null,null,null,null,null,null,null,null,null,null,null,null,null,null,null,null,null,null,null,null,null,{"$f":"AZ284","v":""}]
[]
[null,null,null,"●","令和",null,null,null,"年",null,"月",null,"～",null,null,null,null,null,null,null,null,null,null,null,null,null,null,null,null,null,null,null,null,null,null,null,null,null,null,null,null,null,null,null,null,null,null,null,null,null,null,{"$f":"AZ286","v":""}]
[]
[null,null,null,"●","令和",null,null,null,"年",null,"月",null,"～",null,null,null,null,null,null,null,null,null,null,null,null,null,null,null,null,null,null,null,null,null,null,null,null,null,null,null,null,null,null,null,null,null,null,null,null,null,null,{"$f":"AZ288","v":""}]
[]
[null,null,null,"●","令和",null,null,null,"年",null,"月",null,"～",null,null,null,null,null,null,null,null,null,null,null,null,null,null,null,null,null,null,null,null,null,null,null,null,null,null,null,null,null,null,null,null,null,null,null,null,null,null,{"$f":"AZ290","v":""}]
[]
[null,null,null,"●","令和",null,null,null,"年",null,"月",null,"～",null,null,null,null,null,null,null,null,null,null,null,null,null,null,null,null,null,null,null,null,null,null,null,null,null,null,null,null,null,null,null,null,null,null,null,null,null,null,{"$f":"AZ292","v":""}]
[]
[null,null,null,"●","令和",null,null,null,"年",null,"月",null,"～",null,null,null,null,null,null,null,null,null,null,null,null,null,null,null,null,null,null,null,null,null,null,null,null,null,null,null,null,null,null,null,null,null,null,null,null,null,null,{"$f":"AZ294","v":""}]
[]
[null,null,null,"●","令和",null,null,null,"年",null,"月",null,"～",null,null,null,null,null,null,null,null,null,null,null,null,null,null,null,null,null,null,null,null,null,null,null,null,null,null,null,null,null,null,null,null,null,null,null,null,null,null,{"$f":"AZ296","v":""}]

{"sheet":"行動計画","index":36,"n_rows":346,"n_cols":52,"rows_kept":346,"cut":false,"hidden":false,"merged":[[13,1,13,30],[332,4,332,31],[345,4,345,31],[53,3,53,29],[36,1,36,3],[37,1,37,3],[42,3,42,29],[43,3,43,29],[44,3,44,29],[45,3,45,29],[46,3,46,29],[47,3,47,29],[48,3,48,29],[36,4,36,30],[37,4,37,30],[51,3,51,29],[52,3,52,29],[250,2,250,8],[250,9,251,30],[229,2,229,8],[229,9,230,30],[231,2,231,8],[231,9,232,30],[233,2,233,8],[18,1,18,3],[19,1,19,3],[20,1,20,3],[32,1,32,3],[33,1,33,3],[34,1,34,3],[35,1,35,3],[30,4,30,30],[31,4,31,30],[21,4,21,30],[22,4,22,30],[23,4,23,30],[24,4,24,30],[25,4,25,30],[26,4,26,30],[27,4,27,30],[28,4,28,30],[29,4,29,30],[183,2,183,8],[183,9,184,30],[185,2,185,8],[185,9,186,30],[198,2,198,8],[198,9,199,30],[200,2,200,8],[200,9,201,30],[191,2,191,8],[191,9,192,30],[193,2,193,8],[193,9,194,30],[196,2,196,5],[196,6,196,30],[187,2,187,8],[187,9,188,30],[189,2,189,8],[189,9,190,30],[158,2,158,8],[158,9,159,30],[160,2,160,8],[160,9,161,30],[162,2,162,8],[11,1,11,30],[14,8,14,9],[14,18,14,19],[14,6,14,7],[14,16,14,17],[18,4,18,30],[19,4,19,30],[20,4,20,30],[137,2,137,8],[137,9,138,30],[139,2,139,8],[139,9,140,30],[141,2,141,8],[141,9,142,30],[143,2,143,8],[143,9,144,30],[145,2,145,8],[145,9,146,30],[74,2,74,8],[181,2,181,8],[181,9,182,30],[147,2,147,8],[147,9,148,30],[150,2,150,5],[150,6,150,30],[152,2,152,8],[152,9,153,30],[154,2,154,8],[154,9,155,30],[156,2,156,8],[156,9,157,30],[177,2,177,8],[177,9,178,30],[179,2,179,8],[179,9,180,30],[162,9,163,30],[175,2,175,8],[175,9,176,30],[164,2,164,8],[164,9,165,30],[166,2,166,8],[166,9,167,30],[168,2,168,8],[235,2,235,8],[235,9,236,30],[223,2,223,8],[223,9,224,30],[225,2,225,8],[225,9,226,30],[227,2,227,8],[227,9,228,30],[216,2,216,8],[216,9,217,30],[219,2,219,5],[219,6,219,30],[221,2,221,8],[221,9,222,30],[233,9,234,30],[248,2,248,8],[248,9,249,30],[237,2,237,8],[237,9,238,30],[239,2,239,8],[239,9,240,30],[242,2,242,5],[242,6,242,30],[244,2,244,8],[244,9,245,30],[246,2,246,8],[246,9,247,30],[168,9,169,30],[170,2,170,8],[170,9,171,30],[173,2,173,5],[173,6,173,30],[135,2,135,8],[135,9,136,30],[60,2,60,8],[60,9,61,30],[62,2,62,8],[62,9,63,30],[64,2,64,8],[64,9,65,30],[85,2,85,8],[85,9,86,30],[87,2,87,8],[87,9,88,30],[66,9,67,30],[68,2,68,8],[68,9,69,30],[70,2,70,8],[70,9,71,30],[72,2,72,8],[72,9,73,30],[99,2,99,8],[99,9,100,30],[30,1,30,3],[31,1,31,3],[21,1,21,3],[22,1,22,3],[23,1,23,3],[24,1,24,3],[25,1,25,3],[26,1,26,3],[27,1,27,3],[28,1,28,3],[29,1,29,3],[49,3,49,29],[50,3,50,29],[32,4,32,30],[33,4,33,30],[34,4,34,30],[35,4,35,30],[101,2,101,8],[101,9,102,30],[58,2,58,5],[58,6,58,30],[81,2,81,5],[81,6,81,30],[89,2,89,8],[89,9,90,30],[91,2,91,8],[91,9,92,30],[93,2,93,8],[93,9,94,30],[95,2,95,8],[95,9,96,30],[97,2,97,8],[97,9,98,30],[76,2,76,8],[76,9,77,30],[78,2,78,8],[78,9,79,30],[83,2,83,8],[83,9,84,30],[74,9,75,30],[66,2,66,8],[104,2,104,5],[104,6,104,30],[106,2,106,8],[106,9,107,30],[108,2,108,8],[108,9,109,30],[110,2,110,8],[110,9,111,30],[112,2,112,8],[112,9,113,30],[114,2,114,8],[114,9,115,30],[116,2,116,8],[116,9,117,30],[118,2,118,8],[118,9,119,30],[120,2,120,8],[120,9,121,30],[122,2,122,8],[122,9,123,30],[124,2,124,8],[124,9,125,30],[127,2,127,5],[127,6,127,30],[129,2,129,8],[129,9,130,30],[131,2,131,8],[131,9,132,30],[133,2,133,8],[133,9,134,30],[214,2,214,8],[214,9,215,30],[202,2,202,8],[202,9,203,30],[204,2,204,8],[204,9,205,30],[206,2,206,8],[206,9,207,30],[208,2,208,8],[208,9,209,30],[210,2,210,8],[210,9,211,30],[212,2,212,8],[212,9,213,30],[271,9,272,30],[252,2,252,8],[252,9,253,30],[254,2,254,8],[254,9,255,30],[256,2,256,8],[256,9,257,30],[258,2,258,8],[258,9,259,30],[260,2,260,8],[260,9,261,30],[2,1,2,40],[283,2,283,8],[283,9,284,30],[285,2,285,8],[285,9,286,30],[273,2,273,8],[273,9,274,30],[275,2,275,8],[275,9,276,30],[277,2,277,8],[277,9,278,30],[279,2,279,8],[279,9,280,30],[281,2,281,8],[281,9,282,30],[262,2,262,8],[262,9,263,30],[265,2,265,5],[265,6,265,30],[267,2,267,8],[267,9,268,30],[269,2,269,8],[269,9,270,30],[271,2,271,8]]}
[]
[null,null,null,null,{"$f":"初期設定!$E$9","v":"中小企業のための女性活躍『行動計画』策定プログラム"}]
[null," "]
[]
[]
[]
[]
[]
[]
[]
[]
[null,{"$f":"TRIM(企業名)","v":""}]
[]
[null,"女性活躍推進法に基づく一般事業主行動計画"]
[null,"１．計画期間： 　",null,null,null,null,{"$f":"取組期間設定!J22&\"\"","v":"令和"},null,{"$f":"取組期間設定!L22&\"\"","v":""},null,"年",{"$f":"取組期間設定!開始月&\"\"","v":""},"月",{"$f":"取組期間設定!開始日&\"\"","v":""},"日","～",{"$f":"取組期間設定!T22","v":"令和"},null,{"$f":"取組期間設定!V22&\"\"","v":""},null,"年",{"$f":"取組期間設定!終了月&\"\"","v":""},"月",{"$f":"取組期間設定!終了日&\"\"","v":""},"日"]
[]
[null,"２ ．当社の課題"]
[]
[null,{"$f":"IF(TRIM(E19)=\"\",\"\",\"課題\"&IF(ROW()-ROW(B$18)<10,DBCS(ROW()-ROW(B$18)),ROW()-ROW(B$18))&\"：\")","v":""},null,null,{"$f":"'選択項目＞'!Q5","v":""}]
[null,{"$f":"IF(TRIM(E20)=\"\",\"\",\"課題\"&IF(ROW()-ROW(B$18)<10,DBCS(ROW()-ROW(B$18)),ROW()-ROW(B$18))&\"：\")","v":""},null,null,{"$f":"'選択項目＞'!Q6","v":""}]
[null,"",null,null,{"$f":"'選択項目＞'!Q7","v":""}]
[null,"",null,null,{"$f":"'選択項目＞'!Q8","v":""}]
[null,"",null,null,{"$f":"'選択項目＞'!Q9","v":""}]
[null,"",null,null,{"$f":"'選択項目＞'!Q10","v":""}]
[null,"",null,null,{"$f":"'選択項目＞'!Q11","v":""}]
[null,"",null,null,{"$f":"'選択項目＞'!Q12","v":""}]
[null,"",null,null,{"$f":"'選択項目＞'!Q13","v":""}]
[null,"",null,null,{"$f":"'選択項目＞'!Q14","v":""}]
[null,"",null,null,{"$f":"'選択項目＞'!Q15","v":""}]
[null,"",null,null,{"$f":"'選択項目＞'!Q16","v":""}]
[null,"",null,null,{"$f":"'選択項目＞'!Q17","v":""}]
[null,"",null,null,{"$f":"'選択項目＞'!Q18","v":""}]
[null,"",null,null,{"$f":"'選択項目＞'!Q19","v":""}]
[null,"",null,null,{"$f":"'選択項目＞'!Q20","v":""}]
[null,"",null,null,{"$f":"'選択項目＞'!Q21","v":""}]
[null,"",null,null,{"$f":"'選択項目＞'!Q22","v":""}]
[null,"",null,null,{"$f":"'選択項目＞'!Q23","v":""}]
[null,"",null,null,{"$f":"'選択項目＞'!Q24","v":""}]
[]
[null,"３ ．目標"]
[]
[]
[null,null,{"$f":"IF(D43=\"\",\"\",\"・\")","v":""},{"$f":"'目標入力＞'!AC5","v":""}]
[null,null,{"$f":"IF(D44=\"\",\"\",\"・\")","v":""},{"$f":"'目標入力＞'!AC6","v":""}]
[null,null,{"$f":"IF(D45=\"\",\"\",\"・\")","v":""},{"$f":"'目標入力＞'!AC7","v":""}]
[null,null,{"$f":"IF(D46=\"\",\"\",\"・\")","v":""},{"$f":"'目標入力＞'!AC8","v":""}]
[null,null,{"$f":"IF(D47=\"\",\"\",\"・\")","v":""},{"$f":"'目標入力＞'!AC9","v":""}]
[null,null,"",{"$f":"'目標入力＞'!AC10","v":""}]
[null,null,"",{"$f":"'目標入力＞'!AC11","v":""}]
[null,null,"",{"$f":"'目標入力＞'!AC12","v":""}]
[null,null,"",{"$f":"'目標入力＞'!AC13","v":""}]
[null,null,"",{"$f":"'目標入力＞'!AC14","v":""}]
[null,null,"",{"$f":"'目標入力＞'!AC15","v":""}]
[null,null,"",{"$f":"'目標入力＞'!AC16","v":""}]
[]
[]
[null,"４．取組内容と実施時期"]
[]
[null,null,{"$f":"IF(G59<>\"\", DBCS(1),\"\")","v":""},null,null,null,{"$f":"'取組選択＞'!BU5","v":""},null,null,null,null,null,null,null,null,null,null,null,null,null,null,null,null,null,null,null,null,null,null,null,null,null,null,null,null,null,null,null,null,null,null,null,null,null,null,null,null,null,null,null,null,5]
[]
[null,null,{"$f":"IF(TRIM(INDIRECT(\"'取組期間分割＞'!P\"&$AZ61,TRUE))=\"\",\"\",\"● \"&(INDIRECT(\"'取組期間分割＞'!M\"&$AZ61,TRUE)&\" \"&RIGHT(\"    \"&INDIRECT(\"'取組期間分割＞'!N\"&$AZ61,TRUE),4)&\"年 \"&RIGHT(\"    \"&INDIRECT(\"'取組期間分割＞'!O\"&$AZ61,TRUE),4)&\"月～　\"))","v":""},null,null,null,null,null,null,{"$f":"INDIRECT(\"'取組期間分割＞'!P\"&$AZ61,TRUE)","v":""},null,null,null,null,null,null,null,null,null,null,null,null,null,null,null,null,null,null,null,null,null,null,null,null,null,null,null,null,null,null,null,null,null,null,null,null,null,null,null,null,null,{"$f":"AZ59","v":5}]
[]
[null,null,{"$f":"IF(TRIM(INDIRECT(\"'取組期間分割＞'!P\"&$AZ63,TRUE))=\"\",\"\",\"● \"&(INDIRECT(\"'取組期間分割＞'!M\"&$AZ63,TRUE)&\" \"&RIGHT(\"    \"&INDIRECT(\"'取組期間分割＞'!N\"&$AZ63,TRUE),4)&\"年 \"&RIGHT(\"    \"&INDIRECT(\"'取組期間分割＞'!O\"&$AZ63,TRUE),4)&\"月～　\"))","v":""},null,null,null,null,null,null,{"$f":"INDIRECT(\"'取組期間分割＞'!P\"&$AZ63,TRUE)","v":""},null,null,null,null,null,null,null,null,null,null,null,null,null,null,null,null,null,null,null,null,null,null,null,null,null,null,null,null,null,null,null,null,null,null,null,null,null,null,null,null,null,{"$f":"AZ61+1","v":6}]
[]
[null,null,{"$f":"IF(TRIM(INDIRECT(\"'取組期間分割＞'!P\"&$AZ65,TRUE))=\"\",\"\",\"● \"&(INDIRECT(\"'取組期間分割＞'!M\"&$AZ65,TRUE)&\" \"&RIGHT(\"    \"&INDIRECT(\"'取組期間分割＞'!N\"&$AZ65,TRUE),4)&\"年 \"&RIGHT(\"    \"&INDIRECT(\"'取組期間分割＞'!O\"&$AZ65,TRUE),4)&\"月～　\"))","v":""},null,null,null,null,null,null,{"$f":"INDIRECT(\"'取組期間分割＞'!P\"&$AZ65,TRUE)","v":""},null,null,null,null,null,null,null,null,null,null,null,null,null,null,null,null,null,null,null,null,null,null,null,null,null,null,null,null,null,null,null,null,null,null,null,null,null,null,null,null,null,{"$f":"AZ63+1","v":7}]
[]
[null,null,{"$f":"IF(TRIM(INDIRECT(\"'取組期間分割＞'!P\"&$AZ67,TRUE))=\"\",\"\",\"● \"&(INDIRECT(\"'取組期間分割＞'!M\"&$AZ67,TRUE)&\" \"&RIGHT(\"    \"&INDIRECT(\"'取組期間分割＞'!N\"&$AZ67,TRUE),4)&\"年 \"&RIGHT(\"    \"&INDIRECT(\"'取組期間分割＞'!O\"&$AZ67,TRUE),4)&\"月～　\"))","v":""},null,null,null,null,null,null,{"$f":"INDIRECT(\"'取組期間分割＞'!P\"&$AZ67,TRUE)","v":""},null,null,null,null,null,null,null,null,null,null,null,null,null,null,null,null,null,null,null,null,null,null,null,null,null,null,null,null,null,null,null,null,null,null,null,null,null,null,null,null,null,{"$f":"AZ65+1","v":8}]
[]
[null,null,{"$f":"IF(TRIM(INDIRECT(\"'取組期間分割＞'!P\"&$AZ69,TRUE))=\"\",\"\",\"● \"&(INDIRECT(\"'取組期間分割＞'!M\"&$AZ69,TRUE)&\" \"&RIGHT(\"    \"&INDIRECT(\"'取組期間分割＞'!N\"&$AZ69,TRUE),4)&\"年 \"&RIGHT(\"    \"&INDIRECT(\"'取組期間分割＞'!O\"&$AZ69,TRUE),4)&\"月～　\"))","v":""},null,null,null,null,null,null,{"$f":"INDIRECT(\"'取組期間分割＞'!P\"&$AZ69,TRUE)","v":""},null,null,null,null,null,null,null,null,null,null,null,null,null,null,null,null,null,null,null,null,null,null,null,null,null,null,null,null,null,null,null,null,null,null,null,null,null,null,null,null,null,{"$f":"AZ67+1","v":9}]
[]
[null,null,{"$f":"IF(TRIM(INDIRECT(\"'取組期間分割＞'!P\"&$AZ71,TRUE))=\"\",\"\",\"● \"&(INDIRECT(\"'取組期間分割＞'!M\"&$AZ71,TRUE)&\" \"&RIGHT(\"    \"&INDIRECT(\"'取組期間分割＞'!N\"&$AZ71,TRUE),4)&\"年 \"&RIGHT(\"    \"&INDIRECT(\"'取組期間分割＞'!O\"&$AZ71,TRUE),4)&\"月～　\"))","v":""},null,null,null,null,null,null,{"$f":"INDIRECT(\"'取組期間分割＞'!P\"&$AZ71,TRUE)","v":""},null,null,null,null,null,null,null,null,null,null,null,null,null,null,null,null,null,null,null,null,null,null,null,null,null,null,null,null,null,null,null,null,null,null,null,null,null,null,null,null,null,{"$f":"AZ69+1","v":10}]
[]
[null,null,{"$f":"IF(TRIM(INDIRECT(\"'取組期間分割＞'!P\"&$AZ73,TRUE))=\"\",\"\",\"● \"&(INDIRECT(\"'取組期間分割＞'!M\"&$AZ73,TRUE)&\" \"&RIGHT(\"    \"&INDIRECT(\"'取組期間分割＞'!N\"&$AZ73,TRUE),4)&\"年 \"&RIGHT(\"    \"&INDIRECT(\"'取組期間分割＞'!O\"&$AZ73,TRUE),4)&\"月～　\"))","v":""},null,null,null,null,null,null,{"$f":"INDIRECT(\"'取組期間分割＞'!P\"&$AZ73,TRUE)","v":""},null,null,null,null,null,null,null,null,null,null,null,null,null,null,null,null,null,null,null,null,null,null,null,null,null,null,null,null,null,null,null,null,null,null,null,null,null,null,null,null,null,{"$f":"AZ71+1","v":11}]
[]
[null,null,{"$f":"IF(TRIM(INDIRECT(\"'取組期間分割＞'!P\"&$AZ75,TRUE))=\"\",\"\",\"● \"&(INDIRECT(\"'取組期間分割＞'!M\"&$AZ75,TRUE)&\" \"&RIGHT(\"    \"&INDIRECT(\"'取組期間分割＞'!N\"&$AZ75,TRUE),4)&\"年 \"&RIGHT(\"    \"&INDIRECT(\"'取組期間分割＞'!O\"&$AZ75,TRUE),4)&\"月～　\"))","v":""},null,null,null,null,null,null,{"$f":"INDIRECT(\"'取組期間分割＞'!P\"&$AZ75,TRUE)","v":""},null,null,null,null,null,null,null,null,null,null,null,null,null,null,null,null,null,null,null,null,null,null,null,null,null,null,null,null,null,null,null,null,null,null,null,null,null,null,null,null,null,{"$f":"AZ73+1","v":12}]
[]
[null,null,{"$f":"IF(TRIM(INDIRECT(\"'取組期間分割＞'!P\"&$AZ77,TRUE))=\"\",\"\",\"● \"&(INDIRECT(\"'取組期間分割＞'!M\"&$AZ77,TRUE)&\" \"&RIGHT(\"    \"&INDIRECT(\"'取組期間分割＞'!N\"&$AZ77,TRUE),4)&\"年 \"&RIGHT(\"    \"&INDIRECT(\"'取組期間分割＞'!O\"&$AZ77,TRUE),4)&\"月～　\"))","v":""},null,null,null,null,null,null,{"$f":"INDIRECT(\"'取組期間分割＞'!P\"&$AZ77,TRUE)","v":""},null,null,null,null,null,null,null,null,null,null,null,null,null,null,null,null,null,null,null,null,null,null,null,null,null,null,null,null,null,null,null,null,null,null,null,null,null,null,null,null,null,{"$f":"AZ75+1","v":13}]
[]
[null,null,{"$f":"IF(TRIM(INDIRECT(\"'取組期間分割＞'!P\"&$AZ79,TRUE))=\"\",\"\",\"● \"&(INDIRECT(\"'取組期間分割＞'!M\"&$AZ79,TRUE)&\" \"&RIGHT(\"    \"&INDIRECT(\"'取組期間分割＞'!N\"&$AZ79,TRUE),4)&\"年 \"&RIGHT(\"    \"&INDIRECT(\"'取組期間分割＞'!O\"&$AZ79,TRUE),4)&\"月～　\"))","v":""},null,null,null,null,null,null,{"$f":"INDIRECT(\"'取組期間分割＞'!P\"&$AZ79,TRUE)","v":""},null,null,null,null,null,null,null,null,null,null,null,null,null,null,null,null,null,null,null,null,null,null,null,null,null,null,null,null,null,null,null,null,null,null,null,null,null,null,null,null,null,{"$f":"AZ77+1","v":14}]
[]
[]
[null,null,{"$f":"IF(G82<>\"\",IF(G59=G82,C59, DBCS(C59+1)),\"\")","v":""},null,null,null,{"$f":"'取組選択＞'!BU6","v":""},null,null,null,null,null,null,null,null,null,null,null,null,null,null,null,null,null,null,null,null,null,null,null,null,null,null,null,null,null,null,null,null,null,null,null,null,null,null,null,null,null,null,null,null,{"$f":"AZ79+1","v":15}]
[]
[null,null,{"$f":"IF(TRIM(INDIRECT(\"'取組期間分割＞'!P\"&$AZ84,TRUE))=\"\",\"\",\"● \"&(INDIRECT(\"'取組期間分割＞'!M\"&$AZ84,TRUE)&\" \"&RIGHT(\"    \"&INDIRECT(\"'取組期間分割＞'!N\"&$AZ84,TRUE),4)&\"年 \"&RIGHT(\"    \"&INDIRECT(\"'取組期間分割＞'!O\"&$AZ84,TRUE),4)&\"月～　\"))","v":""},null,null,null,null,null,null,{"$f":"INDIRECT(\"'取組期間分割＞'!P\"&$AZ84,TRUE)","v":""},null,null,null,null,null,null,null,null,null,null,null,null,null,null,null,null,null,null,null,null,null,null,null,null,null,null,null,null,null,null,null,null,null,null,null,null,null,null,null,null,null,{"$f":"AZ82","v":15}]
[]
[null,null,{"$f":"IF(TRIM(INDIRECT(\"'取組期間分割＞'!P\"&$AZ86,TRUE))=\"\",\"\",\"● \"&(INDIRECT(\"'取組期間分割＞'!M\"&$AZ86,TRUE)&\" \"&RIGHT(\"    \"&INDIRECT(\"'取組期間分割＞'!N\"&$AZ86,TRUE),4)&\"年 \"&RIGHT(\"    \"&INDIRECT(\"'取組期間分割＞'!O\"&$AZ86,TRUE),4)&\"月～　\"))","v":""},null,null,null,null,null,null,{"$f":"INDIRECT(\"'取組期間分割＞'!P\"&$AZ86,TRUE)","v":""},null,null,null,null,null,null,null,null,null,null,null,null,null,null,null,null,null,null,null,null,null,null,null,null,null,null,null,null,null,null,null,null,null,null,null,null,null,null,null,null,null,{"$f":"AZ84+1","v":16}]
[]
[null,null,{"$f":"IF(TRIM(INDIRECT(\"'取組期間分割＞'!P\"&$AZ88,TRUE))=\"\",\"\",\"● \"&(INDIRECT(\"'取組期間分割＞'!M\"&$AZ88,TRUE)&\" \"&RIGHT(\"    \"&INDIRECT(\"'取組期間分割＞'!N\"&$AZ88,TRUE),4)&\"年 \"&RIGHT(\"    \"&INDIRECT(\"'取組期間分割＞'!O\"&$AZ88,TRUE),4)&\"月～　\"))","v":""},null,null,null,null,null,null,{"$f":"INDIRECT(\"'取組期間分割＞'!P\"&$AZ88,TRUE)","v":""},null,null,null,null,null,null,null,null,null,null,null,null,null,null,null,null,null,null,null,null,null,null,null,null,null,null,null,null,null,null,null,null,null,null,null,null,null,null,null,null,null,{"$f":"AZ86+1","v":17}]
[]
[null,null,{"$f":"IF(TRIM(INDIRECT(\"'取組期間分割＞'!P\"&$AZ90,TRUE))=\"\",\"\",\"● \"&(INDIRECT(\"'取組期間分割＞'!M\"&$AZ90,TRUE)&\" \"&RIGHT(\"    \"&INDIRECT(\"'取組期間分割＞'!N\"&$AZ90,TRUE),4)&\"年 \"&RIGHT(\"    \"&INDIRECT(\"'取組期間分割＞'!O\"&$AZ90,TRUE),4)&\"月～　\"))","v":""},null,null,null,null,null,null,{"$f":"INDIRECT(\"'取組期間分割＞'!P\"&$AZ90,TRUE)","v":""},null,null,null,null,null,null,null,null,null,null,null,null,null,null,null,null,null,null,null,null,null,null,null,null,null,null,null,null,null,null,null,null,null,null,null,null,null,null,null,null,null,{"$f":"AZ88+1","v":18}]
[]
[null,null,{"$f":"IF(TRIM(INDIRECT(\"'取組期間分割＞'!P\"&$AZ92,TRUE))=\"\",\"\",\"● \"&(INDIRECT(\"'取組期間分割＞'!M\"&$AZ92,TRUE)&\" \"&RIGHT(\"    \"&INDIRECT(\"'取組期間分割＞'!N\"&$AZ92,TRUE),4)&\"年 \"&RIGHT(\"    \"&INDIRECT(\"'取組期間分割＞'!O\"&$AZ92,TRUE),4)&\"月～　\"))","v":""},null,null,null,null,null,null,{"$f":"INDIRECT(\"'取組期間分割＞'!P\"&$AZ92,TRUE)","v":""},null,null,null,null,null,null,null,null,null,null,null,null,null,null,null,null,null,null,null,null,null,null,null,null,null,null,null,null,null,null,null,null,null,null,null,null,null,null,null,null,null,{"$f":"AZ90+1","v":19}]
[]
[null,null,{"$f":"IF(TRIM(INDIRECT(\"'取組期間分割＞'!P\"&$AZ94,TRUE))=\"\",\"\",\"● \"&(INDIRECT(\"'取組期間分割＞'!M\"&$AZ94,TRUE)&\" \"&RIGHT(\"    \"&INDIRECT(\"'取組期間分割＞'!N\"&$AZ94,TRUE),4)&\"年 \"&RIGHT(\"    \"&INDIRECT(\"'取組期間分割＞'!O\"&$AZ94,TRUE),4)&\"月～　\"))","v":""},null,null,null,null,null,null,{"$f":"INDIRECT(\"'取組期間分割＞'!P\"&$AZ94,TRUE)","v":""},null,null,null,null,null,null,null,null,null,null,null,null,null,null,null,null,null,null,null,null,null,null,null,null,null,null,null,null,null,null,null,null,null,null,null,null,null,null,null,null,null,{"$f":"AZ92+1","v":20}]
[]
[null,null,{"$f":"IF(TRIM(INDIRECT(\"'取組期間分割＞'!P\"&$AZ96,TRUE))=\"\",\"\",\"● \"&(INDIRECT(\"'取組期間分割＞'!M\"&$AZ96,TRUE)&\" \"&RIGHT(\"    \"&INDIRECT(\"'取組期間分割＞'!N\"&$AZ96,TRUE),4)&\"年 \"&RIGHT(\"    \"&INDIRECT(\"'取組期間分割＞'!O\"&$AZ96,TRUE),4)&\"月～　\"))","v":""},null,null,null,null,null,null,{"$f":"INDIRECT(\"'取組期間分割＞'!P\"&$AZ96,TRUE)","v":""},null,null,null,null,null,null,null,null,null,null,null,null,null,null,null,null,null,null,null,null,null,null,null,null,null,null,null,null,null,null,null,null,null,null,null,null,null,null,null,null,null,{"$f":"AZ94+1","v":21}]
[]
[null,null,{"$f":"IF(TRIM(INDIRECT(\"'取組期間分割＞'!P\"&$AZ98,TRUE))=\"\",\"\",\"● \"&(INDIRECT(\"'取組期間分割＞'!M\"&$AZ98,TRUE)&\" \"&RIGHT(\"    \"&INDIRECT(\"'取組期間分割＞'!N\"&$AZ98,TRUE),4)&\"年 \"&RIGHT(\"    \"&INDIRECT(\"'取組期間分割＞'!O\"&$AZ98,TRUE),4)&\"月～　\"))","v":""},null,null,null,null,null,null,{"$f":"INDIRECT(\"'取組期間分割＞'!P\"&$AZ98,TRUE)","v":""},null,null,null,null,null,null,null,null,null,null,null,null,null,null,null,null,null,null,null,null,null,null,null,null,null,null,null,null,null,null,null,null,null,null,null,null,null,null,null,null,null,{"$f":"AZ96+1","v":22}]
[]
[null,null,{"$f":"IF(TRIM(INDIRECT(\"'取組期間分割＞'!P\"&$AZ100,TRUE))=\"\",\"\",\"● \"&(INDIRECT(\"'取組期間分割＞'!M\"&$AZ100,TRUE)&\" \"&RIGHT(\"    \"&INDIRECT(\"'取組期間分割＞'!N\"&$AZ100,TRUE),4)&\"年 \"&RIGHT(\"    \"&INDIRECT(\"'取組期間分割＞'!O\"&$AZ100,TRUE),4)&\"月～　\"))","v":""},null,null,null,null,null,null,{"$f":"INDIRECT(\"'取組期間分割＞'!P\"&$AZ100,TRUE)","v":""},null,null,null,null,null,null,null,null,null,null,null,null,null,null,null,null,null,null,null,null,null,null,null,null,null,null,null,null,null,null,null,null,null,null,null,null,null,null,null,null,null,{"$f":"AZ98+1","v":23}]
[]
[null,null,{"$f":"IF(TRIM(INDIRECT(\"'取組期間分割＞'!P\"&$AZ102,TRUE))=\"\",\"\",\"● \"&(INDIRECT(\"'取組期間分割＞'!M\"&$AZ102,TRUE)&\" \"&RIGHT(\"    \"&INDIRECT(\"'取組期間分割＞'!N\"&$AZ102,TRUE),4)&\"年 \"&RIGHT(\"    \"&INDIRECT(\"'取組期間分割＞'!O\"&$AZ102,TRUE),4)&\"月～　\"))","v":""},null,null,null,null,null,null,{"$f":"INDIRECT(\"'取組期間分割＞'!P\"&$AZ102,TRUE)","v":""},null,null,null,null,null,null,null,null,null,null,null,null,null,null,null,null,null,null,null,null,null,null,null,null,null,null,null,null,null,null,null,null,null,null,null,null,null,null,null,null,null,{"$f":"AZ100+1","v":24}]
[]
[]
[null,null,{"$f":"IF(G105<>\"\",IF(G82=G105,C82, DBCS(C82+1)),\"\")","v":""},null,null,null,{"$f":"'取組選択＞'!BU7","v":""},null,null,null,null,null,null,null,null,null,null,null,null,null,null,null,null,null,null,null,null,null,null,null,null,null,null,null,null,null,null,null,null,null,null,null,null,null,null,null,null,null,null,null,null,{"$f":"AZ102+1","v":25}]
[]
[null,null,{"$f":"IF(TRIM(INDIRECT(\"'取組期間分割＞'!P\"&$AZ107,TRUE))=\"\",\"\",\"● \"&(INDIRECT(\"'取組期間分割＞'!M\"&$AZ107,TRUE)&\" \"&RIGHT(\"    \"&INDIRECT(\"'取組期間分割＞'!N\"&$AZ107,TRUE),4)&\"年 \"&RIGHT(\"    \"&INDIRECT(\"'取組期間分割＞'!O\"&$AZ107,TRUE),4)&\"月～　\"))","v":""},null,null,null,null,null,null,{"$f":"INDIRECT(\"'取組期間分割＞'!P\"&$AZ107,TRUE)","v":""},null,null,null,null,null,null,null,null,null,null,null,null,null,null,null,null,null,null,null,null,null,null,null,null,null,null,null,null,null,null,null,null,null,null,null,null,null,null,null,null,null,{"$f":"AZ105","v":25}]
[]
[null,null,{"$f":"IF(TRIM(INDIRECT(\"'取組期間分割＞'!P\"&$AZ109,TRUE))=\"\",\"\",\"● \"&(INDIRECT(\"'取組期間分割＞'!M\"&$AZ109,TRUE)&\" \"&RIGHT(\"    \"&INDIRECT(\"'取組期間分割＞'!N\"&$AZ109,TRUE),4)&\"年 \"&RIGHT(\"    \"&INDIRECT(\"'取組期間分割＞'!O\"&$AZ109,TRUE),4)&\"月～　\"))","v":""},null,null,null,null,null,null,{"$f":"INDIRECT(\"'取組期間分割＞'!P\"&$AZ109,TRUE)","v":""},null,null,null,null,null,null,null,null,null,null,null,null,null,null,null,null,null,null,null,null,null,null,null,null,null,null,null,null,null,null,null,null,null,null,null,null,null,null,null,null,null,{"$f":"AZ107+1","v":26}]
[]
[null,null,{"$f":"IF(TRIM(INDIRECT(\"'取組期間分割＞'!P\"&$AZ111,TRUE))=\"\",\"\",\"● \"&(INDIRECT(\"'取組期間分割＞'!M\"&$AZ111,TRUE)&\" \"&RIGHT(\"    \"&INDIRECT(\"'取組期間分割＞'!N\"&$AZ111,TRUE),4)&\"年 \"&RIGHT(\"    \"&INDIRECT(\"'取組期間分割＞'!O\"&$AZ111,TRUE),4)&\"月～　\"))","v":""},null,null,null,null,null,null,{"$f":"INDIRECT(\"'取組期間分割＞'!P\"&$AZ111,TRUE)","v":""},null,null,null,null,null,null,null,null,null,null,null,null,null,null,null,null,null,null,null,null,null,null,null,null,null,null,null,null,null,null,null,null,null,null,null,null,null,null,null,null,null,{"$f":"AZ109+1","v":27}]
[]
[null,null,{"$f":"IF(TRIM(INDIRECT(\"'取組期間分割＞'!P\"&$AZ113,TRUE))=\"\",\"\",\"● \"&(INDIRECT(\"'取組期間分割＞'!M\"&$AZ113,TRUE)&\" \"&RIGHT(\"    \"&INDIRECT(\"'取組期間分割＞'!N\"&$AZ113,TRUE),4)&\"年 \"&RIGHT(\"    \"&INDIRECT(\"'取組期間分割＞'!O\"&$AZ113,TRUE),4)&\"月～　\"))","v":""},null,null,null,null,null,null,{"$f":"INDIRECT(\"'取組期間分割＞'!P\"&$AZ113,TRUE)","v":""},null,null,null,null,null,null,null,null,null,null,null,null,null,null,null,null,null,null,null,null,null,null,null,null,null,null,null,null,null,null,null,null,null,null,null,null,null,null,null,null,null,{"$f":"AZ111+1","v":28}]
[]
[null,null,{"$f":"IF(TRIM(INDIRECT(\"'取組期間分割＞'!P\"&$AZ115,TRUE))=\"\",\"\",\"● \"&(INDIRECT(\"'取組期間分割＞'!M\"&$AZ115,TRUE)&\" \"&RIGHT(\"    \"&INDIRECT(\"'取組期間分割＞'!N\"&$AZ115,TRUE),4)&\"年 \"&RIGHT(\"    \"&INDIRECT(\"'取組期間分割＞'!O\"&$AZ115,TRUE),4)&\"月～　\"))","v":""},null,null,null,null,null,null,{"$f":"INDIRECT(\"'取組期間分割＞'!P\"&$AZ115,TRUE)","v":""},null,null,null,null,null,null,null,null,null,null,null,null,null,null,null,null,null,null,null,null,null,null,null,null,null,null,null,null,null,null,null,null,null,null,null,null,null,null,null,null,null,{"$f":"AZ113+1","v":29}]
[]
[null,null,{"$f":"IF(TRIM(INDIRECT(\"'取組期間分割＞'!P\"&$AZ117,TRUE))=\"\",\"\",\"● \"&(INDIRECT(\"'取組期間分割＞'!M\"&$AZ117,TRUE)&\" \"&RIGHT(\"    \"&INDIRECT(\"'取組期間分割＞'!N\"&$AZ117,TRUE),4)&\"年 \"&RIGHT(\"    \"&INDIRECT(\"'取組期間分割＞'!O\"&$AZ117,TRUE),4)&\"月～　\"))","v":""},null,null,null,null,null,null,{"$f":"INDIRECT(\"'取組期間分割＞'!P\"&$AZ117,TRUE)","v":""},null,null,null,null,null,null,null,null,null,null,null,null,null,null,null,null,null,null,null,null,null,null,null,null,null,null,null,null,null,null,null,null,null,null,null,null,null,null,null,null,null,{"$f":"AZ115+1","v":30}]
[]
[null,null,{"$f":"IF(TRIM(INDIRECT(\"'取組期間分割＞'!P\"&$AZ119,TRUE))=\"\",\"\",\"● \"&(INDIRECT(\"'取組期間分割＞'!M\"&$AZ119,TRUE)&\" \"&RIGHT(\"    \"&INDIRECT(\"'取組期間分割＞'!N\"&$AZ119,TRUE),4)&\"年 \"&RIGHT(\"    \"&INDIRECT(\"'取組期間分割＞'!O\"&$AZ119,TRUE),4)&\"月～　\"))","v":""},null,null,null,null,null,null,{"$f":"INDIRECT(\"'取組期間分割＞'!P\"&$AZ119,TRUE)","v":""},null,null,null,null,null,null,null,null,null,null,null,null,null,null,null,null,null,null,null,null,null,null,null,null,null,null,null,null,null,null,null,null,null,null,null,null,null,null,null,null,null,{"$f":"AZ117+1","v":31}]
[]
[null,null,{"$f":"IF(TRIM(INDIRECT(\"'取組期間分割＞'!P\"&$AZ121,TRUE))=\"\",\"\",\"● \"&(INDIRECT(\"'取組期間分割＞'!M\"&$AZ121,TRUE)&\" \"&RIGHT(\"    \"&INDIRECT(\"'取組期間分割＞'!N\"&$AZ121,TRUE),4)&\"年 \"&RIGHT(\"    \"&INDIRECT(\"'取組期間分割＞'!O\"&$AZ121,TRUE),4)&\"月～　\"))","v":""},null,null,null,null,null,null,{"$f":"INDIRECT(\"'取組期間分割＞'!P\"&$AZ121,TRUE)","v":""},null,null,null,null,null,null,null,null,null,null,null,null,null,null,null,null,null,null,null,null,null,null,null,null,null,null,null,null,null,null,null,null,null,null,null,null,null,null,null,null,null,{"$f":"AZ119+1","v":32}]
[]
[null,null,{"$f":"IF(TRIM(INDIRECT(\"'取組期間分割＞'!P\"&$AZ123,TRUE))=\"\",\"\",\"● \"&(INDIRECT(\"'取組期間分割＞'!M\"&$AZ123,TRUE)&\" \"&RIGHT(\"    \"&INDIRECT(\"'取組期間分割＞'!N\"&$AZ123,TRUE),4)&\"年 \"&RIGHT(\"    \"&INDIRECT(\"'取組期間分割＞'!O\"&$AZ123,TRUE),4)&\"月～　\"))","v":""},null,null,null,null,null,null,{"$f":"INDIRECT(\"'取組期間分割＞'!P\"&$AZ123,TRUE)","v":""},null,null,null,null,null,null,null,null,null,null,null,null,null,null,null,null,null,null,null,null,null,null,null,null,null,null,null,null,null,null,null,null,null,null,null,null,null,null,null,null,null,{"$f":"AZ121+1","v":33}]
[]
[null,null,{"$f":"IF(TRIM(INDIRECT(\"'取組期間分割＞'!P\"&$AZ125,TRUE))=\"\",\"\",\"● \"&(INDIRECT(\"'取組期間分割＞'!M\"&$AZ125,TRUE)&\" \"&RIGHT(\"    \"&INDIRECT(\"'取組期間分割＞'!N\"&$AZ125,TRUE),4)&\"年 \"&RIGHT(\"    \"&INDIRECT(\"'取組期間分割＞'!O\"&$AZ125,TRUE),4)&\"月～　\"))","v":""},null,null,null,null,null,null,{"$f":"INDIRECT(\"'取組期間分割＞'!P\"&$AZ125,TRUE)","v":""},null,null,null,null,null,null,null,null,null,null,null,null,null,null,null,null,null,null,null,null,null,null,null,null,null,null,null,null,null,null,null,null,null,null,null,null,null,null,null,null,null,{"$f":"AZ123+1","v":34}]
[]
[]
[null,null,{"$f":"IF(G128<>\"\",IF(G105=G128,C105, DBCS(C105+1)),\"\")","v":""},null,null,null,{"$f":"'取組選択＞'!BU8","v":""},null,null,null,null,null,null,null,null,null,null,null,null,null,null,null,null,null,null,null,null,null,null,null,null,null,null,null,null,null,null,null,null,null,null,null,null,null,null,null,null,null,null,null,null,{"$f":"AZ125+1","v":35}]
[]
[null,null,{"$f":"IF(TRIM(INDIRECT(\"'取組期間分割＞'!P\"&$AZ130,TRUE))=\"\",\"\",\"● \"&(INDIRECT(\"'取組期間分割＞'!M\"&$AZ130,TRUE)&\" \"&RIGHT(\"    \"&INDIRECT(\"'取組期間分割＞'!N\"&$AZ130,TRUE),4)&\"年 \"&RIGHT(\"    \"&INDIRECT(\"'取組期間分割＞'!O\"&$AZ130,TRUE),4)&\"月～　\"))","v":""},null,null,null,null,null,null,{"$f":"INDIRECT(\"'取組期間分割＞'!P\"&$AZ130,TRUE)","v":""},null,null,null,null,null,null,null,null,null,null,null,null,null,null,null,null,null,null,null,null,null,null,null,null,null,null,null,null,null,null,null,null,null,null,null,null,null,null,null,null,null,{"$f":"AZ128","v":35}]
[]
[null,null,{"$f":"IF(TRIM(INDIRECT(\"'取組期間分割＞'!P\"&$AZ132,TRUE))=\"\",\"\",\"● \"&(INDIRECT(\"'取組期間分割＞'!M\"&$AZ132,TRUE)&\" \"&RIGHT(\"    \"&INDIRECT(\"'取組期間分割＞'!N\"&$AZ132,TRUE),4)&\"年 \"&RIGHT(\"    \"&INDIRECT(\"'取組期間分割＞'!O\"&$AZ132,TRUE),4)&\"月～　\"))","v":""},null,null,null,null,null,null,{"$f":"INDIRECT(\"'取組期間分割＞'!P\"&$AZ132,TRUE)","v":""},null,null,null,null,null,null,null,null,null,null,null,null,null,null,null,null,null,null,null,null,null,null,null,null,null,null,null,null,null,null,null,null,null,null,null,null,null,null,null,null,null,{"$f":"AZ130+1","v":36}]
[]
[null,null,{"$f":"IF(TRIM(INDIRECT(\"'取組期間分割＞'!P\"&$AZ134,TRUE))=\"\",\"\",\"● \"&(INDIRECT(\"'取組期間分割＞'!M\"&$AZ134,TRUE)&\" \"&RIGHT(\"    \"&INDIRECT(\"'取組期間分割＞'!N\"&$AZ134,TRUE),4)&\"年 \"&RIGHT(\"    \"&INDIRECT(\"'取組期間分割＞'!O\"&$AZ134,TRUE),4)&\"月～　\"))","v":""},null,null,null,null,null,null,{"$f":"INDIRECT(\"'取組期間分割＞'!P\"&$AZ134,TRUE)","v":""},null,null,null,null,null,null,null,null,null,null,null,null,null,null,null,null,null,null,null,null,null,null,null,null,null,null,null,null,null,null,null,null,null,null,null,null,null,null,null,null,null,{"$f":"AZ132+1","v":37}]
[]
[null,null,{"$f":"IF(TRIM(INDIRECT(\"'取組期間分割＞'!P\"&$AZ136,TRUE))=\"\",\"\",\"● \"&(INDIRECT(\"'取組期間分割＞'!M\"&$AZ136,TRUE)&\" \"&RIGHT(\"    \"&INDIRECT(\"'取組期間分割＞'!N\"&$AZ136,TRUE),4)&\"年 \"&RIGHT(\"    \"&INDIRECT(\"'取組期間分割＞'!O\"&$AZ136,TRUE),4)&\"月～　\"))","v":""},null,null,null,null,null,null,{"$f":"INDIRECT(\"'取組期間分割＞'!P\"&$AZ136,TRUE)","v":""},null,null,null,null,null,null,null,null,null,null,null,null,null,null,null,null,null,null,null,null,null,null,null,null,null,null,null,null,null,null,null,null,null,null,null,null,null,null,null,null,null,{"$f":"AZ134+1","v":38}]
[]
[null,null,{"$f":"IF(TRIM(INDIRECT(\"'取組期間分割＞'!P\"&$AZ138,TRUE))=\"\",\"\",\"● \"&(INDIRECT(\"'取組期間分割＞'!M\"&$AZ138,TRUE)&\" \"&RIGHT(\"    \"&INDIRECT(\"'取組期間分割＞'!N\"&$AZ138,TRUE),4)&\"年 \"&RIGHT(\"    \"&INDIRECT(\"'取組期間分割＞'!O\"&$AZ138,TRUE),4)&\"月～　\"))","v":""},null,null,null,null,null,null,{"$f":"INDIRECT(\"'取組期間分割＞'!P\"&$AZ138,TRUE)","v":""},null,null,null,null,null,null,null,null,null,null,null,null,null,null,null,null,null,null,null,null,null,null,null,null,null,null,null,null,null,null,null,null,null,null,null,null,null,null,null,null,null,{"$f":"AZ136+1","v":39}]
[]
[null,null,{"$f":"IF(TRIM(INDIRECT(\"'取組期間分割＞'!P\"&$AZ140,TRUE))=\"\",\"\",\"● \"&(INDIRECT(\"'取組期間分割＞'!M\"&$AZ140,TRUE)&\" \"&RIGHT(\"    \"&INDIRECT(\"'取組期間分割＞'!N\"&$AZ140,TRUE),4)&\"年 \"&RIGHT(\"    \"&INDIRECT(\"'取組期間分割＞'!O\"&$AZ140,TRUE),4)&\"月～　\"))","v":""},null,null,null,null,null,null,{"$f":"INDIRECT(\"'取組期間分割＞'!P\"&$AZ140,TRUE)","v":""},null,null,null,null,null,null,null,null,null,null,null,null,null,null,null,null,null,null,null,null,null,null,null,null,null,null,null,null,null,null,null,null,null,null,null,null,null,null,null,null,null,{"$f":"AZ138+1","v":40}]
[]
[null,null,{"$f":"IF(TRIM(INDIRECT(\"'取組期間分割＞'!P\"&$AZ142,TRUE))=\"\",\"\",\"● \"&(INDIRECT(\"'取組期間分割＞'!M\"&$AZ142,TRUE)&\" \"&RIGHT(\"    \"&INDIRECT(\"'取組期間分割＞'!N\"&$AZ142,TRUE),4)&\"年 \"&RIGHT(\"    \"&INDIRECT(\"'取組期間分割＞'!O\"&$AZ142,TRUE),4)&\"月～　\"))","v":""},null,null,null,null,null,null,{"$f":"INDIRECT(\"'取組期間分割＞'!P\"&$AZ142,TRUE)","v":""},null,null,null,null,null,null,null,null,null,null,null,null,null,null,null,null,null,null,null,null,null,null,null,null,null,null,null,null,null,null,null,null,null,null,null,null,null,null,null,null,null,{"$f":"AZ140+1","v":41}]
[]
[null,null,{"$f":"IF(TRIM(INDIRECT(\"'取組期間分割＞'!P\"&$AZ144,TRUE))=\"\",\"\",\"● \"&(INDIRECT(\"'取組期間分割＞'!M\"&$AZ144,TRUE)&\" \"&RIGHT(\"    \"&INDIRECT(\"'取組期間分割＞'!N\"&$AZ144,TRUE),4)&\"年 \"&RIGHT(\"    \"&INDIRECT(\"'取組期間分割＞'!O\"&$AZ144,TRUE),4)&\"月～　\"))","v":""},null,null,null,null,null,null,{"$f":"INDIRECT(\"'取組期間分割＞'!P\"&$AZ144,TRUE)","v":""},null,null,null,null,null,null,null,null,null,null,null,null,null,null,null,null,null,null,null,null,null,null,null,null,null,null,null,null,null,null,null,null,null,null,null,null,null,null,null,null,null,{"$f":"AZ142+1","v":42}]
[]
[null,null,{"$f":"IF(TRIM(INDIRECT(\"'取組期間分割＞'!P\"&$AZ146,TRUE))=\"\",\"\",\"● \"&(INDIRECT(\"'取組期間分割＞'!M\"&$AZ146,TRUE)&\" \"&RIGHT(\"    \"&INDIRECT(\"'取組期間分割＞'!N\"&$AZ146,TRUE),4)&\"年 \"&RIGHT(\"    \"&INDIRECT(\"'取組期間分割＞'!O\"&$AZ146,TRUE),4)&\"月～　\"))","v":""},null,null,null,null,null,null,{"$f":"INDIRECT(\"'取組期間分割＞'!P\"&$AZ146,TRUE)","v":""},null,null,null,null,null,null,null,null,null,null,null,null,null,null,null,null,null,null,null,null,null,null,null,null,null,null,null,null,null,null,null,null,null,null,null,null,null,null,null,null,null,{"$f":"AZ144+1","v":43}]
[]
[null,null,{"$f":"IF(TRIM(INDIRECT(\"'取組期間分割＞'!P\"&$AZ148,TRUE))=\"\",\"\",\"● \"&(INDIRECT(\"'取組期間分割＞'!M\"&$AZ148,TRUE)&\" \"&RIGHT(\"    \"&INDIRECT(\"'取組期間分割＞'!N\"&$AZ148,TRUE),4)&\"年 \"&RIGHT(\"    \"&INDIRECT(\"'取組期間分割＞'!O\"&$AZ148,TRUE),4)&\"月～　\"))","v":""},null,null,null,null,null,null,{"$f":"INDIRECT(\"'取組期間分割＞'!P\"&$AZ148,TRUE)","v":""},null,null,null,null,null,null,null,null,null,null,null,null,null,null,null,null,null,null,null,null,null,null,null,null,null,null,null,null,null,null,null,null,null,null,null,null,null,null,null,null,null,{"$f":"AZ146+1","v":44}]
[]
[]
[null,null,{"$f":"IF(G151<>\"\",IF(G128=G151,C128, DBCS(C128+1)),\"\")","v":""},null,null,null,{"$f":"'取組選択＞'!BU9","v":""},null,null,null,null,null,null,null,null,null,null,null,null,null,null,null,null,null,null,null,null,null,null,null,null,null,null,null,null,null,null,null,null,null,null,null,null,null,null,null,null,null,null,null,null,{"$f":"AZ148+1","v":45}]
[]
[null,null,{"$f":"IF(TRIM(INDIRECT(\"'取組期間分割＞'!P\"&$AZ153,TRUE))=\"\",\"\",\"● \"&(INDIRECT(\"'取組期間分割＞'!M\"&$AZ153,TRUE)&\" \"&RIGHT(\"    \"&INDIRECT(\"'取組期間分割＞'!N\"&$AZ153,TRUE),4)&\"年 \"&RIGHT(\"    \"&INDIRECT(\"'取組期間分割＞'!O\"&$AZ153,TRUE),4)&\"月～　\"))","v":""},null,null,null,null,null,null,{"$f":"INDIRECT(\"'取組期間分割＞'!P\"&$AZ153,TRUE)","v":""},null,null,null,null,null,null,null,null,null,null,null,null,null,null,null,null,null,null,null,null,null,null,null,null,null,null,null,null,null,null,null,null,null,null,null,null,null,null,null,null,null,{"$f":"AZ151","v":45}]
[]
[null,null,{"$f":"IF(TRIM(INDIRECT(\"'取組期間分割＞'!P\"&$AZ155,TRUE))=\"\",\"\",\"● \"&(INDIRECT(\"'取組期間分割＞'!M\"&$AZ155,TRUE)&\" \"&RIGHT(\"    \"&INDIRECT(\"'取組期間分割＞'!N\"&$AZ155,TRUE),4)&\"年 \"&RIGHT(\"    \"&INDIRECT(\"'取組期間分割＞'!O\"&$AZ155,TRUE),4)&\"月～　\"))","v":""},null,null,null,null,null,null,{"$f":"INDIRECT(\"'取組期間分割＞'!P\"&$AZ155,TRUE)","v":""},null,null,null,null,null,null,null,null,null,null,null,null,null,null,null,null,null,null,null,null,null,null,null,null,null,null,null,null,null,null,null,null,null,null,null,null,null,null,null,null,null,{"$f":"AZ153+1","v":46}]
[]
[null,null,{"$f":"IF(TRIM(INDIRECT(\"'取組期間分割＞'!P\"&$AZ157,TRUE))=\"\",\"\",\"● \"&(INDIRECT(\"'取組期間分割＞'!M\"&$AZ157,TRUE)&\" \"&RIGHT(\"    \"&INDIRECT(\"'取組期間分割＞'!N\"&$AZ157,TRUE),4)&\"年 \"&RIGHT(\"    \"&INDIRECT(\"'取組期間分割＞'!O\"&$AZ157,TRUE),4)&\"月～　\"))","v":""},null,null,null,null,null,null,{"$f":"INDIRECT(\"'取組期間分割＞'!P\"&$AZ157,TRUE)","v":""},null,null,null,null,null,null,null,null,null,null,null,null,null,null,null,null,null,null,null,null,null,null,null,null,null,null,null,null,null,null,null,null,null,null,null,null,null,null,null,null,null,{"$f":"AZ155+1","v":47}]
[]
[null,null,{"$f":"IF(TRIM(INDIRECT(\"'取組期間分割＞'!P\"&$AZ159,TRUE))=\"\",\"\",\"● \"&(INDIRECT(\"'取組期間分割＞'!M\"&$AZ159,TRUE)&\" \"&RIGHT(\"    \"&INDIRECT(\"'取組期間分割＞'!N\"&$AZ159,TRUE),4)&\"年 \"&RIGHT(\"    \"&INDIRECT(\"'取組期間分割＞'!O\"&$AZ159,TRUE),4)&\"月～　\"))","v":""},null,null,null,null,null,null,{"$f":"INDIRECT(\"'取組期間分割＞'!P\"&$AZ159,TRUE)","v":""},null,null,null,null,null,null,null,null,null,null,null,null,null,null,null,null,null,null,null,null,null,null,null,null,null,null,null,null,null,null,null,null,null,null,null,null,null,null,null,null,null,{"$f":"AZ157+1","v":48}]
[]
[null,null,{"$f":"IF(TRIM(INDIRECT(\"'取組期間分割＞'!P\"&$AZ161,TRUE))=\"\",\"\",\"● \"&(INDIRECT(\"'取組期間分割＞'!M\"&$AZ161,TRUE)&\" \"&RIGHT(\"    \"&INDIRECT(\"'取組期間分割＞'!N\"&$AZ161,TRUE),4)&\"年 \"&RIGHT(\"    \"&INDIRECT(\"'取組期間分割＞'!O\"&$AZ161,TRUE),4)&\"月～　\"))","v":""},null,null,null,null,null,null,{"$f":"INDIRECT(\"'取組期間分割＞'!P\"&$AZ161,TRUE)","v":""},null,null,null,null,null,null,null,null,null,null,null,null,null,null,null,null,null,null,null,null,null,null,null,null,null,null,null,null,null,null,null,null,null,null,null,null,null,null,null,null,null,{"$f":"AZ159+1","v":49}]
[]
[null,null,{"$f":"IF(TRIM(INDIRECT(\"'取組期間分割＞'!P\"&$AZ163,TRUE))=\"\",\"\",\"● \"&(INDIRECT(\"'取組期間分割＞'!M\"&$AZ163,TRUE)&\" \"&RIGHT(\"    \"&INDIRECT(\"'取組期間分割＞'!N\"&$AZ163,TRUE),4)&\"年 \"&RIGHT(\"    \"&INDIRECT(\"'取組期間分割＞'!O\"&$AZ163,TRUE),4)&\"月～　\"))","v":""},null,null,null,null,null,null,{"$f":"INDIRECT(\"'取組期間分割＞'!P\"&$AZ163,TRUE)","v":""},null,null,null,null,null,null,null,null,null,null,null,null,null,null,null,null,null,null,null,null,null,null,null,null,null,null,null,null,null,null,null,null,null,null,null,null,null,null,null,null,null,{"$f":"AZ161+1","v":50}]
[]
[null,null,{"$f":"IF(TRIM(INDIRECT(\"'取組期間分割＞'!P\"&$AZ165,TRUE))=\"\",\"\",\"● \"&(INDIRECT(\"'取組期間分割＞'!M\"&$AZ165,TRUE)&\" \"&RIGHT(\"    \"&INDIRECT(\"'取組期間分割＞'!N\"&$AZ165,TRUE),4)&\"年 \"&RIGHT(\"    \"&INDIRECT(\"'取組期間分割＞'!O\"&$AZ165,TRUE),4)&\"月～　\"))","v":""},null,null,null,null,null,null,{"$f":"INDIRECT(\"'取組期間分割＞'!P\"&$AZ165,TRUE)","v":""},null,null,null,null,null,null,null,null,null,null,null,null,null,null,null,null,null,null,null,null,null,null,null,null,null,null,null,null,null,null,null,null,null,null,null,null,null,null,null,null,null,{"$f":"AZ163+1","v":51}]
[]
[null,null,{"$f":"IF(TRIM(INDIRECT(\"'取組期間分割＞'!P\"&$AZ167,TRUE))=\"\",\"\",\"● \"&(INDIRECT(\"'取組期間分割＞'!M\"&$AZ167,TRUE)&\" \"&RIGHT(\"    \"&INDIRECT(\"'取組期間分割＞'!N\"&$AZ167,TRUE),4)&\"年 \"&RIGHT(\"    \"&INDIRECT(\"'取組期間分割＞'!O\"&$AZ167,TRUE),4)&\"月～　\"))","v":""},null,null,null,null,null,null,{"$f":"INDIRECT(\"'取組期間分割＞'!P\"&$AZ167,TRUE)","v":""},null,null,null,null,null,null,null,null,null,null,null,null,null,null,null,null,null,null,null,null,null,null,null,null,null,null,null,null,null,null,null,null,null,null,null,null,null,null,null,null,null,{"$f":"AZ165+1","v":52}]
[]
[null,null,{"$f":"IF(TRIM(INDIRECT(\"'取組期間分割＞'!P\"&$AZ169,TRUE))=\"\",\"\",\"● \"&(INDIRECT(\"'取組期間分割＞'!M\"&$AZ169,TRUE)&\" \"&RIGHT(\"    \"&INDIRECT(\"'取組期間分割＞'!N\"&$AZ169,TRUE),4)&\"年 \"&RIGHT(\"    \"&INDIRECT(\"'取組期間分割＞'!O\"&$AZ169,TRUE),4)&\"月～　\"))","v":""},null,null,null,null,null,null,{"$f":"INDIRECT(\"'取組期間分割＞'!P\"&$AZ169,TRUE)","v":""},null,null,null,null,null,null,null,null,null,null,null,null,null,null,null,null,null,null,null,null,null,null,null,null,null,null,null,null,null,null,null,null,null,null,null,null,null,null,null,null,null,{"$f":"AZ167+1","v":53}]
[]
[null,null,{"$f":"IF(TRIM(INDIRECT(\"'取組期間分割＞'!P\"&$AZ171,TRUE))=\"\",\"\",\"● \"&(INDIRECT(\"'取組期間分割＞'!M\"&$AZ171,TRUE)&\" \"&RIGHT(\"    \"&INDIRECT(\"'取組期間分割＞'!N\"&$AZ171,TRUE),4)&\"年 \"&RIGHT(\"    \"&INDIRECT(\"'取組期間分割＞'!O\"&$AZ171,TRUE),4)&\"月～　\"))","v":""},null,null,null,null,null,null,{"$f":"INDIRECT(\"'取組期間分割＞'!P\"&$AZ171,TRUE)","v":""},null,null,null,null,null,null,null,null,null,null,null,null,null,null,null,null,null,null,null,null,null,null,null,null,null,null,null,null,null,null,null,null,null,null,null,null,null,null,null,null,null,{"$f":"AZ169+1","v":54}]
[]
[]
[null,null,{"$f":"IF(G174<>\"\",IF(G151=G174,C151, DBCS(C151+1)),\"\")","v":""},null,null,null,{"$f":"'取組選択＞'!BU10","v":""},null,null,null,null,null,null,null,null,null,null,null,null,null,null,null,null,null,null,null,null,null,null,null,null,null,null,null,null,null,null,null,null,null,null,null,null,null,null,null,null,null,null,null,null,{"$f":"AZ171+1","v":55}]
[]
[null,null,{"$f":"IF(TRIM(INDIRECT(\"'取組期間分割＞'!P\"&$AZ176,TRUE))=\"\",\"\",\"● \"&(INDIRECT(\"'取組期間分割＞'!M\"&$AZ176,TRUE)&\" \"&RIGHT(\"    \"&INDIRECT(\"'取組期間分割＞'!N\"&$AZ176,TRUE),4)&\"年 \"&RIGHT(\"    \"&INDIRECT(\"'取組期間分割＞'!O\"&$AZ176,TRUE),4)&\"月～　\"))","v":""},null,null,null,null,null,null,{"$f":"INDIRECT(\"'取組期間分割＞'!P\"&$AZ176,TRUE)","v":""},null,null,null,null,null,null,null,null,null,null,null,null,null,null,null,null,null,null,null,null,null,null,null,null,null,null,null,null,null,null,null,null,null,null,null,null,null,null,null,null,null,{"$f":"AZ174","v":55}]
[]
[null,null,{"$f":"IF(TRIM(INDIRECT(\"'取組期間分割＞'!P\"&$AZ178,TRUE))=\"\",\"\",\"● \"&(INDIRECT(\"'取組期間分割＞'!M\"&$AZ178,TRUE)&\" \"&RIGHT(\"    \"&INDIRECT(\"'取組期間分割＞'!N\"&$AZ178,TRUE),4)&\"年 \"&RIGHT(\"    \"&INDIRECT(\"'取組期間分割＞'!O\"&$AZ178,TRUE),4)&\"月～　\"))","v":""},null,null,null,null,null,null,{"$f":"INDIRECT(\"'取組期間分割＞'!P\"&$AZ178,TRUE)","v":""},null,null,null,null,null,null,null,null,null,null,null,null,null,null,null,null,null,null,null,null,null,null,null,null,null,null,null,null,null,null,null,null,null,null,null,null,null,null,null,null,null,{"$f":"AZ176+1","v":56}]
[]
[null,null,{"$f":"IF(TRIM(INDIRECT(\"'取組期間分割＞'!P\"&$AZ180,TRUE))=\"\",\"\",\"● \"&(INDIRECT(\"'取組期間分割＞'!M\"&$AZ180,TRUE)&\" \"&RIGHT(\"    \"&INDIRECT(\"'取組期間分割＞'!N\"&$AZ180,TRUE),4)&\"年 \"&RIGHT(\"    \"&INDIRECT(\"'取組期間分割＞'!O\"&$AZ180,TRUE),4)&\"月～　\"))","v":""},null,null,null,null,null,null,{"$f":"INDIRECT(\"'取組期間分割＞'!P\"&$AZ180,TRUE)","v":""},null,null,null,null,null,null,null,null,null,null,null,null,null,null,null,null,null,null,null,null,null,null,null,null,null,null,null,null,null,null,null,null,null,null,null,null,null,null,null,null,null,{"$f":"AZ178+1","v":57}]
[]
[null,null,{"$f":"IF(TRIM(INDIRECT(\"'取組期間分割＞'!P\"&$AZ182,TRUE))=\"\",\"\",\"● \"&(INDIRECT(\"'取組期間分割＞'!M\"&$AZ182,TRUE)&\" \"&RIGHT(\"    \"&INDIRECT(\"'取組期間分割＞'!N\"&$AZ182,TRUE),4)&\"年 \"&RIGHT(\"    \"&INDIRECT(\"'取組期間分割＞'!O\"&$AZ182,TRUE),4)&\"月～　\"))","v":""},null,null,null,null,null,null,{"$f":"INDIRECT(\"'取組期間分割＞'!P\"&$AZ182,TRUE)","v":""},null,null,null,null,null,null,null,null,null,null,null,null,null,null,null,null,null,null,null,null,null,null,null,null,null,null,null,null,null,null,null,null,null,null,null,null,null,null,null,null,null,{"$f":"AZ180+1","v":58}]
[]
[null,null,{"$f":"IF(TRIM(INDIRECT(\"'取組期間分割＞'!P\"&$AZ184,TRUE))=\"\",\"\",\"● \"&(INDIRECT(\"'取組期間分割＞'!M\"&$AZ184,TRUE)&\" \"&RIGHT(\"    \"&INDIRECT(\"'取組期間分割＞'!N\"&$AZ184,TRUE),4)&\"年 \"&RIGHT(\"    \"&INDIRECT(\"'取組期間分割＞'!O\"&$AZ184,TRUE),4)&\"月～　\"))","v":""},null,null,null,null,null,null,{"$f":"INDIRECT(\"'取組期間分割＞'!P\"&$AZ184,TRUE)","v":""},null,null,null,null,null,null,null,null,null,null,null,null,null,null,null,null,null,null,null,null,null,null,null,null,null,null,null,null,null,null,null,null,null,null,null,null,null,null,null,null,null,{"$f":"AZ182+1","v":59}]
[]
[null,null,{"$f":"IF(TRIM(INDIRECT(\"'取組期間分割＞'!P\"&$AZ186,TRUE))=\"\",\"\",\"● \"&(INDIRECT(\"'取組期間分割＞'!M\"&$AZ186,TRUE)&\" \"&RIGHT(\"    \"&INDIRECT(\"'取組期間分割＞'!N\"&$AZ186,TRUE),4)&\"年 \"&RIGHT(\"    \"&INDIRECT(\"'取組期間分割＞'!O\"&$AZ186,TRUE),4)&\"月～　\"))","v":""},null,null,null,null,null,null,{"$f":"INDIRECT(\"'取組期間分割＞'!P\"&$AZ186,TRUE)","v":""},null,null,null,null,null,null,null,null,null,null,null,null,null,null,null,null,null,null,null,null,null,null,null,null,null,null,null,null,null,null,null,null,null,null,null,null,null,null,null,null,null,{"$f":"AZ184+1","v":60}]
[]
[null,null,{"$f":"IF(TRIM(INDIRECT(\"'取組期間分割＞'!P\"&$AZ188,TRUE))=\"\",\"\",\"● \"&(INDIRECT(\"'取組期間分割＞'!M\"&$AZ188,TRUE)&\" \"&RIGHT(\"    \"&INDIRECT(\"'取組期間分割＞'!N\"&$AZ188,TRUE),4)&\"年 \"&RIGHT(\"    \"&INDIRECT(\"'取組期間分割＞'!O\"&$AZ188,TRUE),4)&\"月～　\"))","v":""},null,null,null,null,null,null,{"$f":"INDIRECT(\"'取組期間分割＞'!P\"&$AZ188,TRUE)","v":""},null,null,null,null,null,null,null,null,null,null,null,null,null,null,null,null,null,null,null,null,null,null,null,null,null,null,null,null,null,null,null,null,null,null,null,null,null,null,null,null,null,{"$f":"AZ186+1","v":61}]
[]
[null,null,{"$f":"IF(TRIM(INDIRECT(\"'取組期間分割＞'!P\"&$AZ190,TRUE))=\"\",\"\",\"● \"&(INDIRECT(\"'取組期間分割＞'!M\"&$AZ190,TRUE)&\" \"&RIGHT(\"    \"&INDIRECT(\"'取組期間分割＞'!N\"&$AZ190,TRUE),4)&\"年 \"&RIGHT(\"    \"&INDIRECT(\"'取組期間分割＞'!O\"&$AZ190,TRUE),4)&\"月～　\"))","v":""},null,null,null,null,null,null,{"$f":"INDIRECT(\"'取組期間分割＞'!P\"&$AZ190,TRUE)","v":""},null,null,null,null,null,null,null,null,null,null,null,null,null,null,null,null,null,null,null,null,null,null,null,null,null,null,null,null,null,null,null,null,null,null,null,null,null,null,null,null,null,{"$f":"AZ188+1","v":62}]
[]
[null,null,{"$f":"IF(TRIM(INDIRECT(\"'取組期間分割＞'!P\"&$AZ192,TRUE))=\"\",\"\",\"● \"&(INDIRECT(\"'取組期間分割＞'!M\"&$AZ192,TRUE)&\" \"&RIGHT(\"    \"&INDIRECT(\"'取組期間分割＞'!N\"&$AZ192,TRUE),4)&\"年 \"&RIGHT(\"    \"&INDIRECT(\"'取組期間分割＞'!O\"&$AZ192,TRUE),4)&\"月～　\"))","v":""},null,null,null,null,null,null,{"$f":"INDIRECT(\"'取組期間分割＞'!P\"&$AZ192,TRUE)","v":""},null,null,null,null,null,null,null,null,null,null,null,null,null,null,null,null,null,null,null,null,null,null,null,null,null,null,null,null,null,null,null,null,null,null,null,null,null,null,null,null,null,{"$f":"AZ190+1","v":63}]
[]
[null,null,{"$f":"IF(TRIM(INDIRECT(\"'取組期間分割＞'!P\"&$AZ194,TRUE))=\"\",\"\",\"● \"&(INDIRECT(\"'取組期間分割＞'!M\"&$AZ194,TRUE)&\" \"&RIGHT(\"    \"&INDIRECT(\"'取組期間分割＞'!N\"&$AZ194,TRUE),4)&\"年 \"&RIGHT(\"    \"&INDIRECT(\"'取組期間分割＞'!O\"&$AZ194,TRUE),4)&\"月～　\"))","v":""},null,null,null,null,null,null,{"$f":"INDIRECT(\"'取組期間分割＞'!P\"&$AZ194,TRUE)","v":""},null,null,null,null,null,null,null,null,null,null,null,null,null,null,null,null,null,null,null,null,null,null,null,null,null,null,null,null,null,null,null,null,null,null,null,null,null,null,null,null,null,{"$f":"AZ192+1","v":64}]
[]
[]
[null,null,{"$f":"IF(G197<>\"\",IF(G174=G197,C174, DBCS(C174+1)),\"\")","v":""},null,null,null,{"$f":"'取組選択＞'!BU11","v":""},null,null,null,null,null,null,null,null,null,null,null,null,null,null,null,null,null,null,null,null,null,null,null,null,null,null,null,null,null,null,null,null,null,null,null,null,null,null,null,null,null,null,null,null,{"$f":"AZ194+1","v":65}]
[]
[null,null,{"$f":"IF(TRIM(INDIRECT(\"'取組期間分割＞'!P\"&$AZ199,TRUE))=\"\",\"\",\"● \"&(INDIRECT(\"'取組期間分割＞'!M\"&$AZ199,TRUE)&\" \"&RIGHT(\"    \"&INDIRECT(\"'取組期間分割＞'!N\"&$AZ199,TRUE),4)&\"年 \"&RIGHT(\"    \"&INDIRECT(\"'取組期間分割＞'!O\"&$AZ199,TRUE),4)&\"月～　\"))","v":""},null,null,null,null,null,null,{"$f":"INDIRECT(\"'取組期間分割＞'!P\"&$AZ199,TRUE)","v":""},null,null,null,null,null,null,null,null,null,null,null,null,null,null,null,null,null,null,null,null,null,null,null,null,null,null,null,null,null,null,null,null,null,null,null,null,null,null,null,null,null,{"$f":"AZ197","v":65}]
[]
[null,null,{"$f":"IF(TRIM(INDIRECT(\"'取組期間分割＞'!P\"&$AZ201,TRUE))=\"\",\"\",\"● \"&(INDIRECT(\"'取組期間分割＞'!M\"&$AZ201,TRUE)&\" \"&RIGHT(\"    \"&INDIRECT(\"'取組期間分割＞'!N\"&$AZ201,TRUE),4)&\"年 \"&RIGHT(\"    \"&INDIRECT(\"'取組期間分割＞'!O\"&$AZ201,TRUE),4)&\"月～　\"))","v":""},null,null,null,null,null,null,{"$f":"INDIRECT(\"'取組期間分割＞'!P\"&$AZ201,TRUE)","v":""},null,null,null,null,null,null,null,null,null,null,null,null,null,null,null,null,null,null,null,null,null,null,null,null,null,null,null,null,null,null,null,null,null,null,null,null,null,null,null,null,null,{"$f":"AZ199+1","v":66}]
[]
[null,null,{"$f":"IF(TRIM(INDIRECT(\"'取組期間分割＞'!P\"&$AZ203,TRUE))=\"\",\"\",\"● \"&(INDIRECT(\"'取組期間分割＞'!M\"&$AZ203,TRUE)&\" \"&RIGHT(\"    \"&INDIRECT(\"'取組期間分割＞'!N\"&$AZ203,TRUE),4)&\"年 \"&RIGHT(\"    \"&INDIRECT(\"'取組期間分割＞'!O\"&$AZ203,TRUE),4)&\"月～　\"))","v":""},null,null,null,null,null,null,{"$f":"INDIRECT(\"'取組期間分割＞'!P\"&$AZ203,TRUE)","v":""},null,null,null,null,null,null,null,null,null,null,null,null,null,null,null,null,null,null,null,null,null,null,null,null,null,null,null,null,null,null,null,null,null,null,null,null,null,null,null,null,null,{"$f":"AZ201+1","v":67}]
[]
[null,null,{"$f":"IF(TRIM(INDIRECT(\"'取組期間分割＞'!P\"&$AZ205,TRUE))=\"\",\"\",\"● \"&(INDIRECT(\"'取組期間分割＞'!M\"&$AZ205,TRUE)&\" \"&RIGHT(\"    \"&INDIRECT(\"'取組期間分割＞'!N\"&$AZ205,TRUE),4)&\"年 \"&RIGHT(\"    \"&INDIRECT(\"'取組期間分割＞'!O\"&$AZ205,TRUE),4)&\"月～　\"))","v":""},null,null,null,null,null,null,{"$f":"INDIRECT(\"'取組期間分割＞'!P\"&$AZ205,TRUE)","v":""},null,null,null,null,null,null,null,null,null,null,null,null,null,null,null,null,null,null,null,null,null,null,null,null,null,null,null,null,null,null,null,null,null,null,null,null,null,null,null,null,null,{"$f":"AZ203+1","v":68}]
[]
[null,null,{"$f":"IF(TRIM(INDIRECT(\"'取組期間分割＞'!P\"&$AZ207,TRUE))=\"\",\"\",\"● \"&(INDIRECT(\"'取組期間分割＞'!M\"&$AZ207,TRUE)&\" \"&RIGHT(\"    \"&INDIRECT(\"'取組期間分割＞'!N\"&$AZ207,TRUE),4)&\"年 \"&RIGHT(\"    \"&INDIRECT(\"'取組期間分割＞'!O\"&$AZ207,TRUE),4)&\"月～　\"))","v":""},null,null,null,null,null,null,{"$f":"INDIRECT(\"'取組期間分割＞'!P\"&$AZ207,TRUE)","v":""},null,null,null,null,null,null,null,null,null,null,null,null,null,null,null,null,null,null,null,null,null,null,null,null,null,null,null,null,null,null,null,null,null,null,null,null,null,null,null,null,null,{"$f":"AZ205+1","v":69}]
[]
[null,null,{"$f":"IF(TRIM(INDIRECT(\"'取組期間分割＞'!P\"&$AZ209,TRUE))=\"\",\"\",\"● \"&(INDIRECT(\"'取組期間分割＞'!M\"&$AZ209,TRUE)&\" \"&RIGHT(\"    \"&INDIRECT(\"'取組期間分割＞'!N\"&$AZ209,TRUE),4)&\"年 \"&RIGHT(\"    \"&INDIRECT(\"'取組期間分割＞'!O\"&$AZ209,TRUE),4)&\"月～　\"))","v":""},null,null,null,null,null,null,{"$f":"INDIRECT(\"'取組期間分割＞'!P\"&$AZ209,TRUE)","v":""},null,null,null,null,null,null,null,null,null,null,null,null,null,null,null,null,null,null,null,null,null,null,null,null,null,null,null,null,null,null,null,null,null,null,null,null,null,null,null,null,null,{"$f":"AZ207+1","v":70}]
[]
[null,null,{"$f":"IF(TRIM(INDIRECT(\"'取組期間分割＞'!P\"&$AZ211,TRUE))=\"\",\"\",\"● \"&(INDIRECT(\"'取組期間分割＞'!M\"&$AZ211,TRUE)&\" \"&RIGHT(\"    \"&INDIRECT(\"'取組期間分割＞'!N\"&$AZ211,TRUE),4)&\"年 \"&RIGHT(\"    \"&INDIRECT(\"'取組期間分割＞'!O\"&$AZ211,TRUE),4)&\"月～　\"))","v":""},null,null,null,null,null,null,{"$f":"INDIRECT(\"'取組期間分割＞'!P\"&$AZ211,TRUE)","v":""},null,null,null,null,null,null,null,null,null,null,null,null,null,null,null,null,null,null,null,null,null,null,null,null,null,null,null,null,null,null,null,null,null,null,null,null,null,null,null,null,null,{"$f":"AZ209+1","v":71}]
[]
[null,null,{"$f":"IF(TRIM(INDIRECT(\"'取組期間分割＞'!P\"&$AZ213,TRUE))=\"\",\"\",\"● \"&(INDIRECT(\"'取組期間分割＞'!M\"&$AZ213,TRUE)&\" \"&RIGHT(\"    \"&INDIRECT(\"'取組期間分割＞'!N\"&$AZ213,TRUE),4)&\"年 \"&RIGHT(\"    \"&INDIRECT(\"'取組期間分割＞'!O\"&$AZ213,TRUE),4)&\"月～　\"))","v":""},null,null,null,null,null,null,{"$f":"INDIRECT(\"'取組期間分割＞'!P\"&$AZ213,TRUE)","v":""},null,null,null,null,null,null,null,null,null,null,null,null,null,null,null,null,null,null,null,null,null,null,null,null,null,null,null,null,null,null,null,null,null,null,null,null,null,null,null,null,null,{"$f":"AZ211+1","v":72}]
[]
[null,null,{"$f":"IF(TRIM(INDIRECT(\"'取組期間分割＞'!P\"&$AZ215,TRUE))=\"\",\"\",\"● \"&(INDIRECT(\"'取組期間分割＞'!M\"&$AZ215,TRUE)&\" \"&RIGHT(\"    \"&INDIRECT(\"'取組期間分割＞'!N\"&$AZ215,TRUE),4)&\"年 \"&RIGHT(\"    \"&INDIRECT(\"'取組期間分割＞'!O\"&$AZ215,TRUE),4)&\"月～　\"))","v":""},null,null,null,null,null,null,{"$f":"INDIRECT(\"'取組期間分割＞'!P\"&$AZ215,TRUE)","v":""},null,null,null,null,null,null,null,null,null,null,null,null,null,null,null,null,null,null,null,null,null,null,null,null,null,null,null,null,null,null,null,null,null,null,null,null,null,null,null,null,null,{"$f":"AZ213+1","v":73}]
[]
[null,null,{"$f":"IF(TRIM(INDIRECT(\"'取組期間分割＞'!P\"&$AZ217,TRUE))=\"\",\"\",\"● \"&(INDIRECT(\"'取組期間分割＞'!M\"&$AZ217,TRUE)&\" \"&RIGHT(\"    \"&INDIRECT(\"'取組期間分割＞'!N\"&$AZ217,TRUE),4)&\"年 \"&RIGHT(\"    \"&INDIRECT(\"'取組期間分割＞'!O\"&$AZ217,TRUE),4)&\"月～　\"))","v":""},null,null,null,null,null,null,{"$f":"INDIRECT(\"'取組期間分割＞'!P\"&$AZ217,TRUE)","v":""},null,null,null,null,null,null,null,null,null,null,null,null,null,null,null,null,null,null,null,null,null,null,null,null,null,null,null,null,null,null,null,null,null,null,null,null,null,null,null,null,null,{"$f":"AZ215+1","v":74}]
[]
[]
[null,null,{"$f":"IF(G220<>\"\",IF(G197=G220,C197, DBCS(C197+1)),\"\")","v":""},null,null,null,{"$f":"'取組選択＞'!BU12","v":""},null,null,null,null,null,null,null,null,null,null,null,null,null,null,null,null,null,null,null,null,null,null,null,null,null,null,null,null,null,null,null,null,null,null,null,null,null,null,null,null,null,null,null,null,{"$f":"AZ217+1","v":75}]
[]
[null,null,{"$f":"IF(TRIM(INDIRECT(\"'取組期間分割＞'!P\"&$AZ222,TRUE))=\"\",\"\",\"● \"&(INDIRECT(\"'取組期間分割＞'!M\"&$AZ222,TRUE)&\" \"&RIGHT(\"    \"&INDIRECT(\"'取組期間分割＞'!N\"&$AZ222,TRUE),4)&\"年 \"&RIGHT(\"    \"&INDIRECT(\"'取組期間分割＞'!O\"&$AZ222,TRUE),4)&\"月～　\"))","v":""},null,null,null,null,null,null,{"$f":"INDIRECT(\"'取組期間分割＞'!P\"&$AZ222,TRUE)","v":""},null,null,null,null,null,null,null,null,null,null,null,null,null,null,null,null,null,null,null,null,null,null,null,null,null,null,null,null,null,null,null,null,null,null,null,null,null,null,null,null,null,{"$f":"AZ220","v":75}]
[]
[null,null,{"$f":"IF(TRIM(INDIRECT(\"'取組期間分割＞'!P\"&$AZ224,TRUE))=\"\",\"\",\"● \"&(INDIRECT(\"'取組期間分割＞'!M\"&$AZ224,TRUE)&\" \"&RIGHT(\"    \"&INDIRECT(\"'取組期間分割＞'!N\"&$AZ224,TRUE),4)&\"年 \"&RIGHT(\"    \"&INDIRECT(\"'取組期間分割＞'!O\"&$AZ224,TRUE),4)&\"月～　\"))","v":""},null,null,null,null,null,null,{"$f":"INDIRECT(\"'取組期間分割＞'!P\"&$AZ224,TRUE)","v":""},null,null,null,null,null,null,null,null,null,null,null,null,null,null,null,null,null,null,null,null,null,null,null,null,null,null,null,null,null,null,null,null,null,null,null,null,null,null,null,null,null,{"$f":"AZ222+1","v":76}]
[]
[null,null,{"$f":"IF(TRIM(INDIRECT(\"'取組期間分割＞'!P\"&$AZ226,TRUE))=\"\",\"\",\"● \"&(INDIRECT(\"'取組期間分割＞'!M\"&$AZ226,TRUE)&\" \"&RIGHT(\"    \"&INDIRECT(\"'取組期間分割＞'!N\"&$AZ226,TRUE),4)&\"年 \"&RIGHT(\"    \"&INDIRECT(\"'取組期間分割＞'!O\"&$AZ226,TRUE),4)&\"月～　\"))","v":""},null,null,null,null,null,null,{"$f":"INDIRECT(\"'取組期間分割＞'!P\"&$AZ226,TRUE)","v":""},null,null,null,null,null,null,null,null,null,null,null,null,null,null,null,null,null,null,null,null,null,null,null,null,null,null,null,null,null,null,null,null,null,null,null,null,null,null,null,null,null,{"$f":"AZ224+1","v":77}]
[]
[null,null,{"$f":"IF(TRIM(INDIRECT(\"'取組期間分割＞'!P\"&$AZ228,TRUE))=\"\",\"\",\"● \"&(INDIRECT(\"'取組期間分割＞'!M\"&$AZ228,TRUE)&\" \"&RIGHT(\"    \"&INDIRECT(\"'取組期間分割＞'!N\"&$AZ228,TRUE),4)&\"年 \"&RIGHT(\"    \"&INDIRECT(\"'取組期間分割＞'!O\"&$AZ228,TRUE),4)&\"月～　\"))","v":""},null,null,null,null,null,null,{"$f":"INDIRECT(\"'取組期間分割＞'!P\"&$AZ228,TRUE)","v":""},null,null,null,null,null,null,null,null,null,null,null,null,null,null,null,null,null,null,null,null,null,null,null,null,null,null,null,null,null,null,null,null,null,null,null,null,null,null,null,null,null,{"$f":"AZ226+1","v":78}]
[]
[null,null,{"$f":"IF(TRIM(INDIRECT(\"'取組期間分割＞'!P\"&$AZ230,TRUE))=\"\",\"\",\"● \"&(INDIRECT(\"'取組期間分割＞'!M\"&$AZ230,TRUE)&\" \"&RIGHT(\"    \"&INDIRECT(\"'取組期間分割＞'!N\"&$AZ230,TRUE),4)&\"年 \"&RIGHT(\"    \"&INDIRECT(\"'取組期間分割＞'!O\"&$AZ230,TRUE),4)&\"月～　\"))","v":""},null,null,null,null,null,null,{"$f":"INDIRECT(\"'取組期間分割＞'!P\"&$AZ230,TRUE)","v":""},null,null,null,null,null,null,null,null,null,null,null,null,null,null,null,null,null,null,null,null,null,null,null,null,null,null,null,null,null,null,null,null,null,null,null,null,null,null,null,null,null,{"$f":"AZ228+1","v":79}]
[]
[null,null,{"$f":"IF(TRIM(INDIRECT(\"'取組期間分割＞'!P\"&$AZ232,TRUE))=\"\",\"\",\"● \"&(INDIRECT(\"'取組期間分割＞'!M\"&$AZ232,TRUE)&\" \"&RIGHT(\"    \"&INDIRECT(\"'取組期間分割＞'!N\"&$AZ232,TRUE),4)&\"年 \"&RIGHT(\"    \"&INDIRECT(\"'取組期間分割＞'!O\"&$AZ232,TRUE),4)&\"月～　\"))","v":""},null,null,null,null,null,null,{"$f":"INDIRECT(\"'取組期間分割＞'!P\"&$AZ232,TRUE)","v":""},null,null,null,null,null,null,null,null,null,null,null,null,null,null,null,null,null,null,null,null,null,null,null,null,null,null,null,null,null,null,null,null,null,null,null,null,null,null,null,null,null,{"$f":"AZ230+1","v":80}]
[]
[null,null,{"$f":"IF(TRIM(INDIRECT(\"'取組期間分割＞'!P\"&$AZ234,TRUE))=\"\",\"\",\"● \"&(INDIRECT(\"'取組期間分割＞'!M\"&$AZ234,TRUE)&\" \"&RIGHT(\"    \"&INDIRECT(\"'取組期間分割＞'!N\"&$AZ234,TRUE),4)&\"年 \"&RIGHT(\"    \"&INDIRECT(\"'取組期間分割＞'!O\"&$AZ234,TRUE),4)&\"月～　\"))","v":""},null,null,null,null,null,null,{"$f":"INDIRECT(\"'取組期間分割＞'!P\"&$AZ234,TRUE)","v":""},null,null,null,null,null,null,null,null,null,null,null,null,null,null,null,null,null,null,null,null,null,null,null,null,null,null,null,null,null,null,null,null,null,null,null,null,null,null,null,null,null,{"$f":"AZ232+1","v":81}]
[]
[null,null,{"$f":"IF(TRIM(INDIRECT(\"'取組期間分割＞'!P\"&$AZ236,TRUE))=\"\",\"\",\"● \"&(INDIRECT(\"'取組期間分割＞'!M\"&$AZ236,TRUE)&\" \"&RIGHT(\"    \"&INDIRECT(\"'取組期間分割＞'!N\"&$AZ236,TRUE),4)&\"年 \"&RIGHT(\"    \"&INDIRECT(\"'取組期間分割＞'!O\"&$AZ236,TRUE),4)&\"月～　\"))","v":""},null,null,null,null,null,null,{"$f":"INDIRECT(\"'取組期間分割＞'!P\"&$AZ236,TRUE)","v":""},null,null,null,null,null,null,null,null,null,null,null,null,null,null,null,null,null,null,null,null,null,null,null,null,null,null,null,null,null,null,null,null,null,null,null,null,null,null,null,null,null,{"$f":"AZ234+1","v":82}]
[]
[null,null,{"$f":"IF(TRIM(INDIRECT(\"'取組期間分割＞'!P\"&$AZ238,TRUE))=\"\",\"\",\"● \"&(INDIRECT(\"'取組期間分割＞'!M\"&$AZ238,TRUE)&\" \"&RIGHT(\"    \"&INDIRECT(\"'取組期間分割＞'!N\"&$AZ238,TRUE),4)&\"年 \"&RIGHT(\"    \"&INDIRECT(\"'取組期間分割＞'!O\"&$AZ238,TRUE),4)&\"月～　\"))","v":""},null,null,null,null,null,null,{"$f":"INDIRECT(\"'取組期間分割＞'!P\"&$AZ238,TRUE)","v":""},null,null,null,null,null,null,null,null,null,null,null,null,null,null,null,null,null,null,null,null,null,null,null,null,null,null,null,null,null,null,null,null,null,null,null,null,null,null,null,null,null,{"$f":"AZ236+1","v":83}]
[]
[null,null,{"$f":"IF(TRIM(INDIRECT(\"'取組期間分割＞'!P\"&$AZ240,TRUE))=\"\",\"\",\"● \"&(INDIRECT(\"'取組期間分割＞'!M\"&$AZ240,TRUE)&\" \"&RIGHT(\"    \"&INDIRECT(\"'取組期間分割＞'!N\"&$AZ240,TRUE),4)&\"年 \"&RIGHT(\"    \"&INDIRECT(\"'取組期間分割＞'!O\"&$AZ240,TRUE),4)&\"月～　\"))","v":""},null,null,null,null,null,null,{"$f":"INDIRECT(\"'取組期間分割＞'!P\"&$AZ240,TRUE)","v":""},null,null,null,null,null,null,null,null,null,null,null,null,null,null,null,null,null,null,null,null,null,null,null,null,null,null,null,null,null,null,null,null,null,null,null,null,null,null,null,null,null,{"$f":"AZ238+1","v":84}]
[]
[]
[null,null,{"$f":"IF(G243<>\"\",IF(G220=G243,C220, DBCS(C220+1)),\"\")","v":""},null,null,null,{"$f":"'取組選択＞'!BU13","v":""},null,null,null,null,null,null,null,null,null,null,null,null,null,null,null,null,null,null,null,null,null,null,null,null,null,null,null,null,null,null,null,null,null,null,null,null,null,null,null,null,null,null,null,null,{"$f":"AZ240+1","v":85}]
[]
[null,null,{"$f":"IF(TRIM(INDIRECT(\"'取組期間分割＞'!P\"&$AZ245,TRUE))=\"\",\"\",\"● \"&(INDIRECT(\"'取組期間分割＞'!M\"&$AZ245,TRUE)&\" \"&RIGHT(\"    \"&INDIRECT(\"'取組期間分割＞'!N\"&$AZ245,TRUE),4)&\"年 \"&RIGHT(\"    \"&INDIRECT(\"'取組期間分割＞'!O\"&$AZ245,TRUE),4)&\"月～　\"))","v":""},null,null,null,null,null,null,{"$f":"INDIRECT(\"'取組期間分割＞'!P\"&$AZ245,TRUE)","v":""},null,null,null,null,null,null,null,null,null,null,null,null,null,null,null,null,null,null,null,null,null,null,null,null,null,null,null,null,null,null,null,null,null,null,null,null,null,null,null,null,null,{"$f":"AZ243","v":85}]
[]
[null,null,{"$f":"IF(TRIM(INDIRECT(\"'取組期間分割＞'!P\"&$AZ247,TRUE))=\"\",\"\",\"● \"&(INDIRECT(\"'取組期間分割＞'!M\"&$AZ247,TRUE)&\" \"&RIGHT(\"    \"&INDIRECT(\"'取組期間分割＞'!N\"&$AZ247,TRUE),4)&\"年 \"&RIGHT(\"    \"&INDIRECT(\"'取組期間分割＞'!O\"&$AZ247,TRUE),4)&\"月～　\"))","v":""},null,null,null,null,null,null,{"$f":"INDIRECT(\"'取組期間分割＞'!P\"&$AZ247,TRUE)","v":""},null,null,null,null,null,null,null,null,null,null,null,null,null,null,null,null,null,null,null,null,null,null,null,null,null,null,null,null,null,null,null,null,null,null,null,null,null,null,null,null,null,{"$f":"AZ245+1","v":86}]
[]
[null,null,{"$f":"IF(TRIM(INDIRECT(\"'取組期間分割＞'!P\"&$AZ249,TRUE))=\"\",\"\",\"● \"&(INDIRECT(\"'取組期間分割＞'!M\"&$AZ249,TRUE)&\" \"&RIGHT(\"    \"&INDIRECT(\"'取組期間分割＞'!N\"&$AZ249,TRUE),4)&\"年 \"&RIGHT(\"    \"&INDIRECT(\"'取組期間分割＞'!O\"&$AZ249,TRUE),4)&\"月～　\"))","v":""},null,null,null,null,null,null,{"$f":"INDIRECT(\"'取組期間分割＞'!P\"&$AZ249,TRUE)","v":""},null,null,null,null,null,null,null,null,null,null,null,null,null,null,null,null,null,null,null,null,null,null,null,null,null,null,null,null,null,null,null,null,null,null,null,null,null,null,null,null,null,{"$f":"AZ247+1","v":87}]
[]
[null,null,{"$f":"IF(TRIM(INDIRECT(\"'取組期間分割＞'!P\"&$AZ251,TRUE))=\"\",\"\",\"● \"&(INDIRECT(\"'取組期間分割＞'!M\"&$AZ251,TRUE)&\" \"&RIGHT(\"    \"&INDIRECT(\"'取組期間分割＞'!N\"&$AZ251,TRUE),4)&\"年 \"&RIGHT(\"    \"&INDIRECT(\"'取組期間分割＞'!O\"&$AZ251,TRUE),4)&\"月～　\"))","v":""},null,null,null,null,null,null,{"$f":"INDIRECT(\"'取組期間分割＞'!P\"&$AZ251,TRUE)","v":""},null,null,null,null,null,null,null,null,null,null,null,null,null,null,null,null,null,null,null,null,null,null,null,null,null,null,null,null,null,null,null,null,null,null,null,null,null,null,null,null,null,{"$f":"AZ249+1","v":88}]
[]
[null,null,{"$f":"IF(TRIM(INDIRECT(\"'取組期間分割＞'!P\"&$AZ253,TRUE))=\"\",\"\",\"● \"&(INDIRECT(\"'取組期間分割＞'!M\"&$AZ253,TRUE)&\" \"&RIGHT(\"    \"&INDIRECT(\"'取組期間分割＞'!N\"&$AZ253,TRUE),4)&\"年 \"&RIGHT(\"    \"&INDIRECT(\"'取組期間分割＞'!O\"&$AZ253,TRUE),4)&\"月～　\"))","v":""},null,null,null,null,null,null,{"$f":"INDIRECT(\"'取組期間分割＞'!P\"&$AZ253,TRUE)","v":""},null,null,null,null,null,null,null,null,null,null,null,null,null,null,null,null,null,null,null,null,null,null,null,null,null,null,null,null,null,null,null,null,null,null,null,null,null,null,null,null,null,{"$f":"AZ251+1","v":89}]
[]
[null,null,{"$f":"IF(TRIM(INDIRECT(\"'取組期間分割＞'!P\"&$AZ255,TRUE))=\"\",\"\",\"● \"&(INDIRECT(\"'取組期間分割＞'!M\"&$AZ255,TRUE)&\" \"&RIGHT(\"    \"&INDIRECT(\"'取組期間分割＞'!N\"&$AZ255,TRUE),4)&\"年 \"&RIGHT(\"    \"&INDIRECT(\"'取組期間分割＞'!O\"&$AZ255,TRUE),4)&\"月～　\"))","v":""},null,null,null,null,null,null,{"$f":"INDIRECT(\"'取組期間分割＞'!P\"&$AZ255,TRUE)","v":""},null,null,null,null,null,null,null,null,null,null,null,null,null,null,null,null,null,null,null,null,null,null,null,null,null,null,null,null,null,null,null,null,null,null,null,null,null,null,null,null,null,{"$f":"AZ253+1","v":90}]
[]
[null,null,{"$f":"IF(TRIM(INDIRECT(\"'取組期間分割＞'!P\"&$AZ257,TRUE))=\"\",\"\",\"● \"&(INDIRECT(\"'取組期間分割＞'!M\"&$AZ257,TRUE)&\" \"&RIGHT(\"    \"&INDIRECT(\"'取組期間分割＞'!N\"&$AZ257,TRUE),4)&\"年 \"&RIGHT(\"    \"&INDIRECT(\"'取組期間分割＞'!O\"&$AZ257,TRUE),4)&\"月～　\"))","v":""},null,null,null,null,null,null,{"$f":"INDIRECT(\"'取組期間分割＞'!P\"&$AZ257,TRUE)","v":""},null,null,null,null,null,null,null,null,null,null,null,null,null,null,null,null,null,null,null,null,null,null,null,null,null,null,null,null,null,null,null,null,null,null,null,null,null,null,null,null,null,{"$f":"AZ255+1","v":91}]
[]
[null,null,{"$f":"IF(TRIM(INDIRECT(\"'取組期間分割＞'!P\"&$AZ259,TRUE))=\"\",\"\",\"● \"&(INDIRECT(\"'取組期間分割＞'!M\"&$AZ259,TRUE)&\" \"&RIGHT(\"    \"&INDIRECT(\"'取組期間分割＞'!N\"&$AZ259,TRUE),4)&\"年 \"&RIGHT(\"    \"&INDIRECT(\"'取組期間分割＞'!O\"&$AZ259,TRUE),4)&\"月～　\"))","v":""},null,null,null,null,null,null,{"$f":"INDIRECT(\"'取組期間分割＞'!P\"&$AZ259,TRUE)","v":""},null,null,null,null,null,null,null,null,null,null,null,null,null,null,null,null,null,null,null,null,null,null,null,null,null,null,null,null,null,null,null,null,null,null,null,null,null,null,null,null,null,{"$f":"AZ257+1","v":92}]
[]
[null,null,{"$f":"IF(TRIM(INDIRECT(\"'取組期間分割＞'!P\"&$AZ261,TRUE))=\"\",\"\",\"● \"&(INDIRECT(\"'取組期間分割＞'!M\"&$AZ261,TRUE)&\" \"&RIGHT(\"    \"&INDIRECT(\"'取組期間分割＞'!N\"&$AZ261,TRUE),4)&\"年 \"&RIGHT(\"    \"&INDIRECT(\"'取組期間分割＞'!O\"&$AZ261,TRUE),4)&\"月～　\"))","v":""},null,null,null,null,null,null,{"$f":"INDIRECT(\"'取組期間分割＞'!P\"&$AZ261,TRUE)","v":""},null,null,null,null,null,null,null,null,null,null,null,null,null,null,null,null,null,null,null,null,null,null,null,null,null,null,null,null,null,null,null,null,null,null,null,null,null,null,null,null,null,{"$f":"AZ259+1","v":93}]
[]
[null,null,{"$f":"IF(TRIM(INDIRECT(\"'取組期間分割＞'!P\"&$AZ263,TRUE))=\"\",\"\",\"● \"&(INDIRECT(\"'取組期間分割＞'!M\"&$AZ263,TRUE)&\" \"&RIGHT(\"    \"&INDIRECT(\"'取組期間分割＞'!N\"&$AZ263,TRUE),4)&\"年 \"&RIGHT(\"    \"&INDIRECT(\"'取組期間分割＞'!O\"&$AZ263,TRUE),4)&\"月～　\"))","v":""},null,null,null,null,null,null,{"$f":"INDIRECT(\"'取組期間分割＞'!P\"&$AZ263,TRUE)","v":""},null,null,null,null,null,null,null,null,null,null,null,null,null,null,null,null,null,null,null,null,null,null,null,null,null,null,null,null,null,null,null,null,null,null,null,null,null,null,null,null,null,{"$f":"AZ261+1","v":94}]
[]
[]
[null,null,{"$f":"IF(G266<>\"\",IF(G243=G266,C243, DBCS(C243+1)),\"\")","v":""},null,null,null,{"$f":"'取組選択＞'!BU14","v":""},null,null,null,null,null,null,null,null,null,null,null,null,null,null,null,null,null,null,null,null,null,null,null,null,null,null,null,null,null,null,null,null,null,null,null,null,null,null,null,null,null,null,null,null,{"$f":"AZ263+1","v":95}]
[]
[null,null,{"$f":"IF(TRIM(INDIRECT(\"'取組期間分割＞'!P\"&$AZ268,TRUE))=\"\",\"\",\"● \"&(INDIRECT(\"'取組期間分割＞'!M\"&$AZ268,TRUE)&\" \"&RIGHT(\"    \"&INDIRECT(\"'取組期間分割＞'!N\"&$AZ268,TRUE),4)&\"年 \"&RIGHT(\"    \"&INDIRECT(\"'取組期間分割＞'!O\"&$AZ268,TRUE),4)&\"月～　\"))","v":""},null,null,null,null,null,null,{"$f":"INDIRECT(\"'取組期間分割＞'!P\"&$AZ268,TRUE)","v":""},null,null,null,null,null,null,null,null,null,null,null,null,null,null,null,null,null,null,null,null,null,null,null,null,null,null,null,null,null,null,null,null,null,null,null,null,null,null,null,null,null,{"$f":"AZ266","v":95}]
[]
[null,null,{"$f":"IF(TRIM(INDIRECT(\"'取組期間分割＞'!P\"&$AZ270,TRUE))=\"\",\"\",\"● \"&(INDIRECT(\"'取組期間分割＞'!M\"&$AZ270,TRUE)&\" \"&RIGHT(\"    \"&INDIRECT(\"'取組期間分割＞'!N\"&$AZ270,TRUE),4)&\"年 \"&RIGHT(\"    \"&INDIRECT(\"'取組期間分割＞'!O\"&$AZ270,TRUE),4)&\"月～　\"))","v":""},null,null,null,null,null,null,{"$f":"INDIRECT(\"'取組期間分割＞'!P\"&$AZ270,TRUE)","v":""},null,null,null,null,null,null,null,null,null,null,null,null,null,null,null,null,null,null,null,null,null,null,null,null,null,null,null,null,null,null,null,null,null,null,null,null,null,null,null,null,null,{"$f":"AZ268+1","v":96}]
[]
[null,null,{"$f":"IF(TRIM(INDIRECT(\"'取組期間分割＞'!P\"&$AZ272,TRUE))=\"\",\"\",\"● \"&(INDIRECT(\"'取組期間分割＞'!M\"&$AZ272,TRUE)&\" \"&RIGHT(\"    \"&INDIRECT(\"'取組期間分割＞'!N\"&$AZ272,TRUE),4)&\"年 \"&RIGHT(\"    \"&INDIRECT(\"'取組期間分割＞'!O\"&$AZ272,TRUE),4)&\"月～　\"))","v":""},null,null,null,null,null,null,{"$f":"INDIRECT(\"'取組期間分割＞'!P\"&$AZ272,TRUE)","v":""},null,null,null,null,null,null,null,null,null,null,null,null,null,null,null,null,null,null,null,null,null,null,null,null,null,null,null,null,null,null,null,null,null,null,null,null,null,null,null,null,null,{"$f":"AZ270+1","v":97}]
[]
[null,null,{"$f":"IF(TRIM(INDIRECT(\"'取組期間分割＞'!P\"&$AZ274,TRUE))=\"\",\"\",\"● \"&(INDIRECT(\"'取組期間分割＞'!M\"&$AZ274,TRUE)&\" \"&RIGHT(\"    \"&INDIRECT(\"'取組期間分割＞'!N\"&$AZ274,TRUE),4)&\"年 \"&RIGHT(\"    \"&INDIRECT(\"'取組期間分割＞'!O\"&$AZ274,TRUE),4)&\"月～　\"))","v":""},null,null,null,null,null,null,{"$f":"INDIRECT(\"'取組期間分割＞'!P\"&$AZ274,TRUE)","v":""},null,null,null,null,null,null,null,null,null,null,null,null,null,null,null,null,null,null,null,null,null,null,null,null,null,null,null,null,null,null,null,null,null,null,null,null,null,null,null,null,null,{"$f":"AZ272+1","v":98}]
[]
[null,null,{"$f":"IF(TRIM(INDIRECT(\"'取組期間分割＞'!P\"&$AZ276,TRUE))=\"\",\"\",\"● \"&(INDIRECT(\"'取組期間分割＞'!M\"&$AZ276,TRUE)&\" \"&RIGHT(\"    \"&INDIRECT(\"'取組期間分割＞'!N\"&$AZ276,TRUE),4)&\"年 \"&RIGHT(\"    \"&INDIRECT(\"'取組期間分割＞'!O\"&$AZ276,TRUE),4)&\"月～　\"))","v":""},null,null,null,null,null,null,{"$f":"INDIRECT(\"'取組期間分割＞'!P\"&$AZ276,TRUE)","v":""},null,null,null,null,null,null,null,null,null,null,null,null,null,null,null,null,null,null,null,null,null,null,null,null,null,null,null,null,null,null,null,null,null,null,null,null,null,null,null,null,null,{"$f":"AZ274+1","v":99}]
[]
[null,null,{"$f":"IF(TRIM(INDIRECT(\"'取組期間分割＞'!P\"&$AZ278,TRUE))=\"\",\"\",\"● \"&(INDIRECT(\"'取組期間分割＞'!M\"&$AZ278,TRUE)&\" \"&RIGHT(\"    \"&INDIRECT(\"'取組期間分割＞'!N\"&$AZ278,TRUE),4)&\"年 \"&RIGHT(\"    \"&INDIRECT(\"'取組期間分割＞'!O\"&$AZ278,TRUE),4)&\"月～　\"))","v":""},null,null,null,null,null,null,{"$f":"INDIRECT(\"'取組期間分割＞'!P\"&$AZ278,TRUE)","v":""},null,null,null,null,null,null,null,null,null,null,null,null,null,null,null,null,null,null,null,null,null,null,null,null,null,null,null,null,null,null,null,null,null,null,null,null,null,null,null,null,null,{"$f":"AZ276+1","v":100}]
[]
[null,null,{"$f":"IF(TRIM(INDIRECT(\"'取組期間分割＞'!P\"&$AZ280,TRUE))=\"\",\"\",\"● \"&(INDIRECT(\"'取組期間分割＞'!M\"&$AZ280,TRUE)&\" \"&RIGHT(\"    \"&INDIRECT(\"'取組期間分割＞'!N\"&$AZ280,TRUE),4)&\"年 \"&RIGHT(\"    \"&INDIRECT(\"'取組期間分割＞'!O\"&$AZ280,TRUE),4)&\"月～　\"))","v":""},null,null,null,null,null,null,{"$f":"INDIRECT(\"'取組期間分割＞'!P\"&$AZ280,TRUE)","v":""},null,null,null,null,null,null,null,null,null,null,null,null,null,null,null,null,null,null,null,null,null,null,null,null,null,null,null,null,null,null,null,null,null,null,null,null,null,null,null,null,null,{"$f":"AZ278+1","v":101}]
[]
[null,null,{"$f":"IF(TRIM(INDIRECT(\"'取組期間分割＞'!P\"&$AZ282,TRUE))=\"\",\"\",\"● \"&(INDIRECT(\"'取組期間分割＞'!M\"&$AZ282,TRUE)&\" \"&RIGHT(\"    \"&INDIRECT(\"'取組期間分割＞'!N\"&$AZ282,TRUE),4)&\"年 \"&RIGHT(\"    \"&INDIRECT(\"'取組期間分割＞'!O\"&$AZ282,TRUE),4)&\"月～　\"))","v":""},null,null,null,null,null,null,{"$f":"INDIRECT(\"'取組期間分割＞'!P\"&$AZ282,TRUE)","v":""},null,null,null,null,null,null,null,null,null,null,null,null,null,null,null,null,null,null,null,null,null,null,null,null,null,null,null,null,null,null,null,null,null,null,null,null,null,null,null,null,null,{"$f":"AZ280+1","v":102}]
[]
[null,null,{"$f":"IF(TRIM(INDIRECT(\"'取組期間分割＞'!P\"&$AZ284,TRUE))=\"\",\"\",\"● \"&(INDIRECT(\"'取組期間分割＞'!M\"&$AZ284,TRUE)&\" \"&RIGHT(\"    \"&INDIRECT(\"'取組期間分割＞'!N\"&$AZ284,TRUE),4)&\"年 \"&RIGHT(\"    \"&INDIRECT(\"'取組期間分割＞'!O\"&$AZ284,TRUE),4)&\"月～　\"))","v":""},null,null,null,null,null,null,{"$f":"INDIRECT(\"'取組期間分割＞'!P\"&$AZ284,TRUE)","v":""},null,null,null,null,null,null,null,null,null,null,null,null,null,null,null,null,null,null,null,null,null,null,null,null,null,null,null,null,null,null,null,null,null,null,null,null,null,null,null,null,null,{"$f":"AZ282+1","v":103}]
[]
[null,null,{"$f":"IF(TRIM(INDIRECT(\"'取組期間分割＞'!P\"&$AZ286,TRUE))=\"\",\"\",\"● \"&(INDIRECT(\"'取組期間分割＞'!M\"&$AZ286,TRUE)&\" \"&RIGHT(\"    \"&INDIRECT(\"'取組期間分割＞'!N\"&$AZ286,TRUE),4)&\"年 \"&RIGHT(\"    \"&INDIRECT(\"'取組期間分割＞'!O\"&$AZ286,TRUE),4)&\"月～　\"))","v":""},null,null,null,null,null,null,{"$f":"INDIRECT(\"'取組期間分割＞'!P\"&$AZ286,TRUE)","v":""},null,null,null,null,null,null,null,null,null,null,null,null,null,null,null,null,null,null,null,null,null,null,null,null,null,null,null,null,null,null,null,null,null,null,null,null,null,null,null,null,null,{"$f":"AZ284+1","v":104}]
[]
[]
[]
[]
[]
[]
[null,"　　　最後に行動計画が、女性活躍推進法に基づき作成されたか✅しましょう"]
[]
[]
[]
[]
[null,null,null,null,null,null,"「計画期間」は２年から５年の範囲で入力されていますか？ 　 　 "]
[]
[null,null,null,null,null,null,"　目標が定められており、そのうち一つ以上は "]
[null,null,null,null,null,null,"「数値目標」となっていますか？ 　 　 　"]
[]
[null,null,null,null,null,null,"　 目標を達成するための、「取組内容」と「取組の実施時期」　"]
[null,null,null,null,null,null,"　が設定されていますか？ "]
[null,null,null,null,null,null,"（「取組の実施期間」は、計画期間内に収まっていますか？） "]
[]
[]
[]
[]
[]
[]
[]
[]
[]
[]
[]
[]
[]
[]
[]
[]
[]
[]
[]
[]
[null,null,"・事務所の見やすい場所に掲示　 "]
[null,null,"・書面での配布 ・電子メールで全労働者へ送付 "]
[null,null,"・イントラネット（企業内ネットワーク）への掲載等 "]
[]
[]
[]
[null,null,"・厚生労働省「女性の活躍推進企業データベース」での公表"]
[null,null,"URL:  ",null,"https://positive-ryouritsu.mhlw.go.jp/positivedb/"]
[null,null,"・自社のホームページへの掲載等"]
[]
[]
[]
[null,null,"作成した行動計画と一緒に「一般事業主行動計画策定・変更届」を"]
[null,null,"出力して、 必要事項を記載後、郵送・持参等で都道府県労働局に"]
[null,null,"届けましょう。 "]
[]
[null,null,"※行動計画を添付した場合は、「一般事業主行動計画策定・変更"]
[null,null,"届」の ９（１）（２）の欄の記載を省略することができます。 "]
[]
[null,null,"・都道府県労働局（雇用環境・均等部（室））所在地一覧"]
[null,null,"URL:  ",null,"https://www.mhlw.go.jp/kouseiroudoushou/shozaiannai/roudoukyoku/index.html"]

{"sheet":"行動計画出力","index":37,"n_rows":286,"n_cols":52,"rows_kept":286,"cut":false,"hidden":false,"merged":[[13,1,13,30],[191,2,191,8],[191,9,192,30],[281,2,281,8],[281,9,282,30],[283,2,283,8],[283,9,284,30],[285,2,285,8],[285,9,286,30],[193,2,193,8],[193,9,194,30],[196,2,196,5],[196,6,196,30],[208,2,208,8],[208,9,209,30],[210,2,210,8],[210,9,211,30],[219,2,219,5],[219,6,219,30],[267,9,268,30],[269,2,269,8],[269,9,270,30],[271,2,271,8],[271,9,272,30],[147,9,148,30],[183,2,183,8],[183,9,184,30],[185,2,185,8],[185,9,186,30],[187,2,187,8],[187,9,188,30],[189,2,189,8],[189,9,190,30],[160,2,160,8],[160,9,161,30],[162,2,162,8],[162,9,163,30],[173,2,173,5],[173,6,173,30],[158,2,158,8],[158,9,159,30],[152,2,152,8],[152,9,153,30],[154,2,154,8],[154,9,155,30],[181,2,181,8],[181,9,182,30],[170,2,170,8],[33,1,33,3],[33,4,33,30],[34,1,34,3],[34,4,34,30],[35,1,35,3],[35,4,35,30],[36,1,36,3],[36,4,36,30],[37,1,37,3],[37,4,37,30],[170,9,171,30],[166,2,166,8],[166,9,167,30],[168,2,168,8],[168,9,169,30],[175,2,175,8],[175,9,176,30],[177,2,177,8],[177,9,178,30],[93,2,93,8],[93,9,94,30],[95,2,95,8],[28,1,28,3],[28,4,28,30],[29,1,29,3],[29,4,29,30],[30,1,30,3],[30,4,30,30],[31,1,31,3],[31,4,31,30],[32,1,32,3],[32,4,32,30],[64,2,64,8],[64,9,65,30],[66,2,66,8],[66,9,67,30],[91,2,91,8],[91,9,92,30],[81,2,81,5],[81,6,81,30],[83,2,83,8],[83,9,84,30],[85,2,85,8],[23,1,23,3],[23,4,23,30],[24,1,24,3],[24,4,24,30],[25,1,25,3],[25,4,25,30],[26,1,26,3],[26,4,26,30],[27,1,27,3],[27,4,27,30],[18,4,18,30],[19,1,19,3],[19,4,19,30],[20,1,20,3],[20,4,20,30],[21,1,21,3],[21,4,21,30],[22,1,22,3],[22,4,22,30],[275,9,276,30],[277,2,277,8],[277,9,278,30],[279,2,279,8],[254,2,254,8],[254,9,255,30],[260,2,260,8],[260,9,261,30],[256,2,256,8],[256,9,257,30],[258,2,258,8],[258,9,259,30],[265,2,265,5],[265,6,265,30],[267,2,267,8],[279,9,280,30],[273,9,274,30],[275,2,275,8],[273,2,273,8],[252,2,252,8],[252,9,253,30],[244,2,244,8],[244,9,245,30],[246,2,246,8],[246,9,247,30],[262,2,262,8],[262,9,263,30],[242,2,242,5],[242,6,242,30],[248,2,248,8],[248,9,249,30],[250,2,250,8],[250,9,251,30],[237,2,237,8],[237,9,238,30],[239,2,239,8],[239,9,240,30],[216,2,216,8],[216,9,217,30],[221,2,221,8],[221,9,222,30],[223,2,223,8],[223,9,224,30],[225,2,225,8],[225,9,226,30],[227,2,227,8],[227,9,228,30],[229,2,229,8],[229,9,230,30],[231,2,231,8],[231,9,232,30],[233,2,233,8],[233,9,234,30],[235,2,235,8],[235,9,236,30],[97,2,97,8],[97,9,98,30],[99,2,99,8],[99,9,100,30],[179,2,179,8],[179,9,180,30],[116,2,116,8],[116,9,117,30],[108,2,108,8],[108,9,109,30],[131,2,131,8],[131,9,132,30],[133,2,133,8],[133,9,134,30],[135,2,135,8],[135,9,136,30],[137,2,137,8],[137,9,138,30],[139,2,139,8],[139,9,140,30],[156,2,156,8],[156,9,157,30],[104,2,104,5],[147,2,147,8],[150,2,150,5],[150,6,150,30],[141,2,141,8],[141,9,142,30],[143,2,143,8],[143,9,144,30],[145,2,145,8],[145,9,146,30],[62,2,62,8],[62,9,63,30],[104,6,104,30],[112,2,112,8],[112,9,113,30],[114,2,114,8],[114,9,115,30],[127,2,127,5],[127,6,127,30],[129,2,129,8],[129,9,130,30],[118,2,118,8],[118,9,119,30],[110,2,110,8],[110,9,111,30],[95,9,96,30],[85,9,86,30],[87,2,87,8],[87,9,88,30],[89,2,89,8],[89,9,90,30],[46,3,46,29],[47,3,47,29],[48,3,48,29],[49,3,49,29],[50,3,50,29],[51,3,51,29],[52,3,52,29],[53,3,53,29],[60,2,60,8],[60,9,61,30],[58,2,58,5],[58,6,58,30],[11,1,11,30],[14,6,14,7],[164,2,164,8],[164,9,165,30],[120,2,120,8],[120,9,121,30],[122,2,122,8],[122,9,123,30],[124,2,124,8],[124,9,125,30],[70,2,70,8],[70,9,71,30],[72,2,72,8],[72,9,73,30],[74,2,74,8],[74,9,75,30],[76,2,76,8],[76,9,77,30],[106,2,106,8],[106,9,107,30],[78,2,78,8],[78,9,79,30],[68,2,68,8],[68,9,69,30],[214,2,214,8],[214,9,215,30],[202,2,202,8],[202,9,203,30],[204,2,204,8],[204,9,205,30],[206,2,206,8],[206,9,207,30],[14,8,14,9],[14,16,14,17],[14,18,14,19],[18,1,18,3],[212,2,212,8],[212,9,213,30],[198,2,198,8],[198,9,199,30],[200,2,200,8],[200,9,201,30],[101,2,101,8],[101,9,102,30],[42,3,42,29],[43,3,43,29],[44,3,44,29],[45,3,45,29]]}
[]
[]
[]
[]
[]
[]
[]
[]
[]
[]
[]
[null,"株式会社　Ａ"]
[]
[null,"女性活躍推進法に基づく一般事業主行動計画"]
[null,"１．計画期間： 　",null,null,null,null,"令和",null,"2",null,"年","4","月","1","日","～","令和",null,"5",null,"年","3","月","31","日"]
[]
[null,"２ ．当社の課題"]
[]
[null,"課題１：",null,null,"採用者に占める女性割合が低い雇用管理区分がある"]
[null,"",null,null,""]
[null,"",null,null,""]
[null,"",null,null,""]
[null,"",null,null,""]
[null,"",null,null,""]
[null,"",null,null,""]
[null,"",null,null,""]
[null,"",null,null,""]
[null,"",null,null,""]
[null,"",null,null,""]
[null,"",null,null,""]
[null,"",null,null,""]
[null,"",null,null,""]
[null,"",null,null,""]
[null,"",null,null,""]
[null,"",null,null,""]
[null,"",null,null,""]
[null,"",null,null,""]
[null,"",null,null,""]
[]
[null,"３ ．目標"]
[]
[]
[null,null,"・","採用した労働者に占める女性割合を40％以上とする"]
[null,null,"",""]
[null,null,"",""]
[null,null,"",""]
[null,null,"",""]
[null,null,"",""]
[null,null,"",""]
[null,null,"",""]
[null,null,"",""]
[null,null,"",""]
[null,null,"",""]
[null,null,"",""]
[]
[]
[null,"４．取組内容と実施時期"]
[]
[null,null,"１",null,null,null,"求職者に対する積極的な広報（女性が活躍できる職場であることついて）を行う",null,null,null,null,null,null,null,null,null,null,null,null,null,null,null,null,null,null,null,null,null,null,null,null,null,null,null,null,null,null,null,null,null,null,null,null,null,null,null,null,null,null,null,null,5]
[]
[null,null,"● 令和    2年    4月～　",null,null,null,null,null,null,"女子学生の応募を増やすため、ホームページの採用ページの内容を見直し、改定する。",null,null,null,null,null,null,null,null,null,null,null,null,null,null,null,null,null,null,null,null,null,null,null,null,null,null,null,null,null,null,null,null,null,null,null,null,null,null,null,null,null,{"$f":"AZ59","v":5}]
[]
[null,null,"● 令和    3年    4月～　",null,null,null,null,null,null,"女子学生を対象とした会社説明会を実施する。",null,null,null,null,null,null,null,null,null,null,null,null,null,null,null,null,null,null,null,null,null,null,null,null,null,null,null,null,null,null,null,null,null,null,null,null,null,null,null,null,null,{"$f":"AZ61+1","v":6}]
[]
[null,null,"● 令和    4年   10月～　",null,null,null,null,null,null,"女性の採用拡大に向けた、インターンシップを実施する。",null,null,null,null,null,null,null,null,null,null,null,null,null,null,null,null,null,null,null,null,null,null,null,null,null,null,null,null,null,null,null,null,null,null,null,null,null,null,null,null,null,{"$f":"AZ63+1","v":7}]
[]
[null,null,"",null,null,null,null,null,null,"",null,null,null,null,null,null,null,null,null,null,null,null,null,null,null,null,null,null,null,null,null,null,null,null,null,null,null,null,null,null,null,null,null,null,null,null,null,null,null,null,null,{"$f":"AZ65+1","v":8}]
[]
[null,null,"",null,null,null,null,null,null,"",null,null,null,null,null,null,null,null,null,null,null,null,null,null,null,null,null,null,null,null,null,null,null,null,null,null,null,null,null,null,null,null,null,null,null,null,null,null,null,null,null,{"$f":"AZ67+1","v":9}]
[]
[null,null,"",null,null,null,null,null,null,"",null,null,null,null,null,null,null,null,null,null,null,null,null,null,null,null,null,null,null,null,null,null,null,null,null,null,null,null,null,null,null,null,null,null,null,null,null,null,null,null,null,{"$f":"AZ69+1","v":10}]
[]
[null,null,"",null,null,null,null,null,null,"",null,null,null,null,null,null,null,null,null,null,null,null,null,null,null,null,null,null,null,null,null,null,null,null,null,null,null,null,null,null,null,null,null,null,null,null,null,null,null,null,null,{"$f":"AZ71+1","v":11}]
[]
[null,null,"",null,null,null,null,null,null,"",null,null,null,null,null,null,null,null,null,null,null,null,null,null,null,null,null,null,null,null,null,null,null,null,null,null,null,null,null,null,null,null,null,null,null,null,null,null,null,null,null,{"$f":"AZ73+1","v":12}]
[]
[null,null,"",null,null,null,null,null,null,"",null,null,null,null,null,null,null,null,null,null,null,null,null,null,null,null,null,null,null,null,null,null,null,null,null,null,null,null,null,null,null,null,null,null,null,null,null,null,null,null,null,{"$f":"AZ75+1","v":13}]
[]
[null,null,"",null,null,null,null,null,null,"",null,null,null,null,null,null,null,null,null,null,null,null,null,null,null,null,null,null,null,null,null,null,null,null,null,null,null,null,null,null,null,null,null,null,null,null,null,null,null,null,null,{"$f":"AZ77+1","v":14}]
[]
[]
[null,null,"",null,null,null,"",null,null,null,null,null,null,null,null,null,null,null,null,null,null,null,null,null,null,null,null,null,null,null,null,null,null,null,null,null,null,null,null,null,null,null,null,null,null,null,null,null,null,null,null,{"$f":"AZ79+1","v":15}]
[]
[null,null,"",null,null,null,null,null,null,"",null,null,null,null,null,null,null,null,null,null,null,null,null,null,null,null,null,null,null,null,null,null,null,null,null,null,null,null,null,null,null,null,null,null,null,null,null,null,null,null,null,{"$f":"AZ82","v":15}]
[]
[null,null,"",null,null,null,null,null,null,"",null,null,null,null,null,null,null,null,null,null,null,null,null,null,null,null,null,null,null,null,null,null,null,null,null,null,null,null,null,null,null,null,null,null,null,null,null,null,null,null,null,{"$f":"AZ84+1","v":16}]
[]
[null,null,"",null,null,null,null,null,null,"",null,null,null,null,null,null,null,null,null,null,null,null,null,null,null,null,null,null,null,null,null,null,null,null,null,null,null,null,null,null,null,null,null,null,null,null,null,null,null,null,null,{"$f":"AZ86+1","v":17}]
[]
[null,null,"",null,null,null,null,null,null,"",null,null,null,null,null,null,null,null,null,null,null,null,null,null,null,null,null,null,null,null,null,null,null,null,null,null,null,null,null,null,null,null,null,null,null,null,null,null,null,null,null,{"$f":"AZ88+1","v":18}]
[]
[null,null,"",null,null,null,null,null,null,"",null,null,null,null,null,null,null,null,null,null,null,null,null,null,null,null,null,null,null,null,null,null,null,null,null,null,null,null,null,null,null,null,null,null,null,null,null,null,null,null,null,{"$f":"AZ90+1","v":19}]
[]
[null,null,"",null,null,null,null,null,null,"",null,null,null,null,null,null,null,null,null,null,null,null,null,null,null,null,null,null,null,null,null,null,null,null,null,null,null,null,null,null,null,null,null,null,null,null,null,null,null,null,null,{"$f":"AZ92+1","v":20}]
[]
[null,null,"",null,null,null,null,null,null,"",null,null,null,null,null,null,null,null,null,null,null,null,null,null,null,null,null,null,null,null,null,null,null,null,null,null,null,null,null,null,null,null,null,null,null,null,null,null,null,null,null,{"$f":"AZ94+1","v":21}]
[]
[null,null,"",null,null,null,null,null,null,"",null,null,null,null,null,null,null,null,null,null,null,null,null,null,null,null,null,null,null,null,null,null,null,null,null,null,null,null,null,null,null,null,null,null,null,null,null,null,null,null,null,{"$f":"AZ96+1","v":22}]
[]
[null,null,"",null,null,null,null,null,null,"",null,null,null,null,null,null,null,null,null,null,null,null,null,null,null,null,null,null,null,null,null,null,null,null,null,null,null,null,null,null,null,null,null,null,null,null,null,null,null,null,null,{"$f":"AZ98+1","v":23}]
[]
[null,null,"",null,null,null,null,null,null,"",null,null,null,null,null,null,null,null,null,null,null,null,null,null,null,null,null,null,null,null,null,null,null,null,null,null,null,null,null,null,null,null,null,null,null,null,null,null,null,null,null,{"$f":"AZ100+1","v":24}]
[]
[]
[null,null,"",null,null,null,"",null,null,null,null,null,null,null,null,null,null,null,null,null,null,null,null,null,null,null,null,null,null,null,null,null,null,null,null,null,null,null,null,null,null,null,null,null,null,null,null,null,null,null,null,{"$f":"AZ102+1","v":25}]
[]
[null,null,"",null,null,null,null,null,null,"",null,null,null,null,null,null,null,null,null,null,null,null,null,null,null,null,null,null,null,null,null,null,null,null,null,null,null,null,null,null,null,null,null,null,null,null,null,null,null,null,null,{"$f":"AZ105","v":25}]
[]
[null,null,"",null,null,null,null,null,null,"",null,null,null,null,null,null,null,null,null,null,null,null,null,null,null,null,null,null,null,null,null,null,null,null,null,null,null,null,null,null,null,null,null,null,null,null,null,null,null,null,null,{"$f":"AZ107+1","v":26}]
[]
[null,null,"",null,null,null,null,null,null,"",null,null,null,null,null,null,null,null,null,null,null,null,null,null,null,null,null,null,null,null,null,null,null,null,null,null,null,null,null,null,null,null,null,null,null,null,null,null,null,null,null,{"$f":"AZ109+1","v":27}]
[]
[null,null,"",null,null,null,null,null,null,"",null,null,null,null,null,null,null,null,null,null,null,null,null,null,null,null,null,null,null,null,null,null,null,null,null,null,null,null,null,null,null,null,null,null,null,null,null,null,null,null,null,{"$f":"AZ111+1","v":28}]
[]
[null,null,"",null,null,null,null,null,null,"",null,null,null,null,null,null,null,null,null,null,null,null,null,null,null,null,null,null,null,null,null,null,null,null,null,null,null,null,null,null,null,null,null,null,null,null,null,null,null,null,null,{"$f":"AZ113+1","v":29}]
[]
[null,null,"",null,null,null,null,null,null,"",null,null,null,null,null,null,null,null,null,null,null,null,null,null,null,null,null,null,null,null,null,null,null,null,null,null,null,null,null,null,null,null,null,null,null,null,null,null,null,null,null,{"$f":"AZ115+1","v":30}]
[]
[null,null,"",null,null,null,null,null,null,"",null,null,null,null,null,null,null,null,null,null,null,null,null,null,null,null,null,null,null,null,null,null,null,null,null,null,null,null,null,null,null,null,null,null,null,null,null,null,null,null,null,{"$f":"AZ117+1","v":31}]
[]
[null,null,"",null,null,null,null,null,null,"",null,null,null,null,null,null,null,null,null,null,null,null,null,null,null,null,null,null,null,null,null,null,null,null,null,null,null,null,null,null,null,null,null,null,null,null,null,null,null,null,null,{"$f":"AZ119+1","v":32}]
[]
[null,null,"",null,null,null,null,null,null,"",null,null,null,null,null,null,null,null,null,null,null,null,null,null,null,null,null,null,null,null,null,null,null,null,null,null,null,null,null,null,null,null,null,null,null,null,null,null,null,null,null,{"$f":"AZ121+1","v":33}]
[]
[null,null,"",null,null,null,null,null,null,"",null,null,null,null,null,null,null,null,null,null,null,null,null,null,null,null,null,null,null,null,null,null,null,null,null,null,null,null,null,null,null,null,null,null,null,null,null,null,null,null,null,{"$f":"AZ123+1","v":34}]
[]
[]
[null,null,"",null,null,null,"",null,null,null,null,null,null,null,null,null,null,null,null,null,null,null,null,null,null,null,null,null,null,null,null,null,null,null,null,null,null,null,null,null,null,null,null,null,null,null,null,null,null,null,null,{"$f":"AZ125+1","v":35}]
[]
[null,null,"",null,null,null,null,null,null,"",null,null,null,null,null,null,null,null,null,null,null,null,null,null,null,null,null,null,null,null,null,null,null,null,null,null,null,null,null,null,null,null,null,null,null,null,null,null,null,null,null,{"$f":"AZ128","v":35}]
[]
[null,null,"",null,null,null,null,null,null,"",null,null,null,null,null,null,null,null,null,null,null,null,null,null,null,null,null,null,null,null,null,null,null,null,null,null,null,null,null,null,null,null,null,null,null,null,null,null,null,null,null,{"$f":"AZ130+1","v":36}]
[]
[null,null,"",null,null,null,null,null,null,"",null,null,null,null,null,null,null,null,null,null,null,null,null,null,null,null,null,null,null,null,null,null,null,null,null,null,null,null,null,null,null,null,null,null,null,null,null,null,null,null,null,{"$f":"AZ132+1","v":37}]
[]
[null,null,"",null,null,null,null,null,null,"",null,null,null,null,null,null,null,null,null,null,null,null,null,null,null,null,null,null,null,null,null,null,null,null,null,null,null,null,null,null,null,null,null,null,null,null,null,null,null,null,null,{"$f":"AZ134+1","v":38}]
[]
[null,null,"",null,null,null,null,null,null,"",null,null,null,null,null,null,null,null,null,null,null,null,null,null,null,null,null,null,null,null,null,null,null,null,null,null,null,null,null,null,null,null,null,null,null,null,null,null,null,null,null,{"$f":"AZ136+1","v":39}]
[]
[null,null,"",null,null,null,null,null,null,"",null,null,null,null,null,null,null,null,null,null,null,null,null,null,null,null,null,null,null,null,null,null,null,null,null,null,null,null,null,null,null,null,null,null,null,null,null,null,null,null,null,{"$f":"AZ138+1","v":40}]
[]
[null,null,"",null,null,null,null,null,null,"",null,null,null,null,null,null,null,null,null,null,null,null,null,null,null,null,null,null,null,null,null,null,null,null,null,null,null,null,null,null,null,null,null,null,null,null,null,null,null,null,null,{"$f":"AZ140+1","v":41}]
[]
[null,null,"",null,null,null,null,null,null,"",null,null,null,null,null,null,null,null,null,null,null,null,null,null,null,null,null,null,null,null,null,null,null,null,null,null,null,null,null,null,null,null,null,null,null,null,null,null,null,null,null,{"$f":"AZ142+1","v":42}]
[]
[null,null,"",null,null,null,null,null,null,"",null,null,null,null,null,null,null,null,null,null,null,null,null,null,null,null,null,null,null,null,null,null,null,null,null,null,null,null,null,null,null,null,null,null,null,null,null,null,null,null,null,{"$f":"AZ144+1","v":43}]
[]
[null,null,"",null,null,null,null,null,null,"",null,null,null,null,null,null,null,null,null,null,null,null,null,null,null,null,null,null,null,null,null,null,null,null,null,null,null,null,null,null,null,null,null,null,null,null,null,null,null,null,null,{"$f":"AZ146+1","v":44}]
[]
[]
[null,null,"",null,null,null,"",null,null,null,null,null,null,null,null,null,null,null,null,null,null,null,null,null,null,null,null,null,null,null,null,null,null,null,null,null,null,null,null,null,null,null,null,null,null,null,null,null,null,null,null,{"$f":"AZ148+1","v":45}]
[]
[null,null,"",null,null,null,null,null,null,"",null,null,null,null,null,null,null,null,null,null,null,null,null,null,null,null,null,null,null,null,null,null,null,null,null,null,null,null,null,null,null,null,null,null,null,null,null,null,null,null,null,{"$f":"AZ151","v":45}]
[]
[null,null,"",null,null,null,null,null,null,"",null,null,null,null,null,null,null,null,null,null,null,null,null,null,null,null,null,null,null,null,null,null,null,null,null,null,null,null,null,null,null,null,null,null,null,null,null,null,null,null,null,{"$f":"AZ153+1","v":46}]
[]
[null,null,"",null,null,null,null,null,null,"",null,null,null,null,null,null,null,null,null,null,null,null,null,null,null,null,null,null,null,null,null,null,null,null,null,null,null,null,null,null,null,null,null,null,null,null,null,null,null,null,null,{"$f":"AZ155+1","v":47}]
[]
[null,null,"",null,null,null,null,null,null,"",null,null,null,null,null,null,null,null,null,null,null,null,null,null,null,null,null,null,null,null,null,null,null,null,null,null,null,null,null,null,null,null,null,null,null,null,null,null,null,null,null,{"$f":"AZ157+1","v":48}]
[]
[null,null,"",null,null,null,null,null,null,"",null,null,null,null,null,null,null,null,null,null,null,null,null,null,null,null,null,null,null,null,null,null,null,null,null,null,null,null,null,null,null,null,null,null,null,null,null,null,null,null,null,{"$f":"AZ159+1","v":49}]
[]
[null,null,"",null,null,null,null,null,null,"",null,null,null,null,null,null,null,null,null,null,null,null,null,null,null,null,null,null,null,null,null,null,null,null,null,null,null,null,null,null,null,null,null,null,null,null,null,null,null,null,null,{"$f":"AZ161+1","v":50}]
[]
[null,null,"",null,null,null,null,null,null,"",null,null,null,null,null,null,null,null,null,null,null,null,null,null,null,null,null,null,null,null,null,null,null,null,null,null,null,null,null,null,null,null,null,null,null,null,null,null,null,null,null,{"$f":"AZ163+1","v":51}]
[]
[null,null,"",null,null,null,null,null,null,"",null,null,null,null,null,null,null,null,null,null,null,null,null,null,null,null,null,null,null,null,null,null,null,null,null,null,null,null,null,null,null,null,null,null,null,null,null,null,null,null,null,{"$f":"AZ165+1","v":52}]
[]
[null,null,"",null,null,null,null,null,null,"",null,null,null,null,null,null,null,null,null,null,null,null,null,null,null,null,null,null,null,null,null,null,null,null,null,null,null,null,null,null,null,null,null,null,null,null,null,null,null,null,null,{"$f":"AZ167+1","v":53}]
[]
[null,null,"",null,null,null,null,null,null,"",null,null,null,null,null,null,null,null,null,null,null,null,null,null,null,null,null,null,null,null,null,null,null,null,null,null,null,null,null,null,null,null,null,null,null,null,null,null,null,null,null,{"$f":"AZ169+1","v":54}]
[]
[]
[null,null,"",null,null,null,"",null,null,null,null,null,null,null,null,null,null,null,null,null,null,null,null,null,null,null,null,null,null,null,null,null,null,null,null,null,null,null,null,null,null,null,null,null,null,null,null,null,null,null,null,{"$f":"AZ171+1","v":55}]
[]
[null,null,"",null,null,null,null,null,null,"",null,null,null,null,null,null,null,null,null,null,null,null,null,null,null,null,null,null,null,null,null,null,null,null,null,null,null,null,null,null,null,null,null,null,null,null,null,null,null,null,null,{"$f":"AZ174","v":55}]
[]
[null,null,"",null,null,null,null,null,null,"",null,null,null,null,null,null,null,null,null,null,null,null,null,null,null,null,null,null,null,null,null,null,null,null,null,null,null,null,null,null,null,null,null,null,null,null,null,null,null,null,null,{"$f":"AZ176+1","v":56}]
[]
[null,null,"",null,null,null,null,null,null,"",null,null,null,null,null,null,null,null,null,null,null,null,null,null,null,null,null,null,null,null,null,null,null,null,null,null,null,null,null,null,null,null,null,null,null,null,null,null,null,null,null,{"$f":"AZ178+1","v":57}]
[]
[null,null,"",null,null,null,null,null,null,"",null,null,null,null,null,null,null,null,null,null,null,null,null,null,null,null,null,null,null,null,null,null,null,null,null,null,null,null,null,null,null,null,null,null,null,null,null,null,null,null,null,{"$f":"AZ180+1","v":58}]
[]
[null,null,"",null,null,null,null,null,null,"",null,null,null,null,null,null,null,null,null,null,null,null,null,null,null,null,null,null,null,null,null,null,null,null,null,null,null,null,null,null,null,null,null,null,null,null,null,null,null,null,null,{"$f":"AZ182+1","v":59}]
[]
[null,null,"",null,null,null,null,null,null,"",null,null,null,null,null,null,null,null,null,null,null,null,null,null,null,null,null,null,null,null,null,null,null,null,null,null,null,null,null,null,null,null,null,null,null,null,null,null,null,null,null,{"$f":"AZ184+1","v":60}]
[]
[null,null,"",null,null,null,null,null,null,"",null,null,null,null,null,null,null,null,null,null,null,null,null,null,null,null,null,null,null,null,null,null,null,null,null,null,null,null,null,null,null,null,null,null,null,null,null,null,null,null,null,{"$f":"AZ186+1","v":61}]
[]
[null,null,"",null,null,null,null,null,null,"",null,null,null,null,null,null,null,null,null,null,null,null,null,null,null,null,null,null,null,null,null,null,null,null,null,null,null,null,null,null,null,null,null,null,null,null,null,null,null,null,null,{"$f":"AZ188+1","v":62}]
[]
[null,null,"",null,null,null,null,null,null,"",null,null,null,null,null,null,null,null,null,null,null,null,null,null,null,null,null,null,null,null,null,null,null,null,null,null,null,null,null,null,null,null,null,null,null,null,null,null,null,null,null,{"$f":"AZ190+1","v":63}]
[]
[null,null,"",null,null,null,null,null,null,"",null,null,null,null,null,null,null,null,null,null,null,null,null,null,null,null,null,null,null,null,null,null,null,null,null,null,null,null,null,null,null,null,null,null,null,null,null,null,null,null,null,{"$f":"AZ192+1","v":64}]
[]
[]
[null,null,"",null,null,null,"",null,null,null,null,null,null,null,null,null,null,null,null,null,null,null,null,null,null,null,null,null,null,null,null,null,null,null,null,null,null,null,null,null,null,null,null,null,null,null,null,null,null,null,null,{"$f":"AZ194+1","v":65}]
[]
[null,null,"",null,null,null,null,null,null,"",null,null,null,null,null,null,null,null,null,null,null,null,null,null,null,null,null,null,null,null,null,null,null,null,null,null,null,null,null,null,null,null,null,null,null,null,null,null,null,null,null,{"$f":"AZ197","v":65}]
[]
[null,null,"",null,null,null,null,null,null,"",null,null,null,null,null,null,null,null,null,null,null,null,null,null,null,null,null,null,null,null,null,null,null,null,null,null,null,null,null,null,null,null,null,null,null,null,null,null,null,null,null,{"$f":"AZ199+1","v":66}]
[]
[null,null,"",null,null,null,null,null,null,"",null,null,null,null,null,null,null,null,null,null,null,null,null,null,null,null,null,null,null,null,null,null,null,null,null,null,null,null,null,null,null,null,null,null,null,null,null,null,null,null,null,{"$f":"AZ201+1","v":67}]
[]
[null,null,"",null,null,null,null,null,null,"",null,null,null,null,null,null,null,null,null,null,null,null,null,null,null,null,null,null,null,null,null,null,null,null,null,null,null,null,null,null,null,null,null,null,null,null,null,null,null,null,null,{"$f":"AZ203+1","v":68}]
[]
[null,null,"",null,null,null,null,null,null,"",null,null,null,null,null,null,null,null,null,null,null,null,null,null,null,null,null,null,null,null,null,null,null,null,null,null,null,null,null,null,null,null,null,null,null,null,null,null,null,null,null,{"$f":"AZ205+1","v":69}]
[]
[null,null,"",null,null,null,null,null,null,"",null,null,null,null,null,null,null,null,null,null,null,null,null,null,null,null,null,null,null,null,null,null,null,null,null,null,null,null,null,null,null,null,null,null,null,null,null,null,null,null,null,{"$f":"AZ207+1","v":70}]
[]
[null,null,"",null,null,null,null,null,null,"",null,null,null,null,null,null,null,null,null,null,null,null,null,null,null,null,null,null,null,null,null,null,null,null,null,null,null,null,null,null,null,null,null,null,null,null,null,null,null,null,null,{"$f":"AZ209+1","v":71}]
[]
[null,null,"",null,null,null,null,null,null,"",null,null,null,null,null,null,null,null,null,null,null,null,null,null,null,null,null,null,null,null,null,null,null,null,null,null,null,null,null,null,null,null,null,null,null,null,null,null,null,null,null,{"$f":"AZ211+1","v":72}]
[]
[null,null,"",null,null,null,null,null,null,"",null,null,null,null,null,null,null,null,null,null,null,null,null,null,null,null,null,null,null,null,null,null,null,null,null,null,null,null,null,null,null,null,null,null,null,null,null,null,null,null,null,{"$f":"AZ213+1","v":73}]
[]
[null,null,"",null,null,null,null,null,null,"",null,null,null,null,null,null,null,null,null,null,null,null,null,null,null,null,null,null,null,null,null,null,null,null,null,null,null,null,null,null,null,null,null,null,null,null,null,null,null,null,null,{"$f":"AZ215+1","v":74}]
[]
[]
[null,null,"",null,null,null,"",null,null,null,null,null,null,null,null,null,null,null,null,null,null,null,null,null,null,null,null,null,null,null,null,null,null,null,null,null,null,null,null,null,null,null,null,null,null,null,null,null,null,null,null,{"$f":"AZ217+1","v":75}]
[]
[null,null,"",null,null,null,null,null,null,"",null,null,null,null,null,null,null,null,null,null,null,null,null,null,null,null,null,null,null,null,null,null,null,null,null,null,null,null,null,null,null,null,null,null,null,null,null,null,null,null,null,{"$f":"AZ220","v":75}]
[]
[null,null,"",null,null,null,null,null,null,"",null,null,null,null,null,null,null,null,null,null,null,null,null,null,null,null,null,null,null,null,null,null,null,null,null,null,null,null,null,null,null,null,null,null,null,null,null,null,null,null,null,{"$f":"AZ222+1","v":76}]
[]
[null,null,"",null,null,null,null,null,null,"",null,null,null,null,null,null,null,null,null,null,null,null,null,null,null,null,null,null,null,null,null,null,null,null,null,null,null,null,null,null,null,null,null,null,null,null,null,null,null,null,null,{"$f":"AZ224+1","v":77}]
[]
[null,null,"",null,null,null,null,null,null,"",null,null,null,null,null,null,null,null,null,null,null,null,null,null,null,null,null,null,null,null,null,null,null,null,null,null,null,null,null,null,null,null,null,null,null,null,null,null,null,null,null,{"$f":"AZ226+1","v":78}]
[]
[null,null,"",null,null,null,null,null,null,"",null,null,null,null,null,null,null,null,null,null,null,null,null,null,null,null,null,null,null,null,null,null,null,null,null,null,null,null,null,null,null,null,null,null,null,null,null,null,null,null,null,{"$f":"AZ228+1","v":79}]
[]
[null,null,"",null,null,null,null,null,null,"",null,null,null,null,null,null,null,null,null,null,null,null,null,null,null,null,null,null,null,null,null,null,null,null,null,null,null,null,null,null,null,null,null,null,null,null,null,null,null,null,null,{"$f":"AZ230+1","v":80}]
[]
[null,null,"",null,null,null,null,null,null,"",null,null,null,null,null,null,null,null,null,null,null,null,null,null,null,null,null,null,null,null,null,null,null,null,null,null,null,null,null,null,null,null,null,null,null,null,null,null,null,null,null,{"$f":"AZ232+1","v":81}]
[]
[null,null,"",null,null,null,null,null,null,"",null,null,null,null,null,null,null,null,null,null,null,null,null,null,null,null,null,null,null,null,null,null,null,null,null,null,null,null,null,null,null,null,null,null,null,null,null,null,null,null,null,{"$f":"AZ234+1","v":82}]
[]
[null,null,"",null,null,null,null,null,null,"",null,null,null,null,null,null,null,null,null,null,null,null,null,null,null,null,null,null,null,null,null,null,null,null,null,null,null,null,null,null,null,null,null,null,null,null,null,null,null,null,null,{"$f":"AZ236+1","v":83}]
[]
[null,null,"",null,null,null,null,null,null,"",null,null,null,null,null,null,null,null,null,null,null,null,null,null,null,null,null,null,null,null,null,null,null,null,null,null,null,null,null,null,null,null,null,null,null,null,null,null,null,null,null,{"$f":"AZ238+1","v":84}]
[]
[]
[null,null,"",null,null,null,"",null,null,null,null,null,null,null,null,null,null,null,null,null,null,null,null,null,null,null,null,null,null,null,null,null,null,null,null,null,null,null,null,null,null,null,null,null,null,null,null,null,null,null,null,{"$f":"AZ240+1","v":85}]
[]
[null,null,"",null,null,null,null,null,null,"",null,null,null,null,null,null,null,null,null,null,null,null,null,null,null,null,null,null,null,null,null,null,null,null,null,null,null,null,null,null,null,null,null,null,null,null,null,null,null,null,null,{"$f":"AZ243","v":85}]
[]
[null,null,"",null,null,null,null,null,null,"",null,null,null,null,null,null,null,null,null,null,null,null,null,null,null,null,null,null,null,null,null,null,null,null,null,null,null,null,null,null,null,null,null,null,null,null,null,null,null,null,null,{"$f":"AZ245+1","v":86}]
[]
[null,null,"",null,null,null,null,null,null,"",null,null,null,null,null,null,null,null,null,null,null,null,null,null,null,null,null,null,null,null,null,null,null,null,null,null,null,null,null,null,null,null,null,null,null,null,null,null,null,null,null,{"$f":"AZ247+1","v":87}]
[]
[null,null,"",null,null,null,null,null,null,"",null,null,null,null,null,null,null,null,null,null,null,null,null,null,null,null,null,null,null,null,null,null,null,null,null,null,null,null,null,null,null,null,null,null,null,null,null,null,null,null,null,{"$f":"AZ249+1","v":88}]
[]
[null,null,"",null,null,null,null,null,null,"",null,null,null,null,null,null,null,null,null,null,null,null,null,null,null,null,null,null,null,null,null,null,null,null,null,null,null,null,null,null,null,null,null,null,null,null,null,null,null,null,null,{"$f":"AZ251+1","v":89}]
[]
[null,null,"",null,null,null,null,null,null,"",null,null,null,null,null,null,null,null,null,null,null,null,null,null,null,null,null,null,null,null,null,null,null,null,null,null,null,null,null,null,null,null,null,null,null,null,null,null,null,null,null,{"$f":"AZ253+1","v":90}]
[]
[null,null,"",null,null,null,null,null,null,"",null,null,null,null,null,null,null,null,null,null,null,null,null,null,null,null,null,null,null,null,null,null,null,null,null,null,null,null,null,null,null,null,null,null,null,null,null,null,null,null,null,{"$f":"AZ255+1","v":91}]
[]
[null,null,"",null,null,null,null,null,null,"",null,null,null,null,null,null,null,null,null,null,null,null,null,null,null,null,null,null,null,null,null,null,null,null,null,null,null,null,null,null,null,null,null,null,null,null,null,null,null,null,null,{"$f":"AZ257+1","v":92}]
[]
[null,null,"",null,null,null,null,null,null,"",null,null,null,null,null,null,null,null,null,null,null,null,null,null,null,null,null,null,null,null,null,null,null,null,null,null,null,null,null,null,null,null,null,null,null,null,null,null,null,null,null,{"$f":"AZ259+1","v":93}]
[]
[null,null,"",null,null,null,null,null,null,"",null,null,null,null,null,null,null,null,null,null,null,null,null,null,null,null,null,null,null,null,null,null,null,null,null,null,null,null,null,null,null,null,null,null,null,null,null,null,null,null,null,{"$f":"AZ261+1","v":94}]
[]
[]
[null,null,"",null,null,null,"",null,null,null,null,null,null,null,null,null,null,null,null,null,null,null,null,null,null,null,null,null,null,null,null,null,null,null,null,null,null,null,null,null,null,null,null,null,null,null,null,null,null,null,null,{"$f":"AZ263+1","v":95}]
[]
[null,null,"",null,null,null,null,null,null,"",null,null,null,null,null,null,null,null,null,null,null,null,null,null,null,null,null,null,null,null,null,null,null,null,null,null,null,null,null,null,null,null,null,null,null,null,null,null,null,null,null,{"$f":"AZ266","v":95}]
[]
[null,null,"",null,null,null,null,null,null,"",null,null,null,null,null,null,null,null,null,null,null,null,null,null,null,null,null,null,null,null,null,null,null,null,null,null,null,null,null,null,null,null,null,null,null,null,null,null,null,null,null,{"$f":"AZ268+1","v":96}]
[]
[null,null,"",null,null,null,null,null,null,"",null,null,null,null,null,null,null,null,null,null,null,null,null,null,null,null,null,null,null,null,null,null,null,null,null,null,null,null,null,null,null,null,null,null,null,null,null,null,null,null,null,{"$f":"AZ270+1","v":97}]
[]
[null,null,"",null,null,null,null,null,null,"",null,null,null,null,null,null,null,null,null,null,null,null,null,null,null,null,null,null,null,null,null,null,null,null,null,null,null,null,null,null,null,null,null,null,null,null,null,null,null,null,null,{"$f":"AZ272+1","v":98}]
[]
[null,null,"",null,null,null,null,null,null,"",null,null,null,null,null,null,null,null,null,null,null,null,null,null,null,null,null,null,null,null,null,null,null,null,null,null,null,null,null,null,null,null,null,null,null,null,null,null,null,null,null,{"$f":"AZ274+1","v":99}]
[]
[null,null,"",null,null,null,null,null,null,"",null,null,null,null,null,null,null,null,null,null,null,null,null,null,null,null,null,null,null,null,null,null,null,null,null,null,null,null,null,null,null,null,null,null,null,null,null,null,null,null,null,{"$f":"AZ276+1","v":100}]
[]
[null,null,"",null,null,null,null,null,null,"",null,null,null,null,null,null,null,null,null,null,null,null,null,null,null,null,null,null,null,null,null,null,null,null,null,null,null,null,null,null,null,null,null,null,null,null,null,null,null,null,null,{"$f":"AZ278+1","v":101}]
[]
[null,null,"",null,null,null,null,null,null,"",null,null,null,null,null,null,null,null,null,null,null,null,null,null,null,null,null,null,null,null,null,null,null,null,null,null,null,null,null,null,null,null,null,null,null,null,null,null,null,null,null,{"$f":"AZ280+1","v":102}]
[]
[null,null,"",null,null,null,null,null,null,"",null,null,null,null,null,null,null,null,null,null,null,null,null,null,null,null,null,null,null,null,null,null,null,null,null,null,null,null,null,null,null,null,null,null,null,null,null,null,null,null,null,{"$f":"AZ282+1","v":103}]
[]
[null,null,"",null,null,null,null,null,null,"",null,null,null,null,null,null,null,null,null,null,null,null,null,null,null,null,null,null,null,null,null,null,null,null,null,null,null,null,null,null,null,null,null,null,null,null,null,null,null,null,null,{"$f":"AZ284+1","v":104}]

{"sheet":"一般事業主行動計画策定・変更届","index":38,"n_rows":214,"n_cols":45,"rows_kept":214,"cut":false,"hidden":false,"merged":[[209,3,209,44],[210,3,210,44],[211,3,211,31],[212,3,212,44],[213,3,213,11],[72,7,77,44],[203,3,203,44],[204,3,204,44],[205,3,205,43],[206,3,206,44],[207,3,207,44],[208,3,208,38],[197,3,197,44],[198,3,198,44],[199,3,199,16],[200,3,200,44],[201,3,201,44],[202,3,202,44],[191,3,191,39],[192,3,192,44],[193,3,193,21],[194,3,194,44],[195,3,195,37],[196,3,196,44],[184,3,184,29],[185,3,185,38],[186,3,186,44],[187,3,187,44],[189,3,189,44],[190,3,190,23],[178,3,178,27],[179,3,179,44],[180,3,180,44],[181,3,181,44],[182,3,182,44],[183,3,183,44],[146,3,146,45],[147,3,147,45],[148,3,148,45],[149,3,149,11],[175,20,175,25],[177,3,177,44],[138,13,138,44],[139,13,139,18],[140,14,140,42],[144,0,144,2],[145,3,145,45],[131,13,131,42],[134,13,134,44],[135,13,135,33],[136,0,136,11],[136,13,136,41],[137,1,137,5],[137,13,137,39],[144,3,144,24],[126,1,126,5],[126,13,126,44],[127,13,127,17],[128,13,128,45],[129,13,129,29],[130,13,130,17],[122,13,122,45],[123,13,123,45],[124,0,124,11],[124,13,124,45],[125,1,125,11],[125,13,125,22],[113,13,113,45],[114,13,114,33],[115,13,115,17],[116,13,116,42],[120,13,120,45],[121,13,121,28],[109,13,109,34],[110,13,110,45],[111,0,111,11],[111,13,111,45],[112,1,112,4],[112,13,112,19],[101,13,101,44],[102,13,102,25],[103,13,103,17],[104,13,104,42],[107,13,107,44],[108,13,108,43],[97,0,97,11],[97,13,97,44],[98,1,98,4],[98,13,98,34],[99,13,99,44],[100,13,100,26],[89,13,89,18],[90,14,90,42],[93,13,93,44],[94,13,94,22],[95,13,95,42],[96,13,96,42],[84,13,84,31],[85,13,85,44],[86,13,86,41],[87,0,87,9],[87,13,87,37],[88,13,88,44],[72,0,73,4],[74,0,77,4],[80,0,80,21],[81,0,81,12],[81,16,82,43],[82,0,82,12],[65,23,65,28],[66,0,66,16],[66,18,66,26],[68,0,68,45],[69,0,69,45],[70,0,70,11],[57,1,57,19],[57,20,57,42],[58,2,58,44],[63,14,63,28],[63,30,63,45],[64,24,64,28],[50,2,50,12],[51,2,51,44],[53,0,53,44],[54,1,54,3],[55,1,55,19],[55,22,55,28],[43,2,43,11],[44,2,44,12],[45,2,45,44],[47,0,47,27],[48,2,48,44],[49,2,49,11],[36,2,36,9],[37,2,37,12],[38,2,38,12],[39,2,39,44],[41,0,41,20],[42,2,42,44],[30,2,30,6],[32,0,32,15],[34,0,34,22],[35,2,35,20],[32,31,32,32],[32,33,32,35],[32,36,32,37],[32,39,32,40],[32,42,32,43],[32,22,32,23],[32,25,32,26],[32,28,32,29],[32,17,32,21],[26,0,26,13],[27,2,27,18],[28,2,28,44],[29,2,29,32],[21,6,21,13],[21,15,21,23],[21,24,21,25],[22,6,22,13],[22,15,22,23],[22,24,22,25],[24,36,24,37],[24,39,24,40],[24,42,24,43],[24,0,24,22],[24,31,24,35],[0,0,0,18],[0,22,0,27],[1,32,1,44],[2,14,2,29],[3,26,3,30],[3,32,3,34],[3,36,3,37],[3,39,3,40],[3,42,3,43],[4,2,4,9],[4,11,4,12],[5,22,5,27],[5,29,5,44],[6,15,6,27],[6,29,6,44],[13,20,13,26],[15,2,15,44],[16,2,16,35],[18,0,18,45],[20,0,20,13],[20,15,20,23],[20,24,20,25],[8,22,8,27],[8,29,8,40],[9,14,9,27],[9,29,9,40],[9,41,9,42],[11,20,11,26]]}
["様式第１号（省令第一条及び第五条関係）",null,null,null,null,null,null,null,null,null,null,null,null,null,null,null,null,null,null,null,null,null,"（ 第一面 ）"]
[null,null,null,null,null,null,null,null,null,null,null,null,null,null,null,null,null,null,null,null,null,null,null,null,null,null,null,null,null,null,null,null,"（ 日本工業規格A列４番）"]
[null,null,null,null,null,null,null,null,null,null,null,null,null,null,"一般事業主行動計画策定・変更届"]
[null,null,null,null,null,null,null,null,null,null,null,null,null,null,null,null,null,null,null,null,null,null,null,null,null,null,"届出年月日",null,null,null,null,null,"令和",null,null,null,null,null,"年　　月　　日",null,null,"月　　日",null,null,"日"]
["　 都道府県労働局長",null,"都道府県労働局長",null,null,null,null,null,null,null,null,"殿"]
[null,null,null,null,null,null,null,null,null,null,null,null,null,null,null,null,null,null,null,null,null,null,"（ふりがな）"]
[null,null,null,null,null,null,null,null,null,null,null,null,null,null,null,"一般事業主の氏名又は名称 "]
[]
[null,null,null,null,null,null,null,null,null,null,null,null,null,null,null,null,null,null,null,null,null,null,"（ふりがな）"]
[null,null,null,null,null,null,null,null,null,null,null,null,null,null,"（法人の場合）代表者の氏名",null,null,null,null,null,null,null,null,null,null,null,null,null,null,null,null,null,null,null,null,null,null,null,null,null,null," 印"]
[]
[null,null,null,null,null,null,null,null,null,null,null,null,null,null,null,null,null,null,null,null,"住所",null,null,null,null,null,null,null,"〒"]
[]
[null,null,null,null,null,null,null,null,null,null,null,null,null,null,null,null,null,null,null,null,"電話番号  "]
[]
[null,null,"　一般事業主行動計画を（策定・変更）したので、女性の職業生活における活躍の推進に関す"]
[null,null,"る法律第８条第１項又は第７項の規定に基づき、下記のとおり届け出ます。"]
[]
["記"]
[]
["１．常時雇用する労働者の数",null,null,null,null,null,null,null,null,null,null,null,null,null,null,null,null,null,null,null,null,null,null,null,"人"]
[null,null,null,null,null,null,"男性労働者の数",null,null,null,null,null,null,null,null,null,null,null,null,null,null,null,null,null,"人"]
[null,null,null,null,null,null,"女性労働者の数　　　　　　　　　　人",null,null,null,null,null,null,null,null,null,null,null,null,null,null,null,null,null,"人"]
[]
["２．一般事業主行動計画を（策定・変更）した日",null,null,null,null,null,null,null,null,null,null,null,null,null,null,null,null,null,null,null,null,null,null,null,null,null,null,null,null,null,null,"平成・令和",null,null,null,null,null,null,"年　　月　　日",null,null,"月　　日",null,null,"日"]
[]
["３．変更した場合の変更内容"]
[null,null,"①　一般事業主行動計画の計画期間"]
[null,null,"②　目標又は女性活躍推進対策の内容（既に都道府県労働局長に届け出た一般事業主行動計"]
[null,null,"　　画策定・変更届の事項に変更を及ぼすような場合に限る。）"]
[null,null,"③　その他"]
[]
["４．一般事業主行動計画の計画期間",null,null,null,null,null,null,null,null,null,null,null,null,null,null,null,null,"平成・令和",null,null,null,null,null,null,"年　　月　　日",null,null,"月　　日",null,null,"日"," ～",null," 令和",null,null,null,null,"年　　月　　日",null,null,"月　　日",null,null,"日"]
[]
["５．一般事業主行動計画の労働者への周知の方法"]
[null,null,"①　事業所内の見やすい場所への掲示"]
[null,null,"②　書面の交付"]
[null,null,"③　電子メールの送信"]
[null,null,"④　その他の周知方法"]
[null,null,"（　　　　　　　　　　　　　　　　　　　　　　　　　　　　　　　　　　　　　　　）"]
[]
["６．一般事業主行動計画の外部への公表方法"]
[null,null,"①　インターネットの利用（自社のホームページ／女性活躍・両立支援総合サイト／その他"]
[null,null,"（　　　　　　））"]
[null,null,"②　その他の公表方法"]
[null,null,"（　　　　　　　　　　　　　　　　　　　　　　　　　　　　　　　　　　　　　　　）"]
[]
["７．女性の職業生活における活躍に関する情報の公表の方法"]
[null,null,"①　インターネットの利用（自社のホームページ／女性活躍・両立支援総合サイト／その他"]
[null,null,"（　　　　　　））"]
[null,null,"②　その他の公表方法"]
[null,null,"（　　　　　　　　　　　　　　　　　　　　　　　　　　　　　　　　　　　　　　　）"]
[]
["８．一般事業主行動計画を定める際に把握した女性の職業生活における活躍に関する状況の分析"]
[null,"の概況"]
[null,"（１）基礎項目の状況把握・分析の実施",null,null,null,null,null,null,null,null,null,null,null,null,null,null,null,null,null,null,null,null,"（済）"]
[]
[null,"（２）選択項目の状況把握・分析の実施",null,null,null,null,null,null,null,null,null,null,null,null,null,null,null,null,null,null,"（把握した場合、その代表的なもののみを記載）"]
[null,null,"（　　　　　　　　　　　　　　　　　　　　　　　　　　　　　　　　　　　　　　　）"]
[]
[]
[]
[]
[null,null,null,null,null,null,null,null,null,null,null,null,null,null,"一般事業主行動計画の担当部局名"]
[null,null,null,null,null,null,null,null,null,null,null,null,null,null,null,null,null,null,null,null,null,null,null,null,"（ふりがな）"]
[null,null,null,null,null,null,null,null,null,null,null,null,null,null,null,null,null,null,null,null,null,null,null,"担当者の氏名"]
["様式第１号（省令第一条及び第五条関係）",null,null,null,null,null,null,null,null,null,null,null,null,null,null,null,null,null,"（ 第二面・第三面）"]
[]
["９．達成しようとする目標及び取組の内容の概況（一般事業主行動計画を添付する場合は記載省略可）"]
["（１）達成しようとする目標の内容（分類について（２）の表左欄の数字を記載。数値目標で代表的"]
["　　　なもののみを記載。）"]
[]
["分類"]
[]
[]
[]
[]
[]
[]
[]
["（２）女性の活躍推進に関する取組の内容の概況"]
["達成しようとする目標に",null,null,null,null,null,null,null,null,null,null,null,null,"　　　",null,null,"女性の活躍推進に関する取組の内容として定めた事項（例示）　"]
["関する事項（分類）"]
[]
[null,null,null,null,null,null,null,null,null,null,null,null,null,"ア　採用選考基準や、その運用の見直し"]
[null,null,null,null,null,null,null,null,null,null,null,null,null,"イ　女性が活躍できる職場であることについての求職者に向けた積極的広報"]
[null,null,null,null,null,null,null,null,null,null,null,null,null,"ウ　一般職等の職務範囲の拡大・昇進の上限の見直し・処遇改善"]
["①　採用に関する事項",null,null,null,null,null,null,null,null,null,null,null,null,"エ　一般職等から総合職等への転換制度の積極的な運用"]
[null,null,null,null,null,null,null,null,null,null,null,null,null,"オ　育児・介護・配偶者の転勤等を理由とする退職者に対する再雇用の実施"]
[null,null,null,null,null,null,null,null,null,null,null,null,null,"カ　その他"]
[null,null,null,null,null,null,null,null,null,null,null,null,null,null,"（　　　　　　　　　　　　　　　　　　　　　　　　　　　）"]
[]
[]
[null,null,null,null,null,null,null,null,null,null,null,null,null,"ア　職場と家庭の両方において男女がともに貢献できる職場風土づくり"]
[null,null,null,null,null,null,null,null,null,null,null,null,null,"　　に向けた意識啓発"]
[null,null,null,null,null,null,null,null,null,null,null,null,null,"イ　上司を通じた男性労働者の働き方の見直しなど育児参画の促進"]
[null,null,null,null,null,null,null,null,null,null,null,null,null,"ウ　利用可能な両立支援制度に関する労働者・管理職への周知徹底"]
["②　継続就業・職場風土に関",null,null,null,null,null,null,null,null,null,null,null,null,"エ　若手の労働者を対象とした仕事と家庭の両立を前提としたキャリア"]
[null,"する事項",null,null,null,null,null,null,null,null,null,null,null,"　　イメージ形成のための研修・説明会等の実施"]
[null,null,null,null,null,null,null,null,null,null,null,null,null,"オ　育児休業からの復職者を部下に持つ上司に対する適切なマネジメン"]
[null,null,null,null,null,null,null,null,null,null,null,null,null,"　　ト・育成等に関する研修等"]
[null,null,null,null,null,null,null,null,null,null,null,null,null,"カ　短時間勤務制度・フレックスタイム制・在宅勤務・テレワーク等に"]
[null,null,null,null,null,null,null,null,null,null,null,null,null,"　　よる柔軟な働き方の実現"]
[null,null,null,null,null,null,null,null,null,null,null,null,null,"キ　その他"]
[null,null,null,null,null,null,null,null,null,null,null,null,null,"（　　　　　　　　　　　　　　　　　　　　　　　　　　　）"]
[]
[]
[null,null,null,null,null,null,null,null,null,null,null,null,null,"ア　組織のトップからの長時間労働是正に関する強いメッセージの発信　"]
[null,null,null,null,null,null,null,null,null,null,null,null,null,"イ　組織全体・部署ごとの数値目標の設定と徹底的なフォローアップ"]
[null,null,null,null,null,null,null,null,null,null,null,null,null,"ウ　時間当たりの労働生産性を重視した人事評価"]
[null,null,null,null,null,null,null,null,null,null,null,null,null,"エ　管理職の人事評価における長時間労働是正・生産性向上に関する評価"]
["③　長時間労働の是正に関す",null,null,null,null,null,null,null,null,null,null,null,null,"オ　労働者間の助け合いの好事例発表・評価等による互いに助け合う職場"]
[null,"する事項",null,null,null,null,null,null,null,null,null,null,null,"　　風土の醸成"]
[null,null,null,null,null,null,null,null,null,null,null,null,null,"カ　チーム内の業務状況の情報共有／上司による業務の優先順位付けや"]
[null,null,null,null,null,null,null,null,null,null,null,null,null,"　　業務分担の見直し等のマネジメントの徹底"]
[null,null,null,null,null,null,null,null,null,null,null,null,null,"キ　その他"]
[null,null,null,null,null,null,null,null,null,null,null,null,null,"（　　　　　　　　　　　　　　　　　　　　　　　　　　　）"]
[]
[]
[]
[null,null,null,null,null,null,null,null,null,null,null,null,null,"ア　従来、男性労働者中心であった職場への女性労働者の配置拡大と、そ"]
[null,null,null,null,null,null,null,null,null,null,null,null,null,"　　れによる多様な職務経験の付与"]
[null,null,null,null,null,null,null,null,null,null,null,null,null,"イ　女性労働者の積極的・公正な育成・評価に向けた上司へのヒアリング"]
[null,null,null,null,null,null,null,null,null,null,null,null,null,"ウ　若手に対する多様なロールモデル・多様なキャリアパス事例の紹介／"]
["④　配置・育成・教育訓練に",null,null,null,null,null,null,null,null,null,null,null,null,"　　ロールモデルとなる女性管理職と女性労働者との交流機会の設定等"]
[null,"関する事項／評価・登用に",null,null,null,null,null,null,null,null,null,null,null,"　　によるマッチング"]
[null,"関する事項 ",null,null,null,null,null,null,null,null,null,null,null,"エ　職階等に応じた女性同士の交流機会の設定等によるネットワーク形"]
[null,null,null,null,null,null,null,null,null,null,null,null,null,"　　成支援"]
[null,null,null,null,null,null,null,null,null,null,null,null,null,"オ　時間当たりの労働生産性を重視した人事評価による育児休業・短時間"]
[null,null,null,null,null,null,null,null,null,null,null,null,null,"　　勤務等の利用に公平な評価の実施"]
[null,null,null,null,null,null,null,null,null,null,null,null,null,"カ　その他"]
[null,null,null,null,null,null,null,null,null,null,null,null,null,"（　　　　　　　　　　　　　　　　　　　　　　　　　　　）"]
[]
[]
[null,null,null,null,null,null,null,null,null,null,null,null,null,"ア　採用時の雇用管理区分にとらわれない活躍に向けたコース別雇用管"]
[null,null,null,null,null,null,null,null,null,null,null,null,null,"　　理の見直し（コース区分の廃止・再編等）"]
["⑤　多様なキャリアコースに",null,null,null,null,null,null,null,null,null,null,null,null,"イ　一般職等の職務範囲の拡大・昇進の上限の見直し・処遇改善"]
[null,"関する事項",null,null,null,null,null,null,null,null,null,null,null,"ウ　非正社員から正社員（※）への転換制度の積極的運用"]
[null,null,null,null,null,null,null,null,null,null,null,null,null,"エ　育児・介護・配偶者の転勤等を理由とする退職者に対する再雇用の実施"]
[null,null,null,null,null,null,null,null,null,null,null,null,null,"カ　その他"]
[null,null,null,null,null,null,null,null,null,null,null,null,null,null,"（　　　　　　　　　　　　　　　　　　　　　　　　　　　）"]
[]
[]
[]
["（※）",null,null,"「非正社員」とは、正社員以外の者をいうこと。"]
[null,null,null,"「正社員」とは、短時間労働者の雇用管理の改善等に関する法律（平成５年法律第76号）第２条の「通常の"]
[null,null,null,"労働者」をいうこと。「通常の労働者」とは、いわゆる正規型の労働者をいい、社会通念に従い、当該労働"]
[null,null,null,"者の雇用形態、賃金形態等（例えば、労働契約の期間の定めがなく、長期雇用を前提とした待遇を受けるも"]
[null,null,null,"のであるか、賃金の主たる部分の支給形態、賞与、定期的な昇給又は昇格の有無）を総合的に勘案して判断"]
[null,null,null,"するものであること。"]
[]
[]
[]
[]
[]
[]
[]
[]
[]
[]
[]
[]
[]
[]
[]
[]
[]
[]
[]
[]
[]
[]
[]
[]
[]
[null,null,null,null,null,null,null,null,null,null,null,null,null,null,null,null,null,null,null,null,"（ 第四面）"]
["（記載要領）"]
[null,"１．",null,"「届出年月日」欄は、都道府県労働局長に「一般事業主行動計画策定・変更届」（以下「届"]
[null,"　",null,"出書」という。）を提出する年月日を記載すること。"]
[null,"２．",null,"「一般事業主の氏名又は名称、代表者の氏名、住所及び電話番号」欄は、申請を行う一般"]
[null,null,null,"事業主の氏名又は名称、住所及び電話番号を記載すること。氏名については、記名押印又"]
[null,null,null,"は自筆による署名のいずれかにより記載すること。一般事業主が法人の場合にあっては、"]
[null,null,null,"法人の名称、代表者の氏名、主たる事務所の所在地及び電話番号を記載すること。代表者"]
[null,null,null,"の氏名については、記名押印又は自筆による署名のいずれかにより記載すること。電話番"]
[null,null,null,"号については、主たる事務所の電話番号を記載すること。"]
[null,"３．",null,"「一般事業主行動計画を（策定・変更）」欄は、該当する文字を○で囲むこと。"]
[null,"４．",null,"「１．常時雇用する労働者の数」欄は届出書を提出する日又は提出する日前の１か月以内"]
[null,null,null,"のいずれかの日において常時雇用する労働者の数、うち男女別労働者の数を記載するこ"]
[null,null,null,"と。"]
[null,"５．",null,"「２．一般事業主行動計画を（策定・変更）した日」欄は、該当する文字を○で囲むとと"]
[null,null,null,"もに、策定又は変更した日を記載すること。"]
[null,"６．",null,"「３．変更した場合の変更内容」欄は、該当するものの番号を○で囲むこと。"]
[null,"７．",null,"「４．一般事業主行動計画の計画期間」欄は、策定した一般事業主行動計画の計画期間の"]
[null,null,null,"初日及び末日の年月日を記載すること。"]
[null,"８．",null,"「５．一般事業主行動計画の労働者への周知の方法」欄は、該当するものの番号を○で囲"]
[null,null,null,"み、④を○で囲んだ場合は、①から③以外の周知の方法を記載すること。"]
[null,"９．",null,"「６．一般事業主行動計画の外部への公表方法」及び「７.女性の職業生活における活躍"]
[null,null,null,"に関する情報の公表の方法」欄は、該当するものの番号を○で囲み、①を○で囲んだ場合"]
[null,null,null,"は、括弧内の具体的方法を○で囲むか、記載すること。②を○で囲んだ場合は、①以外の"]
[null,null,null,"公表の方法を記載すること。"]
[null,"10．",null,"「８．一般事業主行動計画を定める際に把握した女性の職業生活における活躍に関する状"]
[null,null,null,"況の分析の概況」欄は、（１）については、①採用した労働者に占める女性労働者の割合、"]
[null,null,null,"②男女の平均継続勤務年数の差異、③労働者一人当たりの各月ごとの時間外労働及び休日"]
[null,null,null,"労働の合計時間数等の労働時間の状況、④管理的地位にある労働者（管理職）に占める女"]
[null,null,null,"性労働者の割合について把握・分析を実施した場合は、（済）を○で囲み、（２）につい"]
[null,null,null,"ては、把握・分析した場合は、その項目を記載すること（代表的なもののみを記載）。"]
[null,"11．",null,"「９．達成しようとする目標及び取組の内容の概況」欄は、（１）については、一般事業"]
[null,null,null,"主行動計画に定めた達成しようとする目標（数値目標で代表的なもの）の内容について記"]
[null,null,null,"載し、当該目標の分類について該当する番号（①から⑤）を記載すること。"]
[null,null,null,"　（２）については、女性の活躍の推進に関する取組の内容として定めた事項について例示"]
[null,null,null,"された事項に該当する場合は、それぞれ該当する記号（アからカ）を○で囲み、その他の"]
[null,null,null,"項目を定めた場合は「その他」にその概要を記載すること。"]
[null,null,null,"　なお、届出書とともに一般事業主行動計画を添付する場合は、９欄の記載は省略するこ"]
[null,null,null,"とができること。"]

{"sheet":"雇用管理区分","index":39,"n_rows":23,"n_cols":11,"rows_kept":23,"cut":false,"hidden":false,"merged":[[21,2,21,9],[21,10,21,31],[22,2,27,31],[10,2,15,31],[18,2,18,9],[18,10,18,31],[19,2,19,9],[19,10,19,31],[20,2,20,9],[20,10,20,31]]}
[]
[null,null,null,null,{"$f":"初期設定!$E$9","v":"中小企業のための女性活躍『行動計画』策定プログラム"}]
[]
[]
[]
[]
[]
[]
[]
[]
[null,null,"\n雇用管理区分とは、職種、資格、雇用形態、就業形態等の労働者の区分であって当該区分に属している労働者について他の区分に属している労働者とは異なる雇用管理を行うことを予定して設定しているものを指します。"]
[]
[]
[]
[]
[]
[]
[null,null,"　例）"]
[null,null,"コース別",null,null,null,null,null,null,null,"「総合職」、「一般職」など"]
[null,null,"職種別",null,null,null,null,null,null,null,"「事務職」、「技術職」、「営業職」など"]
[null,null,"雇用形態別",null,null,null,null,null,null,null,"「正社員」、「契約社員」、「パートタイム労働者」など"]
[null,null,"その他",null,null,null,null,null,null,null,"「全国勤務型社員」、「地域型社員」など"]
[null,null,"\nこのように、コース、職種、就業形態など社員を区分けする単位としての雇用管理区分ごとに分析を行い「状況把握」することが求められます。各社で採用している雇用管理区分を用いて、数値を算出しましょう。"]

{"sheet":"基礎４項目と事前準備書類","index":40,"n_rows":91,"n_cols":24,"rows_kept":91,"cut":false,"hidden":false,"merged":[[86,2,90,21],[76,2,76,21],[82,2,82,21],[77,2,81,21],[83,2,85,21],[85,23,85,41],[86,23,86,41],[88,23,88,41],[90,23,90,41],[12,3,18,37],[28,3,29,37],[47,4,48,43],[49,4,49,43],[68,3,68,43],[69,4,69,43],[62,4,64,43],[65,4,65,43],[57,4,58,43],[59,4,59,43],[52,4,53,43],[54,4,54,43],[76,22,76,41],[77,23,77,41],[79,23,79,41],[81,23,81,41],[83,23,83,41]]}
[]
[null,null,null,null,{"$f":"初期設定!$E$9","v":"中小企業のための女性活躍『行動計画』策定プログラム"}]
[]
[]
[]
[]
[]
[]
[]
[]
[]
[]
[null,null,null,"女性の活躍に向けた課題の中でとりわけ多くの企業に該当する課題である、「女性の採用の少なさ」、「第一子出産前後の女性の継続就業の困難さ」、「男女を通じた長時間労働による仕事と家庭の両立の難しさ」、また、女性の活躍を図る重要な一指標である「管理職に占める女性比率の低さ」について、状況把握、課題分析を行う観点から、必ず把握すべき項目として「基礎項目」が定められています。"]
[]
[]
[]
[]
[]
[]
[]
[null,null,null,"１.採用した労働者に占める女性労働者の割合"]
[]
[]
[]
[null,null,null,"※把握が難しい雇用管理区分については「労働者に占める女性労働者の割合」で代替することができます。"]
[]
[null,null,null,"２.男女の平均継続勤務年数の差異"]
[]
[null,null,null,"※期間の定めのない労働契約を締結している労働者及び同一の使用者との間で締結された２以上の期間の定めのある労働契約の契約期間を通算した期間が５年を超える労働者が対象"]
[]
[]
[null,null,null,"３.労働者の各月ごとの平均残業時間数等の労働時間の状況"]
[]
[]
[]
[]
[]
[]
[]
[null,null,null,"４.管理職に占める女性労働者の割合"]
[]
[]
[]
[null,null,null,"※「管理職」とは「課長級」と「課長級より上位の役職（役員を除く）」にある労働者の合計"]
[]
[]
[]
[null,null,null,"※","職種、資格、雇用形態、就業形態等による労働者の区分　　例：総合職、一般職　　例２：事務職、技術職、専門職、製造職、製造パート　　例３：正社員、契約社員、パートタイム労働者等"]
[]
[null,null,null,null,"⇒詳しくは用語解説（「雇用管理区分」とは）へ"]
[]
[]
[null,null,null,"※","「直近の事業年度の女性の採用者数（中途採用含む）÷直近の事業年度の採用者数（中途採用含む）×100（％）」を雇用管理区分ごとに算出する。"]
[]
[null,null,null,null,"⇒詳しくは用語解説⑧へ"]
[]
[]
[null,null,null,"※","期間の定めのない労働契約を締結している労働者（例：正社員）と、定めのある労働契約をしている者でも通算した期間が５年を超える労働者は含める。"]
[]
[null,null,null,null,"⇒詳しくは用語解説⑨へ"]
[]
[]
[null,null,null,"※","残業時間数等＝（法定時間外労働＋法定休日労働）\n常時雇用する労働者は、（２）パートタイム労働者と（３）専門業務型裁量労働制および企画業務型裁量労働制の適用を受ける労働者と（１）それ以外とに、区分して把握する。"]
[]
[]
[null,null,null,null,"⇒詳しくは用語解説⑪へ"]
[]
[]
[null,null,null,"※　管理職とは、「課長級」と「課長級より上位の役職（役員を除く）」にある労働者の合計"]
[null,null,null,null,"⇒詳しくは用語解説⑯へ"]
[]
[]
[]
[]
[null,null,"（原則「直近の事業年度」のデータを把握できる書類等をご用意ください。困難な場合は、前々事業年度の状況把握を行ってください。）"]
[null,null,"　"]
[null,null,"基礎項目",null,null,null,null,null,null,null,null,null,null,null,null,null,null,null,null,null,null,null,"準備書類等"]
[null,null,"　① 採用した労働者に占める女性労働者の割合",null,null,null,null,null,null,null,null,null,null,null,null,null,null,null,null,null,null,null,"・","採用者一覧、労働者一覧（従業員名簿一覧）"]
[]
[null,null,null,null,null,null,null,null,null,null,null,null,null,null,null,null,null,null,null,null,null,null,"・","採用者名簿（労働者名簿）"]
[]
[null,null,null,null,null,null,null,null,null,null,null,null,null,null,null,null,null,null,null,null,null,null,"・","雇用契約書（労働条件通知書）等"]
[null,null,"　② 男女別の平均勤続年数の差異",null,null,null,null,null,null,null,null,null,null,null,null,null,null,null,null,null,null,null,"・","労働者名簿（採用年月日がわかるもの）"]
[null,null,"　③ 労働者の各月ごとの平均残業時間数等の労働時間の状況",null,null,null,null,null,null,null,null,null,null,null,null,null,null,null,null,null,null,null,"・","賃金台帳・出勤簿、タイムカード（始業終業時刻の記載のあるもの）"]
[]
[null,null,null,null,null,null,null,null,null,null,null,null,null,null,null,null,null,null,null,null,null,null,"・","労働時間管理簿（データ管理があればそのデータ）等"]
[null,null,"　④ 管理職に占める女性労働者の割合",null,null,null,null,null,null,null,null,null,null,null,null,null,null,null,null,null,null,null,"・","役職者（管理職）名簿"]
[]
[null,null,null,null,null,null,null,null,null,null,null,null,null,null,null,null,null,null,null,null,null,null,"・","組織図、座席表、辞令"]
[]
[null,null,null,null,null,null,null,null,null,null,null,null,null,null,null,null,null,null,null,null,null,null,"・","職務規程、役職手当規程、昇進昇格基準等"]

{"sheet":"タイプ分類","index":41,"n_rows":30,"n_cols":26,"rows_kept":30,"cut":false,"hidden":false,"merged":[[12,2,18,35],[20,2,20,36],[22,19,22,24],[22,25,22,36],[23,2,23,6],[23,7,23,12],[23,13,23,18],[23,19,23,24],[23,25,23,36],[22,2,22,6],[22,7,22,12],[22,13,22,18],[24,19,24,24],[24,25,24,36],[25,2,25,6],[25,7,25,12],[25,13,25,18],[25,19,25,24],[25,25,25,36],[24,2,24,6],[24,7,24,12],[24,13,24,18],[26,7,26,12],[26,13,26,18],[26,19,26,24],[26,25,26,36],[27,2,27,6],[27,7,27,12],[27,13,27,18],[27,19,27,24],[27,25,27,36],[26,2,26,6],[29,2,29,6],[29,7,29,12],[29,13,29,18],[29,19,29,24],[29,25,29,36],[28,2,28,6],[28,7,28,12],[28,13,28,18],[28,19,28,24],[28,25,28,36]]}
[]
[null,null,null,null,{"$f":"初期設定!$E$9","v":"中小企業のための女性活躍『行動計画』策定プログラム"}]
[]
[]
[]
[]
[]
[]
[]
[]
[]
[]
[null,null,"基礎項目のうち「採用した労働者に占める女性労働者の割合」「男女の平均勤続年数の差異」「管理職に占める女性労働者の割合」の３項目について、目安の値と自社の値を比較して、自社の女性活躍状況と課題についてタイプ別に分類します。\nなお、基礎項目の「１つ」である「残業時間の状況」については、タイプ分類では使用しませんが、タイプ分類とは別に、あわせて長時間労働に課題があるかないかの判断もします。"]
[]
[]
[]
[]
[]
[]
[]
[null,null,"女性の活躍状況のタイプ分類"]
[]
[null,null,null,null,null,null,null,"採用した労働者に占める女性労働者の割合",null,null,null,null,null,"男女の平均継続勤務\n年数の差異",null,null,null,null,null,"管理職に占める\n女性労働者の割合",null,null,null,null,null,"特徴や課題"]
[null,null,null,null,null,null,null,"20.0%以上",null,null,null,null,null,"70.0%以上",null,null,null,null,null,"20.0%以上"]
[null,null,null,null,null,null,null,"〇",null,null,null,null,null,"〇",null,null,null,null,null,"×",null,null,null,null,null,"採用女性割合が高く、就業継続も進んでいるが、管理職割合は低い。両立支援環境は整っているが、女性の配属・役割・評価等に問題があり、女性がキャリアアップできていないのではないか"]
[null,null,null,null,null,null,null,"〇",null,null,null,null,null,"×",null,null,null,null,null,"×",null,null,null,null,null,"採用女性割合は高いが、両立支援環境や職場風土、労働時間等に問題があり、就業継続が困難となり、その結果、管理職への登用も進んでいないのではないか"]
[null,null,null,null,null,null,null,"〇",null,null,null,null,null,"×",null,null,null,null,null,"〇",null,null,null,null,null,"管理職割合が高い理由が、採用女性割合が著しく高いためで、女性が多数派の企業でありながら職場のマネジメントは男性中心となっていないか"]
[null,null,null,null,null,null,null,"×",null,null,null,null,null,"〇",null,null,null,null,null,"×（〇）",null,null,null,null,null,"勤続年数の男女差は小さいが、採用ができておらず、女性管理職も育っていない（育っていても一部の職種・部署に限られている）社内における女性の役割が限定されており、配置等に男女で偏りがあるのではないか"]
[null,null,null,null,null,null,null,"×",null,null,null,null,null,"×",null,null,null,null,null,"×（〇）",null,null,null,null,null,"女性がほとんど活躍できていない（あるいは一部の女性のみが活躍している）社内に女性に適した仕事が少ないという認識があり、両立支援環境が整ていない。長時間労働を前提とした働き方になっている等、女性を受け入れる環境が整っていないのではないか"]
[null,null,null,null,null,null,null,"〇",null,null,null,null,null,"〇",null,null,null,null,null,"〇",null,null,null,null,null,"採用女性割合が高く、就業継続もできており、管理職割合も高い。男女間の賃金格差や女性役員割合等、さらなる女性活躍推進に向けて課題はみられないか"]

{"sheet":"用語解説","index":42,"n_rows":62,"n_cols":18,"rows_kept":62,"cut":false,"hidden":false,"merged":[[14,16,14,41],[18,16,18,41],[19,16,19,41],[21,16,21,41],[23,16,23,41],[22,17,22,41],[61,4,61,31],[56,2,57,2],[56,3,57,15],[56,17,56,41],[57,16,57,41],[52,2,53,2],[52,3,53,15],[52,17,52,41],[54,2,55,2],[54,3,55,15],[54,17,54,41],[55,16,55,41],[53,16,53,41],[49,2,51,2],[49,3,51,15],[49,17,49,41],[50,16,50,41],[51,16,51,41],[45,2,46,2],[45,3,46,15],[45,17,45,41],[47,2,48,2],[47,3,48,15],[47,17,47,41],[46,16,46,41],[48,16,48,41],[41,2,42,2],[41,3,42,15],[41,17,41,41],[42,16,42,41],[43,2,44,2],[43,3,44,15],[43,17,43,41],[44,16,44,41],[39,2,40,2],[39,3,40,15],[39,17,39,41],[40,16,40,41],[31,17,31,41],[32,16,32,41],[33,2,38,2],[33,3,38,15],[33,17,33,41],[37,17,37,41],[34,16,34,41],[35,17,35,41],[36,17,36,41],[38,16,38,41],[31,2,32,2],[31,3,32,15],[29,2,30,2],[25,3,28,15],[25,2,28,2],[25,17,25,41],[29,17,29,41],[29,3,30,15],[27,17,27,41],[28,17,28,41],[26,16,26,41],[30,16,30,41],[24,16,24,41],[12,2,12,15],[12,16,12,41],[13,2,16,2],[17,17,17,41],[13,17,13,41],[16,17,16,41],[13,3,16,15],[15,17,15,41],[20,17,20,41],[17,3,19,15],[20,3,21,15],[20,2,21,2],[17,2,19,2],[22,3,24,15],[22,2,24,2]]}
[]
[null,null,null,null,{"$f":"初期設定!$E$9","v":"中小企業のための女性活躍『行動計画』策定プログラム"}]
[]
[]
[]
[]
[]
[]
[]
[]
[]
[]
[null,null,"用語",null,null,null,null,null,null,null,null,null,null,null,null,null,"説明内容"]
[null,null,"① ","常時雇用する労働者"]
[null,null,null,null,null,null,null,null,null,null,null,null,null,null,null,null,"正社員だけでなくパート・契約社員・アルバイトなどの名称にかかわらず、以下の要件に該当する労働者も含む。"]
[null,null,null,null,null,null,null,null,null,null,null,null,null,null,null,null,"①","期間の定めなく雇用されている者。"]
[null,null,null,null,null,null,null,null,null,null,null,null,null,null,null,null,"②","一定の期間を定めて雇用されている者であって、過去に１年以上の期間について引き続き雇用されている者又は雇入れの時から１年以上引き続き雇用されると見込まれる者。"]
[null,null,"②","派遣労働者"]
[null,null,null,null,null,null,null,null,null,null,null,null,null,null,null,null,"法に基づく措置義務の対象事業主であるか否かの要件（常時雇用する労働者数301人以上）は、派遣労働者の場合、派遣元事業主のみでカウントします。"]
[null,null,null,null,null,null,null,null,null,null,null,null,null,null,null,null,"派遣労働者については、派遣元事業主が責任をもって、状況把握・課題分析を行い、行動計画の策定に取り組む必要があります。※更に詳しくは→QA問30、問31"]
[null,null,"③","出向者"]
[null,null,null,null,null,null,null,null,null,null,null,null,null,null,null,null,"出向中の従業員は、原則としてその従業員が生計を維持する必要な主たる資金を負担する企業の常時雇用する従業員として扱う。※更に詳しくは→QA問30、問31"]
[null,null,"④","学生アルバイト"]
[null,null,null,null,null,null,null,null,null,null,null,null,null,null,null,null,"法に基づく措置義務の対象事業主であるか否かの要件（常時雇用する労働者数301人以上）は、昼間学生は除く。※更に詳しくは→QA問29（昼間学生）"]
[null,null,null,null,null,null,null,null,null,null,null,null,null,null,null,null,"法に基づく状況把握、情報公表を行う場合は、昼間学生を含めて実施することに留意する。"]
[null,null,"⑤","パート・アルバイト・契約社員"]
[null,null,null,null,null,null,null,null,null,null,null,null,null,null,null,null,"雇入れからの時から１年以上引き続き雇用される見込みがないもの。"]
[null,null,null,null,null,null,null,null,null,null,null,null,null,null,null,null,"①","法に基づく措置義務の対象事業主であるか否かの要件（常時雇用する労働者数301人以上）は、除く。"]
[null,null,null,null,null,null,null,null,null,null,null,null,null,null,null,null,"②","法に基づく状況把握、情報公表を行う場合は、含めて実施することに留意する。"]
[null,null,"⑥","正社員（正規雇用労働者）"]
[null,null,null,null,null,null,null,null,null,null,null,null,null,null,null,null,"社会通念に従い、労働者の雇用形態、賃金形態等（例えば、労働契約の期間の定めがなく、長期雇用を前提とした待遇を受けるものであるか、賃金の主たる部分の支給形態、賞与、定期的な昇給又は昇格の有無）を総合的に勘案して判断する。"]
[null,null,"⑦","非正社員（非正規雇用労働者）"]
[null,null,null,null,null,null,null,null,null,null,null,null,null,null,null,null,"正社員（正規雇用労働者）以外の者をいう。"]
[null,null,"⑧","採用者数とは（基礎項目の説明）"]
[null,null,null,null,null,null,null,null,null,null,null,null,null,null,null,null,"採用した労働者に占める女性労働者の割合\n【計算方法】\n直近の事業年度の女性の採用者数（中途採用含む）÷直近の事業年度の採用者数（中途採用含む）×100（％）"]
[null,null,null,null,null,null,null,null,null,null,null,null,null,null,null,null,"・","雇用管理区分ごとに算出する。"]
[null,null,null,null,null,null,null,null,null,null,null,null,null,null,null,null,"・","採用者数に含めるもの→中途採用者"]
[null,null,null,null,null,null,null,null,null,null,null,null,null,null,null,null,"・","採用者数に含めないもの→転籍者"]
[null,null,null,null,null,null,null,null,null,null,null,null,null,null,null,null,"※更に詳しくは→QA問32"]
[null,null,"⑨","平均勤続年数"]
[null,null,null,null,null,null,null,null,null,null,null,null,null,null,null,null,"期間の定めのない労働契約を締結している労働者及び同一の使用者との間で締結された２以上の期間の定めのある労働契約の契約期間を通算した期間が５年を超える労働者が対象。"]
[null,null,"⑩","高度プロフェッショナル"]
[null,null,null,null,null,null,null,null,null,null,null,null,null,null,null,null,"高度プロフェッショナル制度の適用を受ける労働者については、労働基準法に定められる労働時間や休日等に関する規定の適用が、除外されているため、認定基準に係る算定の対象には含めない。"]
[null,null,"⑪","残業時間数等とは"]
[null,null,null,null,null,null,null,null,null,null,null,null,null,null,null,null,"各月の労働者の平均残業時間数＝各月の対象労働者の法定時間外労働及び法定休日労働の総時間数の合計÷対象労働者数（法定労働時間とは、原則１週40時間、１日８時間）ただし、対象となる労働者のうち①パート労働者と②専門業務型裁量労働制、企画業務型裁量労働制の適用を受ける者は、それぞれ区分して平均残業時間数を出す。パート労働者も法定労働時間を超えた時間が法定時間外労働となる。また、以下の①②③以外の出向者は対象者となる。対象にならない労働者　①　事業場外みなし労働者　②　管理監督者等　③高度プロフェッショナル制度対象労働者"]
[null,null,"⑫","法定時間労働とは"]
[null,null,null,null,null,null,null,null,null,null,null,null,null,null,null,null,"労働基準法第32条で規定する時間（原則：１週40時間、１日８時間）"]
[null,null,"⑬","法定休日とは"]
[null,null,null,null,null,null,null,null,null,null,null,null,null,null,null,null,"労働基準法第35条で規定する休日（原則：毎週少なくとも１日の休日）"]
[null,null,"⑭","所定労働時間とは"]
[null,null,null,null,null,null,null,null,null,null,null,null,null,null,null,null,"労働契約上の始業時間から終業時間までの時間（所定の就業時間）から休息時間を差引いた時間。"]
[null,null,null,null,null,null,null,null,null,null,null,null,null,null,null,null,"原則として、法定労働時間の範囲内で定める。"]
[null,null,"⑮","出向者（平均残業時間数等）"]
[null,null,null,null,null,null,null,null,null,null,null,null,null,null,null,null,"出向者とは、出向先の労働者として平均残業時間数等を把握する。"]
[null,null,"⑯","管理職とは"]
[null,null,null,null,null,null,null,null,null,null,null,null,null,null,null,null,"管理職とは、「課長級」と「課長級より上位の役職（役員を除く）」にある労働者の合計。「課長級」とは、事務所で通常「課長」と呼ばれている者であって、２係以上の組織からなり、もしくはその構成員が10人以上（課長含む）の長。あるいは、呼称、構成員に関係なく、その職務の内容及び責任の程度が「課長級」に相当する者。\n※更に詳しくは→QA問31"]
[null,null,"⑰","男女雇用機会均等法について"]
[null,null,null,null,null,null,null,null,null,null,null,null,null,null,null,null,"行動計画の内容は、男女雇用機会均等法（均等法）に違反しない内容とすることが必要です。\n募集・採用・配置・昇進等において女性労働者を男性労働者に比べて優先的に取り扱う取組については、女性労働者が男性労働者と比較して相当数少ない（女性が４割を下回っている）雇用管理区分であるなど、一定の場合以外は、法違反として禁止されています。\n女性が４割を上回っている雇用管理区分において女性の活躍を推進しようとする場合は、男女労働者ともに対象とした取組を実施することにより、数値目標の達成をめざせます。"]
[]
[null,null,"「QA」とは、「状況把握、情報公表、認定基準等における解釈事項について」を指します。"]
[null,null,"　厚生労働省ホームページ「女性活躍推進法特集ページ」をご確認ください。"]
[null,null,"URL:  ",null,"https://www.mhlw.go.jp/stf/seisakunitsuite/bunya/0000091025.html"]

{"sheet":"目標設定について","index":43,"n_rows":32,"n_cols":5,"rows_kept":32,"cut":false,"hidden":false,"merged":[[31,4,31,31]]}
[]
[null,null,null,null,{"$f":"初期設定!$E$9","v":"中小企業のための女性活躍『行動計画』策定プログラム"}]
[]
[]
[]
[]
[]
[]
[]
[]
[]
[null,null,"１．目標は1つでも複数でも構いませんが、必ず１つ以上数値目標で定める必要があります。"]
[null,null,null,"出来る限り複数の数値目標で設定されることが効果的です。"]
[]
[null,null,"２．自社の状況把握、課題分析の結果、会社の実情に応じて課題と判断したものに対し、最も"]
[null,null,null,"大きな課題と考えられるものから優先的に数値目標を設定しましょう。"]
[]
[null,null,"３．このプログラムで提示している目標例では、客観的に達成状況を把握できるよう全て数値"]
[null,null,null,"目標を定めることを前提としています。選択した目標例を活用して、一部字句を修正し、"]
[null,null,null,"より自社の作成したい目標に作り直すことも可能です。"]
[]
[null,null,"４．数値目標は、実数、割合、倍数など数値を用いるものであれば、いずれでもよいですが、"]
[null,null,null,"計画期間内に達成を目指すものとして、自社の実情に見合った水準にしましょう。"]
[]
[null,null,"５．このプログラムでは、自社に該当する目標例がない場合は、自社で独自の目標をいちから"]
[null,null,null,"作成することが可能です。目標は出来るだけ数値目標を設定することが望まれますが、"]
[null,null,null,"すでに数値の目標を一つ以上設定した他に、数値を入れない目標を設定したい場合などは、"]
[null,null,null,"独自目標追加をご利用ください。"]
[]
[]
[null,null,"　目標を設定する際に、他社の行動計画を参考にしたい場合は、「女性の活躍推進企業データベース」をご確認ください。"]
[null,null,"URL:  ",null,"https://positive-ryouritsu.mhlw.go.jp/positivedb/"]

{"sheet":"独自目標について","index":44,"n_rows":138,"n_cols":42,"rows_kept":138,"cut":false,"hidden":false,"merged":[[30,4,31,36],[32,4,33,36],[34,4,35,36],[40,4,41,36],[42,4,43,36],[53,4,53,6],[55,7,56,38],[75,4,75,7],[89,6,89,36],[90,4,91,36],[93,6,93,36],[94,4,95,36],[104,6,104,36],[137,4,137,31],[105,4,106,36],[108,6,108,36],[109,4,110,36],[126,4,126,7],[128,6,129,40]]}
[]
[null,null,null,null,{"$f":"初期設定!$E$9","v":"中小企業のための女性活躍『行動計画』策定プログラム"}]
[]
[]
[]
[]
[]
[]
[]
[]
[]
[null,null,"プログラム内の既存の目標例に自社の目標としたいものがない場合は、最大で５つの"]
[null,null,"独自目標を作ることが出来ます。例えば、"]
[null,null,null,"①　既存の目標例のほかに独自目標を追加作成し、行動計画を作成する。"]
[null,null,null,"②　独自目標だけで行動計画を作成する。 "]
[]
[null,null,"（ちなみに、既存の目標例を活用し、語句を修正する程度で良いなら、行動計画が"]
[null,null,"　エクセルで出力できますので、編集加工してください。）"]
[]
[]
[null,null,"１.独自目標の作成方法と手順"]
[]
[null,null,null,"1-1.　独自目標を入力します。（例：1つ独自目標を作成する場合）"]
[]
[null,null,"○タイプ① 　独自目標を入力"]
[]
[null,null,null,"独自の目標を入力欄に直接入力してください。最大で５つの独自目標が設定できます。"]
[null,null,null,"入力が完了したら「戻る」ボタンを押して目標選択の画面に戻ってください。「追加目標」として入力した目標が画面に表示されます。",null,null,null,null,null,null,null,null,null,null,null,null,null,null,null,null,null,null,null,null,null,null,null,null,null,null,null,null,null,null,null,null,null,null,null,null,null,"　"]
[]
[]
[null,null,null,"●"," "]
[]
[null,null,null,"●"," "]
[]
[null,null,null,"●"," "]
[]
[]
[]
[null,null,null,"1-2.　入力を完了したら、入力完了ボタンを押します。"]
[]
[null,null,null,"●","新卒の女性を一人以上採用する"]
[]
[null,null,null,"●"," "]
[]
[]
[]
[]
[]
[]
[null,null,null,"1-3.　以下のような画面に戻ります。"]
[]
[null,null,null,"独自追加目標"]
[]
[null,null,null,null,"目標例"]
[]
[null,null,null,null,null,"選択",null,"新卒の女性を一人以上採用する"]
[]
[]
[]
[]
[]
[]
[]
[]
[null,null,null,"1-4.　次に設定した独自目標に対する独自目標取組内容を設定するために、「独自目標取組内容入力」を押します。"]
[]
[null,null,"○タイプ① 「ケース２：仕事のアサインや評価の差等により昇進・昇格が困難である」に関連する取組選択"]
[]
[null,null,null,"選択した目標に対応する取組内容例から自社で取り組みたいと思われるものを選択してください。ひとつの目標に対して１～２個選択します。",null,null,null,null,null,null,null,null,null,null,null,null,null,null,null,null,null,null,null,null,null,null,null,null,null,null,null,null,null,null,null,null,null,null,null,null,null,"　"]
[null,null,null,"独自目標を設定された場合は、その目標に対しての取組内容は「独自目標取組内容入力」から新たに設定してください。"]
[]
[]
[]
[null,null,null,"【目標】新卒の女性を一人以上採用する"]
[]
[null,null,null,null,"取組内容例",null,null,null,null,"取組内容を追加して下さい。"]
[]
[]
[]
[]
[]
[]
[null,null,null,"1-5.　独自取組内容入力画面が出てきますので、目標のところをプルダウンし、設定した独自目標を選んでください。"]
[]
[null,null,"○タイプ① 　独自の取組内容を入力"]
[]
[null,null,null,"まず、目標欄にてプルダウンでこれまでに設定した目標から該当する目標を選択し、次に入力欄に独自の取組内容を直接入力してください。",null,null,null,null,null,null,null,null,null,null,null,null,null,null,null,null,null,null,null,null,null,null,null,null,null,null,null,null,null,null,null,null,null,null,null,null,null,"　"]
[null,null,null,"入力が完了したら「入力完了」ボタンを押して取組内容選択の画面に戻ってください。入力した取組内容が画面に表示されます。"]
[]
[null,null,null,"目標",null,null,"新卒の女性を一人以上採用する"]
[null,null,null,"●"," "]
[]
[]
[null,null,null,"目標",null,null,"（選択してください）"]
[null,null,null,"●"," "]
[]
[]
[null,null,null,"1-6.　選んだ独自目標に対応する取組内容を入力してください。"]
[]
[null,null,"○タイプ① 　独自の取組内容を入力"]
[]
[null,null,null,"まず、目標欄にてプルダウンでこれまでに設定した目標から該当する目標を選択し、次に入力欄に独自の取組内容を直接入力してください。",null,null,null,null,null,null,null,null,null,null,null,null,null,null,null,null,null,null,null,null,null,null,null,null,null,null,null,null,null,null,null,null,null,null,null,null,null,"　"]
[null,null,null,"入力が完了したら「入力完了」ボタンを押して取組内容選択の画面に戻ってください。入力した取組内容が画面に表示されます。"]
[]
[null,null,null,"目標",null,null,"新卒の女性を一人以上採用する"]
[null,null,null,"●","積極的な採用（就職フェア・学校訪問等）を実施する"]
[]
[]
[null,null,null,"目標",null,null,"（選択してください）"]
[null,null,null,"●"," "]
[]
[]
[null,null,null,"1-7.　入力が完了したら「入力完了」を押して終了です。"]
[null,null,null,"         画面が変わり、独自目標に対して取組内容が設定されました。"]
[null,null,null,"         更に、この独自目標に対し取組内容を追加したければ、また「独自目標取組内容入力」を押して入力画面に戻りますし、"]
[null,null,null,"         これで目標及び取組内容設定が終了ならば進むを押してください。"]
[]
[null,null,"○タイプ① 「ケース２：仕事のアサインや評価の差等により昇進・昇格が困難である」に関連する取組選択"]
[]
[null,null,null,"選択した目標に対応する取組内容例から自社で取り組みたいと思われるものを選択してください。ひとつの目標に対して１～２個選択します。",null,null,null,null,null,null,null,null,null,null,null,null,null,null,null,null,null,null,null,null,null,null,null,null,null,null,null,null,null,null,null,null,null,null,null,null,null,"　"]
[null,null,null,"独自目標を設定された場合は、その目標に対しての取組内容は「独自目標取組内容入力」から新たに設定してください。"]
[]
[]
[]
[null,null,null,"【目標】新卒の女性を一人以上採用する"]
[]
[null,null,null,null,"取組内容例"]
[null,null,null,null,"選択"]
[null,null,null,null,null,null,"積極的な採用（就職フェア・学校訪問等）を実施する"]
[]
[]
[]
[]
[]
[]
[]
[null,null,"　独自目標を追加する際に、他社の行動計画を参考にしたい場合は、「女性の活躍推進企業データベース」をご参考に"]
[null,null,"URL:  ",null,"https://positive-ryouritsu.mhlw.go.jp/positivedb/"]