{"text_format":"1","workbook":"xlsx","n_sheets":5,"sheets":["賃金総額報告書（様式６号）","雇用保険適用者（６号の２）","臨時・アルバイト・家族従業員等（６号３）","６号の２の計算式","６号３の計算式"],"not_rendered":{"charts":0,"images":0,"macros":1,"external_links":0,"defined_names":3,"comments":3,"pivot_tables":0},"unopened":[],"bounds":{"document_bytes":16777216,"sheet_cells":100000,"rows_first":2000,"rows_last":500,"rows_between":2000,"halvings":0,"cell_chars":16384,"cell_head_chars":4096},"cells_cut":0,"cells_raw":0,"read":"whole","date_system":"1900"}

{"sheet":"賃金総額報告書（様式６号）","index":0,"n_rows":52,"n_cols":56,"rows_kept":52,"cut":false,"hidden":false,"merged":[[12,14,12,17],[25,21,27,22],[25,25,27,31],[12,30,12,33],[7,30,7,33],[4,1,4,4],[8,6,8,9],[8,10,8,13],[3,6,4,9],[3,10,4,13],[5,1,7,1],[6,6,6,9],[6,10,6,13],[7,6,7,9],[7,10,7,13],[5,2,5,5],[6,2,6,5],[7,2,7,5],[18,6,19,13],[18,1,22,1],[13,1,17,1],[13,2,17,5],[15,12,17,13],[11,10,11,13],[6,18,6,21],[6,22,6,25],[7,18,7,21],[15,18,17,21],[11,22,11,25],[12,18,12,21],[12,22,12,25],[11,18,11,21],[15,22,17,31],[13,6,14,13],[12,10,12,13],[35,40,37,57],[39,40,41,57],[51,40,53,57],[35,36,37,39],[47,36,49,39],[43,40,45,54],[39,36,41,39],[43,36,45,39],[43,55,45,56],[47,40,49,54],[47,55,49,56],[28,22,28,33],[30,22,32,31],[23,21,24,24],[51,36,53,39],[38,14,39,21],[30,32,32,33],[25,32,27,33],[26,19,27,19],[23,19,24,19],[26,14,27,16],[23,14,24,16],[26,17,27,18],[23,17,24,18],[23,20,24,20],[26,20,27,20],[13,35,29,58],[13,14,14,21],[13,22,14,33],[15,32,17,33],[35,32,37,33],[35,22,37,31],[20,32,22,33],[25,23,27,24],[20,22,22,31],[23,25,24,33],[18,14,19,21],[18,22,19,33],[15,14,17,17],[20,14,22,17],[20,18,22,21],[50,4,52,8],[40,18,42,21],[40,6,42,11],[40,14,42,17],[40,32,42,33],[46,5,47,14],[46,22,47,33],[40,12,42,13],[38,6,39,13],[40,22,42,31],[33,6,37,13],[33,14,37,21],[38,22,39,33],[11,55,11,58],[12,55,12,58],[11,38,11,41],[11,42,11,45],[11,46,11,49],[11,50,11,53],[12,38,12,41],[12,42,12,45],[12,46,12,49],[12,50,12,53],[15,6,17,11],[25,12,27,13],[28,6,32,13],[25,6,27,11],[23,6,24,13],[12,26,12,29],[12,34,12,37],[11,26,11,29],[11,30,11,33],[28,14,32,21],[33,22,33,33],[6,55,6,58],[7,55,7,58],[6,38,6,41],[6,42,6,45],[6,46,6,49],[6,50,6,53],[7,38,7,41],[7,42,7,45],[7,46,7,49],[7,50,7,53],[7,34,7,37],[10,34,10,37],[9,26,9,29],[11,34,11,37],[10,14,10,17],[11,14,11,17],[8,55,8,58],[8,38,8,41],[8,42,8,45],[8,46,8,49],[8,50,8,53],[9,55,9,58],[10,55,10,58],[9,38,9,41],[9,42,9,45],[9,46,9,49],[9,50,9,53],[10,38,10,41],[10,42,10,45],[10,46,10,49],[10,50,10,53],[38,1,42,1],[38,2,42,5],[23,1,27,1],[23,2,27,5],[28,1,32,1],[18,2,22,5],[12,6,12,9],[20,12,22,13],[12,2,12,5],[20,6,22,11],[9,1,12,1],[10,6,10,9],[11,6,11,9],[9,6,9,9],[28,2,32,5],[33,1,37,1],[33,2,37,5],[10,2,11,3],[10,4,10,5],[11,4,11,5],[8,2,9,3],[8,4,8,5],[9,4,9,5],[10,10,10,13],[3,50,4,53],[3,22,4,25],[3,26,4,29],[3,30,4,33],[3,34,4,37],[9,14,9,17],[3,54,4,58],[5,14,5,17],[5,55,5,58],[5,26,5,29],[5,30,5,33],[5,34,5,37],[5,38,5,41],[5,42,5,45],[5,46,5,49],[5,50,5,53],[5,18,5,21],[5,22,5,25],[6,14,6,17],[7,14,7,17],[8,14,8,17],[3,14,4,17],[3,18,4,21],[3,38,4,41],[1,6,1,49],[9,18,9,21],[9,22,9,25],[10,18,10,21],[7,22,7,25],[8,18,8,21],[8,22,8,25],[10,22,10,25],[3,42,4,45],[3,46,4,49],[6,26,6,29],[6,30,6,33],[8,26,8,29],[8,30,8,33],[8,34,8,37],[9,34,9,37],[9,30,9,33],[10,26,10,29],[10,30,10,33],[5,6,5,9],[5,10,5,13],[9,10,9,13],[6,34,6,37],[7,26,7,29]]}
[]
[null,"監　　様式６号",null,null,"　　",null,"１． 賃　金　総　額　報　告　書　（令和３年度確定分）　"]
[]
[null,null,null,null,null," 月  別","令和３年４月",null,null,null,"令和３年５月",null,null,null,"令和３年６月",null,null,null,"令和３年７月",null,null,null,"令和３年８月",null,null,null,"令和３年９月",null,null,null,"令和３年１０月",null,null,null,"令和３年１１月",null,null,null,"令和３年１２月",null,null,null,"令和４年１月",null,null,null,"令和４年２月",null,null,null,"令和４年３月",null,null,null,"３年度計"]
[null,"項　目"]
[null,"１ 雇用保険適用者","賃 　金　（通勤手当含む）",null,null,null,{"$f":"IF('雇用保険適用者（６号の２）'!$B$8=\"\",\"\",'６号の２の計算式'!N173)","v":""},null,null,null,{"$f":"IF('雇用保険適用者（６号の２）'!$B$8=\"\",\"\",'６号の２の計算式'!O173)","v":""},null,null,null,{"$f":"IF('雇用保険適用者（６号の２）'!$B$8=\"\",\"\",'６号の２の計算式'!P173)","v":""},null,null,null,{"$f":"IF('雇用保険適用者（６号の２）'!$B$8=\"\",\"\",'６号の２の計算式'!Q173)","v":""},null,null,null,{"$f":"IF('雇用保険適用者（６号の２）'!$B$8=\"\",\"\",'６号の２の計算式'!R173)","v":""},null,null,null,{"$f":"IF('雇用保険適用者（６号の２）'!$B$8=\"\",\"\",'６号の２の計算式'!S173)","v":""},null,null,null,{"$f":"IF('雇用保険適用者（６号の２）'!$B$8=\"\",\"\",'６号の２の計算式'!T173)","v":""},null,null,null,{"$f":"IF('雇用保険適用者（６号の２）'!$B$8=\"\",\"\",'６号の２の計算式'!U173)","v":""},null,null,null,{"$f":"IF('雇用保険適用者（６号の２）'!$B$8=\"\",\"\",'６号の２の計算式'!V173)","v":""},null,null,null,{"$f":"IF('雇用保険適用者（６号の２）'!$B$8=\"\",\"\",'６号の２の計算式'!W173)","v":""},null,null,null,{"$f":"IF('雇用保険適用者（６号の２）'!$B$8=\"\",\"\",'６号の２の計算式'!X173)","v":""},null,null,null,{"$f":"IF('雇用保険適用者（６号の２）'!$B$8=\"\",\"\",'６号の２の計算式'!Y173)","v":""},null,null,null,null,{"$f":"IF('雇用保険適用者（６号の２）'!$B$8=\"\",\"\",'６号の２の計算式'!AA173)","v":""}]
[null,null,"賞  与 ・ 燃料手当等",null,null,null,{"$f":"IF('雇用保険適用者（６号の２）'!$B$8=\"\",\"\",'６号の２の計算式'!N172)","v":""},null,null,null,{"$f":"IF('雇用保険適用者（６号の２）'!$B$8=\"\",\"\",'６号の２の計算式'!O172)","v":""},null,null,null,{"$f":"IF('雇用保険適用者（６号の２）'!$B$8=\"\",\"\",'６号の２の計算式'!P172)","v":""},null,null,null,{"$f":"IF('雇用保険適用者（６号の２）'!$B$8=\"\",\"\",'６号の２の計算式'!Q172)","v":""},null,null,null,{"$f":"IF('雇用保険適用者（６号の２）'!$B$8=\"\",\"\",'６号の２の計算式'!R172)","v":""},null,null,null,{"$f":"IF('雇用保険適用者（６号の２）'!$B$8=\"\",\"\",'６号の２の計算式'!S172)","v":""},null,null,null,{"$f":"IF('雇用保険適用者（６号の２）'!$B$8=\"\",\"\",'６号の２の計算式'!T172)","v":""},null,null,null,{"$f":"IF('雇用保険適用者（６号の２）'!$B$8=\"\",\"\",'６号の２の計算式'!U172)","v":""},null,null,null,{"$f":"IF('雇用保険適用者（６号の２）'!$B$8=\"\",\"\",'６号の２の計算式'!V172)","v":""},null,null,null,{"$f":"IF('雇用保険適用者（６号の２）'!$B$8=\"\",\"\",'６号の２の計算式'!W172)","v":""},null,null,null,{"$f":"IF('雇用保険適用者（６号の２）'!$B$8=\"\",\"\",'６号の２の計算式'!X172)","v":""},null,null,null,{"$f":"IF('雇用保険適用者（６号の２）'!$B$8=\"\",\"\",'６号の２の計算式'!Y172)","v":""},null,null,null,null,{"$f":"IF('雇用保険適用者（６号の２）'!$B$8=\"\",\"\",'６号の２の計算式'!AA172)","v":""}]
[null,null,"合　　　　　　計",null,null,null,{"$f":"IF('雇用保険適用者（６号の２）'!$B$8=\"\",\"\",'６号の２の計算式'!N174)","v":""},null,null,null,{"$f":"IF('雇用保険適用者（６号の２）'!$B$8=\"\",\"\",'６号の２の計算式'!O174)","v":""},null,null,null,{"$f":"IF('雇用保険適用者（６号の２）'!$B$8=\"\",\"\",'６号の２の計算式'!P174)","v":""},null,null,null,{"$f":"IF('雇用保険適用者（６号の２）'!$B$8=\"\",\"\",'６号の２の計算式'!Q174)","v":""},null,null,null,{"$f":"IF('雇用保険適用者（６号の２）'!$B$8=\"\",\"\",'６号の２の計算式'!R174)","v":""},null,null,null,{"$f":"IF('雇用保険適用者（６号の２）'!$B$8=\"\",\"\",'６号の２の計算式'!S174)","v":""},null,null,null,{"$f":"IF('雇用保険適用者（６号の２）'!$B$8=\"\",\"\",'６号の２の計算式'!T174)","v":""},null,null,null,{"$f":"IF('雇用保険適用者（６号の２）'!$B$8=\"\",\"\",'６号の２の計算式'!U174)","v":""},null,null,null,{"$f":"IF('雇用保険適用者（６号の２）'!$B$8=\"\",\"\",'６号の２の計算式'!V174)","v":""},null,null,null,{"$f":"IF('雇用保険適用者（６号の２）'!$B$8=\"\",\"\",'６号の２の計算式'!W174)","v":""},null,null,null,{"$f":"IF('雇用保険適用者（６号の２）'!$B$8=\"\",\"\",'６号の２の計算式'!X174)","v":""},null,null,null,{"$f":"IF('雇用保険適用者（６号の２）'!$B$8=\"\",\"\",'６号の２の計算式'!Y174)","v":""},null,null,null,"①",{"$f":"IF('雇用保険適用者（６号の２）'!$B$8=\"\",\"\",'６号の２の計算式'!AA174)","v":""}]
[null,"２　　　　","アルバイト臨　時・",null,"賃　金  （通勤手当含む）",null,{"$f":"IF('臨時・アルバイト・家族従業員等（６号３）'!$B$8=\"\",\"\",'６号３の計算式'!I176)","v":""},null,null,null,{"$f":"IF('臨時・アルバイト・家族従業員等（６号３）'!$B$8=\"\",\"\",'６号３の計算式'!J176)","v":""},null,null,null,{"$f":"IF('臨時・アルバイト・家族従業員等（６号３）'!$B$8=\"\",\"\",'６号３の計算式'!K176)","v":""},null,null,null,{"$f":"IF('臨時・アルバイト・家族従業員等（６号３）'!$B$8=\"\",\"\",'６号３の計算式'!L176)","v":""},null,null,null,{"$f":"IF('臨時・アルバイト・家族従業員等（６号３）'!$B$8=\"\",\"\",'６号３の計算式'!M176)","v":""},null,null,null,{"$f":"IF('臨時・アルバイト・家族従業員等（６号３）'!$B$8=\"\",\"\",'６号３の計算式'!N176)","v":""},null,null,null,{"$f":"IF('臨時・アルバイト・家族従業員等（６号３）'!$B$8=\"\",\"\",'６号３の計算式'!O176)","v":""},null,null,null,{"$f":"IF('臨時・アルバイト・家族従業員等（６号３）'!$B$8=\"\",\"\",'６号３の計算式'!P176)","v":""},null,null,null,{"$f":"IF('臨時・アルバイト・家族従業員等（６号３）'!$B$8=\"\",\"\",'６号３の計算式'!Q176)","v":""},null,null,null,{"$f":"IF('臨時・アルバイト・家族従業員等（６号３）'!$B$8=\"\",\"\",'６号３の計算式'!R176)","v":""},null,null,null,{"$f":"IF('臨時・アルバイト・家族従業員等（６号３）'!$B$8=\"\",\"\",'６号３の計算式'!S176)","v":""},null,null,null,{"$f":"IF('臨時・アルバイト・家族従業員等（６号３）'!$B$8=\"\",\"\",'６号３の計算式'!T176)","v":""},null,null,null,null,{"$f":"IF('臨時・アルバイト・家族従業員等（６号３）'!$B$8=\"\",\"\",'６号３の計算式'!U176)","v":""}]
[null,"上記１以外のもの　　　　　",null,null,"賞  与 ・ 燃料手当等",null,{"$f":"IF('臨時・アルバイト・家族従業員等（６号３）'!$B$8=\"\",\"\",'６号３の計算式'!I175)","v":""},null,null,null,{"$f":"IF('臨時・アルバイト・家族従業員等（６号３）'!$B$8=\"\",\"\",'６号３の計算式'!J175)","v":""},null,null,null,{"$f":"IF('臨時・アルバイト・家族従業員等（６号３）'!$B$8=\"\",\"\",'６号３の計算式'!K175)","v":""},null,null,null,{"$f":"IF('臨時・アルバイト・家族従業員等（６号３）'!$B$8=\"\",\"\",'６号３の計算式'!L175)","v":""},null,null,null,{"$f":"IF('臨時・アルバイト・家族従業員等（６号３）'!$B$8=\"\",\"\",'６号３の計算式'!M175)","v":""},null,null,null,{"$f":"IF('臨時・アルバイト・家族従業員等（６号３）'!$B$8=\"\",\"\",'６号３の計算式'!N175)","v":""},null,null,null,{"$f":"IF('臨時・アルバイト・家族従業員等（６号３）'!$B$8=\"\",\"\",'６号３の計算式'!O175)","v":""},null,null,null,{"$f":"IF('臨時・アルバイト・家族従業員等（６号３）'!$B$8=\"\",\"\",'６号３の計算式'!P175)","v":""},null,null,null,{"$f":"IF('臨時・アルバイト・家族従業員等（６号３）'!$B$8=\"\",\"\",'６号３の計算式'!Q175)","v":""},null,null,null,{"$f":"IF('臨時・アルバイト・家族従業員等（６号３）'!$B$8=\"\",\"\",'６号３の計算式'!R175)","v":""},null,null,null,{"$f":"IF('臨時・アルバイト・家族従業員等（６号３）'!$B$8=\"\",\"\",'６号３の計算式'!S175)","v":""},null,null,null,{"$f":"IF('臨時・アルバイト・家族従業員等（６号３）'!$B$8=\"\",\"\",'６号３の計算式'!T175)","v":""},null,null,null,null,{"$f":"IF('臨時・アルバイト・家族従業員等（６号３）'!$B$8=\"\",\"\",'６号３の計算式'!U175)","v":""}]
[null,null,"家族従業員",null,"賃　金  （通勤手当含む）",null,{"$f":"IF('臨時・アルバイト・家族従業員等（６号３）'!$B$8=\"\",\"\",'６号３の計算式'!I170)","v":""},null,null,null,{"$f":"IF('臨時・アルバイト・家族従業員等（６号３）'!$B$8=\"\",\"\",'６号３の計算式'!J170)","v":""},null,null,null,{"$f":"IF('臨時・アルバイト・家族従業員等（６号３）'!$B$8=\"\",\"\",'６号３の計算式'!K170)","v":""},null,null,null,{"$f":"IF('臨時・アルバイト・家族従業員等（６号３）'!$B$8=\"\",\"\",'６号３の計算式'!L170)","v":""},null,null,null,{"$f":"IF('臨時・アルバイト・家族従業員等（６号３）'!$B$8=\"\",\"\",'６号３の計算式'!M170)","v":""},null,null,null,{"$f":"IF('臨時・アルバイト・家族従業員等（６号３）'!$B$8=\"\",\"\",'６号３の計算式'!N170)","v":""},null,null,null,{"$f":"IF('臨時・アルバイト・家族従業員等（６号３）'!$B$8=\"\",\"\",'６号３の計算式'!O170)","v":""},null,null,null,{"$f":"IF('臨時・アルバイト・家族従業員等（６号３）'!$B$8=\"\",\"\",'６号３の計算式'!P170)","v":""},null,null,null,{"$f":"IF('臨時・アルバイト・家族従業員等（６号３）'!$B$8=\"\",\"\",'６号３の計算式'!Q170)","v":""},null,null,null,{"$f":"IF('臨時・アルバイト・家族従業員等（６号３）'!$B$8=\"\",\"\",'６号３の計算式'!R170)","v":""},null,null,null,{"$f":"IF('臨時・アルバイト・家族従業員等（６号３）'!$B$8=\"\",\"\",'６号３の計算式'!S170)","v":""},null,null,null,{"$f":"IF('臨時・アルバイト・家族従業員等（６号３）'!$B$8=\"\",\"\",'６号３の計算式'!T170)","v":""},null,null,null,null,{"$f":"IF('臨時・アルバイト・家族従業員等（６号３）'!$B$8=\"\",\"\",'６号３の計算式'!U170)","v":""}]
[null,null,null,null,"賞  与 ・ 燃料手当等",null,{"$f":"IF('臨時・アルバイト・家族従業員等（６号３）'!$B$8=\"\",\"\",'６号３の計算式'!I169)","v":""},null,null,null,{"$f":"IF('臨時・アルバイト・家族従業員等（６号３）'!$B$8=\"\",\"\",'６号３の計算式'!J169)","v":""},null,null,null,{"$f":"IF('臨時・アルバイト・家族従業員等（６号３）'!$B$8=\"\",\"\",'６号３の計算式'!K169)","v":""},null,null,null,{"$f":"IF('臨時・アルバイト・家族従業員等（６号３）'!$B$8=\"\",\"\",'６号３の計算式'!L169)","v":""},null,null,null,{"$f":"IF('臨時・アルバイト・家族従業員等（６号３）'!$B$8=\"\",\"\",'６号３の計算式'!M169)","v":""},null,null,null,{"$f":"IF('臨時・アルバイト・家族従業員等（６号３）'!$B$8=\"\",\"\",'６号３の計算式'!N169)","v":""},null,null,null,{"$f":"IF('臨時・アルバイト・家族従業員等（６号３）'!$B$8=\"\",\"\",'６号３の計算式'!O169)","v":""},null,null,null,{"$f":"IF('臨時・アルバイト・家族従業員等（６号３）'!$B$8=\"\",\"\",'６号３の計算式'!P169)","v":""},null,null,null,{"$f":"IF('臨時・アルバイト・家族従業員等（６号３）'!$B$8=\"\",\"\",'６号３の計算式'!Q169)","v":""},null,null,null,{"$f":"IF('臨時・アルバイト・家族従業員等（６号３）'!$B$8=\"\",\"\",'６号３の計算式'!R169)","v":""},null,null,null,{"$f":"IF('臨時・アルバイト・家族従業員等（６号３）'!$B$8=\"\",\"\",'６号３の計算式'!S169)","v":""},null,null,null,{"$f":"IF('臨時・アルバイト・家族従業員等（６号３）'!$B$8=\"\",\"\",'６号３の計算式'!T169)","v":""},null,null,null,null,{"$f":"IF('臨時・アルバイト・家族従業員等（６号３）'!$B$8=\"\",\"\",'６号３の計算式'!U169)","v":""}]
[null,null,"合　　　　　　計",null,null,null,{"$f":"IF('臨時・アルバイト・家族従業員等（６号３）'!$B$8=\"\",\"\",'６号３の計算式'!I174)","v":""},null,null,null,{"$f":"IF('臨時・アルバイト・家族従業員等（６号３）'!$B$8=\"\",\"\",'６号３の計算式'!J174)","v":""},null,null,null,{"$f":"IF('臨時・アルバイト・家族従業員等（６号３）'!$B$8=\"\",\"\",'６号３の計算式'!K174)","v":""},null,null,null,{"$f":"IF('臨時・アルバイト・家族従業員等（６号３）'!$B$8=\"\",\"\",'６号３の計算式'!L174)","v":""},null,null,null,{"$f":"IF('臨時・アルバイト・家族従業員等（６号３）'!$B$8=\"\",\"\",'６号３の計算式'!M174)","v":""},null,null,null,{"$f":"IF('臨時・アルバイト・家族従業員等（６号３）'!$B$8=\"\",\"\",'６号３の計算式'!N174)","v":""},null,null,null,{"$f":"IF('臨時・アルバイト・家族従業員等（６号３）'!$B$8=\"\",\"\",'６号３の計算式'!O174)","v":""},null,null,null,{"$f":"IF('臨時・アルバイト・家族従業員等（６号３）'!$B$8=\"\",\"\",'６号３の計算式'!P174)","v":""},null,null,null,{"$f":"IF('臨時・アルバイト・家族従業員等（６号３）'!$B$8=\"\",\"\",'６号３の計算式'!Q174)","v":""},null,null,null,{"$f":"IF('臨時・アルバイト・家族従業員等（６号３）'!$B$8=\"\",\"\",'６号３の計算式'!R174)","v":""},null,null,null,{"$f":"IF('臨時・アルバイト・家族従業員等（６号３）'!$B$8=\"\",\"\",'６号３の計算式'!S174)","v":""},null,null,null,{"$f":"IF('臨時・アルバイト・家族従業員等（６号３）'!$B$8=\"\",\"\",'６号３の計算式'!T174)","v":""},null,null,null,"②",{"$f":"IF('臨時・アルバイト・家族従業員等（６号３）'!$B$8=\"\",\"\",'６号３の計算式'!U174)","v":""}]
[null,"３","雇用保険対象賃金",null,null,null,"①の額",null,null,null,null,null,null,null,"料率",null,null,null,null,null,null,null,"雇用保険料",null,null,null,null,null,null,null,null,null,null,null,null,"\n【注意】\n　１　本書は、別表２及び３の賃金支払集計表に基づき作成してください。\n　２　令和元年度までは６４歳以上の労働者は雇用保険料が免除されて\n　　いましたが、令和２年度からは免除の対象となりませんのでご注意\n　　ください。"]
[]
[null,null,null,null,null,null,null,null,null,null,null,null,"千円",null,null,null,null,null,"/1,000",null,null,null,{"$f":"IF(OR(G16=\"\",O16=\"\"),\"\",G16*O16)","v":""},null,null,null,null,null,null,null,null,null,"円"]
[]
[]
[null,"４","労災保険対象賃金",null,null,null,"①＋②の額",null,null,null,null,null,null,null,"料率",null,null,null,null,null,null,null,"労災分保険料"]
[]
[null,null,null,null,null,null,null,null,null,null,null,null,"千円",null,null,null,null,null,"/1,000",null,null,null,{"$f":"IF(OR(G21=\"\",O21=\"\"),\"\",G21*O21)","v":""},null,null,null,null,null,null,null,null,null,"円"]
[]
[]
[null,"５","特別加入の賃金額",null,null,null,null,null,null,null,null,null,null,null,null,null,null,"円×",null,null,"人","料率",null,null,null,"労災分保険料"]
[]
[null,null,null,null,null,null,null,null,null,null,null,null,"千円",null,null,null,null,null,null,null,null,null,null,"/1,000",null,{"$f":"IF(OR(G26=\"\",V26=\"\"),\"\",G26*V26)","v":""},null,null,null,null,null,null,"円"]
[null,null,null,null,null,null,null,null,null,null,null,null,null,null,null,null,null,"円×",null,null,"人"]
[]
[null,"６","労災分保険料合計（４＋５）"]
[]
[null,null,null,null,null,null,null,null,null,null,null,null,null,null,null,null,null,null,null,null,null,null,{"$f":"IF(AND(W21=\"\",Z26=\"\"),\"\",IF(W21=\"\",0,W21)+IF(Z26=\"\",0,Z26))","v":""},null,null,null,null,null,null,null,null,null,"円"]
[]
[]
[null,"７","労働保険料 計（３＋６）"]
[]
[null,null,null,null,null,null,null,null,null,null,null,null,null,null,null,null,null,null,null,null,null,null,{"$f":"IF(AND(W16=\"\",W21=\"\",Z26=\"\"),\"\",IF(W16=\"\",0,W16)+IF(W21=\"\",0,W21)+IF(Z26=\"\",0,Z26))","v":""},null,null,null,null,null,null,null,null,null,"円",null,null,null,"事業所名称"]
[]
[]
[null,"８","一般拠出金対象賃金",null,null,null,"①＋②の額",null,null,null,null,null,null,null,"料率",null,null,null,null,null,null,null,"一般拠出金"]
[null,null,null,null,null,null,null,null,null,null,null,null,null,null,null,null,null,null,null,null,null,null,null,null,null,null,null,null,null,null,null,null,null,null,null,null,"事業所所在地"]
[null,null,null,null,null,null,null,null,null,null,null,null,"千円",null,0.02,null,null,null,"/1,000",null,null,null,{"$f":"IF(OR(G41=\"\",O41=\"\"),\"\",(ROUNDDOWN(G41*O41,0)))","v":""},null,null,null,null,null,null,null,null,null,"円"]
[]
[]
[null,null,null,null,null,null,null,null,null,null,null,null,null,null,null,null,null,null,null,null,null,null,null,null,null,null,null,null,null,null,null,null,null,null,null,null,"代表者職氏名　　　　　　　　　　　　　　　　　　　　　　　　　　　　　　　　　　　　㊞"]
[]
[]
[null,null,null,null,null,"上記のとおり相違ありません。",null,null,null,null,null,null,null,null,null,null,null,null,null,null,null,null,"令和　　　年　　　月　　　日"]
[null,null,null,null,null,null,null,null,null,null,null,null,null,null,null,null,null,null,null,null,null,null,null,null,null,null,null,null,null,null,null,null,null,null,null,null,"作成者氏名"]
[]
[]
[null,null,null,null,"北海道労働局長　　　殿"]
[null,null,null,null,null,null,null,null,null,null,null,null,null,null,null,null,null,null,null,null,null,null,null,null,null,null,null,null,null,null,null,null,null,null,null,null,"電話番号"]

{"sheet":"雇用保険適用者（６号の２）","index":1,"n_rows":168,"n_cols":26,"rows_kept":168,"cut":false,"hidden":false,"merged":[[27,6,28,8],[17,1,18,2],[17,3,18,5],[19,9,20,11],[17,6,18,8],[23,1,24,2],[9,1,10,2],[11,1,12,2],[9,6,10,8],[15,1,16,2],[15,3,16,5],[13,1,14,2],[27,1,28,2],[27,3,28,5],[27,9,28,11],[19,6,20,8],[21,1,22,2],[21,3,22,5],[4,22,6,22],[21,9,22,11],[15,9,16,11],[4,7,6,7],[4,10,6,10],[25,9,26,11],[33,9,34,11],[35,1,36,2],[35,3,36,5],[35,6,36,8],[35,9,36,11],[33,1,34,2],[33,3,34,5],[33,6,34,8],[31,9,32,11],[29,1,30,2],[29,3,30,5],[29,6,30,8],[31,1,32,2],[31,3,32,5],[31,6,32,8],[29,9,30,11],[17,9,18,11],[25,6,26,8],[4,25,6,25],[4,18,6,18],[4,19,6,19],[4,20,6,20],[4,21,6,21],[4,24,6,24],[25,1,26,2],[25,3,26,5],[4,23,6,23],[11,3,12,5],[23,9,24,11],[19,1,20,2],[19,3,20,5],[21,6,22,8],[23,3,24,5],[23,6,24,8],[13,3,14,5],[13,6,14,8],[13,9,14,11],[11,6,12,8],[11,9,12,11],[9,9,10,11],[9,3,10,5],[15,6,16,8],[4,17,6,17],[7,1,8,2],[4,13,6,13],[7,3,8,5],[7,6,8,8],[7,9,8,11],[4,4,6,4],[4,12,6,12],[4,14,6,14],[4,15,6,15],[4,16,6,16],[4,1,6,2],[37,9,38,11],[37,1,38,2],[37,3,38,5],[37,6,38,8],[43,1,44,2],[43,3,44,5],[43,6,44,8],[41,9,42,11],[41,1,42,2],[41,3,42,5],[41,6,42,8],[39,9,40,11],[39,1,40,2],[39,3,40,5],[39,6,40,8],[45,9,46,11],[55,7,55,21],[60,4,62,4],[60,7,62,7],[60,10,62,10],[60,21,62,21],[60,22,62,22],[60,15,62,15],[60,16,62,16],[60,17,62,17],[60,18,62,18],[60,23,62,23],[57,10,57,20],[47,1,48,11],[60,24,62,24],[60,25,62,25],[63,1,64,2],[63,3,64,5],[63,6,64,8],[63,9,64,11],[60,19,62,19],[60,20,62,20],[60,12,62,12],[60,13,62,13],[60,14,62,14],[60,1,62,2],[69,9,70,11],[71,1,72,2],[71,3,72,5],[71,6,72,8],[71,9,72,11],[69,1,70,2],[69,3,70,5],[69,6,70,8],[65,9,66,11],[67,1,68,2],[67,3,68,5],[67,6,68,8],[67,9,68,11],[65,1,66,2],[65,3,66,5],[65,6,66,8],[77,9,78,11],[79,1,80,2],[79,3,80,5],[79,6,80,8],[79,9,80,11],[77,1,78,2],[77,3,78,5],[77,6,78,8],[73,9,74,11],[75,1,76,2],[75,3,76,5],[75,6,76,8],[75,9,76,11],[73,1,74,2],[73,3,74,5],[73,6,74,8],[85,9,86,11],[87,1,88,2],[87,3,88,5],[87,6,88,8],[87,9,88,11],[85,1,86,2],[85,3,86,5],[85,6,86,8],[81,9,82,11],[83,1,84,2],[83,3,84,5],[83,6,84,8],[83,9,84,11],[81,1,82,2],[81,3,82,5],[81,6,82,8],[95,3,96,5],[95,6,96,8],[95,9,96,11],[93,1,94,2],[93,3,94,5],[93,6,94,8],[89,9,90,11],[91,1,92,2],[91,3,92,5],[91,6,92,8],[91,9,92,11],[89,1,90,2],[89,3,90,5],[89,6,90,8],[141,6,142,8],[112,1,112,5],[103,1,104,11],[121,9,122,11],[123,1,124,2],[123,3,124,5],[123,6,124,8],[123,9,124,11],[121,1,122,2],[121,3,122,5],[121,6,122,8],[125,9,126,11],[127,1,128,2],[127,3,128,5],[127,6,128,8],[127,9,128,11],[125,1,126,2],[125,3,126,5],[125,6,126,8],[133,9,134,11],[135,1,136,2],[135,3,136,5],[135,6,136,8],[135,9,136,11],[116,20,118,20],[116,4,118,4],[116,7,118,7],[116,10,118,10],[116,16,118,16],[116,25,118,25],[119,1,120,2],[119,3,120,5],[119,6,120,8],[119,9,120,11],[116,21,118,21],[116,22,118,22],[116,23,118,23],[116,24,118,24],[116,12,118,12],[116,13,118,13],[116,14,118,14],[116,15,118,15],[116,17,118,17],[116,18,118,18],[116,19,118,19],[133,1,134,2],[133,3,134,5],[133,6,134,8],[129,9,130,11],[131,1,132,2],[131,3,132,5],[131,6,132,8],[131,9,132,11],[129,1,130,2],[129,3,130,5],[129,6,130,8],[153,9,154,11],[145,9,146,11],[147,9,148,11],[149,9,150,11],[149,3,150,5],[149,6,150,8],[145,6,146,8],[137,9,138,11],[139,1,140,2],[139,3,140,5],[139,6,140,8],[139,9,140,11],[137,1,138,2],[137,3,138,5],[137,6,138,8],[141,1,142,2],[149,1,150,2],[145,1,146,2],[147,1,148,2],[151,1,152,2],[143,1,144,2],[143,3,144,5],[143,6,144,8],[141,3,142,5],[167,7,167,21],[157,9,158,11],[157,1,158,2],[157,3,158,5],[157,6,158,8],[159,1,160,11],[112,10,112,20],[113,10,113,20],[116,1,118,2],[155,9,156,11],[153,1,154,2],[153,3,154,5],[153,6,154,8],[155,1,156,2],[155,3,156,5],[155,6,156,8],[147,6,148,8],[141,9,142,11],[143,9,144,11],[145,3,146,5],[147,3,148,5],[151,3,152,5],[151,6,152,8],[151,9,152,11],[111,7,111,21],[0,1,0,5],[101,9,102,11],[101,1,102,2],[101,3,102,5],[101,6,102,8],[97,9,98,11],[0,10,0,20],[1,10,1,20],[56,1,56,5],[56,10,56,20],[45,1,46,2],[45,3,46,5],[45,6,46,8],[43,9,44,11],[99,9,100,11],[97,1,98,2],[97,3,98,5],[97,6,98,8],[99,1,100,2],[99,3,100,5],[99,6,100,8],[93,9,94,11],[95,1,96,2]]}
[null,"監　様式６号の２　（別表２）",null,null,null,null,null,null,null,null,"２．　賃　金　支　払　集　計　表"]
[null,null,null,null,null,null,null,null,null,null,"　　　（雇用保険適用者）"]
[]
[]
[null,"氏名",null,null,"生年月日",null,null,"被保険者\n資格取得\n年月日",null,null,"被保険者\n離職\n年月日",null,"令和３年４月","令和３年５月","令和３年６月","令和３年７月","令和３年８月","令和３年９月","令和３年１０月","令和３年１１月","令和３年１２月","令和４年１月","令和４年２月","令和４年３月",null,"３年度計"]
[]
[" "]
[null,null,null,null,null,null,null,null,null,null,null,null,null,null,null,null,null,null,null,null,null,null,null,null,{"$f":"SUM(M8:X8)","v":0},{"$f":"IF(B8=\"\",\"\",IF(SUM(M8:X8)=0,\"\",SUM(M8:X8)))","v":""}]
[null,null,null,null,null,null,null,null,null,null,null,null,null,null,null,null,null,null,null,null,null,null,null,null,0,{"$f":"IF(B8=\"\",\"\",SUM(M9:X9))","v":""}]
[null,null,null,null,null,null,null,null,null,null,null,null,null,null,null,null,null,null,null,null,null,null,null,null,0,{"$f":"IF(B10=\"\",\"\",IF(SUM(M10:X10)=0,\"\",SUM(M10:X10)))","v":""}]
[null,null,null,null,null,null,null,null,null,null,null,null,null,null,null,null,null,null,null,null,null,null,null,null,0,{"$f":"IF(B10=\"\",\"\",SUM(M11:X11))","v":""}]
[null,null,null,null,null,null,null,null,null,null,null,null,null,null,null,null,null,null,null,null,null,null,null,null,0,{"$f":"IF(B12=\"\",\"\",IF(SUM(M12:X12)=0,\"\",SUM(M12:X12)))","v":""}]
[null,null,null,null,null,null,null,null,null,null,null,null,null,null,null,null,null,null,null,null,null,null,null,null,0,{"$f":"IF(B12=\"\",\"\",SUM(M13:X13))","v":""}]
[null,null,null,null,null,null,null,null,null,null,null,null,null,null,null,null,null,null,null,null,null,null,null,null,0,{"$f":"IF(B14=\"\",\"\",IF(SUM(M14:X14)=0,\"\",SUM(M14:X14)))","v":""}]
[null,null,null,null,null,null,null,null,null,null,null,null,null,null,null,null,null,null,null,null,null,null,null,null,0,{"$f":"IF(B14=\"\",\"\",SUM(M15:X15))","v":""}]
[null,null,null,null,null,null,null,null,null,null,null,null,null,null,null,null,null,null,null,null,null,null,null,null,0,{"$f":"IF(B16=\"\",\"\",IF(SUM(M16:X16)=0,\"\",SUM(M16:X16)))","v":""}]
[null,null,null,null,null,null,null,null,null,null,null,null,null,null,null,null,null,null,null,null,null,null,null,null,0,{"$f":"IF(B16=\"\",\"\",SUM(M17:X17))","v":""}]
[null,null,null,null,null,null,null,null,null,null,null,null,null,null,null,null,null,null,null,null,null,null,null,null,0,{"$f":"IF(B18=\"\",\"\",IF(SUM(M18:X18)=0,\"\",SUM(M18:X18)))","v":""}]
[null,null,null,null,null,null,null,null,null,null,null,null,null,null,null,null,null,null,null,null,null,null,null,null,0,{"$f":"IF(B18=\"\",\"\",SUM(M19:X19))","v":""}]
[null,null,null,null,null,null,null,null,null,null,null,null,null,null,null,null,null,null,null,null,null,null,null,null,0,{"$f":"IF(B20=\"\",\"\",IF(SUM(M20:X20)=0,\"\",SUM(M20:X20)))","v":""}]
[null,null,null,null,null,null,null,null,null,null,null,null,null,null,null,null,null,null,null,null,null,null,null,null,0,{"$f":"IF(B20=\"\",\"\",SUM(M21:X21))","v":""}]
[null,null,null,null,null,null,null,null,null,null,null,null,null,null,null,null,null,null,null,null,null,null,null,null,0,{"$f":"IF(B22=\"\",\"\",IF(SUM(M22:X22)=0,\"\",SUM(M22:X22)))","v":""}]
[null,null,null,null,null,null,null,null,null,null,null,null,null,null,null,null,null,null,null,null,null,null,null,null,0,{"$f":"IF(B22=\"\",\"\",SUM(M23:X23))","v":""}]
[null,null,null,null,null,null,null,null,null,null,null,null,null,null,null,null,null,null,null,null,null,null,null,null,0,{"$f":"IF(B24=\"\",\"\",IF(SUM(M24:X24)=0,\"\",SUM(M24:X24)))","v":""}]
[null,null,null,null,null,null,null,null,null,null,null,null,null,null,null,null,null,null,null,null,null,null,null,null,0,{"$f":"IF(B24=\"\",\"\",SUM(M25:X25))","v":""}]
[null,null,null,null,null,null,null,null,null,null,null,null,null,null,null,null,null,null,null,null,null,null,null,null,0,{"$f":"IF(B26=\"\",\"\",IF(SUM(M26:X26)=0,\"\",SUM(M26:X26)))","v":""}]
[null,null,null,null,null,null,null,null,null,null,null,null,null,null,null,null,null,null,null,null,null,null,null,null,0,{"$f":"IF(B26=\"\",\"\",SUM(M27:X27))","v":""}]
[null,null,null,null,null,null,null,null,null,null,null,null,null,null,null,null,null,null,null,null,null,null,null,null,0,{"$f":"IF(B28=\"\",\"\",IF(SUM(M28:X28)=0,\"\",SUM(M28:X28)))","v":""}]
[null,null,null,null,null,null,null,null,null,null,null,null,null,null,null,null,null,null,null,null,null,null,null,null,0,{"$f":"IF(B28=\"\",\"\",SUM(M29:X29))","v":""}]
[null,null,null,null,null,null,null,null,null,null,null,null,null,null,null,null,null,null,null,null,null,null,null,null,0,{"$f":"IF(B30=\"\",\"\",IF(SUM(M30:X30)=0,\"\",SUM(M30:X30)))","v":""}]
[null,null,null,null,null,null,null,null,null,null,null,null,null,null,null,null,null,null,null,null,null,null,null,null,0,{"$f":"IF(B30=\"\",\"\",SUM(M31:X31))","v":""}]
[null,null,null,null,null,null,null,null,null,null,null,null,null,null,null,null,null,null,null,null,null,null,null,null,0,{"$f":"IF(B32=\"\",\"\",IF(SUM(M32:X32)=0,\"\",SUM(M32:X32)))","v":""}]
[null,null,null,null,null,null,null,null,null,null,null,null,null,null,null,null,null,null,null,null,null,null,null,null,0,{"$f":"IF(B32=\"\",\"\",SUM(M33:X33))","v":""}]
[null,null,null,null,null,null,null,null,null,null,null,null,null,null,null,null,null,null,null,null,null,null,null,null,0,{"$f":"IF(B34=\"\",\"\",IF(SUM(M34:X34)=0,\"\",SUM(M34:X34)))","v":""}]
[null,null,null,null,null,null,null,null,null,null,null,null,null,null,null,null,null,null,null,null,null,null,null,null,0,{"$f":"IF(B34=\"\",\"\",SUM(M35:X35))","v":""}]
[null,null,null,null,null,null,null,null,null,null,null,null,null,null,null,null,null,null,null,null,null,null,null,null,0,{"$f":"IF(B36=\"\",\"\",IF(SUM(M36:X36)=0,\"\",SUM(M36:X36)))","v":""}]
[null,null,null,null,null,null,null,null,null,null,null,null,null,null,null,null,null,null,null,null,null,null,null,null,0,{"$f":"IF(B36=\"\",\"\",SUM(M37:X37))","v":""}]
[null,null,null,null,null,null,null,null,null,null,null,null,null,null,null,null,null,null,null,null,null,null,null,null,0,{"$f":"IF(B38=\"\",\"\",IF(SUM(M38:X38)=0,\"\",SUM(M38:X38)))","v":""}]
[null,null,null,null,null,null,null,null,null,null,null,null,null,null,null,null,null,null,null,null,null,null,null,null,0,{"$f":"IF(B38=\"\",\"\",SUM(M39:X39))","v":""}]
[null,null,null,null,null,null,null,null,null,null,null,null,null,null,null,null,null,null,null,null,null,null,null,null,0,{"$f":"IF(B40=\"\",\"\",IF(SUM(M40:X40)=0,\"\",SUM(M40:X40)))","v":""}]
[null,null,null,null,null,null,null,null,null,null,null,null,null,null,null,null,null,null,null,null,null,null,null,null,0,{"$f":"IF(B40=\"\",\"\",SUM(M41:X41))","v":""}]
[null,null,null,null,null,null,null,null,null,null,null,null,null,null,null,null,null,null,null,null,null,null,null,null,0,{"$f":"IF(B42=\"\",\"\",IF(SUM(M42:X42)=0,\"\",SUM(M42:X42)))","v":""}]
[null,null,null,null,null,null,null,null,null,null,null,null,null,null,null,null,null,null,null,null,null,null,null,null,0,{"$f":"IF(B42=\"\",\"\",SUM(M43:X43))","v":""}]
[null,null,null,null,null,null,null,null,null,null,null,null,null,null,null,null,null,null,null,null,null,null,null,null,0,{"$f":"IF(B44=\"\",\"\",IF(SUM(M44:X44)=0,\"\",SUM(M44:X44)))","v":""}]
[null,null,null,null,null,null,null,null,null,null,null,null,null,null,null,null,null,null,null,null,null,null,null,null,0,{"$f":"IF(B44=\"\",\"\",SUM(M45:X45))","v":""}]
[null,null,null,null,null,null,null,null,null,null,null,null,null,null,null,null,null,null,null,null,null,null,null,null,0,{"$f":"IF(B46=\"\",\"\",IF(SUM(M46:X46)=0,\"\",SUM(M46:X46)))","v":""}]
[null,null,null,null,null,null,null,null,null,null,null,null,null,null,null,null,null,null,null,null,null,null,null,null,0,{"$f":"IF(B46=\"\",\"\",SUM(M47:X47))","v":""}]
[null,null,null,null,null,null,null,null,null,null,null,null,{"$f":"IF($B$8=\"\",\"\",IF(M8+M10+M12+M14+M16+M18+M20+M22+M24+M26+M28+M30+M32+M34+M36+M38+M40+M42+M44+M46=0,\"\",M8+M10+M12+M14+M16+M18+M20+M22+M24+M26+M28+M30+M32+M34+M36+M38+M40+M42+M44+M46))","v":""},"","","","","","","","","","","",{"$f":"IF($B$8=\"\",\"\",#REF!)","v":""},{"$f":"IF($B$8=\"\",\"\",IF(SUM(M48:X48)=0,\"\",SUM(M48:X48)))","v":""}]
[null,null,null,null,null,null,null,null,null,null,null,null,{"$f":"IF($B$8=\"\",\"\",M9+M11+M13+M15+M17+M19+M21+M23+M25+M27+M29+M31+M33+M35+M37+M39+M41+M43+M45+M47)","v":""},"","","","","","","","","","","",{"$f":"IF($B$8=\"\",\"\",#REF!)","v":""},{"$f":"IF($B$8=\"\",\"\",SUM(M49:X49))","v":""}]
[]
[null,null,"１　この表は、雇用保険被保険者であるすべての労働者（職員を含む）について、賃金台帳に基づいて作成してください。"]
[null,null,"２　賃金額は、超過勤務手当、通勤手当等を含む賃金総額（源泉所得税、社会保険料、雇用保険料等を控除する前の金額）を記載してください。"]
[null,null,"３　各月の賃金額は、原則として支払内容月で作成してください。"]
[null,null,"４　雇用保険に係る取得・離職年月日は届出書類と照合の上、正確に記載してください。"]
[null,null,"５　賞与、燃料手当、臨時手当などの手当を支給した場合は、該当月欄の上段に賞与等の額を、下段に賃金額を記入してください。（二段書きしてください。）　　　",null,null,null,null,null,null,null,null,null,null,null,null,null,null,null,null,null,null,null,"　　記載例　　","３５０，０００　←　賞与等"]
[null,null,null,null,null,null,null,"　　　　　　　　　　　　　　　　　　　　　　　　　　　　　　　　　　　　　　　　　　　　　　　　　　　　　　　　　　　　　　　　　　　　　　　　　　　　　　　　　　　　　　　　　　　　　　　　　　　　　　　　　　　",null,null,null,null,null,null,null,null,null,null,null,null,null,null,null,"２００，０００　←　賃　金"]
[null,"監　様式６号の２　（別表２）",null,null,null,null,null,null,null,null,"２．　賃　金　支　払　集　計　表"]
[null,null,null,null,null,null,null,null,null,null,"　　　（雇用保険適用者）"]
[]
[]
[null,"氏名",null,null,"生年月日",null,null,"被保険者\n資格取得\n年月日",null,null,"被保険者\n離職\n年月日",null,"令和３年４月","令和３年５月","令和３年６月","令和３年７月","令和３年８月","令和３年９月","令和３年１０月","令和３年１１月","令和３年１２月","令和４年１月","令和４年２月","令和４年３月",null,"３年度計"]
[]
[" "]
[null,null,null,null,null,null,null,null,null,null,null,null,null,null,null,null,null,null,null,null,null,null,null,null,{"$f":"SUM(M64:X64)","v":0},{"$f":"IF(B64=\"\",\"\",IF(SUM(M64:X64)=0,\"\",SUM(M64:X64)))","v":""}]
[null,null,null,null,null,null,null,null,null,null,null,null,null,null,null,null,null,null,null,null,null,null,null,null,0,{"$f":"IF(B64=\"\",\"\",SUM(M65:X65))","v":""}]
[null,null,null,null,null,null,null,null,null,null,null,null,null,null,null,null,null,null,null,null,null,null,null,null,0,{"$f":"IF(B66=\"\",\"\",IF(SUM(M66:X66)=0,\"\",SUM(M66:X66)))","v":""}]
[null,null,null,null,null,null,null,null,null,null,null,null,null,null,null,null,null,null,null,null,null,null,null,null,0,{"$f":"IF(B66=\"\",\"\",SUM(M67:X67))","v":""}]
[null,null,null,null,null,null,null,null,null,null,null,null,null,null,null,null,null,null,null,null,null,null,null,null,0,{"$f":"IF(B68=\"\",\"\",IF(SUM(M68:X68)=0,\"\",SUM(M68:X68)))","v":""}]
[null,null,null,null,null,null,null,null,null,null,null,null,null,null,null,null,null,null,null,null,null,null,null,null,0,{"$f":"IF(B68=\"\",\"\",SUM(M69:X69))","v":""}]
[null,null,null,null,null,null,null,null,null,null,null,null,null,null,null,null,null,null,null,null,null,null,null,null,0,{"$f":"IF(B70=\"\",\"\",IF(SUM(M70:X70)=0,\"\",SUM(M70:X70)))","v":""}]
[null,null,null,null,null,null,null,null,null,null,null,null,null,null,null,null,null,null,null,null,null,null,null,null,0,{"$f":"IF(B70=\"\",\"\",SUM(M71:X71))","v":""}]
[null,null,null,null,null,null,null,null,null,null,null,null,null,null,null,null,null,null,null,null,null,null,null,null,0,{"$f":"IF(B72=\"\",\"\",IF(SUM(M72:X72)=0,\"\",SUM(M72:X72)))","v":""}]
[null,null,null,null,null,null,null,null,null,null,null,null,null,null,null,null,null,null,null,null,null,null,null,null,0,{"$f":"IF(B72=\"\",\"\",SUM(M73:X73))","v":""}]
[null,null,null,null,null,null,null,null,null,null,null,null,null,null,null,null,null,null,null,null,null,null,null,null,0,{"$f":"IF(B74=\"\",\"\",IF(SUM(M74:X74)=0,\"\",SUM(M74:X74)))","v":""}]
[null,null,null,null,null,null,null,null,null,null,null,null,null,null,null,null,null,null,null,null,null,null,null,null,0,{"$f":"IF(B74=\"\",\"\",SUM(M75:X75))","v":""}]
[null,null,null,null,null,null,null,null,null,null,null,null,null,null,null,null,null,null,null,null,null,null,null,null,0,{"$f":"IF(B76=\"\",\"\",IF(SUM(M76:X76)=0,\"\",SUM(M76:X76)))","v":""}]
[null,null,null,null,null,null,null,null,null,null,null,null,null,null,null,null,null,null,null,null,null,null,null,null,0,{"$f":"IF(B76=\"\",\"\",SUM(M77:X77))","v":""}]
[null,null,null,null,null,null,null,null,null,null,null,null,null,null,null,null,null,null,null,null,null,null,null,null,0,{"$f":"IF(B78=\"\",\"\",IF(SUM(M78:X78)=0,\"\",SUM(M78:X78)))","v":""}]
[null,null,null,null,null,null,null,null,null,null,null,null,null,null,null,null,null,null,null,null,null,null,null,null,0,{"$f":"IF(B78=\"\",\"\",SUM(M79:X79))","v":""}]
[null,null,null,null,null,null,null,null,null,null,null,null,null,null,null,null,null,null,null,null,null,null,null,null,0,{"$f":"IF(B80=\"\",\"\",IF(SUM(M80:X80)=0,\"\",SUM(M80:X80)))","v":""}]
[null,null,null,null,null,null,null,null,null,null,null,null,null,null,null,null,null,null,null,null,null,null,null,null,0,{"$f":"IF(B80=\"\",\"\",SUM(M81:X81))","v":""}]
[null,null,null,null,null,null,null,null,null,null,null,null,null,null,null,null,null,null,null,null,null,null,null,null,0,{"$f":"IF(B82=\"\",\"\",IF(SUM(M82:X82)=0,\"\",SUM(M82:X82)))","v":""}]
[null,null,null,null,null,null,null,null,null,null,null,null,null,null,null,null,null,null,null,null,null,null,null,null,0,{"$f":"IF(B82=\"\",\"\",SUM(M83:X83))","v":""}]
[null,null,null,null,null,null,null,null,null,null,null,null,null,null,null,null,null,null,null,null,null,null,null,null,0,{"$f":"IF(B84=\"\",\"\",IF(SUM(M84:X84)=0,\"\",SUM(M84:X84)))","v":""}]
[null,null,null,null,null,null,null,null,null,null,null,null,null,null,null,null,null,null,null,null,null,null,null,null,0,{"$f":"IF(B84=\"\",\"\",SUM(M85:X85))","v":""}]
[null,null,null,null,null,null,null,null,null,null,null,null,null,null,null,null,null,null,null,null,null,null,null,null,0,{"$f":"IF(B86=\"\",\"\",IF(SUM(M86:X86)=0,\"\",SUM(M86:X86)))","v":""}]
[null,null,null,null,null,null,null,null,null,null,null,null,null,null,null,null,null,null,null,null,null,null,null,null,0,{"$f":"IF(B86=\"\",\"\",SUM(M87:X87))","v":""}]
[null,null,null,null,null,null,null,null,null,null,null,null,null,null,null,null,null,null,null,null,null,null,null,null,0,{"$f":"IF(B88=\"\",\"\",IF(SUM(M88:X88)=0,\"\",SUM(M88:X88)))","v":""}]
[null,null,null,null,null,null,null,null,null,null,null,null,null,null,null,null,null,null,null,null,null,null,null,null,0,{"$f":"IF(B88=\"\",\"\",SUM(M89:X89))","v":""}]
[null,null,null,null,null,null,null,null,null,null,null,null,null,null,null,null,null,null,null,null,null,null,null,null,0,{"$f":"IF(B90=\"\",\"\",IF(SUM(M90:X90)=0,\"\",SUM(M90:X90)))","v":""}]
[null,null,null,null,null,null,null,null,null,null,null,null,null,null,null,null,null,null,null,null,null,null,null,null,0,{"$f":"IF(B90=\"\",\"\",SUM(M91:X91))","v":""}]
[null,null,null,null,null,null,null,null,null,null,null,null,null,null,null,null,null,null,null,null,null,null,null,null,0,{"$f":"IF(B92=\"\",\"\",IF(SUM(M92:X92)=0,\"\",SUM(M92:X92)))","v":""}]
[null,null,null,null,null,null,null,null,null,null,null,null,null,null,null,null,null,null,null,null,null,null,null,null,0,{"$f":"IF(B92=\"\",\"\",SUM(M93:X93))","v":""}]
[null,null,null,null,null,null,null,null,null,null,null,null,null,null,null,null,null,null,null,null,null,null,null,null,0,{"$f":"IF(B94=\"\",\"\",IF(SUM(M94:X94)=0,\"\",SUM(M94:X94)))","v":""}]
[null,null,null,null,null,null,null,null,null,null,null,null,null,null,null,null,null,null,null,null,null,null,null,null,0,{"$f":"IF(B94=\"\",\"\",SUM(M95:X95))","v":""}]
[null,null,null,null,null,null,null,null,null,null,null,null,null,null,null,null,null,null,null,null,null,null,null,null,0,{"$f":"IF(B96=\"\",\"\",IF(SUM(M96:X96)=0,\"\",SUM(M96:X96)))","v":""}]
[null,null,null,null,null,null,null,null,null,null,null,null,null,null,null,null,null,null,null,null,null,null,null,null,0,{"$f":"IF(B96=\"\",\"\",SUM(M97:X97))","v":""}]
[null,null,null,null,null,null,null,null,null,null,null,null,null,null,null,null,null,null,null,null,null,null,null,null,0,{"$f":"IF(B98=\"\",\"\",IF(SUM(M98:X98)=0,\"\",SUM(M98:X98)))","v":""}]
[null,null,null,null,null,null,null,null,null,null,null,null,null,null,null,null,null,null,null,null,null,null,null,null,0,{"$f":"IF(B98=\"\",\"\",SUM(M99:X99))","v":""}]
[null,null,null,null,null,null,null,null,null,null,null,null,null,null,null,null,null,null,null,null,null,null,null,null,0,{"$f":"IF(B100=\"\",\"\",IF(SUM(M100:X100)=0,\"\",SUM(M100:X100)))","v":""}]
[null,null,null,null,null,null,null,null,null,null,null,null,null,null,null,null,null,null,null,null,null,null,null,null,0,{"$f":"IF(B100=\"\",\"\",SUM(M101:X101))","v":""}]
[null,null,null,null,null,null,null,null,null,null,null,null,null,null,null,null,null,null,null,null,null,null,null,null,0,{"$f":"IF(B102=\"\",\"\",IF(SUM(M102:X102)=0,\"\",SUM(M102:X102)))","v":""}]
[null,null,null,null,null,null,null,null,null,null,null,null,null,null,null,null,null,null,null,null,null,null,null,null,0,{"$f":"IF(B102=\"\",\"\",SUM(M103:X103))","v":""}]
[null,null,null,null,null,null,null,null,null,null,null,null,{"$f":"IF($B$8=\"\",\"\",IF(M64+M66+M68+M70+M72+M74+M76+M78+M80+M82+M84+M86+M88+M90+M92+M94+M96+M98+M100+M102=0,\"\",M64+M66+M68+M70+M72+M74+M76+M78+M80+M82+M84+M86+M88+M90+M92+M94+M96+M98+M100+M102))","v":""},"","","","","","","","","","","",{"$f":"IF($B$8=\"\",\"\",#REF!)","v":""},{"$f":"IF($B$8=\"\",\"\",IF(SUM(M104:X104)=0,\"\",SUM(M104:X104)))","v":""}]
[null,null,null,null,null,null,null,null,null,null,null,null,{"$f":"IF($B$8=\"\",\"\",M65+M67+M69+M71+M73+M75+M77+M79+M81+M83+M85+M87+M89+M91+M93+M95+M97+M99+M101+M103)","v":""},"","","","","","","","","","","",{"$f":"IF($B$8=\"\",\"\",#REF!)","v":""},{"$f":"IF($B$8=\"\",\"\",SUM(M105:X105))","v":""}]
[]
[null,null,"１　この表は、雇用保険被保険者であるすべての労働者（職員を含む）について、賃金台帳に基づいて作成してください。"]
[null,null,"２　賃金額は、超過勤務手当、通勤手当等を含む賃金総額（源泉所得税、社会保険料、雇用保険料等を控除する前の金額）を記載してください。"]
[null,null,"３　各月の賃金額は、原則として支払内容月で作成してください。"]
[null,null,"４　雇用保険に係る取得・離職年月日は届出書類と照合の上、正確に記載してください。"]
[null,null,"５　賞与、燃料手当、臨時手当などの手当を支給した場合は、該当月欄の上段に賞与等の額を、下段に賃金額を記入してください。（二段書きしてください。）　　　",null,null,null,null,null,null,null,null,null,null,null,null,null,null,null,null,null,null,null,"　　記載例　　","３５０，０００　←　賞与等"]
[null,null,null,null,null,null,null,"　　　　　　　　　　　　　　　　　　　　　　　　　　　　　　　　　　　　　　　　　　　　　　　　　　　　　　　　　　　　　　　　　　　　　　　　　　　　　　　　　　　　　　　　　　　　　　　　　　　　　　　　　　　",null,null,null,null,null,null,null,null,null,null,null,null,null,null,null,"２００，０００　←　賃　金"]
[null,"監　様式６号の２　（別表２）",null,null,null,null,null,null,null,null,"２．　賃　金　支　払　集　計　表"]
[null,null,null,null,null,null,null,null,null,null,"　　　（雇用保険適用者）"]
[]
[]
[null,"氏名",null,null,"生年月日",null,null,"被保険者\n資格取得\n年月日",null,null,"被保険者\n離職\n年月日",null,"令和３年４月","令和３年５月","令和３年６月","令和３年７月","令和３年８月","令和３年９月","令和３年１０月","令和３年１１月","令和３年１２月","令和４年１月","令和４年２月","令和４年３月",null,"３年度計"]
[]
[" "]
[null,null,null,null,null,null,null,null,null,null,null,null,null,null,null,null,null,null,null,null,null,null,null,null,{"$f":"SUM(M120:X120)","v":0},{"$f":"IF(B120=\"\",\"\",IF(SUM(M120:X120)=0,\"\",SUM(M120:X120)))","v":""}]
[null,null,null,null,null,null,null,null,null,null,null,null,null,null,null,null,null,null,null,null,null,null,null,null,0,{"$f":"IF(B120=\"\",\"\",SUM(M121:X121))","v":""}]
[null,null,null,null,null,null,null,null,null,null,null,null,null,null,null,null,null,null,null,null,null,null,null,null,0,{"$f":"IF(B122=\"\",\"\",IF(SUM(M122:X122)=0,\"\",SUM(M122:X122)))","v":""}]
[null,null,null,null,null,null,null,null,null,null,null,null,null,null,null,null,null,null,null,null,null,null,null,null,0,{"$f":"IF(B122=\"\",\"\",SUM(M123:X123))","v":""}]
[null,null,null,null,null,null,null,null,null,null,null,null,null,null,null,null,null,null,null,null,null,null,null,null,0,{"$f":"IF(B124=\"\",\"\",IF(SUM(M124:X124)=0,\"\",SUM(M124:X124)))","v":""}]
[null,null,null,null,null,null,null,null,null,null,null,null,null,null,null,null,null,null,null,null,null,null,null,null,0,{"$f":"IF(B124=\"\",\"\",SUM(M125:X125))","v":""}]
[null,null,null,null,null,null,null,null,null,null,null,null,null,null,null,null,null,null,null,null,null,null,null,null,0,{"$f":"IF(B126=\"\",\"\",IF(SUM(M126:X126)=0,\"\",SUM(M126:X126)))","v":""}]
[null,null,null,null,null,null,null,null,null,null,null,null,null,null,null,null,null,null,null,null,null,null,null,null,0,{"$f":"IF(B126=\"\",\"\",SUM(M127:X127))","v":""}]
[null,null,null,null,null,null,null,null,null,null,null,null,null,null,null,null,null,null,null,null,null,null,null,null,0,{"$f":"IF(B128=\"\",\"\",IF(SUM(M128:X128)=0,\"\",SUM(M128:X128)))","v":""}]
[null,null,null,null,null,null,null,null,null,null,null,null,null,null,null,null,null,null,null,null,null,null,null,null,0,{"$f":"IF(B128=\"\",\"\",SUM(M129:X129))","v":""}]
[null,null,null,null,null,null,null,null,null,null,null,null,null,null,null,null,null,null,null,null,null,null,null,null,0,{"$f":"IF(B130=\"\",\"\",IF(SUM(M130:X130)=0,\"\",SUM(M130:X130)))","v":""}]
[null,null,null,null,null,null,null,null,null,null,null,null,null,null,null,null,null,null,null,null,null,null,null,null,0,{"$f":"IF(B130=\"\",\"\",SUM(M131:X131))","v":""}]
[null,null,null,null,null,null,null,null,null,null,null,null,null,null,null,null,null,null,null,null,null,null,null,null,0,{"$f":"IF(B132=\"\",\"\",IF(SUM(M132:X132)=0,\"\",SUM(M132:X132)))","v":""}]
[null,null,null,null,null,null,null,null,null,null,null,null,null,null,null,null,null,null,null,null,null,null,null,null,0,{"$f":"IF(B132=\"\",\"\",SUM(M133:X133))","v":""}]
[null,null,null,null,null,null,null,null,null,null,null,null,null,null,null,null,null,null,null,null,null,null,null,null,0,{"$f":"IF(B134=\"\",\"\",IF(SUM(M134:X134)=0,\"\",SUM(M134:X134)))","v":""}]
[null,null,null,null,null,null,null,null,null,null,null,null,null,null,null,null,null,null,null,null,null,null,null,null,0,{"$f":"IF(B134=\"\",\"\",SUM(M135:X135))","v":""}]
[null,null,null,null,null,null,null,null,null,null,null,null,null,null,null,null,null,null,null,null,null,null,null,null,0,{"$f":"IF(B136=\"\",\"\",IF(SUM(M136:X136)=0,\"\",SUM(M136:X136)))","v":""}]
[null,null,null,null,null,null,null,null,null,null,null,null,null,null,null,null,null,null,null,null,null,null,null,null,0,{"$f":"IF(B136=\"\",\"\",SUM(M137:X137))","v":""}]
[null,null,null,null,null,null,null,null,null,null,null,null,null,null,null,null,null,null,null,null,null,null,null,null,0,{"$f":"IF(B138=\"\",\"\",IF(SUM(M138:X138)=0,\"\",SUM(M138:X138)))","v":""}]
[null,null,null,null,null,null,null,null,null,null,null,null,null,null,null,null,null,null,null,null,null,null,null,null,0,{"$f":"IF(B138=\"\",\"\",SUM(M139:X139))","v":""}]
[null,null,null,null,null,null,null,null,null,null,null,null,null,null,null,null,null,null,null,null,null,null,null,null,0,{"$f":"IF(B140=\"\",\"\",IF(SUM(M140:X140)=0,\"\",SUM(M140:X140)))","v":""}]
[null,null,null,null,null,null,null,null,null,null,null,null,null,null,null,null,null,null,null,null,null,null,null,null,0,{"$f":"IF(B140=\"\",\"\",SUM(M141:X141))","v":""}]
[null,null,null,null,null,null,null,null,null,null,null,null,null,null,null,null,null,null,null,null,null,null,null,null,0,{"$f":"IF(B142=\"\",\"\",IF(SUM(M142:X142)=0,\"\",SUM(M142:X142)))","v":""}]
[null,null,null,null,null,null,null,null,null,null,null,null,null,null,null,null,null,null,null,null,null,null,null,null,0,{"$f":"IF(B142=\"\",\"\",SUM(M143:X143))","v":""}]
[null,null,null,null,null,null,null,null,null,null,null,null,null,null,null,null,null,null,null,null,null,null,null,null,0,{"$f":"IF(B144=\"\",\"\",IF(SUM(M144:X144)=0,\"\",SUM(M144:X144)))","v":""}]
[null,null,null,null,null,null,null,null,null,null,null,null,null,null,null,null,null,null,null,null,null,null,null,null,0,{"$f":"IF(B144=\"\",\"\",SUM(M145:X145))","v":""}]
[null,null,null,null,null,null,null,null,null,null,null,null,null,null,null,null,null,null,null,null,null,null,null,null,0,{"$f":"IF(B146=\"\",\"\",IF(SUM(M146:X146)=0,\"\",SUM(M146:X146)))","v":""}]
[null,null,null,null,null,null,null,null,null,null,null,null,null,null,null,null,null,null,null,null,null,null,null,null,0,{"$f":"IF(B146=\"\",\"\",SUM(M147:X147))","v":""}]
[null,null,null,null,null,null,null,null,null,null,null,null,null,null,null,null,null,null,null,null,null,null,null,null,0,{"$f":"IF(B148=\"\",\"\",IF(SUM(M148:X148)=0,\"\",SUM(M148:X148)))","v":""}]
[null,null,null,null,null,null,null,null,null,null,null,null,null,null,null,null,null,null,null,null,null,null,null,null,0,{"$f":"IF(B148=\"\",\"\",SUM(M149:X149))","v":""}]
[null,null,null,null,null,null,null,null,null,null,null,null,null,null,null,null,null,null,null,null,null,null,null,null,0,{"$f":"IF(B150=\"\",\"\",IF(SUM(M150:X150)=0,\"\",SUM(M150:X150)))","v":""}]
[null,null,null,null,null,null,null,null,null,null,null,null,null,null,null,null,null,null,null,null,null,null,null,null,0,{"$f":"IF(B150=\"\",\"\",SUM(M151:X151))","v":""}]
[null,null,null,null,null,null,null,null,null,null,null,null,null,null,null,null,null,null,null,null,null,null,null,null,0,{"$f":"IF(B152=\"\",\"\",IF(SUM(M152:X152)=0,\"\",SUM(M152:X152)))","v":""}]
[null,null,null,null,null,null,null,null,null,null,null,null,null,null,null,null,null,null,null,null,null,null,null,null,0,{"$f":"IF(B152=\"\",\"\",SUM(M153:X153))","v":""}]
[null,null,null,null,null,null,null,null,null,null,null,null,null,null,null,null,null,null,null,null,null,null,null,null,0,{"$f":"IF(B154=\"\",\"\",IF(SUM(M154:X154)=0,\"\",SUM(M154:X154)))","v":""}]
[null,null,null,null,null,null,null,null,null,null,null,null,null,null,null,null,null,null,null,null,null,null,null,null,0,{"$f":"IF(B154=\"\",\"\",SUM(M155:X155))","v":""}]
[null,null,null,null,null,null,null,null,null,null,null,null,null,null,null,null,null,null,null,null,null,null,null,null,0,{"$f":"IF(B156=\"\",\"\",IF(SUM(M156:X156)=0,\"\",SUM(M156:X156)))","v":""}]
[null,null,null,null,null,null,null,null,null,null,null,null,null,null,null,null,null,null,null,null,null,null,null,null,0,{"$f":"IF(B156=\"\",\"\",SUM(M157:X157))","v":""}]
[null,null,null,null,null,null,null,null,null,null,null,null,null,null,null,null,null,null,null,null,null,null,null,null,0,{"$f":"IF(B158=\"\",\"\",IF(SUM(M158:X158)=0,\"\",SUM(M158:X158)))","v":""}]
[null,null,null,null,null,null,null,null,null,null,null,null,null,null,null,null,null,null,null,null,null,null,null,null,0,{"$f":"IF(B158=\"\",\"\",SUM(M159:X159))","v":""}]
[null,null,null,null,null,null,null,null,null,null,null,null,{"$f":"IF($B$120=\"\",\"\",IF(M120+M122+M124+M126+M128+M130+M132+M134+M136+M138+M140+M142+M144+M146+M148+M150+M152+M154+M156+M158=0,\"\",M120+M122+M124+M126+M128+M130+M132+M134+M136+M138+M140+M142+M144+M146+M148+M150+M152+M154+M156+M158))","v":""},{"$f":"IF($B$120=\"\",\"\",IF(N120+N122+N124+N126+N128+N130+N132+N134+N136+N138+N140+N142+N144+N146+N148+N150+N152+N154+N156+N158=0,\"\",N120+N122+N124+N126+N128+N130+N132+N134+N136+N138+N140+N142+N144+N146+N148+N150+N152+N154+N156+N158))","v":""},"","","","","","","","","","",{"$f":"IF($B$8=\"\",\"\",#REF!)","v":""},{"$f":"IF($B$120=\"\",\"\",IF(SUM(M160:X160)=0,\"\",SUM(M160:X160)))","v":""}]
[null,null,null,null,null,null,null,null,null,null,null,null,{"$f":"IF($B$120=\"\",\"\",M121+M123+M125+M127+M129+M131+M133+M135+M137+M139+M141+M143+M145+M147+M149+M151+M153+M155+M157+M159)","v":""},{"$f":"IF($B$120=\"\",\"\",N121+N123+N125+N127+N129+N131+N133+N135+N137+N139+N141+N143+N145+N147+N149+N151+N153+N155+N157+N159)","v":""},"","","","","","","","","","",{"$f":"IF($B$8=\"\",\"\",#REF!)","v":""},{"$f":"IF($B$120=\"\",\"\",SUM(M161:X161))","v":""}]
[]
[null,null,"１　この表は、雇用保険被保険者であるすべての労働者（職員を含む）について、賃金台帳に基づいて作成してください。"]
[null,null,"２　賃金額は、超過勤務手当、通勤手当等を含む賃金総額（源泉所得税、社会保険料、雇用保険料等を控除する前の金額）を記載してください。"]
[null,null,"３　各月の賃金額は、原則として支払内容月で作成してください。"]
[null,null,"４　雇用保険に係る取得・離職年月日は届出書類と照合の上、正確に記載してください。"]
[null,null,"５　賞与、燃料手当、臨時手当などの手当を支給した場合は、該当月欄の上段に賞与等の額を、下段に賃金額を記入してください。（二段書きしてください。）　　　",null,null,null,null,null,null,null,null,null,null,null,null,null,null,null,null,null,null,null,"　　記載例　　","３５０，０００　←　賞与等"]
[null,null,null,null,null,null,null,"　　　　　　　　　　　　　　　　　　　　　　　　　　　　　　　　　　　　　　　　　　　　　　　　　　　　　　　　　　　　　　　　　　　　　　　　　　　　　　　　　　　　　　　　　　　　　　　　　　　　　　　　　　　",null,null,null,null,null,null,null,null,null,null,null,null,null,null,null,"２００，０００　←　賃　金"]

{"sheet":"臨時・アルバイト・家族従業員等（６号３）","index":2,"n_rows":165,"n_cols":21,"rows_kept":165,"cut":false,"hidden":false,"merged":[[111,6,111,14],[112,6,112,14],[1,6,1,14],[2,6,2,14],[56,6,56,14],[57,6,57,14],[4,10,6,10],[4,11,6,11],[4,12,6,12],[4,13,6,13],[4,6,6,6],[4,7,6,7],[4,8,6,8],[4,9,6,9],[9,6,10,6],[9,7,10,7],[11,6,12,6],[11,7,12,7],[19,6,20,6],[19,7,20,7],[21,7,22,7],[23,7,24,7],[25,6,26,6],[25,7,26,7],[155,6,156,6],[155,7,156,7],[157,1,158,7],[163,2,163,17],[155,1,156,2],[155,3,156,3],[155,4,156,4],[155,5,156,5],[151,1,152,2],[151,3,152,3],[153,1,154,2],[153,3,154,3],[153,4,154,4],[153,5,154,5],[151,4,152,4],[151,5,152,5],[147,6,148,6],[147,7,148,7],[149,6,150,6],[149,7,150,7],[153,6,154,6],[153,7,154,7],[147,1,148,2],[147,3,148,3],[147,4,148,4],[147,5,148,5],[151,6,152,6],[151,7,152,7],[149,1,150,2],[149,3,150,3],[149,4,150,4],[149,5,150,5],[139,7,140,7],[141,6,142,6],[141,7,142,7],[145,6,146,6],[145,7,146,7],[139,1,140,2],[139,3,140,3],[139,4,140,4],[139,5,140,5],[143,6,144,6],[143,7,144,7],[141,1,142,2],[141,3,142,3],[141,4,142,4],[141,5,142,5],[143,1,144,2],[143,3,144,3],[145,1,146,2],[145,3,146,3],[145,4,146,4],[145,5,146,5],[143,4,144,4],[143,5,144,5],[139,6,140,6],[131,7,132,7],[133,6,134,6],[133,7,134,7],[137,6,138,6],[137,7,138,7],[131,1,132,2],[131,3,132,3],[131,4,132,4],[131,5,132,5],[135,6,136,6],[135,7,136,7],[133,1,134,2],[133,3,134,3],[133,4,134,4],[133,5,134,5],[135,1,136,2],[135,3,136,3],[137,1,138,2],[137,3,138,3],[137,4,138,4],[137,5,138,5],[135,4,136,4],[135,5,136,5],[131,6,132,6],[123,7,124,7],[125,6,126,6],[125,7,126,7],[129,6,130,6],[129,7,130,7],[123,1,124,2],[123,3,124,3],[123,4,124,4],[123,5,124,5],[127,6,128,6],[127,7,128,7],[125,1,126,2],[125,3,126,3],[125,4,126,4],[125,5,126,5],[127,1,128,2],[127,3,128,3],[129,1,130,2],[129,3,130,3],[129,4,130,4],[129,5,130,5],[127,4,128,4],[127,5,128,5],[123,6,124,6],[119,6,120,6],[119,7,120,7],[121,1,122,2],[121,3,122,3],[121,4,122,4],[121,5,122,5],[121,6,122,6],[121,7,122,7],[119,1,120,2],[119,3,120,3],[119,4,120,4],[119,5,120,5],[114,15,116,15],[114,16,116,16],[114,17,116,17],[114,18,116,18],[114,11,116,11],[114,12,116,12],[114,13,116,13],[114,14,116,14],[114,10,116,10],[4,20,6,20],[7,6,8,6],[7,7,8,7],[4,15,6,15],[4,16,6,16],[4,17,6,17],[4,18,6,18],[4,14,6,14],[117,1,118,2],[117,3,118,3],[117,4,118,4],[117,5,118,5],[114,6,116,6],[114,7,116,7],[114,8,116,8],[114,9,116,9],[114,1,116,2],[114,3,116,3],[114,4,116,4],[114,5,116,5],[114,19,116,19],[114,20,116,20],[117,6,118,6],[117,7,118,7],[4,19,6,19],[17,7,18,7],[13,6,14,6],[13,7,14,7],[15,6,16,6],[15,7,16,7],[7,1,8,2],[7,3,8,3],[7,4,8,4],[7,5,8,5],[4,1,6,2],[4,3,6,3],[4,4,6,4],[4,5,6,5],[9,1,10,2],[9,3,10,3],[13,1,14,2],[13,3,14,3],[11,1,12,2],[15,1,16,2],[15,3,16,3],[15,4,16,4],[15,5,16,5],[13,4,14,4],[13,5,14,5],[11,3,12,3],[11,4,12,4],[11,5,12,5],[9,4,10,4],[9,5,10,5],[17,1,18,2],[17,3,18,3],[19,1,20,2],[19,3,20,3],[19,4,20,4],[19,5,20,5],[17,4,18,4],[17,5,18,5],[17,6,18,6],[23,1,24,2],[23,3,24,3],[23,4,24,4],[23,5,24,5],[21,1,22,2],[21,3,22,3],[21,4,22,4],[21,5,22,5],[21,6,22,6],[23,6,24,6],[27,6,28,6],[27,7,28,7],[25,1,26,2],[25,3,26,3],[27,1,28,2],[27,3,28,3],[27,4,28,4],[27,5,28,5],[25,4,26,4],[25,5,26,5],[29,7,30,7],[31,6,32,6],[31,7,32,7],[33,6,34,6],[33,7,34,7],[35,6,36,6],[35,7,36,7],[33,1,34,2],[33,3,34,3],[35,1,36,2],[35,3,36,3],[35,4,36,4],[35,5,36,5],[33,4,34,4],[33,5,34,5],[31,1,32,2],[31,3,32,3],[31,4,32,4],[31,5,32,5],[29,1,30,2],[29,3,30,3],[29,4,30,4],[29,5,30,5],[29,6,30,6],[37,7,38,7],[39,6,40,6],[39,7,40,7],[41,6,42,6],[41,7,42,7],[43,6,44,6],[43,7,44,7],[41,1,42,2],[41,3,42,3],[43,1,44,2],[43,3,44,3],[43,4,44,4],[43,5,44,5],[41,4,42,4],[41,5,42,5],[39,1,40,2],[39,3,40,3],[39,4,40,4],[39,5,40,5],[37,1,38,2],[37,3,38,3],[37,4,38,4],[37,5,38,5],[37,6,38,6],[45,6,46,6],[45,7,46,7],[53,2,53,17],[47,1,48,7],[45,1,46,2],[45,3,46,3],[45,4,46,4],[45,5,46,5],[59,13,61,13],[59,14,61,14],[59,7,61,7],[59,8,61,8],[59,9,61,9],[59,1,61,2],[59,3,61,3],[59,4,61,4],[59,5,61,5],[59,10,61,10],[62,1,63,2],[62,3,63,3],[62,4,63,4],[62,5,63,5],[59,11,61,11],[59,12,61,12],[59,6,61,6],[64,4,65,4],[64,5,65,5],[59,19,61,19],[59,20,61,20],[62,6,63,6],[62,7,63,7],[59,15,61,15],[59,16,61,16],[59,17,61,17],[59,18,61,18],[64,6,65,6],[64,7,65,7],[66,1,67,2],[66,3,67,3],[66,4,67,4],[66,5,67,5],[66,6,67,6],[66,7,67,7],[64,1,65,2],[64,3,65,3],[70,1,71,2],[70,3,71,3],[70,4,71,4],[70,5,71,5],[68,1,69,2],[68,3,69,3],[68,4,69,4],[68,5,69,5],[68,6,69,6],[68,7,69,7],[70,6,71,6],[70,7,71,7],[72,6,73,6],[72,7,73,7],[74,6,75,6],[74,7,75,7],[72,1,73,2],[72,3,73,3],[74,1,75,2],[74,3,75,3],[74,4,75,4],[74,5,75,5],[72,4,73,4],[72,5,73,5],[76,7,77,7],[78,6,79,6],[78,7,79,7],[80,6,81,6],[80,7,81,7],[82,6,83,6],[82,7,83,7],[80,1,81,2],[80,3,81,3],[82,1,83,2],[82,3,83,3],[82,4,83,4],[82,5,83,5],[80,4,81,4],[80,5,81,5],[78,1,79,2],[78,3,79,3],[78,4,79,4],[78,5,79,5],[76,1,77,2],[76,3,77,3],[76,4,77,4],[76,5,77,5],[76,6,77,6],[86,1,87,2],[86,3,87,3],[86,4,87,4],[86,5,87,5],[84,1,85,2],[84,3,85,3],[84,4,85,4],[84,5,85,5],[90,5,91,5],[88,4,89,4],[88,5,89,5],[88,1,89,2],[90,1,91,2],[84,6,85,6],[84,7,85,7],[86,6,87,6],[86,7,87,7],[88,6,89,6],[88,7,89,7],[92,3,93,3],[92,4,93,4],[92,5,93,5],[90,6,91,6],[90,7,91,7],[88,3,89,3],[90,3,91,3],[90,4,91,4],[92,7,93,7],[94,6,95,6],[94,7,95,7],[96,6,97,6],[96,7,97,7],[94,1,95,2],[94,3,95,3],[94,4,95,4],[94,5,95,5],[92,1,93,2],[92,6,93,6],[102,1,103,7],[108,2,108,17],[100,1,101,2],[100,3,101,3],[100,4,101,4],[96,1,97,2],[100,6,101,6],[100,7,101,7],[100,5,101,5],[98,6,99,6],[98,7,99,7],[98,5,99,5],[96,3,97,3],[98,1,99,2],[98,3,99,3],[98,4,99,4],[96,4,97,4],[96,5,97,5]]}
[]
[null,"監　様式６号の３　（別表３）",null,null,null,null,"３．　　賃　　金　　支　　払　　集　　計　　表"]
[null,null,null,null,null,"　　　　　　　　（ 臨 時 ・ ア ル バ イ ト ・ 家 族 従 業 員 等 ）","　　　　　　　（ 臨 時 ・ ア ル バ イ ト ・ 家 族 従 業 員 等 ）"]
[]
[null,"氏　　　　名",null,"雇用形態","職　　種","生年月日","雇　 入\n年月日","離　 職\n年月日","令和３年４月","令和３年５月","令和３年６月","令和３年７月","令和３年８月","令和３年９月","令和３年１０月","令和３年１１月","令和３年１２月","令和４年１月","令和４年２月","令和４年３月","３年度計"]
[]
[]
[null,null,null,null,null,null,null,null,null,null,null,null,null,null,null,null,null,null,null,null,{"$f":"IF(B8=\"\",\"\",IF(SUM(I8:T8)=0,\"\",SUM(I8:T8)))","v":""}]
[null,null,null,null,null,null,null,null,null,null,null,null,null,null,null,null,null,null,null,null,{"$f":"IF(B8=\"\",\"\",SUM(I9:T9))","v":""}]
[null,null,null,null,null,null,null,null,null,null,null,null,null,null,null,null,null,null,null,null,{"$f":"IF(B10=\"\",\"\",IF(SUM(I10:T10)=0,\"\",SUM(I10:T10)))","v":""}]
[null,null,null,null,null,null,null,null,null,null,null,null,null,null,null,null,null,null,null,null,{"$f":"IF(B10=\"\",\"\",SUM(I11:T11))","v":""}]
[null,null,null,null,null,null,null,null,null,null,null,null,null,null,null,null,null,null,null,null,{"$f":"IF(B12=\"\",\"\",IF(SUM(I12:T12)=0,\"\",SUM(I12:T12)))","v":""}]
[null,null,null,null,null,null,null,null,null,null,null,null,null,null,null,null,null,null,null,null,{"$f":"IF(B12=\"\",\"\",SUM(I13:T13))","v":""}]
[null,null,null,null,null,null,null,null,null,null,null,null,null,null,null,null,null,null,null,null,{"$f":"IF(B14=\"\",\"\",IF(SUM(I14:T14)=0,\"\",SUM(I14:T14)))","v":""}]
[null,null,null,null,null,null,null,null,null,null,null,null,null,null,null,null,null,null,null,null,{"$f":"IF(B14=\"\",\"\",SUM(I15:T15))","v":""}]
[null,null,null,null,null,null,null,null,null,null,null,null,null,null,null,null,null,null,null,null,{"$f":"IF(B16=\"\",\"\",IF(SUM(I16:T16)=0,\"\",SUM(I16:T16)))","v":""}]
[null,null,null,null,null,null,null,null,null,null,null,null,null,null,null,null,null,null,null,null,{"$f":"IF(B16=\"\",\"\",SUM(I17:T17))","v":""}]
[null,null,null,null,null,null,null,null,null,null,null,null,null,null,null,null,null,null,null,null,{"$f":"IF(B18=\"\",\"\",IF(SUM(I18:T18)=0,\"\",SUM(I18:T18)))","v":""}]
[null,null,null,null,null,null,null,null,null,null,null,null,null,null,null,null,null,null,null,null,{"$f":"IF(B18=\"\",\"\",SUM(I19:T19))","v":""}]
[null,null,null,null,null,null,null,null,null,null,null,null,null,null,null,null,null,null,null,null,{"$f":"IF(B20=\"\",\"\",IF(SUM(I20:T20)=0,\"\",SUM(I20:T20)))","v":""}]
[null,null,null,null,null,null,null,null,null,null,null,null,null,null,null,null,null,null,null,null,{"$f":"IF(B20=\"\",\"\",SUM(I21:T21))","v":""}]
[null,null,null,null,null,null,null,null,null,null,null,null,null,null,null,null,null,null,null,null,{"$f":"IF(B22=\"\",\"\",IF(SUM(I22:T22)=0,\"\",SUM(I22:T22)))","v":""}]
[null,null,null,null,null,null,null,null,null,null,null,null,null,null,null,null,null,null,null,null,{"$f":"IF(B22=\"\",\"\",SUM(I23:T23))","v":""}]
[null,null,null,null,null,null,null,null,null,null,null,null,null,null,null,null,null,null,null,null,{"$f":"IF(B24=\"\",\"\",IF(SUM(I24:T24)=0,\"\",SUM(I24:T24)))","v":""}]
[null,null,null,null,null,null,null,null,null,null,null,null,null,null,null,null,null,null,null,null,{"$f":"IF(B24=\"\",\"\",SUM(I25:T25))","v":""}]
[null,null,null,null,null,null,null,null,null,null,null,null,null,null,null,null,null,null,null,null,{"$f":"IF(B26=\"\",\"\",IF(SUM(I26:T26)=0,\"\",SUM(I26:T26)))","v":""}]
[null,null,null,null,null,null,null,null,null,null,null,null,null,null,null,null,null,null,null,null,{"$f":"IF(B26=\"\",\"\",SUM(I27:T27))","v":""}]
[null,null,null,null,null,null,null,null,null,null,null,null,null,null,null,null,null,null,null,null,{"$f":"IF(B28=\"\",\"\",IF(SUM(I28:T28)=0,\"\",SUM(I28:T28)))","v":""}]
[null,null,null,null,null,null,null,null,null,null,null,null,null,null,null,null,null,null,null,null,{"$f":"IF(B28=\"\",\"\",SUM(I29:T29))","v":""}]
[null,null,null,null,null,null,null,null,null,null,null,null,null,null,null,null,null,null,null,null,{"$f":"IF(B30=\"\",\"\",IF(SUM(I30:T30)=0,\"\",SUM(I30:T30)))","v":""}]
[null,null,null,null,null,null,null,null,null,null,null,null,null,null,null,null,null,null,null,null,{"$f":"IF(B30=\"\",\"\",SUM(I31:T31))","v":""}]
[null,null,null,null,null,null,null,null,null,null,null,null,null,null,null,null,null,null,null,null,{"$f":"IF(B32=\"\",\"\",IF(SUM(I32:T32)=0,\"\",SUM(I32:T32)))","v":""}]
[null,null,null,null,null,null,null,null,null,null,null,null,null,null,null,null,null,null,null,null,{"$f":"IF(B32=\"\",\"\",SUM(I33:T33))","v":""}]
[null,null,null,null,null,null,null,null,null,null,null,null,null,null,null,null,null,null,null,null,{"$f":"IF(B34=\"\",\"\",IF(SUM(I34:T34)=0,\"\",SUM(I34:T34)))","v":""}]
[null,null,null,null,null,null,null,null,null,null,null,null,null,null,null,null,null,null,null,null,{"$f":"IF(B34=\"\",\"\",SUM(I35:T35))","v":""}]
[null,null,null,null,null,null,null,null,null,null,null,null,null,null,null,null,null,null,null,null,{"$f":"IF(B36=\"\",\"\",IF(SUM(I36:T36)=0,\"\",SUM(I36:T36)))","v":""}]
[null,null,null,null,null,null,null,null,null,null,null,null,null,null,null,null,null,null,null,null,{"$f":"IF(B36=\"\",\"\",SUM(I37:T37))","v":""}]
[null,null,null,null,null,null,null,null,null,null,null,null,null,null,null,null,null,null,null,null,{"$f":"IF(B38=\"\",\"\",IF(SUM(I38:T38)=0,\"\",SUM(I38:T38)))","v":""}]
[null,null,null,null,null,null,null,null,null,null,null,null,null,null,null,null,null,null,null,null,{"$f":"IF(B38=\"\",\"\",SUM(I39:T39))","v":""}]
[null,null,null,null,null,null,null,null,null,null,null,null,null,null,null,null,null,null,null,null,{"$f":"IF(B40=\"\",\"\",IF(SUM(I40:T40)=0,\"\",SUM(I40:T40)))","v":""}]
[null,null,null,null,null,null,null,null,null,null,null,null,null,null,null,null,null,null,null,null,{"$f":"IF(B40=\"\",\"\",SUM(I41:T41))","v":""}]
[null,null,null,null,null,null,null,null,null,null,null,null,null,null,null,null,null,null,null,null,{"$f":"IF(B42=\"\",\"\",IF(SUM(I42:T42)=0,\"\",SUM(I42:T42)))","v":""}]
[null,null,null,null,null,null,null,null,null,null,null,null,null,null,null,null,null,null,null,null,{"$f":"IF(B42=\"\",\"\",SUM(I43:T43))","v":""}]
[null,null,null,null,null,null,null,null,null,null,null,null,null,null,null,null,null,null,null,null,{"$f":"IF(B44=\"\",\"\",IF(SUM(I44:T44)=0,\"\",SUM(I44:T44)))","v":""}]
[null,null,null,null,null,null,null,null,null,null,null,null,null,null,null,null,null,null,null,null,{"$f":"IF(B44=\"\",\"\",SUM(I45:T45))","v":""}]
[null,null,null,null,null,null,null,null,null,null,null,null,null,null,null,null,null,null,null,null,{"$f":"IF(B46=\"\",\"\",IF(SUM(I46:T46)=0,\"\",SUM(I46:T46)))","v":""}]
[null,null,null,null,null,null,null,null,null,null,null,null,null,null,null,null,null,null,null,null,{"$f":"IF(B46=\"\",\"\",SUM(I47:T47))","v":""}]
[null,"合　　　　　　　　　　計",null,null,null,null,null,null,{"$f":"IF($B$8=\"\",\"\",IF(I8+I10+I12+I14+I16+I18+I20+I22+I24+I26+I28+I30+I32+I34+I36+I38+I40+I42+I44+I46=0,\"\",I8+I10+I12+I14+I16+I18+I20+I22+I24+I26+I28+I30+I32+I34+I36+I38+I40+I42+I44+I46))","v":""},{"$f":"IF($B$8=\"\",\"\",IF(J8+J10+J12+J14+J16+J18+J20+J22+J24+J26+J28+J30+J32+J34+J36+J38+J40+J42+J44+J46=0,\"\",J8+J10+J12+J14+J16+J18+J20+J22+J24+J26+J28+J30+J32+J34+J36+J38+J40+J42+J44+J46))","v":""},{"$f":"IF($B$8=\"\",\"\",IF(K8+K10+K12+K14+K16+K18+K20+K22+K24+K26+K28+K30+K32+K34+K36+K38+K40+K42+K44+K46=0,\"\",K8+K10+K12+K14+K16+K18+K20+K22+K24+K26+K28+K30+K32+K34+K36+K38+K40+K42+K44+K46))","v":""},"","","","","","","","","",{"$f":"IF(B8=\"\",\"\",IF(SUM(I48:T48)=0,\"\",SUM(I48:T48)))","v":""}]
[null,null,null,null,null,null,null,null,{"$f":"IF($B$8=\"\",\"\",IF(I9+I11+I13+I15+I17+I19+I21+I23+I25+I27+I29+I31+I33+I35+I37+I39+I41+I43+I45+I47=0,0,I9+I11+I13+I15+I17+I19+I21+I23+I25+I27+I29+I31+I33+I35+I37+I39+I41+I43+I45+I47))","v":""},{"$f":"IF($B$8=\"\",\"\",IF(J9+J11+J13+J15+J17+J19+J21+J23+J25+J27+J29+J31+J33+J35+J37+J39+J41+J43+J45+J47=0,0,J9+J11+J13+J15+J17+J19+J21+J23+J25+J27+J29+J31+J33+J35+J37+J39+J41+J43+J45+J47))","v":""},{"$f":"IF($B$8=\"\",\"\",IF(K9+K11+K13+K15+K17+K19+K21+K23+K25+K27+K29+K31+K33+K35+K37+K39+K41+K43+K45+K47=0,0,K9+K11+K13+K15+K17+K19+K21+K23+K25+K27+K29+K31+K33+K35+K37+K39+K41+K43+K45+K47))","v":""},"","","","","","","","","",{"$f":"IF(B8=\"\",\"\",IF(SUM(I49:T49)=0,0,SUM(I49:T49)))","v":""}]
[]
[null,"【 注意 】","１　この表は、雇用保険適用者以外の労働者すべてについて、賃金台帳に基づいて作成してください。"]
[null,"臨時","２　賃金額は、超過勤務手当、通勤手当等を含む賃金総額（源泉所得税等を控除する前の金額）を記載してください。"]
[null,"アルバイト","３　各月の賃金額は、原則として支払内容月で作成してください。"]
[null,"家族従業員","４　賞与、燃料手当、臨時手当などの手当を支給した場合は、該当月欄の上段に賞与等の額を、下段に賃金額を記入してください。（二段書きしてください。）　　　",null,null,null,null,null,null,null,null,null,null,null,null,null,null,null,"　　記載例　　","３５０，０００　←　賞与等"]
[null,"その他",null,null,null,null,null,null,null,null,null,null,null,null,null,null,null,null,null,"２００，０００　←　賃　金"]
[]
[null,"監　様式６号の３　（別表３）",null,null,null,null,"３．　　賃　　金　　支　　払　　集　　計　　表"]
[null,null,null,null,null,"　　　　　　　　（ 臨 時 ・ ア ル バ イ ト ・ 家 族 従 業 員 等 ）","　　　　　　　（ 臨 時 ・ ア ル バ イ ト ・ 家 族 従 業 員 等 ）"]
[]
[null,"氏　　　　名",null,"雇用形態","職　　種","生年月日","雇　 入\n年月日","離　 職\n年月日","令和３年４月","令和３年５月","令和３年６月","令和３年７月","令和３年８月","令和３年９月","令和３年１０月","令和３年１１月","令和３年１２月","令和４年１月","令和４年２月","令和４年３月","３年度計"]
[]
[]
[null,null,null,null,null,null,null,null,null,null,null,null,null,null,null,null,null,null,null,null,{"$f":"IF(B63=\"\",\"\",IF(SUM(I63:T63)=0,\"\",SUM(I63:T63)))","v":""}]
[null,null,null,null,null,null,null,null,null,null,null,null,null,null,null,null,null,null,null,null,{"$f":"IF(B63=\"\",\"\",SUM(I64:T64))","v":""}]
[null,null,null,null,null,null,null,null,null,null,null,null,null,null,null,null,null,null,null,null,{"$f":"IF(B65=\"\",\"\",IF(SUM(I65:T65)=0,\"\",SUM(I65:T65)))","v":""}]
[null,null,null,null,null,null,null,null,null,null,null,null,null,null,null,null,null,null,null,null,{"$f":"IF(B65=\"\",\"\",SUM(I66:T66))","v":""}]
[null,null,null,null,null,null,null,null,null,null,null,null,null,null,null,null,null,null,null,null,{"$f":"IF(B67=\"\",\"\",IF(SUM(I67:T67)=0,\"\",SUM(I67:T67)))","v":""}]
[null,null,null,null,null,null,null,null,null,null,null,null,null,null,null,null,null,null,null,null,{"$f":"IF(B67=\"\",\"\",SUM(I68:T68))","v":""}]
[null,null,null,null,null,null,null,null,null,null,null,null,null,null,null,null,null,null,null,null,{"$f":"IF(B69=\"\",\"\",IF(SUM(I69:T69)=0,\"\",SUM(I69:T69)))","v":""}]
[null,null,null,null,null,null,null,null,null,null,null,null,null,null,null,null,null,null,null,null,{"$f":"IF(B69=\"\",\"\",SUM(I70:T70))","v":""}]
[null,null,null,null,null,null,null,null,null,null,null,null,null,null,null,null,null,null,null,null,{"$f":"IF(B71=\"\",\"\",IF(SUM(I71:T71)=0,\"\",SUM(I71:T71)))","v":""}]
[null,null,null,null,null,null,null,null,null,null,null,null,null,null,null,null,null,null,null,null,{"$f":"IF(B71=\"\",\"\",SUM(I72:T72))","v":""}]
[null,null,null,null,null,null,null,null,null,null,null,null,null,null,null,null,null,null,null,null,{"$f":"IF(B73=\"\",\"\",IF(SUM(I73:T73)=0,\"\",SUM(I73:T73)))","v":""}]
[null,null,null,null,null,null,null,null,null,null,null,null,null,null,null,null,null,null,null,null,{"$f":"IF(B73=\"\",\"\",SUM(I74:T74))","v":""}]
[null,null,null,null,null,null,null,null,null,null,null,null,null,null,null,null,null,null,null,null,{"$f":"IF(B75=\"\",\"\",IF(SUM(I75:T75)=0,\"\",SUM(I75:T75)))","v":""}]
[null,null,null,null,null,null,null,null,null,null,null,null,null,null,null,null,null,null,null,null,{"$f":"IF(B75=\"\",\"\",SUM(I76:T76))","v":""}]
[null,null,null,null,null,null,null,null,null,null,null,null,null,null,null,null,null,null,null,null,{"$f":"IF(B77=\"\",\"\",IF(SUM(I77:T77)=0,\"\",SUM(I77:T77)))","v":""}]
[null,null,null,null,null,null,null,null,null,null,null,null,null,null,null,null,null,null,null,null,{"$f":"IF(B77=\"\",\"\",SUM(I78:T78))","v":""}]
[null,null,null,null,null,null,null,null,null,null,null,null,null,null,null,null,null,null,null,null,{"$f":"IF(B79=\"\",\"\",IF(SUM(I79:T79)=0,\"\",SUM(I79:T79)))","v":""}]
[null,null,null,null,null,null,null,null,null,null,null,null,null,null,null,null,null,null,null,null,{"$f":"IF(B79=\"\",\"\",SUM(I80:T80))","v":""}]
[null,null,null,null,null,null,null,null,null,null,null,null,null,null,null,null,null,null,null,null,{"$f":"IF(B81=\"\",\"\",IF(SUM(I81:T81)=0,\"\",SUM(I81:T81)))","v":""}]
[null,null,null,null,null,null,null,null,null,null,null,null,null,null,null,null,null,null,null,null,{"$f":"IF(B81=\"\",\"\",SUM(I82:T82))","v":""}]
[null,null,null,null,null,null,null,null,null,null,null,null,null,null,null,null,null,null,null,null,{"$f":"IF(B83=\"\",\"\",IF(SUM(I83:T83)=0,\"\",SUM(I83:T83)))","v":""}]
[null,null,null,null,null,null,null,null,null,null,null,null,null,null,null,null,null,null,null,null,{"$f":"IF(B83=\"\",\"\",SUM(I84:T84))","v":""}]
[null,null,null,null,null,null,null,null,null,null,null,null,null,null,null,null,null,null,null,null,{"$f":"IF(B85=\"\",\"\",IF(SUM(I85:T85)=0,\"\",SUM(I85:T85)))","v":""}]
[null,null,null,null,null,null,null,null,null,null,null,null,null,null,null,null,null,null,null,null,{"$f":"IF(B85=\"\",\"\",SUM(I86:T86))","v":""}]
[null,null,null,null,null,null,null,null,null,null,null,null,null,null,null,null,null,null,null,null,{"$f":"IF(B87=\"\",\"\",IF(SUM(I87:T87)=0,\"\",SUM(I87:T87)))","v":""}]
[null,null,null,null,null,null,null,null,null,null,null,null,null,null,null,null,null,null,null,null,{"$f":"IF(B87=\"\",\"\",SUM(I88:T88))","v":""}]
[null,null,null,null,null,null,null,null,null,null,null,null,null,null,null,null,null,null,null,null,{"$f":"IF(B89=\"\",\"\",IF(SUM(I89:T89)=0,\"\",SUM(I89:T89)))","v":""}]
[null,null,null,null,null,null,null,null,null,null,null,null,null,null,null,null,null,null,null,null,{"$f":"IF(B89=\"\",\"\",SUM(I90:T90))","v":""}]
[null,null,null,null,null,null,null,null,null,null,null,null,null,null,null,null,null,null,null,null,{"$f":"IF(B91=\"\",\"\",IF(SUM(I91:T91)=0,\"\",SUM(I91:T91)))","v":""}]
[null,null,null,null,null,null,null,null,null,null,null,null,null,null,null,null,null,null,null,null,{"$f":"IF(B91=\"\",\"\",SUM(I92:T92))","v":""}]
[null,null,null,null,null,null,null,null,null,null,null,null,null,null,null,null,null,null,null,null,{"$f":"IF(B93=\"\",\"\",IF(SUM(I93:T93)=0,\"\",SUM(I93:T93)))","v":""}]
[null,null,null,null,null,null,null,null,null,null,null,null,null,null,null,null,null,null,null,null,{"$f":"IF(B93=\"\",\"\",SUM(I94:T94))","v":""}]
[2,null,null,null,null,null,null,null,null,null,null,null,null,null,null,null,null,null,null,null,{"$f":"IF(B95=\"\",\"\",IF(SUM(I95:T95)=0,\"\",SUM(I95:T95)))","v":""}]
[null,null,null,null,null,null,null,null,null,null,null,null,null,null,null,null,null,null,null,null,{"$f":"IF(B95=\"\",\"\",SUM(I96:T96))","v":""}]
["合　　　　　　　　　　計",null,null,null,null,null,null,null,null,null,null,null,null,null,null,null,null,null,null,null,{"$f":"IF(B97=\"\",\"\",IF(SUM(I97:T97)=0,\"\",SUM(I97:T97)))","v":""}]
[null,null,null,null,null,null,null,null,null,null,null,null,null,null,null,null,null,null,null,null,{"$f":"IF(B97=\"\",\"\",SUM(I98:T98))","v":""}]
[null,null,null,null,null,null,null,null,null,null,null,null,null,null,null,null,null,null,null,null,{"$f":"IF(B99=\"\",\"\",IF(SUM(I99:T99)=0,\"\",SUM(I99:T99)))","v":""}]
[null,null,null,null,null,null,null,null,null,null,null,null,null,null,null,null,null,null,null,null,{"$f":"IF(B99=\"\",\"\",SUM(I100:T100))","v":""}]
[null,null,null,null,null,null,null,null,null,null,null,null,null,null,null,null,null,null,null,null,{"$f":"IF(B101=\"\",\"\",IF(SUM(I101:T101)=0,\"\",SUM(I101:T101)))","v":""}]
[null,null,null,null,null,null,null,null,null,null,null,null,null,null,null,null,null,null,null,null,{"$f":"IF(B101=\"\",\"\",SUM(I102:T102))","v":""}]
[null,"合　　　　　　　　　　計",null,null,null,null,null,null,{"$f":"IF($B$63=\"\",\"\",IF(I63+I65+I67+I69+I71+I73+I75+I77+I79+I81+I83+I85+I87+I89+I91+I93+I95+I97+I99+I101=0,\"\",I63+I65+I67+I69+I71+I73+I75+I77+I79+I81+I83+I85+I87+I89+I91+I93+I95+I97+I99+I101))","v":""},{"$f":"IF($B$63=\"\",\"\",IF(J63+J65+J67+J69+J71+J73+J75+J77+J79+J81+J83+J85+J87+J89+J91+J93+J95+J97+J99+J101=0,\"\",J63+J65+J67+J69+J71+J73+J75+J77+J79+J81+J83+J85+J87+J89+J91+J93+J95+J97+J99+J101))","v":""},"","","","","","","","","","",{"$f":"IF(B63=\"\",\"\",IF(SUM(I103:T103)=0,\"\",SUM(I103:T103)))","v":""}]
[null,null,null,null,null,null,null,null,{"$f":"IF($B$63=\"\",\"\",IF(I64+I66+I68+I70+I72+I74+I76+I78+I80+I82+I84+I86+I88+I90+I92+I94+I96+I98+I100+I102=0,0,I64+I66+I68+I70+I72+I74+I76+I78+I80+I82+I84+I86+I88+I90+I92+I94+I96+I98+I100+I102))","v":""},{"$f":"IF($B$63=\"\",\"\",IF(J64+J66+J68+J70+J72+J74+J76+J78+J80+J82+J84+J86+J88+J90+J92+J94+J96+J98+J100+J102=0,0,J64+J66+J68+J70+J72+J74+J76+J78+J80+J82+J84+J86+J88+J90+J92+J94+J96+J98+J100+J102))","v":""},"","","","","","","","","","",{"$f":"IF(B63=\"\",\"\",IF(SUM(I104:T104)=0,0,SUM(I104:T104)))","v":""}]
[]
[null,"【 注意 】","１　この表は、雇用保険適用者以外の労働者すべてについて、賃金台帳に基づいて作成してください。"]
[null,null,"２　賃金額は、超過勤務手当、通勤手当等を含む賃金総額（源泉所得税等を控除する前の金額）を記載してください。"]
[null,null,"３　各月の賃金額は、原則として支払内容月で作成してください。"]
[null,null,"４　賞与、燃料手当、臨時手当などの手当を支給した場合は、該当月欄の上段に賞与等の額を、下段に賃金額を記入してください。（二段書きしてください。）　　　",null,null,null,null,null,null,null,null,null,null,null,null,null,null,null,"　　記載例　　","３５０，０００　←　賞与等"]
[null,null,null,null,null,null,null,null,null,null,null,null,null,null,null,null,null,null,null,"２００，０００　←　賃　金"]
[]
[null,"監　様式６号の３　（別表３）",null,null,null,null,"３．　　賃　　金　　支　　払　　集　　計　　表"]
[null,null,null,null,null,"　　　　　　　　（ 臨 時 ・ ア ル バ イ ト ・ 家 族 従 業 員 等 ）","　　　　　　　（ 臨 時 ・ ア ル バ イ ト ・ 家 族 従 業 員 等 ）"]
[]
[null,"氏　　　　名",null,"雇用形態","職　　種","生年月日","雇　 入\n年月日","離　 職\n年月日","令和３年４月","令和３年５月","令和３年６月","令和３年７月","令和３年８月","令和３年９月","令和３年１０月","令和３年１１月","令和３年１２月","令和４年１月","令和４年２月","令和４年３月","３年度計"]
[]
[]
[null,null,null,null,null,null,null,null,null,null,null,null,null,null,null,null,null,null,null,null,{"$f":"IF(B118=\"\",\"\",IF(SUM(I118:T118)=0,\"\",SUM(I118:T118)))","v":""}]
[null,null,null,null,null,null,null,null,null,null,null,null,null,null,null,null,null,null,null,null,{"$f":"IF(B118=\"\",\"\",SUM(I119:T119))","v":""}]
[null,null,null,null,null,null,null,null,null,null,null,null,null,null,null,null,null,null,null,null,{"$f":"IF(B120=\"\",\"\",IF(SUM(I120:T120)=0,\"\",SUM(I120:T120)))","v":""}]
[null,null,null,null,null,null,null,null,null,null,null,null,null,null,null,null,null,null,null,null,{"$f":"IF(B120=\"\",\"\",SUM(I121:T121))","v":""}]
[null,null,null,null,null,null,null,null,null,null,null,null,null,null,null,null,null,null,null,null,{"$f":"IF(B122=\"\",\"\",IF(SUM(I122:T122)=0,\"\",SUM(I122:T122)))","v":""}]
[null,null,null,null,null,null,null,null,null,null,null,null,null,null,null,null,null,null,null,null,{"$f":"IF(B122=\"\",\"\",SUM(I123:T123))","v":""}]
[null,null,null,null,null,null,null,null,null,null,null,null,null,null,null,null,null,null,null,null,{"$f":"IF(B124=\"\",\"\",IF(SUM(I124:T124)=0,\"\",SUM(I124:T124)))","v":""}]
[null,null,null,null,null,null,null,null,null,null,null,null,null,null,null,null,null,null,null,null,{"$f":"IF(B124=\"\",\"\",SUM(I125:T125))","v":""}]
[null,null,null,null,null,null,null,null,null,null,null,null,null,null,null,null,null,null,null,null,{"$f":"IF(B126=\"\",\"\",IF(SUM(I126:T126)=0,\"\",SUM(I126:T126)))","v":""}]
[null,null,null,null,null,null,null,null,null,null,null,null,null,null,null,null,null,null,null,null,{"$f":"IF(B126=\"\",\"\",SUM(I127:T127))","v":""}]
[null,null,null,null,null,null,null,null,null,null,null,null,null,null,null,null,null,null,null,null,{"$f":"IF(B128=\"\",\"\",IF(SUM(I128:T128)=0,\"\",SUM(I128:T128)))","v":""}]
[null,null,null,null,null,null,null,null,null,null,null,null,null,null,null,null,null,null,null,null,{"$f":"IF(B128=\"\",\"\",SUM(I129:T129))","v":""}]
[null,null,null,null,null,null,null,null,null,null,null,null,null,null,null,null,null,null,null,null,{"$f":"IF(B130=\"\",\"\",IF(SUM(I130:T130)=0,\"\",SUM(I130:T130)))","v":""}]
[null,null,null,null,null,null,null,null,null,null,null,null,null,null,null,null,null,null,null,null,{"$f":"IF(B130=\"\",\"\",SUM(I131:T131))","v":""}]
[null,null,null,null,null,null,null,null,null,null,null,null,null,null,null,null,null,null,null,null,{"$f":"IF(B132=\"\",\"\",IF(SUM(I132:T132)=0,\"\",SUM(I132:T132)))","v":""}]
[null,null,null,null,null,null,null,null,null,null,null,null,null,null,null,null,null,null,null,null,{"$f":"IF(B132=\"\",\"\",SUM(I133:T133))","v":""}]
[null,null,null,null,null,null,null,null,null,null,null,null,null,null,null,null,null,null,null,null,{"$f":"IF(B134=\"\",\"\",IF(SUM(I134:T134)=0,\"\",SUM(I134:T134)))","v":""}]
[null,null,null,null,null,null,null,null,null,null,null,null,null,null,null,null,null,null,null,null,{"$f":"IF(B134=\"\",\"\",SUM(I135:T135))","v":""}]
[null,null,null,null,null,null,null,null,null,null,null,null,null,null,null,null,null,null,null,null,{"$f":"IF(B136=\"\",\"\",IF(SUM(I136:T136)=0,\"\",SUM(I136:T136)))","v":""}]
[null,null,null,null,null,null,null,null,null,null,null,null,null,null,null,null,null,null,null,null,{"$f":"IF(B136=\"\",\"\",SUM(I137:T137))","v":""}]
[null,null,null,null,null,null,null,null,null,null,null,null,null,null,null,null,null,null,null,null,{"$f":"IF(B138=\"\",\"\",IF(SUM(I138:T138)=0,\"\",SUM(I138:T138)))","v":""}]
[null,null,null,null,null,null,null,null,null,null,null,null,null,null,null,null,null,null,null,null,{"$f":"IF(B138=\"\",\"\",SUM(I139:T139))","v":""}]
[null,null,null,null,null,null,null,null,null,null,null,null,null,null,null,null,null,null,null,null,{"$f":"IF(B140=\"\",\"\",IF(SUM(I140:T140)=0,\"\",SUM(I140:T140)))","v":""}]
[null,null,null,null,null,null,null,null,null,null,null,null,null,null,null,null,null,null,null,null,{"$f":"IF(B140=\"\",\"\",SUM(I141:T141))","v":""}]
[null,null,null,null,null,null,null,null,null,null,null,null,null,null,null,null,null,null,null,null,{"$f":"IF(B142=\"\",\"\",IF(SUM(I142:T142)=0,\"\",SUM(I142:T142)))","v":""}]
[null,null,null,null,null,null,null,null,null,null,null,null,null,null,null,null,null,null,null,null,{"$f":"IF(B142=\"\",\"\",SUM(I143:T143))","v":""}]
[null,null,null,null,null,null,null,null,null,null,null,null,null,null,null,null,null,null,null,null,{"$f":"IF(B144=\"\",\"\",IF(SUM(I144:T144)=0,\"\",SUM(I144:T144)))","v":""}]
[null,null,null,null,null,null,null,null,null,null,null,null,null,null,null,null,null,null,null,null,{"$f":"IF(B144=\"\",\"\",SUM(I145:T145))","v":""}]
[null,null,null,null,null,null,null,null,null,null,null,null,null,null,null,null,null,null,null,null,{"$f":"IF(B146=\"\",\"\",IF(SUM(I146:T146)=0,\"\",SUM(I146:T146)))","v":""}]
[null,null,null,null,null,null,null,null,null,null,null,null,null,null,null,null,null,null,null,null,{"$f":"IF(B146=\"\",\"\",SUM(I147:T147))","v":""}]
[null,null,null,null,null,null,null,null,null,null,null,null,null,null,null,null,null,null,null,null,{"$f":"IF(B148=\"\",\"\",IF(SUM(I148:T148)=0,\"\",SUM(I148:T148)))","v":""}]
[null,null,null,null,null,null,null,null,null,null,null,null,null,null,null,null,null,null,null,null,{"$f":"IF(B148=\"\",\"\",SUM(I149:T149))","v":""}]
[2,null,null,null,null,null,null,null,null,null,null,null,null,null,null,null,null,null,null,null,{"$f":"IF(B150=\"\",\"\",IF(SUM(I150:T150)=0,\"\",SUM(I150:T150)))","v":""}]
[null,null,null,null,null,null,null,null,null,null,null,null,null,null,null,null,null,null,null,null,{"$f":"IF(B150=\"\",\"\",SUM(I151:T151))","v":""}]
["合　　　　　　　　　　計",null,null,null,null,null,null,null,null,null,null,null,null,null,null,null,null,null,null,null,{"$f":"IF(B152=\"\",\"\",IF(SUM(I152:T152)=0,\"\",SUM(I152:T152)))","v":""}]
[null,null,null,null,null,null,null,null,null,null,null,null,null,null,null,null,null,null,null,null,{"$f":"IF(B152=\"\",\"\",SUM(I153:T153))","v":""}]
[null,null,null,null,null,null,null,null,null,null,null,null,null,null,null,null,null,null,null,null,{"$f":"IF(B154=\"\",\"\",IF(SUM(I154:T154)=0,\"\",SUM(I154:T154)))","v":""}]
[null,null,null,null,null,null,null,null,null,null,null,null,null,null,null,null,null,null,null,null,{"$f":"IF(B154=\"\",\"\",SUM(I155:T155))","v":""}]
[null,null,null,null,null,null,null,null,null,null,null,null,null,null,null,null,null,null,null,null,{"$f":"IF(B156=\"\",\"\",IF(SUM(I156:T156)=0,\"\",SUM(I156:T156)))","v":""}]
[null,null,null,null,null,null,null,null,null,null,null,null,null,null,null,null,null,null,null,null,{"$f":"IF(B156=\"\",\"\",SUM(I157:T157))","v":""}]
[null,"合　　　　　　　　　　計",null,null,null,null,null,null,{"$f":"IF($B$118=\"\",\"\",IF(I118+I120+I122+I124+I126+I128+I130+I132+I134+I136+I138+I140+I142+I144+I146+I148+I150+I152+I154+I156=0,\"\",I118+I120+I122+I124+I126+I128+I130+I132+I134+I136+I138+I140+I142+I144+I146+I148+I150+I152+I154+I156))","v":""},{"$f":"IF($B$118=\"\",\"\",IF(J118+J120+J122+J124+J126+J128+J130+J132+J134+J136+J138+J140+J142+J144+J146+J148+J150+J152+J154+J156=0,\"\",J118+J120+J122+J124+J126+J128+J130+J132+J134+J136+J138+J140+J142+J144+J146+J148+J150+J152+J154+J156))","v":""},"","","","","","","","","","",{"$f":"IF(B118=\"\",\"\",IF(SUM(I158:T158)=0,\"\",SUM(I158:T158)))","v":""}]
[null,null,null,null,null,null,null,null,{"$f":"IF($B$118=\"\",\"\",IF(I119+I121+I123+I125+I127+I129+I131+I133+I135+I137+I139+I141+I143+I145+I147+I149+I151+I153+I155+I157=0,0,I119+I121+I123+I125+I127+I129+I131+I133+I135+I137+I139+I141+I143+I145+I147+I149+I151+I153+I155+I157))","v":""},{"$f":"IF($B$118=\"\",\"\",IF(J119+J121+J123+J125+J127+J129+J131+J133+J135+J137+J139+J141+J143+J145+J147+J149+J151+J153+J155+J157=0,0,J119+J121+J123+J125+J127+J129+J131+J133+J135+J137+J139+J141+J143+J145+J147+J149+J151+J153+J155+J157))","v":""},"","","","","","","","","","",{"$f":"IF(B118=\"\",\"\",IF(SUM(I159:T159)=0,0,SUM(I159:T159)))","v":""}]
[]
[null,"【 注意 】","１　この表は、雇用保険適用者以外の労働者すべてについて、賃金台帳に基づいて作成してください。"]
[null,null,"２　賃金額は、超過勤務手当、通勤手当等を含む賃金総額（源泉所得税等を控除する前の金額）を記載してください。"]
[null,null,"３　各月の賃金額は、原則として支払内容月で作成してください。"]
[null,null,"４　賞与、燃料手当、臨時手当などの手当を支給した場合は、該当月欄の上段に賞与等の額を、下段に賃金額を記入してください。（二段書きしてください。）　　　",null,null,null,null,null,null,null,null,null,null,null,null,null,null,null,"　　記載例　　","３５０，０００　←　賞与等"]
[null,null,null,null,null,null,null,null,null,null,null,null,null,null,null,null,null,null,null,"２００，０００　←　賃　金"]

{"sheet":"６号の２の計算式","index":3,"n_rows":174,"n_cols":27,"rows_kept":174,"cut":false,"hidden":false,"merged":[[171,5,173,10],[169,1,169,26],[171,2,173,4],[170,2,170,11],[0,1,1,26],[149,4,150,6],[149,7,150,9],[149,10,150,12],[101,10,102,12],[101,1,102,1],[101,2,102,3],[101,4,102,6],[101,7,102,9],[97,10,98,12],[151,1,152,1],[141,1,142,1],[141,2,142,3],[149,1,150,1],[149,2,150,3],[143,1,144,1],[143,2,144,3],[147,1,148,1],[145,1,146,1],[99,10,100,12],[97,1,98,1],[97,2,98,3],[97,4,98,6],[97,7,98,9],[99,1,100,1],[99,2,100,3],[99,4,100,6],[99,7,100,9],[103,1,104,11],[106,1,106,2],[119,1,120,1],[119,2,120,3],[119,4,120,6],[119,7,120,9],[119,10,120,12],[121,10,122,12],[123,1,124,1],[123,2,124,3],[123,4,124,6],[123,7,124,9],[123,10,124,12],[121,1,122,1],[121,2,122,3],[121,4,122,6],[121,7,122,9],[111,8,111,22],[112,1,113,26],[116,1,118,3],[116,5,118,5],[116,8,118,8],[116,11,118,11],[116,13,118,13],[116,14,118,14],[93,10,94,12],[95,1,96,1],[95,2,96,3],[95,4,96,6],[95,7,96,9],[95,10,96,12],[93,1,94,1],[93,2,94,3],[93,4,94,6],[93,7,94,9],[89,10,90,12],[91,1,92,1],[91,2,92,3],[91,4,92,6],[91,7,92,9],[91,10,92,12],[89,1,90,1],[89,2,90,3],[89,4,90,6],[89,7,90,9],[85,10,86,12],[87,1,88,1],[87,2,88,3],[87,4,88,6],[87,7,88,9],[87,10,88,12],[85,1,86,1],[85,2,86,3],[85,4,86,6],[85,7,86,9],[81,10,82,12],[83,1,84,1],[83,2,84,3],[83,4,84,6],[83,7,84,9],[83,10,84,12],[81,1,82,1],[81,2,82,3],[81,4,82,6],[81,7,82,9],[77,10,78,12],[79,1,80,1],[79,2,80,3],[79,4,80,6],[79,7,80,9],[79,10,80,12],[77,1,78,1],[77,2,78,3],[77,4,78,6],[77,7,78,9],[73,10,74,12],[75,1,76,1],[75,2,76,3],[75,4,76,6],[75,7,76,9],[75,10,76,12],[73,1,74,1],[73,2,74,3],[73,4,74,6],[73,7,74,9],[69,10,70,12],[71,1,72,1],[71,2,72,3],[71,4,72,6],[71,7,72,9],[71,10,72,12],[69,1,70,1],[69,2,70,3],[69,4,70,6],[69,7,70,9],[65,10,66,12],[67,1,68,1],[67,2,68,3],[67,4,68,6],[67,7,68,9],[67,10,68,12],[65,1,66,1],[65,2,66,3],[65,4,66,6],[65,7,66,9],[63,1,64,1],[63,2,64,3],[63,4,64,6],[63,7,64,9],[63,10,64,12],[60,20,62,20],[60,21,62,21],[60,13,62,13],[60,14,62,14],[60,15,62,15],[60,16,62,16],[60,17,62,17],[60,18,62,18],[60,19,62,19],[45,10,46,12],[45,1,46,1],[45,2,46,3],[45,4,46,6],[45,7,46,9],[60,1,62,3],[60,5,62,5],[60,8,62,8],[60,11,62,11],[56,1,57,26],[60,24,62,24],[60,25,62,25],[60,26,62,26],[60,22,62,22],[60,23,62,23],[41,10,42,12],[41,1,42,1],[41,2,42,3],[41,4,42,6],[41,7,42,9],[43,10,44,12],[43,1,44,1],[43,2,44,3],[43,4,44,6],[43,7,44,9],[37,10,38,12],[37,1,38,1],[37,2,38,3],[37,4,38,6],[37,7,38,9],[39,10,40,12],[39,1,40,1],[39,2,40,3],[39,4,40,6],[39,7,40,9],[33,10,34,12],[35,1,36,1],[35,2,36,3],[35,4,36,6],[35,7,36,9],[35,10,36,12],[33,1,34,1],[33,2,34,3],[33,4,34,6],[33,7,34,9],[31,10,32,12],[29,1,30,1],[29,2,30,3],[29,4,30,6],[29,7,30,9],[9,4,10,6],[9,7,10,9],[27,1,28,1],[27,2,28,3],[27,4,28,6],[27,7,28,9],[17,1,18,1],[17,2,18,3],[17,4,18,6],[17,7,18,9],[21,1,22,1],[19,2,20,3],[29,10,30,12],[31,1,32,1],[31,2,32,3],[23,1,24,1],[23,2,24,3],[25,2,26,3],[7,4,8,6],[7,7,8,9],[7,10,8,12],[27,10,28,12],[4,14,6,14],[13,4,14,6],[13,7,14,9],[13,10,14,12],[11,7,12,9],[11,10,12,12],[19,10,20,12],[19,4,20,6],[19,7,20,9],[21,10,22,12],[25,10,26,12],[23,4,24,6],[23,7,24,9],[23,10,24,12],[21,7,22,9],[25,4,26,6],[4,1,6,3],[4,26,6,26],[4,19,6,19],[4,20,6,20],[4,21,6,21],[4,22,6,22],[4,25,6,25],[4,23,6,23],[4,15,6,15],[4,16,6,16],[4,24,6,24],[4,17,6,17],[4,18,6,18],[4,5,6,5],[4,8,6,8],[4,11,6,11],[4,13,6,13],[7,2,8,3],[7,1,8,1],[9,1,10,1],[9,2,10,3],[55,8,55,22],[50,1,50,2],[15,7,16,9],[17,10,18,12],[47,1,48,11],[15,10,16,12],[15,1,16,1],[15,2,16,3],[15,4,16,6],[9,10,10,12],[11,4,12,6],[13,1,14,1],[13,2,14,3],[11,2,12,3],[11,1,12,1],[21,2,22,3],[21,4,22,6],[19,1,20,1],[25,7,26,9],[25,1,26,1],[116,26,118,26],[116,20,118,20],[116,21,118,21],[31,4,32,6],[31,7,32,9],[125,10,126,12],[127,1,128,1],[127,2,128,3],[127,4,128,6],[127,7,128,9],[127,10,128,12],[125,1,126,1],[125,2,126,3],[125,4,126,6],[125,7,126,9],[116,15,118,15],[116,22,118,22],[116,23,118,23],[116,16,118,16],[116,17,118,17],[116,18,118,18],[116,19,118,19],[116,24,118,24],[116,25,118,25],[129,10,130,12],[131,1,132,1],[131,2,132,3],[131,4,132,6],[131,7,132,9],[131,10,132,12],[129,1,130,1],[129,2,130,3],[129,4,130,6],[129,7,130,9],[133,10,134,12],[135,1,136,1],[135,2,136,3],[135,4,136,6],[135,7,136,9],[135,10,136,12],[133,1,134,1],[133,2,134,3],[133,4,134,6],[133,7,134,9],[137,10,138,12],[139,1,140,1],[139,2,140,3],[139,4,140,6],[139,7,140,9],[139,10,140,12],[137,1,138,1],[137,2,138,3],[137,4,138,6],[137,7,138,9],[145,10,146,12],[143,4,144,6],[143,7,144,9],[145,7,146,9],[141,4,142,6],[141,7,142,9],[147,10,148,12],[145,2,146,3],[145,4,146,6],[141,10,142,12],[143,10,144,12],[147,2,148,3],[147,4,148,6],[147,7,148,9],[151,10,152,12],[162,1,162,2],[167,8,167,22],[157,10,158,12],[159,1,160,11],[157,1,158,1],[157,2,158,3],[157,4,158,6],[153,7,154,9],[151,2,152,3],[151,4,152,6],[151,7,152,9],[157,7,158,9],[153,10,154,12],[155,1,156,1],[155,2,156,3],[155,4,156,6],[155,7,156,9],[155,10,156,12],[153,1,154,1],[153,2,154,3],[153,4,154,6]]}
[null,"６号の２の計算式。この画面を削除すると正しく表示されません。"]
[]
[]
[]
[null,"氏名",null,null,null,"生年月日",null,null,"被保険者\n資格取得\n年月日",null,null,"被保険者\n離職\n年月日",null,"令和３年４月","令和３年５月","令和３年６月","令和３年７月","令和３年８月","令和３年９月","令和３年１０月","令和３年１１月","令和３年１２月","令和４年１月","令和４年２月","令和４年３月",null,"年度計"]
[]
[" "]
[null,{"$f":"'雇用保険適用者（６号の２）'!#REF!","v":{"$error":"#REF!"}},null,null,null,null,null,null,null,null,null,null,null,{"$f":"IF($B8=\"高\",'雇用保険適用者（６号の２）'!M8,0)","v":{"$error":"#REF!"}},{"$f":"IF($B8=\"高\",'雇用保険適用者（６号の２）'!N8,0)","v":{"$error":"#REF!"}},{"$f":"IF($B8=\"高\",'雇用保険適用者（６号の２）'!O8,0)","v":{"$error":"#REF!"}},{"$f":"IF($B8=\"高\",'雇用保険適用者（６号の２）'!P8,0)","v":{"$error":"#REF!"}},{"$f":"IF($B8=\"高\",'雇用保険適用者（６号の２）'!Q8,0)","v":{"$error":"#REF!"}},{"$f":"IF($B8=\"高\",'雇用保険適用者（６号の２）'!R8,0)","v":{"$error":"#REF!"}},{"$f":"IF($B8=\"高\",'雇用保険適用者（６号の２）'!S8,0)","v":{"$error":"#REF!"}},{"$f":"IF($B8=\"高\",'雇用保険適用者（６号の２）'!T8,0)","v":{"$error":"#REF!"}},{"$f":"IF($B8=\"高\",'雇用保険適用者（６号の２）'!U8,0)","v":{"$error":"#REF!"}},{"$f":"IF($B8=\"高\",'雇用保険適用者（６号の２）'!V8,0)","v":{"$error":"#REF!"}},{"$f":"IF($B8=\"高\",'雇用保険適用者（６号の２）'!W8,0)","v":{"$error":"#REF!"}},{"$f":"IF($B8=\"高\",'雇用保険適用者（６号の２）'!X8,0)","v":{"$error":"#REF!"}},{"$f":"IF($B8=\"高\",'雇用保険適用者（６号の２）'!Y8,0)","v":{"$error":"#REF!"}},{"$f":"IF($B8=\"高\",'雇用保険適用者（６号の２）'!Z8,0)","v":{"$error":"#REF!"}}]
[null,null,null,null,null,null,null,null,null,null,null,null,null,{"$f":"IF($B8=\"高\",'雇用保険適用者（６号の２）'!M9,0)","v":{"$error":"#REF!"}},{"$f":"IF($B8=\"高\",'雇用保険適用者（６号の２）'!N9,0)","v":{"$error":"#REF!"}},{"$f":"IF($B8=\"高\",'雇用保険適用者（６号の２）'!O9,0)","v":{"$error":"#REF!"}},{"$f":"IF($B8=\"高\",'雇用保険適用者（６号の２）'!P9,0)","v":{"$error":"#REF!"}},{"$f":"IF($B8=\"高\",'雇用保険適用者（６号の２）'!Q9,0)","v":{"$error":"#REF!"}},{"$f":"IF($B8=\"高\",'雇用保険適用者（６号の２）'!R9,0)","v":{"$error":"#REF!"}},{"$f":"IF($B8=\"高\",'雇用保険適用者（６号の２）'!S9,0)","v":{"$error":"#REF!"}},{"$f":"IF($B8=\"高\",'雇用保険適用者（６号の２）'!T9,0)","v":{"$error":"#REF!"}},{"$f":"IF($B8=\"高\",'雇用保険適用者（６号の２）'!U9,0)","v":{"$error":"#REF!"}},{"$f":"IF($B8=\"高\",'雇用保険適用者（６号の２）'!V9,0)","v":{"$error":"#REF!"}},{"$f":"IF($B8=\"高\",'雇用保険適用者（６号の２）'!W9,0)","v":{"$error":"#REF!"}},{"$f":"IF($B8=\"高\",'雇用保険適用者（６号の２）'!X9,0)","v":{"$error":"#REF!"}},{"$f":"IF($B9=\"高\",'雇用保険適用者（６号の２）'!Y9,0)","v":0},{"$f":"IF($B9=\"高\",'雇用保険適用者（６号の２）'!Z9,0)","v":0}]
[null,{"$f":"'雇用保険適用者（６号の２）'!#REF!","v":{"$error":"#REF!"}},null,null,null,null,null,null,null,null,null,null,null,{"$f":"IF($B10=\"高\",'雇用保険適用者（６号の２）'!M10,0)","v":{"$error":"#REF!"}},{"$f":"IF($B10=\"高\",'雇用保険適用者（６号の２）'!N10,0)","v":{"$error":"#REF!"}},{"$f":"IF($B10=\"高\",'雇用保険適用者（６号の２）'!O10,0)","v":{"$error":"#REF!"}},{"$f":"IF($B10=\"高\",'雇用保険適用者（６号の２）'!P10,0)","v":{"$error":"#REF!"}},{"$f":"IF($B10=\"高\",'雇用保険適用者（６号の２）'!Q10,0)","v":{"$error":"#REF!"}},{"$f":"IF($B10=\"高\",'雇用保険適用者（６号の２）'!R10,0)","v":{"$error":"#REF!"}},{"$f":"IF($B10=\"高\",'雇用保険適用者（６号の２）'!S10,0)","v":{"$error":"#REF!"}},{"$f":"IF($B10=\"高\",'雇用保険適用者（６号の２）'!T10,0)","v":{"$error":"#REF!"}},{"$f":"IF($B10=\"高\",'雇用保険適用者（６号の２）'!U10,0)","v":{"$error":"#REF!"}},{"$f":"IF($B10=\"高\",'雇用保険適用者（６号の２）'!V10,0)","v":{"$error":"#REF!"}},{"$f":"IF($B10=\"高\",'雇用保険適用者（６号の２）'!W10,0)","v":{"$error":"#REF!"}},{"$f":"IF($B10=\"高\",'雇用保険適用者（６号の２）'!X10,0)","v":{"$error":"#REF!"}},{"$f":"IF($B10=\"高\",'雇用保険適用者（６号の２）'!Y10,0)","v":{"$error":"#REF!"}},{"$f":"IF($B10=\"高\",'雇用保険適用者（６号の２）'!Z10,0)","v":{"$error":"#REF!"}}]
[null,null,null,null,null,null,null,null,null,null,null,null,null,{"$f":"IF($B10=\"高\",'雇用保険適用者（６号の２）'!M11,0)","v":{"$error":"#REF!"}},{"$f":"IF($B10=\"高\",'雇用保険適用者（６号の２）'!N11,0)","v":{"$error":"#REF!"}},{"$f":"IF($B10=\"高\",'雇用保険適用者（６号の２）'!O11,0)","v":{"$error":"#REF!"}},{"$f":"IF($B10=\"高\",'雇用保険適用者（６号の２）'!P11,0)","v":{"$error":"#REF!"}},{"$f":"IF($B10=\"高\",'雇用保険適用者（６号の２）'!Q11,0)","v":{"$error":"#REF!"}},{"$f":"IF($B10=\"高\",'雇用保険適用者（６号の２）'!R11,0)","v":{"$error":"#REF!"}},{"$f":"IF($B10=\"高\",'雇用保険適用者（６号の２）'!S11,0)","v":{"$error":"#REF!"}},{"$f":"IF($B10=\"高\",'雇用保険適用者（６号の２）'!T11,0)","v":{"$error":"#REF!"}},{"$f":"IF($B10=\"高\",'雇用保険適用者（６号の２）'!U11,0)","v":{"$error":"#REF!"}},{"$f":"IF($B10=\"高\",'雇用保険適用者（６号の２）'!V11,0)","v":{"$error":"#REF!"}},{"$f":"IF($B10=\"高\",'雇用保険適用者（６号の２）'!W11,0)","v":{"$error":"#REF!"}},{"$f":"IF($B10=\"高\",'雇用保険適用者（６号の２）'!X11,0)","v":{"$error":"#REF!"}},{"$f":"IF($B11=\"高\",'雇用保険適用者（６号の２）'!Y11,0)","v":0},{"$f":"IF($B11=\"高\",'雇用保険適用者（６号の２）'!Z11,0)","v":0}]
[null,{"$f":"'雇用保険適用者（６号の２）'!#REF!","v":{"$error":"#REF!"}},null,null,null,null,null,null,null,null,null,null,null,{"$f":"IF($B12=\"高\",'雇用保険適用者（６号の２）'!M12,0)","v":{"$error":"#REF!"}},{"$f":"IF($B12=\"高\",'雇用保険適用者（６号の２）'!N12,0)","v":{"$error":"#REF!"}},{"$f":"IF($B12=\"高\",'雇用保険適用者（６号の２）'!O12,0)","v":{"$error":"#REF!"}},{"$f":"IF($B12=\"高\",'雇用保険適用者（６号の２）'!P12,0)","v":{"$error":"#REF!"}},{"$f":"IF($B12=\"高\",'雇用保険適用者（６号の２）'!Q12,0)","v":{"$error":"#REF!"}},{"$f":"IF($B12=\"高\",'雇用保険適用者（６号の２）'!R12,0)","v":{"$error":"#REF!"}},{"$f":"IF($B12=\"高\",'雇用保険適用者（６号の２）'!S12,0)","v":{"$error":"#REF!"}},{"$f":"IF($B12=\"高\",'雇用保険適用者（６号の２）'!T12,0)","v":{"$error":"#REF!"}},{"$f":"IF($B12=\"高\",'雇用保険適用者（６号の２）'!U12,0)","v":{"$error":"#REF!"}},{"$f":"IF($B12=\"高\",'雇用保険適用者（６号の２）'!V12,0)","v":{"$error":"#REF!"}},{"$f":"IF($B12=\"高\",'雇用保険適用者（６号の２）'!W12,0)","v":{"$error":"#REF!"}},{"$f":"IF($B12=\"高\",'雇用保険適用者（６号の２）'!X12,0)","v":{"$error":"#REF!"}},{"$f":"SUM(N12:Y12)","v":{"$error":"#REF!"}},{"$f":"SUM(N12:Y12)","v":{"$error":"#REF!"}}]
[null,null,null,null,null,null,null,null,null,null,null,null,null,{"$f":"IF($B12=\"高\",'雇用保険適用者（６号の２）'!M13,0)","v":{"$error":"#REF!"}},{"$f":"IF($B12=\"高\",'雇用保険適用者（６号の２）'!N13,0)","v":{"$error":"#REF!"}},{"$f":"IF($B12=\"高\",'雇用保険適用者（６号の２）'!O13,0)","v":{"$error":"#REF!"}},{"$f":"IF($B12=\"高\",'雇用保険適用者（６号の２）'!P13,0)","v":{"$error":"#REF!"}},{"$f":"IF($B12=\"高\",'雇用保険適用者（６号の２）'!Q13,0)","v":{"$error":"#REF!"}},{"$f":"IF($B12=\"高\",'雇用保険適用者（６号の２）'!R13,0)","v":{"$error":"#REF!"}},{"$f":"IF($B12=\"高\",'雇用保険適用者（６号の２）'!S13,0)","v":{"$error":"#REF!"}},{"$f":"IF($B12=\"高\",'雇用保険適用者（６号の２）'!T13,0)","v":{"$error":"#REF!"}},{"$f":"IF($B12=\"高\",'雇用保険適用者（６号の２）'!U13,0)","v":{"$error":"#REF!"}},{"$f":"IF($B12=\"高\",'雇用保険適用者（６号の２）'!V13,0)","v":{"$error":"#REF!"}},{"$f":"IF($B12=\"高\",'雇用保険適用者（６号の２）'!W13,0)","v":{"$error":"#REF!"}},{"$f":"IF($B12=\"高\",'雇用保険適用者（６号の２）'!X13,0)","v":{"$error":"#REF!"}},{"$error":"#REF!"},{"$error":"#REF!"}]
[null,{"$f":"'雇用保険適用者（６号の２）'!#REF!","v":{"$error":"#REF!"}},null,null,null,null,null,null,null,null,null,null,null,{"$f":"IF($B14=\"高\",'雇用保険適用者（６号の２）'!M14,0)","v":{"$error":"#REF!"}},{"$f":"IF($B14=\"高\",'雇用保険適用者（６号の２）'!N14,0)","v":{"$error":"#REF!"}},{"$f":"IF($B14=\"高\",'雇用保険適用者（６号の２）'!O14,0)","v":{"$error":"#REF!"}},{"$f":"IF($B14=\"高\",'雇用保険適用者（６号の２）'!P14,0)","v":{"$error":"#REF!"}},{"$f":"IF($B14=\"高\",'雇用保険適用者（６号の２）'!Q14,0)","v":{"$error":"#REF!"}},{"$f":"IF($B14=\"高\",'雇用保険適用者（６号の２）'!R14,0)","v":{"$error":"#REF!"}},{"$f":"IF($B14=\"高\",'雇用保険適用者（６号の２）'!S14,0)","v":{"$error":"#REF!"}},{"$f":"IF($B14=\"高\",'雇用保険適用者（６号の２）'!T14,0)","v":{"$error":"#REF!"}},{"$f":"IF($B14=\"高\",'雇用保険適用者（６号の２）'!U14,0)","v":{"$error":"#REF!"}},{"$f":"IF($B14=\"高\",'雇用保険適用者（６号の２）'!V14,0)","v":{"$error":"#REF!"}},{"$f":"IF($B14=\"高\",'雇用保険適用者（６号の２）'!W14,0)","v":{"$error":"#REF!"}},{"$f":"IF($B14=\"高\",'雇用保険適用者（６号の２）'!X14,0)","v":{"$error":"#REF!"}},{"$error":"#REF!"},{"$error":"#REF!"}]
[null,null,null,null,null,null,null,null,null,null,null,null,null,{"$f":"IF($B14=\"高\",'雇用保険適用者（６号の２）'!M15,0)","v":{"$error":"#REF!"}},{"$f":"IF($B14=\"高\",'雇用保険適用者（６号の２）'!N15,0)","v":{"$error":"#REF!"}},{"$f":"IF($B14=\"高\",'雇用保険適用者（６号の２）'!O15,0)","v":{"$error":"#REF!"}},{"$f":"IF($B14=\"高\",'雇用保険適用者（６号の２）'!P15,0)","v":{"$error":"#REF!"}},{"$f":"IF($B14=\"高\",'雇用保険適用者（６号の２）'!Q15,0)","v":{"$error":"#REF!"}},{"$f":"IF($B14=\"高\",'雇用保険適用者（６号の２）'!R15,0)","v":{"$error":"#REF!"}},{"$f":"IF($B14=\"高\",'雇用保険適用者（６号の２）'!S15,0)","v":{"$error":"#REF!"}},{"$f":"IF($B14=\"高\",'雇用保険適用者（６号の２）'!T15,0)","v":{"$error":"#REF!"}},{"$f":"IF($B14=\"高\",'雇用保険適用者（６号の２）'!U15,0)","v":{"$error":"#REF!"}},{"$f":"IF($B14=\"高\",'雇用保険適用者（６号の２）'!V15,0)","v":{"$error":"#REF!"}},{"$f":"IF($B14=\"高\",'雇用保険適用者（６号の２）'!W15,0)","v":{"$error":"#REF!"}},{"$f":"IF($B14=\"高\",'雇用保険適用者（６号の２）'!X15,0)","v":{"$error":"#REF!"}},{"$error":"#REF!"},{"$error":"#REF!"}]
[null,{"$f":"'雇用保険適用者（６号の２）'!#REF!","v":{"$error":"#REF!"}},null,null,null,null,null,null,null,null,null,null,null,{"$f":"IF($B16=\"高\",'雇用保険適用者（６号の２）'!M16,0)","v":{"$error":"#REF!"}},{"$f":"IF($B16=\"高\",'雇用保険適用者（６号の２）'!N16,0)","v":{"$error":"#REF!"}},{"$f":"IF($B16=\"高\",'雇用保険適用者（６号の２）'!O16,0)","v":{"$error":"#REF!"}},{"$f":"IF($B16=\"高\",'雇用保険適用者（６号の２）'!P16,0)","v":{"$error":"#REF!"}},{"$f":"IF($B16=\"高\",'雇用保険適用者（６号の２）'!Q16,0)","v":{"$error":"#REF!"}},{"$f":"IF($B16=\"高\",'雇用保険適用者（６号の２）'!R16,0)","v":{"$error":"#REF!"}},{"$f":"IF($B16=\"高\",'雇用保険適用者（６号の２）'!S16,0)","v":{"$error":"#REF!"}},{"$f":"IF($B16=\"高\",'雇用保険適用者（６号の２）'!T16,0)","v":{"$error":"#REF!"}},{"$f":"IF($B16=\"高\",'雇用保険適用者（６号の２）'!U16,0)","v":{"$error":"#REF!"}},{"$f":"IF($B16=\"高\",'雇用保険適用者（６号の２）'!V16,0)","v":{"$error":"#REF!"}},{"$f":"IF($B16=\"高\",'雇用保険適用者（６号の２）'!W16,0)","v":{"$error":"#REF!"}},{"$f":"IF($B16=\"高\",'雇用保険適用者（６号の２）'!X16,0)","v":{"$error":"#REF!"}},{"$error":"#REF!"},{"$error":"#REF!"}]
[null,null,null,null,null,null,null,null,null,null,null,null,null,{"$f":"IF($B16=\"高\",'雇用保険適用者（６号の２）'!M17,0)","v":{"$error":"#REF!"}},{"$f":"IF($B16=\"高\",'雇用保険適用者（６号の２）'!N17,0)","v":{"$error":"#REF!"}},{"$f":"IF($B16=\"高\",'雇用保険適用者（６号の２）'!O17,0)","v":{"$error":"#REF!"}},{"$f":"IF($B16=\"高\",'雇用保険適用者（６号の２）'!P17,0)","v":{"$error":"#REF!"}},{"$f":"IF($B16=\"高\",'雇用保険適用者（６号の２）'!Q17,0)","v":{"$error":"#REF!"}},{"$f":"IF($B16=\"高\",'雇用保険適用者（６号の２）'!R17,0)","v":{"$error":"#REF!"}},{"$f":"IF($B16=\"高\",'雇用保険適用者（６号の２）'!S17,0)","v":{"$error":"#REF!"}},{"$f":"IF($B16=\"高\",'雇用保険適用者（６号の２）'!T17,0)","v":{"$error":"#REF!"}},{"$f":"IF($B16=\"高\",'雇用保険適用者（６号の２）'!U17,0)","v":{"$error":"#REF!"}},{"$f":"IF($B16=\"高\",'雇用保険適用者（６号の２）'!V17,0)","v":{"$error":"#REF!"}},{"$f":"IF($B16=\"高\",'雇用保険適用者（６号の２）'!W17,0)","v":{"$error":"#REF!"}},{"$f":"IF($B16=\"高\",'雇用保険適用者（６号の２）'!X17,0)","v":{"$error":"#REF!"}},{"$error":"#REF!"},{"$error":"#REF!"}]
[null,{"$f":"'雇用保険適用者（６号の２）'!#REF!","v":{"$error":"#REF!"}},null,null,null,null,null,null,null,null,null,null,null,{"$f":"IF($B18=\"高\",'雇用保険適用者（６号の２）'!M18,0)","v":{"$error":"#REF!"}},{"$f":"IF($B18=\"高\",'雇用保険適用者（６号の２）'!N18,0)","v":{"$error":"#REF!"}},{"$f":"IF($B18=\"高\",'雇用保険適用者（６号の２）'!O18,0)","v":{"$error":"#REF!"}},{"$f":"IF($B18=\"高\",'雇用保険適用者（６号の２）'!P18,0)","v":{"$error":"#REF!"}},{"$f":"IF($B18=\"高\",'雇用保険適用者（６号の２）'!Q18,0)","v":{"$error":"#REF!"}},{"$f":"IF($B18=\"高\",'雇用保険適用者（６号の２）'!R18,0)","v":{"$error":"#REF!"}},{"$f":"IF($B18=\"高\",'雇用保険適用者（６号の２）'!S18,0)","v":{"$error":"#REF!"}},{"$f":"IF($B18=\"高\",'雇用保険適用者（６号の２）'!T18,0)","v":{"$error":"#REF!"}},{"$f":"IF($B18=\"高\",'雇用保険適用者（６号の２）'!U18,0)","v":{"$error":"#REF!"}},{"$f":"IF($B18=\"高\",'雇用保険適用者（６号の２）'!V18,0)","v":{"$error":"#REF!"}},{"$f":"IF($B18=\"高\",'雇用保険適用者（６号の２）'!W18,0)","v":{"$error":"#REF!"}},{"$f":"IF($B18=\"高\",'雇用保険適用者（６号の２）'!X18,0)","v":{"$error":"#REF!"}},{"$error":"#REF!"},{"$error":"#REF!"}]
[null,null,null,null,null,null,null,null,null,null,null,null,null,{"$f":"IF($B18=\"高\",'雇用保険適用者（６号の２）'!M19,0)","v":{"$error":"#REF!"}},{"$f":"IF($B18=\"高\",'雇用保険適用者（６号の２）'!N19,0)","v":{"$error":"#REF!"}},{"$f":"IF($B18=\"高\",'雇用保険適用者（６号の２）'!O19,0)","v":{"$error":"#REF!"}},{"$f":"IF($B18=\"高\",'雇用保険適用者（６号の２）'!P19,0)","v":{"$error":"#REF!"}},{"$f":"IF($B18=\"高\",'雇用保険適用者（６号の２）'!Q19,0)","v":{"$error":"#REF!"}},{"$f":"IF($B18=\"高\",'雇用保険適用者（６号の２）'!R19,0)","v":{"$error":"#REF!"}},{"$f":"IF($B18=\"高\",'雇用保険適用者（６号の２）'!S19,0)","v":{"$error":"#REF!"}},{"$f":"IF($B18=\"高\",'雇用保険適用者（６号の２）'!T19,0)","v":{"$error":"#REF!"}},{"$f":"IF($B18=\"高\",'雇用保険適用者（６号の２）'!U19,0)","v":{"$error":"#REF!"}},{"$f":"IF($B18=\"高\",'雇用保険適用者（６号の２）'!V19,0)","v":{"$error":"#REF!"}},{"$f":"IF($B18=\"高\",'雇用保険適用者（６号の２）'!W19,0)","v":{"$error":"#REF!"}},{"$f":"IF($B18=\"高\",'雇用保険適用者（６号の２）'!X19,0)","v":{"$error":"#REF!"}},{"$error":"#REF!"},{"$error":"#REF!"}]
[null,{"$f":"'雇用保険適用者（６号の２）'!#REF!","v":{"$error":"#REF!"}},null,null,null,null,null,null,null,null,null,null,null,{"$f":"IF($B20=\"高\",'雇用保険適用者（６号の２）'!M20,0)","v":{"$error":"#REF!"}},{"$f":"IF($B20=\"高\",'雇用保険適用者（６号の２）'!N20,0)","v":{"$error":"#REF!"}},{"$f":"IF($B20=\"高\",'雇用保険適用者（６号の２）'!O20,0)","v":{"$error":"#REF!"}},{"$f":"IF($B20=\"高\",'雇用保険適用者（６号の２）'!P20,0)","v":{"$error":"#REF!"}},{"$f":"IF($B20=\"高\",'雇用保険適用者（６号の２）'!Q20,0)","v":{"$error":"#REF!"}},{"$f":"IF($B20=\"高\",'雇用保険適用者（６号の２）'!R20,0)","v":{"$error":"#REF!"}},{"$f":"IF($B20=\"高\",'雇用保険適用者（６号の２）'!S20,0)","v":{"$error":"#REF!"}},{"$f":"IF($B20=\"高\",'雇用保険適用者（６号の２）'!T20,0)","v":{"$error":"#REF!"}},{"$f":"IF($B20=\"高\",'雇用保険適用者（６号の２）'!U20,0)","v":{"$error":"#REF!"}},{"$f":"IF($B20=\"高\",'雇用保険適用者（６号の２）'!V20,0)","v":{"$error":"#REF!"}},{"$f":"IF($B20=\"高\",'雇用保険適用者（６号の２）'!W20,0)","v":{"$error":"#REF!"}},{"$f":"IF($B20=\"高\",'雇用保険適用者（６号の２）'!X20,0)","v":{"$error":"#REF!"}},{"$error":"#REF!"},{"$error":"#REF!"}]
[null,null,null,null,null,null,null,null,null,null,null,null,null,{"$f":"IF($B20=\"高\",'雇用保険適用者（６号の２）'!M21,0)","v":{"$error":"#REF!"}},{"$f":"IF($B20=\"高\",'雇用保険適用者（６号の２）'!N21,0)","v":{"$error":"#REF!"}},{"$f":"IF($B20=\"高\",'雇用保険適用者（６号の２）'!O21,0)","v":{"$error":"#REF!"}},{"$f":"IF($B20=\"高\",'雇用保険適用者（６号の２）'!P21,0)","v":{"$error":"#REF!"}},{"$f":"IF($B20=\"高\",'雇用保険適用者（６号の２）'!Q21,0)","v":{"$error":"#REF!"}},{"$f":"IF($B20=\"高\",'雇用保険適用者（６号の２）'!R21,0)","v":{"$error":"#REF!"}},{"$f":"IF($B20=\"高\",'雇用保険適用者（６号の２）'!S21,0)","v":{"$error":"#REF!"}},{"$f":"IF($B20=\"高\",'雇用保険適用者（６号の２）'!T21,0)","v":{"$error":"#REF!"}},{"$f":"IF($B20=\"高\",'雇用保険適用者（６号の２）'!U21,0)","v":{"$error":"#REF!"}},{"$f":"IF($B20=\"高\",'雇用保険適用者（６号の２）'!V21,0)","v":{"$error":"#REF!"}},{"$f":"IF($B20=\"高\",'雇用保険適用者（６号の２）'!W21,0)","v":{"$error":"#REF!"}},{"$f":"IF($B20=\"高\",'雇用保険適用者（６号の２）'!X21,0)","v":{"$error":"#REF!"}},{"$error":"#REF!"},{"$error":"#REF!"}]
[null,{"$f":"'雇用保険適用者（６号の２）'!#REF!","v":{"$error":"#REF!"}},null,null,null,null,null,null,null,null,null,null,null,{"$f":"IF($B22=\"高\",'雇用保険適用者（６号の２）'!M22,0)","v":{"$error":"#REF!"}},{"$f":"IF($B22=\"高\",'雇用保険適用者（６号の２）'!N22,0)","v":{"$error":"#REF!"}},{"$f":"IF($B22=\"高\",'雇用保険適用者（６号の２）'!O22,0)","v":{"$error":"#REF!"}},{"$f":"IF($B22=\"高\",'雇用保険適用者（６号の２）'!P22,0)","v":{"$error":"#REF!"}},{"$f":"IF($B22=\"高\",'雇用保険適用者（６号の２）'!Q22,0)","v":{"$error":"#REF!"}},{"$f":"IF($B22=\"高\",'雇用保険適用者（６号の２）'!R22,0)","v":{"$error":"#REF!"}},{"$f":"IF($B22=\"高\",'雇用保険適用者（６号の２）'!S22,0)","v":{"$error":"#REF!"}},{"$f":"IF($B22=\"高\",'雇用保険適用者（６号の２）'!T22,0)","v":{"$error":"#REF!"}},{"$f":"IF($B22=\"高\",'雇用保険適用者（６号の２）'!U22,0)","v":{"$error":"#REF!"}},{"$f":"IF($B22=\"高\",'雇用保険適用者（６号の２）'!V22,0)","v":{"$error":"#REF!"}},{"$f":"IF($B22=\"高\",'雇用保険適用者（６号の２）'!W22,0)","v":{"$error":"#REF!"}},{"$f":"IF($B22=\"高\",'雇用保険適用者（６号の２）'!X22,0)","v":{"$error":"#REF!"}},{"$error":"#REF!"},{"$error":"#REF!"}]
[null,null,null,null,null,null,null,null,null,null,null,null,null,{"$f":"IF($B22=\"高\",'雇用保険適用者（６号の２）'!M23,0)","v":{"$error":"#REF!"}},{"$f":"IF($B22=\"高\",'雇用保険適用者（６号の２）'!N23,0)","v":{"$error":"#REF!"}},{"$f":"IF($B22=\"高\",'雇用保険適用者（６号の２）'!O23,0)","v":{"$error":"#REF!"}},{"$f":"IF($B22=\"高\",'雇用保険適用者（６号の２）'!P23,0)","v":{"$error":"#REF!"}},{"$f":"IF($B22=\"高\",'雇用保険適用者（６号の２）'!Q23,0)","v":{"$error":"#REF!"}},{"$f":"IF($B22=\"高\",'雇用保険適用者（６号の２）'!R23,0)","v":{"$error":"#REF!"}},{"$f":"IF($B22=\"高\",'雇用保険適用者（６号の２）'!S23,0)","v":{"$error":"#REF!"}},{"$f":"IF($B22=\"高\",'雇用保険適用者（６号の２）'!T23,0)","v":{"$error":"#REF!"}},{"$f":"IF($B22=\"高\",'雇用保険適用者（６号の２）'!U23,0)","v":{"$error":"#REF!"}},{"$f":"IF($B22=\"高\",'雇用保険適用者（６号の２）'!V23,0)","v":{"$error":"#REF!"}},{"$f":"IF($B22=\"高\",'雇用保険適用者（６号の２）'!W23,0)","v":{"$error":"#REF!"}},{"$f":"IF($B22=\"高\",'雇用保険適用者（６号の２）'!X23,0)","v":{"$error":"#REF!"}},{"$error":"#REF!"},{"$error":"#REF!"}]
[null,{"$f":"'雇用保険適用者（６号の２）'!#REF!","v":{"$error":"#REF!"}},null,null,null,null,null,null,null,null,null,null,null,{"$f":"IF($B24=\"高\",'雇用保険適用者（６号の２）'!M24,0)","v":{"$error":"#REF!"}},{"$f":"IF($B24=\"高\",'雇用保険適用者（６号の２）'!N24,0)","v":{"$error":"#REF!"}},{"$f":"IF($B24=\"高\",'雇用保険適用者（６号の２）'!O24,0)","v":{"$error":"#REF!"}},{"$f":"IF($B24=\"高\",'雇用保険適用者（６号の２）'!P24,0)","v":{"$error":"#REF!"}},{"$f":"IF($B24=\"高\",'雇用保険適用者（６号の２）'!Q24,0)","v":{"$error":"#REF!"}},{"$f":"IF($B24=\"高\",'雇用保険適用者（６号の２）'!R24,0)","v":{"$error":"#REF!"}},{"$f":"IF($B24=\"高\",'雇用保険適用者（６号の２）'!S24,0)","v":{"$error":"#REF!"}},{"$f":"IF($B24=\"高\",'雇用保険適用者（６号の２）'!T24,0)","v":{"$error":"#REF!"}},{"$f":"IF($B24=\"高\",'雇用保険適用者（６号の２）'!U24,0)","v":{"$error":"#REF!"}},{"$f":"IF($B24=\"高\",'雇用保険適用者（６号の２）'!V24,0)","v":{"$error":"#REF!"}},{"$f":"IF($B24=\"高\",'雇用保険適用者（６号の２）'!W24,0)","v":{"$error":"#REF!"}},{"$f":"IF($B24=\"高\",'雇用保険適用者（６号の２）'!X24,0)","v":{"$error":"#REF!"}},{"$error":"#REF!"},{"$error":"#REF!"}]
[null,null,null,null,null,null,null,null,null,null,null,null,null,{"$f":"IF($B24=\"高\",'雇用保険適用者（６号の２）'!M25,0)","v":{"$error":"#REF!"}},{"$f":"IF($B24=\"高\",'雇用保険適用者（６号の２）'!N25,0)","v":{"$error":"#REF!"}},{"$f":"IF($B24=\"高\",'雇用保険適用者（６号の２）'!O25,0)","v":{"$error":"#REF!"}},{"$f":"IF($B24=\"高\",'雇用保険適用者（６号の２）'!P25,0)","v":{"$error":"#REF!"}},{"$f":"IF($B24=\"高\",'雇用保険適用者（６号の２）'!Q25,0)","v":{"$error":"#REF!"}},{"$f":"IF($B24=\"高\",'雇用保険適用者（６号の２）'!R25,0)","v":{"$error":"#REF!"}},{"$f":"IF($B24=\"高\",'雇用保険適用者（６号の２）'!S25,0)","v":{"$error":"#REF!"}},{"$f":"IF($B24=\"高\",'雇用保険適用者（６号の２）'!T25,0)","v":{"$error":"#REF!"}},{"$f":"IF($B24=\"高\",'雇用保険適用者（６号の２）'!U25,0)","v":{"$error":"#REF!"}},{"$f":"IF($B24=\"高\",'雇用保険適用者（６号の２）'!V25,0)","v":{"$error":"#REF!"}},{"$f":"IF($B24=\"高\",'雇用保険適用者（６号の２）'!W25,0)","v":{"$error":"#REF!"}},{"$f":"IF($B24=\"高\",'雇用保険適用者（６号の２）'!X25,0)","v":{"$error":"#REF!"}},{"$error":"#REF!"},{"$error":"#REF!"}]
[null,{"$f":"'雇用保険適用者（６号の２）'!#REF!","v":{"$error":"#REF!"}},null,null,null,null,null,null,null,null,null,null,null,{"$f":"IF($B26=\"高\",'雇用保険適用者（６号の２）'!M26,0)","v":{"$error":"#REF!"}},{"$f":"IF($B26=\"高\",'雇用保険適用者（６号の２）'!N26,0)","v":{"$error":"#REF!"}},{"$f":"IF($B26=\"高\",'雇用保険適用者（６号の２）'!O26,0)","v":{"$error":"#REF!"}},{"$f":"IF($B26=\"高\",'雇用保険適用者（６号の２）'!P26,0)","v":{"$error":"#REF!"}},{"$f":"IF($B26=\"高\",'雇用保険適用者（６号の２）'!Q26,0)","v":{"$error":"#REF!"}},{"$f":"IF($B26=\"高\",'雇用保険適用者（６号の２）'!R26,0)","v":{"$error":"#REF!"}},{"$f":"IF($B26=\"高\",'雇用保険適用者（６号の２）'!S26,0)","v":{"$error":"#REF!"}},{"$f":"IF($B26=\"高\",'雇用保険適用者（６号の２）'!T26,0)","v":{"$error":"#REF!"}},{"$f":"IF($B26=\"高\",'雇用保険適用者（６号の２）'!U26,0)","v":{"$error":"#REF!"}},{"$f":"IF($B26=\"高\",'雇用保険適用者（６号の２）'!V26,0)","v":{"$error":"#REF!"}},{"$f":"IF($B26=\"高\",'雇用保険適用者（６号の２）'!W26,0)","v":{"$error":"#REF!"}},{"$f":"IF($B26=\"高\",'雇用保険適用者（６号の２）'!X26,0)","v":{"$error":"#REF!"}},{"$error":"#REF!"},{"$error":"#REF!"}]
[null,null,null,null,null,null,null,null,null,null,null,null,null,{"$f":"IF($B26=\"高\",'雇用保険適用者（６号の２）'!M27,0)","v":{"$error":"#REF!"}},{"$f":"IF($B26=\"高\",'雇用保険適用者（６号の２）'!N27,0)","v":{"$error":"#REF!"}},{"$f":"IF($B26=\"高\",'雇用保険適用者（６号の２）'!O27,0)","v":{"$error":"#REF!"}},{"$f":"IF($B26=\"高\",'雇用保険適用者（６号の２）'!P27,0)","v":{"$error":"#REF!"}},{"$f":"IF($B26=\"高\",'雇用保険適用者（６号の２）'!Q27,0)","v":{"$error":"#REF!"}},{"$f":"IF($B26=\"高\",'雇用保険適用者（６号の２）'!R27,0)","v":{"$error":"#REF!"}},{"$f":"IF($B26=\"高\",'雇用保険適用者（６号の２）'!S27,0)","v":{"$error":"#REF!"}},{"$f":"IF($B26=\"高\",'雇用保険適用者（６号の２）'!T27,0)","v":{"$error":"#REF!"}},{"$f":"IF($B26=\"高\",'雇用保険適用者（６号の２）'!U27,0)","v":{"$error":"#REF!"}},{"$f":"IF($B26=\"高\",'雇用保険適用者（６号の２）'!V27,0)","v":{"$error":"#REF!"}},{"$f":"IF($B26=\"高\",'雇用保険適用者（６号の２）'!W27,0)","v":{"$error":"#REF!"}},{"$f":"IF($B26=\"高\",'雇用保険適用者（６号の２）'!X27,0)","v":{"$error":"#REF!"}},{"$error":"#REF!"},{"$error":"#REF!"}]
[null,{"$f":"'雇用保険適用者（６号の２）'!#REF!","v":{"$error":"#REF!"}},null,null,null,null,null,null,null,null,null,null,null,{"$f":"IF($B28=\"高\",'雇用保険適用者（６号の２）'!M28,0)","v":{"$error":"#REF!"}},{"$f":"IF($B28=\"高\",'雇用保険適用者（６号の２）'!N28,0)","v":{"$error":"#REF!"}},{"$f":"IF($B28=\"高\",'雇用保険適用者（６号の２）'!O28,0)","v":{"$error":"#REF!"}},{"$f":"IF($B28=\"高\",'雇用保険適用者（６号の２）'!P28,0)","v":{"$error":"#REF!"}},{"$f":"IF($B28=\"高\",'雇用保険適用者（６号の２）'!Q28,0)","v":{"$error":"#REF!"}},{"$f":"IF($B28=\"高\",'雇用保険適用者（６号の２）'!R28,0)","v":{"$error":"#REF!"}},{"$f":"IF($B28=\"高\",'雇用保険適用者（６号の２）'!S28,0)","v":{"$error":"#REF!"}},{"$f":"IF($B28=\"高\",'雇用保険適用者（６号の２）'!T28,0)","v":{"$error":"#REF!"}},{"$f":"IF($B28=\"高\",'雇用保険適用者（６号の２）'!U28,0)","v":{"$error":"#REF!"}},{"$f":"IF($B28=\"高\",'雇用保険適用者（６号の２）'!V28,0)","v":{"$error":"#REF!"}},{"$f":"IF($B28=\"高\",'雇用保険適用者（６号の２）'!W28,0)","v":{"$error":"#REF!"}},{"$f":"IF($B28=\"高\",'雇用保険適用者（６号の２）'!X28,0)","v":{"$error":"#REF!"}},{"$error":"#REF!"},{"$error":"#REF!"}]
[null,null,null,null,null,null,null,null,null,null,null,null,null,{"$f":"IF($B28=\"高\",'雇用保険適用者（６号の２）'!M29,0)","v":{"$error":"#REF!"}},{"$f":"IF($B28=\"高\",'雇用保険適用者（６号の２）'!N29,0)","v":{"$error":"#REF!"}},{"$f":"IF($B28=\"高\",'雇用保険適用者（６号の２）'!O29,0)","v":{"$error":"#REF!"}},{"$f":"IF($B28=\"高\",'雇用保険適用者（６号の２）'!P29,0)","v":{"$error":"#REF!"}},{"$f":"IF($B28=\"高\",'雇用保険適用者（６号の２）'!Q29,0)","v":{"$error":"#REF!"}},{"$f":"IF($B28=\"高\",'雇用保険適用者（６号の２）'!R29,0)","v":{"$error":"#REF!"}},{"$f":"IF($B28=\"高\",'雇用保険適用者（６号の２）'!S29,0)","v":{"$error":"#REF!"}},{"$f":"IF($B28=\"高\",'雇用保険適用者（６号の２）'!T29,0)","v":{"$error":"#REF!"}},{"$f":"IF($B28=\"高\",'雇用保険適用者（６号の２）'!U29,0)","v":{"$error":"#REF!"}},{"$f":"IF($B28=\"高\",'雇用保険適用者（６号の２）'!V29,0)","v":{"$error":"#REF!"}},{"$f":"IF($B28=\"高\",'雇用保険適用者（６号の２）'!W29,0)","v":{"$error":"#REF!"}},{"$f":"IF($B28=\"高\",'雇用保険適用者（６号の２）'!X29,0)","v":{"$error":"#REF!"}},{"$error":"#REF!"},{"$error":"#REF!"}]
[null,{"$f":"'雇用保険適用者（６号の２）'!#REF!","v":{"$error":"#REF!"}},null,null,null,null,null,null,null,null,null,null,null,{"$f":"IF($B30=\"高\",'雇用保険適用者（６号の２）'!M30,0)","v":{"$error":"#REF!"}},{"$f":"IF($B30=\"高\",'雇用保険適用者（６号の２）'!N30,0)","v":{"$error":"#REF!"}},{"$f":"IF($B30=\"高\",'雇用保険適用者（６号の２）'!O30,0)","v":{"$error":"#REF!"}},{"$f":"IF($B30=\"高\",'雇用保険適用者（６号の２）'!P30,0)","v":{"$error":"#REF!"}},{"$f":"IF($B30=\"高\",'雇用保険適用者（６号の２）'!Q30,0)","v":{"$error":"#REF!"}},{"$f":"IF($B30=\"高\",'雇用保険適用者（６号の２）'!R30,0)","v":{"$error":"#REF!"}},{"$f":"IF($B30=\"高\",'雇用保険適用者（６号の２）'!S30,0)","v":{"$error":"#REF!"}},{"$f":"IF($B30=\"高\",'雇用保険適用者（６号の２）'!T30,0)","v":{"$error":"#REF!"}},{"$f":"IF($B30=\"高\",'雇用保険適用者（６号の２）'!U30,0)","v":{"$error":"#REF!"}},{"$f":"IF($B30=\"高\",'雇用保険適用者（６号の２）'!V30,0)","v":{"$error":"#REF!"}},{"$f":"IF($B30=\"高\",'雇用保険適用者（６号の２）'!W30,0)","v":{"$error":"#REF!"}},{"$f":"IF($B30=\"高\",'雇用保険適用者（６号の２）'!X30,0)","v":{"$error":"#REF!"}},{"$error":"#REF!"},{"$error":"#REF!"}]
[null,null,null,null,null,null,null,null,null,null,null,null,null,{"$f":"IF($B30=\"高\",'雇用保険適用者（６号の２）'!M31,0)","v":{"$error":"#REF!"}},{"$f":"IF($B30=\"高\",'雇用保険適用者（６号の２）'!N31,0)","v":{"$error":"#REF!"}},{"$f":"IF($B30=\"高\",'雇用保険適用者（６号の２）'!O31,0)","v":{"$error":"#REF!"}},{"$f":"IF($B30=\"高\",'雇用保険適用者（６号の２）'!P31,0)","v":{"$error":"#REF!"}},{"$f":"IF($B30=\"高\",'雇用保険適用者（６号の２）'!Q31,0)","v":{"$error":"#REF!"}},{"$f":"IF($B30=\"高\",'雇用保険適用者（６号の２）'!R31,0)","v":{"$error":"#REF!"}},{"$f":"IF($B30=\"高\",'雇用保険適用者（６号の２）'!S31,0)","v":{"$error":"#REF!"}},{"$f":"IF($B30=\"高\",'雇用保険適用者（６号の２）'!T31,0)","v":{"$error":"#REF!"}},{"$f":"IF($B30=\"高\",'雇用保険適用者（６号の２）'!U31,0)","v":{"$error":"#REF!"}},{"$f":"IF($B30=\"高\",'雇用保険適用者（６号の２）'!V31,0)","v":{"$error":"#REF!"}},{"$f":"IF($B30=\"高\",'雇用保険適用者（６号の２）'!W31,0)","v":{"$error":"#REF!"}},{"$f":"IF($B30=\"高\",'雇用保険適用者（６号の２）'!X31,0)","v":{"$error":"#REF!"}},{"$error":"#REF!"},{"$error":"#REF!"}]
[null,{"$f":"'雇用保険適用者（６号の２）'!#REF!","v":{"$error":"#REF!"}},null,null,null,null,null,null,null,null,null,null,null,{"$f":"IF($B32=\"高\",'雇用保険適用者（６号の２）'!M32,0)","v":{"$error":"#REF!"}},{"$f":"IF($B32=\"高\",'雇用保険適用者（６号の２）'!N32,0)","v":{"$error":"#REF!"}},{"$f":"IF($B32=\"高\",'雇用保険適用者（６号の２）'!O32,0)","v":{"$error":"#REF!"}},{"$f":"IF($B32=\"高\",'雇用保険適用者（６号の２）'!P32,0)","v":{"$error":"#REF!"}},{"$f":"IF($B32=\"高\",'雇用保険適用者（６号の２）'!Q32,0)","v":{"$error":"#REF!"}},{"$f":"IF($B32=\"高\",'雇用保険適用者（６号の２）'!R32,0)","v":{"$error":"#REF!"}},{"$f":"IF($B32=\"高\",'雇用保険適用者（６号の２）'!S32,0)","v":{"$error":"#REF!"}},{"$f":"IF($B32=\"高\",'雇用保険適用者（６号の２）'!T32,0)","v":{"$error":"#REF!"}},{"$f":"IF($B32=\"高\",'雇用保険適用者（６号の２）'!U32,0)","v":{"$error":"#REF!"}},{"$f":"IF($B32=\"高\",'雇用保険適用者（６号の２）'!V32,0)","v":{"$error":"#REF!"}},{"$f":"IF($B32=\"高\",'雇用保険適用者（６号の２）'!W32,0)","v":{"$error":"#REF!"}},{"$f":"IF($B32=\"高\",'雇用保険適用者（６号の２）'!X32,0)","v":{"$error":"#REF!"}},{"$error":"#REF!"},{"$error":"#REF!"}]
[null,null,null,null,null,null,null,null,null,null,null,null,null,{"$f":"IF($B32=\"高\",'雇用保険適用者（６号の２）'!M33,0)","v":{"$error":"#REF!"}},{"$f":"IF($B32=\"高\",'雇用保険適用者（６号の２）'!N33,0)","v":{"$error":"#REF!"}},{"$f":"IF($B32=\"高\",'雇用保険適用者（６号の２）'!O33,0)","v":{"$error":"#REF!"}},{"$f":"IF($B32=\"高\",'雇用保険適用者（６号の２）'!P33,0)","v":{"$error":"#REF!"}},{"$f":"IF($B32=\"高\",'雇用保険適用者（６号の２）'!Q33,0)","v":{"$error":"#REF!"}},{"$f":"IF($B32=\"高\",'雇用保険適用者（６号の２）'!R33,0)","v":{"$error":"#REF!"}},{"$f":"IF($B32=\"高\",'雇用保険適用者（６号の２）'!S33,0)","v":{"$error":"#REF!"}},{"$f":"IF($B32=\"高\",'雇用保険適用者（６号の２）'!T33,0)","v":{"$error":"#REF!"}},{"$f":"IF($B32=\"高\",'雇用保険適用者（６号の２）'!U33,0)","v":{"$error":"#REF!"}},{"$f":"IF($B32=\"高\",'雇用保険適用者（６号の２）'!V33,0)","v":{"$error":"#REF!"}},{"$f":"IF($B32=\"高\",'雇用保険適用者（６号の２）'!W33,0)","v":{"$error":"#REF!"}},{"$f":"IF($B32=\"高\",'雇用保険適用者（６号の２）'!X33,0)","v":{"$error":"#REF!"}},{"$error":"#REF!"},{"$error":"#REF!"}]
[null,{"$f":"'雇用保険適用者（６号の２）'!#REF!","v":{"$error":"#REF!"}},null,null,null,null,null,null,null,null,null,null,null,{"$f":"IF($B34=\"高\",'雇用保険適用者（６号の２）'!M34,0)","v":{"$error":"#REF!"}},{"$f":"IF($B34=\"高\",'雇用保険適用者（６号の２）'!N34,0)","v":{"$error":"#REF!"}},{"$f":"IF($B34=\"高\",'雇用保険適用者（６号の２）'!O34,0)","v":{"$error":"#REF!"}},{"$f":"IF($B34=\"高\",'雇用保険適用者（６号の２）'!P34,0)","v":{"$error":"#REF!"}},{"$f":"IF($B34=\"高\",'雇用保険適用者（６号の２）'!Q34,0)","v":{"$error":"#REF!"}},{"$f":"IF($B34=\"高\",'雇用保険適用者（６号の２）'!R34,0)","v":{"$error":"#REF!"}},{"$f":"IF($B34=\"高\",'雇用保険適用者（６号の２）'!S34,0)","v":{"$error":"#REF!"}},{"$f":"IF($B34=\"高\",'雇用保険適用者（６号の２）'!T34,0)","v":{"$error":"#REF!"}},{"$f":"IF($B34=\"高\",'雇用保険適用者（６号の２）'!U34,0)","v":{"$error":"#REF!"}},{"$f":"IF($B34=\"高\",'雇用保険適用者（６号の２）'!V34,0)","v":{"$error":"#REF!"}},{"$f":"IF($B34=\"高\",'雇用保険適用者（６号の２）'!W34,0)","v":{"$error":"#REF!"}},{"$f":"IF($B34=\"高\",'雇用保険適用者（６号の２）'!X34,0)","v":{"$error":"#REF!"}},{"$error":"#REF!"},{"$error":"#REF!"}]
[null,null,null,null,null,null,null,null,null,null,null,null,null,{"$f":"IF($B34=\"高\",'雇用保険適用者（６号の２）'!M35,0)","v":{"$error":"#REF!"}},{"$f":"IF($B34=\"高\",'雇用保険適用者（６号の２）'!N35,0)","v":{"$error":"#REF!"}},{"$f":"IF($B34=\"高\",'雇用保険適用者（６号の２）'!O35,0)","v":{"$error":"#REF!"}},{"$f":"IF($B34=\"高\",'雇用保険適用者（６号の２）'!P35,0)","v":{"$error":"#REF!"}},{"$f":"IF($B34=\"高\",'雇用保険適用者（６号の２）'!Q35,0)","v":{"$error":"#REF!"}},{"$f":"IF($B34=\"高\",'雇用保険適用者（６号の２）'!R35,0)","v":{"$error":"#REF!"}},{"$f":"IF($B34=\"高\",'雇用保険適用者（６号の２）'!S35,0)","v":{"$error":"#REF!"}},{"$f":"IF($B34=\"高\",'雇用保険適用者（６号の２）'!T35,0)","v":{"$error":"#REF!"}},{"$f":"IF($B34=\"高\",'雇用保険適用者（６号の２）'!U35,0)","v":{"$error":"#REF!"}},{"$f":"IF($B34=\"高\",'雇用保険適用者（６号の２）'!V35,0)","v":{"$error":"#REF!"}},{"$f":"IF($B34=\"高\",'雇用保険適用者（６号の２）'!W35,0)","v":{"$error":"#REF!"}},{"$f":"IF($B34=\"高\",'雇用保険適用者（６号の２）'!X35,0)","v":{"$error":"#REF!"}},{"$error":"#REF!"},{"$error":"#REF!"}]
[null,{"$f":"'雇用保険適用者（６号の２）'!#REF!","v":{"$error":"#REF!"}},null,null,null,null,null,null,null,null,null,null,null,{"$f":"IF($B36=\"高\",'雇用保険適用者（６号の２）'!M36,0)","v":{"$error":"#REF!"}},{"$f":"IF($B36=\"高\",'雇用保険適用者（６号の２）'!N36,0)","v":{"$error":"#REF!"}},{"$f":"IF($B36=\"高\",'雇用保険適用者（６号の２）'!O36,0)","v":{"$error":"#REF!"}},{"$f":"IF($B36=\"高\",'雇用保険適用者（６号の２）'!P36,0)","v":{"$error":"#REF!"}},{"$f":"IF($B36=\"高\",'雇用保険適用者（６号の２）'!Q36,0)","v":{"$error":"#REF!"}},{"$f":"IF($B36=\"高\",'雇用保険適用者（６号の２）'!R36,0)","v":{"$error":"#REF!"}},{"$f":"IF($B36=\"高\",'雇用保険適用者（６号の２）'!S36,0)","v":{"$error":"#REF!"}},{"$f":"IF($B36=\"高\",'雇用保険適用者（６号の２）'!T36,0)","v":{"$error":"#REF!"}},{"$f":"IF($B36=\"高\",'雇用保険適用者（６号の２）'!U36,0)","v":{"$error":"#REF!"}},{"$f":"IF($B36=\"高\",'雇用保険適用者（６号の２）'!V36,0)","v":{"$error":"#REF!"}},{"$f":"IF($B36=\"高\",'雇用保険適用者（６号の２）'!W36,0)","v":{"$error":"#REF!"}},{"$f":"IF($B36=\"高\",'雇用保険適用者（６号の２）'!X36,0)","v":{"$error":"#REF!"}},{"$error":"#REF!"},{"$error":"#REF!"}]
[null,null,null,null,null,null,null,null,null,null,null,null,null,{"$f":"IF($B36=\"高\",'雇用保険適用者（６号の２）'!M37,0)","v":{"$error":"#REF!"}},{"$f":"IF($B36=\"高\",'雇用保険適用者（６号の２）'!N37,0)","v":{"$error":"#REF!"}},{"$f":"IF($B36=\"高\",'雇用保険適用者（６号の２）'!O37,0)","v":{"$error":"#REF!"}},{"$f":"IF($B36=\"高\",'雇用保険適用者（６号の２）'!P37,0)","v":{"$error":"#REF!"}},{"$f":"IF($B36=\"高\",'雇用保険適用者（６号の２）'!Q37,0)","v":{"$error":"#REF!"}},{"$f":"IF($B36=\"高\",'雇用保険適用者（６号の２）'!R37,0)","v":{"$error":"#REF!"}},{"$f":"IF($B36=\"高\",'雇用保険適用者（６号の２）'!S37,0)","v":{"$error":"#REF!"}},{"$f":"IF($B36=\"高\",'雇用保険適用者（６号の２）'!T37,0)","v":{"$error":"#REF!"}},{"$f":"IF($B36=\"高\",'雇用保険適用者（６号の２）'!U37,0)","v":{"$error":"#REF!"}},{"$f":"IF($B36=\"高\",'雇用保険適用者（６号の２）'!V37,0)","v":{"$error":"#REF!"}},{"$f":"IF($B36=\"高\",'雇用保険適用者（６号の２）'!W37,0)","v":{"$error":"#REF!"}},{"$f":"IF($B36=\"高\",'雇用保険適用者（６号の２）'!X37,0)","v":{"$error":"#REF!"}},{"$error":"#REF!"},{"$error":"#REF!"}]
[null,{"$f":"'雇用保険適用者（６号の２）'!#REF!","v":{"$error":"#REF!"}},null,null,null,null,null,null,null,null,null,null,null,{"$f":"IF($B38=\"高\",'雇用保険適用者（６号の２）'!M38,0)","v":{"$error":"#REF!"}},{"$f":"IF($B38=\"高\",'雇用保険適用者（６号の２）'!N38,0)","v":{"$error":"#REF!"}},{"$f":"IF($B38=\"高\",'雇用保険適用者（６号の２）'!O38,0)","v":{"$error":"#REF!"}},{"$f":"IF($B38=\"高\",'雇用保険適用者（６号の２）'!P38,0)","v":{"$error":"#REF!"}},{"$f":"IF($B38=\"高\",'雇用保険適用者（６号の２）'!Q38,0)","v":{"$error":"#REF!"}},{"$f":"IF($B38=\"高\",'雇用保険適用者（６号の２）'!R38,0)","v":{"$error":"#REF!"}},{"$f":"IF($B38=\"高\",'雇用保険適用者（６号の２）'!S38,0)","v":{"$error":"#REF!"}},{"$f":"IF($B38=\"高\",'雇用保険適用者（６号の２）'!T38,0)","v":{"$error":"#REF!"}},{"$f":"IF($B38=\"高\",'雇用保険適用者（６号の２）'!U38,0)","v":{"$error":"#REF!"}},{"$f":"IF($B38=\"高\",'雇用保険適用者（６号の２）'!V38,0)","v":{"$error":"#REF!"}},{"$f":"IF($B38=\"高\",'雇用保険適用者（６号の２）'!W38,0)","v":{"$error":"#REF!"}},{"$f":"IF($B38=\"高\",'雇用保険適用者（６号の２）'!X38,0)","v":{"$error":"#REF!"}},{"$error":"#REF!"},{"$error":"#REF!"}]
[null,null,null,null,null,null,null,null,null,null,null,null,null,{"$f":"IF($B38=\"高\",'雇用保険適用者（６号の２）'!M39,0)","v":{"$error":"#REF!"}},{"$f":"IF($B38=\"高\",'雇用保険適用者（６号の２）'!N39,0)","v":{"$error":"#REF!"}},{"$f":"IF($B38=\"高\",'雇用保険適用者（６号の２）'!O39,0)","v":{"$error":"#REF!"}},{"$f":"IF($B38=\"高\",'雇用保険適用者（６号の２）'!P39,0)","v":{"$error":"#REF!"}},{"$f":"IF($B38=\"高\",'雇用保険適用者（６号の２）'!Q39,0)","v":{"$error":"#REF!"}},{"$f":"IF($B38=\"高\",'雇用保険適用者（６号の２）'!R39,0)","v":{"$error":"#REF!"}},{"$f":"IF($B38=\"高\",'雇用保険適用者（６号の２）'!S39,0)","v":{"$error":"#REF!"}},{"$f":"IF($B38=\"高\",'雇用保険適用者（６号の２）'!T39,0)","v":{"$error":"#REF!"}},{"$f":"IF($B38=\"高\",'雇用保険適用者（６号の２）'!U39,0)","v":{"$error":"#REF!"}},{"$f":"IF($B38=\"高\",'雇用保険適用者（６号の２）'!V39,0)","v":{"$error":"#REF!"}},{"$f":"IF($B38=\"高\",'雇用保険適用者（６号の２）'!W39,0)","v":{"$error":"#REF!"}},{"$f":"IF($B38=\"高\",'雇用保険適用者（６号の２）'!X39,0)","v":{"$error":"#REF!"}},{"$error":"#REF!"},{"$error":"#REF!"}]
[null,{"$f":"'雇用保険適用者（６号の２）'!#REF!","v":{"$error":"#REF!"}},null,null,null,null,null,null,null,null,null,null,null,{"$f":"IF($B40=\"高\",'雇用保険適用者（６号の２）'!M40,0)","v":{"$error":"#REF!"}},{"$f":"IF($B40=\"高\",'雇用保険適用者（６号の２）'!N40,0)","v":{"$error":"#REF!"}},{"$f":"IF($B40=\"高\",'雇用保険適用者（６号の２）'!O40,0)","v":{"$error":"#REF!"}},{"$f":"IF($B40=\"高\",'雇用保険適用者（６号の２）'!P40,0)","v":{"$error":"#REF!"}},{"$f":"IF($B40=\"高\",'雇用保険適用者（６号の２）'!Q40,0)","v":{"$error":"#REF!"}},{"$f":"IF($B40=\"高\",'雇用保険適用者（６号の２）'!R40,0)","v":{"$error":"#REF!"}},{"$f":"IF($B40=\"高\",'雇用保険適用者（６号の２）'!S40,0)","v":{"$error":"#REF!"}},{"$f":"IF($B40=\"高\",'雇用保険適用者（６号の２）'!T40,0)","v":{"$error":"#REF!"}},{"$f":"IF($B40=\"高\",'雇用保険適用者（６号の２）'!U40,0)","v":{"$error":"#REF!"}},{"$f":"IF($B40=\"高\",'雇用保険適用者（６号の２）'!V40,0)","v":{"$error":"#REF!"}},{"$f":"IF($B40=\"高\",'雇用保険適用者（６号の２）'!W40,0)","v":{"$error":"#REF!"}},{"$f":"IF($B40=\"高\",'雇用保険適用者（６号の２）'!X40,0)","v":{"$error":"#REF!"}},{"$error":"#REF!"},{"$error":"#REF!"}]
[null,null,null,null,null,null,null,null,null,null,null,null,null,{"$f":"IF($B40=\"高\",'雇用保険適用者（６号の２）'!M41,0)","v":{"$error":"#REF!"}},{"$f":"IF($B40=\"高\",'雇用保険適用者（６号の２）'!N41,0)","v":{"$error":"#REF!"}},{"$f":"IF($B40=\"高\",'雇用保険適用者（６号の２）'!O41,0)","v":{"$error":"#REF!"}},{"$f":"IF($B40=\"高\",'雇用保険適用者（６号の２）'!P41,0)","v":{"$error":"#REF!"}},{"$f":"IF($B40=\"高\",'雇用保険適用者（６号の２）'!Q41,0)","v":{"$error":"#REF!"}},{"$f":"IF($B40=\"高\",'雇用保険適用者（６号の２）'!R41,0)","v":{"$error":"#REF!"}},{"$f":"IF($B40=\"高\",'雇用保険適用者（６号の２）'!S41,0)","v":{"$error":"#REF!"}},{"$f":"IF($B40=\"高\",'雇用保険適用者（６号の２）'!T41,0)","v":{"$error":"#REF!"}},{"$f":"IF($B40=\"高\",'雇用保険適用者（６号の２）'!U41,0)","v":{"$error":"#REF!"}},{"$f":"IF($B40=\"高\",'雇用保険適用者（６号の２）'!V41,0)","v":{"$error":"#REF!"}},{"$f":"IF($B40=\"高\",'雇用保険適用者（６号の２）'!W41,0)","v":{"$error":"#REF!"}},{"$f":"IF($B40=\"高\",'雇用保険適用者（６号の２）'!X41,0)","v":{"$error":"#REF!"}},{"$error":"#REF!"},{"$f":"SUM(N41:Y41)","v":{"$error":"#REF!"}}]
[null,{"$f":"'雇用保険適用者（６号の２）'!#REF!","v":{"$error":"#REF!"}},null,null,null,null,null,null,null,null,null,null,null,{"$f":"IF($B42=\"高\",'雇用保険適用者（６号の２）'!M42,0)","v":{"$error":"#REF!"}},{"$f":"IF($B42=\"高\",'雇用保険適用者（６号の２）'!N42,0)","v":{"$error":"#REF!"}},{"$f":"IF($B42=\"高\",'雇用保険適用者（６号の２）'!O42,0)","v":{"$error":"#REF!"}},{"$f":"IF($B42=\"高\",'雇用保険適用者（６号の２）'!P42,0)","v":{"$error":"#REF!"}},{"$f":"IF($B42=\"高\",'雇用保険適用者（６号の２）'!Q42,0)","v":{"$error":"#REF!"}},{"$f":"IF($B42=\"高\",'雇用保険適用者（６号の２）'!R42,0)","v":{"$error":"#REF!"}},{"$f":"IF($B42=\"高\",'雇用保険適用者（６号の２）'!S42,0)","v":{"$error":"#REF!"}},{"$f":"IF($B42=\"高\",'雇用保険適用者（６号の２）'!T42,0)","v":{"$error":"#REF!"}},{"$f":"IF($B42=\"高\",'雇用保険適用者（６号の２）'!U42,0)","v":{"$error":"#REF!"}},{"$f":"IF($B42=\"高\",'雇用保険適用者（６号の２）'!V42,0)","v":{"$error":"#REF!"}},{"$f":"IF($B42=\"高\",'雇用保険適用者（６号の２）'!W42,0)","v":{"$error":"#REF!"}},{"$f":"IF($B42=\"高\",'雇用保険適用者（６号の２）'!X42,0)","v":{"$error":"#REF!"}},{"$error":"#REF!"},{"$error":"#REF!"}]
[null,null,null,null,null,null,null,null,null,null,null,null,null,{"$f":"IF($B42=\"高\",'雇用保険適用者（６号の２）'!M43,0)","v":{"$error":"#REF!"}},{"$f":"IF($B42=\"高\",'雇用保険適用者（６号の２）'!N43,0)","v":{"$error":"#REF!"}},{"$f":"IF($B42=\"高\",'雇用保険適用者（６号の２）'!O43,0)","v":{"$error":"#REF!"}},{"$f":"IF($B42=\"高\",'雇用保険適用者（６号の２）'!P43,0)","v":{"$error":"#REF!"}},{"$f":"IF($B42=\"高\",'雇用保険適用者（６号の２）'!Q43,0)","v":{"$error":"#REF!"}},{"$f":"IF($B42=\"高\",'雇用保険適用者（６号の２）'!R43,0)","v":{"$error":"#REF!"}},{"$f":"IF($B42=\"高\",'雇用保険適用者（６号の２）'!S43,0)","v":{"$error":"#REF!"}},{"$f":"IF($B42=\"高\",'雇用保険適用者（６号の２）'!T43,0)","v":{"$error":"#REF!"}},{"$f":"IF($B42=\"高\",'雇用保険適用者（６号の２）'!U43,0)","v":{"$error":"#REF!"}},{"$f":"IF($B42=\"高\",'雇用保険適用者（６号の２）'!V43,0)","v":{"$error":"#REF!"}},{"$f":"IF($B42=\"高\",'雇用保険適用者（６号の２）'!W43,0)","v":{"$error":"#REF!"}},{"$f":"IF($B42=\"高\",'雇用保険適用者（６号の２）'!X43,0)","v":{"$error":"#REF!"}},{"$error":"#REF!"},{"$error":"#REF!"}]
[null,{"$f":"'雇用保険適用者（６号の２）'!#REF!","v":{"$error":"#REF!"}},null,null,null,null,null,null,null,null,null,null,null,{"$f":"IF($B44=\"高\",'雇用保険適用者（６号の２）'!M44,0)","v":{"$error":"#REF!"}},{"$f":"IF($B44=\"高\",'雇用保険適用者（６号の２）'!N44,0)","v":{"$error":"#REF!"}},{"$f":"IF($B44=\"高\",'雇用保険適用者（６号の２）'!O44,0)","v":{"$error":"#REF!"}},{"$f":"IF($B44=\"高\",'雇用保険適用者（６号の２）'!P44,0)","v":{"$error":"#REF!"}},{"$f":"IF($B44=\"高\",'雇用保険適用者（６号の２）'!Q44,0)","v":{"$error":"#REF!"}},{"$f":"IF($B44=\"高\",'雇用保険適用者（６号の２）'!R44,0)","v":{"$error":"#REF!"}},{"$f":"IF($B44=\"高\",'雇用保険適用者（６号の２）'!S44,0)","v":{"$error":"#REF!"}},{"$f":"IF($B44=\"高\",'雇用保険適用者（６号の２）'!T44,0)","v":{"$error":"#REF!"}},{"$f":"IF($B44=\"高\",'雇用保険適用者（６号の２）'!U44,0)","v":{"$error":"#REF!"}},{"$f":"IF($B44=\"高\",'雇用保険適用者（６号の２）'!V44,0)","v":{"$error":"#REF!"}},{"$f":"IF($B44=\"高\",'雇用保険適用者（６号の２）'!W44,0)","v":{"$error":"#REF!"}},{"$f":"IF($B44=\"高\",'雇用保険適用者（６号の２）'!X44,0)","v":{"$error":"#REF!"}},{"$error":"#REF!"},{"$error":"#REF!"}]
[null,null,null,null,null,null,null,null,null,null,null,null,null,{"$f":"IF($B44=\"高\",'雇用保険適用者（６号の２）'!M45,0)","v":{"$error":"#REF!"}},{"$f":"IF($B44=\"高\",'雇用保険適用者（６号の２）'!N45,0)","v":{"$error":"#REF!"}},{"$f":"IF($B44=\"高\",'雇用保険適用者（６号の２）'!O45,0)","v":{"$error":"#REF!"}},{"$f":"IF($B44=\"高\",'雇用保険適用者（６号の２）'!P45,0)","v":{"$error":"#REF!"}},{"$f":"IF($B44=\"高\",'雇用保険適用者（６号の２）'!Q45,0)","v":{"$error":"#REF!"}},{"$f":"IF($B44=\"高\",'雇用保険適用者（６号の２）'!R45,0)","v":{"$error":"#REF!"}},{"$f":"IF($B44=\"高\",'雇用保険適用者（６号の２）'!S45,0)","v":{"$error":"#REF!"}},{"$f":"IF($B44=\"高\",'雇用保険適用者（６号の２）'!T45,0)","v":{"$error":"#REF!"}},{"$f":"IF($B44=\"高\",'雇用保険適用者（６号の２）'!U45,0)","v":{"$error":"#REF!"}},{"$f":"IF($B44=\"高\",'雇用保険適用者（６号の２）'!V45,0)","v":{"$error":"#REF!"}},{"$f":"IF($B44=\"高\",'雇用保険適用者（６号の２）'!W45,0)","v":{"$error":"#REF!"}},{"$f":"IF($B44=\"高\",'雇用保険適用者（６号の２）'!X45,0)","v":{"$error":"#REF!"}},{"$error":"#REF!"},{"$error":"#REF!"}]
[null,{"$f":"'雇用保険適用者（６号の２）'!#REF!","v":{"$error":"#REF!"}},null,null,null,null,null,null,null,null,null,null,null,{"$f":"IF($B46=\"高\",'雇用保険適用者（６号の２）'!M46,0)","v":{"$error":"#REF!"}},{"$f":"IF($B46=\"高\",'雇用保険適用者（６号の２）'!N46,0)","v":{"$error":"#REF!"}},{"$f":"IF($B46=\"高\",'雇用保険適用者（６号の２）'!O46,0)","v":{"$error":"#REF!"}},{"$f":"IF($B46=\"高\",'雇用保険適用者（６号の２）'!P46,0)","v":{"$error":"#REF!"}},{"$f":"IF($B46=\"高\",'雇用保険適用者（６号の２）'!Q46,0)","v":{"$error":"#REF!"}},{"$f":"IF($B46=\"高\",'雇用保険適用者（６号の２）'!R46,0)","v":{"$error":"#REF!"}},{"$f":"IF($B46=\"高\",'雇用保険適用者（６号の２）'!S46,0)","v":{"$error":"#REF!"}},{"$f":"IF($B46=\"高\",'雇用保険適用者（６号の２）'!T46,0)","v":{"$error":"#REF!"}},{"$f":"IF($B46=\"高\",'雇用保険適用者（６号の２）'!U46,0)","v":{"$error":"#REF!"}},{"$f":"IF($B46=\"高\",'雇用保険適用者（６号の２）'!V46,0)","v":{"$error":"#REF!"}},{"$f":"IF($B46=\"高\",'雇用保険適用者（６号の２）'!W46,0)","v":{"$error":"#REF!"}},{"$f":"IF($B46=\"高\",'雇用保険適用者（６号の２）'!X46,0)","v":{"$error":"#REF!"}},{"$error":"#REF!"},{"$error":"#REF!"}]
[null,null,null,null,null,null,null,null,null,null,null,null,null,{"$f":"IF($B46=\"高\",'雇用保険適用者（６号の２）'!M47,0)","v":{"$error":"#REF!"}},{"$f":"IF($B46=\"高\",'雇用保険適用者（６号の２）'!N47,0)","v":{"$error":"#REF!"}},{"$f":"IF($B46=\"高\",'雇用保険適用者（６号の２）'!O47,0)","v":{"$error":"#REF!"}},{"$f":"IF($B46=\"高\",'雇用保険適用者（６号の２）'!P47,0)","v":{"$error":"#REF!"}},{"$f":"IF($B46=\"高\",'雇用保険適用者（６号の２）'!Q47,0)","v":{"$error":"#REF!"}},{"$f":"IF($B46=\"高\",'雇用保険適用者（６号の２）'!R47,0)","v":{"$error":"#REF!"}},{"$f":"IF($B46=\"高\",'雇用保険適用者（６号の２）'!S47,0)","v":{"$error":"#REF!"}},{"$f":"IF($B46=\"高\",'雇用保険適用者（６号の２）'!T47,0)","v":{"$error":"#REF!"}},{"$f":"IF($B46=\"高\",'雇用保険適用者（６号の２）'!U47,0)","v":{"$error":"#REF!"}},{"$f":"IF($B46=\"高\",'雇用保険適用者（６号の２）'!V47,0)","v":{"$error":"#REF!"}},{"$f":"IF($B46=\"高\",'雇用保険適用者（６号の２）'!W47,0)","v":{"$error":"#REF!"}},{"$f":"IF($B46=\"高\",'雇用保険適用者（６号の２）'!X47,0)","v":{"$error":"#REF!"}},{"$error":"#REF!"},{"$error":"#REF!"}]
[null,"　　　　　    　合　　  　　　　計",null,null,null,null,null,null,null,null,null,null,null,{"$f":"IF('雇用保険適用者（６号の２）'!M48=\"\",0,'雇用保険適用者（６号の２）'!M48)","v":0},{"$f":"IF('雇用保険適用者（６号の２）'!N48=\"\",0,'雇用保険適用者（６号の２）'!N48)","v":0},{"$f":"IF('雇用保険適用者（６号の２）'!O48=\"\",0,'雇用保険適用者（６号の２）'!O48)","v":0},{"$f":"IF('雇用保険適用者（６号の２）'!P48=\"\",0,'雇用保険適用者（６号の２）'!P48)","v":0},{"$f":"IF('雇用保険適用者（６号の２）'!Q48=\"\",0,'雇用保険適用者（６号の２）'!Q48)","v":0},{"$f":"IF('雇用保険適用者（６号の２）'!R48=\"\",0,'雇用保険適用者（６号の２）'!R48)","v":0},{"$f":"IF('雇用保険適用者（６号の２）'!S48=\"\",0,'雇用保険適用者（６号の２）'!S48)","v":0},{"$f":"IF('雇用保険適用者（６号の２）'!T48=\"\",0,'雇用保険適用者（６号の２）'!T48)","v":0},{"$f":"IF('雇用保険適用者（６号の２）'!U48=\"\",0,'雇用保険適用者（６号の２）'!U48)","v":0},{"$f":"IF('雇用保険適用者（６号の２）'!V48=\"\",0,'雇用保険適用者（６号の２）'!V48)","v":0},{"$f":"IF('雇用保険適用者（６号の２）'!W48=\"\",0,'雇用保険適用者（６号の２）'!W48)","v":0},{"$f":"IF('雇用保険適用者（６号の２）'!X48=\"\",0,'雇用保険適用者（６号の２）'!X48)","v":0},{"$f":"IF('雇用保険適用者（６号の２）'!Y48=\"\",0,'雇用保険適用者（６号の２）'!Y48)","v":0},{"$f":"IF('雇用保険適用者（６号の２）'!Z48=\"\",0,'雇用保険適用者（６号の２）'!Z48)","v":0}]
[null,null,null,null,null,null,null,null,null,null,null,null,null,{"$f":"IF('雇用保険適用者（６号の２）'!M49=\"\",0,'雇用保険適用者（６号の２）'!M49)","v":0},{"$f":"IF('雇用保険適用者（６号の２）'!N49=\"\",0,'雇用保険適用者（６号の２）'!N49)","v":0},{"$f":"IF('雇用保険適用者（６号の２）'!O49=\"\",0,'雇用保険適用者（６号の２）'!O49)","v":0},{"$f":"IF('雇用保険適用者（６号の２）'!P49=\"\",0,'雇用保険適用者（６号の２）'!P49)","v":0},{"$f":"IF('雇用保険適用者（６号の２）'!Q49=\"\",0,'雇用保険適用者（６号の２）'!Q49)","v":0},{"$f":"IF('雇用保険適用者（６号の２）'!R49=\"\",0,'雇用保険適用者（６号の２）'!R49)","v":0},{"$f":"IF('雇用保険適用者（６号の２）'!S49=\"\",0,'雇用保険適用者（６号の２）'!S49)","v":0},{"$f":"IF('雇用保険適用者（６号の２）'!T49=\"\",0,'雇用保険適用者（６号の２）'!T49)","v":0},{"$f":"IF('雇用保険適用者（６号の２）'!U49=\"\",0,'雇用保険適用者（６号の２）'!U49)","v":0},{"$f":"IF('雇用保険適用者（６号の２）'!V49=\"\",0,'雇用保険適用者（６号の２）'!V49)","v":0},{"$f":"IF('雇用保険適用者（６号の２）'!W49=\"\",0,'雇用保険適用者（６号の２）'!W49)","v":0},{"$f":"IF('雇用保険適用者（６号の２）'!X49=\"\",0,'雇用保険適用者（６号の２）'!X49)","v":0},{"$f":"IF('雇用保険適用者（６号の２）'!Y49=\"\",0,'雇用保険適用者（６号の２）'!Y49)","v":0},{"$f":"IF('雇用保険適用者（６号の２）'!Z49=\"\",0,'雇用保険適用者（６号の２）'!Z49)","v":0}]
[]
[null,"【　注意　】",null,"１　この表は、雇用保険被保険者であるすべての労働者（職員を含む）について、賃金台帳に基づいて作成してください。"]
[null,null,null,"２　賃金額は、超過勤務手当、通勤手当等を含む賃金総額（源泉所得税、社会保険料、雇用保険料等を控除する前の金額）を記載してください。"]
[null,"高",null,"３　各月の賃金額は、原則として支払内容月で作成してください。"]
[null,null,null,"４　雇用保険に係る取得・離職年月日は届出書類と照合の上、正確に記載してください。"]
[null,null,null,"５　賞与、燃料手当、臨時手当などの手当を支給した場合は、該当月欄の上段に賞与等の額を、下段に賃金額を記入してください。（二段書きしてください。）　　　",null,null,null,null,null,null,null,null,null,null,null,null,null,null,null,null,null,null,null,"　　記載例　　","３５０，０００　←　賞与等"]
[null,null,null,null,null,null,null,null,"　　　　　　　　　　　　　　　　　　　　　　　　　　　　　　　　　　　　　　　　　　　　　　　　　　　　　　　　　　　　　　　　　　　　　　　　　　　　　　　　　　　　　　　　　　　　　　　　　　　　　　　　　　　",null,null,null,null,null,null,null,null,null,null,null,null,null,null,null,"２００，０００　←　賃　金"]
[null,"６号の２の計算式。この画面を削除すると正しく表示されません。"]
[]
[]
[]
[null,"氏名",null,null,null,"生年月日",null,null,"被保険者\n資格取得\n年月日",null,null,"被保険者\n離職\n年月日",null,"令和３年４月","令和３年５月","令和３年６月","令和３年７月","令和３年８月","令和３年９月","令和３年１０月","令和３年１１月","令和３年１２月","令和４年１月","令和４年２月","令和４年３月",null,"年度計"]
[]
[" "]
[null,{"$f":"'雇用保険適用者（６号の２）'!#REF!","v":{"$error":"#REF!"}},null,null,null,null,null,null,null,null,null,null,null,{"$f":"IF($B64=\"高\",'雇用保険適用者（６号の２）'!M64,0)","v":{"$error":"#REF!"}},{"$f":"IF($B64=\"高\",'雇用保険適用者（６号の２）'!N64,0)","v":{"$error":"#REF!"}},{"$f":"IF($B64=\"高\",'雇用保険適用者（６号の２）'!O64,0)","v":{"$error":"#REF!"}},{"$f":"IF($B64=\"高\",'雇用保険適用者（６号の２）'!P64,0)","v":{"$error":"#REF!"}},{"$f":"IF($B64=\"高\",'雇用保険適用者（６号の２）'!Q64,0)","v":{"$error":"#REF!"}},{"$f":"IF($B64=\"高\",'雇用保険適用者（６号の２）'!R64,0)","v":{"$error":"#REF!"}},{"$f":"IF($B64=\"高\",'雇用保険適用者（６号の２）'!S64,0)","v":{"$error":"#REF!"}},{"$f":"IF($B64=\"高\",'雇用保険適用者（６号の２）'!T64,0)","v":{"$error":"#REF!"}},{"$f":"IF($B64=\"高\",'雇用保険適用者（６号の２）'!U64,0)","v":{"$error":"#REF!"}},{"$f":"IF($B64=\"高\",'雇用保険適用者（６号の２）'!V64,0)","v":{"$error":"#REF!"}},{"$f":"IF($B64=\"高\",'雇用保険適用者（６号の２）'!W64,0)","v":{"$error":"#REF!"}},{"$f":"IF($B64=\"高\",'雇用保険適用者（６号の２）'!X64,0)","v":{"$error":"#REF!"}},{"$f":"IF($B64=\"高\",'雇用保険適用者（６号の２）'!Y64,0)","v":{"$error":"#REF!"}},{"$f":"IF($B64=\"高\",'雇用保険適用者（６号の２）'!Z64,0)","v":{"$error":"#REF!"}}]
[null,null,null,null,null,null,null,null,null,null,null,null,null,{"$f":"IF($B64=\"高\",'雇用保険適用者（６号の２）'!M65,0)","v":{"$error":"#REF!"}},{"$f":"IF($B64=\"高\",'雇用保険適用者（６号の２）'!N65,0)","v":{"$error":"#REF!"}},{"$f":"IF($B64=\"高\",'雇用保険適用者（６号の２）'!O65,0)","v":{"$error":"#REF!"}},{"$f":"IF($B64=\"高\",'雇用保険適用者（６号の２）'!P65,0)","v":{"$error":"#REF!"}},{"$f":"IF($B64=\"高\",'雇用保険適用者（６号の２）'!Q65,0)","v":{"$error":"#REF!"}},{"$f":"IF($B64=\"高\",'雇用保険適用者（６号の２）'!R65,0)","v":{"$error":"#REF!"}},{"$f":"IF($B64=\"高\",'雇用保険適用者（６号の２）'!S65,0)","v":{"$error":"#REF!"}},{"$f":"IF($B64=\"高\",'雇用保険適用者（６号の２）'!T65,0)","v":{"$error":"#REF!"}},{"$f":"IF($B64=\"高\",'雇用保険適用者（６号の２）'!U65,0)","v":{"$error":"#REF!"}},{"$f":"IF($B64=\"高\",'雇用保険適用者（６号の２）'!V65,0)","v":{"$error":"#REF!"}},{"$f":"IF($B64=\"高\",'雇用保険適用者（６号の２）'!W65,0)","v":{"$error":"#REF!"}},{"$f":"IF($B64=\"高\",'雇用保険適用者（６号の２）'!X65,0)","v":{"$error":"#REF!"}},{"$f":"IF($B65=\"高\",'雇用保険適用者（６号の２）'!Y65,0)","v":0},{"$f":"IF($B65=\"高\",'雇用保険適用者（６号の２）'!Z65,0)","v":0}]
[null,{"$f":"'雇用保険適用者（６号の２）'!#REF!","v":{"$error":"#REF!"}},null,null,null,null,null,null,null,null,null,null,null,{"$f":"IF($B66=\"高\",'雇用保険適用者（６号の２）'!M66,0)","v":{"$error":"#REF!"}},{"$f":"IF($B66=\"高\",'雇用保険適用者（６号の２）'!N66,0)","v":{"$error":"#REF!"}},{"$f":"IF($B66=\"高\",'雇用保険適用者（６号の２）'!O66,0)","v":{"$error":"#REF!"}},{"$f":"IF($B66=\"高\",'雇用保険適用者（６号の２）'!P66,0)","v":{"$error":"#REF!"}},{"$f":"IF($B66=\"高\",'雇用保険適用者（６号の２）'!Q66,0)","v":{"$error":"#REF!"}},{"$f":"IF($B66=\"高\",'雇用保険適用者（６号の２）'!R66,0)","v":{"$error":"#REF!"}},{"$f":"IF($B66=\"高\",'雇用保険適用者（６号の２）'!S66,0)","v":{"$error":"#REF!"}},{"$f":"IF($B66=\"高\",'雇用保険適用者（６号の２）'!T66,0)","v":{"$error":"#REF!"}},{"$f":"IF($B66=\"高\",'雇用保険適用者（６号の２）'!U66,0)","v":{"$error":"#REF!"}},{"$f":"IF($B66=\"高\",'雇用保険適用者（６号の２）'!V66,0)","v":{"$error":"#REF!"}},{"$f":"IF($B66=\"高\",'雇用保険適用者（６号の２）'!W66,0)","v":{"$error":"#REF!"}},{"$f":"IF($B66=\"高\",'雇用保険適用者（６号の２）'!X66,0)","v":{"$error":"#REF!"}},{"$f":"IF($B66=\"高\",'雇用保険適用者（６号の２）'!Y66,0)","v":{"$error":"#REF!"}},{"$f":"IF($B66=\"高\",'雇用保険適用者（６号の２）'!Z66,0)","v":{"$error":"#REF!"}}]
[null,null,null,null,null,null,null,null,null,null,null,null,null,{"$f":"IF($B66=\"高\",'雇用保険適用者（６号の２）'!M67,0)","v":{"$error":"#REF!"}},{"$f":"IF($B66=\"高\",'雇用保険適用者（６号の２）'!N67,0)","v":{"$error":"#REF!"}},{"$f":"IF($B66=\"高\",'雇用保険適用者（６号の２）'!O67,0)","v":{"$error":"#REF!"}},{"$f":"IF($B66=\"高\",'雇用保険適用者（６号の２）'!P67,0)","v":{"$error":"#REF!"}},{"$f":"IF($B66=\"高\",'雇用保険適用者（６号の２）'!Q67,0)","v":{"$error":"#REF!"}},{"$f":"IF($B66=\"高\",'雇用保険適用者（６号の２）'!R67,0)","v":{"$error":"#REF!"}},{"$f":"IF($B66=\"高\",'雇用保険適用者（６号の２）'!S67,0)","v":{"$error":"#REF!"}},{"$f":"IF($B66=\"高\",'雇用保険適用者（６号の２）'!T67,0)","v":{"$error":"#REF!"}},{"$f":"IF($B66=\"高\",'雇用保険適用者（６号の２）'!U67,0)","v":{"$error":"#REF!"}},{"$f":"IF($B66=\"高\",'雇用保険適用者（６号の２）'!V67,0)","v":{"$error":"#REF!"}},{"$f":"IF($B66=\"高\",'雇用保険適用者（６号の２）'!W67,0)","v":{"$error":"#REF!"}},{"$f":"IF($B66=\"高\",'雇用保険適用者（６号の２）'!X67,0)","v":{"$error":"#REF!"}},{"$f":"IF($B67=\"高\",'雇用保険適用者（６号の２）'!Y67,0)","v":0},{"$f":"IF($B67=\"高\",'雇用保険適用者（６号の２）'!Z67,0)","v":0}]
[null,{"$f":"'雇用保険適用者（６号の２）'!#REF!","v":{"$error":"#REF!"}},null,null,null,null,null,null,null,null,null,null,null,{"$f":"IF($B68=\"高\",'雇用保険適用者（６号の２）'!M68,0)","v":{"$error":"#REF!"}},{"$f":"IF($B68=\"高\",'雇用保険適用者（６号の２）'!N68,0)","v":{"$error":"#REF!"}},{"$f":"IF($B68=\"高\",'雇用保険適用者（６号の２）'!O68,0)","v":{"$error":"#REF!"}},{"$f":"IF($B68=\"高\",'雇用保険適用者（６号の２）'!P68,0)","v":{"$error":"#REF!"}},{"$f":"IF($B68=\"高\",'雇用保険適用者（６号の２）'!Q68,0)","v":{"$error":"#REF!"}},{"$f":"IF($B68=\"高\",'雇用保険適用者（６号の２）'!R68,0)","v":{"$error":"#REF!"}},{"$f":"IF($B68=\"高\",'雇用保険適用者（６号の２）'!S68,0)","v":{"$error":"#REF!"}},{"$f":"IF($B68=\"高\",'雇用保険適用者（６号の２）'!T68,0)","v":{"$error":"#REF!"}},{"$f":"IF($B68=\"高\",'雇用保険適用者（６号の２）'!U68,0)","v":{"$error":"#REF!"}},{"$f":"IF($B68=\"高\",'雇用保険適用者（６号の２）'!V68,0)","v":{"$error":"#REF!"}},{"$f":"IF($B68=\"高\",'雇用保険適用者（６号の２）'!W68,0)","v":{"$error":"#REF!"}},{"$f":"IF($B68=\"高\",'雇用保険適用者（６号の２）'!X68,0)","v":{"$error":"#REF!"}},{"$f":"SUM(N68:Y68)","v":{"$error":"#REF!"}},{"$f":"SUM(N68:Y68)","v":{"$error":"#REF!"}}]
[null,null,null,null,null,null,null,null,null,null,null,null,null,{"$f":"IF($B68=\"高\",'雇用保険適用者（６号の２）'!M69,0)","v":{"$error":"#REF!"}},{"$f":"IF($B68=\"高\",'雇用保険適用者（６号の２）'!N69,0)","v":{"$error":"#REF!"}},{"$f":"IF($B68=\"高\",'雇用保険適用者（６号の２）'!O69,0)","v":{"$error":"#REF!"}},{"$f":"IF($B68=\"高\",'雇用保険適用者（６号の２）'!P69,0)","v":{"$error":"#REF!"}},{"$f":"IF($B68=\"高\",'雇用保険適用者（６号の２）'!Q69,0)","v":{"$error":"#REF!"}},{"$f":"IF($B68=\"高\",'雇用保険適用者（６号の２）'!R69,0)","v":{"$error":"#REF!"}},{"$f":"IF($B68=\"高\",'雇用保険適用者（６号の２）'!S69,0)","v":{"$error":"#REF!"}},{"$f":"IF($B68=\"高\",'雇用保険適用者（６号の２）'!T69,0)","v":{"$error":"#REF!"}},{"$f":"IF($B68=\"高\",'雇用保険適用者（６号の２）'!U69,0)","v":{"$error":"#REF!"}},{"$f":"IF($B68=\"高\",'雇用保険適用者（６号の２）'!V69,0)","v":{"$error":"#REF!"}},{"$f":"IF($B68=\"高\",'雇用保険適用者（６号の２）'!W69,0)","v":{"$error":"#REF!"}},{"$f":"IF($B68=\"高\",'雇用保険適用者（６号の２）'!X69,0)","v":{"$error":"#REF!"}},{"$error":"#REF!"},{"$error":"#REF!"}]
[null,{"$f":"'雇用保険適用者（６号の２）'!#REF!","v":{"$error":"#REF!"}},null,null,null,null,null,null,null,null,null,null,null,{"$f":"IF($B70=\"高\",'雇用保険適用者（６号の２）'!M70,0)","v":{"$error":"#REF!"}},{"$f":"IF($B70=\"高\",'雇用保険適用者（６号の２）'!N70,0)","v":{"$error":"#REF!"}},{"$f":"IF($B70=\"高\",'雇用保険適用者（６号の２）'!O70,0)","v":{"$error":"#REF!"}},{"$f":"IF($B70=\"高\",'雇用保険適用者（６号の２）'!P70,0)","v":{"$error":"#REF!"}},{"$f":"IF($B70=\"高\",'雇用保険適用者（６号の２）'!Q70,0)","v":{"$error":"#REF!"}},{"$f":"IF($B70=\"高\",'雇用保険適用者（６号の２）'!R70,0)","v":{"$error":"#REF!"}},{"$f":"IF($B70=\"高\",'雇用保険適用者（６号の２）'!S70,0)","v":{"$error":"#REF!"}},{"$f":"IF($B70=\"高\",'雇用保険適用者（６号の２）'!T70,0)","v":{"$error":"#REF!"}},{"$f":"IF($B70=\"高\",'雇用保険適用者（６号の２）'!U70,0)","v":{"$error":"#REF!"}},{"$f":"IF($B70=\"高\",'雇用保険適用者（６号の２）'!V70,0)","v":{"$error":"#REF!"}},{"$f":"IF($B70=\"高\",'雇用保険適用者（６号の２）'!W70,0)","v":{"$error":"#REF!"}},{"$f":"IF($B70=\"高\",'雇用保険適用者（６号の２）'!X70,0)","v":{"$error":"#REF!"}},{"$error":"#REF!"},{"$error":"#REF!"}]
[null,null,null,null,null,null,null,null,null,null,null,null,null,{"$f":"IF($B70=\"高\",'雇用保険適用者（６号の２）'!M71,0)","v":{"$error":"#REF!"}},{"$f":"IF($B70=\"高\",'雇用保険適用者（６号の２）'!N71,0)","v":{"$error":"#REF!"}},{"$f":"IF($B70=\"高\",'雇用保険適用者（６号の２）'!O71,0)","v":{"$error":"#REF!"}},{"$f":"IF($B70=\"高\",'雇用保険適用者（６号の２）'!P71,0)","v":{"$error":"#REF!"}},{"$f":"IF($B70=\"高\",'雇用保険適用者（６号の２）'!Q71,0)","v":{"$error":"#REF!"}},{"$f":"IF($B70=\"高\",'雇用保険適用者（６号の２）'!R71,0)","v":{"$error":"#REF!"}},{"$f":"IF($B70=\"高\",'雇用保険適用者（６号の２）'!S71,0)","v":{"$error":"#REF!"}},{"$f":"IF($B70=\"高\",'雇用保険適用者（６号の２）'!T71,0)","v":{"$error":"#REF!"}},{"$f":"IF($B70=\"高\",'雇用保険適用者（６号の２）'!U71,0)","v":{"$error":"#REF!"}},{"$f":"IF($B70=\"高\",'雇用保険適用者（６号の２）'!V71,0)","v":{"$error":"#REF!"}},{"$f":"IF($B70=\"高\",'雇用保険適用者（６号の２）'!W71,0)","v":{"$error":"#REF!"}},{"$f":"IF($B70=\"高\",'雇用保険適用者（６号の２）'!X71,0)","v":{"$error":"#REF!"}},{"$error":"#REF!"},{"$error":"#REF!"}]
[null,{"$f":"'雇用保険適用者（６号の２）'!#REF!","v":{"$error":"#REF!"}},null,null,null,null,null,null,null,null,null,null,null,{"$f":"IF($B72=\"高\",'雇用保険適用者（６号の２）'!M72,0)","v":{"$error":"#REF!"}},{"$f":"IF($B72=\"高\",'雇用保険適用者（６号の２）'!N72,0)","v":{"$error":"#REF!"}},{"$f":"IF($B72=\"高\",'雇用保険適用者（６号の２）'!O72,0)","v":{"$error":"#REF!"}},{"$f":"IF($B72=\"高\",'雇用保険適用者（６号の２）'!P72,0)","v":{"$error":"#REF!"}},{"$f":"IF($B72=\"高\",'雇用保険適用者（６号の２）'!Q72,0)","v":{"$error":"#REF!"}},{"$f":"IF($B72=\"高\",'雇用保険適用者（６号の２）'!R72,0)","v":{"$error":"#REF!"}},{"$f":"IF($B72=\"高\",'雇用保険適用者（６号の２）'!S72,0)","v":{"$error":"#REF!"}},{"$f":"IF($B72=\"高\",'雇用保険適用者（６号の２）'!T72,0)","v":{"$error":"#REF!"}},{"$f":"IF($B72=\"高\",'雇用保険適用者（６号の２）'!U72,0)","v":{"$error":"#REF!"}},{"$f":"IF($B72=\"高\",'雇用保険適用者（６号の２）'!V72,0)","v":{"$error":"#REF!"}},{"$f":"IF($B72=\"高\",'雇用保険適用者（６号の２）'!W72,0)","v":{"$error":"#REF!"}},{"$f":"IF($B72=\"高\",'雇用保険適用者（６号の２）'!X72,0)","v":{"$error":"#REF!"}},{"$error":"#REF!"},{"$error":"#REF!"}]
[null,null,null,null,null,null,null,null,null,null,null,null,null,{"$f":"IF($B72=\"高\",'雇用保険適用者（６号の２）'!M73,0)","v":{"$error":"#REF!"}},{"$f":"IF($B72=\"高\",'雇用保険適用者（６号の２）'!N73,0)","v":{"$error":"#REF!"}},{"$f":"IF($B72=\"高\",'雇用保険適用者（６号の２）'!O73,0)","v":{"$error":"#REF!"}},{"$f":"IF($B72=\"高\",'雇用保険適用者（６号の２）'!P73,0)","v":{"$error":"#REF!"}},{"$f":"IF($B72=\"高\",'雇用保険適用者（６号の２）'!Q73,0)","v":{"$error":"#REF!"}},{"$f":"IF($B72=\"高\",'雇用保険適用者（６号の２）'!R73,0)","v":{"$error":"#REF!"}},{"$f":"IF($B72=\"高\",'雇用保険適用者（６号の２）'!S73,0)","v":{"$error":"#REF!"}},{"$f":"IF($B72=\"高\",'雇用保険適用者（６号の２）'!T73,0)","v":{"$error":"#REF!"}},{"$f":"IF($B72=\"高\",'雇用保険適用者（６号の２）'!U73,0)","v":{"$error":"#REF!"}},{"$f":"IF($B72=\"高\",'雇用保険適用者（６号の２）'!V73,0)","v":{"$error":"#REF!"}},{"$f":"IF($B72=\"高\",'雇用保険適用者（６号の２）'!W73,0)","v":{"$error":"#REF!"}},{"$f":"IF($B72=\"高\",'雇用保険適用者（６号の２）'!X73,0)","v":{"$error":"#REF!"}},{"$error":"#REF!"},{"$error":"#REF!"}]
[null,{"$f":"'雇用保険適用者（６号の２）'!#REF!","v":{"$error":"#REF!"}},null,null,null,null,null,null,null,null,null,null,null,{"$f":"IF($B74=\"高\",'雇用保険適用者（６号の２）'!M74,0)","v":{"$error":"#REF!"}},{"$f":"IF($B74=\"高\",'雇用保険適用者（６号の２）'!N74,0)","v":{"$error":"#REF!"}},{"$f":"IF($B74=\"高\",'雇用保険適用者（６号の２）'!O74,0)","v":{"$error":"#REF!"}},{"$f":"IF($B74=\"高\",'雇用保険適用者（６号の２）'!P74,0)","v":{"$error":"#REF!"}},{"$f":"IF($B74=\"高\",'雇用保険適用者（６号の２）'!Q74,0)","v":{"$error":"#REF!"}},{"$f":"IF($B74=\"高\",'雇用保険適用者（６号の２）'!R74,0)","v":{"$error":"#REF!"}},{"$f":"IF($B74=\"高\",'雇用保険適用者（６号の２）'!S74,0)","v":{"$error":"#REF!"}},{"$f":"IF($B74=\"高\",'雇用保険適用者（６号の２）'!T74,0)","v":{"$error":"#REF!"}},{"$f":"IF($B74=\"高\",'雇用保険適用者（６号の２）'!U74,0)","v":{"$error":"#REF!"}},{"$f":"IF($B74=\"高\",'雇用保険適用者（６号の２）'!V74,0)","v":{"$error":"#REF!"}},{"$f":"IF($B74=\"高\",'雇用保険適用者（６号の２）'!W74,0)","v":{"$error":"#REF!"}},{"$f":"IF($B74=\"高\",'雇用保険適用者（６号の２）'!X74,0)","v":{"$error":"#REF!"}},{"$error":"#REF!"},{"$error":"#REF!"}]
[null,null,null,null,null,null,null,null,null,null,null,null,null,{"$f":"IF($B74=\"高\",'雇用保険適用者（６号の２）'!M75,0)","v":{"$error":"#REF!"}},{"$f":"IF($B74=\"高\",'雇用保険適用者（６号の２）'!N75,0)","v":{"$error":"#REF!"}},{"$f":"IF($B74=\"高\",'雇用保険適用者（６号の２）'!O75,0)","v":{"$error":"#REF!"}},{"$f":"IF($B74=\"高\",'雇用保険適用者（６号の２）'!P75,0)","v":{"$error":"#REF!"}},{"$f":"IF($B74=\"高\",'雇用保険適用者（６号の２）'!Q75,0)","v":{"$error":"#REF!"}},{"$f":"IF($B74=\"高\",'雇用保険適用者（６号の２）'!R75,0)","v":{"$error":"#REF!"}},{"$f":"IF($B74=\"高\",'雇用保険適用者（６号の２）'!S75,0)","v":{"$error":"#REF!"}},{"$f":"IF($B74=\"高\",'雇用保険適用者（６号の２）'!T75,0)","v":{"$error":"#REF!"}},{"$f":"IF($B74=\"高\",'雇用保険適用者（６号の２）'!U75,0)","v":{"$error":"#REF!"}},{"$f":"IF($B74=\"高\",'雇用保険適用者（６号の２）'!V75,0)","v":{"$error":"#REF!"}},{"$f":"IF($B74=\"高\",'雇用保険適用者（６号の２）'!W75,0)","v":{"$error":"#REF!"}},{"$f":"IF($B74=\"高\",'雇用保険適用者（６号の２）'!X75,0)","v":{"$error":"#REF!"}},{"$error":"#REF!"},{"$error":"#REF!"}]
[null,{"$f":"'雇用保険適用者（６号の２）'!#REF!","v":{"$error":"#REF!"}},null,null,null,null,null,null,null,null,null,null,null,{"$f":"IF($B76=\"高\",'雇用保険適用者（６号の２）'!M76,0)","v":{"$error":"#REF!"}},{"$f":"IF($B76=\"高\",'雇用保険適用者（６号の２）'!N76,0)","v":{"$error":"#REF!"}},{"$f":"IF($B76=\"高\",'雇用保険適用者（６号の２）'!O76,0)","v":{"$error":"#REF!"}},{"$f":"IF($B76=\"高\",'雇用保険適用者（６号の２）'!P76,0)","v":{"$error":"#REF!"}},{"$f":"IF($B76=\"高\",'雇用保険適用者（６号の２）'!Q76,0)","v":{"$error":"#REF!"}},{"$f":"IF($B76=\"高\",'雇用保険適用者（６号の２）'!R76,0)","v":{"$error":"#REF!"}},{"$f":"IF($B76=\"高\",'雇用保険適用者（６号の２）'!S76,0)","v":{"$error":"#REF!"}},{"$f":"IF($B76=\"高\",'雇用保険適用者（６号の２）'!T76,0)","v":{"$error":"#REF!"}},{"$f":"IF($B76=\"高\",'雇用保険適用者（６号の２）'!U76,0)","v":{"$error":"#REF!"}},{"$f":"IF($B76=\"高\",'雇用保険適用者（６号の２）'!V76,0)","v":{"$error":"#REF!"}},{"$f":"IF($B76=\"高\",'雇用保険適用者（６号の２）'!W76,0)","v":{"$error":"#REF!"}},{"$f":"IF($B76=\"高\",'雇用保険適用者（６号の２）'!X76,0)","v":{"$error":"#REF!"}},{"$error":"#REF!"},{"$error":"#REF!"}]
[null,null,null,null,null,null,null,null,null,null,null,null,null,{"$f":"IF($B76=\"高\",'雇用保険適用者（６号の２）'!M77,0)","v":{"$error":"#REF!"}},{"$f":"IF($B76=\"高\",'雇用保険適用者（６号の２）'!N77,0)","v":{"$error":"#REF!"}},{"$f":"IF($B76=\"高\",'雇用保険適用者（６号の２）'!O77,0)","v":{"$error":"#REF!"}},{"$f":"IF($B76=\"高\",'雇用保険適用者（６号の２）'!P77,0)","v":{"$error":"#REF!"}},{"$f":"IF($B76=\"高\",'雇用保険適用者（６号の２）'!Q77,0)","v":{"$error":"#REF!"}},{"$f":"IF($B76=\"高\",'雇用保険適用者（６号の２）'!R77,0)","v":{"$error":"#REF!"}},{"$f":"IF($B76=\"高\",'雇用保険適用者（６号の２）'!S77,0)","v":{"$error":"#REF!"}},{"$f":"IF($B76=\"高\",'雇用保険適用者（６号の２）'!T77,0)","v":{"$error":"#REF!"}},{"$f":"IF($B76=\"高\",'雇用保険適用者（６号の２）'!U77,0)","v":{"$error":"#REF!"}},{"$f":"IF($B76=\"高\",'雇用保険適用者（６号の２）'!V77,0)","v":{"$error":"#REF!"}},{"$f":"IF($B76=\"高\",'雇用保険適用者（６号の２）'!W77,0)","v":{"$error":"#REF!"}},{"$f":"IF($B76=\"高\",'雇用保険適用者（６号の２）'!X77,0)","v":{"$error":"#REF!"}},{"$error":"#REF!"},{"$error":"#REF!"}]
[null,{"$f":"'雇用保険適用者（６号の２）'!#REF!","v":{"$error":"#REF!"}},null,null,null,null,null,null,null,null,null,null,null,{"$f":"IF($B78=\"高\",'雇用保険適用者（６号の２）'!M78,0)","v":{"$error":"#REF!"}},{"$f":"IF($B78=\"高\",'雇用保険適用者（６号の２）'!N78,0)","v":{"$error":"#REF!"}},{"$f":"IF($B78=\"高\",'雇用保険適用者（６号の２）'!O78,0)","v":{"$error":"#REF!"}},{"$f":"IF($B78=\"高\",'雇用保険適用者（６号の２）'!P78,0)","v":{"$error":"#REF!"}},{"$f":"IF($B78=\"高\",'雇用保険適用者（６号の２）'!Q78,0)","v":{"$error":"#REF!"}},{"$f":"IF($B78=\"高\",'雇用保険適用者（６号の２）'!R78,0)","v":{"$error":"#REF!"}},{"$f":"IF($B78=\"高\",'雇用保険適用者（６号の２）'!S78,0)","v":{"$error":"#REF!"}},{"$f":"IF($B78=\"高\",'雇用保険適用者（６号の２）'!T78,0)","v":{"$error":"#REF!"}},{"$f":"IF($B78=\"高\",'雇用保険適用者（６号の２）'!U78,0)","v":{"$error":"#REF!"}},{"$f":"IF($B78=\"高\",'雇用保険適用者（６号の２）'!V78,0)","v":{"$error":"#REF!"}},{"$f":"IF($B78=\"高\",'雇用保険適用者（６号の２）'!W78,0)","v":{"$error":"#REF!"}},{"$f":"IF($B78=\"高\",'雇用保険適用者（６号の２）'!X78,0)","v":{"$error":"#REF!"}},{"$error":"#REF!"},{"$error":"#REF!"}]
[null,null,null,null,null,null,null,null,null,null,null,null,null,{"$f":"IF($B78=\"高\",'雇用保険適用者（６号の２）'!M79,0)","v":{"$error":"#REF!"}},{"$f":"IF($B78=\"高\",'雇用保険適用者（６号の２）'!N79,0)","v":{"$error":"#REF!"}},{"$f":"IF($B78=\"高\",'雇用保険適用者（６号の２）'!O79,0)","v":{"$error":"#REF!"}},{"$f":"IF($B78=\"高\",'雇用保険適用者（６号の２）'!P79,0)","v":{"$error":"#REF!"}},{"$f":"IF($B78=\"高\",'雇用保険適用者（６号の２）'!Q79,0)","v":{"$error":"#REF!"}},{"$f":"IF($B78=\"高\",'雇用保険適用者（６号の２）'!R79,0)","v":{"$error":"#REF!"}},{"$f":"IF($B78=\"高\",'雇用保険適用者（６号の２）'!S79,0)","v":{"$error":"#REF!"}},{"$f":"IF($B78=\"高\",'雇用保険適用者（６号の２）'!T79,0)","v":{"$error":"#REF!"}},{"$f":"IF($B78=\"高\",'雇用保険適用者（６号の２）'!U79,0)","v":{"$error":"#REF!"}},{"$f":"IF($B78=\"高\",'雇用保険適用者（６号の２）'!V79,0)","v":{"$error":"#REF!"}},{"$f":"IF($B78=\"高\",'雇用保険適用者（６号の２）'!W79,0)","v":{"$error":"#REF!"}},{"$f":"IF($B78=\"高\",'雇用保険適用者（６号の２）'!X79,0)","v":{"$error":"#REF!"}},{"$error":"#REF!"},{"$error":"#REF!"}]
[null,{"$f":"'雇用保険適用者（６号の２）'!#REF!","v":{"$error":"#REF!"}},null,null,null,null,null,null,null,null,null,null,null,{"$f":"IF($B80=\"高\",'雇用保険適用者（６号の２）'!M80,0)","v":{"$error":"#REF!"}},{"$f":"IF($B80=\"高\",'雇用保険適用者（６号の２）'!N80,0)","v":{"$error":"#REF!"}},{"$f":"IF($B80=\"高\",'雇用保険適用者（６号の２）'!O80,0)","v":{"$error":"#REF!"}},{"$f":"IF($B80=\"高\",'雇用保険適用者（６号の２）'!P80,0)","v":{"$error":"#REF!"}},{"$f":"IF($B80=\"高\",'雇用保険適用者（６号の２）'!Q80,0)","v":{"$error":"#REF!"}},{"$f":"IF($B80=\"高\",'雇用保険適用者（６号の２）'!R80,0)","v":{"$error":"#REF!"}},{"$f":"IF($B80=\"高\",'雇用保険適用者（６号の２）'!S80,0)","v":{"$error":"#REF!"}},{"$f":"IF($B80=\"高\",'雇用保険適用者（６号の２）'!T80,0)","v":{"$error":"#REF!"}},{"$f":"IF($B80=\"高\",'雇用保険適用者（６号の２）'!U80,0)","v":{"$error":"#REF!"}},{"$f":"IF($B80=\"高\",'雇用保険適用者（６号の２）'!V80,0)","v":{"$error":"#REF!"}},{"$f":"IF($B80=\"高\",'雇用保険適用者（６号の２）'!W80,0)","v":{"$error":"#REF!"}},{"$f":"IF($B80=\"高\",'雇用保険適用者（６号の２）'!X80,0)","v":{"$error":"#REF!"}},{"$error":"#REF!"},{"$error":"#REF!"}]
[null,null,null,null,null,null,null,null,null,null,null,null,null,{"$f":"IF($B80=\"高\",'雇用保険適用者（６号の２）'!M81,0)","v":{"$error":"#REF!"}},{"$f":"IF($B80=\"高\",'雇用保険適用者（６号の２）'!N81,0)","v":{"$error":"#REF!"}},{"$f":"IF($B80=\"高\",'雇用保険適用者（６号の２）'!O81,0)","v":{"$error":"#REF!"}},{"$f":"IF($B80=\"高\",'雇用保険適用者（６号の２）'!P81,0)","v":{"$error":"#REF!"}},{"$f":"IF($B80=\"高\",'雇用保険適用者（６号の２）'!Q81,0)","v":{"$error":"#REF!"}},{"$f":"IF($B80=\"高\",'雇用保険適用者（６号の２）'!R81,0)","v":{"$error":"#REF!"}},{"$f":"IF($B80=\"高\",'雇用保険適用者（６号の２）'!S81,0)","v":{"$error":"#REF!"}},{"$f":"IF($B80=\"高\",'雇用保険適用者（６号の２）'!T81,0)","v":{"$error":"#REF!"}},{"$f":"IF($B80=\"高\",'雇用保険適用者（６号の２）'!U81,0)","v":{"$error":"#REF!"}},{"$f":"IF($B80=\"高\",'雇用保険適用者（６号の２）'!V81,0)","v":{"$error":"#REF!"}},{"$f":"IF($B80=\"高\",'雇用保険適用者（６号の２）'!W81,0)","v":{"$error":"#REF!"}},{"$f":"IF($B80=\"高\",'雇用保険適用者（６号の２）'!X81,0)","v":{"$error":"#REF!"}},{"$error":"#REF!"},{"$error":"#REF!"}]
[null,{"$f":"'雇用保険適用者（６号の２）'!#REF!","v":{"$error":"#REF!"}},null,null,null,null,null,null,null,null,null,null,null,{"$f":"IF($B82=\"高\",'雇用保険適用者（６号の２）'!M82,0)","v":{"$error":"#REF!"}},{"$f":"IF($B82=\"高\",'雇用保険適用者（６号の２）'!N82,0)","v":{"$error":"#REF!"}},{"$f":"IF($B82=\"高\",'雇用保険適用者（６号の２）'!O82,0)","v":{"$error":"#REF!"}},{"$f":"IF($B82=\"高\",'雇用保険適用者（６号の２）'!P82,0)","v":{"$error":"#REF!"}},{"$f":"IF($B82=\"高\",'雇用保険適用者（６号の２）'!Q82,0)","v":{"$error":"#REF!"}},{"$f":"IF($B82=\"高\",'雇用保険適用者（６号の２）'!R82,0)","v":{"$error":"#REF!"}},{"$f":"IF($B82=\"高\",'雇用保険適用者（６号の２）'!S82,0)","v":{"$error":"#REF!"}},{"$f":"IF($B82=\"高\",'雇用保険適用者（６号の２）'!T82,0)","v":{"$error":"#REF!"}},{"$f":"IF($B82=\"高\",'雇用保険適用者（６号の２）'!U82,0)","v":{"$error":"#REF!"}},{"$f":"IF($B82=\"高\",'雇用保険適用者（６号の２）'!V82,0)","v":{"$error":"#REF!"}},{"$f":"IF($B82=\"高\",'雇用保険適用者（６号の２）'!W82,0)","v":{"$error":"#REF!"}},{"$f":"IF($B82=\"高\",'雇用保険適用者（６号の２）'!X82,0)","v":{"$error":"#REF!"}},{"$error":"#REF!"},{"$error":"#REF!"}]
[null,null,null,null,null,null,null,null,null,null,null,null,null,{"$f":"IF($B82=\"高\",'雇用保険適用者（６号の２）'!M83,0)","v":{"$error":"#REF!"}},{"$f":"IF($B82=\"高\",'雇用保険適用者（６号の２）'!N83,0)","v":{"$error":"#REF!"}},{"$f":"IF($B82=\"高\",'雇用保険適用者（６号の２）'!O83,0)","v":{"$error":"#REF!"}},{"$f":"IF($B82=\"高\",'雇用保険適用者（６号の２）'!P83,0)","v":{"$error":"#REF!"}},{"$f":"IF($B82=\"高\",'雇用保険適用者（６号の２）'!Q83,0)","v":{"$error":"#REF!"}},{"$f":"IF($B82=\"高\",'雇用保険適用者（６号の２）'!R83,0)","v":{"$error":"#REF!"}},{"$f":"IF($B82=\"高\",'雇用保険適用者（６号の２）'!S83,0)","v":{"$error":"#REF!"}},{"$f":"IF($B82=\"高\",'雇用保険適用者（６号の２）'!T83,0)","v":{"$error":"#REF!"}},{"$f":"IF($B82=\"高\",'雇用保険適用者（６号の２）'!U83,0)","v":{"$error":"#REF!"}},{"$f":"IF($B82=\"高\",'雇用保険適用者（６号の２）'!V83,0)","v":{"$error":"#REF!"}},{"$f":"IF($B82=\"高\",'雇用保険適用者（６号の２）'!W83,0)","v":{"$error":"#REF!"}},{"$f":"IF($B82=\"高\",'雇用保険適用者（６号の２）'!X83,0)","v":{"$error":"#REF!"}},{"$error":"#REF!"},{"$error":"#REF!"}]
[null,{"$f":"'雇用保険適用者（６号の２）'!#REF!","v":{"$error":"#REF!"}},null,null,null,null,null,null,null,null,null,null,null,{"$f":"IF($B84=\"高\",'雇用保険適用者（６号の２）'!M84,0)","v":{"$error":"#REF!"}},{"$f":"IF($B84=\"高\",'雇用保険適用者（６号の２）'!N84,0)","v":{"$error":"#REF!"}},{"$f":"IF($B84=\"高\",'雇用保険適用者（６号の２）'!O84,0)","v":{"$error":"#REF!"}},{"$f":"IF($B84=\"高\",'雇用保険適用者（６号の２）'!P84,0)","v":{"$error":"#REF!"}},{"$f":"IF($B84=\"高\",'雇用保険適用者（６号の２）'!Q84,0)","v":{"$error":"#REF!"}},{"$f":"IF($B84=\"高\",'雇用保険適用者（６号の２）'!R84,0)","v":{"$error":"#REF!"}},{"$f":"IF($B84=\"高\",'雇用保険適用者（６号の２）'!S84,0)","v":{"$error":"#REF!"}},{"$f":"IF($B84=\"高\",'雇用保険適用者（６号の２）'!T84,0)","v":{"$error":"#REF!"}},{"$f":"IF($B84=\"高\",'雇用保険適用者（６号の２）'!U84,0)","v":{"$error":"#REF!"}},{"$f":"IF($B84=\"高\",'雇用保険適用者（６号の２）'!V84,0)","v":{"$error":"#REF!"}},{"$f":"IF($B84=\"高\",'雇用保険適用者（６号の２）'!W84,0)","v":{"$error":"#REF!"}},{"$f":"IF($B84=\"高\",'雇用保険適用者（６号の２）'!X84,0)","v":{"$error":"#REF!"}},{"$error":"#REF!"},{"$error":"#REF!"}]
[null,null,null,null,null,null,null,null,null,null,null,null,null,{"$f":"IF($B84=\"高\",'雇用保険適用者（６号の２）'!M85,0)","v":{"$error":"#REF!"}},{"$f":"IF($B84=\"高\",'雇用保険適用者（６号の２）'!N85,0)","v":{"$error":"#REF!"}},{"$f":"IF($B84=\"高\",'雇用保険適用者（６号の２）'!O85,0)","v":{"$error":"#REF!"}},{"$f":"IF($B84=\"高\",'雇用保険適用者（６号の２）'!P85,0)","v":{"$error":"#REF!"}},{"$f":"IF($B84=\"高\",'雇用保険適用者（６号の２）'!Q85,0)","v":{"$error":"#REF!"}},{"$f":"IF($B84=\"高\",'雇用保険適用者（６号の２）'!R85,0)","v":{"$error":"#REF!"}},{"$f":"IF($B84=\"高\",'雇用保険適用者（６号の２）'!S85,0)","v":{"$error":"#REF!"}},{"$f":"IF($B84=\"高\",'雇用保険適用者（６号の２）'!T85,0)","v":{"$error":"#REF!"}},{"$f":"IF($B84=\"高\",'雇用保険適用者（６号の２）'!U85,0)","v":{"$error":"#REF!"}},{"$f":"IF($B84=\"高\",'雇用保険適用者（６号の２）'!V85,0)","v":{"$error":"#REF!"}},{"$f":"IF($B84=\"高\",'雇用保険適用者（６号の２）'!W85,0)","v":{"$error":"#REF!"}},{"$f":"IF($B84=\"高\",'雇用保険適用者（６号の２）'!X85,0)","v":{"$error":"#REF!"}},{"$error":"#REF!"},{"$error":"#REF!"}]
[null,{"$f":"'雇用保険適用者（６号の２）'!#REF!","v":{"$error":"#REF!"}},null,null,null,null,null,null,null,null,null,null,null,{"$f":"IF($B86=\"高\",'雇用保険適用者（６号の２）'!M86,0)","v":{"$error":"#REF!"}},{"$f":"IF($B86=\"高\",'雇用保険適用者（６号の２）'!N86,0)","v":{"$error":"#REF!"}},{"$f":"IF($B86=\"高\",'雇用保険適用者（６号の２）'!O86,0)","v":{"$error":"#REF!"}},{"$f":"IF($B86=\"高\",'雇用保険適用者（６号の２）'!P86,0)","v":{"$error":"#REF!"}},{"$f":"IF($B86=\"高\",'雇用保険適用者（６号の２）'!Q86,0)","v":{"$error":"#REF!"}},{"$f":"IF($B86=\"高\",'雇用保険適用者（６号の２）'!R86,0)","v":{"$error":"#REF!"}},{"$f":"IF($B86=\"高\",'雇用保険適用者（６号の２）'!S86,0)","v":{"$error":"#REF!"}},{"$f":"IF($B86=\"高\",'雇用保険適用者（６号の２）'!T86,0)","v":{"$error":"#REF!"}},{"$f":"IF($B86=\"高\",'雇用保険適用者（６号の２）'!U86,0)","v":{"$error":"#REF!"}},{"$f":"IF($B86=\"高\",'雇用保険適用者（６号の２）'!V86,0)","v":{"$error":"#REF!"}},{"$f":"IF($B86=\"高\",'雇用保険適用者（６号の２）'!W86,0)","v":{"$error":"#REF!"}},{"$f":"IF($B86=\"高\",'雇用保険適用者（６号の２）'!X86,0)","v":{"$error":"#REF!"}},{"$error":"#REF!"},{"$error":"#REF!"}]
[null,null,null,null,null,null,null,null,null,null,null,null,null,{"$f":"IF($B86=\"高\",'雇用保険適用者（６号の２）'!M87,0)","v":{"$error":"#REF!"}},{"$f":"IF($B86=\"高\",'雇用保険適用者（６号の２）'!N87,0)","v":{"$error":"#REF!"}},{"$f":"IF($B86=\"高\",'雇用保険適用者（６号の２）'!O87,0)","v":{"$error":"#REF!"}},{"$f":"IF($B86=\"高\",'雇用保険適用者（６号の２）'!P87,0)","v":{"$error":"#REF!"}},{"$f":"IF($B86=\"高\",'雇用保険適用者（６号の２）'!Q87,0)","v":{"$error":"#REF!"}},{"$f":"IF($B86=\"高\",'雇用保険適用者（６号の２）'!R87,0)","v":{"$error":"#REF!"}},{"$f":"IF($B86=\"高\",'雇用保険適用者（６号の２）'!S87,0)","v":{"$error":"#REF!"}},{"$f":"IF($B86=\"高\",'雇用保険適用者（６号の２）'!T87,0)","v":{"$error":"#REF!"}},{"$f":"IF($B86=\"高\",'雇用保険適用者（６号の２）'!U87,0)","v":{"$error":"#REF!"}},{"$f":"IF($B86=\"高\",'雇用保険適用者（６号の２）'!V87,0)","v":{"$error":"#REF!"}},{"$f":"IF($B86=\"高\",'雇用保険適用者（６号の２）'!W87,0)","v":{"$error":"#REF!"}},{"$f":"IF($B86=\"高\",'雇用保険適用者（６号の２）'!X87,0)","v":{"$error":"#REF!"}},{"$error":"#REF!"},{"$error":"#REF!"}]
[null,{"$f":"'雇用保険適用者（６号の２）'!#REF!","v":{"$error":"#REF!"}},null,null,null,null,null,null,null,null,null,null,null,{"$f":"IF($B88=\"高\",'雇用保険適用者（６号の２）'!M88,0)","v":{"$error":"#REF!"}},{"$f":"IF($B88=\"高\",'雇用保険適用者（６号の２）'!N88,0)","v":{"$error":"#REF!"}},{"$f":"IF($B88=\"高\",'雇用保険適用者（６号の２）'!O88,0)","v":{"$error":"#REF!"}},{"$f":"IF($B88=\"高\",'雇用保険適用者（６号の２）'!P88,0)","v":{"$error":"#REF!"}},{"$f":"IF($B88=\"高\",'雇用保険適用者（６号の２）'!Q88,0)","v":{"$error":"#REF!"}},{"$f":"IF($B88=\"高\",'雇用保険適用者（６号の２）'!R88,0)","v":{"$error":"#REF!"}},{"$f":"IF($B88=\"高\",'雇用保険適用者（６号の２）'!S88,0)","v":{"$error":"#REF!"}},{"$f":"IF($B88=\"高\",'雇用保険適用者（６号の２）'!T88,0)","v":{"$error":"#REF!"}},{"$f":"IF($B88=\"高\",'雇用保険適用者（６号の２）'!U88,0)","v":{"$error":"#REF!"}},{"$f":"IF($B88=\"高\",'雇用保険適用者（６号の２）'!V88,0)","v":{"$error":"#REF!"}},{"$f":"IF($B88=\"高\",'雇用保険適用者（６号の２）'!W88,0)","v":{"$error":"#REF!"}},{"$f":"IF($B88=\"高\",'雇用保険適用者（６号の２）'!X88,0)","v":{"$error":"#REF!"}},{"$error":"#REF!"},{"$error":"#REF!"}]
[null,null,null,null,null,null,null,null,null,null,null,null,null,{"$f":"IF($B88=\"高\",'雇用保険適用者（６号の２）'!M89,0)","v":{"$error":"#REF!"}},{"$f":"IF($B88=\"高\",'雇用保険適用者（６号の２）'!N89,0)","v":{"$error":"#REF!"}},{"$f":"IF($B88=\"高\",'雇用保険適用者（６号の２）'!O89,0)","v":{"$error":"#REF!"}},{"$f":"IF($B88=\"高\",'雇用保険適用者（６号の２）'!P89,0)","v":{"$error":"#REF!"}},{"$f":"IF($B88=\"高\",'雇用保険適用者（６号の２）'!Q89,0)","v":{"$error":"#REF!"}},{"$f":"IF($B88=\"高\",'雇用保険適用者（６号の２）'!R89,0)","v":{"$error":"#REF!"}},{"$f":"IF($B88=\"高\",'雇用保険適用者（６号の２）'!S89,0)","v":{"$error":"#REF!"}},{"$f":"IF($B88=\"高\",'雇用保険適用者（６号の２）'!T89,0)","v":{"$error":"#REF!"}},{"$f":"IF($B88=\"高\",'雇用保険適用者（６号の２）'!U89,0)","v":{"$error":"#REF!"}},{"$f":"IF($B88=\"高\",'雇用保険適用者（６号の２）'!V89,0)","v":{"$error":"#REF!"}},{"$f":"IF($B88=\"高\",'雇用保険適用者（６号の２）'!W89,0)","v":{"$error":"#REF!"}},{"$f":"IF($B88=\"高\",'雇用保険適用者（６号の２）'!X89,0)","v":{"$error":"#REF!"}},{"$error":"#REF!"},{"$error":"#REF!"}]
[null,{"$f":"'雇用保険適用者（６号の２）'!#REF!","v":{"$error":"#REF!"}},null,null,null,null,null,null,null,null,null,null,null,{"$f":"IF($B90=\"高\",'雇用保険適用者（６号の２）'!M90,0)","v":{"$error":"#REF!"}},{"$f":"IF($B90=\"高\",'雇用保険適用者（６号の２）'!N90,0)","v":{"$error":"#REF!"}},{"$f":"IF($B90=\"高\",'雇用保険適用者（６号の２）'!O90,0)","v":{"$error":"#REF!"}},{"$f":"IF($B90=\"高\",'雇用保険適用者（６号の２）'!P90,0)","v":{"$error":"#REF!"}},{"$f":"IF($B90=\"高\",'雇用保険適用者（６号の２）'!Q90,0)","v":{"$error":"#REF!"}},{"$f":"IF($B90=\"高\",'雇用保険適用者（６号の２）'!R90,0)","v":{"$error":"#REF!"}},{"$f":"IF($B90=\"高\",'雇用保険適用者（６号の２）'!S90,0)","v":{"$error":"#REF!"}},{"$f":"IF($B90=\"高\",'雇用保険適用者（６号の２）'!T90,0)","v":{"$error":"#REF!"}},{"$f":"IF($B90=\"高\",'雇用保険適用者（６号の２）'!U90,0)","v":{"$error":"#REF!"}},{"$f":"IF($B90=\"高\",'雇用保険適用者（６号の２）'!V90,0)","v":{"$error":"#REF!"}},{"$f":"IF($B90=\"高\",'雇用保険適用者（６号の２）'!W90,0)","v":{"$error":"#REF!"}},{"$f":"IF($B90=\"高\",'雇用保険適用者（６号の２）'!X90,0)","v":{"$error":"#REF!"}},{"$error":"#REF!"},{"$error":"#REF!"}]
[null,null,null,null,null,null,null,null,null,null,null,null,null,{"$f":"IF($B90=\"高\",'雇用保険適用者（６号の２）'!M91,0)","v":{"$error":"#REF!"}},{"$f":"IF($B90=\"高\",'雇用保険適用者（６号の２）'!N91,0)","v":{"$error":"#REF!"}},{"$f":"IF($B90=\"高\",'雇用保険適用者（６号の２）'!O91,0)","v":{"$error":"#REF!"}},{"$f":"IF($B90=\"高\",'雇用保険適用者（６号の２）'!P91,0)","v":{"$error":"#REF!"}},{"$f":"IF($B90=\"高\",'雇用保険適用者（６号の２）'!Q91,0)","v":{"$error":"#REF!"}},{"$f":"IF($B90=\"高\",'雇用保険適用者（６号の２）'!R91,0)","v":{"$error":"#REF!"}},{"$f":"IF($B90=\"高\",'雇用保険適用者（６号の２）'!S91,0)","v":{"$error":"#REF!"}},{"$f":"IF($B90=\"高\",'雇用保険適用者（６号の２）'!T91,0)","v":{"$error":"#REF!"}},{"$f":"IF($B90=\"高\",'雇用保険適用者（６号の２）'!U91,0)","v":{"$error":"#REF!"}},{"$f":"IF($B90=\"高\",'雇用保険適用者（６号の２）'!V91,0)","v":{"$error":"#REF!"}},{"$f":"IF($B90=\"高\",'雇用保険適用者（６号の２）'!W91,0)","v":{"$error":"#REF!"}},{"$f":"IF($B90=\"高\",'雇用保険適用者（６号の２）'!X91,0)","v":{"$error":"#REF!"}},{"$error":"#REF!"},{"$error":"#REF!"}]
[null,{"$f":"'雇用保険適用者（６号の２）'!#REF!","v":{"$error":"#REF!"}},null,null,null,null,null,null,null,null,null,null,null,{"$f":"IF($B92=\"高\",'雇用保険適用者（６号の２）'!M92,0)","v":{"$error":"#REF!"}},{"$f":"IF($B92=\"高\",'雇用保険適用者（６号の２）'!N92,0)","v":{"$error":"#REF!"}},{"$f":"IF($B92=\"高\",'雇用保険適用者（６号の２）'!O92,0)","v":{"$error":"#REF!"}},{"$f":"IF($B92=\"高\",'雇用保険適用者（６号の２）'!P92,0)","v":{"$error":"#REF!"}},{"$f":"IF($B92=\"高\",'雇用保険適用者（６号の２）'!Q92,0)","v":{"$error":"#REF!"}},{"$f":"IF($B92=\"高\",'雇用保険適用者（６号の２）'!R92,0)","v":{"$error":"#REF!"}},{"$f":"IF($B92=\"高\",'雇用保険適用者（６号の２）'!S92,0)","v":{"$error":"#REF!"}},{"$f":"IF($B92=\"高\",'雇用保険適用者（６号の２）'!T92,0)","v":{"$error":"#REF!"}},{"$f":"IF($B92=\"高\",'雇用保険適用者（６号の２）'!U92,0)","v":{"$error":"#REF!"}},{"$f":"IF($B92=\"高\",'雇用保険適用者（６号の２）'!V92,0)","v":{"$error":"#REF!"}},{"$f":"IF($B92=\"高\",'雇用保険適用者（６号の２）'!W92,0)","v":{"$error":"#REF!"}},{"$f":"IF($B92=\"高\",'雇用保険適用者（６号の２）'!X92,0)","v":{"$error":"#REF!"}},{"$error":"#REF!"},{"$error":"#REF!"}]
[null,null,null,null,null,null,null,null,null,null,null,null,null,{"$f":"IF($B92=\"高\",'雇用保険適用者（６号の２）'!M93,0)","v":{"$error":"#REF!"}},{"$f":"IF($B92=\"高\",'雇用保険適用者（６号の２）'!N93,0)","v":{"$error":"#REF!"}},{"$f":"IF($B92=\"高\",'雇用保険適用者（６号の２）'!O93,0)","v":{"$error":"#REF!"}},{"$f":"IF($B92=\"高\",'雇用保険適用者（６号の２）'!P93,0)","v":{"$error":"#REF!"}},{"$f":"IF($B92=\"高\",'雇用保険適用者（６号の２）'!Q93,0)","v":{"$error":"#REF!"}},{"$f":"IF($B92=\"高\",'雇用保険適用者（６号の２）'!R93,0)","v":{"$error":"#REF!"}},{"$f":"IF($B92=\"高\",'雇用保険適用者（６号の２）'!S93,0)","v":{"$error":"#REF!"}},{"$f":"IF($B92=\"高\",'雇用保険適用者（６号の２）'!T93,0)","v":{"$error":"#REF!"}},{"$f":"IF($B92=\"高\",'雇用保険適用者（６号の２）'!U93,0)","v":{"$error":"#REF!"}},{"$f":"IF($B92=\"高\",'雇用保険適用者（６号の２）'!V93,0)","v":{"$error":"#REF!"}},{"$f":"IF($B92=\"高\",'雇用保険適用者（６号の２）'!W93,0)","v":{"$error":"#REF!"}},{"$f":"IF($B92=\"高\",'雇用保険適用者（６号の２）'!X93,0)","v":{"$error":"#REF!"}},{"$error":"#REF!"},{"$error":"#REF!"}]
[null,{"$f":"'雇用保険適用者（６号の２）'!#REF!","v":{"$error":"#REF!"}},null,null,null,null,null,null,null,null,null,null,null,{"$f":"IF($B94=\"高\",'雇用保険適用者（６号の２）'!M94,0)","v":{"$error":"#REF!"}},{"$f":"IF($B94=\"高\",'雇用保険適用者（６号の２）'!N94,0)","v":{"$error":"#REF!"}},{"$f":"IF($B94=\"高\",'雇用保険適用者（６号の２）'!O94,0)","v":{"$error":"#REF!"}},{"$f":"IF($B94=\"高\",'雇用保険適用者（６号の２）'!P94,0)","v":{"$error":"#REF!"}},{"$f":"IF($B94=\"高\",'雇用保険適用者（６号の２）'!Q94,0)","v":{"$error":"#REF!"}},{"$f":"IF($B94=\"高\",'雇用保険適用者（６号の２）'!R94,0)","v":{"$error":"#REF!"}},{"$f":"IF($B94=\"高\",'雇用保険適用者（６号の２）'!S94,0)","v":{"$error":"#REF!"}},{"$f":"IF($B94=\"高\",'雇用保険適用者（６号の２）'!T94,0)","v":{"$error":"#REF!"}},{"$f":"IF($B94=\"高\",'雇用保険適用者（６号の２）'!U94,0)","v":{"$error":"#REF!"}},{"$f":"IF($B94=\"高\",'雇用保険適用者（６号の２）'!V94,0)","v":{"$error":"#REF!"}},{"$f":"IF($B94=\"高\",'雇用保険適用者（６号の２）'!W94,0)","v":{"$error":"#REF!"}},{"$f":"IF($B94=\"高\",'雇用保険適用者（６号の２）'!X94,0)","v":{"$error":"#REF!"}},{"$error":"#REF!"},{"$error":"#REF!"}]
[null,null,null,null,null,null,null,null,null,null,null,null,null,{"$f":"IF($B94=\"高\",'雇用保険適用者（６号の２）'!M95,0)","v":{"$error":"#REF!"}},{"$f":"IF($B94=\"高\",'雇用保険適用者（６号の２）'!N95,0)","v":{"$error":"#REF!"}},{"$f":"IF($B94=\"高\",'雇用保険適用者（６号の２）'!O95,0)","v":{"$error":"#REF!"}},{"$f":"IF($B94=\"高\",'雇用保険適用者（６号の２）'!P95,0)","v":{"$error":"#REF!"}},{"$f":"IF($B94=\"高\",'雇用保険適用者（６号の２）'!Q95,0)","v":{"$error":"#REF!"}},{"$f":"IF($B94=\"高\",'雇用保険適用者（６号の２）'!R95,0)","v":{"$error":"#REF!"}},{"$f":"IF($B94=\"高\",'雇用保険適用者（６号の２）'!S95,0)","v":{"$error":"#REF!"}},{"$f":"IF($B94=\"高\",'雇用保険適用者（６号の２）'!T95,0)","v":{"$error":"#REF!"}},{"$f":"IF($B94=\"高\",'雇用保険適用者（６号の２）'!U95,0)","v":{"$error":"#REF!"}},{"$f":"IF($B94=\"高\",'雇用保険適用者（６号の２）'!V95,0)","v":{"$error":"#REF!"}},{"$f":"IF($B94=\"高\",'雇用保険適用者（６号の２）'!W95,0)","v":{"$error":"#REF!"}},{"$f":"IF($B94=\"高\",'雇用保険適用者（６号の２）'!X95,0)","v":{"$error":"#REF!"}},{"$error":"#REF!"},{"$error":"#REF!"}]
[null,{"$f":"'雇用保険適用者（６号の２）'!#REF!","v":{"$error":"#REF!"}},null,null,null,null,null,null,null,null,null,null,null,{"$f":"IF($B96=\"高\",'雇用保険適用者（６号の２）'!M96,0)","v":{"$error":"#REF!"}},{"$f":"IF($B96=\"高\",'雇用保険適用者（６号の２）'!N96,0)","v":{"$error":"#REF!"}},{"$f":"IF($B96=\"高\",'雇用保険適用者（６号の２）'!O96,0)","v":{"$error":"#REF!"}},{"$f":"IF($B96=\"高\",'雇用保険適用者（６号の２）'!P96,0)","v":{"$error":"#REF!"}},{"$f":"IF($B96=\"高\",'雇用保険適用者（６号の２）'!Q96,0)","v":{"$error":"#REF!"}},{"$f":"IF($B96=\"高\",'雇用保険適用者（６号の２）'!R96,0)","v":{"$error":"#REF!"}},{"$f":"IF($B96=\"高\",'雇用保険適用者（６号の２）'!S96,0)","v":{"$error":"#REF!"}},{"$f":"IF($B96=\"高\",'雇用保険適用者（６号の２）'!T96,0)","v":{"$error":"#REF!"}},{"$f":"IF($B96=\"高\",'雇用保険適用者（６号の２）'!U96,0)","v":{"$error":"#REF!"}},{"$f":"IF($B96=\"高\",'雇用保険適用者（６号の２）'!V96,0)","v":{"$error":"#REF!"}},{"$f":"IF($B96=\"高\",'雇用保険適用者（６号の２）'!W96,0)","v":{"$error":"#REF!"}},{"$f":"IF($B96=\"高\",'雇用保険適用者（６号の２）'!X96,0)","v":{"$error":"#REF!"}},{"$error":"#REF!"},{"$error":"#REF!"}]
[null,null,null,null,null,null,null,null,null,null,null,null,null,{"$f":"IF($B96=\"高\",'雇用保険適用者（６号の２）'!M97,0)","v":{"$error":"#REF!"}},{"$f":"IF($B96=\"高\",'雇用保険適用者（６号の２）'!N97,0)","v":{"$error":"#REF!"}},{"$f":"IF($B96=\"高\",'雇用保険適用者（６号の２）'!O97,0)","v":{"$error":"#REF!"}},{"$f":"IF($B96=\"高\",'雇用保険適用者（６号の２）'!P97,0)","v":{"$error":"#REF!"}},{"$f":"IF($B96=\"高\",'雇用保険適用者（６号の２）'!Q97,0)","v":{"$error":"#REF!"}},{"$f":"IF($B96=\"高\",'雇用保険適用者（６号の２）'!R97,0)","v":{"$error":"#REF!"}},{"$f":"IF($B96=\"高\",'雇用保険適用者（６号の２）'!S97,0)","v":{"$error":"#REF!"}},{"$f":"IF($B96=\"高\",'雇用保険適用者（６号の２）'!T97,0)","v":{"$error":"#REF!"}},{"$f":"IF($B96=\"高\",'雇用保険適用者（６号の２）'!U97,0)","v":{"$error":"#REF!"}},{"$f":"IF($B96=\"高\",'雇用保険適用者（６号の２）'!V97,0)","v":{"$error":"#REF!"}},{"$f":"IF($B96=\"高\",'雇用保険適用者（６号の２）'!W97,0)","v":{"$error":"#REF!"}},{"$f":"IF($B96=\"高\",'雇用保険適用者（６号の２）'!X97,0)","v":{"$error":"#REF!"}},{"$error":"#REF!"},{"$error":"#REF!"}]
[null,{"$f":"'雇用保険適用者（６号の２）'!#REF!","v":{"$error":"#REF!"}},null,null,null,null,null,null,null,null,null,null,null,{"$f":"IF($B98=\"高\",'雇用保険適用者（６号の２）'!M98,0)","v":{"$error":"#REF!"}},{"$f":"IF($B98=\"高\",'雇用保険適用者（６号の２）'!N98,0)","v":{"$error":"#REF!"}},{"$f":"IF($B98=\"高\",'雇用保険適用者（６号の２）'!O98,0)","v":{"$error":"#REF!"}},{"$f":"IF($B98=\"高\",'雇用保険適用者（６号の２）'!P98,0)","v":{"$error":"#REF!"}},{"$f":"IF($B98=\"高\",'雇用保険適用者（６号の２）'!Q98,0)","v":{"$error":"#REF!"}},{"$f":"IF($B98=\"高\",'雇用保険適用者（６号の２）'!R98,0)","v":{"$error":"#REF!"}},{"$f":"IF($B98=\"高\",'雇用保険適用者（６号の２）'!S98,0)","v":{"$error":"#REF!"}},{"$f":"IF($B98=\"高\",'雇用保険適用者（６号の２）'!T98,0)","v":{"$error":"#REF!"}},{"$f":"IF($B98=\"高\",'雇用保険適用者（６号の２）'!U98,0)","v":{"$error":"#REF!"}},{"$f":"IF($B98=\"高\",'雇用保険適用者（６号の２）'!V98,0)","v":{"$error":"#REF!"}},{"$f":"IF($B98=\"高\",'雇用保険適用者（６号の２）'!W98,0)","v":{"$error":"#REF!"}},{"$f":"IF($B98=\"高\",'雇用保険適用者（６号の２）'!X98,0)","v":{"$error":"#REF!"}},{"$error":"#REF!"},{"$error":"#REF!"}]
[null,null,null,null,null,null,null,null,null,null,null,null,null,{"$f":"IF($B98=\"高\",'雇用保険適用者（６号の２）'!M99,0)","v":{"$error":"#REF!"}},{"$f":"IF($B98=\"高\",'雇用保険適用者（６号の２）'!N99,0)","v":{"$error":"#REF!"}},{"$f":"IF($B98=\"高\",'雇用保険適用者（６号の２）'!O99,0)","v":{"$error":"#REF!"}},{"$f":"IF($B98=\"高\",'雇用保険適用者（６号の２）'!P99,0)","v":{"$error":"#REF!"}},{"$f":"IF($B98=\"高\",'雇用保険適用者（６号の２）'!Q99,0)","v":{"$error":"#REF!"}},{"$f":"IF($B98=\"高\",'雇用保険適用者（６号の２）'!R99,0)","v":{"$error":"#REF!"}},{"$f":"IF($B98=\"高\",'雇用保険適用者（６号の２）'!S99,0)","v":{"$error":"#REF!"}},{"$f":"IF($B98=\"高\",'雇用保険適用者（６号の２）'!T99,0)","v":{"$error":"#REF!"}},{"$f":"IF($B98=\"高\",'雇用保険適用者（６号の２）'!U99,0)","v":{"$error":"#REF!"}},{"$f":"IF($B98=\"高\",'雇用保険適用者（６号の２）'!V99,0)","v":{"$error":"#REF!"}},{"$f":"IF($B98=\"高\",'雇用保険適用者（６号の２）'!W99,0)","v":{"$error":"#REF!"}},{"$f":"IF($B98=\"高\",'雇用保険適用者（６号の２）'!X99,0)","v":{"$error":"#REF!"}},{"$error":"#REF!"},{"$error":"#REF!"}]
[null,{"$f":"'雇用保険適用者（６号の２）'!#REF!","v":{"$error":"#REF!"}},null,null,null,null,null,null,null,null,null,null,null,{"$f":"IF($B100=\"高\",'雇用保険適用者（６号の２）'!M100,0)","v":{"$error":"#REF!"}},{"$f":"IF($B100=\"高\",'雇用保険適用者（６号の２）'!N100,0)","v":{"$error":"#REF!"}},{"$f":"IF($B100=\"高\",'雇用保険適用者（６号の２）'!O100,0)","v":{"$error":"#REF!"}},{"$f":"IF($B100=\"高\",'雇用保険適用者（６号の２）'!P100,0)","v":{"$error":"#REF!"}},{"$f":"IF($B100=\"高\",'雇用保険適用者（６号の２）'!Q100,0)","v":{"$error":"#REF!"}},{"$f":"IF($B100=\"高\",'雇用保険適用者（６号の２）'!R100,0)","v":{"$error":"#REF!"}},{"$f":"IF($B100=\"高\",'雇用保険適用者（６号の２）'!S100,0)","v":{"$error":"#REF!"}},{"$f":"IF($B100=\"高\",'雇用保険適用者（６号の２）'!T100,0)","v":{"$error":"#REF!"}},{"$f":"IF($B100=\"高\",'雇用保険適用者（６号の２）'!U100,0)","v":{"$error":"#REF!"}},{"$f":"IF($B100=\"高\",'雇用保険適用者（６号の２）'!V100,0)","v":{"$error":"#REF!"}},{"$f":"IF($B100=\"高\",'雇用保険適用者（６号の２）'!W100,0)","v":{"$error":"#REF!"}},{"$f":"IF($B100=\"高\",'雇用保険適用者（６号の２）'!X100,0)","v":{"$error":"#REF!"}},{"$error":"#REF!"},{"$error":"#REF!"}]
[null,null,null,null,null,null,null,null,null,null,null,null,null,{"$f":"IF($B100=\"高\",'雇用保険適用者（６号の２）'!M101,0)","v":{"$error":"#REF!"}},{"$f":"IF($B100=\"高\",'雇用保険適用者（６号の２）'!N101,0)","v":{"$error":"#REF!"}},{"$f":"IF($B100=\"高\",'雇用保険適用者（６号の２）'!O101,0)","v":{"$error":"#REF!"}},{"$f":"IF($B100=\"高\",'雇用保険適用者（６号の２）'!P101,0)","v":{"$error":"#REF!"}},{"$f":"IF($B100=\"高\",'雇用保険適用者（６号の２）'!Q101,0)","v":{"$error":"#REF!"}},{"$f":"IF($B100=\"高\",'雇用保険適用者（６号の２）'!R101,0)","v":{"$error":"#REF!"}},{"$f":"IF($B100=\"高\",'雇用保険適用者（６号の２）'!S101,0)","v":{"$error":"#REF!"}},{"$f":"IF($B100=\"高\",'雇用保険適用者（６号の２）'!T101,0)","v":{"$error":"#REF!"}},{"$f":"IF($B100=\"高\",'雇用保険適用者（６号の２）'!U101,0)","v":{"$error":"#REF!"}},{"$f":"IF($B100=\"高\",'雇用保険適用者（６号の２）'!V101,0)","v":{"$error":"#REF!"}},{"$f":"IF($B100=\"高\",'雇用保険適用者（６号の２）'!W101,0)","v":{"$error":"#REF!"}},{"$f":"IF($B100=\"高\",'雇用保険適用者（６号の２）'!X101,0)","v":{"$error":"#REF!"}},{"$error":"#REF!"},{"$error":"#REF!"}]
[null,{"$f":"'雇用保険適用者（６号の２）'!#REF!","v":{"$error":"#REF!"}},null,null,null,null,null,null,null,null,null,null,null,{"$f":"IF($B102=\"高\",'雇用保険適用者（６号の２）'!M102,0)","v":{"$error":"#REF!"}},{"$f":"IF($B102=\"高\",'雇用保険適用者（６号の２）'!N102,0)","v":{"$error":"#REF!"}},{"$f":"IF($B102=\"高\",'雇用保険適用者（６号の２）'!O102,0)","v":{"$error":"#REF!"}},{"$f":"IF($B102=\"高\",'雇用保険適用者（６号の２）'!P102,0)","v":{"$error":"#REF!"}},{"$f":"IF($B102=\"高\",'雇用保険適用者（６号の２）'!Q102,0)","v":{"$error":"#REF!"}},{"$f":"IF($B102=\"高\",'雇用保険適用者（６号の２）'!R102,0)","v":{"$error":"#REF!"}},{"$f":"IF($B102=\"高\",'雇用保険適用者（６号の２）'!S102,0)","v":{"$error":"#REF!"}},{"$f":"IF($B102=\"高\",'雇用保険適用者（６号の２）'!T102,0)","v":{"$error":"#REF!"}},{"$f":"IF($B102=\"高\",'雇用保険適用者（６号の２）'!U102,0)","v":{"$error":"#REF!"}},{"$f":"IF($B102=\"高\",'雇用保険適用者（６号の２）'!V102,0)","v":{"$error":"#REF!"}},{"$f":"IF($B102=\"高\",'雇用保険適用者（６号の２）'!W102,0)","v":{"$error":"#REF!"}},{"$f":"IF($B102=\"高\",'雇用保険適用者（６号の２）'!X102,0)","v":{"$error":"#REF!"}},{"$error":"#REF!"},{"$error":"#REF!"}]
[null,null,null,null,null,null,null,null,null,null,null,null,null,{"$f":"IF($B102=\"高\",'雇用保険適用者（６号の２）'!M103,0)","v":{"$error":"#REF!"}},{"$f":"IF($B102=\"高\",'雇用保険適用者（６号の２）'!N103,0)","v":{"$error":"#REF!"}},{"$f":"IF($B102=\"高\",'雇用保険適用者（６号の２）'!O103,0)","v":{"$error":"#REF!"}},{"$f":"IF($B102=\"高\",'雇用保険適用者（６号の２）'!P103,0)","v":{"$error":"#REF!"}},{"$f":"IF($B102=\"高\",'雇用保険適用者（６号の２）'!Q103,0)","v":{"$error":"#REF!"}},{"$f":"IF($B102=\"高\",'雇用保険適用者（６号の２）'!R103,0)","v":{"$error":"#REF!"}},{"$f":"IF($B102=\"高\",'雇用保険適用者（６号の２）'!S103,0)","v":{"$error":"#REF!"}},{"$f":"IF($B102=\"高\",'雇用保険適用者（６号の２）'!T103,0)","v":{"$error":"#REF!"}},{"$f":"IF($B102=\"高\",'雇用保険適用者（６号の２）'!U103,0)","v":{"$error":"#REF!"}},{"$f":"IF($B102=\"高\",'雇用保険適用者（６号の２）'!V103,0)","v":{"$error":"#REF!"}},{"$f":"IF($B102=\"高\",'雇用保険適用者（６号の２）'!W103,0)","v":{"$error":"#REF!"}},{"$f":"IF($B102=\"高\",'雇用保険適用者（６号の２）'!X103,0)","v":{"$error":"#REF!"}},{"$error":"#REF!"},{"$error":"#REF!"}]
[null,"　　　　　    　合　　  　　　　計",null,null,null,null,null,null,null,null,null,null,null,{"$f":"IF('雇用保険適用者（６号の２）'!M104=\"\",0,'雇用保険適用者（６号の２）'!M104)","v":0},{"$f":"IF('雇用保険適用者（６号の２）'!N104=\"\",0,'雇用保険適用者（６号の２）'!N104)","v":0},{"$f":"IF('雇用保険適用者（６号の２）'!O104=\"\",0,'雇用保険適用者（６号の２）'!O104)","v":0},{"$f":"IF('雇用保険適用者（６号の２）'!P104=\"\",0,'雇用保険適用者（６号の２）'!P104)","v":0},{"$f":"IF('雇用保険適用者（６号の２）'!Q104=\"\",0,'雇用保険適用者（６号の２）'!Q104)","v":0},{"$f":"IF('雇用保険適用者（６号の２）'!R104=\"\",0,'雇用保険適用者（６号の２）'!R104)","v":0},{"$f":"IF('雇用保険適用者（６号の２）'!S104=\"\",0,'雇用保険適用者（６号の２）'!S104)","v":0},{"$f":"IF('雇用保険適用者（６号の２）'!T104=\"\",0,'雇用保険適用者（６号の２）'!T104)","v":0},{"$f":"IF('雇用保険適用者（６号の２）'!U104=\"\",0,'雇用保険適用者（６号の２）'!U104)","v":0},{"$f":"IF('雇用保険適用者（６号の２）'!V104=\"\",0,'雇用保険適用者（６号の２）'!V104)","v":0},{"$f":"IF('雇用保険適用者（６号の２）'!W104=\"\",0,'雇用保険適用者（６号の２）'!W104)","v":0},{"$f":"IF('雇用保険適用者（６号の２）'!X104=\"\",0,'雇用保険適用者（６号の２）'!X104)","v":0},{"$f":"IF('雇用保険適用者（６号の２）'!Y104=\"\",0,'雇用保険適用者（６号の２）'!Y104)","v":0},{"$f":"IF('雇用保険適用者（６号の２）'!Z104=\"\",0,'雇用保険適用者（６号の２）'!Z104)","v":0}]
[null,null,null,null,null,null,null,null,null,null,null,null,null,{"$f":"IF('雇用保険適用者（６号の２）'!M105=\"\",0,'雇用保険適用者（６号の２）'!M105)","v":0},{"$f":"IF('雇用保険適用者（６号の２）'!N105=\"\",0,'雇用保険適用者（６号の２）'!N105)","v":0},{"$f":"IF('雇用保険適用者（６号の２）'!O105=\"\",0,'雇用保険適用者（６号の２）'!O105)","v":0},{"$f":"IF('雇用保険適用者（６号の２）'!P105=\"\",0,'雇用保険適用者（６号の２）'!P105)","v":0},{"$f":"IF('雇用保険適用者（６号の２）'!Q105=\"\",0,'雇用保険適用者（６号の２）'!Q105)","v":0},{"$f":"IF('雇用保険適用者（６号の２）'!R105=\"\",0,'雇用保険適用者（６号の２）'!R105)","v":0},{"$f":"IF('雇用保険適用者（６号の２）'!S105=\"\",0,'雇用保険適用者（６号の２）'!S105)","v":0},{"$f":"IF('雇用保険適用者（６号の２）'!T105=\"\",0,'雇用保険適用者（６号の２）'!T105)","v":0},{"$f":"IF('雇用保険適用者（６号の２）'!U105=\"\",0,'雇用保険適用者（６号の２）'!U105)","v":0},{"$f":"IF('雇用保険適用者（６号の２）'!V105=\"\",0,'雇用保険適用者（６号の２）'!V105)","v":0},{"$f":"IF('雇用保険適用者（６号の２）'!W105=\"\",0,'雇用保険適用者（６号の２）'!W105)","v":0},{"$f":"IF('雇用保険適用者（６号の２）'!X105=\"\",0,'雇用保険適用者（６号の２）'!X105)","v":0},{"$f":"IF('雇用保険適用者（６号の２）'!Y105=\"\",0,'雇用保険適用者（６号の２）'!Y105)","v":0},{"$f":"IF('雇用保険適用者（６号の２）'!Z105=\"\",0,'雇用保険適用者（６号の２）'!Z105)","v":0}]
[]
[null,"【　注意　】",null,"１　この表は、雇用保険被保険者であるすべての労働者（職員を含む）について、賃金台帳に基づいて作成してください。"]
[null,null,null,"２　賃金額は、超過勤務手当、通勤手当等を含む賃金総額（源泉所得税、社会保険料、雇用保険料等を控除する前の金額）を記載してください。"]
[null,"高",null,"３　各月の賃金額は、原則として支払内容月で作成してください。"]
[null,null,null,"４　雇用保険に係る取得・離職年月日は届出書類と照合の上、正確に記載してください。"]
[null,null,null,"５　賞与、燃料手当、臨時手当などの手当を支給した場合は、該当月欄の上段に賞与等の額を、下段に賃金額を記入してください。（二段書きしてください。）　　　",null,null,null,null,null,null,null,null,null,null,null,null,null,null,null,null,null,null,null,"　　記載例　　","３５０，０００　←　賞与等"]
[null,null,null,null,null,null,null,null,"　　　　　　　　　　　　　　　　　　　　　　　　　　　　　　　　　　　　　　　　　　　　　　　　　　　　　　　　　　　　　　　　　　　　　　　　　　　　　　　　　　　　　　　　　　　　　　　　　　　　　　　　　　　",null,null,null,null,null,null,null,null,null,null,null,null,null,null,null,"２００，０００　←　賃　金"]
[null,"６号の２の計算式。この画面を削除すると正しく表示されません。"]
[]
[]
[]
[null,"氏名",null,null,null,"生年月日",null,null,"被保険者\n資格取得\n年月日",null,null,"被保険者\n離職\n年月日",null,"令和３年４月","令和３年５月","令和３年６月","令和３年７月","令和３年８月","令和３年９月","令和３年１０月","令和３年１１月","令和３年１２月","令和４年１月","令和４年２月","令和４年３月",null,"年度計"]
[]
[" "]
[null,{"$f":"'雇用保険適用者（６号の２）'!#REF!","v":{"$error":"#REF!"}},null,null,null,null,null,null,null,null,null,null,null,{"$f":"IF($B120=\"高\",'雇用保険適用者（６号の２）'!M120,0)","v":{"$error":"#REF!"}},{"$f":"IF($B120=\"高\",'雇用保険適用者（６号の２）'!N120,0)","v":{"$error":"#REF!"}},{"$f":"IF($B120=\"高\",'雇用保険適用者（６号の２）'!O120,0)","v":{"$error":"#REF!"}},{"$f":"IF($B120=\"高\",'雇用保険適用者（６号の２）'!P120,0)","v":{"$error":"#REF!"}},{"$f":"IF($B120=\"高\",'雇用保険適用者（６号の２）'!Q120,0)","v":{"$error":"#REF!"}},{"$f":"IF($B120=\"高\",'雇用保険適用者（６号の２）'!R120,0)","v":{"$error":"#REF!"}},{"$f":"IF($B120=\"高\",'雇用保険適用者（６号の２）'!S120,0)","v":{"$error":"#REF!"}},{"$f":"IF($B120=\"高\",'雇用保険適用者（６号の２）'!T120,0)","v":{"$error":"#REF!"}},{"$f":"IF($B120=\"高\",'雇用保険適用者（６号の２）'!U120,0)","v":{"$error":"#REF!"}},{"$f":"IF($B120=\"高\",'雇用保険適用者（６号の２）'!V120,0)","v":{"$error":"#REF!"}},{"$f":"IF($B120=\"高\",'雇用保険適用者（６号の２）'!W120,0)","v":{"$error":"#REF!"}},{"$f":"IF($B120=\"高\",'雇用保険適用者（６号の２）'!X120,0)","v":{"$error":"#REF!"}},{"$f":"IF($B120=\"高\",'雇用保険適用者（６号の２）'!Y120,0)","v":{"$error":"#REF!"}},{"$f":"IF($B120=\"高\",'雇用保険適用者（６号の２）'!Z120,0)","v":{"$error":"#REF!"}}]
[null,null,null,null,null,null,null,null,null,null,null,null,null,{"$f":"IF($B120=\"高\",'雇用保険適用者（６号の２）'!M121,0)","v":{"$error":"#REF!"}},{"$f":"IF($B120=\"高\",'雇用保険適用者（６号の２）'!N121,0)","v":{"$error":"#REF!"}},{"$f":"IF($B120=\"高\",'雇用保険適用者（６号の２）'!O121,0)","v":{"$error":"#REF!"}},{"$f":"IF($B120=\"高\",'雇用保険適用者（６号の２）'!P121,0)","v":{"$error":"#REF!"}},{"$f":"IF($B120=\"高\",'雇用保険適用者（６号の２）'!Q121,0)","v":{"$error":"#REF!"}},{"$f":"IF($B120=\"高\",'雇用保険適用者（６号の２）'!R121,0)","v":{"$error":"#REF!"}},{"$f":"IF($B120=\"高\",'雇用保険適用者（６号の２）'!S121,0)","v":{"$error":"#REF!"}},{"$f":"IF($B120=\"高\",'雇用保険適用者（６号の２）'!T121,0)","v":{"$error":"#REF!"}},{"$f":"IF($B120=\"高\",'雇用保険適用者（６号の２）'!U121,0)","v":{"$error":"#REF!"}},{"$f":"IF($B120=\"高\",'雇用保険適用者（６号の２）'!V121,0)","v":{"$error":"#REF!"}},{"$f":"IF($B120=\"高\",'雇用保険適用者（６号の２）'!W121,0)","v":{"$error":"#REF!"}},{"$f":"IF($B120=\"高\",'雇用保険適用者（６号の２）'!X121,0)","v":{"$error":"#REF!"}},{"$f":"IF($B121=\"高\",'雇用保険適用者（６号の２）'!Y121,0)","v":0},{"$f":"IF($B121=\"高\",'雇用保険適用者（６号の２）'!Z121,0)","v":0}]
[null,{"$f":"'雇用保険適用者（６号の２）'!#REF!","v":{"$error":"#REF!"}},null,null,null,null,null,null,null,null,null,null,null,{"$f":"IF($B122=\"高\",'雇用保険適用者（６号の２）'!M122,0)","v":{"$error":"#REF!"}},{"$f":"IF($B122=\"高\",'雇用保険適用者（６号の２）'!N122,0)","v":{"$error":"#REF!"}},{"$f":"IF($B122=\"高\",'雇用保険適用者（６号の２）'!O122,0)","v":{"$error":"#REF!"}},{"$f":"IF($B122=\"高\",'雇用保険適用者（６号の２）'!P122,0)","v":{"$error":"#REF!"}},{"$f":"IF($B122=\"高\",'雇用保険適用者（６号の２）'!Q122,0)","v":{"$error":"#REF!"}},{"$f":"IF($B122=\"高\",'雇用保険適用者（６号の２）'!R122,0)","v":{"$error":"#REF!"}},{"$f":"IF($B122=\"高\",'雇用保険適用者（６号の２）'!S122,0)","v":{"$error":"#REF!"}},{"$f":"IF($B122=\"高\",'雇用保険適用者（６号の２）'!T122,0)","v":{"$error":"#REF!"}},{"$f":"IF($B122=\"高\",'雇用保険適用者（６号の２）'!U122,0)","v":{"$error":"#REF!"}},{"$f":"IF($B122=\"高\",'雇用保険適用者（６号の２）'!V122,0)","v":{"$error":"#REF!"}},{"$f":"IF($B122=\"高\",'雇用保険適用者（６号の２）'!W122,0)","v":{"$error":"#REF!"}},{"$f":"IF($B122=\"高\",'雇用保険適用者（６号の２）'!X122,0)","v":{"$error":"#REF!"}},{"$f":"IF($B122=\"高\",'雇用保険適用者（６号の２）'!Y122,0)","v":{"$error":"#REF!"}},{"$f":"IF($B122=\"高\",'雇用保険適用者（６号の２）'!Z122,0)","v":{"$error":"#REF!"}}]
[null,null,null,null,null,null,null,null,null,null,null,null,null,{"$f":"IF($B122=\"高\",'雇用保険適用者（６号の２）'!M123,0)","v":{"$error":"#REF!"}},{"$f":"IF($B122=\"高\",'雇用保険適用者（６号の２）'!N123,0)","v":{"$error":"#REF!"}},{"$f":"IF($B122=\"高\",'雇用保険適用者（６号の２）'!O123,0)","v":{"$error":"#REF!"}},{"$f":"IF($B122=\"高\",'雇用保険適用者（６号の２）'!P123,0)","v":{"$error":"#REF!"}},{"$f":"IF($B122=\"高\",'雇用保険適用者（６号の２）'!Q123,0)","v":{"$error":"#REF!"}},{"$f":"IF($B122=\"高\",'雇用保険適用者（６号の２）'!R123,0)","v":{"$error":"#REF!"}},{"$f":"IF($B122=\"高\",'雇用保険適用者（６号の２）'!S123,0)","v":{"$error":"#REF!"}},{"$f":"IF($B122=\"高\",'雇用保険適用者（６号の２）'!T123,0)","v":{"$error":"#REF!"}},{"$f":"IF($B122=\"高\",'雇用保険適用者（６号の２）'!U123,0)","v":{"$error":"#REF!"}},{"$f":"IF($B122=\"高\",'雇用保険適用者（６号の２）'!V123,0)","v":{"$error":"#REF!"}},{"$f":"IF($B122=\"高\",'雇用保険適用者（６号の２）'!W123,0)","v":{"$error":"#REF!"}},{"$f":"IF($B122=\"高\",'雇用保険適用者（６号の２）'!X123,0)","v":{"$error":"#REF!"}},{"$f":"IF($B123=\"高\",'雇用保険適用者（６号の２）'!Y123,0)","v":0},{"$f":"IF($B123=\"高\",'雇用保険適用者（６号の２）'!Z123,0)","v":0}]
[null,{"$f":"'雇用保険適用者（６号の２）'!#REF!","v":{"$error":"#REF!"}},null,null,null,null,null,null,null,null,null,null,null,{"$f":"IF($B124=\"高\",'雇用保険適用者（６号の２）'!M124,0)","v":{"$error":"#REF!"}},{"$f":"IF($B124=\"高\",'雇用保険適用者（６号の２）'!N124,0)","v":{"$error":"#REF!"}},{"$f":"IF($B124=\"高\",'雇用保険適用者（６号の２）'!O124,0)","v":{"$error":"#REF!"}},{"$f":"IF($B124=\"高\",'雇用保険適用者（６号の２）'!P124,0)","v":{"$error":"#REF!"}},{"$f":"IF($B124=\"高\",'雇用保険適用者（６号の２）'!Q124,0)","v":{"$error":"#REF!"}},{"$f":"IF($B124=\"高\",'雇用保険適用者（６号の２）'!R124,0)","v":{"$error":"#REF!"}},{"$f":"IF($B124=\"高\",'雇用保険適用者（６号の２）'!S124,0)","v":{"$error":"#REF!"}},{"$f":"IF($B124=\"高\",'雇用保険適用者（６号の２）'!T124,0)","v":{"$error":"#REF!"}},{"$f":"IF($B124=\"高\",'雇用保険適用者（６号の２）'!U124,0)","v":{"$error":"#REF!"}},{"$f":"IF($B124=\"高\",'雇用保険適用者（６号の２）'!V124,0)","v":{"$error":"#REF!"}},{"$f":"IF($B124=\"高\",'雇用保険適用者（６号の２）'!W124,0)","v":{"$error":"#REF!"}},{"$f":"IF($B124=\"高\",'雇用保険適用者（６号の２）'!X124,0)","v":{"$error":"#REF!"}},{"$f":"SUM(N124:Y124)","v":{"$error":"#REF!"}},{"$f":"SUM(N124:Y124)","v":{"$error":"#REF!"}}]
[null,null,null,null,null,null,null,null,null,null,null,null,null,{"$f":"IF($B124=\"高\",'雇用保険適用者（６号の２）'!M125,0)","v":{"$error":"#REF!"}},{"$f":"IF($B124=\"高\",'雇用保険適用者（６号の２）'!N125,0)","v":{"$error":"#REF!"}},{"$f":"IF($B124=\"高\",'雇用保険適用者（６号の２）'!O125,0)","v":{"$error":"#REF!"}},{"$f":"IF($B124=\"高\",'雇用保険適用者（６号の２）'!P125,0)","v":{"$error":"#REF!"}},{"$f":"IF($B124=\"高\",'雇用保険適用者（６号の２）'!Q125,0)","v":{"$error":"#REF!"}},{"$f":"IF($B124=\"高\",'雇用保険適用者（６号の２）'!R125,0)","v":{"$error":"#REF!"}},{"$f":"IF($B124=\"高\",'雇用保険適用者（６号の２）'!S125,0)","v":{"$error":"#REF!"}},{"$f":"IF($B124=\"高\",'雇用保険適用者（６号の２）'!T125,0)","v":{"$error":"#REF!"}},{"$f":"IF($B124=\"高\",'雇用保険適用者（６号の２）'!U125,0)","v":{"$error":"#REF!"}},{"$f":"IF($B124=\"高\",'雇用保険適用者（６号の２）'!V125,0)","v":{"$error":"#REF!"}},{"$f":"IF($B124=\"高\",'雇用保険適用者（６号の２）'!W125,0)","v":{"$error":"#REF!"}},{"$f":"IF($B124=\"高\",'雇用保険適用者（６号の２）'!X125,0)","v":{"$error":"#REF!"}},{"$error":"#REF!"},{"$error":"#REF!"}]
[null,{"$f":"'雇用保険適用者（６号の２）'!#REF!","v":{"$error":"#REF!"}},null,null,null,null,null,null,null,null,null,null,null,{"$f":"IF($B126=\"高\",'雇用保険適用者（６号の２）'!M126,0)","v":{"$error":"#REF!"}},{"$f":"IF($B126=\"高\",'雇用保険適用者（６号の２）'!N126,0)","v":{"$error":"#REF!"}},{"$f":"IF($B126=\"高\",'雇用保険適用者（６号の２）'!O126,0)","v":{"$error":"#REF!"}},{"$f":"IF($B126=\"高\",'雇用保険適用者（６号の２）'!P126,0)","v":{"$error":"#REF!"}},{"$f":"IF($B126=\"高\",'雇用保険適用者（６号の２）'!Q126,0)","v":{"$error":"#REF!"}},{"$f":"IF($B126=\"高\",'雇用保険適用者（６号の２）'!R126,0)","v":{"$error":"#REF!"}},{"$f":"IF($B126=\"高\",'雇用保険適用者（６号の２）'!S126,0)","v":{"$error":"#REF!"}},{"$f":"IF($B126=\"高\",'雇用保険適用者（６号の２）'!T126,0)","v":{"$error":"#REF!"}},{"$f":"IF($B126=\"高\",'雇用保険適用者（６号の２）'!U126,0)","v":{"$error":"#REF!"}},{"$f":"IF($B126=\"高\",'雇用保険適用者（６号の２）'!V126,0)","v":{"$error":"#REF!"}},{"$f":"IF($B126=\"高\",'雇用保険適用者（６号の２）'!W126,0)","v":{"$error":"#REF!"}},{"$f":"IF($B126=\"高\",'雇用保険適用者（６号の２）'!X126,0)","v":{"$error":"#REF!"}},{"$error":"#REF!"},{"$error":"#REF!"}]
[null,null,null,null,null,null,null,null,null,null,null,null,null,{"$f":"IF($B126=\"高\",'雇用保険適用者（６号の２）'!M127,0)","v":{"$error":"#REF!"}},{"$f":"IF($B126=\"高\",'雇用保険適用者（６号の２）'!N127,0)","v":{"$error":"#REF!"}},{"$f":"IF($B126=\"高\",'雇用保険適用者（６号の２）'!O127,0)","v":{"$error":"#REF!"}},{"$f":"IF($B126=\"高\",'雇用保険適用者（６号の２）'!P127,0)","v":{"$error":"#REF!"}},{"$f":"IF($B126=\"高\",'雇用保険適用者（６号の２）'!Q127,0)","v":{"$error":"#REF!"}},{"$f":"IF($B126=\"高\",'雇用保険適用者（６号の２）'!R127,0)","v":{"$error":"#REF!"}},{"$f":"IF($B126=\"高\",'雇用保険適用者（６号の２）'!S127,0)","v":{"$error":"#REF!"}},{"$f":"IF($B126=\"高\",'雇用保険適用者（６号の２）'!T127,0)","v":{"$error":"#REF!"}},{"$f":"IF($B126=\"高\",'雇用保険適用者（６号の２）'!U127,0)","v":{"$error":"#REF!"}},{"$f":"IF($B126=\"高\",'雇用保険適用者（６号の２）'!V127,0)","v":{"$error":"#REF!"}},{"$f":"IF($B126=\"高\",'雇用保険適用者（６号の２）'!W127,0)","v":{"$error":"#REF!"}},{"$f":"IF($B126=\"高\",'雇用保険適用者（６号の２）'!X127,0)","v":{"$error":"#REF!"}},{"$error":"#REF!"},{"$error":"#REF!"}]
[null,{"$f":"'雇用保険適用者（６号の２）'!#REF!","v":{"$error":"#REF!"}},null,null,null,null,null,null,null,null,null,null,null,{"$f":"IF($B128=\"高\",'雇用保険適用者（６号の２）'!M128,0)","v":{"$error":"#REF!"}},{"$f":"IF($B128=\"高\",'雇用保険適用者（６号の２）'!N128,0)","v":{"$error":"#REF!"}},{"$f":"IF($B128=\"高\",'雇用保険適用者（６号の２）'!O128,0)","v":{"$error":"#REF!"}},{"$f":"IF($B128=\"高\",'雇用保険適用者（６号の２）'!P128,0)","v":{"$error":"#REF!"}},{"$f":"IF($B128=\"高\",'雇用保険適用者（６号の２）'!Q128,0)","v":{"$error":"#REF!"}},{"$f":"IF($B128=\"高\",'雇用保険適用者（６号の２）'!R128,0)","v":{"$error":"#REF!"}},{"$f":"IF($B128=\"高\",'雇用保険適用者（６号の２）'!S128,0)","v":{"$error":"#REF!"}},{"$f":"IF($B128=\"高\",'雇用保険適用者（６号の２）'!T128,0)","v":{"$error":"#REF!"}},{"$f":"IF($B128=\"高\",'雇用保険適用者（６号の２）'!U128,0)","v":{"$error":"#REF!"}},{"$f":"IF($B128=\"高\",'雇用保険適用者（６号の２）'!V128,0)","v":{"$error":"#REF!"}},{"$f":"IF($B128=\"高\",'雇用保険適用者（６号の２）'!W128,0)","v":{"$error":"#REF!"}},{"$f":"IF($B128=\"高\",'雇用保険適用者（６号の２）'!X128,0)","v":{"$error":"#REF!"}},{"$error":"#REF!"},{"$error":"#REF!"}]
[null,null,null,null,null,null,null,null,null,null,null,null,null,{"$f":"IF($B128=\"高\",'雇用保険適用者（６号の２）'!M129,0)","v":{"$error":"#REF!"}},{"$f":"IF($B128=\"高\",'雇用保険適用者（６号の２）'!N129,0)","v":{"$error":"#REF!"}},{"$f":"IF($B128=\"高\",'雇用保険適用者（６号の２）'!O129,0)","v":{"$error":"#REF!"}},{"$f":"IF($B128=\"高\",'雇用保険適用者（６号の２）'!P129,0)","v":{"$error":"#REF!"}},{"$f":"IF($B128=\"高\",'雇用保険適用者（６号の２）'!Q129,0)","v":{"$error":"#REF!"}},{"$f":"IF($B128=\"高\",'雇用保険適用者（６号の２）'!R129,0)","v":{"$error":"#REF!"}},{"$f":"IF($B128=\"高\",'雇用保険適用者（６号の２）'!S129,0)","v":{"$error":"#REF!"}},{"$f":"IF($B128=\"高\",'雇用保険適用者（６号の２）'!T129,0)","v":{"$error":"#REF!"}},{"$f":"IF($B128=\"高\",'雇用保険適用者（６号の２）'!U129,0)","v":{"$error":"#REF!"}},{"$f":"IF($B128=\"高\",'雇用保険適用者（６号の２）'!V129,0)","v":{"$error":"#REF!"}},{"$f":"IF($B128=\"高\",'雇用保険適用者（６号の２）'!W129,0)","v":{"$error":"#REF!"}},{"$f":"IF($B128=\"高\",'雇用保険適用者（６号の２）'!X129,0)","v":{"$error":"#REF!"}},{"$error":"#REF!"},{"$error":"#REF!"}]
[null,{"$f":"'雇用保険適用者（６号の２）'!#REF!","v":{"$error":"#REF!"}},null,null,null,null,null,null,null,null,null,null,null,{"$f":"IF($B130=\"高\",'雇用保険適用者（６号の２）'!M130,0)","v":{"$error":"#REF!"}},{"$f":"IF($B130=\"高\",'雇用保険適用者（６号の２）'!N130,0)","v":{"$error":"#REF!"}},{"$f":"IF($B130=\"高\",'雇用保険適用者（６号の２）'!O130,0)","v":{"$error":"#REF!"}},{"$f":"IF($B130=\"高\",'雇用保険適用者（６号の２）'!P130,0)","v":{"$error":"#REF!"}},{"$f":"IF($B130=\"高\",'雇用保険適用者（６号の２）'!Q130,0)","v":{"$error":"#REF!"}},{"$f":"IF($B130=\"高\",'雇用保険適用者（６号の２）'!R130,0)","v":{"$error":"#REF!"}},{"$f":"IF($B130=\"高\",'雇用保険適用者（６号の２）'!S130,0)","v":{"$error":"#REF!"}},{"$f":"IF($B130=\"高\",'雇用保険適用者（６号の２）'!T130,0)","v":{"$error":"#REF!"}},{"$f":"IF($B130=\"高\",'雇用保険適用者（６号の２）'!U130,0)","v":{"$error":"#REF!"}},{"$f":"IF($B130=\"高\",'雇用保険適用者（６号の２）'!V130,0)","v":{"$error":"#REF!"}},{"$f":"IF($B130=\"高\",'雇用保険適用者（６号の２）'!W130,0)","v":{"$error":"#REF!"}},{"$f":"IF($B130=\"高\",'雇用保険適用者（６号の２）'!X130,0)","v":{"$error":"#REF!"}},{"$error":"#REF!"},{"$error":"#REF!"}]
[null,null,null,null,null,null,null,null,null,null,null,null,null,{"$f":"IF($B130=\"高\",'雇用保険適用者（６号の２）'!M131,0)","v":{"$error":"#REF!"}},{"$f":"IF($B130=\"高\",'雇用保険適用者（６号の２）'!N131,0)","v":{"$error":"#REF!"}},{"$f":"IF($B130=\"高\",'雇用保険適用者（６号の２）'!O131,0)","v":{"$error":"#REF!"}},{"$f":"IF($B130=\"高\",'雇用保険適用者（６号の２）'!P131,0)","v":{"$error":"#REF!"}},{"$f":"IF($B130=\"高\",'雇用保険適用者（６号の２）'!Q131,0)","v":{"$error":"#REF!"}},{"$f":"IF($B130=\"高\",'雇用保険適用者（６号の２）'!R131,0)","v":{"$error":"#REF!"}},{"$f":"IF($B130=\"高\",'雇用保険適用者（６号の２）'!S131,0)","v":{"$error":"#REF!"}},{"$f":"IF($B130=\"高\",'雇用保険適用者（６号の２）'!T131,0)","v":{"$error":"#REF!"}},{"$f":"IF($B130=\"高\",'雇用保険適用者（６号の２）'!U131,0)","v":{"$error":"#REF!"}},{"$f":"IF($B130=\"高\",'雇用保険適用者（６号の２）'!V131,0)","v":{"$error":"#REF!"}},{"$f":"IF($B130=\"高\",'雇用保険適用者（６号の２）'!W131,0)","v":{"$error":"#REF!"}},{"$f":"IF($B130=\"高\",'雇用保険適用者（６号の２）'!X131,0)","v":{"$error":"#REF!"}},{"$error":"#REF!"},{"$error":"#REF!"}]
[null,{"$f":"'雇用保険適用者（６号の２）'!#REF!","v":{"$error":"#REF!"}},null,null,null,null,null,null,null,null,null,null,null,{"$f":"IF($B132=\"高\",'雇用保険適用者（６号の２）'!M132,0)","v":{"$error":"#REF!"}},{"$f":"IF($B132=\"高\",'雇用保険適用者（６号の２）'!N132,0)","v":{"$error":"#REF!"}},{"$f":"IF($B132=\"高\",'雇用保険適用者（６号の２）'!O132,0)","v":{"$error":"#REF!"}},{"$f":"IF($B132=\"高\",'雇用保険適用者（６号の２）'!P132,0)","v":{"$error":"#REF!"}},{"$f":"IF($B132=\"高\",'雇用保険適用者（６号の２）'!Q132,0)","v":{"$error":"#REF!"}},{"$f":"IF($B132=\"高\",'雇用保険適用者（６号の２）'!R132,0)","v":{"$error":"#REF!"}},{"$f":"IF($B132=\"高\",'雇用保険適用者（６号の２）'!S132,0)","v":{"$error":"#REF!"}},{"$f":"IF($B132=\"高\",'雇用保険適用者（６号の２）'!T132,0)","v":{"$error":"#REF!"}},{"$f":"IF($B132=\"高\",'雇用保険適用者（６号の２）'!U132,0)","v":{"$error":"#REF!"}},{"$f":"IF($B132=\"高\",'雇用保険適用者（６号の２）'!V132,0)","v":{"$error":"#REF!"}},{"$f":"IF($B132=\"高\",'雇用保険適用者（６号の２）'!W132,0)","v":{"$error":"#REF!"}},{"$f":"IF($B132=\"高\",'雇用保険適用者（６号の２）'!X132,0)","v":{"$error":"#REF!"}},{"$error":"#REF!"},{"$error":"#REF!"}]
[null,null,null,null,null,null,null,null,null,null,null,null,null,{"$f":"IF($B132=\"高\",'雇用保険適用者（６号の２）'!M133,0)","v":{"$error":"#REF!"}},{"$f":"IF($B132=\"高\",'雇用保険適用者（６号の２）'!N133,0)","v":{"$error":"#REF!"}},{"$f":"IF($B132=\"高\",'雇用保険適用者（６号の２）'!O133,0)","v":{"$error":"#REF!"}},{"$f":"IF($B132=\"高\",'雇用保険適用者（６号の２）'!P133,0)","v":{"$error":"#REF!"}},{"$f":"IF($B132=\"高\",'雇用保険適用者（６号の２）'!Q133,0)","v":{"$error":"#REF!"}},{"$f":"IF($B132=\"高\",'雇用保険適用者（６号の２）'!R133,0)","v":{"$error":"#REF!"}},{"$f":"IF($B132=\"高\",'雇用保険適用者（６号の２）'!S133,0)","v":{"$error":"#REF!"}},{"$f":"IF($B132=\"高\",'雇用保険適用者（６号の２）'!T133,0)","v":{"$error":"#REF!"}},{"$f":"IF($B132=\"高\",'雇用保険適用者（６号の２）'!U133,0)","v":{"$error":"#REF!"}},{"$f":"IF($B132=\"高\",'雇用保険適用者（６号の２）'!V133,0)","v":{"$error":"#REF!"}},{"$f":"IF($B132=\"高\",'雇用保険適用者（６号の２）'!W133,0)","v":{"$error":"#REF!"}},{"$f":"IF($B132=\"高\",'雇用保険適用者（６号の２）'!X133,0)","v":{"$error":"#REF!"}},{"$error":"#REF!"},{"$error":"#REF!"}]
[null,{"$f":"'雇用保険適用者（６号の２）'!#REF!","v":{"$error":"#REF!"}},null,null,null,null,null,null,null,null,null,null,null,{"$f":"IF($B134=\"高\",'雇用保険適用者（６号の２）'!M134,0)","v":{"$error":"#REF!"}},{"$f":"IF($B134=\"高\",'雇用保険適用者（６号の２）'!N134,0)","v":{"$error":"#REF!"}},{"$f":"IF($B134=\"高\",'雇用保険適用者（６号の２）'!O134,0)","v":{"$error":"#REF!"}},{"$f":"IF($B134=\"高\",'雇用保険適用者（６号の２）'!P134,0)","v":{"$error":"#REF!"}},{"$f":"IF($B134=\"高\",'雇用保険適用者（６号の２）'!Q134,0)","v":{"$error":"#REF!"}},{"$f":"IF($B134=\"高\",'雇用保険適用者（６号の２）'!R134,0)","v":{"$error":"#REF!"}},{"$f":"IF($B134=\"高\",'雇用保険適用者（６号の２）'!S134,0)","v":{"$error":"#REF!"}},{"$f":"IF($B134=\"高\",'雇用保険適用者（６号の２）'!T134,0)","v":{"$error":"#REF!"}},{"$f":"IF($B134=\"高\",'雇用保険適用者（６号の２）'!U134,0)","v":{"$error":"#REF!"}},{"$f":"IF($B134=\"高\",'雇用保険適用者（６号の２）'!V134,0)","v":{"$error":"#REF!"}},{"$f":"IF($B134=\"高\",'雇用保険適用者（６号の２）'!W134,0)","v":{"$error":"#REF!"}},{"$f":"IF($B134=\"高\",'雇用保険適用者（６号の２）'!X134,0)","v":{"$error":"#REF!"}},{"$error":"#REF!"},{"$error":"#REF!"}]
[null,null,null,null,null,null,null,null,null,null,null,null,null,{"$f":"IF($B134=\"高\",'雇用保険適用者（６号の２）'!M135,0)","v":{"$error":"#REF!"}},{"$f":"IF($B134=\"高\",'雇用保険適用者（６号の２）'!N135,0)","v":{"$error":"#REF!"}},{"$f":"IF($B134=\"高\",'雇用保険適用者（６号の２）'!O135,0)","v":{"$error":"#REF!"}},{"$f":"IF($B134=\"高\",'雇用保険適用者（６号の２）'!P135,0)","v":{"$error":"#REF!"}},{"$f":"IF($B134=\"高\",'雇用保険適用者（６号の２）'!Q135,0)","v":{"$error":"#REF!"}},{"$f":"IF($B134=\"高\",'雇用保険適用者（６号の２）'!R135,0)","v":{"$error":"#REF!"}},{"$f":"IF($B134=\"高\",'雇用保険適用者（６号の２）'!S135,0)","v":{"$error":"#REF!"}},{"$f":"IF($B134=\"高\",'雇用保険適用者（６号の２）'!T135,0)","v":{"$error":"#REF!"}},{"$f":"IF($B134=\"高\",'雇用保険適用者（６号の２）'!U135,0)","v":{"$error":"#REF!"}},{"$f":"IF($B134=\"高\",'雇用保険適用者（６号の２）'!V135,0)","v":{"$error":"#REF!"}},{"$f":"IF($B134=\"高\",'雇用保険適用者（６号の２）'!W135,0)","v":{"$error":"#REF!"}},{"$f":"IF($B134=\"高\",'雇用保険適用者（６号の２）'!X135,0)","v":{"$error":"#REF!"}},{"$error":"#REF!"},{"$error":"#REF!"}]
[null,{"$f":"'雇用保険適用者（６号の２）'!#REF!","v":{"$error":"#REF!"}},null,null,null,null,null,null,null,null,null,null,null,{"$f":"IF($B136=\"高\",'雇用保険適用者（６号の２）'!M136,0)","v":{"$error":"#REF!"}},{"$f":"IF($B136=\"高\",'雇用保険適用者（６号の２）'!N136,0)","v":{"$error":"#REF!"}},{"$f":"IF($B136=\"高\",'雇用保険適用者（６号の２）'!O136,0)","v":{"$error":"#REF!"}},{"$f":"IF($B136=\"高\",'雇用保険適用者（６号の２）'!P136,0)","v":{"$error":"#REF!"}},{"$f":"IF($B136=\"高\",'雇用保険適用者（６号の２）'!Q136,0)","v":{"$error":"#REF!"}},{"$f":"IF($B136=\"高\",'雇用保険適用者（６号の２）'!R136,0)","v":{"$error":"#REF!"}},{"$f":"IF($B136=\"高\",'雇用保険適用者（６号の２）'!S136,0)","v":{"$error":"#REF!"}},{"$f":"IF($B136=\"高\",'雇用保険適用者（６号の２）'!T136,0)","v":{"$error":"#REF!"}},{"$f":"IF($B136=\"高\",'雇用保険適用者（６号の２）'!U136,0)","v":{"$error":"#REF!"}},{"$f":"IF($B136=\"高\",'雇用保険適用者（６号の２）'!V136,0)","v":{"$error":"#REF!"}},{"$f":"IF($B136=\"高\",'雇用保険適用者（６号の２）'!W136,0)","v":{"$error":"#REF!"}},{"$f":"IF($B136=\"高\",'雇用保険適用者（６号の２）'!X136,0)","v":{"$error":"#REF!"}},{"$error":"#REF!"},{"$error":"#REF!"}]
[null,null,null,null,null,null,null,null,null,null,null,null,null,{"$f":"IF($B136=\"高\",'雇用保険適用者（６号の２）'!M137,0)","v":{"$error":"#REF!"}},{"$f":"IF($B136=\"高\",'雇用保険適用者（６号の２）'!N137,0)","v":{"$error":"#REF!"}},{"$f":"IF($B136=\"高\",'雇用保険適用者（６号の２）'!O137,0)","v":{"$error":"#REF!"}},{"$f":"IF($B136=\"高\",'雇用保険適用者（６号の２）'!P137,0)","v":{"$error":"#REF!"}},{"$f":"IF($B136=\"高\",'雇用保険適用者（６号の２）'!Q137,0)","v":{"$error":"#REF!"}},{"$f":"IF($B136=\"高\",'雇用保険適用者（６号の２）'!R137,0)","v":{"$error":"#REF!"}},{"$f":"IF($B136=\"高\",'雇用保険適用者（６号の２）'!S137,0)","v":{"$error":"#REF!"}},{"$f":"IF($B136=\"高\",'雇用保険適用者（６号の２）'!T137,0)","v":{"$error":"#REF!"}},{"$f":"IF($B136=\"高\",'雇用保険適用者（６号の２）'!U137,0)","v":{"$error":"#REF!"}},{"$f":"IF($B136=\"高\",'雇用保険適用者（６号の２）'!V137,0)","v":{"$error":"#REF!"}},{"$f":"IF($B136=\"高\",'雇用保険適用者（６号の２）'!W137,0)","v":{"$error":"#REF!"}},{"$f":"IF($B136=\"高\",'雇用保険適用者（６号の２）'!X137,0)","v":{"$error":"#REF!"}},{"$error":"#REF!"},{"$error":"#REF!"}]
[null,{"$f":"'雇用保険適用者（６号の２）'!#REF!","v":{"$error":"#REF!"}},null,null,null,null,null,null,null,null,null,null,null,{"$f":"IF($B138=\"高\",'雇用保険適用者（６号の２）'!M138,0)","v":{"$error":"#REF!"}},{"$f":"IF($B138=\"高\",'雇用保険適用者（６号の２）'!N138,0)","v":{"$error":"#REF!"}},{"$f":"IF($B138=\"高\",'雇用保険適用者（６号の２）'!O138,0)","v":{"$error":"#REF!"}},{"$f":"IF($B138=\"高\",'雇用保険適用者（６号の２）'!P138,0)","v":{"$error":"#REF!"}},{"$f":"IF($B138=\"高\",'雇用保険適用者（６号の２）'!Q138,0)","v":{"$error":"#REF!"}},{"$f":"IF($B138=\"高\",'雇用保険適用者（６号の２）'!R138,0)","v":{"$error":"#REF!"}},{"$f":"IF($B138=\"高\",'雇用保険適用者（６号の２）'!S138,0)","v":{"$error":"#REF!"}},{"$f":"IF($B138=\"高\",'雇用保険適用者（６号の２）'!T138,0)","v":{"$error":"#REF!"}},{"$f":"IF($B138=\"高\",'雇用保険適用者（６号の２）'!U138,0)","v":{"$error":"#REF!"}},{"$f":"IF($B138=\"高\",'雇用保険適用者（６号の２）'!V138,0)","v":{"$error":"#REF!"}},{"$f":"IF($B138=\"高\",'雇用保険適用者（６号の２）'!W138,0)","v":{"$error":"#REF!"}},{"$f":"IF($B138=\"高\",'雇用保険適用者（６号の２）'!X138,0)","v":{"$error":"#REF!"}},{"$error":"#REF!"},{"$error":"#REF!"}]
[null,null,null,null,null,null,null,null,null,null,null,null,null,{"$f":"IF($B138=\"高\",'雇用保険適用者（６号の２）'!M139,0)","v":{"$error":"#REF!"}},{"$f":"IF($B138=\"高\",'雇用保険適用者（６号の２）'!N139,0)","v":{"$error":"#REF!"}},{"$f":"IF($B138=\"高\",'雇用保険適用者（６号の２）'!O139,0)","v":{"$error":"#REF!"}},{"$f":"IF($B138=\"高\",'雇用保険適用者（６号の２）'!P139,0)","v":{"$error":"#REF!"}},{"$f":"IF($B138=\"高\",'雇用保険適用者（６号の２）'!Q139,0)","v":{"$error":"#REF!"}},{"$f":"IF($B138=\"高\",'雇用保険適用者（６号の２）'!R139,0)","v":{"$error":"#REF!"}},{"$f":"IF($B138=\"高\",'雇用保険適用者（６号の２）'!S139,0)","v":{"$error":"#REF!"}},{"$f":"IF($B138=\"高\",'雇用保険適用者（６号の２）'!T139,0)","v":{"$error":"#REF!"}},{"$f":"IF($B138=\"高\",'雇用保険適用者（６号の２）'!U139,0)","v":{"$error":"#REF!"}},{"$f":"IF($B138=\"高\",'雇用保険適用者（６号の２）'!V139,0)","v":{"$error":"#REF!"}},{"$f":"IF($B138=\"高\",'雇用保険適用者（６号の２）'!W139,0)","v":{"$error":"#REF!"}},{"$f":"IF($B138=\"高\",'雇用保険適用者（６号の２）'!X139,0)","v":{"$error":"#REF!"}},{"$error":"#REF!"},{"$error":"#REF!"}]
[null,{"$f":"'雇用保険適用者（６号の２）'!#REF!","v":{"$error":"#REF!"}},null,null,null,null,null,null,null,null,null,null,null,{"$f":"IF($B140=\"高\",'雇用保険適用者（６号の２）'!M140,0)","v":{"$error":"#REF!"}},{"$f":"IF($B140=\"高\",'雇用保険適用者（６号の２）'!N140,0)","v":{"$error":"#REF!"}},{"$f":"IF($B140=\"高\",'雇用保険適用者（６号の２）'!O140,0)","v":{"$error":"#REF!"}},{"$f":"IF($B140=\"高\",'雇用保険適用者（６号の２）'!P140,0)","v":{"$error":"#REF!"}},{"$f":"IF($B140=\"高\",'雇用保険適用者（６号の２）'!Q140,0)","v":{"$error":"#REF!"}},{"$f":"IF($B140=\"高\",'雇用保険適用者（６号の２）'!R140,0)","v":{"$error":"#REF!"}},{"$f":"IF($B140=\"高\",'雇用保険適用者（６号の２）'!S140,0)","v":{"$error":"#REF!"}},{"$f":"IF($B140=\"高\",'雇用保険適用者（６号の２）'!T140,0)","v":{"$error":"#REF!"}},{"$f":"IF($B140=\"高\",'雇用保険適用者（６号の２）'!U140,0)","v":{"$error":"#REF!"}},{"$f":"IF($B140=\"高\",'雇用保険適用者（６号の２）'!V140,0)","v":{"$error":"#REF!"}},{"$f":"IF($B140=\"高\",'雇用保険適用者（６号の２）'!W140,0)","v":{"$error":"#REF!"}},{"$f":"IF($B140=\"高\",'雇用保険適用者（６号の２）'!X140,0)","v":{"$error":"#REF!"}},{"$error":"#REF!"},{"$error":"#REF!"}]
[null,null,null,null,null,null,null,null,null,null,null,null,null,{"$f":"IF($B140=\"高\",'雇用保険適用者（６号の２）'!M141,0)","v":{"$error":"#REF!"}},{"$f":"IF($B140=\"高\",'雇用保険適用者（６号の２）'!N141,0)","v":{"$error":"#REF!"}},{"$f":"IF($B140=\"高\",'雇用保険適用者（６号の２）'!O141,0)","v":{"$error":"#REF!"}},{"$f":"IF($B140=\"高\",'雇用保険適用者（６号の２）'!P141,0)","v":{"$error":"#REF!"}},{"$f":"IF($B140=\"高\",'雇用保険適用者（６号の２）'!Q141,0)","v":{"$error":"#REF!"}},{"$f":"IF($B140=\"高\",'雇用保険適用者（６号の２）'!R141,0)","v":{"$error":"#REF!"}},{"$f":"IF($B140=\"高\",'雇用保険適用者（６号の２）'!S141,0)","v":{"$error":"#REF!"}},{"$f":"IF($B140=\"高\",'雇用保険適用者（６号の２）'!T141,0)","v":{"$error":"#REF!"}},{"$f":"IF($B140=\"高\",'雇用保険適用者（６号の２）'!U141,0)","v":{"$error":"#REF!"}},{"$f":"IF($B140=\"高\",'雇用保険適用者（６号の２）'!V141,0)","v":{"$error":"#REF!"}},{"$f":"IF($B140=\"高\",'雇用保険適用者（６号の２）'!W141,0)","v":{"$error":"#REF!"}},{"$f":"IF($B140=\"高\",'雇用保険適用者（６号の２）'!X141,0)","v":{"$error":"#REF!"}},{"$error":"#REF!"},{"$error":"#REF!"}]
[null,{"$f":"'雇用保険適用者（６号の２）'!#REF!","v":{"$error":"#REF!"}},null,null,null,null,null,null,null,null,null,null,null,{"$f":"IF($B142=\"高\",'雇用保険適用者（６号の２）'!M142,0)","v":{"$error":"#REF!"}},{"$f":"IF($B142=\"高\",'雇用保険適用者（６号の２）'!N142,0)","v":{"$error":"#REF!"}},{"$f":"IF($B142=\"高\",'雇用保険適用者（６号の２）'!O142,0)","v":{"$error":"#REF!"}},{"$f":"IF($B142=\"高\",'雇用保険適用者（６号の２）'!P142,0)","v":{"$error":"#REF!"}},{"$f":"IF($B142=\"高\",'雇用保険適用者（６号の２）'!Q142,0)","v":{"$error":"#REF!"}},{"$f":"IF($B142=\"高\",'雇用保険適用者（６号の２）'!R142,0)","v":{"$error":"#REF!"}},{"$f":"IF($B142=\"高\",'雇用保険適用者（６号の２）'!S142,0)","v":{"$error":"#REF!"}},{"$f":"IF($B142=\"高\",'雇用保険適用者（６号の２）'!T142,0)","v":{"$error":"#REF!"}},{"$f":"IF($B142=\"高\",'雇用保険適用者（６号の２）'!U142,0)","v":{"$error":"#REF!"}},{"$f":"IF($B142=\"高\",'雇用保険適用者（６号の２）'!V142,0)","v":{"$error":"#REF!"}},{"$f":"IF($B142=\"高\",'雇用保険適用者（６号の２）'!W142,0)","v":{"$error":"#REF!"}},{"$f":"IF($B142=\"高\",'雇用保険適用者（６号の２）'!X142,0)","v":{"$error":"#REF!"}},{"$error":"#REF!"},{"$error":"#REF!"}]
[null,null,null,null,null,null,null,null,null,null,null,null,null,{"$f":"IF($B142=\"高\",'雇用保険適用者（６号の２）'!M143,0)","v":{"$error":"#REF!"}},{"$f":"IF($B142=\"高\",'雇用保険適用者（６号の２）'!N143,0)","v":{"$error":"#REF!"}},{"$f":"IF($B142=\"高\",'雇用保険適用者（６号の２）'!O143,0)","v":{"$error":"#REF!"}},{"$f":"IF($B142=\"高\",'雇用保険適用者（６号の２）'!P143,0)","v":{"$error":"#REF!"}},{"$f":"IF($B142=\"高\",'雇用保険適用者（６号の２）'!Q143,0)","v":{"$error":"#REF!"}},{"$f":"IF($B142=\"高\",'雇用保険適用者（６号の２）'!R143,0)","v":{"$error":"#REF!"}},{"$f":"IF($B142=\"高\",'雇用保険適用者（６号の２）'!S143,0)","v":{"$error":"#REF!"}},{"$f":"IF($B142=\"高\",'雇用保険適用者（６号の２）'!T143,0)","v":{"$error":"#REF!"}},{"$f":"IF($B142=\"高\",'雇用保険適用者（６号の２）'!U143,0)","v":{"$error":"#REF!"}},{"$f":"IF($B142=\"高\",'雇用保険適用者（６号の２）'!V143,0)","v":{"$error":"#REF!"}},{"$f":"IF($B142=\"高\",'雇用保険適用者（６号の２）'!W143,0)","v":{"$error":"#REF!"}},{"$f":"IF($B142=\"高\",'雇用保険適用者（６号の２）'!X143,0)","v":{"$error":"#REF!"}},{"$error":"#REF!"},{"$error":"#REF!"}]
[null,{"$f":"'雇用保険適用者（６号の２）'!#REF!","v":{"$error":"#REF!"}},null,null,null,null,null,null,null,null,null,null,null,{"$f":"IF($B144=\"高\",'雇用保険適用者（６号の２）'!M144,0)","v":{"$error":"#REF!"}},{"$f":"IF($B144=\"高\",'雇用保険適用者（６号の２）'!N144,0)","v":{"$error":"#REF!"}},{"$f":"IF($B144=\"高\",'雇用保険適用者（６号の２）'!O144,0)","v":{"$error":"#REF!"}},{"$f":"IF($B144=\"高\",'雇用保険適用者（６号の２）'!P144,0)","v":{"$error":"#REF!"}},{"$f":"IF($B144=\"高\",'雇用保険適用者（６号の２）'!Q144,0)","v":{"$error":"#REF!"}},{"$f":"IF($B144=\"高\",'雇用保険適用者（６号の２）'!R144,0)","v":{"$error":"#REF!"}},{"$f":"IF($B144=\"高\",'雇用保険適用者（６号の２）'!S144,0)","v":{"$error":"#REF!"}},{"$f":"IF($B144=\"高\",'雇用保険適用者（６号の２）'!T144,0)","v":{"$error":"#REF!"}},{"$f":"IF($B144=\"高\",'雇用保険適用者（６号の２）'!U144,0)","v":{"$error":"#REF!"}},{"$f":"IF($B144=\"高\",'雇用保険適用者（６号の２）'!V144,0)","v":{"$error":"#REF!"}},{"$f":"IF($B144=\"高\",'雇用保険適用者（６号の２）'!W144,0)","v":{"$error":"#REF!"}},{"$f":"IF($B144=\"高\",'雇用保険適用者（６号の２）'!X144,0)","v":{"$error":"#REF!"}},{"$error":"#REF!"},{"$error":"#REF!"}]
[null,null,null,null,null,null,null,null,null,null,null,null,null,{"$f":"IF($B144=\"高\",'雇用保険適用者（６号の２）'!M145,0)","v":{"$error":"#REF!"}},{"$f":"IF($B144=\"高\",'雇用保険適用者（６号の２）'!N145,0)","v":{"$error":"#REF!"}},{"$f":"IF($B144=\"高\",'雇用保険適用者（６号の２）'!O145,0)","v":{"$error":"#REF!"}},{"$f":"IF($B144=\"高\",'雇用保険適用者（６号の２）'!P145,0)","v":{"$error":"#REF!"}},{"$f":"IF($B144=\"高\",'雇用保険適用者（６号の２）'!Q145,0)","v":{"$error":"#REF!"}},{"$f":"IF($B144=\"高\",'雇用保険適用者（６号の２）'!R145,0)","v":{"$error":"#REF!"}},{"$f":"IF($B144=\"高\",'雇用保険適用者（６号の２）'!S145,0)","v":{"$error":"#REF!"}},{"$f":"IF($B144=\"高\",'雇用保険適用者（６号の２）'!T145,0)","v":{"$error":"#REF!"}},{"$f":"IF($B144=\"高\",'雇用保険適用者（６号の２）'!U145,0)","v":{"$error":"#REF!"}},{"$f":"IF($B144=\"高\",'雇用保険適用者（６号の２）'!V145,0)","v":{"$error":"#REF!"}},{"$f":"IF($B144=\"高\",'雇用保険適用者（６号の２）'!W145,0)","v":{"$error":"#REF!"}},{"$f":"IF($B144=\"高\",'雇用保険適用者（６号の２）'!X145,0)","v":{"$error":"#REF!"}},{"$error":"#REF!"},{"$error":"#REF!"}]
[null,{"$f":"'雇用保険適用者（６号の２）'!#REF!","v":{"$error":"#REF!"}},null,null,null,null,null,null,null,null,null,null,null,{"$f":"IF($B146=\"高\",'雇用保険適用者（６号の２）'!M146,0)","v":{"$error":"#REF!"}},{"$f":"IF($B146=\"高\",'雇用保険適用者（６号の２）'!N146,0)","v":{"$error":"#REF!"}},{"$f":"IF($B146=\"高\",'雇用保険適用者（６号の２）'!O146,0)","v":{"$error":"#REF!"}},{"$f":"IF($B146=\"高\",'雇用保険適用者（６号の２）'!P146,0)","v":{"$error":"#REF!"}},{"$f":"IF($B146=\"高\",'雇用保険適用者（６号の２）'!Q146,0)","v":{"$error":"#REF!"}},{"$f":"IF($B146=\"高\",'雇用保険適用者（６号の２）'!R146,0)","v":{"$error":"#REF!"}},{"$f":"IF($B146=\"高\",'雇用保険適用者（６号の２）'!S146,0)","v":{"$error":"#REF!"}},{"$f":"IF($B146=\"高\",'雇用保険適用者（６号の２）'!T146,0)","v":{"$error":"#REF!"}},{"$f":"IF($B146=\"高\",'雇用保険適用者（６号の２）'!U146,0)","v":{"$error":"#REF!"}},{"$f":"IF($B146=\"高\",'雇用保険適用者（６号の２）'!V146,0)","v":{"$error":"#REF!"}},{"$f":"IF($B146=\"高\",'雇用保険適用者（６号の２）'!W146,0)","v":{"$error":"#REF!"}},{"$f":"IF($B146=\"高\",'雇用保険適用者（６号の２）'!X146,0)","v":{"$error":"#REF!"}},{"$error":"#REF!"},{"$error":"#REF!"}]
[null,null,null,null,null,null,null,null,null,null,null,null,null,{"$f":"IF($B146=\"高\",'雇用保険適用者（６号の２）'!M147,0)","v":{"$error":"#REF!"}},{"$f":"IF($B146=\"高\",'雇用保険適用者（６号の２）'!N147,0)","v":{"$error":"#REF!"}},{"$f":"IF($B146=\"高\",'雇用保険適用者（６号の２）'!O147,0)","v":{"$error":"#REF!"}},{"$f":"IF($B146=\"高\",'雇用保険適用者（６号の２）'!P147,0)","v":{"$error":"#REF!"}},{"$f":"IF($B146=\"高\",'雇用保険適用者（６号の２）'!Q147,0)","v":{"$error":"#REF!"}},{"$f":"IF($B146=\"高\",'雇用保険適用者（６号の２）'!R147,0)","v":{"$error":"#REF!"}},{"$f":"IF($B146=\"高\",'雇用保険適用者（６号の２）'!S147,0)","v":{"$error":"#REF!"}},{"$f":"IF($B146=\"高\",'雇用保険適用者（６号の２）'!T147,0)","v":{"$error":"#REF!"}},{"$f":"IF($B146=\"高\",'雇用保険適用者（６号の２）'!U147,0)","v":{"$error":"#REF!"}},{"$f":"IF($B146=\"高\",'雇用保険適用者（６号の２）'!V147,0)","v":{"$error":"#REF!"}},{"$f":"IF($B146=\"高\",'雇用保険適用者（６号の２）'!W147,0)","v":{"$error":"#REF!"}},{"$f":"IF($B146=\"高\",'雇用保険適用者（６号の２）'!X147,0)","v":{"$error":"#REF!"}},{"$error":"#REF!"},{"$error":"#REF!"}]
[null,{"$f":"'雇用保険適用者（６号の２）'!#REF!","v":{"$error":"#REF!"}},null,null,null,null,null,null,null,null,null,null,null,{"$f":"IF($B148=\"高\",'雇用保険適用者（６号の２）'!M148,0)","v":{"$error":"#REF!"}},{"$f":"IF($B148=\"高\",'雇用保険適用者（６号の２）'!N148,0)","v":{"$error":"#REF!"}},{"$f":"IF($B148=\"高\",'雇用保険適用者（６号の２）'!O148,0)","v":{"$error":"#REF!"}},{"$f":"IF($B148=\"高\",'雇用保険適用者（６号の２）'!P148,0)","v":{"$error":"#REF!"}},{"$f":"IF($B148=\"高\",'雇用保険適用者（６号の２）'!Q148,0)","v":{"$error":"#REF!"}},{"$f":"IF($B148=\"高\",'雇用保険適用者（６号の２）'!R148,0)","v":{"$error":"#REF!"}},{"$f":"IF($B148=\"高\",'雇用保険適用者（６号の２）'!S148,0)","v":{"$error":"#REF!"}},{"$f":"IF($B148=\"高\",'雇用保険適用者（６号の２）'!T148,0)","v":{"$error":"#REF!"}},{"$f":"IF($B148=\"高\",'雇用保険適用者（６号の２）'!U148,0)","v":{"$error":"#REF!"}},{"$f":"IF($B148=\"高\",'雇用保険適用者（６号の２）'!V148,0)","v":{"$error":"#REF!"}},{"$f":"IF($B148=\"高\",'雇用保険適用者（６号の２）'!W148,0)","v":{"$error":"#REF!"}},{"$f":"IF($B148=\"高\",'雇用保険適用者（６号の２）'!X148,0)","v":{"$error":"#REF!"}},{"$error":"#REF!"},{"$error":"#REF!"}]
[null,null,null,null,null,null,null,null,null,null,null,null,null,{"$f":"IF($B148=\"高\",'雇用保険適用者（６号の２）'!M149,0)","v":{"$error":"#REF!"}},{"$f":"IF($B148=\"高\",'雇用保険適用者（６号の２）'!N149,0)","v":{"$error":"#REF!"}},{"$f":"IF($B148=\"高\",'雇用保険適用者（６号の２）'!O149,0)","v":{"$error":"#REF!"}},{"$f":"IF($B148=\"高\",'雇用保険適用者（６号の２）'!P149,0)","v":{"$error":"#REF!"}},{"$f":"IF($B148=\"高\",'雇用保険適用者（６号の２）'!Q149,0)","v":{"$error":"#REF!"}},{"$f":"IF($B148=\"高\",'雇用保険適用者（６号の２）'!R149,0)","v":{"$error":"#REF!"}},{"$f":"IF($B148=\"高\",'雇用保険適用者（６号の２）'!S149,0)","v":{"$error":"#REF!"}},{"$f":"IF($B148=\"高\",'雇用保険適用者（６号の２）'!T149,0)","v":{"$error":"#REF!"}},{"$f":"IF($B148=\"高\",'雇用保険適用者（６号の２）'!U149,0)","v":{"$error":"#REF!"}},{"$f":"IF($B148=\"高\",'雇用保険適用者（６号の２）'!V149,0)","v":{"$error":"#REF!"}},{"$f":"IF($B148=\"高\",'雇用保険適用者（６号の２）'!W149,0)","v":{"$error":"#REF!"}},{"$f":"IF($B148=\"高\",'雇用保険適用者（６号の２）'!X149,0)","v":{"$error":"#REF!"}},{"$error":"#REF!"},{"$error":"#REF!"}]
[null,{"$f":"'雇用保険適用者（６号の２）'!#REF!","v":{"$error":"#REF!"}},null,null,null,null,null,null,null,null,null,null,null,{"$f":"IF($B150=\"高\",'雇用保険適用者（６号の２）'!M150,0)","v":{"$error":"#REF!"}},{"$f":"IF($B150=\"高\",'雇用保険適用者（６号の２）'!N150,0)","v":{"$error":"#REF!"}},{"$f":"IF($B150=\"高\",'雇用保険適用者（６号の２）'!O150,0)","v":{"$error":"#REF!"}},{"$f":"IF($B150=\"高\",'雇用保険適用者（６号の２）'!P150,0)","v":{"$error":"#REF!"}},{"$f":"IF($B150=\"高\",'雇用保険適用者（６号の２）'!Q150,0)","v":{"$error":"#REF!"}},{"$f":"IF($B150=\"高\",'雇用保険適用者（６号の２）'!R150,0)","v":{"$error":"#REF!"}},{"$f":"IF($B150=\"高\",'雇用保険適用者（６号の２）'!S150,0)","v":{"$error":"#REF!"}},{"$f":"IF($B150=\"高\",'雇用保険適用者（６号の２）'!T150,0)","v":{"$error":"#REF!"}},{"$f":"IF($B150=\"高\",'雇用保険適用者（６号の２）'!U150,0)","v":{"$error":"#REF!"}},{"$f":"IF($B150=\"高\",'雇用保険適用者（６号の２）'!V150,0)","v":{"$error":"#REF!"}},{"$f":"IF($B150=\"高\",'雇用保険適用者（６号の２）'!W150,0)","v":{"$error":"#REF!"}},{"$f":"IF($B150=\"高\",'雇用保険適用者（６号の２）'!X150,0)","v":{"$error":"#REF!"}},{"$error":"#REF!"},{"$error":"#REF!"}]
[null,null,null,null,null,null,null,null,null,null,null,null,null,{"$f":"IF($B150=\"高\",'雇用保険適用者（６号の２）'!M151,0)","v":{"$error":"#REF!"}},{"$f":"IF($B150=\"高\",'雇用保険適用者（６号の２）'!N151,0)","v":{"$error":"#REF!"}},{"$f":"IF($B150=\"高\",'雇用保険適用者（６号の２）'!O151,0)","v":{"$error":"#REF!"}},{"$f":"IF($B150=\"高\",'雇用保険適用者（６号の２）'!P151,0)","v":{"$error":"#REF!"}},{"$f":"IF($B150=\"高\",'雇用保険適用者（６号の２）'!Q151,0)","v":{"$error":"#REF!"}},{"$f":"IF($B150=\"高\",'雇用保険適用者（６号の２）'!R151,0)","v":{"$error":"#REF!"}},{"$f":"IF($B150=\"高\",'雇用保険適用者（６号の２）'!S151,0)","v":{"$error":"#REF!"}},{"$f":"IF($B150=\"高\",'雇用保険適用者（６号の２）'!T151,0)","v":{"$error":"#REF!"}},{"$f":"IF($B150=\"高\",'雇用保険適用者（６号の２）'!U151,0)","v":{"$error":"#REF!"}},{"$f":"IF($B150=\"高\",'雇用保険適用者（６号の２）'!V151,0)","v":{"$error":"#REF!"}},{"$f":"IF($B150=\"高\",'雇用保険適用者（６号の２）'!W151,0)","v":{"$error":"#REF!"}},{"$f":"IF($B150=\"高\",'雇用保険適用者（６号の２）'!X151,0)","v":{"$error":"#REF!"}},{"$error":"#REF!"},{"$error":"#REF!"}]
[null,{"$f":"'雇用保険適用者（６号の２）'!#REF!","v":{"$error":"#REF!"}},null,null,null,null,null,null,null,null,null,null,null,{"$f":"IF($B152=\"高\",'雇用保険適用者（６号の２）'!M152,0)","v":{"$error":"#REF!"}},{"$f":"IF($B152=\"高\",'雇用保険適用者（６号の２）'!N152,0)","v":{"$error":"#REF!"}},{"$f":"IF($B152=\"高\",'雇用保険適用者（６号の２）'!O152,0)","v":{"$error":"#REF!"}},{"$f":"IF($B152=\"高\",'雇用保険適用者（６号の２）'!P152,0)","v":{"$error":"#REF!"}},{"$f":"IF($B152=\"高\",'雇用保険適用者（６号の２）'!Q152,0)","v":{"$error":"#REF!"}},{"$f":"IF($B152=\"高\",'雇用保険適用者（６号の２）'!R152,0)","v":{"$error":"#REF!"}},{"$f":"IF($B152=\"高\",'雇用保険適用者（６号の２）'!S152,0)","v":{"$error":"#REF!"}},{"$f":"IF($B152=\"高\",'雇用保険適用者（６号の２）'!T152,0)","v":{"$error":"#REF!"}},{"$f":"IF($B152=\"高\",'雇用保険適用者（６号の２）'!U152,0)","v":{"$error":"#REF!"}},{"$f":"IF($B152=\"高\",'雇用保険適用者（６号の２）'!V152,0)","v":{"$error":"#REF!"}},{"$f":"IF($B152=\"高\",'雇用保険適用者（６号の２）'!W152,0)","v":{"$error":"#REF!"}},{"$f":"IF($B152=\"高\",'雇用保険適用者（６号の２）'!X152,0)","v":{"$error":"#REF!"}},{"$error":"#REF!"},{"$error":"#REF!"}]
[null,null,null,null,null,null,null,null,null,null,null,null,null,{"$f":"IF($B152=\"高\",'雇用保険適用者（６号の２）'!M153,0)","v":{"$error":"#REF!"}},{"$f":"IF($B152=\"高\",'雇用保険適用者（６号の２）'!N153,0)","v":{"$error":"#REF!"}},{"$f":"IF($B152=\"高\",'雇用保険適用者（６号の２）'!O153,0)","v":{"$error":"#REF!"}},{"$f":"IF($B152=\"高\",'雇用保険適用者（６号の２）'!P153,0)","v":{"$error":"#REF!"}},{"$f":"IF($B152=\"高\",'雇用保険適用者（６号の２）'!Q153,0)","v":{"$error":"#REF!"}},{"$f":"IF($B152=\"高\",'雇用保険適用者（６号の２）'!R153,0)","v":{"$error":"#REF!"}},{"$f":"IF($B152=\"高\",'雇用保険適用者（６号の２）'!S153,0)","v":{"$error":"#REF!"}},{"$f":"IF($B152=\"高\",'雇用保険適用者（６号の２）'!T153,0)","v":{"$error":"#REF!"}},{"$f":"IF($B152=\"高\",'雇用保険適用者（６号の２）'!U153,0)","v":{"$error":"#REF!"}},{"$f":"IF($B152=\"高\",'雇用保険適用者（６号の２）'!V153,0)","v":{"$error":"#REF!"}},{"$f":"IF($B152=\"高\",'雇用保険適用者（６号の２）'!W153,0)","v":{"$error":"#REF!"}},{"$f":"IF($B152=\"高\",'雇用保険適用者（６号の２）'!X153,0)","v":{"$error":"#REF!"}},{"$error":"#REF!"},{"$error":"#REF!"}]
[null,{"$f":"'雇用保険適用者（６号の２）'!#REF!","v":{"$error":"#REF!"}},null,null,null,null,null,null,null,null,null,null,null,{"$f":"IF($B154=\"高\",'雇用保険適用者（６号の２）'!M154,0)","v":{"$error":"#REF!"}},{"$f":"IF($B154=\"高\",'雇用保険適用者（６号の２）'!N154,0)","v":{"$error":"#REF!"}},{"$f":"IF($B154=\"高\",'雇用保険適用者（６号の２）'!O154,0)","v":{"$error":"#REF!"}},{"$f":"IF($B154=\"高\",'雇用保険適用者（６号の２）'!P154,0)","v":{"$error":"#REF!"}},{"$f":"IF($B154=\"高\",'雇用保険適用者（６号の２）'!Q154,0)","v":{"$error":"#REF!"}},{"$f":"IF($B154=\"高\",'雇用保険適用者（６号の２）'!R154,0)","v":{"$error":"#REF!"}},{"$f":"IF($B154=\"高\",'雇用保険適用者（６号の２）'!S154,0)","v":{"$error":"#REF!"}},{"$f":"IF($B154=\"高\",'雇用保険適用者（６号の２）'!T154,0)","v":{"$error":"#REF!"}},{"$f":"IF($B154=\"高\",'雇用保険適用者（６号の２）'!U154,0)","v":{"$error":"#REF!"}},{"$f":"IF($B154=\"高\",'雇用保険適用者（６号の２）'!V154,0)","v":{"$error":"#REF!"}},{"$f":"IF($B154=\"高\",'雇用保険適用者（６号の２）'!W154,0)","v":{"$error":"#REF!"}},{"$f":"IF($B154=\"高\",'雇用保険適用者（６号の２）'!X154,0)","v":{"$error":"#REF!"}},{"$error":"#REF!"},{"$error":"#REF!"}]
[null,null,null,null,null,null,null,null,null,null,null,null,null,{"$f":"IF($B154=\"高\",'雇用保険適用者（６号の２）'!M155,0)","v":{"$error":"#REF!"}},{"$f":"IF($B154=\"高\",'雇用保険適用者（６号の２）'!N155,0)","v":{"$error":"#REF!"}},{"$f":"IF($B154=\"高\",'雇用保険適用者（６号の２）'!O155,0)","v":{"$error":"#REF!"}},{"$f":"IF($B154=\"高\",'雇用保険適用者（６号の２）'!P155,0)","v":{"$error":"#REF!"}},{"$f":"IF($B154=\"高\",'雇用保険適用者（６号の２）'!Q155,0)","v":{"$error":"#REF!"}},{"$f":"IF($B154=\"高\",'雇用保険適用者（６号の２）'!R155,0)","v":{"$error":"#REF!"}},{"$f":"IF($B154=\"高\",'雇用保険適用者（６号の２）'!S155,0)","v":{"$error":"#REF!"}},{"$f":"IF($B154=\"高\",'雇用保険適用者（６号の２）'!T155,0)","v":{"$error":"#REF!"}},{"$f":"IF($B154=\"高\",'雇用保険適用者（６号の２）'!U155,0)","v":{"$error":"#REF!"}},{"$f":"IF($B154=\"高\",'雇用保険適用者（６号の２）'!V155,0)","v":{"$error":"#REF!"}},{"$f":"IF($B154=\"高\",'雇用保険適用者（６号の２）'!W155,0)","v":{"$error":"#REF!"}},{"$f":"IF($B154=\"高\",'雇用保険適用者（６号の２）'!X155,0)","v":{"$error":"#REF!"}},{"$error":"#REF!"},{"$error":"#REF!"}]
[null,{"$f":"'雇用保険適用者（６号の２）'!#REF!","v":{"$error":"#REF!"}},null,null,null,null,null,null,null,null,null,null,null,{"$f":"IF($B156=\"高\",'雇用保険適用者（６号の２）'!M156,0)","v":{"$error":"#REF!"}},{"$f":"IF($B156=\"高\",'雇用保険適用者（６号の２）'!N156,0)","v":{"$error":"#REF!"}},{"$f":"IF($B156=\"高\",'雇用保険適用者（６号の２）'!O156,0)","v":{"$error":"#REF!"}},{"$f":"IF($B156=\"高\",'雇用保険適用者（６号の２）'!P156,0)","v":{"$error":"#REF!"}},{"$f":"IF($B156=\"高\",'雇用保険適用者（６号の２）'!Q156,0)","v":{"$error":"#REF!"}},{"$f":"IF($B156=\"高\",'雇用保険適用者（６号の２）'!R156,0)","v":{"$error":"#REF!"}},{"$f":"IF($B156=\"高\",'雇用保険適用者（６号の２）'!S156,0)","v":{"$error":"#REF!"}},{"$f":"IF($B156=\"高\",'雇用保険適用者（６号の２）'!T156,0)","v":{"$error":"#REF!"}},{"$f":"IF($B156=\"高\",'雇用保険適用者（６号の２）'!U156,0)","v":{"$error":"#REF!"}},{"$f":"IF($B156=\"高\",'雇用保険適用者（６号の２）'!V156,0)","v":{"$error":"#REF!"}},{"$f":"IF($B156=\"高\",'雇用保険適用者（６号の２）'!W156,0)","v":{"$error":"#REF!"}},{"$f":"IF($B156=\"高\",'雇用保険適用者（６号の２）'!X156,0)","v":{"$error":"#REF!"}},{"$error":"#REF!"},{"$error":"#REF!"}]
[null,null,null,null,null,null,null,null,null,null,null,null,null,{"$f":"IF($B156=\"高\",'雇用保険適用者（６号の２）'!M157,0)","v":{"$error":"#REF!"}},{"$f":"IF($B156=\"高\",'雇用保険適用者（６号の２）'!N157,0)","v":{"$error":"#REF!"}},{"$f":"IF($B156=\"高\",'雇用保険適用者（６号の２）'!O157,0)","v":{"$error":"#REF!"}},{"$f":"IF($B156=\"高\",'雇用保険適用者（６号の２）'!P157,0)","v":{"$error":"#REF!"}},{"$f":"IF($B156=\"高\",'雇用保険適用者（６号の２）'!Q157,0)","v":{"$error":"#REF!"}},{"$f":"IF($B156=\"高\",'雇用保険適用者（６号の２）'!R157,0)","v":{"$error":"#REF!"}},{"$f":"IF($B156=\"高\",'雇用保険適用者（６号の２）'!S157,0)","v":{"$error":"#REF!"}},{"$f":"IF($B156=\"高\",'雇用保険適用者（６号の２）'!T157,0)","v":{"$error":"#REF!"}},{"$f":"IF($B156=\"高\",'雇用保険適用者（６号の２）'!U157,0)","v":{"$error":"#REF!"}},{"$f":"IF($B156=\"高\",'雇用保険適用者（６号の２）'!V157,0)","v":{"$error":"#REF!"}},{"$f":"IF($B156=\"高\",'雇用保険適用者（６号の２）'!W157,0)","v":{"$error":"#REF!"}},{"$f":"IF($B156=\"高\",'雇用保険適用者（６号の２）'!X157,0)","v":{"$error":"#REF!"}},{"$error":"#REF!"},{"$error":"#REF!"}]
[null,{"$f":"'雇用保険適用者（６号の２）'!#REF!","v":{"$error":"#REF!"}},null,null,null,null,null,null,null,null,null,null,null,{"$f":"IF($B158=\"高\",'雇用保険適用者（６号の２）'!M158,0)","v":{"$error":"#REF!"}},{"$f":"IF($B158=\"高\",'雇用保険適用者（６号の２）'!N158,0)","v":{"$error":"#REF!"}},{"$f":"IF($B158=\"高\",'雇用保険適用者（６号の２）'!O158,0)","v":{"$error":"#REF!"}},{"$f":"IF($B158=\"高\",'雇用保険適用者（６号の２）'!P158,0)","v":{"$error":"#REF!"}},{"$f":"IF($B158=\"高\",'雇用保険適用者（６号の２）'!Q158,0)","v":{"$error":"#REF!"}},{"$f":"IF($B158=\"高\",'雇用保険適用者（６号の２）'!R158,0)","v":{"$error":"#REF!"}},{"$f":"IF($B158=\"高\",'雇用保険適用者（６号の２）'!S158,0)","v":{"$error":"#REF!"}},{"$f":"IF($B158=\"高\",'雇用保険適用者（６号の２）'!T158,0)","v":{"$error":"#REF!"}},{"$f":"IF($B158=\"高\",'雇用保険適用者（６号の２）'!U158,0)","v":{"$error":"#REF!"}},{"$f":"IF($B158=\"高\",'雇用保険適用者（６号の２）'!V158,0)","v":{"$error":"#REF!"}},{"$f":"IF($B158=\"高\",'雇用保険適用者（６号の２）'!W158,0)","v":{"$error":"#REF!"}},{"$f":"IF($B158=\"高\",'雇用保険適用者（６号の２）'!X158,0)","v":{"$error":"#REF!"}},{"$error":"#REF!"},{"$error":"#REF!"}]
[null,null,null,null,null,null,null,null,null,null,null,null,null,{"$f":"IF($B158=\"高\",'雇用保険適用者（６号の２）'!M159,0)","v":{"$error":"#REF!"}},{"$f":"IF($B158=\"高\",'雇用保険適用者（６号の２）'!N159,0)","v":{"$error":"#REF!"}},{"$f":"IF($B158=\"高\",'雇用保険適用者（６号の２）'!O159,0)","v":{"$error":"#REF!"}},{"$f":"IF($B158=\"高\",'雇用保険適用者（６号の２）'!P159,0)","v":{"$error":"#REF!"}},{"$f":"IF($B158=\"高\",'雇用保険適用者（６号の２）'!Q159,0)","v":{"$error":"#REF!"}},{"$f":"IF($B158=\"高\",'雇用保険適用者（６号の２）'!R159,0)","v":{"$error":"#REF!"}},{"$f":"IF($B158=\"高\",'雇用保険適用者（６号の２）'!S159,0)","v":{"$error":"#REF!"}},{"$f":"IF($B158=\"高\",'雇用保険適用者（６号の２）'!T159,0)","v":{"$error":"#REF!"}},{"$f":"IF($B158=\"高\",'雇用保険適用者（６号の２）'!U159,0)","v":{"$error":"#REF!"}},{"$f":"IF($B158=\"高\",'雇用保険適用者（６号の２）'!V159,0)","v":{"$error":"#REF!"}},{"$f":"IF($B158=\"高\",'雇用保険適用者（６号の２）'!W159,0)","v":{"$error":"#REF!"}},{"$f":"IF($B158=\"高\",'雇用保険適用者（６号の２）'!X159,0)","v":{"$error":"#REF!"}},{"$error":"#REF!"},{"$error":"#REF!"}]
[null,"　　　　　    　合　　  　　　　計",null,null,null,null,null,null,null,null,null,null,null,{"$f":"IF('雇用保険適用者（６号の２）'!M160=\"\",0,'雇用保険適用者（６号の２）'!M160)","v":0},{"$f":"IF('雇用保険適用者（６号の２）'!N160=\"\",0,'雇用保険適用者（６号の２）'!N160)","v":0},{"$f":"IF('雇用保険適用者（６号の２）'!O160=\"\",0,'雇用保険適用者（６号の２）'!O160)","v":0},{"$f":"IF('雇用保険適用者（６号の２）'!P160=\"\",0,'雇用保険適用者（６号の２）'!P160)","v":0},{"$f":"IF('雇用保険適用者（６号の２）'!Q160=\"\",0,'雇用保険適用者（６号の２）'!Q160)","v":0},{"$f":"IF('雇用保険適用者（６号の２）'!R160=\"\",0,'雇用保険適用者（６号の２）'!R160)","v":0},{"$f":"IF('雇用保険適用者（６号の２）'!S160=\"\",0,'雇用保険適用者（６号の２）'!S160)","v":0},{"$f":"IF('雇用保険適用者（６号の２）'!T160=\"\",0,'雇用保険適用者（６号の２）'!T160)","v":0},{"$f":"IF('雇用保険適用者（６号の２）'!U160=\"\",0,'雇用保険適用者（６号の２）'!U160)","v":0},{"$f":"IF('雇用保険適用者（６号の２）'!V160=\"\",0,'雇用保険適用者（６号の２）'!V160)","v":0},{"$f":"IF('雇用保険適用者（６号の２）'!W160=\"\",0,'雇用保険適用者（６号の２）'!W160)","v":0},{"$f":"IF('雇用保険適用者（６号の２）'!X160=\"\",0,'雇用保険適用者（６号の２）'!X160)","v":0},{"$f":"IF('雇用保険適用者（６号の２）'!Y160=\"\",0,'雇用保険適用者（６号の２）'!Y160)","v":0},{"$f":"IF('雇用保険適用者（６号の２）'!Z160=\"\",0,'雇用保険適用者（６号の２）'!Z160)","v":0}]
[null,null,null,null,null,null,null,null,null,null,null,null,null,{"$f":"IF('雇用保険適用者（６号の２）'!M161=\"\",0,'雇用保険適用者（６号の２）'!M161)","v":0},{"$f":"IF('雇用保険適用者（６号の２）'!N161=\"\",0,'雇用保険適用者（６号の２）'!N161)","v":0},{"$f":"IF('雇用保険適用者（６号の２）'!O161=\"\",0,'雇用保険適用者（６号の２）'!O161)","v":0},{"$f":"IF('雇用保険適用者（６号の２）'!P161=\"\",0,'雇用保険適用者（６号の２）'!P161)","v":0},{"$f":"IF('雇用保険適用者（６号の２）'!Q161=\"\",0,'雇用保険適用者（６号の２）'!Q161)","v":0},{"$f":"IF('雇用保険適用者（６号の２）'!R161=\"\",0,'雇用保険適用者（６号の２）'!R161)","v":0},{"$f":"IF('雇用保険適用者（６号の２）'!S161=\"\",0,'雇用保険適用者（６号の２）'!S161)","v":0},{"$f":"IF('雇用保険適用者（６号の２）'!T161=\"\",0,'雇用保険適用者（６号の２）'!T161)","v":0},{"$f":"IF('雇用保険適用者（６号の２）'!U161=\"\",0,'雇用保険適用者（６号の２）'!U161)","v":0},{"$f":"IF('雇用保険適用者（６号の２）'!V161=\"\",0,'雇用保険適用者（６号の２）'!V161)","v":0},{"$f":"IF('雇用保険適用者（６号の２）'!W161=\"\",0,'雇用保険適用者（６号の２）'!W161)","v":0},{"$f":"IF('雇用保険適用者（６号の２）'!X161=\"\",0,'雇用保険適用者（６号の２）'!X161)","v":0},{"$f":"IF('雇用保険適用者（６号の２）'!Y161=\"\",0,'雇用保険適用者（６号の２）'!Y161)","v":0},{"$f":"IF('雇用保険適用者（６号の２）'!Z161=\"\",0,'雇用保険適用者（６号の２）'!Z161)","v":0}]
[]
[null,"【　注意　】",null,"１　この表は、雇用保険被保険者であるすべての労働者（職員を含む）について、賃金台帳に基づいて作成してください。"]
[null,null,null,"２　賃金額は、超過勤務手当、通勤手当等を含む賃金総額（源泉所得税、社会保険料、雇用保険料等を控除する前の金額）を記載してください。"]
[null,"高",null,"３　各月の賃金額は、原則として支払内容月で作成してください。"]
[null,null,null,"４　雇用保険に係る取得・離職年月日は届出書類と照合の上、正確に記載してください。"]
[null,null,null,"５　賞与、燃料手当、臨時手当などの手当を支給した場合は、該当月欄の上段に賞与等の額を、下段に賃金額を記入してください。（二段書きしてください。）　　　",null,null,null,null,null,null,null,null,null,null,null,null,null,null,null,null,null,null,null,"　　記載例　　","３５０，０００　←　賞与等"]
[null,null,null,null,null,null,null,null,"　　　　　　　　　　　　　　　　　　　　　　　　　　　　　　　　　　　　　　　　　　　　　　　　　　　　　　　　　　　　　　　　　　　　　　　　　　　　　　　　　　　　　　　　　　　　　　　　　　　　　　　　　　　",null,null,null,null,null,null,null,null,null,null,null,null,null,null,null,"２００，０００　←　賃　金"]
[]
[null,"雇用保険被保険者の賃金総額の算出"]
[null,null,null,null,null,null,null,null,null,null,null,null,null,"４月","５月","６月","７月","８月","９月","１０月","１１月","１２月","１月","２月","３月",null,"合計"]
[null,null,"雇用保険被保険者",null,null,"全　　　員\n\n「６号の２」合計欄より",null,null,null,null,null,"賞与",null,{"$f":"N48+N104+N160","v":0},0,0,0,0,0,0,0,0,0,0,0,0,0]
[null,null,null,null,null,null,null,null,null,null,null,"賃金",null,{"$f":"N49+N105+N161","v":0},0,0,0,0,0,0,0,0,0,0,0,0,0]
[null,null,null,null,null,null,null,null,null,null,null,"合計",null,{"$f":"N172+N173","v":0},{"$f":"O172+O173","v":0},0,0,0,0,0,0,0,0,0,0,null,{"$f":"AA172+AA173","v":0}]

{"sheet":"６号３の計算式","index":4,"n_rows":177,"n_cols":21,"rows_kept":177,"cut":false,"hidden":false,"merged":[[155,6,156,6],[155,7,156,7],[157,1,158,7],[163,2,163,17],[155,1,156,2],[155,3,156,3],[155,4,156,4],[155,5,156,5],[151,1,152,2],[151,3,152,3],[153,1,154,2],[153,3,154,3],[153,4,154,4],[153,5,154,5],[151,4,152,4],[151,5,152,5],[147,6,148,6],[147,7,148,7],[149,6,150,6],[149,7,150,7],[153,6,154,6],[153,7,154,7],[147,1,148,2],[147,3,148,3],[147,4,148,4],[147,5,148,5],[151,6,152,6],[151,7,152,7],[149,1,150,2],[149,3,150,3],[149,4,150,4],[149,5,150,5],[139,7,140,7],[141,6,142,6],[141,7,142,7],[145,6,146,6],[145,7,146,7],[139,1,140,2],[139,3,140,3],[139,4,140,4],[139,5,140,5],[143,6,144,6],[143,7,144,7],[141,1,142,2],[141,3,142,3],[141,4,142,4],[141,5,142,5],[143,1,144,2],[143,3,144,3],[145,1,146,2],[145,3,146,3],[145,4,146,4],[145,5,146,5],[143,4,144,4],[143,5,144,5],[139,6,140,6],[131,7,132,7],[133,6,134,6],[133,7,134,7],[137,6,138,6],[137,7,138,7],[131,1,132,2],[131,3,132,3],[131,4,132,4],[131,5,132,5],[135,6,136,6],[135,7,136,7],[133,1,134,2],[133,3,134,3],[133,4,134,4],[133,5,134,5],[135,1,136,2],[135,3,136,3],[137,1,138,2],[137,3,138,3],[137,4,138,4],[137,5,138,5],[135,4,136,4],[135,5,136,5],[131,6,132,6],[123,7,124,7],[125,6,126,6],[125,7,126,7],[129,6,130,6],[129,7,130,7],[123,1,124,2],[123,3,124,3],[123,4,124,4],[123,5,124,5],[127,6,128,6],[127,7,128,7],[125,1,126,2],[125,3,126,3],[125,4,126,4],[125,5,126,5],[127,1,128,2],[127,3,128,3],[129,1,130,2],[129,3,130,3],[129,4,130,4],[129,5,130,5],[127,4,128,4],[127,5,128,5],[123,6,124,6],[119,6,120,6],[119,7,120,7],[121,1,122,2],[121,3,122,3],[121,4,122,4],[121,5,122,5],[121,6,122,6],[121,7,122,7],[119,1,120,2],[119,3,120,3],[119,4,120,4],[119,5,120,5],[117,6,118,6],[117,7,118,7],[114,15,116,15],[114,16,116,16],[114,17,116,17],[114,18,116,18],[114,13,116,13],[114,14,116,14],[114,12,116,12],[100,6,101,6],[100,7,101,7],[102,1,103,7],[108,2,108,17],[100,1,101,2],[100,3,101,3],[100,4,101,4],[100,5,101,5],[96,1,97,2],[96,3,97,3],[98,1,99,2],[98,3,99,3],[98,4,99,4],[98,5,99,5],[96,4,97,4],[96,5,97,5],[92,6,93,6],[92,7,93,7],[94,6,95,6],[94,7,95,7],[98,6,99,6],[98,7,99,7],[92,1,93,2],[92,3,93,3],[92,4,93,4],[92,5,93,5],[96,6,97,6],[96,7,97,7],[94,1,95,2],[94,3,95,3],[94,4,95,4],[94,5,95,5],[84,7,85,7],[86,6,87,6],[86,7,87,7],[90,6,91,6],[90,7,91,7],[84,1,85,2],[84,3,85,3],[84,4,85,4],[84,5,85,5],[88,6,89,6],[88,7,89,7],[86,1,87,2],[86,3,87,3],[86,4,87,4],[86,5,87,5],[88,1,89,2],[88,3,89,3],[90,1,91,2],[90,3,91,3],[90,4,91,4],[90,5,91,5],[88,4,89,4],[88,5,89,5],[84,6,85,6],[76,7,77,7],[78,6,79,6],[78,7,79,7],[82,6,83,6],[82,7,83,7],[76,1,77,2],[76,3,77,3],[76,4,77,4],[76,5,77,5],[80,6,81,6],[80,7,81,7],[78,1,79,2],[78,3,79,3],[78,4,79,4],[78,5,79,5],[80,1,81,2],[80,3,81,3],[82,1,83,2],[82,3,83,3],[82,4,83,4],[82,5,83,5],[80,4,81,4],[80,5,81,5],[76,6,77,6],[68,7,69,7],[70,6,71,6],[70,7,71,7],[74,6,75,6],[74,7,75,7],[68,1,69,2],[68,3,69,3],[68,4,69,4],[68,5,69,5],[72,6,73,6],[72,7,73,7],[70,1,71,2],[70,3,71,3],[70,4,71,4],[70,5,71,5],[72,1,73,2],[72,3,73,3],[74,1,75,2],[74,3,75,3],[74,4,75,4],[74,5,75,5],[72,4,73,4],[72,5,73,5],[68,6,69,6],[64,6,65,6],[64,7,65,7],[66,1,67,2],[66,3,67,3],[66,4,67,4],[66,5,67,5],[66,6,67,6],[66,7,67,7],[64,1,65,2],[64,3,65,3],[64,4,65,4],[64,5,65,5],[59,19,61,19],[59,20,61,20],[62,6,63,6],[62,7,63,7],[59,15,61,15],[59,16,61,16],[59,17,61,17],[59,18,61,18],[59,11,61,11],[59,12,61,12],[59,13,61,13],[59,14,61,14],[62,1,63,2],[62,3,63,3],[62,4,63,4],[62,5,63,5],[56,8,56,15],[59,1,61,2],[59,3,61,3],[59,4,61,4],[59,5,61,5],[59,6,61,6],[59,7,61,7],[59,8,61,8],[59,9,61,9],[59,10,61,10],[45,6,46,6],[45,7,46,7],[53,2,53,17],[47,1,48,7],[45,1,46,2],[45,3,46,3],[45,4,46,4],[45,5,46,5],[49,1,50,7],[37,7,38,7],[39,6,40,6],[39,7,40,7],[43,6,44,6],[43,7,44,7],[37,1,38,2],[37,3,38,3],[37,4,38,4],[37,5,38,5],[41,6,42,6],[41,7,42,7],[39,1,40,2],[39,3,40,3],[39,4,40,4],[39,5,40,5],[41,1,42,2],[41,3,42,3],[43,1,44,2],[43,3,44,3],[43,4,44,4],[43,5,44,5],[41,4,42,4],[41,5,42,5],[37,6,38,6],[29,7,30,7],[31,6,32,6],[31,7,32,7],[35,6,36,6],[35,7,36,7],[29,1,30,2],[29,3,30,3],[29,4,30,4],[29,5,30,5],[33,6,34,6],[33,7,34,7],[31,1,32,2],[31,3,32,3],[31,4,32,4],[31,5,32,5],[33,1,34,2],[33,3,34,3],[35,1,36,2],[35,3,36,3],[35,4,36,4],[35,5,36,5],[33,4,34,4],[33,5,34,5],[29,6,30,6],[21,7,22,7],[23,6,24,6],[23,7,24,7],[27,6,28,6],[27,7,28,7],[21,1,22,2],[21,3,22,3],[21,4,22,4],[21,5,22,5],[25,6,26,6],[25,7,26,7],[23,1,24,2],[23,3,24,3],[23,4,24,4],[23,5,24,5],[25,1,26,2],[25,3,26,3],[27,1,28,2],[27,3,28,3],[27,4,28,4],[27,5,28,5],[25,4,26,4],[25,5,26,5],[21,6,22,6],[19,1,20,2],[19,3,20,3],[19,4,20,4],[19,5,20,5],[17,4,18,4],[17,5,18,5],[13,6,14,6],[13,7,14,7],[15,6,16,6],[15,7,16,7],[19,6,20,6],[19,7,20,7],[17,6,18,6],[17,7,18,7],[15,1,16,2],[15,3,16,3],[15,4,16,4],[15,5,16,5],[17,1,18,2],[17,3,18,3],[9,1,10,2],[9,3,10,3],[13,1,14,2],[13,3,14,3],[13,4,14,4],[13,5,14,5],[4,17,6,17],[4,18,6,18],[9,6,10,6],[9,7,10,7],[11,1,12,2],[11,3,12,3],[11,4,12,4],[11,5,12,5],[11,6,12,6],[11,7,12,7],[4,12,6,12],[4,13,6,13],[9,4,10,4],[9,5,10,5],[7,6,8,6],[7,7,8,7],[4,15,6,15],[4,16,6,16],[7,1,8,2],[7,3,8,3],[7,4,8,4],[7,5,8,5],[4,10,6,10],[4,11,6,11],[1,1,3,20],[4,1,6,2],[4,3,6,3],[4,4,6,4],[4,5,6,5],[4,6,6,6],[4,7,6,7],[4,8,6,8],[4,9,6,9],[4,14,6,14],[4,19,6,19],[4,20,6,20],[168,5,170,6],[171,5,173,6],[174,5,176,6],[104,1,105,7],[159,1,160,7],[166,1,166,20],[168,3,176,4],[111,8,111,15],[114,1,116,2],[114,3,116,3],[117,1,118,2],[117,3,118,3],[117,4,118,4],[117,5,118,5],[114,8,116,8],[114,9,116,9],[114,10,116,10],[114,11,116,11],[114,4,116,4],[114,5,116,5],[114,6,116,6],[114,7,116,7],[114,19,116,19],[114,20,116,20]]}
[]
[null,"６号の３の家族従業員分賃金を抽出する計算式。この画面を削除すると正しく表示されません。"]
[]
[]
[null,"氏　　　　名",null,"雇用形態","職　　種","生年月日","雇　 入\n年月日","離　 職\n年月日","令和３年４月","令和３年５月","令和３年６月","令和３年７月","令和３年８月","令和３年９月","令和３年１０月","令和３年１１月","令和３年１２月","令和４年１月","令和４年２月","令和４年３月","年度計"]
[]
[]
[null,null,null,{"$f":"'臨時・アルバイト・家族従業員等（６号３）'!D8:D9","v":0},null,null,null,null,{"$f":"IF($D8=\"家族従業員\",'臨時・アルバイト・家族従業員等（６号３）'!I8,0)","v":0},{"$f":"IF($D8=\"家族従業員\",'臨時・アルバイト・家族従業員等（６号３）'!J8,0)","v":0},{"$f":"IF($D8=\"家族従業員\",'臨時・アルバイト・家族従業員等（６号３）'!K8,0)","v":0},{"$f":"IF($D8=\"家族従業員\",'臨時・アルバイト・家族従業員等（６号３）'!L8,0)","v":0},{"$f":"IF($D8=\"家族従業員\",'臨時・アルバイト・家族従業員等（６号３）'!M8,0)","v":0},{"$f":"IF($D8=\"家族従業員\",'臨時・アルバイト・家族従業員等（６号３）'!N8,0)","v":0},{"$f":"IF($D8=\"家族従業員\",'臨時・アルバイト・家族従業員等（６号３）'!O8,0)","v":0},{"$f":"IF($D8=\"家族従業員\",'臨時・アルバイト・家族従業員等（６号３）'!P8,0)","v":0},{"$f":"IF($D8=\"家族従業員\",'臨時・アルバイト・家族従業員等（６号３）'!Q8,0)","v":0},{"$f":"IF($D8=\"家族従業員\",'臨時・アルバイト・家族従業員等（６号３）'!R8,0)","v":0},{"$f":"IF($D8=\"家族従業員\",'臨時・アルバイト・家族従業員等（６号３）'!S8,0)","v":0},{"$f":"IF($D8=\"家族従業員\",'臨時・アルバイト・家族従業員等（６号３）'!T8,0)","v":0},{"$f":"SUM(I8:T8)","v":0}]
[null,null,null,null,null,null,null,null,{"$f":"IF($D8=\"家族従業員\",'臨時・アルバイト・家族従業員等（６号３）'!I9,0)","v":0},{"$f":"IF($D8=\"家族従業員\",'臨時・アルバイト・家族従業員等（６号３）'!J9,0)","v":0},{"$f":"IF($D8=\"家族従業員\",'臨時・アルバイト・家族従業員等（６号３）'!K9,0)","v":0},{"$f":"IF($D8=\"家族従業員\",'臨時・アルバイト・家族従業員等（６号３）'!L9,0)","v":0},{"$f":"IF($D8=\"家族従業員\",'臨時・アルバイト・家族従業員等（６号３）'!M9,0)","v":0},{"$f":"IF($D8=\"家族従業員\",'臨時・アルバイト・家族従業員等（６号３）'!N9,0)","v":0},{"$f":"IF($D8=\"家族従業員\",'臨時・アルバイト・家族従業員等（６号３）'!O9,0)","v":0},{"$f":"IF($D8=\"家族従業員\",'臨時・アルバイト・家族従業員等（６号３）'!P9,0)","v":0},{"$f":"IF($D8=\"家族従業員\",'臨時・アルバイト・家族従業員等（６号３）'!Q9,0)","v":0},{"$f":"IF($D8=\"家族従業員\",'臨時・アルバイト・家族従業員等（６号３）'!R9,0)","v":0},{"$f":"IF($D8=\"家族従業員\",'臨時・アルバイト・家族従業員等（６号３）'!S9,0)","v":0},{"$f":"IF($D8=\"家族従業員\",'臨時・アルバイト・家族従業員等（６号３）'!T9,0)","v":0},{"$f":"SUM(I9:T9)","v":0}]
[null,null,null,{"$f":"'臨時・アルバイト・家族従業員等（６号３）'!D10:D11","v":0},null,null,null,null,{"$f":"IF($D10=\"家族従業員\",'臨時・アルバイト・家族従業員等（６号３）'!I10,0)","v":0},{"$f":"IF($D10=\"家族従業員\",'臨時・アルバイト・家族従業員等（６号３）'!J10,0)","v":0},{"$f":"IF($D10=\"家族従業員\",'臨時・アルバイト・家族従業員等（６号３）'!K10,0)","v":0},{"$f":"IF($D10=\"家族従業員\",'臨時・アルバイト・家族従業員等（６号３）'!L10,0)","v":0},{"$f":"IF($D10=\"家族従業員\",'臨時・アルバイト・家族従業員等（６号３）'!M10,0)","v":0},{"$f":"IF($D10=\"家族従業員\",'臨時・アルバイト・家族従業員等（６号３）'!N10,0)","v":0},{"$f":"IF($D10=\"家族従業員\",'臨時・アルバイト・家族従業員等（６号３）'!O10,0)","v":0},{"$f":"IF($D10=\"家族従業員\",'臨時・アルバイト・家族従業員等（６号３）'!P10,0)","v":0},{"$f":"IF($D10=\"家族従業員\",'臨時・アルバイト・家族従業員等（６号３）'!Q10,0)","v":0},{"$f":"IF($D10=\"家族従業員\",'臨時・アルバイト・家族従業員等（６号３）'!R10,0)","v":0},{"$f":"IF($D10=\"家族従業員\",'臨時・アルバイト・家族従業員等（６号３）'!S10,0)","v":0},{"$f":"IF($D10=\"家族従業員\",'臨時・アルバイト・家族従業員等（６号３）'!T10,0)","v":0},0]
[null,null,null,null,null,null,null,null,{"$f":"IF($D10=\"家族従業員\",'臨時・アルバイト・家族従業員等（６号３）'!I11,0)","v":0},{"$f":"IF($D10=\"家族従業員\",'臨時・アルバイト・家族従業員等（６号３）'!J11,0)","v":0},{"$f":"IF($D10=\"家族従業員\",'臨時・アルバイト・家族従業員等（６号３）'!K11,0)","v":0},{"$f":"IF($D10=\"家族従業員\",'臨時・アルバイト・家族従業員等（６号３）'!L11,0)","v":0},{"$f":"IF($D10=\"家族従業員\",'臨時・アルバイト・家族従業員等（６号３）'!M11,0)","v":0},{"$f":"IF($D10=\"家族従業員\",'臨時・アルバイト・家族従業員等（６号３）'!N11,0)","v":0},{"$f":"IF($D10=\"家族従業員\",'臨時・アルバイト・家族従業員等（６号３）'!O11,0)","v":0},{"$f":"IF($D10=\"家族従業員\",'臨時・アルバイト・家族従業員等（６号３）'!P11,0)","v":0},{"$f":"IF($D10=\"家族従業員\",'臨時・アルバイト・家族従業員等（６号３）'!Q11,0)","v":0},{"$f":"IF($D10=\"家族従業員\",'臨時・アルバイト・家族従業員等（６号３）'!R11,0)","v":0},{"$f":"IF($D10=\"家族従業員\",'臨時・アルバイト・家族従業員等（６号３）'!S11,0)","v":0},{"$f":"IF($D10=\"家族従業員\",'臨時・アルバイト・家族従業員等（６号３）'!T11,0)","v":0},0]
[null,null,null,{"$f":"'臨時・アルバイト・家族従業員等（６号３）'!D12:D13","v":0},null,null,null,null,{"$f":"IF($D12=\"家族従業員\",'臨時・アルバイト・家族従業員等（６号３）'!I12,0)","v":0},{"$f":"IF($D12=\"家族従業員\",'臨時・アルバイト・家族従業員等（６号３）'!J12,0)","v":0},{"$f":"IF($D12=\"家族従業員\",'臨時・アルバイト・家族従業員等（６号３）'!K12,0)","v":0},{"$f":"IF($D12=\"家族従業員\",'臨時・アルバイト・家族従業員等（６号３）'!L12,0)","v":0},{"$f":"IF($D12=\"家族従業員\",'臨時・アルバイト・家族従業員等（６号３）'!M12,0)","v":0},{"$f":"IF($D12=\"家族従業員\",'臨時・アルバイト・家族従業員等（６号３）'!N12,0)","v":0},{"$f":"IF($D12=\"家族従業員\",'臨時・アルバイト・家族従業員等（６号３）'!O12,0)","v":0},{"$f":"IF($D12=\"家族従業員\",'臨時・アルバイト・家族従業員等（６号３）'!P12,0)","v":0},{"$f":"IF($D12=\"家族従業員\",'臨時・アルバイト・家族従業員等（６号３）'!Q12,0)","v":0},{"$f":"IF($D12=\"家族従業員\",'臨時・アルバイト・家族従業員等（６号３）'!R12,0)","v":0},{"$f":"IF($D12=\"家族従業員\",'臨時・アルバイト・家族従業員等（６号３）'!S12,0)","v":0},{"$f":"IF($D12=\"家族従業員\",'臨時・アルバイト・家族従業員等（６号３）'!T12,0)","v":0},0]
[null,null,null,null,null,null,null,null,{"$f":"IF($D12=\"家族従業員\",'臨時・アルバイト・家族従業員等（６号３）'!I13,0)","v":0},{"$f":"IF($D12=\"家族従業員\",'臨時・アルバイト・家族従業員等（６号３）'!J13,0)","v":0},{"$f":"IF($D12=\"家族従業員\",'臨時・アルバイト・家族従業員等（６号３）'!K13,0)","v":0},{"$f":"IF($D12=\"家族従業員\",'臨時・アルバイト・家族従業員等（６号３）'!L13,0)","v":0},{"$f":"IF($D12=\"家族従業員\",'臨時・アルバイト・家族従業員等（６号３）'!M13,0)","v":0},{"$f":"IF($D12=\"家族従業員\",'臨時・アルバイト・家族従業員等（６号３）'!N13,0)","v":0},{"$f":"IF($D12=\"家族従業員\",'臨時・アルバイト・家族従業員等（６号３）'!O13,0)","v":0},{"$f":"IF($D12=\"家族従業員\",'臨時・アルバイト・家族従業員等（６号３）'!P13,0)","v":0},{"$f":"IF($D12=\"家族従業員\",'臨時・アルバイト・家族従業員等（６号３）'!Q13,0)","v":0},{"$f":"IF($D12=\"家族従業員\",'臨時・アルバイト・家族従業員等（６号３）'!R13,0)","v":0},{"$f":"IF($D12=\"家族従業員\",'臨時・アルバイト・家族従業員等（６号３）'!S13,0)","v":0},{"$f":"IF($D12=\"家族従業員\",'臨時・アルバイト・家族従業員等（６号３）'!T13,0)","v":0},0]
[null,null,null,{"$f":"'臨時・アルバイト・家族従業員等（６号３）'!D14:D15","v":0},null,null,null,null,{"$f":"IF($D14=\"家族従業員\",'臨時・アルバイト・家族従業員等（６号３）'!I14,0)","v":0},{"$f":"IF($D14=\"家族従業員\",'臨時・アルバイト・家族従業員等（６号３）'!J14,0)","v":0},{"$f":"IF($D14=\"家族従業員\",'臨時・アルバイト・家族従業員等（６号３）'!K14,0)","v":0},{"$f":"IF($D14=\"家族従業員\",'臨時・アルバイト・家族従業員等（６号３）'!L14,0)","v":0},{"$f":"IF($D14=\"家族従業員\",'臨時・アルバイト・家族従業員等（６号３）'!M14,0)","v":0},{"$f":"IF($D14=\"家族従業員\",'臨時・アルバイト・家族従業員等（６号３）'!N14,0)","v":0},{"$f":"IF($D14=\"家族従業員\",'臨時・アルバイト・家族従業員等（６号３）'!O14,0)","v":0},{"$f":"IF($D14=\"家族従業員\",'臨時・アルバイト・家族従業員等（６号３）'!P14,0)","v":0},{"$f":"IF($D14=\"家族従業員\",'臨時・アルバイト・家族従業員等（６号３）'!Q14,0)","v":0},{"$f":"IF($D14=\"家族従業員\",'臨時・アルバイト・家族従業員等（６号３）'!R14,0)","v":0},{"$f":"IF($D14=\"家族従業員\",'臨時・アルバイト・家族従業員等（６号３）'!S14,0)","v":0},{"$f":"IF($D14=\"家族従業員\",'臨時・アルバイト・家族従業員等（６号３）'!T14,0)","v":0},0]
[null,null,null,null,null,null,null,null,{"$f":"IF($D14=\"家族従業員\",'臨時・アルバイト・家族従業員等（６号３）'!I15,0)","v":0},{"$f":"IF($D14=\"家族従業員\",'臨時・アルバイト・家族従業員等（６号３）'!J15,0)","v":0},{"$f":"IF($D14=\"家族従業員\",'臨時・アルバイト・家族従業員等（６号３）'!K15,0)","v":0},{"$f":"IF($D14=\"家族従業員\",'臨時・アルバイト・家族従業員等（６号３）'!L15,0)","v":0},{"$f":"IF($D14=\"家族従業員\",'臨時・アルバイト・家族従業員等（６号３）'!M15,0)","v":0},{"$f":"IF($D14=\"家族従業員\",'臨時・アルバイト・家族従業員等（６号３）'!N15,0)","v":0},{"$f":"IF($D14=\"家族従業員\",'臨時・アルバイト・家族従業員等（６号３）'!O15,0)","v":0},{"$f":"IF($D14=\"家族従業員\",'臨時・アルバイト・家族従業員等（６号３）'!P15,0)","v":0},{"$f":"IF($D14=\"家族従業員\",'臨時・アルバイト・家族従業員等（６号３）'!Q15,0)","v":0},{"$f":"IF($D14=\"家族従業員\",'臨時・アルバイト・家族従業員等（６号３）'!R15,0)","v":0},{"$f":"IF($D14=\"家族従業員\",'臨時・アルバイト・家族従業員等（６号３）'!S15,0)","v":0},{"$f":"IF($D14=\"家族従業員\",'臨時・アルバイト・家族従業員等（６号３）'!T15,0)","v":0},0]
[null,null,null,{"$f":"'臨時・アルバイト・家族従業員等（６号３）'!D16:D17","v":0},null,null,null,null,{"$f":"IF($D16=\"家族従業員\",'臨時・アルバイト・家族従業員等（６号３）'!I16,0)","v":0},{"$f":"IF($D16=\"家族従業員\",'臨時・アルバイト・家族従業員等（６号３）'!J16,0)","v":0},{"$f":"IF($D16=\"家族従業員\",'臨時・アルバイト・家族従業員等（６号３）'!K16,0)","v":0},{"$f":"IF($D16=\"家族従業員\",'臨時・アルバイト・家族従業員等（６号３）'!L16,0)","v":0},{"$f":"IF($D16=\"家族従業員\",'臨時・アルバイト・家族従業員等（６号３）'!M16,0)","v":0},{"$f":"IF($D16=\"家族従業員\",'臨時・アルバイト・家族従業員等（６号３）'!N16,0)","v":0},{"$f":"IF($D16=\"家族従業員\",'臨時・アルバイト・家族従業員等（６号３）'!O16,0)","v":0},{"$f":"IF($D16=\"家族従業員\",'臨時・アルバイト・家族従業員等（６号３）'!P16,0)","v":0},{"$f":"IF($D16=\"家族従業員\",'臨時・アルバイト・家族従業員等（６号３）'!Q16,0)","v":0},{"$f":"IF($D16=\"家族従業員\",'臨時・アルバイト・家族従業員等（６号３）'!R16,0)","v":0},{"$f":"IF($D16=\"家族従業員\",'臨時・アルバイト・家族従業員等（６号３）'!S16,0)","v":0},{"$f":"IF($D16=\"家族従業員\",'臨時・アルバイト・家族従業員等（６号３）'!T16,0)","v":0},0]
[null,null,null,null,null,null,null,null,{"$f":"IF($D16=\"家族従業員\",'臨時・アルバイト・家族従業員等（６号３）'!I17,0)","v":0},{"$f":"IF($D16=\"家族従業員\",'臨時・アルバイト・家族従業員等（６号３）'!J17,0)","v":0},{"$f":"IF($D16=\"家族従業員\",'臨時・アルバイト・家族従業員等（６号３）'!K17,0)","v":0},{"$f":"IF($D16=\"家族従業員\",'臨時・アルバイト・家族従業員等（６号３）'!L17,0)","v":0},{"$f":"IF($D16=\"家族従業員\",'臨時・アルバイト・家族従業員等（６号３）'!M17,0)","v":0},{"$f":"IF($D16=\"家族従業員\",'臨時・アルバイト・家族従業員等（６号３）'!N17,0)","v":0},{"$f":"IF($D16=\"家族従業員\",'臨時・アルバイト・家族従業員等（６号３）'!O17,0)","v":0},{"$f":"IF($D16=\"家族従業員\",'臨時・アルバイト・家族従業員等（６号３）'!P17,0)","v":0},{"$f":"IF($D16=\"家族従業員\",'臨時・アルバイト・家族従業員等（６号３）'!Q17,0)","v":0},{"$f":"IF($D16=\"家族従業員\",'臨時・アルバイト・家族従業員等（６号３）'!R17,0)","v":0},{"$f":"IF($D16=\"家族従業員\",'臨時・アルバイト・家族従業員等（６号３）'!S17,0)","v":0},{"$f":"IF($D16=\"家族従業員\",'臨時・アルバイト・家族従業員等（６号３）'!T17,0)","v":0},0]
[null,null,null,{"$f":"'臨時・アルバイト・家族従業員等（６号３）'!D18:D19","v":0},null,null,null,null,{"$f":"IF($D18=\"家族従業員\",'臨時・アルバイト・家族従業員等（６号３）'!I18,0)","v":0},{"$f":"IF($D18=\"家族従業員\",'臨時・アルバイト・家族従業員等（６号３）'!J18,0)","v":0},{"$f":"IF($D18=\"家族従業員\",'臨時・アルバイト・家族従業員等（６号３）'!K18,0)","v":0},{"$f":"IF($D18=\"家族従業員\",'臨時・アルバイト・家族従業員等（６号３）'!L18,0)","v":0},{"$f":"IF($D18=\"家族従業員\",'臨時・アルバイト・家族従業員等（６号３）'!M18,0)","v":0},{"$f":"IF($D18=\"家族従業員\",'臨時・アルバイト・家族従業員等（６号３）'!N18,0)","v":0},{"$f":"IF($D18=\"家族従業員\",'臨時・アルバイト・家族従業員等（６号３）'!O18,0)","v":0},{"$f":"IF($D18=\"家族従業員\",'臨時・アルバイト・家族従業員等（６号３）'!P18,0)","v":0},{"$f":"IF($D18=\"家族従業員\",'臨時・アルバイト・家族従業員等（６号３）'!Q18,0)","v":0},{"$f":"IF($D18=\"家族従業員\",'臨時・アルバイト・家族従業員等（６号３）'!R18,0)","v":0},{"$f":"IF($D18=\"家族従業員\",'臨時・アルバイト・家族従業員等（６号３）'!S18,0)","v":0},{"$f":"IF($D18=\"家族従業員\",'臨時・アルバイト・家族従業員等（６号３）'!T18,0)","v":0},0]
[null,null,null,null,null,null,null,null,{"$f":"IF($D18=\"家族従業員\",'臨時・アルバイト・家族従業員等（６号３）'!I19,0)","v":0},{"$f":"IF($D18=\"家族従業員\",'臨時・アルバイト・家族従業員等（６号３）'!J19,0)","v":0},{"$f":"IF($D18=\"家族従業員\",'臨時・アルバイト・家族従業員等（６号３）'!K19,0)","v":0},{"$f":"IF($D18=\"家族従業員\",'臨時・アルバイト・家族従業員等（６号３）'!L19,0)","v":0},{"$f":"IF($D18=\"家族従業員\",'臨時・アルバイト・家族従業員等（６号３）'!M19,0)","v":0},{"$f":"IF($D18=\"家族従業員\",'臨時・アルバイト・家族従業員等（６号３）'!N19,0)","v":0},{"$f":"IF($D18=\"家族従業員\",'臨時・アルバイト・家族従業員等（６号３）'!O19,0)","v":0},{"$f":"IF($D18=\"家族従業員\",'臨時・アルバイト・家族従業員等（６号３）'!P19,0)","v":0},{"$f":"IF($D18=\"家族従業員\",'臨時・アルバイト・家族従業員等（６号３）'!Q19,0)","v":0},{"$f":"IF($D18=\"家族従業員\",'臨時・アルバイト・家族従業員等（６号３）'!R19,0)","v":0},{"$f":"IF($D18=\"家族従業員\",'臨時・アルバイト・家族従業員等（６号３）'!S19,0)","v":0},{"$f":"IF($D18=\"家族従業員\",'臨時・アルバイト・家族従業員等（６号３）'!T19,0)","v":0},0]
[null,null,null,{"$f":"'臨時・アルバイト・家族従業員等（６号３）'!D20:D21","v":0},null,null,null,null,{"$f":"IF($D20=\"家族従業員\",'臨時・アルバイト・家族従業員等（６号３）'!I20,0)","v":0},{"$f":"IF($D20=\"家族従業員\",'臨時・アルバイト・家族従業員等（６号３）'!J20,0)","v":0},{"$f":"IF($D20=\"家族従業員\",'臨時・アルバイト・家族従業員等（６号３）'!K20,0)","v":0},{"$f":"IF($D20=\"家族従業員\",'臨時・アルバイト・家族従業員等（６号３）'!L20,0)","v":0},{"$f":"IF($D20=\"家族従業員\",'臨時・アルバイト・家族従業員等（６号３）'!M20,0)","v":0},{"$f":"IF($D20=\"家族従業員\",'臨時・アルバイト・家族従業員等（６号３）'!N20,0)","v":0},{"$f":"IF($D20=\"家族従業員\",'臨時・アルバイト・家族従業員等（６号３）'!O20,0)","v":0},{"$f":"IF($D20=\"家族従業員\",'臨時・アルバイト・家族従業員等（６号３）'!P20,0)","v":0},{"$f":"IF($D20=\"家族従業員\",'臨時・アルバイト・家族従業員等（６号３）'!Q20,0)","v":0},{"$f":"IF($D20=\"家族従業員\",'臨時・アルバイト・家族従業員等（６号３）'!R20,0)","v":0},{"$f":"IF($D20=\"家族従業員\",'臨時・アルバイト・家族従業員等（６号３）'!S20,0)","v":0},{"$f":"IF($D20=\"家族従業員\",'臨時・アルバイト・家族従業員等（６号３）'!T20,0)","v":0},0]
[null,null,null,null,null,null,null,null,{"$f":"IF($D20=\"家族従業員\",'臨時・アルバイト・家族従業員等（６号３）'!I21,0)","v":0},{"$f":"IF($D20=\"家族従業員\",'臨時・アルバイト・家族従業員等（６号３）'!J21,0)","v":0},{"$f":"IF($D20=\"家族従業員\",'臨時・アルバイト・家族従業員等（６号３）'!K21,0)","v":0},{"$f":"IF($D20=\"家族従業員\",'臨時・アルバイト・家族従業員等（６号３）'!L21,0)","v":0},{"$f":"IF($D20=\"家族従業員\",'臨時・アルバイト・家族従業員等（６号３）'!M21,0)","v":0},{"$f":"IF($D20=\"家族従業員\",'臨時・アルバイト・家族従業員等（６号３）'!N21,0)","v":0},{"$f":"IF($D20=\"家族従業員\",'臨時・アルバイト・家族従業員等（６号３）'!O21,0)","v":0},{"$f":"IF($D20=\"家族従業員\",'臨時・アルバイト・家族従業員等（６号３）'!P21,0)","v":0},{"$f":"IF($D20=\"家族従業員\",'臨時・アルバイト・家族従業員等（６号３）'!Q21,0)","v":0},{"$f":"IF($D20=\"家族従業員\",'臨時・アルバイト・家族従業員等（６号３）'!R21,0)","v":0},{"$f":"IF($D20=\"家族従業員\",'臨時・アルバイト・家族従業員等（６号３）'!S21,0)","v":0},{"$f":"IF($D20=\"家族従業員\",'臨時・アルバイト・家族従業員等（６号３）'!T21,0)","v":0},0]
[null,null,null,{"$f":"'臨時・アルバイト・家族従業員等（６号３）'!D22:D23","v":0},null,null,null,null,{"$f":"IF($D22=\"家族従業員\",'臨時・アルバイト・家族従業員等（６号３）'!I22,0)","v":0},{"$f":"IF($D22=\"家族従業員\",'臨時・アルバイト・家族従業員等（６号３）'!J22,0)","v":0},{"$f":"IF($D22=\"家族従業員\",'臨時・アルバイト・家族従業員等（６号３）'!K22,0)","v":0},{"$f":"IF($D22=\"家族従業員\",'臨時・アルバイト・家族従業員等（６号３）'!L22,0)","v":0},{"$f":"IF($D22=\"家族従業員\",'臨時・アルバイト・家族従業員等（６号３）'!M22,0)","v":0},{"$f":"IF($D22=\"家族従業員\",'臨時・アルバイト・家族従業員等（６号３）'!N22,0)","v":0},{"$f":"IF($D22=\"家族従業員\",'臨時・アルバイト・家族従業員等（６号３）'!O22,0)","v":0},{"$f":"IF($D22=\"家族従業員\",'臨時・アルバイト・家族従業員等（６号３）'!P22,0)","v":0},{"$f":"IF($D22=\"家族従業員\",'臨時・アルバイト・家族従業員等（６号３）'!Q22,0)","v":0},{"$f":"IF($D22=\"家族従業員\",'臨時・アルバイト・家族従業員等（６号３）'!R22,0)","v":0},{"$f":"IF($D22=\"家族従業員\",'臨時・アルバイト・家族従業員等（６号３）'!S22,0)","v":0},{"$f":"IF($D22=\"家族従業員\",'臨時・アルバイト・家族従業員等（６号３）'!T22,0)","v":0},0]
[null,null,null,null,null,null,null,null,{"$f":"IF($D22=\"家族従業員\",'臨時・アルバイト・家族従業員等（６号３）'!I23,0)","v":0},{"$f":"IF($D22=\"家族従業員\",'臨時・アルバイト・家族従業員等（６号３）'!J23,0)","v":0},{"$f":"IF($D22=\"家族従業員\",'臨時・アルバイト・家族従業員等（６号３）'!K23,0)","v":0},{"$f":"IF($D22=\"家族従業員\",'臨時・アルバイト・家族従業員等（６号３）'!L23,0)","v":0},{"$f":"IF($D22=\"家族従業員\",'臨時・アルバイト・家族従業員等（６号３）'!M23,0)","v":0},{"$f":"IF($D22=\"家族従業員\",'臨時・アルバイト・家族従業員等（６号３）'!N23,0)","v":0},{"$f":"IF($D22=\"家族従業員\",'臨時・アルバイト・家族従業員等（６号３）'!O23,0)","v":0},{"$f":"IF($D22=\"家族従業員\",'臨時・アルバイト・家族従業員等（６号３）'!P23,0)","v":0},{"$f":"IF($D22=\"家族従業員\",'臨時・アルバイト・家族従業員等（６号３）'!Q23,0)","v":0},{"$f":"IF($D22=\"家族従業員\",'臨時・アルバイト・家族従業員等（６号３）'!R23,0)","v":0},{"$f":"IF($D22=\"家族従業員\",'臨時・アルバイト・家族従業員等（６号３）'!S23,0)","v":0},{"$f":"IF($D22=\"家族従業員\",'臨時・アルバイト・家族従業員等（６号３）'!T23,0)","v":0},0]
[null,null,null,{"$f":"'臨時・アルバイト・家族従業員等（６号３）'!D24:D25","v":0},null,null,null,null,{"$f":"IF($D24=\"家族従業員\",'臨時・アルバイト・家族従業員等（６号３）'!I24,0)","v":0},{"$f":"IF($D24=\"家族従業員\",'臨時・アルバイト・家族従業員等（６号３）'!J24,0)","v":0},{"$f":"IF($D24=\"家族従業員\",'臨時・アルバイト・家族従業員等（６号３）'!K24,0)","v":0},{"$f":"IF($D24=\"家族従業員\",'臨時・アルバイト・家族従業員等（６号３）'!L24,0)","v":0},{"$f":"IF($D24=\"家族従業員\",'臨時・アルバイト・家族従業員等（６号３）'!M24,0)","v":0},{"$f":"IF($D24=\"家族従業員\",'臨時・アルバイト・家族従業員等（６号３）'!N24,0)","v":0},{"$f":"IF($D24=\"家族従業員\",'臨時・アルバイト・家族従業員等（６号３）'!O24,0)","v":0},{"$f":"IF($D24=\"家族従業員\",'臨時・アルバイト・家族従業員等（６号３）'!P24,0)","v":0},{"$f":"IF($D24=\"家族従業員\",'臨時・アルバイト・家族従業員等（６号３）'!Q24,0)","v":0},{"$f":"IF($D24=\"家族従業員\",'臨時・アルバイト・家族従業員等（６号３）'!R24,0)","v":0},{"$f":"IF($D24=\"家族従業員\",'臨時・アルバイト・家族従業員等（６号３）'!S24,0)","v":0},{"$f":"IF($D24=\"家族従業員\",'臨時・アルバイト・家族従業員等（６号３）'!T24,0)","v":0},0]
[null,null,null,null,null,null,null,null,{"$f":"IF($D24=\"家族従業員\",'臨時・アルバイト・家族従業員等（６号３）'!I25,0)","v":0},{"$f":"IF($D24=\"家族従業員\",'臨時・アルバイト・家族従業員等（６号３）'!J25,0)","v":0},{"$f":"IF($D24=\"家族従業員\",'臨時・アルバイト・家族従業員等（６号３）'!K25,0)","v":0},{"$f":"IF($D24=\"家族従業員\",'臨時・アルバイト・家族従業員等（６号３）'!L25,0)","v":0},{"$f":"IF($D24=\"家族従業員\",'臨時・アルバイト・家族従業員等（６号３）'!M25,0)","v":0},{"$f":"IF($D24=\"家族従業員\",'臨時・アルバイト・家族従業員等（６号３）'!N25,0)","v":0},{"$f":"IF($D24=\"家族従業員\",'臨時・アルバイト・家族従業員等（６号３）'!O25,0)","v":0},{"$f":"IF($D24=\"家族従業員\",'臨時・アルバイト・家族従業員等（６号３）'!P25,0)","v":0},{"$f":"IF($D24=\"家族従業員\",'臨時・アルバイト・家族従業員等（６号３）'!Q25,0)","v":0},{"$f":"IF($D24=\"家族従業員\",'臨時・アルバイト・家族従業員等（６号３）'!R25,0)","v":0},{"$f":"IF($D24=\"家族従業員\",'臨時・アルバイト・家族従業員等（６号３）'!S25,0)","v":0},{"$f":"IF($D24=\"家族従業員\",'臨時・アルバイト・家族従業員等（６号３）'!T25,0)","v":0},0]
[null,null,null,{"$f":"'臨時・アルバイト・家族従業員等（６号３）'!D26:D27","v":0},null,null,null,null,{"$f":"IF($D26=\"家族従業員\",'臨時・アルバイト・家族従業員等（６号３）'!I26,0)","v":0},{"$f":"IF($D26=\"家族従業員\",'臨時・アルバイト・家族従業員等（６号３）'!J26,0)","v":0},{"$f":"IF($D26=\"家族従業員\",'臨時・アルバイト・家族従業員等（６号３）'!K26,0)","v":0},{"$f":"IF($D26=\"家族従業員\",'臨時・アルバイト・家族従業員等（６号３）'!L26,0)","v":0},{"$f":"IF($D26=\"家族従業員\",'臨時・アルバイト・家族従業員等（６号３）'!M26,0)","v":0},{"$f":"IF($D26=\"家族従業員\",'臨時・アルバイト・家族従業員等（６号３）'!N26,0)","v":0},{"$f":"IF($D26=\"家族従業員\",'臨時・アルバイト・家族従業員等（６号３）'!O26,0)","v":0},{"$f":"IF($D26=\"家族従業員\",'臨時・アルバイト・家族従業員等（６号３）'!P26,0)","v":0},{"$f":"IF($D26=\"家族従業員\",'臨時・アルバイト・家族従業員等（６号３）'!Q26,0)","v":0},{"$f":"IF($D26=\"家族従業員\",'臨時・アルバイト・家族従業員等（６号３）'!R26,0)","v":0},{"$f":"IF($D26=\"家族従業員\",'臨時・アルバイト・家族従業員等（６号３）'!S26,0)","v":0},{"$f":"IF($D26=\"家族従業員\",'臨時・アルバイト・家族従業員等（６号３）'!T26,0)","v":0},0]
[null,null,null,null,null,null,null,null,{"$f":"IF($D26=\"家族従業員\",'臨時・アルバイト・家族従業員等（６号３）'!I27,0)","v":0},{"$f":"IF($D26=\"家族従業員\",'臨時・アルバイト・家族従業員等（６号３）'!J27,0)","v":0},{"$f":"IF($D26=\"家族従業員\",'臨時・アルバイト・家族従業員等（６号３）'!K27,0)","v":0},{"$f":"IF($D26=\"家族従業員\",'臨時・アルバイト・家族従業員等（６号３）'!L27,0)","v":0},{"$f":"IF($D26=\"家族従業員\",'臨時・アルバイト・家族従業員等（６号３）'!M27,0)","v":0},{"$f":"IF($D26=\"家族従業員\",'臨時・アルバイト・家族従業員等（６号３）'!N27,0)","v":0},{"$f":"IF($D26=\"家族従業員\",'臨時・アルバイト・家族従業員等（６号３）'!O27,0)","v":0},{"$f":"IF($D26=\"家族従業員\",'臨時・アルバイト・家族従業員等（６号３）'!P27,0)","v":0},{"$f":"IF($D26=\"家族従業員\",'臨時・アルバイト・家族従業員等（６号３）'!Q27,0)","v":0},{"$f":"IF($D26=\"家族従業員\",'臨時・アルバイト・家族従業員等（６号３）'!R27,0)","v":0},{"$f":"IF($D26=\"家族従業員\",'臨時・アルバイト・家族従業員等（６号３）'!S27,0)","v":0},{"$f":"IF($D26=\"家族従業員\",'臨時・アルバイト・家族従業員等（６号３）'!T27,0)","v":0},0]
[null,null,null,{"$f":"'臨時・アルバイト・家族従業員等（６号３）'!D28:D29","v":0},null,null,null,null,{"$f":"IF($D28=\"家族従業員\",'臨時・アルバイト・家族従業員等（６号３）'!I28,0)","v":0},{"$f":"IF($D28=\"家族従業員\",'臨時・アルバイト・家族従業員等（６号３）'!J28,0)","v":0},{"$f":"IF($D28=\"家族従業員\",'臨時・アルバイト・家族従業員等（６号３）'!K28,0)","v":0},{"$f":"IF($D28=\"家族従業員\",'臨時・アルバイト・家族従業員等（６号３）'!L28,0)","v":0},{"$f":"IF($D28=\"家族従業員\",'臨時・アルバイト・家族従業員等（６号３）'!M28,0)","v":0},{"$f":"IF($D28=\"家族従業員\",'臨時・アルバイト・家族従業員等（６号３）'!N28,0)","v":0},{"$f":"IF($D28=\"家族従業員\",'臨時・アルバイト・家族従業員等（６号３）'!O28,0)","v":0},{"$f":"IF($D28=\"家族従業員\",'臨時・アルバイト・家族従業員等（６号３）'!P28,0)","v":0},{"$f":"IF($D28=\"家族従業員\",'臨時・アルバイト・家族従業員等（６号３）'!Q28,0)","v":0},{"$f":"IF($D28=\"家族従業員\",'臨時・アルバイト・家族従業員等（６号３）'!R28,0)","v":0},{"$f":"IF($D28=\"家族従業員\",'臨時・アルバイト・家族従業員等（６号３）'!S28,0)","v":0},{"$f":"IF($D28=\"家族従業員\",'臨時・アルバイト・家族従業員等（６号３）'!T28,0)","v":0},0]
[null,null,null,null,null,null,null,null,{"$f":"IF($D28=\"家族従業員\",'臨時・アルバイト・家族従業員等（６号３）'!I29,0)","v":0},{"$f":"IF($D28=\"家族従業員\",'臨時・アルバイト・家族従業員等（６号３）'!J29,0)","v":0},{"$f":"IF($D28=\"家族従業員\",'臨時・アルバイト・家族従業員等（６号３）'!K29,0)","v":0},{"$f":"IF($D28=\"家族従業員\",'臨時・アルバイト・家族従業員等（６号３）'!L29,0)","v":0},{"$f":"IF($D28=\"家族従業員\",'臨時・アルバイト・家族従業員等（６号３）'!M29,0)","v":0},{"$f":"IF($D28=\"家族従業員\",'臨時・アルバイト・家族従業員等（６号３）'!N29,0)","v":0},{"$f":"IF($D28=\"家族従業員\",'臨時・アルバイト・家族従業員等（６号３）'!O29,0)","v":0},{"$f":"IF($D28=\"家族従業員\",'臨時・アルバイト・家族従業員等（６号３）'!P29,0)","v":0},{"$f":"IF($D28=\"家族従業員\",'臨時・アルバイト・家族従業員等（６号３）'!Q29,0)","v":0},{"$f":"IF($D28=\"家族従業員\",'臨時・アルバイト・家族従業員等（６号３）'!R29,0)","v":0},{"$f":"IF($D28=\"家族従業員\",'臨時・アルバイト・家族従業員等（６号３）'!S29,0)","v":0},{"$f":"IF($D28=\"家族従業員\",'臨時・アルバイト・家族従業員等（６号３）'!T29,0)","v":0},0]
[null,null,null,{"$f":"'臨時・アルバイト・家族従業員等（６号３）'!D30:D31","v":0},null,null,null,null,{"$f":"IF($D30=\"家族従業員\",'臨時・アルバイト・家族従業員等（６号３）'!I30,0)","v":0},{"$f":"IF($D30=\"家族従業員\",'臨時・アルバイト・家族従業員等（６号３）'!J30,0)","v":0},{"$f":"IF($D30=\"家族従業員\",'臨時・アルバイト・家族従業員等（６号３）'!K30,0)","v":0},{"$f":"IF($D30=\"家族従業員\",'臨時・アルバイト・家族従業員等（６号３）'!L30,0)","v":0},{"$f":"IF($D30=\"家族従業員\",'臨時・アルバイト・家族従業員等（６号３）'!M30,0)","v":0},{"$f":"IF($D30=\"家族従業員\",'臨時・アルバイト・家族従業員等（６号３）'!N30,0)","v":0},{"$f":"IF($D30=\"家族従業員\",'臨時・アルバイト・家族従業員等（６号３）'!O30,0)","v":0},{"$f":"IF($D30=\"家族従業員\",'臨時・アルバイト・家族従業員等（６号３）'!P30,0)","v":0},{"$f":"IF($D30=\"家族従業員\",'臨時・アルバイト・家族従業員等（６号３）'!Q30,0)","v":0},{"$f":"IF($D30=\"家族従業員\",'臨時・アルバイト・家族従業員等（６号３）'!R30,0)","v":0},{"$f":"IF($D30=\"家族従業員\",'臨時・アルバイト・家族従業員等（６号３）'!S30,0)","v":0},{"$f":"IF($D30=\"家族従業員\",'臨時・アルバイト・家族従業員等（６号３）'!T30,0)","v":0},0]
[null,null,null,null,null,null,null,null,{"$f":"IF($D30=\"家族従業員\",'臨時・アルバイト・家族従業員等（６号３）'!I31,0)","v":0},{"$f":"IF($D30=\"家族従業員\",'臨時・アルバイト・家族従業員等（６号３）'!J31,0)","v":0},{"$f":"IF($D30=\"家族従業員\",'臨時・アルバイト・家族従業員等（６号３）'!K31,0)","v":0},{"$f":"IF($D30=\"家族従業員\",'臨時・アルバイト・家族従業員等（６号３）'!L31,0)","v":0},{"$f":"IF($D30=\"家族従業員\",'臨時・アルバイト・家族従業員等（６号３）'!M31,0)","v":0},{"$f":"IF($D30=\"家族従業員\",'臨時・アルバイト・家族従業員等（６号３）'!N31,0)","v":0},{"$f":"IF($D30=\"家族従業員\",'臨時・アルバイト・家族従業員等（６号３）'!O31,0)","v":0},{"$f":"IF($D30=\"家族従業員\",'臨時・アルバイト・家族従業員等（６号３）'!P31,0)","v":0},{"$f":"IF($D30=\"家族従業員\",'臨時・アルバイト・家族従業員等（６号３）'!Q31,0)","v":0},{"$f":"IF($D30=\"家族従業員\",'臨時・アルバイト・家族従業員等（６号３）'!R31,0)","v":0},{"$f":"IF($D30=\"家族従業員\",'臨時・アルバイト・家族従業員等（６号３）'!S31,0)","v":0},{"$f":"IF($D30=\"家族従業員\",'臨時・アルバイト・家族従業員等（６号３）'!T31,0)","v":0},0]
[null,null,null,{"$f":"'臨時・アルバイト・家族従業員等（６号３）'!D32:D33","v":0},null,null,null,null,{"$f":"IF($D32=\"家族従業員\",'臨時・アルバイト・家族従業員等（６号３）'!I32,0)","v":0},{"$f":"IF($D32=\"家族従業員\",'臨時・アルバイト・家族従業員等（６号３）'!J32,0)","v":0},{"$f":"IF($D32=\"家族従業員\",'臨時・アルバイト・家族従業員等（６号３）'!K32,0)","v":0},{"$f":"IF($D32=\"家族従業員\",'臨時・アルバイト・家族従業員等（６号３）'!L32,0)","v":0},{"$f":"IF($D32=\"家族従業員\",'臨時・アルバイト・家族従業員等（６号３）'!M32,0)","v":0},{"$f":"IF($D32=\"家族従業員\",'臨時・アルバイト・家族従業員等（６号３）'!N32,0)","v":0},{"$f":"IF($D32=\"家族従業員\",'臨時・アルバイト・家族従業員等（６号３）'!O32,0)","v":0},{"$f":"IF($D32=\"家族従業員\",'臨時・アルバイト・家族従業員等（６号３）'!P32,0)","v":0},{"$f":"IF($D32=\"家族従業員\",'臨時・アルバイト・家族従業員等（６号３）'!Q32,0)","v":0},{"$f":"IF($D32=\"家族従業員\",'臨時・アルバイト・家族従業員等（６号３）'!R32,0)","v":0},{"$f":"IF($D32=\"家族従業員\",'臨時・アルバイト・家族従業員等（６号３）'!S32,0)","v":0},{"$f":"IF($D32=\"家族従業員\",'臨時・アルバイト・家族従業員等（６号３）'!T32,0)","v":0},0]
[null,null,null,null,null,null,null,null,{"$f":"IF($D32=\"家族従業員\",'臨時・アルバイト・家族従業員等（６号３）'!I33,0)","v":0},{"$f":"IF($D32=\"家族従業員\",'臨時・アルバイト・家族従業員等（６号３）'!J33,0)","v":0},{"$f":"IF($D32=\"家族従業員\",'臨時・アルバイト・家族従業員等（６号３）'!K33,0)","v":0},{"$f":"IF($D32=\"家族従業員\",'臨時・アルバイト・家族従業員等（６号３）'!L33,0)","v":0},{"$f":"IF($D32=\"家族従業員\",'臨時・アルバイト・家族従業員等（６号３）'!M33,0)","v":0},{"$f":"IF($D32=\"家族従業員\",'臨時・アルバイト・家族従業員等（６号３）'!N33,0)","v":0},{"$f":"IF($D32=\"家族従業員\",'臨時・アルバイト・家族従業員等（６号３）'!O33,0)","v":0},{"$f":"IF($D32=\"家族従業員\",'臨時・アルバイト・家族従業員等（６号３）'!P33,0)","v":0},{"$f":"IF($D32=\"家族従業員\",'臨時・アルバイト・家族従業員等（６号３）'!Q33,0)","v":0},{"$f":"IF($D32=\"家族従業員\",'臨時・アルバイト・家族従業員等（６号３）'!R33,0)","v":0},{"$f":"IF($D32=\"家族従業員\",'臨時・アルバイト・家族従業員等（６号３）'!S33,0)","v":0},{"$f":"IF($D32=\"家族従業員\",'臨時・アルバイト・家族従業員等（６号３）'!T33,0)","v":0},0]
[null,null,null,{"$f":"'臨時・アルバイト・家族従業員等（６号３）'!D34:D35","v":0},null,null,null,null,{"$f":"IF($D34=\"家族従業員\",'臨時・アルバイト・家族従業員等（６号３）'!I34,0)","v":0},{"$f":"IF($D34=\"家族従業員\",'臨時・アルバイト・家族従業員等（６号３）'!J34,0)","v":0},{"$f":"IF($D34=\"家族従業員\",'臨時・アルバイト・家族従業員等（６号３）'!K34,0)","v":0},{"$f":"IF($D34=\"家族従業員\",'臨時・アルバイト・家族従業員等（６号３）'!L34,0)","v":0},{"$f":"IF($D34=\"家族従業員\",'臨時・アルバイト・家族従業員等（６号３）'!M34,0)","v":0},{"$f":"IF($D34=\"家族従業員\",'臨時・アルバイト・家族従業員等（６号３）'!N34,0)","v":0},{"$f":"IF($D34=\"家族従業員\",'臨時・アルバイト・家族従業員等（６号３）'!O34,0)","v":0},{"$f":"IF($D34=\"家族従業員\",'臨時・アルバイト・家族従業員等（６号３）'!P34,0)","v":0},{"$f":"IF($D34=\"家族従業員\",'臨時・アルバイト・家族従業員等（６号３）'!Q34,0)","v":0},{"$f":"IF($D34=\"家族従業員\",'臨時・アルバイト・家族従業員等（６号３）'!R34,0)","v":0},{"$f":"IF($D34=\"家族従業員\",'臨時・アルバイト・家族従業員等（６号３）'!S34,0)","v":0},{"$f":"IF($D34=\"家族従業員\",'臨時・アルバイト・家族従業員等（６号３）'!T34,0)","v":0},0]
[null,null,null,null,null,null,null,null,{"$f":"IF($D34=\"家族従業員\",'臨時・アルバイト・家族従業員等（６号３）'!I35,0)","v":0},{"$f":"IF($D34=\"家族従業員\",'臨時・アルバイト・家族従業員等（６号３）'!J35,0)","v":0},{"$f":"IF($D34=\"家族従業員\",'臨時・アルバイト・家族従業員等（６号３）'!K35,0)","v":0},{"$f":"IF($D34=\"家族従業員\",'臨時・アルバイト・家族従業員等（６号３）'!L35,0)","v":0},{"$f":"IF($D34=\"家族従業員\",'臨時・アルバイト・家族従業員等（６号３）'!M35,0)","v":0},{"$f":"IF($D34=\"家族従業員\",'臨時・アルバイト・家族従業員等（６号３）'!N35,0)","v":0},{"$f":"IF($D34=\"家族従業員\",'臨時・アルバイト・家族従業員等（６号３）'!O35,0)","v":0},{"$f":"IF($D34=\"家族従業員\",'臨時・アルバイト・家族従業員等（６号３）'!P35,0)","v":0},{"$f":"IF($D34=\"家族従業員\",'臨時・アルバイト・家族従業員等（６号３）'!Q35,0)","v":0},{"$f":"IF($D34=\"家族従業員\",'臨時・アルバイト・家族従業員等（６号３）'!R35,0)","v":0},{"$f":"IF($D34=\"家族従業員\",'臨時・アルバイト・家族従業員等（６号３）'!S35,0)","v":0},{"$f":"IF($D34=\"家族従業員\",'臨時・アルバイト・家族従業員等（６号３）'!T35,0)","v":0},0]
[null,null,null,{"$f":"'臨時・アルバイト・家族従業員等（６号３）'!D36:D37","v":0},null,null,null,null,{"$f":"IF($D36=\"家族従業員\",'臨時・アルバイト・家族従業員等（６号３）'!I36,0)","v":0},{"$f":"IF($D36=\"家族従業員\",'臨時・アルバイト・家族従業員等（６号３）'!J36,0)","v":0},{"$f":"IF($D36=\"家族従業員\",'臨時・アルバイト・家族従業員等（６号３）'!K36,0)","v":0},{"$f":"IF($D36=\"家族従業員\",'臨時・アルバイト・家族従業員等（６号３）'!L36,0)","v":0},{"$f":"IF($D36=\"家族従業員\",'臨時・アルバイト・家族従業員等（６号３）'!M36,0)","v":0},{"$f":"IF($D36=\"家族従業員\",'臨時・アルバイト・家族従業員等（６号３）'!N36,0)","v":0},{"$f":"IF($D36=\"家族従業員\",'臨時・アルバイト・家族従業員等（６号３）'!O36,0)","v":0},{"$f":"IF($D36=\"家族従業員\",'臨時・アルバイト・家族従業員等（６号３）'!P36,0)","v":0},{"$f":"IF($D36=\"家族従業員\",'臨時・アルバイト・家族従業員等（６号３）'!Q36,0)","v":0},{"$f":"IF($D36=\"家族従業員\",'臨時・アルバイト・家族従業員等（６号３）'!R36,0)","v":0},{"$f":"IF($D36=\"家族従業員\",'臨時・アルバイト・家族従業員等（６号３）'!S36,0)","v":0},{"$f":"IF($D36=\"家族従業員\",'臨時・アルバイト・家族従業員等（６号３）'!T36,0)","v":0},0]
[null,null,null,null,null,null,null,null,{"$f":"IF($D36=\"家族従業員\",'臨時・アルバイト・家族従業員等（６号３）'!I37,0)","v":0},{"$f":"IF($D36=\"家族従業員\",'臨時・アルバイト・家族従業員等（６号３）'!J37,0)","v":0},{"$f":"IF($D36=\"家族従業員\",'臨時・アルバイト・家族従業員等（６号３）'!K37,0)","v":0},{"$f":"IF($D36=\"家族従業員\",'臨時・アルバイト・家族従業員等（６号３）'!L37,0)","v":0},{"$f":"IF($D36=\"家族従業員\",'臨時・アルバイト・家族従業員等（６号３）'!M37,0)","v":0},{"$f":"IF($D36=\"家族従業員\",'臨時・アルバイト・家族従業員等（６号３）'!N37,0)","v":0},{"$f":"IF($D36=\"家族従業員\",'臨時・アルバイト・家族従業員等（６号３）'!O37,0)","v":0},{"$f":"IF($D36=\"家族従業員\",'臨時・アルバイト・家族従業員等（６号３）'!P37,0)","v":0},{"$f":"IF($D36=\"家族従業員\",'臨時・アルバイト・家族従業員等（６号３）'!Q37,0)","v":0},{"$f":"IF($D36=\"家族従業員\",'臨時・アルバイト・家族従業員等（６号３）'!R37,0)","v":0},{"$f":"IF($D36=\"家族従業員\",'臨時・アルバイト・家族従業員等（６号３）'!S37,0)","v":0},{"$f":"IF($D36=\"家族従業員\",'臨時・アルバイト・家族従業員等（６号３）'!T37,0)","v":0},0]
[null,null,null,{"$f":"'臨時・アルバイト・家族従業員等（６号３）'!D38:D39","v":0},null,null,null,null,{"$f":"IF($D38=\"家族従業員\",'臨時・アルバイト・家族従業員等（６号３）'!I38,0)","v":0},{"$f":"IF($D38=\"家族従業員\",'臨時・アルバイト・家族従業員等（６号３）'!J38,0)","v":0},{"$f":"IF($D38=\"家族従業員\",'臨時・アルバイト・家族従業員等（６号３）'!K38,0)","v":0},{"$f":"IF($D38=\"家族従業員\",'臨時・アルバイト・家族従業員等（６号３）'!L38,0)","v":0},{"$f":"IF($D38=\"家族従業員\",'臨時・アルバイト・家族従業員等（６号３）'!M38,0)","v":0},{"$f":"IF($D38=\"家族従業員\",'臨時・アルバイト・家族従業員等（６号３）'!N38,0)","v":0},{"$f":"IF($D38=\"家族従業員\",'臨時・アルバイト・家族従業員等（６号３）'!O38,0)","v":0},{"$f":"IF($D38=\"家族従業員\",'臨時・アルバイト・家族従業員等（６号３）'!P38,0)","v":0},{"$f":"IF($D38=\"家族従業員\",'臨時・アルバイト・家族従業員等（６号３）'!Q38,0)","v":0},{"$f":"IF($D38=\"家族従業員\",'臨時・アルバイト・家族従業員等（６号３）'!R38,0)","v":0},{"$f":"IF($D38=\"家族従業員\",'臨時・アルバイト・家族従業員等（６号３）'!S38,0)","v":0},{"$f":"IF($D38=\"家族従業員\",'臨時・アルバイト・家族従業員等（６号３）'!T38,0)","v":0},0]
[null,null,null,null,null,null,null,null,{"$f":"IF($D38=\"家族従業員\",'臨時・アルバイト・家族従業員等（６号３）'!I39,0)","v":0},{"$f":"IF($D38=\"家族従業員\",'臨時・アルバイト・家族従業員等（６号３）'!J39,0)","v":0},{"$f":"IF($D38=\"家族従業員\",'臨時・アルバイト・家族従業員等（６号３）'!K39,0)","v":0},{"$f":"IF($D38=\"家族従業員\",'臨時・アルバイト・家族従業員等（６号３）'!L39,0)","v":0},{"$f":"IF($D38=\"家族従業員\",'臨時・アルバイト・家族従業員等（６号３）'!M39,0)","v":0},{"$f":"IF($D38=\"家族従業員\",'臨時・アルバイト・家族従業員等（６号３）'!N39,0)","v":0},{"$f":"IF($D38=\"家族従業員\",'臨時・アルバイト・家族従業員等（６号３）'!O39,0)","v":0},{"$f":"IF($D38=\"家族従業員\",'臨時・アルバイト・家族従業員等（６号３）'!P39,0)","v":0},{"$f":"IF($D38=\"家族従業員\",'臨時・アルバイト・家族従業員等（６号３）'!Q39,0)","v":0},{"$f":"IF($D38=\"家族従業員\",'臨時・アルバイト・家族従業員等（６号３）'!R39,0)","v":0},{"$f":"IF($D38=\"家族従業員\",'臨時・アルバイト・家族従業員等（６号３）'!S39,0)","v":0},{"$f":"IF($D38=\"家族従業員\",'臨時・アルバイト・家族従業員等（６号３）'!T39,0)","v":0},0]
[null,null,null,{"$f":"'臨時・アルバイト・家族従業員等（６号３）'!D40:D41","v":0},null,null,null,null,{"$f":"IF($D40=\"家族従業員\",'臨時・アルバイト・家族従業員等（６号３）'!I40,0)","v":0},{"$f":"IF($D40=\"家族従業員\",'臨時・アルバイト・家族従業員等（６号３）'!J40,0)","v":0},{"$f":"IF($D40=\"家族従業員\",'臨時・アルバイト・家族従業員等（６号３）'!K40,0)","v":0},{"$f":"IF($D40=\"家族従業員\",'臨時・アルバイト・家族従業員等（６号３）'!L40,0)","v":0},{"$f":"IF($D40=\"家族従業員\",'臨時・アルバイト・家族従業員等（６号３）'!M40,0)","v":0},{"$f":"IF($D40=\"家族従業員\",'臨時・アルバイト・家族従業員等（６号３）'!N40,0)","v":0},{"$f":"IF($D40=\"家族従業員\",'臨時・アルバイト・家族従業員等（６号３）'!O40,0)","v":0},{"$f":"IF($D40=\"家族従業員\",'臨時・アルバイト・家族従業員等（６号３）'!P40,0)","v":0},{"$f":"IF($D40=\"家族従業員\",'臨時・アルバイト・家族従業員等（６号３）'!Q40,0)","v":0},{"$f":"IF($D40=\"家族従業員\",'臨時・アルバイト・家族従業員等（６号３）'!R40,0)","v":0},{"$f":"IF($D40=\"家族従業員\",'臨時・アルバイト・家族従業員等（６号３）'!S40,0)","v":0},{"$f":"IF($D40=\"家族従業員\",'臨時・アルバイト・家族従業員等（６号３）'!T40,0)","v":0},0]
[null,null,null,null,null,null,null,null,{"$f":"IF($D40=\"家族従業員\",'臨時・アルバイト・家族従業員等（６号３）'!I41,0)","v":0},{"$f":"IF($D40=\"家族従業員\",'臨時・アルバイト・家族従業員等（６号３）'!J41,0)","v":0},{"$f":"IF($D40=\"家族従業員\",'臨時・アルバイト・家族従業員等（６号３）'!K41,0)","v":0},{"$f":"IF($D40=\"家族従業員\",'臨時・アルバイト・家族従業員等（６号３）'!L41,0)","v":0},{"$f":"IF($D40=\"家族従業員\",'臨時・アルバイト・家族従業員等（６号３）'!M41,0)","v":0},{"$f":"IF($D40=\"家族従業員\",'臨時・アルバイト・家族従業員等（６号３）'!N41,0)","v":0},{"$f":"IF($D40=\"家族従業員\",'臨時・アルバイト・家族従業員等（６号３）'!O41,0)","v":0},{"$f":"IF($D40=\"家族従業員\",'臨時・アルバイト・家族従業員等（６号３）'!P41,0)","v":0},{"$f":"IF($D40=\"家族従業員\",'臨時・アルバイト・家族従業員等（６号３）'!Q41,0)","v":0},{"$f":"IF($D40=\"家族従業員\",'臨時・アルバイト・家族従業員等（６号３）'!R41,0)","v":0},{"$f":"IF($D40=\"家族従業員\",'臨時・アルバイト・家族従業員等（６号３）'!S41,0)","v":0},{"$f":"IF($D40=\"家族従業員\",'臨時・アルバイト・家族従業員等（６号３）'!T41,0)","v":0},0]
[null,null,null,{"$f":"'臨時・アルバイト・家族従業員等（６号３）'!D42:D43","v":0},null,null,null,null,{"$f":"IF($D42=\"家族従業員\",'臨時・アルバイト・家族従業員等（６号３）'!I42,0)","v":0},{"$f":"IF($D42=\"家族従業員\",'臨時・アルバイト・家族従業員等（６号３）'!J42,0)","v":0},{"$f":"IF($D42=\"家族従業員\",'臨時・アルバイト・家族従業員等（６号３）'!K42,0)","v":0},{"$f":"IF($D42=\"家族従業員\",'臨時・アルバイト・家族従業員等（６号３）'!L42,0)","v":0},{"$f":"IF($D42=\"家族従業員\",'臨時・アルバイト・家族従業員等（６号３）'!M42,0)","v":0},{"$f":"IF($D42=\"家族従業員\",'臨時・アルバイト・家族従業員等（６号３）'!N42,0)","v":0},{"$f":"IF($D42=\"家族従業員\",'臨時・アルバイト・家族従業員等（６号３）'!O42,0)","v":0},{"$f":"IF($D42=\"家族従業員\",'臨時・アルバイト・家族従業員等（６号３）'!P42,0)","v":0},{"$f":"IF($D42=\"家族従業員\",'臨時・アルバイト・家族従業員等（６号３）'!Q42,0)","v":0},{"$f":"IF($D42=\"家族従業員\",'臨時・アルバイト・家族従業員等（６号３）'!R42,0)","v":0},{"$f":"IF($D42=\"家族従業員\",'臨時・アルバイト・家族従業員等（６号３）'!S42,0)","v":0},{"$f":"IF($D42=\"家族従業員\",'臨時・アルバイト・家族従業員等（６号３）'!T42,0)","v":0},0]
[null,null,null,null,null,null,null,null,{"$f":"IF($D42=\"家族従業員\",'臨時・アルバイト・家族従業員等（６号３）'!I43,0)","v":0},{"$f":"IF($D42=\"家族従業員\",'臨時・アルバイト・家族従業員等（６号３）'!J43,0)","v":0},{"$f":"IF($D42=\"家族従業員\",'臨時・アルバイト・家族従業員等（６号３）'!K43,0)","v":0},{"$f":"IF($D42=\"家族従業員\",'臨時・アルバイト・家族従業員等（６号３）'!L43,0)","v":0},{"$f":"IF($D42=\"家族従業員\",'臨時・アルバイト・家族従業員等（６号３）'!M43,0)","v":0},{"$f":"IF($D42=\"家族従業員\",'臨時・アルバイト・家族従業員等（６号３）'!N43,0)","v":0},{"$f":"IF($D42=\"家族従業員\",'臨時・アルバイト・家族従業員等（６号３）'!O43,0)","v":0},{"$f":"IF($D42=\"家族従業員\",'臨時・アルバイト・家族従業員等（６号３）'!P43,0)","v":0},{"$f":"IF($D42=\"家族従業員\",'臨時・アルバイト・家族従業員等（６号３）'!Q43,0)","v":0},{"$f":"IF($D42=\"家族従業員\",'臨時・アルバイト・家族従業員等（６号３）'!R43,0)","v":0},{"$f":"IF($D42=\"家族従業員\",'臨時・アルバイト・家族従業員等（６号３）'!S43,0)","v":0},{"$f":"IF($D42=\"家族従業員\",'臨時・アルバイト・家族従業員等（６号３）'!T43,0)","v":0},0]
[null,null,null,{"$f":"'臨時・アルバイト・家族従業員等（６号３）'!D44:D45","v":0},null,null,null,null,{"$f":"IF($D44=\"家族従業員\",'臨時・アルバイト・家族従業員等（６号３）'!I44,0)","v":0},{"$f":"IF($D44=\"家族従業員\",'臨時・アルバイト・家族従業員等（６号３）'!J44,0)","v":0},{"$f":"IF($D44=\"家族従業員\",'臨時・アルバイト・家族従業員等（６号３）'!K44,0)","v":0},{"$f":"IF($D44=\"家族従業員\",'臨時・アルバイト・家族従業員等（６号３）'!L44,0)","v":0},{"$f":"IF($D44=\"家族従業員\",'臨時・アルバイト・家族従業員等（６号３）'!M44,0)","v":0},{"$f":"IF($D44=\"家族従業員\",'臨時・アルバイト・家族従業員等（６号３）'!N44,0)","v":0},{"$f":"IF($D44=\"家族従業員\",'臨時・アルバイト・家族従業員等（６号３）'!O44,0)","v":0},{"$f":"IF($D44=\"家族従業員\",'臨時・アルバイト・家族従業員等（６号３）'!P44,0)","v":0},{"$f":"IF($D44=\"家族従業員\",'臨時・アルバイト・家族従業員等（６号３）'!Q44,0)","v":0},{"$f":"IF($D44=\"家族従業員\",'臨時・アルバイト・家族従業員等（６号３）'!R44,0)","v":0},{"$f":"IF($D44=\"家族従業員\",'臨時・アルバイト・家族従業員等（６号３）'!S44,0)","v":0},{"$f":"IF($D44=\"家族従業員\",'臨時・アルバイト・家族従業員等（６号３）'!T44,0)","v":0},0]
[null,null,null,null,null,null,null,null,{"$f":"IF($D44=\"家族従業員\",'臨時・アルバイト・家族従業員等（６号３）'!I45,0)","v":0},{"$f":"IF($D44=\"家族従業員\",'臨時・アルバイト・家族従業員等（６号３）'!J45,0)","v":0},{"$f":"IF($D44=\"家族従業員\",'臨時・アルバイト・家族従業員等（６号３）'!K45,0)","v":0},{"$f":"IF($D44=\"家族従業員\",'臨時・アルバイト・家族従業員等（６号３）'!L45,0)","v":0},{"$f":"IF($D44=\"家族従業員\",'臨時・アルバイト・家族従業員等（６号３）'!M45,0)","v":0},{"$f":"IF($D44=\"家族従業員\",'臨時・アルバイト・家族従業員等（６号３）'!N45,0)","v":0},{"$f":"IF($D44=\"家族従業員\",'臨時・アルバイト・家族従業員等（６号３）'!O45,0)","v":0},{"$f":"IF($D44=\"家族従業員\",'臨時・アルバイト・家族従業員等（６号３）'!P45,0)","v":0},{"$f":"IF($D44=\"家族従業員\",'臨時・アルバイト・家族従業員等（６号３）'!Q45,0)","v":0},{"$f":"IF($D44=\"家族従業員\",'臨時・アルバイト・家族従業員等（６号３）'!R45,0)","v":0},{"$f":"IF($D44=\"家族従業員\",'臨時・アルバイト・家族従業員等（６号３）'!S45,0)","v":0},{"$f":"IF($D44=\"家族従業員\",'臨時・アルバイト・家族従業員等（６号３）'!T45,0)","v":0},0]
[null,null,null,{"$f":"'臨時・アルバイト・家族従業員等（６号３）'!D46:D47","v":0},null,null,null,null,{"$f":"IF($D46=\"家族従業員\",'臨時・アルバイト・家族従業員等（６号３）'!I46,0)","v":0},{"$f":"IF($D46=\"家族従業員\",'臨時・アルバイト・家族従業員等（６号３）'!J46,0)","v":0},{"$f":"IF($D46=\"家族従業員\",'臨時・アルバイト・家族従業員等（６号３）'!K46,0)","v":0},{"$f":"IF($D46=\"家族従業員\",'臨時・アルバイト・家族従業員等（６号３）'!L46,0)","v":0},{"$f":"IF($D46=\"家族従業員\",'臨時・アルバイト・家族従業員等（６号３）'!M46,0)","v":0},{"$f":"IF($D46=\"家族従業員\",'臨時・アルバイト・家族従業員等（６号３）'!N46,0)","v":0},{"$f":"IF($D46=\"家族従業員\",'臨時・アルバイト・家族従業員等（６号３）'!O46,0)","v":0},{"$f":"IF($D46=\"家族従業員\",'臨時・アルバイト・家族従業員等（６号３）'!P46,0)","v":0},{"$f":"IF($D46=\"家族従業員\",'臨時・アルバイト・家族従業員等（６号３）'!Q46,0)","v":0},{"$f":"IF($D46=\"家族従業員\",'臨時・アルバイト・家族従業員等（６号３）'!R46,0)","v":0},{"$f":"IF($D46=\"家族従業員\",'臨時・アルバイト・家族従業員等（６号３）'!S46,0)","v":0},{"$f":"IF($D46=\"家族従業員\",'臨時・アルバイト・家族従業員等（６号３）'!T46,0)","v":0},0]
[null,null,null,null,null,null,null,null,{"$f":"IF($D46=\"家族従業員\",'臨時・アルバイト・家族従業員等（６号３）'!I47,0)","v":0},{"$f":"IF($D46=\"家族従業員\",'臨時・アルバイト・家族従業員等（６号３）'!J47,0)","v":0},{"$f":"IF($D46=\"家族従業員\",'臨時・アルバイト・家族従業員等（６号３）'!K47,0)","v":0},{"$f":"IF($D46=\"家族従業員\",'臨時・アルバイト・家族従業員等（６号３）'!L47,0)","v":0},{"$f":"IF($D46=\"家族従業員\",'臨時・アルバイト・家族従業員等（６号３）'!M47,0)","v":0},{"$f":"IF($D46=\"家族従業員\",'臨時・アルバイト・家族従業員等（６号３）'!N47,0)","v":0},{"$f":"IF($D46=\"家族従業員\",'臨時・アルバイト・家族従業員等（６号３）'!O47,0)","v":0},{"$f":"IF($D46=\"家族従業員\",'臨時・アルバイト・家族従業員等（６号３）'!P47,0)","v":0},{"$f":"IF($D46=\"家族従業員\",'臨時・アルバイト・家族従業員等（６号３）'!Q47,0)","v":0},{"$f":"IF($D46=\"家族従業員\",'臨時・アルバイト・家族従業員等（６号３）'!R47,0)","v":0},{"$f":"IF($D46=\"家族従業員\",'臨時・アルバイト・家族従業員等（６号３）'!S47,0)","v":0},{"$f":"IF($D46=\"家族従業員\",'臨時・アルバイト・家族従業員等（６号３）'!T47,0)","v":0},0]
[null,"家族従業員の合計",null,null,null,null,null,null,{"$f":"I8+I10+I12+I14+I16+I18+I20+I22+I24+I26+I28+I30+I32+I34+I36+I38+I40+I42+I44+I46","v":0},{"$f":"J8+J10+J12+J14+J16+J18+J20+J22+J24+J26+J28+J30+J32+J34+J36+J38+J40+J42+J44+J46","v":0},0,0,0,0,0,{"$f":"P8+P10+P12+P14+P16+P18+P20+P22+P24+P26+P28+P30+P32+P34+P36+P38+P40+P42+P44+P46","v":0},0,0,0,0,{"$f":"U8+U10+U12+U14+U16+U18+U20+U22+U24+U26+U28+U30+U32+U34+U36+U38+U40+U42+U44+U46","v":0}]
[null,null,null,null,null,null,null,null,{"$f":"I9+I11+I13+I15+I17+I19+I21+I23+I25+I27+I29+I31+I33+I35+I37+I39+I41+I43+I45+I47","v":0},{"$f":"J9+J11+J13+J15+J17+J19+J21+J23+J25+J27+J29+J31+J33+J35+J37+J39+J41+J43+J45+J47","v":0},0,0,0,{"$f":"N9+N11+N13+N15+N17+N19+N21+N23+N25+N27+N29+N31+N33+N35+N37+N39+N41+N43+N45+N47","v":0},0,0,0,0,0,0,{"$f":"U9+U11+U13+U15+U17+U19+U21+U23+U25+U27+U29+U31+U33+U35+U37+U39+U41+U43+U45+U47","v":0}]
[null,"臨時・アルバイト・家族従業員の合計",null,null,null,null,null,null,{"$f":"IF('臨時・アルバイト・家族従業員等（６号３）'!I48=\"\",0,'臨時・アルバイト・家族従業員等（６号３）'!I48)","v":0},{"$f":"IF('臨時・アルバイト・家族従業員等（６号３）'!J48=\"\",0,'臨時・アルバイト・家族従業員等（６号３）'!J48)","v":0},{"$f":"IF('臨時・アルバイト・家族従業員等（６号３）'!K48=\"\",0,'臨時・アルバイト・家族従業員等（６号３）'!K48)","v":0},{"$f":"IF('臨時・アルバイト・家族従業員等（６号３）'!L48=\"\",0,'臨時・アルバイト・家族従業員等（６号３）'!L48)","v":0},{"$f":"IF('臨時・アルバイト・家族従業員等（６号３）'!M48=\"\",0,'臨時・アルバイト・家族従業員等（６号３）'!M48)","v":0},{"$f":"IF('臨時・アルバイト・家族従業員等（６号３）'!N48=\"\",0,'臨時・アルバイト・家族従業員等（６号３）'!N48)","v":0},{"$f":"IF('臨時・アルバイト・家族従業員等（６号３）'!O48=\"\",0,'臨時・アルバイト・家族従業員等（６号３）'!O48)","v":0},{"$f":"IF('臨時・アルバイト・家族従業員等（６号３）'!P48=\"\",0,'臨時・アルバイト・家族従業員等（６号３）'!P48)","v":0},{"$f":"IF('臨時・アルバイト・家族従業員等（６号３）'!Q48=\"\",0,'臨時・アルバイト・家族従業員等（６号３）'!Q48)","v":0},{"$f":"IF('臨時・アルバイト・家族従業員等（６号３）'!R48=\"\",0,'臨時・アルバイト・家族従業員等（６号３）'!R48)","v":0},{"$f":"IF('臨時・アルバイト・家族従業員等（６号３）'!S48=\"\",0,'臨時・アルバイト・家族従業員等（６号３）'!S48)","v":0},{"$f":"IF('臨時・アルバイト・家族従業員等（６号３）'!T48=\"\",0,'臨時・アルバイト・家族従業員等（６号３）'!T48)","v":0},{"$f":"IF('臨時・アルバイト・家族従業員等（６号３）'!U48=\"\",0,'臨時・アルバイト・家族従業員等（６号３）'!U48)","v":0}]
[null,null,null,null,null,null,null,null,{"$f":"IF('臨時・アルバイト・家族従業員等（６号３）'!I49=\"\",0,'臨時・アルバイト・家族従業員等（６号３）'!I49)","v":0},{"$f":"IF('臨時・アルバイト・家族従業員等（６号３）'!J49=\"\",0,'臨時・アルバイト・家族従業員等（６号３）'!J49)","v":0},{"$f":"IF('臨時・アルバイト・家族従業員等（６号３）'!K49=\"\",0,'臨時・アルバイト・家族従業員等（６号３）'!K49)","v":0},{"$f":"IF('臨時・アルバイト・家族従業員等（６号３）'!L49=\"\",0,'臨時・アルバイト・家族従業員等（６号３）'!L49)","v":0},{"$f":"IF('臨時・アルバイト・家族従業員等（６号３）'!M49=\"\",0,'臨時・アルバイト・家族従業員等（６号３）'!M49)","v":0},{"$f":"IF('臨時・アルバイト・家族従業員等（６号３）'!N49=\"\",0,'臨時・アルバイト・家族従業員等（６号３）'!N49)","v":0},{"$f":"IF('臨時・アルバイト・家族従業員等（６号３）'!O49=\"\",0,'臨時・アルバイト・家族従業員等（６号３）'!O49)","v":0},{"$f":"IF('臨時・アルバイト・家族従業員等（６号３）'!P49=\"\",0,'臨時・アルバイト・家族従業員等（６号３）'!P49)","v":0},{"$f":"IF('臨時・アルバイト・家族従業員等（６号３）'!Q49=\"\",0,'臨時・アルバイト・家族従業員等（６号３）'!Q49)","v":0},{"$f":"IF('臨時・アルバイト・家族従業員等（６号３）'!R49=\"\",0,'臨時・アルバイト・家族従業員等（６号３）'!R49)","v":0},{"$f":"IF('臨時・アルバイト・家族従業員等（６号３）'!S49=\"\",0,'臨時・アルバイト・家族従業員等（６号３）'!S49)","v":0},{"$f":"IF('臨時・アルバイト・家族従業員等（６号３）'!T49=\"\",0,'臨時・アルバイト・家族従業員等（６号３）'!T49)","v":0},{"$f":"IF('臨時・アルバイト・家族従業員等（６号３）'!U49=\"\",0,'臨時・アルバイト・家族従業員等（６号３）'!U49)","v":0}]
[]
[]
[null,null,null,null,null,null,null,null,null,null,null,null,null,null,null,null,null,null,"　　記載例　　","３５０，０００　←　賞与等"]
[null,null,null,null,null,null,null,null,null,null,null,null,null,null,null,null,null,null,null,"２００，０００　←　賃　金"]
[]
[null,"監　様式６号の３　（別表３）",null,null,null,null,null,null,"　　　　　　３．　　賃　　金　　支　　払　　集　　計　　表"]
[null,null,null,null,null,null,null,null,null,"　　　　　　　（ 臨 時 ・ ア ル バ イ ト ・ 家 族 従 業 員 等 ）"]
[]
[null,"氏　　　　名",null,"雇用形態","職　　種","生年月日","雇　 入\n年月日","離　 職\n年月日","令和３年４月","令和３年５月","令和３年６月","令和３年７月","令和３年８月","令和３年９月","令和３年１０月","令和３年１１月","令和３年１２月","令和４年１月","令和４年２月","令和４年３月","年度計"]
[]
[]
[null,null,null,{"$f":"'臨時・アルバイト・家族従業員等（６号３）'!D63:D64","v":0},null,null,null,null,{"$f":"IF($D63=\"家族従業員\",'臨時・アルバイト・家族従業員等（６号３）'!I63,0)","v":0},{"$f":"IF($D63=\"家族従業員\",'臨時・アルバイト・家族従業員等（６号３）'!J63,0)","v":0},{"$f":"IF($D63=\"家族従業員\",'臨時・アルバイト・家族従業員等（６号３）'!K63,0)","v":0},{"$f":"IF($D63=\"家族従業員\",'臨時・アルバイト・家族従業員等（６号３）'!L63,0)","v":0},{"$f":"IF($D63=\"家族従業員\",'臨時・アルバイト・家族従業員等（６号３）'!M63,0)","v":0},{"$f":"IF($D63=\"家族従業員\",'臨時・アルバイト・家族従業員等（６号３）'!N63,0)","v":0},{"$f":"IF($D63=\"家族従業員\",'臨時・アルバイト・家族従業員等（６号３）'!O63,0)","v":0},{"$f":"IF($D63=\"家族従業員\",'臨時・アルバイト・家族従業員等（６号３）'!P63,0)","v":0},{"$f":"IF($D63=\"家族従業員\",'臨時・アルバイト・家族従業員等（６号３）'!Q63,0)","v":0},{"$f":"IF($D63=\"家族従業員\",'臨時・アルバイト・家族従業員等（６号３）'!R63,0)","v":0},{"$f":"IF($D63=\"家族従業員\",'臨時・アルバイト・家族従業員等（６号３）'!S63,0)","v":0},{"$f":"IF($D63=\"家族従業員\",'臨時・アルバイト・家族従業員等（６号３）'!T63,0)","v":0},{"$f":"SUM(I63:T63)","v":0}]
[null,null,null,null,null,null,null,null,{"$f":"IF($D63=\"家族従業員\",'臨時・アルバイト・家族従業員等（６号３）'!I64,0)","v":0},{"$f":"IF($D63=\"家族従業員\",'臨時・アルバイト・家族従業員等（６号３）'!J64,0)","v":0},{"$f":"IF($D63=\"家族従業員\",'臨時・アルバイト・家族従業員等（６号３）'!K64,0)","v":0},{"$f":"IF($D63=\"家族従業員\",'臨時・アルバイト・家族従業員等（６号３）'!L64,0)","v":0},{"$f":"IF($D63=\"家族従業員\",'臨時・アルバイト・家族従業員等（６号３）'!M64,0)","v":0},{"$f":"IF($D63=\"家族従業員\",'臨時・アルバイト・家族従業員等（６号３）'!N64,0)","v":0},{"$f":"IF($D63=\"家族従業員\",'臨時・アルバイト・家族従業員等（６号３）'!O64,0)","v":0},{"$f":"IF($D63=\"家族従業員\",'臨時・アルバイト・家族従業員等（６号３）'!P64,0)","v":0},{"$f":"IF($D63=\"家族従業員\",'臨時・アルバイト・家族従業員等（６号３）'!Q64,0)","v":0},{"$f":"IF($D63=\"家族従業員\",'臨時・アルバイト・家族従業員等（６号３）'!R64,0)","v":0},{"$f":"IF($D63=\"家族従業員\",'臨時・アルバイト・家族従業員等（６号３）'!S64,0)","v":0},{"$f":"IF($D63=\"家族従業員\",'臨時・アルバイト・家族従業員等（６号３）'!T64,0)","v":0},{"$f":"SUM(I64:T64)","v":0}]
[null,null,null,{"$f":"'臨時・アルバイト・家族従業員等（６号３）'!D65:D66","v":0},null,null,null,null,{"$f":"IF($D65=\"家族従業員\",'臨時・アルバイト・家族従業員等（６号３）'!I65,0)","v":0},{"$f":"IF($D65=\"家族従業員\",'臨時・アルバイト・家族従業員等（６号３）'!J65,0)","v":0},{"$f":"IF($D65=\"家族従業員\",'臨時・アルバイト・家族従業員等（６号３）'!K65,0)","v":0},{"$f":"IF($D65=\"家族従業員\",'臨時・アルバイト・家族従業員等（６号３）'!L65,0)","v":0},{"$f":"IF($D65=\"家族従業員\",'臨時・アルバイト・家族従業員等（６号３）'!M65,0)","v":0},{"$f":"IF($D65=\"家族従業員\",'臨時・アルバイト・家族従業員等（６号３）'!N65,0)","v":0},{"$f":"IF($D65=\"家族従業員\",'臨時・アルバイト・家族従業員等（６号３）'!O65,0)","v":0},{"$f":"IF($D65=\"家族従業員\",'臨時・アルバイト・家族従業員等（６号３）'!P65,0)","v":0},{"$f":"IF($D65=\"家族従業員\",'臨時・アルバイト・家族従業員等（６号３）'!Q65,0)","v":0},{"$f":"IF($D65=\"家族従業員\",'臨時・アルバイト・家族従業員等（６号３）'!R65,0)","v":0},{"$f":"IF($D65=\"家族従業員\",'臨時・アルバイト・家族従業員等（６号３）'!S65,0)","v":0},{"$f":"IF($D65=\"家族従業員\",'臨時・アルバイト・家族従業員等（６号３）'!T65,0)","v":0},0]
[null,null,null,null,null,null,null,null,{"$f":"IF($D65=\"家族従業員\",'臨時・アルバイト・家族従業員等（６号３）'!I66,0)","v":0},{"$f":"IF($D65=\"家族従業員\",'臨時・アルバイト・家族従業員等（６号３）'!J66,0)","v":0},{"$f":"IF($D65=\"家族従業員\",'臨時・アルバイト・家族従業員等（６号３）'!K66,0)","v":0},{"$f":"IF($D65=\"家族従業員\",'臨時・アルバイト・家族従業員等（６号３）'!L66,0)","v":0},{"$f":"IF($D65=\"家族従業員\",'臨時・アルバイト・家族従業員等（６号３）'!M66,0)","v":0},{"$f":"IF($D65=\"家族従業員\",'臨時・アルバイト・家族従業員等（６号３）'!N66,0)","v":0},{"$f":"IF($D65=\"家族従業員\",'臨時・アルバイト・家族従業員等（６号３）'!O66,0)","v":0},{"$f":"IF($D65=\"家族従業員\",'臨時・アルバイト・家族従業員等（６号３）'!P66,0)","v":0},{"$f":"IF($D65=\"家族従業員\",'臨時・アルバイト・家族従業員等（６号３）'!Q66,0)","v":0},{"$f":"IF($D65=\"家族従業員\",'臨時・アルバイト・家族従業員等（６号３）'!R66,0)","v":0},{"$f":"IF($D65=\"家族従業員\",'臨時・アルバイト・家族従業員等（６号３）'!S66,0)","v":0},{"$f":"IF($D65=\"家族従業員\",'臨時・アルバイト・家族従業員等（６号３）'!T66,0)","v":0},0]
[null,null,null,{"$f":"'臨時・アルバイト・家族従業員等（６号３）'!D67:D68","v":0},null,null,null,null,{"$f":"IF($D67=\"家族従業員\",'臨時・アルバイト・家族従業員等（６号３）'!I67,0)","v":0},{"$f":"IF($D67=\"家族従業員\",'臨時・アルバイト・家族従業員等（６号３）'!J67,0)","v":0},{"$f":"IF($D67=\"家族従業員\",'臨時・アルバイト・家族従業員等（６号３）'!K67,0)","v":0},{"$f":"IF($D67=\"家族従業員\",'臨時・アルバイト・家族従業員等（６号３）'!L67,0)","v":0},{"$f":"IF($D67=\"家族従業員\",'臨時・アルバイト・家族従業員等（６号３）'!M67,0)","v":0},{"$f":"IF($D67=\"家族従業員\",'臨時・アルバイト・家族従業員等（６号３）'!N67,0)","v":0},{"$f":"IF($D67=\"家族従業員\",'臨時・アルバイト・家族従業員等（６号３）'!O67,0)","v":0},{"$f":"IF($D67=\"家族従業員\",'臨時・アルバイト・家族従業員等（６号３）'!P67,0)","v":0},{"$f":"IF($D67=\"家族従業員\",'臨時・アルバイト・家族従業員等（６号３）'!Q67,0)","v":0},{"$f":"IF($D67=\"家族従業員\",'臨時・アルバイト・家族従業員等（６号３）'!R67,0)","v":0},{"$f":"IF($D67=\"家族従業員\",'臨時・アルバイト・家族従業員等（６号３）'!S67,0)","v":0},{"$f":"IF($D67=\"家族従業員\",'臨時・アルバイト・家族従業員等（６号３）'!T67,0)","v":0},0]
[null,null,null,null,null,null,null,null,{"$f":"IF($D67=\"家族従業員\",'臨時・アルバイト・家族従業員等（６号３）'!I68,0)","v":0},{"$f":"IF($D67=\"家族従業員\",'臨時・アルバイト・家族従業員等（６号３）'!J68,0)","v":0},{"$f":"IF($D67=\"家族従業員\",'臨時・アルバイト・家族従業員等（６号３）'!K68,0)","v":0},{"$f":"IF($D67=\"家族従業員\",'臨時・アルバイト・家族従業員等（６号３）'!L68,0)","v":0},{"$f":"IF($D67=\"家族従業員\",'臨時・アルバイト・家族従業員等（６号３）'!M68,0)","v":0},{"$f":"IF($D67=\"家族従業員\",'臨時・アルバイト・家族従業員等（６号３）'!N68,0)","v":0},{"$f":"IF($D67=\"家族従業員\",'臨時・アルバイト・家族従業員等（６号３）'!O68,0)","v":0},{"$f":"IF($D67=\"家族従業員\",'臨時・アルバイト・家族従業員等（６号３）'!P68,0)","v":0},{"$f":"IF($D67=\"家族従業員\",'臨時・アルバイト・家族従業員等（６号３）'!Q68,0)","v":0},{"$f":"IF($D67=\"家族従業員\",'臨時・アルバイト・家族従業員等（６号３）'!R68,0)","v":0},{"$f":"IF($D67=\"家族従業員\",'臨時・アルバイト・家族従業員等（６号３）'!S68,0)","v":0},{"$f":"IF($D67=\"家族従業員\",'臨時・アルバイト・家族従業員等（６号３）'!T68,0)","v":0},0]
[null,null,null,{"$f":"'臨時・アルバイト・家族従業員等（６号３）'!D69:D70","v":0},null,null,null,null,{"$f":"IF($D69=\"家族従業員\",'臨時・アルバイト・家族従業員等（６号３）'!I69,0)","v":0},{"$f":"IF($D69=\"家族従業員\",'臨時・アルバイト・家族従業員等（６号３）'!J69,0)","v":0},{"$f":"IF($D69=\"家族従業員\",'臨時・アルバイト・家族従業員等（６号３）'!K69,0)","v":0},{"$f":"IF($D69=\"家族従業員\",'臨時・アルバイト・家族従業員等（６号３）'!L69,0)","v":0},{"$f":"IF($D69=\"家族従業員\",'臨時・アルバイト・家族従業員等（６号３）'!M69,0)","v":0},{"$f":"IF($D69=\"家族従業員\",'臨時・アルバイト・家族従業員等（６号３）'!N69,0)","v":0},{"$f":"IF($D69=\"家族従業員\",'臨時・アルバイト・家族従業員等（６号３）'!O69,0)","v":0},{"$f":"IF($D69=\"家族従業員\",'臨時・アルバイト・家族従業員等（６号３）'!P69,0)","v":0},{"$f":"IF($D69=\"家族従業員\",'臨時・アルバイト・家族従業員等（６号３）'!Q69,0)","v":0},{"$f":"IF($D69=\"家族従業員\",'臨時・アルバイト・家族従業員等（６号３）'!R69,0)","v":0},{"$f":"IF($D69=\"家族従業員\",'臨時・アルバイト・家族従業員等（６号３）'!S69,0)","v":0},{"$f":"IF($D69=\"家族従業員\",'臨時・アルバイト・家族従業員等（６号３）'!T69,0)","v":0},0]
[null,null,null,null,null,null,null,null,{"$f":"IF($D69=\"家族従業員\",'臨時・アルバイト・家族従業員等（６号３）'!I70,0)","v":0},{"$f":"IF($D69=\"家族従業員\",'臨時・アルバイト・家族従業員等（６号３）'!J70,0)","v":0},{"$f":"IF($D69=\"家族従業員\",'臨時・アルバイト・家族従業員等（６号３）'!K70,0)","v":0},{"$f":"IF($D69=\"家族従業員\",'臨時・アルバイト・家族従業員等（６号３）'!L70,0)","v":0},{"$f":"IF($D69=\"家族従業員\",'臨時・アルバイト・家族従業員等（６号３）'!M70,0)","v":0},{"$f":"IF($D69=\"家族従業員\",'臨時・アルバイト・家族従業員等（６号３）'!N70,0)","v":0},{"$f":"IF($D69=\"家族従業員\",'臨時・アルバイト・家族従業員等（６号３）'!O70,0)","v":0},{"$f":"IF($D69=\"家族従業員\",'臨時・アルバイト・家族従業員等（６号３）'!P70,0)","v":0},{"$f":"IF($D69=\"家族従業員\",'臨時・アルバイト・家族従業員等（６号３）'!Q70,0)","v":0},{"$f":"IF($D69=\"家族従業員\",'臨時・アルバイト・家族従業員等（６号３）'!R70,0)","v":0},{"$f":"IF($D69=\"家族従業員\",'臨時・アルバイト・家族従業員等（６号３）'!S70,0)","v":0},{"$f":"IF($D69=\"家族従業員\",'臨時・アルバイト・家族従業員等（６号３）'!T70,0)","v":0},0]
[null,null,null,{"$f":"'臨時・アルバイト・家族従業員等（６号３）'!D71:D72","v":0},null,null,null,null,{"$f":"IF($D71=\"家族従業員\",'臨時・アルバイト・家族従業員等（６号３）'!I71,0)","v":0},{"$f":"IF($D71=\"家族従業員\",'臨時・アルバイト・家族従業員等（６号３）'!J71,0)","v":0},{"$f":"IF($D71=\"家族従業員\",'臨時・アルバイト・家族従業員等（６号３）'!K71,0)","v":0},{"$f":"IF($D71=\"家族従業員\",'臨時・アルバイト・家族従業員等（６号３）'!L71,0)","v":0},{"$f":"IF($D71=\"家族従業員\",'臨時・アルバイト・家族従業員等（６号３）'!M71,0)","v":0},{"$f":"IF($D71=\"家族従業員\",'臨時・アルバイト・家族従業員等（６号３）'!N71,0)","v":0},{"$f":"IF($D71=\"家族従業員\",'臨時・アルバイト・家族従業員等（６号３）'!O71,0)","v":0},{"$f":"IF($D71=\"家族従業員\",'臨時・アルバイト・家族従業員等（６号３）'!P71,0)","v":0},{"$f":"IF($D71=\"家族従業員\",'臨時・アルバイト・家族従業員等（６号３）'!Q71,0)","v":0},{"$f":"IF($D71=\"家族従業員\",'臨時・アルバイト・家族従業員等（６号３）'!R71,0)","v":0},{"$f":"IF($D71=\"家族従業員\",'臨時・アルバイト・家族従業員等（６号３）'!S71,0)","v":0},{"$f":"IF($D71=\"家族従業員\",'臨時・アルバイト・家族従業員等（６号３）'!T71,0)","v":0},0]
[null,null,null,null,null,null,null,null,{"$f":"IF($D71=\"家族従業員\",'臨時・アルバイト・家族従業員等（６号３）'!I72,0)","v":0},{"$f":"IF($D71=\"家族従業員\",'臨時・アルバイト・家族従業員等（６号３）'!J72,0)","v":0},{"$f":"IF($D71=\"家族従業員\",'臨時・アルバイト・家族従業員等（６号３）'!K72,0)","v":0},{"$f":"IF($D71=\"家族従業員\",'臨時・アルバイト・家族従業員等（６号３）'!L72,0)","v":0},{"$f":"IF($D71=\"家族従業員\",'臨時・アルバイト・家族従業員等（６号３）'!M72,0)","v":0},{"$f":"IF($D71=\"家族従業員\",'臨時・アルバイト・家族従業員等（６号３）'!N72,0)","v":0},{"$f":"IF($D71=\"家族従業員\",'臨時・アルバイト・家族従業員等（６号３）'!O72,0)","v":0},{"$f":"IF($D71=\"家族従業員\",'臨時・アルバイト・家族従業員等（６号３）'!P72,0)","v":0},{"$f":"IF($D71=\"家族従業員\",'臨時・アルバイト・家族従業員等（６号３）'!Q72,0)","v":0},{"$f":"IF($D71=\"家族従業員\",'臨時・アルバイト・家族従業員等（６号３）'!R72,0)","v":0},{"$f":"IF($D71=\"家族従業員\",'臨時・アルバイト・家族従業員等（６号３）'!S72,0)","v":0},{"$f":"IF($D71=\"家族従業員\",'臨時・アルバイト・家族従業員等（６号３）'!T72,0)","v":0},0]
[null,null,null,{"$f":"'臨時・アルバイト・家族従業員等（６号３）'!D73:D74","v":0},null,null,null,null,{"$f":"IF($D73=\"家族従業員\",'臨時・アルバイト・家族従業員等（６号３）'!I73,0)","v":0},{"$f":"IF($D73=\"家族従業員\",'臨時・アルバイト・家族従業員等（６号３）'!J73,0)","v":0},{"$f":"IF($D73=\"家族従業員\",'臨時・アルバイト・家族従業員等（６号３）'!K73,0)","v":0},{"$f":"IF($D73=\"家族従業員\",'臨時・アルバイト・家族従業員等（６号３）'!L73,0)","v":0},{"$f":"IF($D73=\"家族従業員\",'臨時・アルバイト・家族従業員等（６号３）'!M73,0)","v":0},{"$f":"IF($D73=\"家族従業員\",'臨時・アルバイト・家族従業員等（６号３）'!N73,0)","v":0},{"$f":"IF($D73=\"家族従業員\",'臨時・アルバイト・家族従業員等（６号３）'!O73,0)","v":0},{"$f":"IF($D73=\"家族従業員\",'臨時・アルバイト・家族従業員等（６号３）'!P73,0)","v":0},{"$f":"IF($D73=\"家族従業員\",'臨時・アルバイト・家族従業員等（６号３）'!Q73,0)","v":0},{"$f":"IF($D73=\"家族従業員\",'臨時・アルバイト・家族従業員等（６号３）'!R73,0)","v":0},{"$f":"IF($D73=\"家族従業員\",'臨時・アルバイト・家族従業員等（６号３）'!S73,0)","v":0},{"$f":"IF($D73=\"家族従業員\",'臨時・アルバイト・家族従業員等（６号３）'!T73,0)","v":0},0]
[null,null,null,null,null,null,null,null,{"$f":"IF($D73=\"家族従業員\",'臨時・アルバイト・家族従業員等（６号３）'!I74,0)","v":0},{"$f":"IF($D73=\"家族従業員\",'臨時・アルバイト・家族従業員等（６号３）'!J74,0)","v":0},{"$f":"IF($D73=\"家族従業員\",'臨時・アルバイト・家族従業員等（６号３）'!K74,0)","v":0},{"$f":"IF($D73=\"家族従業員\",'臨時・アルバイト・家族従業員等（６号３）'!L74,0)","v":0},{"$f":"IF($D73=\"家族従業員\",'臨時・アルバイト・家族従業員等（６号３）'!M74,0)","v":0},{"$f":"IF($D73=\"家族従業員\",'臨時・アルバイト・家族従業員等（６号３）'!N74,0)","v":0},{"$f":"IF($D73=\"家族従業員\",'臨時・アルバイト・家族従業員等（６号３）'!O74,0)","v":0},{"$f":"IF($D73=\"家族従業員\",'臨時・アルバイト・家族従業員等（６号３）'!P74,0)","v":0},{"$f":"IF($D73=\"家族従業員\",'臨時・アルバイト・家族従業員等（６号３）'!Q74,0)","v":0},{"$f":"IF($D73=\"家族従業員\",'臨時・アルバイト・家族従業員等（６号３）'!R74,0)","v":0},{"$f":"IF($D73=\"家族従業員\",'臨時・アルバイト・家族従業員等（６号３）'!S74,0)","v":0},{"$f":"IF($D73=\"家族従業員\",'臨時・アルバイト・家族従業員等（６号３）'!T74,0)","v":0},0]
[null,null,null,{"$f":"'臨時・アルバイト・家族従業員等（６号３）'!D75:D76","v":0},null,null,null,null,{"$f":"IF($D75=\"家族従業員\",'臨時・アルバイト・家族従業員等（６号３）'!I75,0)","v":0},{"$f":"IF($D75=\"家族従業員\",'臨時・アルバイト・家族従業員等（６号３）'!J75,0)","v":0},{"$f":"IF($D75=\"家族従業員\",'臨時・アルバイト・家族従業員等（６号３）'!K75,0)","v":0},{"$f":"IF($D75=\"家族従業員\",'臨時・アルバイト・家族従業員等（６号３）'!L75,0)","v":0},{"$f":"IF($D75=\"家族従業員\",'臨時・アルバイト・家族従業員等（６号３）'!M75,0)","v":0},{"$f":"IF($D75=\"家族従業員\",'臨時・アルバイト・家族従業員等（６号３）'!N75,0)","v":0},{"$f":"IF($D75=\"家族従業員\",'臨時・アルバイト・家族従業員等（６号３）'!O75,0)","v":0},{"$f":"IF($D75=\"家族従業員\",'臨時・アルバイト・家族従業員等（６号３）'!P75,0)","v":0},{"$f":"IF($D75=\"家族従業員\",'臨時・アルバイト・家族従業員等（６号３）'!Q75,0)","v":0},{"$f":"IF($D75=\"家族従業員\",'臨時・アルバイト・家族従業員等（６号３）'!R75,0)","v":0},{"$f":"IF($D75=\"家族従業員\",'臨時・アルバイト・家族従業員等（６号３）'!S75,0)","v":0},{"$f":"IF($D75=\"家族従業員\",'臨時・アルバイト・家族従業員等（６号３）'!T75,0)","v":0},0]
[null,null,null,null,null,null,null,null,{"$f":"IF($D75=\"家族従業員\",'臨時・アルバイト・家族従業員等（６号３）'!I76,0)","v":0},{"$f":"IF($D75=\"家族従業員\",'臨時・アルバイト・家族従業員等（６号３）'!J76,0)","v":0},{"$f":"IF($D75=\"家族従業員\",'臨時・アルバイト・家族従業員等（６号３）'!K76,0)","v":0},{"$f":"IF($D75=\"家族従業員\",'臨時・アルバイト・家族従業員等（６号３）'!L76,0)","v":0},{"$f":"IF($D75=\"家族従業員\",'臨時・アルバイト・家族従業員等（６号３）'!M76,0)","v":0},{"$f":"IF($D75=\"家族従業員\",'臨時・アルバイト・家族従業員等（６号３）'!N76,0)","v":0},{"$f":"IF($D75=\"家族従業員\",'臨時・アルバイト・家族従業員等（６号３）'!O76,0)","v":0},{"$f":"IF($D75=\"家族従業員\",'臨時・アルバイト・家族従業員等（６号３）'!P76,0)","v":0},{"$f":"IF($D75=\"家族従業員\",'臨時・アルバイト・家族従業員等（６号３）'!Q76,0)","v":0},{"$f":"IF($D75=\"家族従業員\",'臨時・アルバイト・家族従業員等（６号３）'!R76,0)","v":0},{"$f":"IF($D75=\"家族従業員\",'臨時・アルバイト・家族従業員等（６号３）'!S76,0)","v":0},{"$f":"IF($D75=\"家族従業員\",'臨時・アルバイト・家族従業員等（６号３）'!T76,0)","v":0},0]
[null,null,null,{"$f":"'臨時・アルバイト・家族従業員等（６号３）'!D77:D78","v":0},null,null,null,null,{"$f":"IF($D77=\"家族従業員\",'臨時・アルバイト・家族従業員等（６号３）'!I77,0)","v":0},{"$f":"IF($D77=\"家族従業員\",'臨時・アルバイト・家族従業員等（６号３）'!J77,0)","v":0},{"$f":"IF($D77=\"家族従業員\",'臨時・アルバイト・家族従業員等（６号３）'!K77,0)","v":0},{"$f":"IF($D77=\"家族従業員\",'臨時・アルバイト・家族従業員等（６号３）'!L77,0)","v":0},{"$f":"IF($D77=\"家族従業員\",'臨時・アルバイト・家族従業員等（６号３）'!M77,0)","v":0},{"$f":"IF($D77=\"家族従業員\",'臨時・アルバイト・家族従業員等（６号３）'!N77,0)","v":0},{"$f":"IF($D77=\"家族従業員\",'臨時・アルバイト・家族従業員等（６号３）'!O77,0)","v":0},{"$f":"IF($D77=\"家族従業員\",'臨時・アルバイト・家族従業員等（６号３）'!P77,0)","v":0},{"$f":"IF($D77=\"家族従業員\",'臨時・アルバイト・家族従業員等（６号３）'!Q77,0)","v":0},{"$f":"IF($D77=\"家族従業員\",'臨時・アルバイト・家族従業員等（６号３）'!R77,0)","v":0},{"$f":"IF($D77=\"家族従業員\",'臨時・アルバイト・家族従業員等（６号３）'!S77,0)","v":0},{"$f":"IF($D77=\"家族従業員\",'臨時・アルバイト・家族従業員等（６号３）'!T77,0)","v":0},0]
[null,null,null,null,null,null,null,null,{"$f":"IF($D77=\"家族従業員\",'臨時・アルバイト・家族従業員等（６号３）'!I78,0)","v":0},{"$f":"IF($D77=\"家族従業員\",'臨時・アルバイト・家族従業員等（６号３）'!J78,0)","v":0},{"$f":"IF($D77=\"家族従業員\",'臨時・アルバイト・家族従業員等（６号３）'!K78,0)","v":0},{"$f":"IF($D77=\"家族従業員\",'臨時・アルバイト・家族従業員等（６号３）'!L78,0)","v":0},{"$f":"IF($D77=\"家族従業員\",'臨時・アルバイト・家族従業員等（６号３）'!M78,0)","v":0},{"$f":"IF($D77=\"家族従業員\",'臨時・アルバイト・家族従業員等（６号３）'!N78,0)","v":0},{"$f":"IF($D77=\"家族従業員\",'臨時・アルバイト・家族従業員等（６号３）'!O78,0)","v":0},{"$f":"IF($D77=\"家族従業員\",'臨時・アルバイト・家族従業員等（６号３）'!P78,0)","v":0},{"$f":"IF($D77=\"家族従業員\",'臨時・アルバイト・家族従業員等（６号３）'!Q78,0)","v":0},{"$f":"IF($D77=\"家族従業員\",'臨時・アルバイト・家族従業員等（６号３）'!R78,0)","v":0},{"$f":"IF($D77=\"家族従業員\",'臨時・アルバイト・家族従業員等（６号３）'!S78,0)","v":0},{"$f":"IF($D77=\"家族従業員\",'臨時・アルバイト・家族従業員等（６号３）'!T78,0)","v":0},0]
[null,null,null,{"$f":"'臨時・アルバイト・家族従業員等（６号３）'!D79:D80","v":0},null,null,null,null,{"$f":"IF($D79=\"家族従業員\",'臨時・アルバイト・家族従業員等（６号３）'!I79,0)","v":0},{"$f":"IF($D79=\"家族従業員\",'臨時・アルバイト・家族従業員等（６号３）'!J79,0)","v":0},{"$f":"IF($D79=\"家族従業員\",'臨時・アルバイト・家族従業員等（６号３）'!K79,0)","v":0},{"$f":"IF($D79=\"家族従業員\",'臨時・アルバイト・家族従業員等（６号３）'!L79,0)","v":0},{"$f":"IF($D79=\"家族従業員\",'臨時・アルバイト・家族従業員等（６号３）'!M79,0)","v":0},{"$f":"IF($D79=\"家族従業員\",'臨時・アルバイト・家族従業員等（６号３）'!N79,0)","v":0},{"$f":"IF($D79=\"家族従業員\",'臨時・アルバイト・家族従業員等（６号３）'!O79,0)","v":0},{"$f":"IF($D79=\"家族従業員\",'臨時・アルバイト・家族従業員等（６号３）'!P79,0)","v":0},{"$f":"IF($D79=\"家族従業員\",'臨時・アルバイト・家族従業員等（６号３）'!Q79,0)","v":0},{"$f":"IF($D79=\"家族従業員\",'臨時・アルバイト・家族従業員等（６号３）'!R79,0)","v":0},{"$f":"IF($D79=\"家族従業員\",'臨時・アルバイト・家族従業員等（６号３）'!S79,0)","v":0},{"$f":"IF($D79=\"家族従業員\",'臨時・アルバイト・家族従業員等（６号３）'!T79,0)","v":0},0]
[null,null,null,null,null,null,null,null,{"$f":"IF($D79=\"家族従業員\",'臨時・アルバイト・家族従業員等（６号３）'!I80,0)","v":0},{"$f":"IF($D79=\"家族従業員\",'臨時・アルバイト・家族従業員等（６号３）'!J80,0)","v":0},{"$f":"IF($D79=\"家族従業員\",'臨時・アルバイト・家族従業員等（６号３）'!K80,0)","v":0},{"$f":"IF($D79=\"家族従業員\",'臨時・アルバイト・家族従業員等（６号３）'!L80,0)","v":0},{"$f":"IF($D79=\"家族従業員\",'臨時・アルバイト・家族従業員等（６号３）'!M80,0)","v":0},{"$f":"IF($D79=\"家族従業員\",'臨時・アルバイト・家族従業員等（６号３）'!N80,0)","v":0},{"$f":"IF($D79=\"家族従業員\",'臨時・アルバイト・家族従業員等（６号３）'!O80,0)","v":0},{"$f":"IF($D79=\"家族従業員\",'臨時・アルバイト・家族従業員等（６号３）'!P80,0)","v":0},{"$f":"IF($D79=\"家族従業員\",'臨時・アルバイト・家族従業員等（６号３）'!Q80,0)","v":0},{"$f":"IF($D79=\"家族従業員\",'臨時・アルバイト・家族従業員等（６号３）'!R80,0)","v":0},{"$f":"IF($D79=\"家族従業員\",'臨時・アルバイト・家族従業員等（６号３）'!S80,0)","v":0},{"$f":"IF($D79=\"家族従業員\",'臨時・アルバイト・家族従業員等（６号３）'!T80,0)","v":0},0]
[null,null,null,{"$f":"'臨時・アルバイト・家族従業員等（６号３）'!D81:D82","v":0},null,null,null,null,{"$f":"IF($D81=\"家族従業員\",'臨時・アルバイト・家族従業員等（６号３）'!I81,0)","v":0},{"$f":"IF($D81=\"家族従業員\",'臨時・アルバイト・家族従業員等（６号３）'!J81,0)","v":0},{"$f":"IF($D81=\"家族従業員\",'臨時・アルバイト・家族従業員等（６号３）'!K81,0)","v":0},{"$f":"IF($D81=\"家族従業員\",'臨時・アルバイト・家族従業員等（６号３）'!L81,0)","v":0},{"$f":"IF($D81=\"家族従業員\",'臨時・アルバイト・家族従業員等（６号３）'!M81,0)","v":0},{"$f":"IF($D81=\"家族従業員\",'臨時・アルバイト・家族従業員等（６号３）'!N81,0)","v":0},{"$f":"IF($D81=\"家族従業員\",'臨時・アルバイト・家族従業員等（６号３）'!O81,0)","v":0},{"$f":"IF($D81=\"家族従業員\",'臨時・アルバイト・家族従業員等（６号３）'!P81,0)","v":0},{"$f":"IF($D81=\"家族従業員\",'臨時・アルバイト・家族従業員等（６号３）'!Q81,0)","v":0},{"$f":"IF($D81=\"家族従業員\",'臨時・アルバイト・家族従業員等（６号３）'!R81,0)","v":0},{"$f":"IF($D81=\"家族従業員\",'臨時・アルバイト・家族従業員等（６号３）'!S81,0)","v":0},{"$f":"IF($D81=\"家族従業員\",'臨時・アルバイト・家族従業員等（６号３）'!T81,0)","v":0},0]
[null,null,null,null,null,null,null,null,{"$f":"IF($D81=\"家族従業員\",'臨時・アルバイト・家族従業員等（６号３）'!I82,0)","v":0},{"$f":"IF($D81=\"家族従業員\",'臨時・アルバイト・家族従業員等（６号３）'!J82,0)","v":0},{"$f":"IF($D81=\"家族従業員\",'臨時・アルバイト・家族従業員等（６号３）'!K82,0)","v":0},{"$f":"IF($D81=\"家族従業員\",'臨時・アルバイト・家族従業員等（６号３）'!L82,0)","v":0},{"$f":"IF($D81=\"家族従業員\",'臨時・アルバイト・家族従業員等（６号３）'!M82,0)","v":0},{"$f":"IF($D81=\"家族従業員\",'臨時・アルバイト・家族従業員等（６号３）'!N82,0)","v":0},{"$f":"IF($D81=\"家族従業員\",'臨時・アルバイト・家族従業員等（６号３）'!O82,0)","v":0},{"$f":"IF($D81=\"家族従業員\",'臨時・アルバイト・家族従業員等（６号３）'!P82,0)","v":0},{"$f":"IF($D81=\"家族従業員\",'臨時・アルバイト・家族従業員等（６号３）'!Q82,0)","v":0},{"$f":"IF($D81=\"家族従業員\",'臨時・アルバイト・家族従業員等（６号３）'!R82,0)","v":0},{"$f":"IF($D81=\"家族従業員\",'臨時・アルバイト・家族従業員等（６号３）'!S82,0)","v":0},{"$f":"IF($D81=\"家族従業員\",'臨時・アルバイト・家族従業員等（６号３）'!T82,0)","v":0},0]
[null,null,null,{"$f":"'臨時・アルバイト・家族従業員等（６号３）'!D83:D84","v":0},null,null,null,null,{"$f":"IF($D83=\"家族従業員\",'臨時・アルバイト・家族従業員等（６号３）'!I83,0)","v":0},{"$f":"IF($D83=\"家族従業員\",'臨時・アルバイト・家族従業員等（６号３）'!J83,0)","v":0},{"$f":"IF($D83=\"家族従業員\",'臨時・アルバイト・家族従業員等（６号３）'!K83,0)","v":0},{"$f":"IF($D83=\"家族従業員\",'臨時・アルバイト・家族従業員等（６号３）'!L83,0)","v":0},{"$f":"IF($D83=\"家族従業員\",'臨時・アルバイト・家族従業員等（６号３）'!M83,0)","v":0},{"$f":"IF($D83=\"家族従業員\",'臨時・アルバイト・家族従業員等（６号３）'!N83,0)","v":0},{"$f":"IF($D83=\"家族従業員\",'臨時・アルバイト・家族従業員等（６号３）'!O83,0)","v":0},{"$f":"IF($D83=\"家族従業員\",'臨時・アルバイト・家族従業員等（６号３）'!P83,0)","v":0},{"$f":"IF($D83=\"家族従業員\",'臨時・アルバイト・家族従業員等（６号３）'!Q83,0)","v":0},{"$f":"IF($D83=\"家族従業員\",'臨時・アルバイト・家族従業員等（６号３）'!R83,0)","v":0},{"$f":"IF($D83=\"家族従業員\",'臨時・アルバイト・家族従業員等（６号３）'!S83,0)","v":0},{"$f":"IF($D83=\"家族従業員\",'臨時・アルバイト・家族従業員等（６号３）'!T83,0)","v":0},0]
[null,null,null,null,null,null,null,null,{"$f":"IF($D83=\"家族従業員\",'臨時・アルバイト・家族従業員等（６号３）'!I84,0)","v":0},{"$f":"IF($D83=\"家族従業員\",'臨時・アルバイト・家族従業員等（６号３）'!J84,0)","v":0},{"$f":"IF($D83=\"家族従業員\",'臨時・アルバイト・家族従業員等（６号３）'!K84,0)","v":0},{"$f":"IF($D83=\"家族従業員\",'臨時・アルバイト・家族従業員等（６号３）'!L84,0)","v":0},{"$f":"IF($D83=\"家族従業員\",'臨時・アルバイト・家族従業員等（６号３）'!M84,0)","v":0},{"$f":"IF($D83=\"家族従業員\",'臨時・アルバイト・家族従業員等（６号３）'!N84,0)","v":0},{"$f":"IF($D83=\"家族従業員\",'臨時・アルバイト・家族従業員等（６号３）'!O84,0)","v":0},{"$f":"IF($D83=\"家族従業員\",'臨時・アルバイト・家族従業員等（６号３）'!P84,0)","v":0},{"$f":"IF($D83=\"家族従業員\",'臨時・アルバイト・家族従業員等（６号３）'!Q84,0)","v":0},{"$f":"IF($D83=\"家族従業員\",'臨時・アルバイト・家族従業員等（６号３）'!R84,0)","v":0},{"$f":"IF($D83=\"家族従業員\",'臨時・アルバイト・家族従業員等（６号３）'!S84,0)","v":0},{"$f":"IF($D83=\"家族従業員\",'臨時・アルバイト・家族従業員等（６号３）'!T84,0)","v":0},0]
[null,null,null,{"$f":"'臨時・アルバイト・家族従業員等（６号３）'!D85:D86","v":0},null,null,null,null,{"$f":"IF($D85=\"家族従業員\",'臨時・アルバイト・家族従業員等（６号３）'!I85,0)","v":0},{"$f":"IF($D85=\"家族従業員\",'臨時・アルバイト・家族従業員等（６号３）'!J85,0)","v":0},{"$f":"IF($D85=\"家族従業員\",'臨時・アルバイト・家族従業員等（６号３）'!K85,0)","v":0},{"$f":"IF($D85=\"家族従業員\",'臨時・アルバイト・家族従業員等（６号３）'!L85,0)","v":0},{"$f":"IF($D85=\"家族従業員\",'臨時・アルバイト・家族従業員等（６号３）'!M85,0)","v":0},{"$f":"IF($D85=\"家族従業員\",'臨時・アルバイト・家族従業員等（６号３）'!N85,0)","v":0},{"$f":"IF($D85=\"家族従業員\",'臨時・アルバイト・家族従業員等（６号３）'!O85,0)","v":0},{"$f":"IF($D85=\"家族従業員\",'臨時・アルバイト・家族従業員等（６号３）'!P85,0)","v":0},{"$f":"IF($D85=\"家族従業員\",'臨時・アルバイト・家族従業員等（６号３）'!Q85,0)","v":0},{"$f":"IF($D85=\"家族従業員\",'臨時・アルバイト・家族従業員等（６号３）'!R85,0)","v":0},{"$f":"IF($D85=\"家族従業員\",'臨時・アルバイト・家族従業員等（６号３）'!S85,0)","v":0},{"$f":"IF($D85=\"家族従業員\",'臨時・アルバイト・家族従業員等（６号３）'!T85,0)","v":0},0]
[null,null,null,null,null,null,null,null,{"$f":"IF($D85=\"家族従業員\",'臨時・アルバイト・家族従業員等（６号３）'!I86,0)","v":0},{"$f":"IF($D85=\"家族従業員\",'臨時・アルバイト・家族従業員等（６号３）'!J86,0)","v":0},{"$f":"IF($D85=\"家族従業員\",'臨時・アルバイト・家族従業員等（６号３）'!K86,0)","v":0},{"$f":"IF($D85=\"家族従業員\",'臨時・アルバイト・家族従業員等（６号３）'!L86,0)","v":0},{"$f":"IF($D85=\"家族従業員\",'臨時・アルバイト・家族従業員等（６号３）'!M86,0)","v":0},{"$f":"IF($D85=\"家族従業員\",'臨時・アルバイト・家族従業員等（６号３）'!N86,0)","v":0},{"$f":"IF($D85=\"家族従業員\",'臨時・アルバイト・家族従業員等（６号３）'!O86,0)","v":0},{"$f":"IF($D85=\"家族従業員\",'臨時・アルバイト・家族従業員等（６号３）'!P86,0)","v":0},{"$f":"IF($D85=\"家族従業員\",'臨時・アルバイト・家族従業員等（６号３）'!Q86,0)","v":0},{"$f":"IF($D85=\"家族従業員\",'臨時・アルバイト・家族従業員等（６号３）'!R86,0)","v":0},{"$f":"IF($D85=\"家族従業員\",'臨時・アルバイト・家族従業員等（６号３）'!S86,0)","v":0},{"$f":"IF($D85=\"家族従業員\",'臨時・アルバイト・家族従業員等（６号３）'!T86,0)","v":0},0]
[null,null,null,{"$f":"'臨時・アルバイト・家族従業員等（６号３）'!D87:D88","v":0},null,null,null,null,{"$f":"IF($D87=\"家族従業員\",'臨時・アルバイト・家族従業員等（６号３）'!I87,0)","v":0},{"$f":"IF($D87=\"家族従業員\",'臨時・アルバイト・家族従業員等（６号３）'!J87,0)","v":0},{"$f":"IF($D87=\"家族従業員\",'臨時・アルバイト・家族従業員等（６号３）'!K87,0)","v":0},{"$f":"IF($D87=\"家族従業員\",'臨時・アルバイト・家族従業員等（６号３）'!L87,0)","v":0},{"$f":"IF($D87=\"家族従業員\",'臨時・アルバイト・家族従業員等（６号３）'!M87,0)","v":0},{"$f":"IF($D87=\"家族従業員\",'臨時・アルバイト・家族従業員等（６号３）'!N87,0)","v":0},{"$f":"IF($D87=\"家族従業員\",'臨時・アルバイト・家族従業員等（６号３）'!O87,0)","v":0},{"$f":"IF($D87=\"家族従業員\",'臨時・アルバイト・家族従業員等（６号３）'!P87,0)","v":0},{"$f":"IF($D87=\"家族従業員\",'臨時・アルバイト・家族従業員等（６号３）'!Q87,0)","v":0},{"$f":"IF($D87=\"家族従業員\",'臨時・アルバイト・家族従業員等（６号３）'!R87,0)","v":0},{"$f":"IF($D87=\"家族従業員\",'臨時・アルバイト・家族従業員等（６号３）'!S87,0)","v":0},{"$f":"IF($D87=\"家族従業員\",'臨時・アルバイト・家族従業員等（６号３）'!T87,0)","v":0},0]
[null,null,null,null,null,null,null,null,{"$f":"IF($D87=\"家族従業員\",'臨時・アルバイト・家族従業員等（６号３）'!I88,0)","v":0},{"$f":"IF($D87=\"家族従業員\",'臨時・アルバイト・家族従業員等（６号３）'!J88,0)","v":0},{"$f":"IF($D87=\"家族従業員\",'臨時・アルバイト・家族従業員等（６号３）'!K88,0)","v":0},{"$f":"IF($D87=\"家族従業員\",'臨時・アルバイト・家族従業員等（６号３）'!L88,0)","v":0},{"$f":"IF($D87=\"家族従業員\",'臨時・アルバイト・家族従業員等（６号３）'!M88,0)","v":0},{"$f":"IF($D87=\"家族従業員\",'臨時・アルバイト・家族従業員等（６号３）'!N88,0)","v":0},{"$f":"IF($D87=\"家族従業員\",'臨時・アルバイト・家族従業員等（６号３）'!O88,0)","v":0},{"$f":"IF($D87=\"家族従業員\",'臨時・アルバイト・家族従業員等（６号３）'!P88,0)","v":0},{"$f":"IF($D87=\"家族従業員\",'臨時・アルバイト・家族従業員等（６号３）'!Q88,0)","v":0},{"$f":"IF($D87=\"家族従業員\",'臨時・アルバイト・家族従業員等（６号３）'!R88,0)","v":0},{"$f":"IF($D87=\"家族従業員\",'臨時・アルバイト・家族従業員等（６号３）'!S88,0)","v":0},{"$f":"IF($D87=\"家族従業員\",'臨時・アルバイト・家族従業員等（６号３）'!T88,0)","v":0},0]
[null,null,null,{"$f":"'臨時・アルバイト・家族従業員等（６号３）'!D89:D90","v":0},null,null,null,null,{"$f":"IF($D89=\"家族従業員\",'臨時・アルバイト・家族従業員等（６号３）'!I89,0)","v":0},{"$f":"IF($D89=\"家族従業員\",'臨時・アルバイト・家族従業員等（６号３）'!J89,0)","v":0},{"$f":"IF($D89=\"家族従業員\",'臨時・アルバイト・家族従業員等（６号３）'!K89,0)","v":0},{"$f":"IF($D89=\"家族従業員\",'臨時・アルバイト・家族従業員等（６号３）'!L89,0)","v":0},{"$f":"IF($D89=\"家族従業員\",'臨時・アルバイト・家族従業員等（６号３）'!M89,0)","v":0},{"$f":"IF($D89=\"家族従業員\",'臨時・アルバイト・家族従業員等（６号３）'!N89,0)","v":0},{"$f":"IF($D89=\"家族従業員\",'臨時・アルバイト・家族従業員等（６号３）'!O89,0)","v":0},{"$f":"IF($D89=\"家族従業員\",'臨時・アルバイト・家族従業員等（６号３）'!P89,0)","v":0},{"$f":"IF($D89=\"家族従業員\",'臨時・アルバイト・家族従業員等（６号３）'!Q89,0)","v":0},{"$f":"IF($D89=\"家族従業員\",'臨時・アルバイト・家族従業員等（６号３）'!R89,0)","v":0},{"$f":"IF($D89=\"家族従業員\",'臨時・アルバイト・家族従業員等（６号３）'!S89,0)","v":0},{"$f":"IF($D89=\"家族従業員\",'臨時・アルバイト・家族従業員等（６号３）'!T89,0)","v":0},0]
[null,null,null,null,null,null,null,null,{"$f":"IF($D89=\"家族従業員\",'臨時・アルバイト・家族従業員等（６号３）'!I90,0)","v":0},{"$f":"IF($D89=\"家族従業員\",'臨時・アルバイト・家族従業員等（６号３）'!J90,0)","v":0},{"$f":"IF($D89=\"家族従業員\",'臨時・アルバイト・家族従業員等（６号３）'!K90,0)","v":0},{"$f":"IF($D89=\"家族従業員\",'臨時・アルバイト・家族従業員等（６号３）'!L90,0)","v":0},{"$f":"IF($D89=\"家族従業員\",'臨時・アルバイト・家族従業員等（６号３）'!M90,0)","v":0},{"$f":"IF($D89=\"家族従業員\",'臨時・アルバイト・家族従業員等（６号３）'!N90,0)","v":0},{"$f":"IF($D89=\"家族従業員\",'臨時・アルバイト・家族従業員等（６号３）'!O90,0)","v":0},{"$f":"IF($D89=\"家族従業員\",'臨時・アルバイト・家族従業員等（６号３）'!P90,0)","v":0},{"$f":"IF($D89=\"家族従業員\",'臨時・アルバイト・家族従業員等（６号３）'!Q90,0)","v":0},{"$f":"IF($D89=\"家族従業員\",'臨時・アルバイト・家族従業員等（６号３）'!R90,0)","v":0},{"$f":"IF($D89=\"家族従業員\",'臨時・アルバイト・家族従業員等（６号３）'!S90,0)","v":0},{"$f":"IF($D89=\"家族従業員\",'臨時・アルバイト・家族従業員等（６号３）'!T90,0)","v":0},0]
[null,null,null,{"$f":"'臨時・アルバイト・家族従業員等（６号３）'!D91:D92","v":0},null,null,null,null,{"$f":"IF($D91=\"家族従業員\",'臨時・アルバイト・家族従業員等（６号３）'!I91,0)","v":0},{"$f":"IF($D91=\"家族従業員\",'臨時・アルバイト・家族従業員等（６号３）'!J91,0)","v":0},{"$f":"IF($D91=\"家族従業員\",'臨時・アルバイト・家族従業員等（６号３）'!K91,0)","v":0},{"$f":"IF($D91=\"家族従業員\",'臨時・アルバイト・家族従業員等（６号３）'!L91,0)","v":0},{"$f":"IF($D91=\"家族従業員\",'臨時・アルバイト・家族従業員等（６号３）'!M91,0)","v":0},{"$f":"IF($D91=\"家族従業員\",'臨時・アルバイト・家族従業員等（６号３）'!N91,0)","v":0},{"$f":"IF($D91=\"家族従業員\",'臨時・アルバイト・家族従業員等（６号３）'!O91,0)","v":0},{"$f":"IF($D91=\"家族従業員\",'臨時・アルバイト・家族従業員等（６号３）'!P91,0)","v":0},{"$f":"IF($D91=\"家族従業員\",'臨時・アルバイト・家族従業員等（６号３）'!Q91,0)","v":0},{"$f":"IF($D91=\"家族従業員\",'臨時・アルバイト・家族従業員等（６号３）'!R91,0)","v":0},{"$f":"IF($D91=\"家族従業員\",'臨時・アルバイト・家族従業員等（６号３）'!S91,0)","v":0},{"$f":"IF($D91=\"家族従業員\",'臨時・アルバイト・家族従業員等（６号３）'!T91,0)","v":0},0]
[null,null,null,null,null,null,null,null,{"$f":"IF($D91=\"家族従業員\",'臨時・アルバイト・家族従業員等（６号３）'!I92,0)","v":0},{"$f":"IF($D91=\"家族従業員\",'臨時・アルバイト・家族従業員等（６号３）'!J92,0)","v":0},{"$f":"IF($D91=\"家族従業員\",'臨時・アルバイト・家族従業員等（６号３）'!K92,0)","v":0},{"$f":"IF($D91=\"家族従業員\",'臨時・アルバイト・家族従業員等（６号３）'!L92,0)","v":0},{"$f":"IF($D91=\"家族従業員\",'臨時・アルバイト・家族従業員等（６号３）'!M92,0)","v":0},{"$f":"IF($D91=\"家族従業員\",'臨時・アルバイト・家族従業員等（６号３）'!N92,0)","v":0},{"$f":"IF($D91=\"家族従業員\",'臨時・アルバイト・家族従業員等（６号３）'!O92,0)","v":0},{"$f":"IF($D91=\"家族従業員\",'臨時・アルバイト・家族従業員等（６号３）'!P92,0)","v":0},{"$f":"IF($D91=\"家族従業員\",'臨時・アルバイト・家族従業員等（６号３）'!Q92,0)","v":0},{"$f":"IF($D91=\"家族従業員\",'臨時・アルバイト・家族従業員等（６号３）'!R92,0)","v":0},{"$f":"IF($D91=\"家族従業員\",'臨時・アルバイト・家族従業員等（６号３）'!S92,0)","v":0},{"$f":"IF($D91=\"家族従業員\",'臨時・アルバイト・家族従業員等（６号３）'!T92,0)","v":0},0]
[null,null,null,{"$f":"'臨時・アルバイト・家族従業員等（６号３）'!D93:D94","v":0},null,null,null,null,{"$f":"IF($D93=\"家族従業員\",'臨時・アルバイト・家族従業員等（６号３）'!I93,0)","v":0},{"$f":"IF($D93=\"家族従業員\",'臨時・アルバイト・家族従業員等（６号３）'!J93,0)","v":0},{"$f":"IF($D93=\"家族従業員\",'臨時・アルバイト・家族従業員等（６号３）'!K93,0)","v":0},{"$f":"IF($D93=\"家族従業員\",'臨時・アルバイト・家族従業員等（６号３）'!L93,0)","v":0},{"$f":"IF($D93=\"家族従業員\",'臨時・アルバイト・家族従業員等（６号３）'!M93,0)","v":0},{"$f":"IF($D93=\"家族従業員\",'臨時・アルバイト・家族従業員等（６号３）'!N93,0)","v":0},{"$f":"IF($D93=\"家族従業員\",'臨時・アルバイト・家族従業員等（６号３）'!O93,0)","v":0},{"$f":"IF($D93=\"家族従業員\",'臨時・アルバイト・家族従業員等（６号３）'!P93,0)","v":0},{"$f":"IF($D93=\"家族従業員\",'臨時・アルバイト・家族従業員等（６号３）'!Q93,0)","v":0},{"$f":"IF($D93=\"家族従業員\",'臨時・アルバイト・家族従業員等（６号３）'!R93,0)","v":0},{"$f":"IF($D93=\"家族従業員\",'臨時・アルバイト・家族従業員等（６号３）'!S93,0)","v":0},{"$f":"IF($D93=\"家族従業員\",'臨時・アルバイト・家族従業員等（６号３）'!T93,0)","v":0},0]
[null,null,null,null,null,null,null,null,{"$f":"IF($D93=\"家族従業員\",'臨時・アルバイト・家族従業員等（６号３）'!I94,0)","v":0},{"$f":"IF($D93=\"家族従業員\",'臨時・アルバイト・家族従業員等（６号３）'!J94,0)","v":0},{"$f":"IF($D93=\"家族従業員\",'臨時・アルバイト・家族従業員等（６号３）'!K94,0)","v":0},{"$f":"IF($D93=\"家族従業員\",'臨時・アルバイト・家族従業員等（６号３）'!L94,0)","v":0},{"$f":"IF($D93=\"家族従業員\",'臨時・アルバイト・家族従業員等（６号３）'!M94,0)","v":0},{"$f":"IF($D93=\"家族従業員\",'臨時・アルバイト・家族従業員等（６号３）'!N94,0)","v":0},{"$f":"IF($D93=\"家族従業員\",'臨時・アルバイト・家族従業員等（６号３）'!O94,0)","v":0},{"$f":"IF($D93=\"家族従業員\",'臨時・アルバイト・家族従業員等（６号３）'!P94,0)","v":0},{"$f":"IF($D93=\"家族従業員\",'臨時・アルバイト・家族従業員等（６号３）'!Q94,0)","v":0},{"$f":"IF($D93=\"家族従業員\",'臨時・アルバイト・家族従業員等（６号３）'!R94,0)","v":0},{"$f":"IF($D93=\"家族従業員\",'臨時・アルバイト・家族従業員等（６号３）'!S94,0)","v":0},{"$f":"IF($D93=\"家族従業員\",'臨時・アルバイト・家族従業員等（６号３）'!T94,0)","v":0},0]
[null,null,null,{"$f":"'臨時・アルバイト・家族従業員等（６号３）'!D95:D96","v":0},null,null,null,null,{"$f":"IF($D95=\"家族従業員\",'臨時・アルバイト・家族従業員等（６号３）'!I95,0)","v":0},{"$f":"IF($D95=\"家族従業員\",'臨時・アルバイト・家族従業員等（６号３）'!J95,0)","v":0},{"$f":"IF($D95=\"家族従業員\",'臨時・アルバイト・家族従業員等（６号３）'!K95,0)","v":0},{"$f":"IF($D95=\"家族従業員\",'臨時・アルバイト・家族従業員等（６号３）'!L95,0)","v":0},{"$f":"IF($D95=\"家族従業員\",'臨時・アルバイト・家族従業員等（６号３）'!M95,0)","v":0},{"$f":"IF($D95=\"家族従業員\",'臨時・アルバイト・家族従業員等（６号３）'!N95,0)","v":0},{"$f":"IF($D95=\"家族従業員\",'臨時・アルバイト・家族従業員等（６号３）'!O95,0)","v":0},{"$f":"IF($D95=\"家族従業員\",'臨時・アルバイト・家族従業員等（６号３）'!P95,0)","v":0},{"$f":"IF($D95=\"家族従業員\",'臨時・アルバイト・家族従業員等（６号３）'!Q95,0)","v":0},{"$f":"IF($D95=\"家族従業員\",'臨時・アルバイト・家族従業員等（６号３）'!R95,0)","v":0},{"$f":"IF($D95=\"家族従業員\",'臨時・アルバイト・家族従業員等（６号３）'!S95,0)","v":0},{"$f":"IF($D95=\"家族従業員\",'臨時・アルバイト・家族従業員等（６号３）'!T95,0)","v":0},0]
[null,null,null,null,null,null,null,null,{"$f":"IF($D95=\"家族従業員\",'臨時・アルバイト・家族従業員等（６号３）'!I96,0)","v":0},{"$f":"IF($D95=\"家族従業員\",'臨時・アルバイト・家族従業員等（６号３）'!J96,0)","v":0},{"$f":"IF($D95=\"家族従業員\",'臨時・アルバイト・家族従業員等（６号３）'!K96,0)","v":0},{"$f":"IF($D95=\"家族従業員\",'臨時・アルバイト・家族従業員等（６号３）'!L96,0)","v":0},{"$f":"IF($D95=\"家族従業員\",'臨時・アルバイト・家族従業員等（６号３）'!M96,0)","v":0},{"$f":"IF($D95=\"家族従業員\",'臨時・アルバイト・家族従業員等（６号３）'!N96,0)","v":0},{"$f":"IF($D95=\"家族従業員\",'臨時・アルバイト・家族従業員等（６号３）'!O96,0)","v":0},{"$f":"IF($D95=\"家族従業員\",'臨時・アルバイト・家族従業員等（６号３）'!P96,0)","v":0},{"$f":"IF($D95=\"家族従業員\",'臨時・アルバイト・家族従業員等（６号３）'!Q96,0)","v":0},{"$f":"IF($D95=\"家族従業員\",'臨時・アルバイト・家族従業員等（６号３）'!R96,0)","v":0},{"$f":"IF($D95=\"家族従業員\",'臨時・アルバイト・家族従業員等（６号３）'!S96,0)","v":0},{"$f":"IF($D95=\"家族従業員\",'臨時・アルバイト・家族従業員等（６号３）'!T96,0)","v":0},0]
[null,null,null,{"$f":"'臨時・アルバイト・家族従業員等（６号３）'!D97:D98","v":0},null,null,null,null,{"$f":"IF($D97=\"家族従業員\",'臨時・アルバイト・家族従業員等（６号３）'!I97,0)","v":0},{"$f":"IF($D97=\"家族従業員\",'臨時・アルバイト・家族従業員等（６号３）'!J97,0)","v":0},{"$f":"IF($D97=\"家族従業員\",'臨時・アルバイト・家族従業員等（６号３）'!K97,0)","v":0},{"$f":"IF($D97=\"家族従業員\",'臨時・アルバイト・家族従業員等（６号３）'!L97,0)","v":0},{"$f":"IF($D97=\"家族従業員\",'臨時・アルバイト・家族従業員等（６号３）'!M97,0)","v":0},{"$f":"IF($D97=\"家族従業員\",'臨時・アルバイト・家族従業員等（６号３）'!N97,0)","v":0},{"$f":"IF($D97=\"家族従業員\",'臨時・アルバイト・家族従業員等（６号３）'!O97,0)","v":0},{"$f":"IF($D97=\"家族従業員\",'臨時・アルバイト・家族従業員等（６号３）'!P97,0)","v":0},{"$f":"IF($D97=\"家族従業員\",'臨時・アルバイト・家族従業員等（６号３）'!Q97,0)","v":0},{"$f":"IF($D97=\"家族従業員\",'臨時・アルバイト・家族従業員等（６号３）'!R97,0)","v":0},{"$f":"IF($D97=\"家族従業員\",'臨時・アルバイト・家族従業員等（６号３）'!S97,0)","v":0},{"$f":"IF($D97=\"家族従業員\",'臨時・アルバイト・家族従業員等（６号３）'!T97,0)","v":0},0]
[null,null,null,null,null,null,null,null,{"$f":"IF($D97=\"家族従業員\",'臨時・アルバイト・家族従業員等（６号３）'!I98,0)","v":0},{"$f":"IF($D97=\"家族従業員\",'臨時・アルバイト・家族従業員等（６号３）'!J98,0)","v":0},{"$f":"IF($D97=\"家族従業員\",'臨時・アルバイト・家族従業員等（６号３）'!K98,0)","v":0},{"$f":"IF($D97=\"家族従業員\",'臨時・アルバイト・家族従業員等（６号３）'!L98,0)","v":0},{"$f":"IF($D97=\"家族従業員\",'臨時・アルバイト・家族従業員等（６号３）'!M98,0)","v":0},{"$f":"IF($D97=\"家族従業員\",'臨時・アルバイト・家族従業員等（６号３）'!N98,0)","v":0},{"$f":"IF($D97=\"家族従業員\",'臨時・アルバイト・家族従業員等（６号３）'!O98,0)","v":0},{"$f":"IF($D97=\"家族従業員\",'臨時・アルバイト・家族従業員等（６号３）'!P98,0)","v":0},{"$f":"IF($D97=\"家族従業員\",'臨時・アルバイト・家族従業員等（６号３）'!Q98,0)","v":0},{"$f":"IF($D97=\"家族従業員\",'臨時・アルバイト・家族従業員等（６号３）'!R98,0)","v":0},{"$f":"IF($D97=\"家族従業員\",'臨時・アルバイト・家族従業員等（６号３）'!S98,0)","v":0},{"$f":"IF($D97=\"家族従業員\",'臨時・アルバイト・家族従業員等（６号３）'!T98,0)","v":0},0]
[null,null,null,{"$f":"'臨時・アルバイト・家族従業員等（６号３）'!D99:D100","v":0},null,null,null,null,{"$f":"IF($D99=\"家族従業員\",'臨時・アルバイト・家族従業員等（６号３）'!I99,0)","v":0},{"$f":"IF($D99=\"家族従業員\",'臨時・アルバイト・家族従業員等（６号３）'!J99,0)","v":0},{"$f":"IF($D99=\"家族従業員\",'臨時・アルバイト・家族従業員等（６号３）'!K99,0)","v":0},{"$f":"IF($D99=\"家族従業員\",'臨時・アルバイト・家族従業員等（６号３）'!L99,0)","v":0},{"$f":"IF($D99=\"家族従業員\",'臨時・アルバイト・家族従業員等（６号３）'!M99,0)","v":0},{"$f":"IF($D99=\"家族従業員\",'臨時・アルバイト・家族従業員等（６号３）'!N99,0)","v":0},{"$f":"IF($D99=\"家族従業員\",'臨時・アルバイト・家族従業員等（６号３）'!O99,0)","v":0},{"$f":"IF($D99=\"家族従業員\",'臨時・アルバイト・家族従業員等（６号３）'!P99,0)","v":0},{"$f":"IF($D99=\"家族従業員\",'臨時・アルバイト・家族従業員等（６号３）'!Q99,0)","v":0},{"$f":"IF($D99=\"家族従業員\",'臨時・アルバイト・家族従業員等（６号３）'!R99,0)","v":0},{"$f":"IF($D99=\"家族従業員\",'臨時・アルバイト・家族従業員等（６号３）'!S99,0)","v":0},{"$f":"IF($D99=\"家族従業員\",'臨時・アルバイト・家族従業員等（６号３）'!T99,0)","v":0},0]
[null,null,null,null,null,null,null,null,{"$f":"IF($D99=\"家族従業員\",'臨時・アルバイト・家族従業員等（６号３）'!I100,0)","v":0},{"$f":"IF($D99=\"家族従業員\",'臨時・アルバイト・家族従業員等（６号３）'!J100,0)","v":0},{"$f":"IF($D99=\"家族従業員\",'臨時・アルバイト・家族従業員等（６号３）'!K100,0)","v":0},{"$f":"IF($D99=\"家族従業員\",'臨時・アルバイト・家族従業員等（６号３）'!L100,0)","v":0},{"$f":"IF($D99=\"家族従業員\",'臨時・アルバイト・家族従業員等（６号３）'!M100,0)","v":0},{"$f":"IF($D99=\"家族従業員\",'臨時・アルバイト・家族従業員等（６号３）'!N100,0)","v":0},{"$f":"IF($D99=\"家族従業員\",'臨時・アルバイト・家族従業員等（６号３）'!O100,0)","v":0},{"$f":"IF($D99=\"家族従業員\",'臨時・アルバイト・家族従業員等（６号３）'!P100,0)","v":0},{"$f":"IF($D99=\"家族従業員\",'臨時・アルバイト・家族従業員等（６号３）'!Q100,0)","v":0},{"$f":"IF($D99=\"家族従業員\",'臨時・アルバイト・家族従業員等（６号３）'!R100,0)","v":0},{"$f":"IF($D99=\"家族従業員\",'臨時・アルバイト・家族従業員等（６号３）'!S100,0)","v":0},{"$f":"IF($D99=\"家族従業員\",'臨時・アルバイト・家族従業員等（６号３）'!T100,0)","v":0},0]
[null,null,null,{"$f":"'臨時・アルバイト・家族従業員等（６号３）'!D101:D102","v":0},null,null,null,null,{"$f":"IF($D101=\"家族従業員\",'臨時・アルバイト・家族従業員等（６号３）'!I101,0)","v":0},{"$f":"IF($D101=\"家族従業員\",'臨時・アルバイト・家族従業員等（６号３）'!J101,0)","v":0},{"$f":"IF($D101=\"家族従業員\",'臨時・アルバイト・家族従業員等（６号３）'!K101,0)","v":0},{"$f":"IF($D101=\"家族従業員\",'臨時・アルバイト・家族従業員等（６号３）'!L101,0)","v":0},{"$f":"IF($D101=\"家族従業員\",'臨時・アルバイト・家族従業員等（６号３）'!M101,0)","v":0},{"$f":"IF($D101=\"家族従業員\",'臨時・アルバイト・家族従業員等（６号３）'!N101,0)","v":0},{"$f":"IF($D101=\"家族従業員\",'臨時・アルバイト・家族従業員等（６号３）'!O101,0)","v":0},{"$f":"IF($D101=\"家族従業員\",'臨時・アルバイト・家族従業員等（６号３）'!P101,0)","v":0},{"$f":"IF($D101=\"家族従業員\",'臨時・アルバイト・家族従業員等（６号３）'!Q101,0)","v":0},{"$f":"IF($D101=\"家族従業員\",'臨時・アルバイト・家族従業員等（６号３）'!R101,0)","v":0},{"$f":"IF($D101=\"家族従業員\",'臨時・アルバイト・家族従業員等（６号３）'!S101,0)","v":0},{"$f":"IF($D101=\"家族従業員\",'臨時・アルバイト・家族従業員等（６号３）'!T101,0)","v":0},0]
[null,null,null,null,null,null,null,null,{"$f":"IF($D101=\"家族従業員\",'臨時・アルバイト・家族従業員等（６号３）'!I102,0)","v":0},{"$f":"IF($D101=\"家族従業員\",'臨時・アルバイト・家族従業員等（６号３）'!J102,0)","v":0},{"$f":"IF($D101=\"家族従業員\",'臨時・アルバイト・家族従業員等（６号３）'!K102,0)","v":0},{"$f":"IF($D101=\"家族従業員\",'臨時・アルバイト・家族従業員等（６号３）'!L102,0)","v":0},{"$f":"IF($D101=\"家族従業員\",'臨時・アルバイト・家族従業員等（６号３）'!M102,0)","v":0},{"$f":"IF($D101=\"家族従業員\",'臨時・アルバイト・家族従業員等（６号３）'!N102,0)","v":0},{"$f":"IF($D101=\"家族従業員\",'臨時・アルバイト・家族従業員等（６号３）'!O102,0)","v":0},{"$f":"IF($D101=\"家族従業員\",'臨時・アルバイト・家族従業員等（６号３）'!P102,0)","v":0},{"$f":"IF($D101=\"家族従業員\",'臨時・アルバイト・家族従業員等（６号３）'!Q102,0)","v":0},{"$f":"IF($D101=\"家族従業員\",'臨時・アルバイト・家族従業員等（６号３）'!R102,0)","v":0},{"$f":"IF($D101=\"家族従業員\",'臨時・アルバイト・家族従業員等（６号３）'!S102,0)","v":0},{"$f":"IF($D101=\"家族従業員\",'臨時・アルバイト・家族従業員等（６号３）'!T102,0)","v":0},0]
[null,"家族従業員の合計",null,null,null,null,null,null,{"$f":"I63+I65+I67+I69+I71+I73+I75+I77+I79+I81+I83+I85+I87+I89+I91+I93+I95+I97+I99+I101","v":0},{"$f":"J63+J65+J67+J69+J71+J73+J75+J77+J79+J81+J83+J85+J87+J89+J91+J93+J95+J97+J99+J101","v":0},0,0,0,0,0,{"$f":"P63+P65+P67+P69+P71+P73+P75+P77+P79+P81+P83+P85+P87+P89+P91+P93+P95+P97+P99+P101","v":0},0,0,0,0,0]
[null,null,null,null,null,null,null,null,{"$f":"I64+I66+I68+I70+I72+I74+I76+I78+I80+I82+I84+I86+I88+I90+I92+I94+I96+I98+I100+I102","v":0},{"$f":"J64+J66+J68+J70+J72+J74+J76+J78+J80+J82+J84+J86+J88+J90+J92+J94+J96+J98+J100+J102","v":0},{"$f":"K64+K66+K68+K70+K72+K74+K76+K78+K80+K82+K84+K86+K88+K90+K92+K94+K96+K98+K100+K102","v":0},{"$f":"L64+L66+L68+L70+L72+L74+L76+L78+L80+L82+L84+L86+L88+L90+L92+L94+L96+L98+L100+L102","v":0},{"$f":"M64+M66+M68+M70+M72+M74+M76+M78+M80+M82+M84+M86+M88+M90+M92+M94+M96+M98+M100+M102","v":0},{"$f":"N64+N66+N68+N70+N72+N74+N76+N78+N80+N82+N84+N86+N88+N90+N92+N94+N96+N98+N100+N102","v":0},{"$f":"O64+O66+O68+O70+O72+O74+O76+O78+O80+O82+O84+O86+O88+O90+O92+O94+O96+O98+O100+O102","v":0},0,0,0,0,0,{"$f":"U64+U66+U68+U70+U72+U74+U76+U78+U80+U82+U84+U86+U88+U90+U92+U94+U96+U98+U100+U102","v":0}]
[null,"臨時・アルバイト・家族従業員の合計",null,null,null,null,null,null,{"$f":"IF('臨時・アルバイト・家族従業員等（６号３）'!I103=\"\",0,'臨時・アルバイト・家族従業員等（６号３）'!I103)","v":0},{"$f":"IF('臨時・アルバイト・家族従業員等（６号３）'!J103=\"\",0,'臨時・アルバイト・家族従業員等（６号３）'!J103)","v":0},{"$f":"IF('臨時・アルバイト・家族従業員等（６号３）'!K103=\"\",0,'臨時・アルバイト・家族従業員等（６号３）'!K103)","v":0},{"$f":"IF('臨時・アルバイト・家族従業員等（６号３）'!L103=\"\",0,'臨時・アルバイト・家族従業員等（６号３）'!L103)","v":0},{"$f":"IF('臨時・アルバイト・家族従業員等（６号３）'!M103=\"\",0,'臨時・アルバイト・家族従業員等（６号３）'!M103)","v":0},{"$f":"IF('臨時・アルバイト・家族従業員等（６号３）'!N103=\"\",0,'臨時・アルバイト・家族従業員等（６号３）'!N103)","v":0},{"$f":"IF('臨時・アルバイト・家族従業員等（６号３）'!O103=\"\",0,'臨時・アルバイト・家族従業員等（６号３）'!O103)","v":0},{"$f":"IF('臨時・アルバイト・家族従業員等（６号３）'!P103=\"\",0,'臨時・アルバイト・家族従業員等（６号３）'!P103)","v":0},{"$f":"IF('臨時・アルバイト・家族従業員等（６号３）'!Q103=\"\",0,'臨時・アルバイト・家族従業員等（６号３）'!Q103)","v":0},{"$f":"IF('臨時・アルバイト・家族従業員等（６号３）'!R103=\"\",0,'臨時・アルバイト・家族従業員等（６号３）'!R103)","v":0},{"$f":"IF('臨時・アルバイト・家族従業員等（６号３）'!S103=\"\",0,'臨時・アルバイト・家族従業員等（６号３）'!S103)","v":0},{"$f":"IF('臨時・アルバイト・家族従業員等（６号３）'!T103=\"\",0,'臨時・アルバイト・家族従業員等（６号３）'!T103)","v":0},{"$f":"IF('臨時・アルバイト・家族従業員等（６号３）'!U103=\"\",0,'臨時・アルバイト・家族従業員等（６号３）'!U103)","v":0}]
[null,null,null,null,null,null,null,null,{"$f":"IF('臨時・アルバイト・家族従業員等（６号３）'!I104=\"\",0,'臨時・アルバイト・家族従業員等（６号３）'!I104)","v":0},{"$f":"IF('臨時・アルバイト・家族従業員等（６号３）'!J104=\"\",0,'臨時・アルバイト・家族従業員等（６号３）'!J104)","v":0},{"$f":"IF('臨時・アルバイト・家族従業員等（６号３）'!K104=\"\",0,'臨時・アルバイト・家族従業員等（６号３）'!K104)","v":0},{"$f":"IF('臨時・アルバイト・家族従業員等（６号３）'!L104=\"\",0,'臨時・アルバイト・家族従業員等（６号３）'!L104)","v":0},{"$f":"IF('臨時・アルバイト・家族従業員等（６号３）'!M104=\"\",0,'臨時・アルバイト・家族従業員等（６号３）'!M104)","v":0},{"$f":"IF('臨時・アルバイト・家族従業員等（６号３）'!N104=\"\",0,'臨時・アルバイト・家族従業員等（６号３）'!N104)","v":0},{"$f":"IF('臨時・アルバイト・家族従業員等（６号３）'!O104=\"\",0,'臨時・アルバイト・家族従業員等（６号３）'!O104)","v":0},{"$f":"IF('臨時・アルバイト・家族従業員等（６号３）'!P104=\"\",0,'臨時・アルバイト・家族従業員等（６号３）'!P104)","v":0},{"$f":"IF('臨時・アルバイト・家族従業員等（６号３）'!Q104=\"\",0,'臨時・アルバイト・家族従業員等（６号３）'!Q104)","v":0},{"$f":"IF('臨時・アルバイト・家族従業員等（６号３）'!R104=\"\",0,'臨時・アルバイト・家族従業員等（６号３）'!R104)","v":0},{"$f":"IF('臨時・アルバイト・家族従業員等（６号３）'!S104=\"\",0,'臨時・アルバイト・家族従業員等（６号３）'!S104)","v":0},{"$f":"IF('臨時・アルバイト・家族従業員等（６号３）'!T104=\"\",0,'臨時・アルバイト・家族従業員等（６号３）'!T104)","v":0},{"$f":"IF('臨時・アルバイト・家族従業員等（６号３）'!U104=\"\",0,'臨時・アルバイト・家族従業員等（６号３）'!U104)","v":0}]
[]
[]
[null,null,null,null,null,null,null,null,null,null,null,null,null,null,null,null,null,null,"　　記載例　　","３５０，０００　←　賞与等"]
[null,null,null,null,null,null,null,null,null,null,null,null,null,null,null,null,null,null,null,"２００，０００　←　賃　金"]
[]
[null,"監　様式６号の３　（別表３）",null,null,null,null,null,null,"　　　　　　３．　　賃　　金　　支　　払　　集　　計　　表"]
[null,null,null,null,null,null,null,null,null,"　　　　　　　（ 臨 時 ・ ア ル バ イ ト ・ 家 族 従 業 員 等 ）"]
[]
[null,"氏　　　　名",null,"雇用形態","職　　種","生年月日","雇　 入\n年月日","離　 職\n年月日","令和３年４月","令和３年５月","令和３年６月","令和３年７月","令和３年８月","令和３年９月","令和３年１０月","令和３年１１月","令和３年１２月","令和４年１月","令和４年２月","令和４年３月","年度計"]
[]
[]
[null,null,null,{"$f":"'臨時・アルバイト・家族従業員等（６号３）'!D118:D119","v":0},null,null,null,null,{"$f":"IF($D118=\"家族従業員\",'臨時・アルバイト・家族従業員等（６号３）'!I118,0)","v":0},{"$f":"IF($D118=\"家族従業員\",'臨時・アルバイト・家族従業員等（６号３）'!J118,0)","v":0},{"$f":"IF($D118=\"家族従業員\",'臨時・アルバイト・家族従業員等（６号３）'!K118,0)","v":0},{"$f":"IF($D118=\"家族従業員\",'臨時・アルバイト・家族従業員等（６号３）'!L118,0)","v":0},{"$f":"IF($D118=\"家族従業員\",'臨時・アルバイト・家族従業員等（６号３）'!M118,0)","v":0},{"$f":"IF($D118=\"家族従業員\",'臨時・アルバイト・家族従業員等（６号３）'!N118,0)","v":0},{"$f":"IF($D118=\"家族従業員\",'臨時・アルバイト・家族従業員等（６号３）'!O118,0)","v":0},{"$f":"IF($D118=\"家族従業員\",'臨時・アルバイト・家族従業員等（６号３）'!P118,0)","v":0},{"$f":"IF($D118=\"家族従業員\",'臨時・アルバイト・家族従業員等（６号３）'!Q118,0)","v":0},{"$f":"IF($D118=\"家族従業員\",'臨時・アルバイト・家族従業員等（６号３）'!R118,0)","v":0},{"$f":"IF($D118=\"家族従業員\",'臨時・アルバイト・家族従業員等（６号３）'!S118,0)","v":0},{"$f":"IF($D118=\"家族従業員\",'臨時・アルバイト・家族従業員等（６号３）'!T118,0)","v":0},{"$f":"SUM(I118:T118)","v":0}]
[null,null,null,null,null,null,null,null,{"$f":"IF($D118=\"家族従業員\",'臨時・アルバイト・家族従業員等（６号３）'!I119,0)","v":0},{"$f":"IF($D118=\"家族従業員\",'臨時・アルバイト・家族従業員等（６号３）'!J119,0)","v":0},{"$f":"IF($D118=\"家族従業員\",'臨時・アルバイト・家族従業員等（６号３）'!K119,0)","v":0},{"$f":"IF($D118=\"家族従業員\",'臨時・アルバイト・家族従業員等（６号３）'!L119,0)","v":0},{"$f":"IF($D118=\"家族従業員\",'臨時・アルバイト・家族従業員等（６号３）'!M119,0)","v":0},{"$f":"IF($D118=\"家族従業員\",'臨時・アルバイト・家族従業員等（６号３）'!N119,0)","v":0},{"$f":"IF($D118=\"家族従業員\",'臨時・アルバイト・家族従業員等（６号３）'!O119,0)","v":0},{"$f":"IF($D118=\"家族従業員\",'臨時・アルバイト・家族従業員等（６号３）'!P119,0)","v":0},{"$f":"IF($D118=\"家族従業員\",'臨時・アルバイト・家族従業員等（６号３）'!Q119,0)","v":0},{"$f":"IF($D118=\"家族従業員\",'臨時・アルバイト・家族従業員等（６号３）'!R119,0)","v":0},{"$f":"IF($D118=\"家族従業員\",'臨時・アルバイト・家族従業員等（６号３）'!S119,0)","v":0},{"$f":"IF($D118=\"家族従業員\",'臨時・アルバイト・家族従業員等（６号３）'!T119,0)","v":0},{"$f":"SUM(I119:T119)","v":0}]
[null,null,null,{"$f":"'臨時・アルバイト・家族従業員等（６号３）'!D120:D121","v":0},null,null,null,null,{"$f":"IF($D120=\"家族従業員\",'臨時・アルバイト・家族従業員等（６号３）'!I120,0)","v":0},{"$f":"IF($D120=\"家族従業員\",'臨時・アルバイト・家族従業員等（６号３）'!J120,0)","v":0},{"$f":"IF($D120=\"家族従業員\",'臨時・アルバイト・家族従業員等（６号３）'!K120,0)","v":0},{"$f":"IF($D120=\"家族従業員\",'臨時・アルバイト・家族従業員等（６号３）'!L120,0)","v":0},{"$f":"IF($D120=\"家族従業員\",'臨時・アルバイト・家族従業員等（６号３）'!M120,0)","v":0},{"$f":"IF($D120=\"家族従業員\",'臨時・アルバイト・家族従業員等（６号３）'!N120,0)","v":0},{"$f":"IF($D120=\"家族従業員\",'臨時・アルバイト・家族従業員等（６号３）'!O120,0)","v":0},{"$f":"IF($D120=\"家族従業員\",'臨時・アルバイト・家族従業員等（６号３）'!P120,0)","v":0},{"$f":"IF($D120=\"家族従業員\",'臨時・アルバイト・家族従業員等（６号３）'!Q120,0)","v":0},{"$f":"IF($D120=\"家族従業員\",'臨時・アルバイト・家族従業員等（６号３）'!R120,0)","v":0},{"$f":"IF($D120=\"家族従業員\",'臨時・アルバイト・家族従業員等（６号３）'!S120,0)","v":0},{"$f":"IF($D120=\"家族従業員\",'臨時・アルバイト・家族従業員等（６号３）'!T120,0)","v":0},0]
[null,null,null,null,null,null,null,null,{"$f":"IF($D120=\"家族従業員\",'臨時・アルバイト・家族従業員等（６号３）'!I121,0)","v":0},{"$f":"IF($D120=\"家族従業員\",'臨時・アルバイト・家族従業員等（６号３）'!J121,0)","v":0},{"$f":"IF($D120=\"家族従業員\",'臨時・アルバイト・家族従業員等（６号３）'!K121,0)","v":0},{"$f":"IF($D120=\"家族従業員\",'臨時・アルバイト・家族従業員等（６号３）'!L121,0)","v":0},{"$f":"IF($D120=\"家族従業員\",'臨時・アルバイト・家族従業員等（６号３）'!M121,0)","v":0},{"$f":"IF($D120=\"家族従業員\",'臨時・アルバイト・家族従業員等（６号３）'!N121,0)","v":0},{"$f":"IF($D120=\"家族従業員\",'臨時・アルバイト・家族従業員等（６号３）'!O121,0)","v":0},{"$f":"IF($D120=\"家族従業員\",'臨時・アルバイト・家族従業員等（６号３）'!P121,0)","v":0},{"$f":"IF($D120=\"家族従業員\",'臨時・アルバイト・家族従業員等（６号３）'!Q121,0)","v":0},{"$f":"IF($D120=\"家族従業員\",'臨時・アルバイト・家族従業員等（６号３）'!R121,0)","v":0},{"$f":"IF($D120=\"家族従業員\",'臨時・アルバイト・家族従業員等（６号３）'!S121,0)","v":0},{"$f":"IF($D120=\"家族従業員\",'臨時・アルバイト・家族従業員等（６号３）'!T121,0)","v":0},0]
[null,null,null,{"$f":"'臨時・アルバイト・家族従業員等（６号３）'!D122:D123","v":0},null,null,null,null,{"$f":"IF($D122=\"家族従業員\",'臨時・アルバイト・家族従業員等（６号３）'!I122,0)","v":0},{"$f":"IF($D122=\"家族従業員\",'臨時・アルバイト・家族従業員等（６号３）'!J122,0)","v":0},{"$f":"IF($D122=\"家族従業員\",'臨時・アルバイト・家族従業員等（６号３）'!K122,0)","v":0},{"$f":"IF($D122=\"家族従業員\",'臨時・アルバイト・家族従業員等（６号３）'!L122,0)","v":0},{"$f":"IF($D122=\"家族従業員\",'臨時・アルバイト・家族従業員等（６号３）'!M122,0)","v":0},{"$f":"IF($D122=\"家族従業員\",'臨時・アルバイト・家族従業員等（６号３）'!N122,0)","v":0},{"$f":"IF($D122=\"家族従業員\",'臨時・アルバイト・家族従業員等（６号３）'!O122,0)","v":0},{"$f":"IF($D122=\"家族従業員\",'臨時・アルバイト・家族従業員等（６号３）'!P122,0)","v":0},{"$f":"IF($D122=\"家族従業員\",'臨時・アルバイト・家族従業員等（６号３）'!Q122,0)","v":0},{"$f":"IF($D122=\"家族従業員\",'臨時・アルバイト・家族従業員等（６号３）'!R122,0)","v":0},{"$f":"IF($D122=\"家族従業員\",'臨時・アルバイト・家族従業員等（６号３）'!S122,0)","v":0},{"$f":"IF($D122=\"家族従業員\",'臨時・アルバイト・家族従業員等（６号３）'!T122,0)","v":0},0]
[null,null,null,null,null,null,null,null,{"$f":"IF($D122=\"家族従業員\",'臨時・アルバイト・家族従業員等（６号３）'!I123,0)","v":0},{"$f":"IF($D122=\"家族従業員\",'臨時・アルバイト・家族従業員等（６号３）'!J123,0)","v":0},{"$f":"IF($D122=\"家族従業員\",'臨時・アルバイト・家族従業員等（６号３）'!K123,0)","v":0},{"$f":"IF($D122=\"家族従業員\",'臨時・アルバイト・家族従業員等（６号３）'!L123,0)","v":0},{"$f":"IF($D122=\"家族従業員\",'臨時・アルバイト・家族従業員等（６号３）'!M123,0)","v":0},{"$f":"IF($D122=\"家族従業員\",'臨時・アルバイト・家族従業員等（６号３）'!N123,0)","v":0},{"$f":"IF($D122=\"家族従業員\",'臨時・アルバイト・家族従業員等（６号３）'!O123,0)","v":0},{"$f":"IF($D122=\"家族従業員\",'臨時・アルバイト・家族従業員等（６号３）'!P123,0)","v":0},{"$f":"IF($D122=\"家族従業員\",'臨時・アルバイト・家族従業員等（６号３）'!Q123,0)","v":0},{"$f":"IF($D122=\"家族従業員\",'臨時・アルバイト・家族従業員等（６号３）'!R123,0)","v":0},{"$f":"IF($D122=\"家族従業員\",'臨時・アルバイト・家族従業員等（６号３）'!S123,0)","v":0},{"$f":"IF($D122=\"家族従業員\",'臨時・アルバイト・家族従業員等（６号３）'!T123,0)","v":0},0]
[null,null,null,{"$f":"'臨時・アルバイト・家族従業員等（６号３）'!D124:D125","v":0},null,null,null,null,{"$f":"IF($D124=\"家族従業員\",'臨時・アルバイト・家族従業員等（６号３）'!I124,0)","v":0},{"$f":"IF($D124=\"家族従業員\",'臨時・アルバイト・家族従業員等（６号３）'!J124,0)","v":0},{"$f":"IF($D124=\"家族従業員\",'臨時・アルバイト・家族従業員等（６号３）'!K124,0)","v":0},{"$f":"IF($D124=\"家族従業員\",'臨時・アルバイト・家族従業員等（６号３）'!L124,0)","v":0},{"$f":"IF($D124=\"家族従業員\",'臨時・アルバイト・家族従業員等（６号３）'!M124,0)","v":0},{"$f":"IF($D124=\"家族従業員\",'臨時・アルバイト・家族従業員等（６号３）'!N124,0)","v":0},{"$f":"IF($D124=\"家族従業員\",'臨時・アルバイト・家族従業員等（６号３）'!O124,0)","v":0},{"$f":"IF($D124=\"家族従業員\",'臨時・アルバイト・家族従業員等（６号３）'!P124,0)","v":0},{"$f":"IF($D124=\"家族従業員\",'臨時・アルバイト・家族従業員等（６号３）'!Q124,0)","v":0},{"$f":"IF($D124=\"家族従業員\",'臨時・アルバイト・家族従業員等（６号３）'!R124,0)","v":0},{"$f":"IF($D124=\"家族従業員\",'臨時・アルバイト・家族従業員等（６号３）'!S124,0)","v":0},{"$f":"IF($D124=\"家族従業員\",'臨時・アルバイト・家族従業員等（６号３）'!T124,0)","v":0},0]
[null,null,null,null,null,null,null,null,{"$f":"IF($D124=\"家族従業員\",'臨時・アルバイト・家族従業員等（６号３）'!I125,0)","v":0},{"$f":"IF($D124=\"家族従業員\",'臨時・アルバイト・家族従業員等（６号３）'!J125,0)","v":0},{"$f":"IF($D124=\"家族従業員\",'臨時・アルバイト・家族従業員等（６号３）'!K125,0)","v":0},{"$f":"IF($D124=\"家族従業員\",'臨時・アルバイト・家族従業員等（６号３）'!L125,0)","v":0},{"$f":"IF($D124=\"家族従業員\",'臨時・アルバイト・家族従業員等（６号３）'!M125,0)","v":0},{"$f":"IF($D124=\"家族従業員\",'臨時・アルバイト・家族従業員等（６号３）'!N125,0)","v":0},{"$f":"IF($D124=\"家族従業員\",'臨時・アルバイト・家族従業員等（６号３）'!O125,0)","v":0},{"$f":"IF($D124=\"家族従業員\",'臨時・アルバイト・家族従業員等（６号３）'!P125,0)","v":0},{"$f":"IF($D124=\"家族従業員\",'臨時・アルバイト・家族従業員等（６号３）'!Q125,0)","v":0},{"$f":"IF($D124=\"家族従業員\",'臨時・アルバイト・家族従業員等（６号３）'!R125,0)","v":0},{"$f":"IF($D124=\"家族従業員\",'臨時・アルバイト・家族従業員等（６号３）'!S125,0)","v":0},{"$f":"IF($D124=\"家族従業員\",'臨時・アルバイト・家族従業員等（６号３）'!T125,0)","v":0},0]
[null,null,null,{"$f":"'臨時・アルバイト・家族従業員等（６号３）'!D126:D127","v":0},null,null,null,null,{"$f":"IF($D126=\"家族従業員\",'臨時・アルバイト・家族従業員等（６号３）'!I126,0)","v":0},{"$f":"IF($D126=\"家族従業員\",'臨時・アルバイト・家族従業員等（６号３）'!J126,0)","v":0},{"$f":"IF($D126=\"家族従業員\",'臨時・アルバイト・家族従業員等（６号３）'!K126,0)","v":0},{"$f":"IF($D126=\"家族従業員\",'臨時・アルバイト・家族従業員等（６号３）'!L126,0)","v":0},{"$f":"IF($D126=\"家族従業員\",'臨時・アルバイト・家族従業員等（６号３）'!M126,0)","v":0},{"$f":"IF($D126=\"家族従業員\",'臨時・アルバイト・家族従業員等（６号３）'!N126,0)","v":0},{"$f":"IF($D126=\"家族従業員\",'臨時・アルバイト・家族従業員等（６号３）'!O126,0)","v":0},{"$f":"IF($D126=\"家族従業員\",'臨時・アルバイト・家族従業員等（６号３）'!P126,0)","v":0},{"$f":"IF($D126=\"家族従業員\",'臨時・アルバイト・家族従業員等（６号３）'!Q126,0)","v":0},{"$f":"IF($D126=\"家族従業員\",'臨時・アルバイト・家族従業員等（６号３）'!R126,0)","v":0},{"$f":"IF($D126=\"家族従業員\",'臨時・アルバイト・家族従業員等（６号３）'!S126,0)","v":0},{"$f":"IF($D126=\"家族従業員\",'臨時・アルバイト・家族従業員等（６号３）'!T126,0)","v":0},0]
[null,null,null,null,null,null,null,null,{"$f":"IF($D126=\"家族従業員\",'臨時・アルバイト・家族従業員等（６号３）'!I127,0)","v":0},{"$f":"IF($D126=\"家族従業員\",'臨時・アルバイト・家族従業員等（６号３）'!J127,0)","v":0},{"$f":"IF($D126=\"家族従業員\",'臨時・アルバイト・家族従業員等（６号３）'!K127,0)","v":0},{"$f":"IF($D126=\"家族従業員\",'臨時・アルバイト・家族従業員等（６号３）'!L127,0)","v":0},{"$f":"IF($D126=\"家族従業員\",'臨時・アルバイト・家族従業員等（６号３）'!M127,0)","v":0},{"$f":"IF($D126=\"家族従業員\",'臨時・アルバイト・家族従業員等（６号３）'!N127,0)","v":0},{"$f":"IF($D126=\"家族従業員\",'臨時・アルバイト・家族従業員等（６号３）'!O127,0)","v":0},{"$f":"IF($D126=\"家族従業員\",'臨時・アルバイト・家族従業員等（６号３）'!P127,0)","v":0},{"$f":"IF($D126=\"家族従業員\",'臨時・アルバイト・家族従業員等（６号３）'!Q127,0)","v":0},{"$f":"IF($D126=\"家族従業員\",'臨時・アルバイト・家族従業員等（６号３）'!R127,0)","v":0},{"$f":"IF($D126=\"家族従業員\",'臨時・アルバイト・家族従業員等（６号３）'!S127,0)","v":0},{"$f":"IF($D126=\"家族従業員\",'臨時・アルバイト・家族従業員等（６号３）'!T127,0)","v":0},0]
[null,null,null,{"$f":"'臨時・アルバイト・家族従業員等（６号３）'!D128:D129","v":0},null,null,null,null,{"$f":"IF($D128=\"家族従業員\",'臨時・アルバイト・家族従業員等（６号３）'!I128,0)","v":0},{"$f":"IF($D128=\"家族従業員\",'臨時・アルバイト・家族従業員等（６号３）'!J128,0)","v":0},{"$f":"IF($D128=\"家族従業員\",'臨時・アルバイト・家族従業員等（６号３）'!K128,0)","v":0},{"$f":"IF($D128=\"家族従業員\",'臨時・アルバイト・家族従業員等（６号３）'!L128,0)","v":0},{"$f":"IF($D128=\"家族従業員\",'臨時・アルバイト・家族従業員等（６号３）'!M128,0)","v":0},{"$f":"IF($D128=\"家族従業員\",'臨時・アルバイト・家族従業員等（６号３）'!N128,0)","v":0},{"$f":"IF($D128=\"家族従業員\",'臨時・アルバイト・家族従業員等（６号３）'!O128,0)","v":0},{"$f":"IF($D128=\"家族従業員\",'臨時・アルバイト・家族従業員等（６号３）'!P128,0)","v":0},{"$f":"IF($D128=\"家族従業員\",'臨時・アルバイト・家族従業員等（６号３）'!Q128,0)","v":0},{"$f":"IF($D128=\"家族従業員\",'臨時・アルバイト・家族従業員等（６号３）'!R128,0)","v":0},{"$f":"IF($D128=\"家族従業員\",'臨時・アルバイト・家族従業員等（６号３）'!S128,0)","v":0},{"$f":"IF($D128=\"家族従業員\",'臨時・アルバイト・家族従業員等（６号３）'!T128,0)","v":0},0]
[null,null,null,null,null,null,null,null,{"$f":"IF($D128=\"家族従業員\",'臨時・アルバイト・家族従業員等（６号３）'!I129,0)","v":0},{"$f":"IF($D128=\"家族従業員\",'臨時・アルバイト・家族従業員等（６号３）'!J129,0)","v":0},{"$f":"IF($D128=\"家族従業員\",'臨時・アルバイト・家族従業員等（６号３）'!K129,0)","v":0},{"$f":"IF($D128=\"家族従業員\",'臨時・アルバイト・家族従業員等（６号３）'!L129,0)","v":0},{"$f":"IF($D128=\"家族従業員\",'臨時・アルバイト・家族従業員等（６号３）'!M129,0)","v":0},{"$f":"IF($D128=\"家族従業員\",'臨時・アルバイト・家族従業員等（６号３）'!N129,0)","v":0},{"$f":"IF($D128=\"家族従業員\",'臨時・アルバイト・家族従業員等（６号３）'!O129,0)","v":0},{"$f":"IF($D128=\"家族従業員\",'臨時・アルバイト・家族従業員等（６号３）'!P129,0)","v":0},{"$f":"IF($D128=\"家族従業員\",'臨時・アルバイト・家族従業員等（６号３）'!Q129,0)","v":0},{"$f":"IF($D128=\"家族従業員\",'臨時・アルバイト・家族従業員等（６号３）'!R129,0)","v":0},{"$f":"IF($D128=\"家族従業員\",'臨時・アルバイト・家族従業員等（６号３）'!S129,0)","v":0},{"$f":"IF($D128=\"家族従業員\",'臨時・アルバイト・家族従業員等（６号３）'!T129,0)","v":0},0]
[null,null,null,{"$f":"'臨時・アルバイト・家族従業員等（６号３）'!D130:D131","v":0},null,null,null,null,{"$f":"IF($D130=\"家族従業員\",'臨時・アルバイト・家族従業員等（６号３）'!I130,0)","v":0},{"$f":"IF($D130=\"家族従業員\",'臨時・アルバイト・家族従業員等（６号３）'!J130,0)","v":0},{"$f":"IF($D130=\"家族従業員\",'臨時・アルバイト・家族従業員等（６号３）'!K130,0)","v":0},{"$f":"IF($D130=\"家族従業員\",'臨時・アルバイト・家族従業員等（６号３）'!L130,0)","v":0},{"$f":"IF($D130=\"家族従業員\",'臨時・アルバイト・家族従業員等（６号３）'!M130,0)","v":0},{"$f":"IF($D130=\"家族従業員\",'臨時・アルバイト・家族従業員等（６号３）'!N130,0)","v":0},{"$f":"IF($D130=\"家族従業員\",'臨時・アルバイト・家族従業員等（６号３）'!O130,0)","v":0},{"$f":"IF($D130=\"家族従業員\",'臨時・アルバイト・家族従業員等（６号３）'!P130,0)","v":0},{"$f":"IF($D130=\"家族従業員\",'臨時・アルバイト・家族従業員等（６号３）'!Q130,0)","v":0},{"$f":"IF($D130=\"家族従業員\",'臨時・アルバイト・家族従業員等（６号３）'!R130,0)","v":0},{"$f":"IF($D130=\"家族従業員\",'臨時・アルバイト・家族従業員等（６号３）'!S130,0)","v":0},{"$f":"IF($D130=\"家族従業員\",'臨時・アルバイト・家族従業員等（６号３）'!T130,0)","v":0},0]
[null,null,null,null,null,null,null,null,{"$f":"IF($D130=\"家族従業員\",'臨時・アルバイト・家族従業員等（６号３）'!I131,0)","v":0},{"$f":"IF($D130=\"家族従業員\",'臨時・アルバイト・家族従業員等（６号３）'!J131,0)","v":0},{"$f":"IF($D130=\"家族従業員\",'臨時・アルバイト・家族従業員等（６号３）'!K131,0)","v":0},{"$f":"IF($D130=\"家族従業員\",'臨時・アルバイト・家族従業員等（６号３）'!L131,0)","v":0},{"$f":"IF($D130=\"家族従業員\",'臨時・アルバイト・家族従業員等（６号３）'!M131,0)","v":0},{"$f":"IF($D130=\"家族従業員\",'臨時・アルバイト・家族従業員等（６号３）'!N131,0)","v":0},{"$f":"IF($D130=\"家族従業員\",'臨時・アルバイト・家族従業員等（６号３）'!O131,0)","v":0},{"$f":"IF($D130=\"家族従業員\",'臨時・アルバイト・家族従業員等（６号３）'!P131,0)","v":0},{"$f":"IF($D130=\"家族従業員\",'臨時・アルバイト・家族従業員等（６号３）'!Q131,0)","v":0},{"$f":"IF($D130=\"家族従業員\",'臨時・アルバイト・家族従業員等（６号３）'!R131,0)","v":0},{"$f":"IF($D130=\"家族従業員\",'臨時・アルバイト・家族従業員等（６号３）'!S131,0)","v":0},{"$f":"IF($D130=\"家族従業員\",'臨時・アルバイト・家族従業員等（６号３）'!T131,0)","v":0},0]
[null,null,null,{"$f":"'臨時・アルバイト・家族従業員等（６号３）'!D132:D133","v":0},null,null,null,null,{"$f":"IF($D132=\"家族従業員\",'臨時・アルバイト・家族従業員等（６号３）'!I132,0)","v":0},{"$f":"IF($D132=\"家族従業員\",'臨時・アルバイト・家族従業員等（６号３）'!J132,0)","v":0},{"$f":"IF($D132=\"家族従業員\",'臨時・アルバイト・家族従業員等（６号３）'!K132,0)","v":0},{"$f":"IF($D132=\"家族従業員\",'臨時・アルバイト・家族従業員等（６号３）'!L132,0)","v":0},{"$f":"IF($D132=\"家族従業員\",'臨時・アルバイト・家族従業員等（６号３）'!M132,0)","v":0},{"$f":"IF($D132=\"家族従業員\",'臨時・アルバイト・家族従業員等（６号３）'!N132,0)","v":0},{"$f":"IF($D132=\"家族従業員\",'臨時・アルバイト・家族従業員等（６号３）'!O132,0)","v":0},{"$f":"IF($D132=\"家族従業員\",'臨時・アルバイト・家族従業員等（６号３）'!P132,0)","v":0},{"$f":"IF($D132=\"家族従業員\",'臨時・アルバイト・家族従業員等（６号３）'!Q132,0)","v":0},{"$f":"IF($D132=\"家族従業員\",'臨時・アルバイト・家族従業員等（６号３）'!R132,0)","v":0},{"$f":"IF($D132=\"家族従業員\",'臨時・アルバイト・家族従業員等（６号３）'!S132,0)","v":0},{"$f":"IF($D132=\"家族従業員\",'臨時・アルバイト・家族従業員等（６号３）'!T132,0)","v":0},0]
[null,null,null,null,null,null,null,null,{"$f":"IF($D132=\"家族従業員\",'臨時・アルバイト・家族従業員等（６号３）'!I133,0)","v":0},{"$f":"IF($D132=\"家族従業員\",'臨時・アルバイト・家族従業員等（６号３）'!J133,0)","v":0},{"$f":"IF($D132=\"家族従業員\",'臨時・アルバイト・家族従業員等（６号３）'!K133,0)","v":0},{"$f":"IF($D132=\"家族従業員\",'臨時・アルバイト・家族従業員等（６号３）'!L133,0)","v":0},{"$f":"IF($D132=\"家族従業員\",'臨時・アルバイト・家族従業員等（６号３）'!M133,0)","v":0},{"$f":"IF($D132=\"家族従業員\",'臨時・アルバイト・家族従業員等（６号３）'!N133,0)","v":0},{"$f":"IF($D132=\"家族従業員\",'臨時・アルバイト・家族従業員等（６号３）'!O133,0)","v":0},{"$f":"IF($D132=\"家族従業員\",'臨時・アルバイト・家族従業員等（６号３）'!P133,0)","v":0},{"$f":"IF($D132=\"家族従業員\",'臨時・アルバイト・家族従業員等（６号３）'!Q133,0)","v":0},{"$f":"IF($D132=\"家族従業員\",'臨時・アルバイト・家族従業員等（６号３）'!R133,0)","v":0},{"$f":"IF($D132=\"家族従業員\",'臨時・アルバイト・家族従業員等（６号３）'!S133,0)","v":0},{"$f":"IF($D132=\"家族従業員\",'臨時・アルバイト・家族従業員等（６号３）'!T133,0)","v":0},0]
[null,null,null,{"$f":"'臨時・アルバイト・家族従業員等（６号３）'!D134:D135","v":0},null,null,null,null,{"$f":"IF($D134=\"家族従業員\",'臨時・アルバイト・家族従業員等（６号３）'!I134,0)","v":0},{"$f":"IF($D134=\"家族従業員\",'臨時・アルバイト・家族従業員等（６号３）'!J134,0)","v":0},{"$f":"IF($D134=\"家族従業員\",'臨時・アルバイト・家族従業員等（６号３）'!K134,0)","v":0},{"$f":"IF($D134=\"家族従業員\",'臨時・アルバイト・家族従業員等（６号３）'!L134,0)","v":0},{"$f":"IF($D134=\"家族従業員\",'臨時・アルバイト・家族従業員等（６号３）'!M134,0)","v":0},{"$f":"IF($D134=\"家族従業員\",'臨時・アルバイト・家族従業員等（６号３）'!N134,0)","v":0},{"$f":"IF($D134=\"家族従業員\",'臨時・アルバイト・家族従業員等（６号３）'!O134,0)","v":0},{"$f":"IF($D134=\"家族従業員\",'臨時・アルバイト・家族従業員等（６号３）'!P134,0)","v":0},{"$f":"IF($D134=\"家族従業員\",'臨時・アルバイト・家族従業員等（６号３）'!Q134,0)","v":0},{"$f":"IF($D134=\"家族従業員\",'臨時・アルバイト・家族従業員等（６号３）'!R134,0)","v":0},{"$f":"IF($D134=\"家族従業員\",'臨時・アルバイト・家族従業員等（６号３）'!S134,0)","v":0},{"$f":"IF($D134=\"家族従業員\",'臨時・アルバイト・家族従業員等（６号３）'!T134,0)","v":0},0]
[null,null,null,null,null,null,null,null,{"$f":"IF($D134=\"家族従業員\",'臨時・アルバイト・家族従業員等（６号３）'!I135,0)","v":0},{"$f":"IF($D134=\"家族従業員\",'臨時・アルバイト・家族従業員等（６号３）'!J135,0)","v":0},{"$f":"IF($D134=\"家族従業員\",'臨時・アルバイト・家族従業員等（６号３）'!K135,0)","v":0},{"$f":"IF($D134=\"家族従業員\",'臨時・アルバイト・家族従業員等（６号３）'!L135,0)","v":0},{"$f":"IF($D134=\"家族従業員\",'臨時・アルバイト・家族従業員等（６号３）'!M135,0)","v":0},{"$f":"IF($D134=\"家族従業員\",'臨時・アルバイト・家族従業員等（６号３）'!N135,0)","v":0},{"$f":"IF($D134=\"家族従業員\",'臨時・アルバイト・家族従業員等（６号３）'!O135,0)","v":0},{"$f":"IF($D134=\"家族従業員\",'臨時・アルバイト・家族従業員等（６号３）'!P135,0)","v":0},{"$f":"IF($D134=\"家族従業員\",'臨時・アルバイト・家族従業員等（６号３）'!Q135,0)","v":0},{"$f":"IF($D134=\"家族従業員\",'臨時・アルバイト・家族従業員等（６号３）'!R135,0)","v":0},{"$f":"IF($D134=\"家族従業員\",'臨時・アルバイト・家族従業員等（６号３）'!S135,0)","v":0},{"$f":"IF($D134=\"家族従業員\",'臨時・アルバイト・家族従業員等（６号３）'!T135,0)","v":0},0]
[null,null,null,{"$f":"'臨時・アルバイト・家族従業員等（６号３）'!D136:D137","v":0},null,null,null,null,{"$f":"IF($D136=\"家族従業員\",'臨時・アルバイト・家族従業員等（６号３）'!I136,0)","v":0},{"$f":"IF($D136=\"家族従業員\",'臨時・アルバイト・家族従業員等（６号３）'!J136,0)","v":0},{"$f":"IF($D136=\"家族従業員\",'臨時・アルバイト・家族従業員等（６号３）'!K136,0)","v":0},{"$f":"IF($D136=\"家族従業員\",'臨時・アルバイト・家族従業員等（６号３）'!L136,0)","v":0},{"$f":"IF($D136=\"家族従業員\",'臨時・アルバイト・家族従業員等（６号３）'!M136,0)","v":0},{"$f":"IF($D136=\"家族従業員\",'臨時・アルバイト・家族従業員等（６号３）'!N136,0)","v":0},{"$f":"IF($D136=\"家族従業員\",'臨時・アルバイト・家族従業員等（６号３）'!O136,0)","v":0},{"$f":"IF($D136=\"家族従業員\",'臨時・アルバイト・家族従業員等（６号３）'!P136,0)","v":0},{"$f":"IF($D136=\"家族従業員\",'臨時・アルバイト・家族従業員等（６号３）'!Q136,0)","v":0},{"$f":"IF($D136=\"家族従業員\",'臨時・アルバイト・家族従業員等（６号３）'!R136,0)","v":0},{"$f":"IF($D136=\"家族従業員\",'臨時・アルバイト・家族従業員等（６号３）'!S136,0)","v":0},{"$f":"IF($D136=\"家族従業員\",'臨時・アルバイト・家族従業員等（６号３）'!T136,0)","v":0},0]
[null,null,null,null,null,null,null,null,{"$f":"IF($D136=\"家族従業員\",'臨時・アルバイト・家族従業員等（６号３）'!I137,0)","v":0},{"$f":"IF($D136=\"家族従業員\",'臨時・アルバイト・家族従業員等（６号３）'!J137,0)","v":0},{"$f":"IF($D136=\"家族従業員\",'臨時・アルバイト・家族従業員等（６号３）'!K137,0)","v":0},{"$f":"IF($D136=\"家族従業員\",'臨時・アルバイト・家族従業員等（６号３）'!L137,0)","v":0},{"$f":"IF($D136=\"家族従業員\",'臨時・アルバイト・家族従業員等（６号３）'!M137,0)","v":0},{"$f":"IF($D136=\"家族従業員\",'臨時・アルバイト・家族従業員等（６号３）'!N137,0)","v":0},{"$f":"IF($D136=\"家族従業員\",'臨時・アルバイト・家族従業員等（６号３）'!O137,0)","v":0},{"$f":"IF($D136=\"家族従業員\",'臨時・アルバイト・家族従業員等（６号３）'!P137,0)","v":0},{"$f":"IF($D136=\"家族従業員\",'臨時・アルバイト・家族従業員等（６号３）'!Q137,0)","v":0},{"$f":"IF($D136=\"家族従業員\",'臨時・アルバイト・家族従業員等（６号３）'!R137,0)","v":0},{"$f":"IF($D136=\"家族従業員\",'臨時・アルバイト・家族従業員等（６号３）'!S137,0)","v":0},{"$f":"IF($D136=\"家族従業員\",'臨時・アルバイト・家族従業員等（６号３）'!T137,0)","v":0},0]
[null,null,null,{"$f":"'臨時・アルバイト・家族従業員等（６号３）'!D138:D139","v":0},null,null,null,null,{"$f":"IF($D138=\"家族従業員\",'臨時・アルバイト・家族従業員等（６号３）'!I138,0)","v":0},{"$f":"IF($D138=\"家族従業員\",'臨時・アルバイト・家族従業員等（６号３）'!J138,0)","v":0},{"$f":"IF($D138=\"家族従業員\",'臨時・アルバイト・家族従業員等（６号３）'!K138,0)","v":0},{"$f":"IF($D138=\"家族従業員\",'臨時・アルバイト・家族従業員等（６号３）'!L138,0)","v":0},{"$f":"IF($D138=\"家族従業員\",'臨時・アルバイト・家族従業員等（６号３）'!M138,0)","v":0},{"$f":"IF($D138=\"家族従業員\",'臨時・アルバイト・家族従業員等（６号３）'!N138,0)","v":0},{"$f":"IF($D138=\"家族従業員\",'臨時・アルバイト・家族従業員等（６号３）'!O138,0)","v":0},{"$f":"IF($D138=\"家族従業員\",'臨時・アルバイト・家族従業員等（６号３）'!P138,0)","v":0},{"$f":"IF($D138=\"家族従業員\",'臨時・アルバイト・家族従業員等（６号３）'!Q138,0)","v":0},{"$f":"IF($D138=\"家族従業員\",'臨時・アルバイト・家族従業員等（６号３）'!R138,0)","v":0},{"$f":"IF($D138=\"家族従業員\",'臨時・アルバイト・家族従業員等（６号３）'!S138,0)","v":0},{"$f":"IF($D138=\"家族従業員\",'臨時・アルバイト・家族従業員等（６号３）'!T138,0)","v":0},0]
[null,null,null,null,null,null,null,null,{"$f":"IF($D138=\"家族従業員\",'臨時・アルバイト・家族従業員等（６号３）'!I139,0)","v":0},{"$f":"IF($D138=\"家族従業員\",'臨時・アルバイト・家族従業員等（６号３）'!J139,0)","v":0},{"$f":"IF($D138=\"家族従業員\",'臨時・アルバイト・家族従業員等（６号３）'!K139,0)","v":0},{"$f":"IF($D138=\"家族従業員\",'臨時・アルバイト・家族従業員等（６号３）'!L139,0)","v":0},{"$f":"IF($D138=\"家族従業員\",'臨時・アルバイト・家族従業員等（６号３）'!M139,0)","v":0},{"$f":"IF($D138=\"家族従業員\",'臨時・アルバイト・家族従業員等（６号３）'!N139,0)","v":0},{"$f":"IF($D138=\"家族従業員\",'臨時・アルバイト・家族従業員等（６号３）'!O139,0)","v":0},{"$f":"IF($D138=\"家族従業員\",'臨時・アルバイト・家族従業員等（６号３）'!P139,0)","v":0},{"$f":"IF($D138=\"家族従業員\",'臨時・アルバイト・家族従業員等（６号３）'!Q139,0)","v":0},{"$f":"IF($D138=\"家族従業員\",'臨時・アルバイト・家族従業員等（６号３）'!R139,0)","v":0},{"$f":"IF($D138=\"家族従業員\",'臨時・アルバイト・家族従業員等（６号３）'!S139,0)","v":0},{"$f":"IF($D138=\"家族従業員\",'臨時・アルバイト・家族従業員等（６号３）'!T139,0)","v":0},0]
[null,null,null,{"$f":"'臨時・アルバイト・家族従業員等（６号３）'!D140:D141","v":0},null,null,null,null,{"$f":"IF($D140=\"家族従業員\",'臨時・アルバイト・家族従業員等（６号３）'!I140,0)","v":0},{"$f":"IF($D140=\"家族従業員\",'臨時・アルバイト・家族従業員等（６号３）'!J140,0)","v":0},{"$f":"IF($D140=\"家族従業員\",'臨時・アルバイト・家族従業員等（６号３）'!K140,0)","v":0},{"$f":"IF($D140=\"家族従業員\",'臨時・アルバイト・家族従業員等（６号３）'!L140,0)","v":0},{"$f":"IF($D140=\"家族従業員\",'臨時・アルバイト・家族従業員等（６号３）'!M140,0)","v":0},{"$f":"IF($D140=\"家族従業員\",'臨時・アルバイト・家族従業員等（６号３）'!N140,0)","v":0},{"$f":"IF($D140=\"家族従業員\",'臨時・アルバイト・家族従業員等（６号３）'!O140,0)","v":0},{"$f":"IF($D140=\"家族従業員\",'臨時・アルバイト・家族従業員等（６号３）'!P140,0)","v":0},{"$f":"IF($D140=\"家族従業員\",'臨時・アルバイト・家族従業員等（６号３）'!Q140,0)","v":0},{"$f":"IF($D140=\"家族従業員\",'臨時・アルバイト・家族従業員等（６号３）'!R140,0)","v":0},{"$f":"IF($D140=\"家族従業員\",'臨時・アルバイト・家族従業員等（６号３）'!S140,0)","v":0},{"$f":"IF($D140=\"家族従業員\",'臨時・アルバイト・家族従業員等（６号３）'!T140,0)","v":0},0]
[null,null,null,null,null,null,null,null,{"$f":"IF($D140=\"家族従業員\",'臨時・アルバイト・家族従業員等（６号３）'!I141,0)","v":0},{"$f":"IF($D140=\"家族従業員\",'臨時・アルバイト・家族従業員等（６号３）'!J141,0)","v":0},{"$f":"IF($D140=\"家族従業員\",'臨時・アルバイト・家族従業員等（６号３）'!K141,0)","v":0},{"$f":"IF($D140=\"家族従業員\",'臨時・アルバイト・家族従業員等（６号３）'!L141,0)","v":0},{"$f":"IF($D140=\"家族従業員\",'臨時・アルバイト・家族従業員等（６号３）'!M141,0)","v":0},{"$f":"IF($D140=\"家族従業員\",'臨時・アルバイト・家族従業員等（６号３）'!N141,0)","v":0},{"$f":"IF($D140=\"家族従業員\",'臨時・アルバイト・家族従業員等（６号３）'!O141,0)","v":0},{"$f":"IF($D140=\"家族従業員\",'臨時・アルバイト・家族従業員等（６号３）'!P141,0)","v":0},{"$f":"IF($D140=\"家族従業員\",'臨時・アルバイト・家族従業員等（６号３）'!Q141,0)","v":0},{"$f":"IF($D140=\"家族従業員\",'臨時・アルバイト・家族従業員等（６号３）'!R141,0)","v":0},{"$f":"IF($D140=\"家族従業員\",'臨時・アルバイト・家族従業員等（６号３）'!S141,0)","v":0},{"$f":"IF($D140=\"家族従業員\",'臨時・アルバイト・家族従業員等（６号３）'!T141,0)","v":0},0]
[null,null,null,{"$f":"'臨時・アルバイト・家族従業員等（６号３）'!D142:D143","v":0},null,null,null,null,{"$f":"IF($D142=\"家族従業員\",'臨時・アルバイト・家族従業員等（６号３）'!I142,0)","v":0},{"$f":"IF($D142=\"家族従業員\",'臨時・アルバイト・家族従業員等（６号３）'!J142,0)","v":0},{"$f":"IF($D142=\"家族従業員\",'臨時・アルバイト・家族従業員等（６号３）'!K142,0)","v":0},{"$f":"IF($D142=\"家族従業員\",'臨時・アルバイト・家族従業員等（６号３）'!L142,0)","v":0},{"$f":"IF($D142=\"家族従業員\",'臨時・アルバイト・家族従業員等（６号３）'!M142,0)","v":0},{"$f":"IF($D142=\"家族従業員\",'臨時・アルバイト・家族従業員等（６号３）'!N142,0)","v":0},{"$f":"IF($D142=\"家族従業員\",'臨時・アルバイト・家族従業員等（６号３）'!O142,0)","v":0},{"$f":"IF($D142=\"家族従業員\",'臨時・アルバイト・家族従業員等（６号３）'!P142,0)","v":0},{"$f":"IF($D142=\"家族従業員\",'臨時・アルバイト・家族従業員等（６号３）'!Q142,0)","v":0},{"$f":"IF($D142=\"家族従業員\",'臨時・アルバイト・家族従業員等（６号３）'!R142,0)","v":0},{"$f":"IF($D142=\"家族従業員\",'臨時・アルバイト・家族従業員等（６号３）'!S142,0)","v":0},{"$f":"IF($D142=\"家族従業員\",'臨時・アルバイト・家族従業員等（６号３）'!T142,0)","v":0},0]
[null,null,null,null,null,null,null,null,{"$f":"IF($D142=\"家族従業員\",'臨時・アルバイト・家族従業員等（６号３）'!I143,0)","v":0},{"$f":"IF($D142=\"家族従業員\",'臨時・アルバイト・家族従業員等（６号３）'!J143,0)","v":0},{"$f":"IF($D142=\"家族従業員\",'臨時・アルバイト・家族従業員等（６号３）'!K143,0)","v":0},{"$f":"IF($D142=\"家族従業員\",'臨時・アルバイト・家族従業員等（６号３）'!L143,0)","v":0},{"$f":"IF($D142=\"家族従業員\",'臨時・アルバイト・家族従業員等（６号３）'!M143,0)","v":0},{"$f":"IF($D142=\"家族従業員\",'臨時・アルバイト・家族従業員等（６号３）'!N143,0)","v":0},{"$f":"IF($D142=\"家族従業員\",'臨時・アルバイト・家族従業員等（６号３）'!O143,0)","v":0},{"$f":"IF($D142=\"家族従業員\",'臨時・アルバイト・家族従業員等（６号３）'!P143,0)","v":0},{"$f":"IF($D142=\"家族従業員\",'臨時・アルバイト・家族従業員等（６号３）'!Q143,0)","v":0},{"$f":"IF($D142=\"家族従業員\",'臨時・アルバイト・家族従業員等（６号３）'!R143,0)","v":0},{"$f":"IF($D142=\"家族従業員\",'臨時・アルバイト・家族従業員等（６号３）'!S143,0)","v":0},{"$f":"IF($D142=\"家族従業員\",'臨時・アルバイト・家族従業員等（６号３）'!T143,0)","v":0},0]
[null,null,null,{"$f":"'臨時・アルバイト・家族従業員等（６号３）'!D144:D145","v":0},null,null,null,null,{"$f":"IF($D144=\"家族従業員\",'臨時・アルバイト・家族従業員等（６号３）'!I144,0)","v":0},{"$f":"IF($D144=\"家族従業員\",'臨時・アルバイト・家族従業員等（６号３）'!J144,0)","v":0},{"$f":"IF($D144=\"家族従業員\",'臨時・アルバイト・家族従業員等（６号３）'!K144,0)","v":0},{"$f":"IF($D144=\"家族従業員\",'臨時・アルバイト・家族従業員等（６号３）'!L144,0)","v":0},{"$f":"IF($D144=\"家族従業員\",'臨時・アルバイト・家族従業員等（６号３）'!M144,0)","v":0},{"$f":"IF($D144=\"家族従業員\",'臨時・アルバイト・家族従業員等（６号３）'!N144,0)","v":0},{"$f":"IF($D144=\"家族従業員\",'臨時・アルバイト・家族従業員等（６号３）'!O144,0)","v":0},{"$f":"IF($D144=\"家族従業員\",'臨時・アルバイト・家族従業員等（６号３）'!P144,0)","v":0},{"$f":"IF($D144=\"家族従業員\",'臨時・アルバイト・家族従業員等（６号３）'!Q144,0)","v":0},{"$f":"IF($D144=\"家族従業員\",'臨時・アルバイト・家族従業員等（６号３）'!R144,0)","v":0},{"$f":"IF($D144=\"家族従業員\",'臨時・アルバイト・家族従業員等（６号３）'!S144,0)","v":0},{"$f":"IF($D144=\"家族従業員\",'臨時・アルバイト・家族従業員等（６号３）'!T144,0)","v":0},0]
[null,null,null,null,null,null,null,null,{"$f":"IF($D144=\"家族従業員\",'臨時・アルバイト・家族従業員等（６号３）'!I145,0)","v":0},{"$f":"IF($D144=\"家族従業員\",'臨時・アルバイト・家族従業員等（６号３）'!J145,0)","v":0},{"$f":"IF($D144=\"家族従業員\",'臨時・アルバイト・家族従業員等（６号３）'!K145,0)","v":0},{"$f":"IF($D144=\"家族従業員\",'臨時・アルバイト・家族従業員等（６号３）'!L145,0)","v":0},{"$f":"IF($D144=\"家族従業員\",'臨時・アルバイト・家族従業員等（６号３）'!M145,0)","v":0},{"$f":"IF($D144=\"家族従業員\",'臨時・アルバイト・家族従業員等（６号３）'!N145,0)","v":0},{"$f":"IF($D144=\"家族従業員\",'臨時・アルバイト・家族従業員等（６号３）'!O145,0)","v":0},{"$f":"IF($D144=\"家族従業員\",'臨時・アルバイト・家族従業員等（６号３）'!P145,0)","v":0},{"$f":"IF($D144=\"家族従業員\",'臨時・アルバイト・家族従業員等（６号３）'!Q145,0)","v":0},{"$f":"IF($D144=\"家族従業員\",'臨時・アルバイト・家族従業員等（６号３）'!R145,0)","v":0},{"$f":"IF($D144=\"家族従業員\",'臨時・アルバイト・家族従業員等（６号３）'!S145,0)","v":0},{"$f":"IF($D144=\"家族従業員\",'臨時・アルバイト・家族従業員等（６号３）'!T145,0)","v":0},0]
[null,null,null,{"$f":"'臨時・アルバイト・家族従業員等（６号３）'!D146:D147","v":0},null,null,null,null,{"$f":"IF($D146=\"家族従業員\",'臨時・アルバイト・家族従業員等（６号３）'!I146,0)","v":0},{"$f":"IF($D146=\"家族従業員\",'臨時・アルバイト・家族従業員等（６号３）'!J146,0)","v":0},{"$f":"IF($D146=\"家族従業員\",'臨時・アルバイト・家族従業員等（６号３）'!K146,0)","v":0},{"$f":"IF($D146=\"家族従業員\",'臨時・アルバイト・家族従業員等（６号３）'!L146,0)","v":0},{"$f":"IF($D146=\"家族従業員\",'臨時・アルバイト・家族従業員等（６号３）'!M146,0)","v":0},{"$f":"IF($D146=\"家族従業員\",'臨時・アルバイト・家族従業員等（６号３）'!N146,0)","v":0},{"$f":"IF($D146=\"家族従業員\",'臨時・アルバイト・家族従業員等（６号３）'!O146,0)","v":0},{"$f":"IF($D146=\"家族従業員\",'臨時・アルバイト・家族従業員等（６号３）'!P146,0)","v":0},{"$f":"IF($D146=\"家族従業員\",'臨時・アルバイト・家族従業員等（６号３）'!Q146,0)","v":0},{"$f":"IF($D146=\"家族従業員\",'臨時・アルバイト・家族従業員等（６号３）'!R146,0)","v":0},{"$f":"IF($D146=\"家族従業員\",'臨時・アルバイト・家族従業員等（６号３）'!S146,0)","v":0},{"$f":"IF($D146=\"家族従業員\",'臨時・アルバイト・家族従業員等（６号３）'!T146,0)","v":0},0]
[null,null,null,null,null,null,null,null,{"$f":"IF($D146=\"家族従業員\",'臨時・アルバイト・家族従業員等（６号３）'!I147,0)","v":0},{"$f":"IF($D146=\"家族従業員\",'臨時・アルバイト・家族従業員等（６号３）'!J147,0)","v":0},{"$f":"IF($D146=\"家族従業員\",'臨時・アルバイト・家族従業員等（６号３）'!K147,0)","v":0},{"$f":"IF($D146=\"家族従業員\",'臨時・アルバイト・家族従業員等（６号３）'!L147,0)","v":0},{"$f":"IF($D146=\"家族従業員\",'臨時・アルバイト・家族従業員等（６号３）'!M147,0)","v":0},{"$f":"IF($D146=\"家族従業員\",'臨時・アルバイト・家族従業員等（６号３）'!N147,0)","v":0},{"$f":"IF($D146=\"家族従業員\",'臨時・アルバイト・家族従業員等（６号３）'!O147,0)","v":0},{"$f":"IF($D146=\"家族従業員\",'臨時・アルバイト・家族従業員等（６号３）'!P147,0)","v":0},{"$f":"IF($D146=\"家族従業員\",'臨時・アルバイト・家族従業員等（６号３）'!Q147,0)","v":0},{"$f":"IF($D146=\"家族従業員\",'臨時・アルバイト・家族従業員等（６号３）'!R147,0)","v":0},{"$f":"IF($D146=\"家族従業員\",'臨時・アルバイト・家族従業員等（６号３）'!S147,0)","v":0},{"$f":"IF($D146=\"家族従業員\",'臨時・アルバイト・家族従業員等（６号３）'!T147,0)","v":0},0]
[null,null,null,{"$f":"'臨時・アルバイト・家族従業員等（６号３）'!D148:D149","v":0},null,null,null,null,{"$f":"IF($D148=\"家族従業員\",'臨時・アルバイト・家族従業員等（６号３）'!I148,0)","v":0},{"$f":"IF($D148=\"家族従業員\",'臨時・アルバイト・家族従業員等（６号３）'!J148,0)","v":0},{"$f":"IF($D148=\"家族従業員\",'臨時・アルバイト・家族従業員等（６号３）'!K148,0)","v":0},{"$f":"IF($D148=\"家族従業員\",'臨時・アルバイト・家族従業員等（６号３）'!L148,0)","v":0},{"$f":"IF($D148=\"家族従業員\",'臨時・アルバイト・家族従業員等（６号３）'!M148,0)","v":0},{"$f":"IF($D148=\"家族従業員\",'臨時・アルバイト・家族従業員等（６号３）'!N148,0)","v":0},{"$f":"IF($D148=\"家族従業員\",'臨時・アルバイト・家族従業員等（６号３）'!O148,0)","v":0},{"$f":"IF($D148=\"家族従業員\",'臨時・アルバイト・家族従業員等（６号３）'!P148,0)","v":0},{"$f":"IF($D148=\"家族従業員\",'臨時・アルバイト・家族従業員等（６号３）'!Q148,0)","v":0},{"$f":"IF($D148=\"家族従業員\",'臨時・アルバイト・家族従業員等（６号３）'!R148,0)","v":0},{"$f":"IF($D148=\"家族従業員\",'臨時・アルバイト・家族従業員等（６号３）'!S148,0)","v":0},{"$f":"IF($D148=\"家族従業員\",'臨時・アルバイト・家族従業員等（６号３）'!T148,0)","v":0},0]
[null,null,null,null,null,null,null,null,{"$f":"IF($D148=\"家族従業員\",'臨時・アルバイト・家族従業員等（６号３）'!I149,0)","v":0},{"$f":"IF($D148=\"家族従業員\",'臨時・アルバイト・家族従業員等（６号３）'!J149,0)","v":0},{"$f":"IF($D148=\"家族従業員\",'臨時・アルバイト・家族従業員等（６号３）'!K149,0)","v":0},{"$f":"IF($D148=\"家族従業員\",'臨時・アルバイト・家族従業員等（６号３）'!L149,0)","v":0},{"$f":"IF($D148=\"家族従業員\",'臨時・アルバイト・家族従業員等（６号３）'!M149,0)","v":0},{"$f":"IF($D148=\"家族従業員\",'臨時・アルバイト・家族従業員等（６号３）'!N149,0)","v":0},{"$f":"IF($D148=\"家族従業員\",'臨時・アルバイト・家族従業員等（６号３）'!O149,0)","v":0},{"$f":"IF($D148=\"家族従業員\",'臨時・アルバイト・家族従業員等（６号３）'!P149,0)","v":0},{"$f":"IF($D148=\"家族従業員\",'臨時・アルバイト・家族従業員等（６号３）'!Q149,0)","v":0},{"$f":"IF($D148=\"家族従業員\",'臨時・アルバイト・家族従業員等（６号３）'!R149,0)","v":0},{"$f":"IF($D148=\"家族従業員\",'臨時・アルバイト・家族従業員等（６号３）'!S149,0)","v":0},{"$f":"IF($D148=\"家族従業員\",'臨時・アルバイト・家族従業員等（６号３）'!T149,0)","v":0},0]
[null,null,null,{"$f":"'臨時・アルバイト・家族従業員等（６号３）'!D150:D151","v":0},null,null,null,null,{"$f":"IF($D150=\"家族従業員\",'臨時・アルバイト・家族従業員等（６号３）'!I150,0)","v":0},{"$f":"IF($D150=\"家族従業員\",'臨時・アルバイト・家族従業員等（６号３）'!J150,0)","v":0},{"$f":"IF($D150=\"家族従業員\",'臨時・アルバイト・家族従業員等（６号３）'!K150,0)","v":0},{"$f":"IF($D150=\"家族従業員\",'臨時・アルバイト・家族従業員等（６号３）'!L150,0)","v":0},{"$f":"IF($D150=\"家族従業員\",'臨時・アルバイト・家族従業員等（６号３）'!M150,0)","v":0},{"$f":"IF($D150=\"家族従業員\",'臨時・アルバイト・家族従業員等（６号３）'!N150,0)","v":0},{"$f":"IF($D150=\"家族従業員\",'臨時・アルバイト・家族従業員等（６号３）'!O150,0)","v":0},{"$f":"IF($D150=\"家族従業員\",'臨時・アルバイト・家族従業員等（６号３）'!P150,0)","v":0},{"$f":"IF($D150=\"家族従業員\",'臨時・アルバイト・家族従業員等（６号３）'!Q150,0)","v":0},{"$f":"IF($D150=\"家族従業員\",'臨時・アルバイト・家族従業員等（６号３）'!R150,0)","v":0},{"$f":"IF($D150=\"家族従業員\",'臨時・アルバイト・家族従業員等（６号３）'!S150,0)","v":0},{"$f":"IF($D150=\"家族従業員\",'臨時・アルバイト・家族従業員等（６号３）'!T150,0)","v":0},0]
[null,null,null,null,null,null,null,null,{"$f":"IF($D150=\"家族従業員\",'臨時・アルバイト・家族従業員等（６号３）'!I151,0)","v":0},{"$f":"IF($D150=\"家族従業員\",'臨時・アルバイト・家族従業員等（６号３）'!J151,0)","v":0},{"$f":"IF($D150=\"家族従業員\",'臨時・アルバイト・家族従業員等（６号３）'!K151,0)","v":0},{"$f":"IF($D150=\"家族従業員\",'臨時・アルバイト・家族従業員等（６号３）'!L151,0)","v":0},{"$f":"IF($D150=\"家族従業員\",'臨時・アルバイト・家族従業員等（６号３）'!M151,0)","v":0},{"$f":"IF($D150=\"家族従業員\",'臨時・アルバイト・家族従業員等（６号３）'!N151,0)","v":0},{"$f":"IF($D150=\"家族従業員\",'臨時・アルバイト・家族従業員等（６号３）'!O151,0)","v":0},{"$f":"IF($D150=\"家族従業員\",'臨時・アルバイト・家族従業員等（６号３）'!P151,0)","v":0},{"$f":"IF($D150=\"家族従業員\",'臨時・アルバイト・家族従業員等（６号３）'!Q151,0)","v":0},{"$f":"IF($D150=\"家族従業員\",'臨時・アルバイト・家族従業員等（６号３）'!R151,0)","v":0},{"$f":"IF($D150=\"家族従業員\",'臨時・アルバイト・家族従業員等（６号３）'!S151,0)","v":0},{"$f":"IF($D150=\"家族従業員\",'臨時・アルバイト・家族従業員等（６号３）'!T151,0)","v":0},0]
[null,null,null,{"$f":"'臨時・アルバイト・家族従業員等（６号３）'!D152:D153","v":0},null,null,null,null,{"$f":"IF($D152=\"家族従業員\",'臨時・アルバイト・家族従業員等（６号３）'!I152,0)","v":0},{"$f":"IF($D152=\"家族従業員\",'臨時・アルバイト・家族従業員等（６号３）'!J152,0)","v":0},{"$f":"IF($D152=\"家族従業員\",'臨時・アルバイト・家族従業員等（６号３）'!K152,0)","v":0},{"$f":"IF($D152=\"家族従業員\",'臨時・アルバイト・家族従業員等（６号３）'!L152,0)","v":0},{"$f":"IF($D152=\"家族従業員\",'臨時・アルバイト・家族従業員等（６号３）'!M152,0)","v":0},{"$f":"IF($D152=\"家族従業員\",'臨時・アルバイト・家族従業員等（６号３）'!N152,0)","v":0},{"$f":"IF($D152=\"家族従業員\",'臨時・アルバイト・家族従業員等（６号３）'!O152,0)","v":0},{"$f":"IF($D152=\"家族従業員\",'臨時・アルバイト・家族従業員等（６号３）'!P152,0)","v":0},{"$f":"IF($D152=\"家族従業員\",'臨時・アルバイト・家族従業員等（６号３）'!Q152,0)","v":0},{"$f":"IF($D152=\"家族従業員\",'臨時・アルバイト・家族従業員等（６号３）'!R152,0)","v":0},{"$f":"IF($D152=\"家族従業員\",'臨時・アルバイト・家族従業員等（６号３）'!S152,0)","v":0},{"$f":"IF($D152=\"家族従業員\",'臨時・アルバイト・家族従業員等（６号３）'!T152,0)","v":0},0]
[null,null,null,null,null,null,null,null,{"$f":"IF($D152=\"家族従業員\",'臨時・アルバイト・家族従業員等（６号３）'!I153,0)","v":0},{"$f":"IF($D152=\"家族従業員\",'臨時・アルバイト・家族従業員等（６号３）'!J153,0)","v":0},{"$f":"IF($D152=\"家族従業員\",'臨時・アルバイト・家族従業員等（６号３）'!K153,0)","v":0},{"$f":"IF($D152=\"家族従業員\",'臨時・アルバイト・家族従業員等（６号３）'!L153,0)","v":0},{"$f":"IF($D152=\"家族従業員\",'臨時・アルバイト・家族従業員等（６号３）'!M153,0)","v":0},{"$f":"IF($D152=\"家族従業員\",'臨時・アルバイト・家族従業員等（６号３）'!N153,0)","v":0},{"$f":"IF($D152=\"家族従業員\",'臨時・アルバイト・家族従業員等（６号３）'!O153,0)","v":0},{"$f":"IF($D152=\"家族従業員\",'臨時・アルバイト・家族従業員等（６号３）'!P153,0)","v":0},{"$f":"IF($D152=\"家族従業員\",'臨時・アルバイト・家族従業員等（６号３）'!Q153,0)","v":0},{"$f":"IF($D152=\"家族従業員\",'臨時・アルバイト・家族従業員等（６号３）'!R153,0)","v":0},{"$f":"IF($D152=\"家族従業員\",'臨時・アルバイト・家族従業員等（６号３）'!S153,0)","v":0},{"$f":"IF($D152=\"家族従業員\",'臨時・アルバイト・家族従業員等（６号３）'!T153,0)","v":0},0]
[null,null,null,{"$f":"'臨時・アルバイト・家族従業員等（６号３）'!D154:D155","v":0},null,null,null,null,{"$f":"IF($D154=\"家族従業員\",'臨時・アルバイト・家族従業員等（６号３）'!I154,0)","v":0},{"$f":"IF($D154=\"家族従業員\",'臨時・アルバイト・家族従業員等（６号３）'!J154,0)","v":0},{"$f":"IF($D154=\"家族従業員\",'臨時・アルバイト・家族従業員等（６号３）'!K154,0)","v":0},{"$f":"IF($D154=\"家族従業員\",'臨時・アルバイト・家族従業員等（６号３）'!L154,0)","v":0},{"$f":"IF($D154=\"家族従業員\",'臨時・アルバイト・家族従業員等（６号３）'!M154,0)","v":0},{"$f":"IF($D154=\"家族従業員\",'臨時・アルバイト・家族従業員等（６号３）'!N154,0)","v":0},{"$f":"IF($D154=\"家族従業員\",'臨時・アルバイト・家族従業員等（６号３）'!O154,0)","v":0},{"$f":"IF($D154=\"家族従業員\",'臨時・アルバイト・家族従業員等（６号３）'!P154,0)","v":0},{"$f":"IF($D154=\"家族従業員\",'臨時・アルバイト・家族従業員等（６号３）'!Q154,0)","v":0},{"$f":"IF($D154=\"家族従業員\",'臨時・アルバイト・家族従業員等（６号３）'!R154,0)","v":0},{"$f":"IF($D154=\"家族従業員\",'臨時・アルバイト・家族従業員等（６号３）'!S154,0)","v":0},{"$f":"IF($D154=\"家族従業員\",'臨時・アルバイト・家族従業員等（６号３）'!T154,0)","v":0},0]
[null,null,null,null,null,null,null,null,{"$f":"IF($D154=\"家族従業員\",'臨時・アルバイト・家族従業員等（６号３）'!I155,0)","v":0},{"$f":"IF($D154=\"家族従業員\",'臨時・アルバイト・家族従業員等（６号３）'!J155,0)","v":0},{"$f":"IF($D154=\"家族従業員\",'臨時・アルバイト・家族従業員等（６号３）'!K155,0)","v":0},{"$f":"IF($D154=\"家族従業員\",'臨時・アルバイト・家族従業員等（６号３）'!L155,0)","v":0},{"$f":"IF($D154=\"家族従業員\",'臨時・アルバイト・家族従業員等（６号３）'!M155,0)","v":0},{"$f":"IF($D154=\"家族従業員\",'臨時・アルバイト・家族従業員等（６号３）'!N155,0)","v":0},{"$f":"IF($D154=\"家族従業員\",'臨時・アルバイト・家族従業員等（６号３）'!O155,0)","v":0},{"$f":"IF($D154=\"家族従業員\",'臨時・アルバイト・家族従業員等（６号３）'!P155,0)","v":0},{"$f":"IF($D154=\"家族従業員\",'臨時・アルバイト・家族従業員等（６号３）'!Q155,0)","v":0},{"$f":"IF($D154=\"家族従業員\",'臨時・アルバイト・家族従業員等（６号３）'!R155,0)","v":0},{"$f":"IF($D154=\"家族従業員\",'臨時・アルバイト・家族従業員等（６号３）'!S155,0)","v":0},{"$f":"IF($D154=\"家族従業員\",'臨時・アルバイト・家族従業員等（６号３）'!T155,0)","v":0},0]
[null,null,null,{"$f":"'臨時・アルバイト・家族従業員等（６号３）'!D156:D157","v":0},null,null,null,null,{"$f":"IF($D156=\"家族従業員\",'臨時・アルバイト・家族従業員等（６号３）'!I156,0)","v":0},{"$f":"IF($D156=\"家族従業員\",'臨時・アルバイト・家族従業員等（６号３）'!J156,0)","v":0},{"$f":"IF($D156=\"家族従業員\",'臨時・アルバイト・家族従業員等（６号３）'!K156,0)","v":0},{"$f":"IF($D156=\"家族従業員\",'臨時・アルバイト・家族従業員等（６号３）'!L156,0)","v":0},{"$f":"IF($D156=\"家族従業員\",'臨時・アルバイト・家族従業員等（６号３）'!M156,0)","v":0},{"$f":"IF($D156=\"家族従業員\",'臨時・アルバイト・家族従業員等（６号３）'!N156,0)","v":0},{"$f":"IF($D156=\"家族従業員\",'臨時・アルバイト・家族従業員等（６号３）'!O156,0)","v":0},{"$f":"IF($D156=\"家族従業員\",'臨時・アルバイト・家族従業員等（６号３）'!P156,0)","v":0},{"$f":"IF($D156=\"家族従業員\",'臨時・アルバイト・家族従業員等（６号３）'!Q156,0)","v":0},{"$f":"IF($D156=\"家族従業員\",'臨時・アルバイト・家族従業員等（６号３）'!R156,0)","v":0},{"$f":"IF($D156=\"家族従業員\",'臨時・アルバイト・家族従業員等（６号３）'!S156,0)","v":0},{"$f":"IF($D156=\"家族従業員\",'臨時・アルバイト・家族従業員等（６号３）'!T156,0)","v":0},0]
[null,null,null,null,null,null,null,null,{"$f":"IF($D156=\"家族従業員\",'臨時・アルバイト・家族従業員等（６号３）'!I157,0)","v":0},{"$f":"IF($D156=\"家族従業員\",'臨時・アルバイト・家族従業員等（６号３）'!J157,0)","v":0},{"$f":"IF($D156=\"家族従業員\",'臨時・アルバイト・家族従業員等（６号３）'!K157,0)","v":0},{"$f":"IF($D156=\"家族従業員\",'臨時・アルバイト・家族従業員等（６号３）'!L157,0)","v":0},{"$f":"IF($D156=\"家族従業員\",'臨時・アルバイト・家族従業員等（６号３）'!M157,0)","v":0},{"$f":"IF($D156=\"家族従業員\",'臨時・アルバイト・家族従業員等（６号３）'!N157,0)","v":0},{"$f":"IF($D156=\"家族従業員\",'臨時・アルバイト・家族従業員等（６号３）'!O157,0)","v":0},{"$f":"IF($D156=\"家族従業員\",'臨時・アルバイト・家族従業員等（６号３）'!P157,0)","v":0},{"$f":"IF($D156=\"家族従業員\",'臨時・アルバイト・家族従業員等（６号３）'!Q157,0)","v":0},{"$f":"IF($D156=\"家族従業員\",'臨時・アルバイト・家族従業員等（６号３）'!R157,0)","v":0},{"$f":"IF($D156=\"家族従業員\",'臨時・アルバイト・家族従業員等（６号３）'!S157,0)","v":0},{"$f":"IF($D156=\"家族従業員\",'臨時・アルバイト・家族従業員等（６号３）'!T157,0)","v":0},0]
[null,"家族従業員の合計",null,null,null,null,null,null,{"$f":"I118+I120+I122+I124+I126+I128+I130+I132+I134+I136+I138+I140+I142+I144+I146+I148+I150+I152+I154+I156","v":0},{"$f":"J118+J120+J122+J124+J126+J128+J130+J132+J134+J136+J138+J140+J142+J144+J146+J148+J150+J152+J154+J156","v":0},0,0,0,0,0,0,0,0,0,0,0]
[null,null,null,null,null,null,null,null,{"$f":"I119+I121+I123+I125+I127+I129+I131+I133+I135+I137+I139+I141+I143+I145+I147+I149+I151+I153+I155+I157","v":0},{"$f":"J119+J121+J123+J125+J127+J129+J131+J133+J135+J137+J139+J141+J143+J145+J147+J149+J151+J153+J155+J157","v":0},{"$f":"K119+K121+K123+K125+K127+K129+K131+K133+K135+K137+K139+K141+K143+K145+K147+K149+K151+K153+K155+K157","v":0},{"$f":"L119+L121+L123+L125+L127+L129+L131+L133+L135+L137+L139+L141+L143+L145+L147+L149+L151+L153+L155+L157","v":0},{"$f":"M119+M121+M123+M125+M127+M129+M131+M133+M135+M137+M139+M141+M143+M145+M147+M149+M151+M153+M155+M157","v":0},{"$f":"N119+N121+N123+N125+N127+N129+N131+N133+N135+N137+N139+N141+N143+N145+N147+N149+N151+N153+N155+N157","v":0},{"$f":"O119+O121+O123+O125+O127+O129+O131+O133+O135+O137+O139+O141+O143+O145+O147+O149+O151+O153+O155+O157","v":0},0,0,0,0,0,{"$f":"U119+U121+U123+U125+U127+U129+U131+U133+U135+U137+U139+U141+U143+U145+U147+U149+U151+U153+U155+U157","v":0}]
[null,"臨時・アルバイト・家族従業員の合計",null,null,null,null,null,null,{"$f":"IF('臨時・アルバイト・家族従業員等（６号３）'!I158=\"\",0,'臨時・アルバイト・家族従業員等（６号３）'!I158)","v":0},{"$f":"IF('臨時・アルバイト・家族従業員等（６号３）'!J158=\"\",0,'臨時・アルバイト・家族従業員等（６号３）'!J158)","v":0},{"$f":"IF('臨時・アルバイト・家族従業員等（６号３）'!K158=\"\",0,'臨時・アルバイト・家族従業員等（６号３）'!K158)","v":0},{"$f":"IF('臨時・アルバイト・家族従業員等（６号３）'!L158=\"\",0,'臨時・アルバイト・家族従業員等（６号３）'!L158)","v":0},{"$f":"IF('臨時・アルバイト・家族従業員等（６号３）'!M158=\"\",0,'臨時・アルバイト・家族従業員等（６号３）'!M158)","v":0},{"$f":"IF('臨時・アルバイト・家族従業員等（６号３）'!N158=\"\",0,'臨時・アルバイト・家族従業員等（６号３）'!N158)","v":0},{"$f":"IF('臨時・アルバイト・家族従業員等（６号３）'!O158=\"\",0,'臨時・アルバイト・家族従業員等（６号３）'!O158)","v":0},{"$f":"IF('臨時・アルバイト・家族従業員等（６号３）'!P158=\"\",0,'臨時・アルバイト・家族従業員等（６号３）'!P158)","v":0},{"$f":"IF('臨時・アルバイト・家族従業員等（６号３）'!Q158=\"\",0,'臨時・アルバイト・家族従業員等（６号３）'!Q158)","v":0},{"$f":"IF('臨時・アルバイト・家族従業員等（６号３）'!R158=\"\",0,'臨時・アルバイト・家族従業員等（６号３）'!R158)","v":0},{"$f":"IF('臨時・アルバイト・家族従業員等（６号３）'!S158=\"\",0,'臨時・アルバイト・家族従業員等（６号３）'!S158)","v":0},{"$f":"IF('臨時・アルバイト・家族従業員等（６号３）'!T158=\"\",0,'臨時・アルバイト・家族従業員等（６号３）'!T158)","v":0},{"$f":"IF('臨時・アルバイト・家族従業員等（６号３）'!U158=\"\",0,'臨時・アルバイト・家族従業員等（６号３）'!U158)","v":0}]
[null,null,null,null,null,null,null,null,{"$f":"IF('臨時・アルバイト・家族従業員等（６号３）'!I159=\"\",0,'臨時・アルバイト・家族従業員等（６号３）'!I159)","v":0},{"$f":"IF('臨時・アルバイト・家族従業員等（６号３）'!J159=\"\",0,'臨時・アルバイト・家族従業員等（６号３）'!J159)","v":0},{"$f":"IF('臨時・アルバイト・家族従業員等（６号３）'!K159=\"\",0,'臨時・アルバイト・家族従業員等（６号３）'!K159)","v":0},{"$f":"IF('臨時・アルバイト・家族従業員等（６号３）'!L159=\"\",0,'臨時・アルバイト・家族従業員等（６号３）'!L159)","v":0},{"$f":"IF('臨時・アルバイト・家族従業員等（６号３）'!M159=\"\",0,'臨時・アルバイト・家族従業員等（６号３）'!M159)","v":0},{"$f":"IF('臨時・アルバイト・家族従業員等（６号３）'!N159=\"\",0,'臨時・アルバイト・家族従業員等（６号３）'!N159)","v":0},{"$f":"IF('臨時・アルバイト・家族従業員等（６号３）'!O159=\"\",0,'臨時・アルバイト・家族従業員等（６号３）'!O159)","v":0},{"$f":"IF('臨時・アルバイト・家族従業員等（６号３）'!P159=\"\",0,'臨時・アルバイト・家族従業員等（６号３）'!P159)","v":0},{"$f":"IF('臨時・アルバイト・家族従業員等（６号３）'!Q159=\"\",0,'臨時・アルバイト・家族従業員等（６号３）'!Q159)","v":0},{"$f":"IF('臨時・アルバイト・家族従業員等（６号３）'!R159=\"\",0,'臨時・アルバイト・家族従業員等（６号３）'!R159)","v":0},{"$f":"IF('臨時・アルバイト・家族従業員等（６号３）'!S159=\"\",0,'臨時・アルバイト・家族従業員等（６号３）'!S159)","v":0},{"$f":"IF('臨時・アルバイト・家族従業員等（６号３）'!T159=\"\",0,'臨時・アルバイト・家族従業員等（６号３）'!T159)","v":0},{"$f":"IF('臨時・アルバイト・家族従業員等（６号３）'!U159=\"\",0,'臨時・アルバイト・家族従業員等（６号３）'!U159)","v":0}]
[]
[]
[null,null,null,null,null,null,null,null,null,null,null,null,null,null,null,null,null,null,"　　記載例　　","３５０，０００　←　賞与等"]
[null,null,null,null,null,null,null,null,null,null,null,null,null,null,null,null,null,null,null,"２００，０００　←　賃　金"]
[]
[null,"臨時・アルバイト・家族従業員の賃金集計"]
[]
[null,null,null,"雇用保険被保険者\n以外の者",null,"家族従業員",null,"賞与",{"$f":"I48+I103+I158","v":0},{"$f":"J48+J103+J158","v":0},0,0,0,0,0,0,0,0,0,0,0]
[null,null,null,null,null,null,null,"賃金",{"$f":"I49+I104+I159","v":0},{"$f":"J49+J104+J159","v":0},0,0,0,0,0,0,0,0,0,0,0]
[null,null,null,null,null,null,null,"合計",{"$f":"I169+I170","v":0},{"$f":"J169+J170","v":0},0,0,0,0,0,0,0,0,0,0,0]
[null,null,null,null,null,"合計",null,"賞与",{"$f":"I50+I105+I160","v":0},{"$f":"J50+J105+J158","v":0},0,0,0,0,0,0,0,0,0,0,0]
[null,null,null,null,null,null,null,"賃金",{"$f":"I51+I106+I161","v":0},{"$f":"J51+J106+J159","v":0},0,0,0,0,0,0,0,0,0,0,0]
[null,null,null,null,null,null,null,"合計",{"$f":"I172+I173","v":0},{"$f":"J172+J173","v":0},0,0,0,0,0,0,0,0,0,0,0]
[null,null,null,null,null,"アルバイト・臨時",null,"賞与",{"$f":"I172-I169","v":0},{"$f":"J172-J169","v":0},0,0,0,0,0,0,0,0,0,0,0]
[null,null,null,null,null,null,null,"賃金",{"$f":"I173-I170","v":0},{"$f":"J173-J170","v":0},0,0,0,0,0,0,0,0,0,0,0]
[null,null,null,null,null,null,null,"合計",{"$f":"I174-I171","v":0},{"$f":"J174-J171","v":0},0,0,0,0,0,0,0,0,0,0,0]